{"text_format":"3","workbook":"xlsx","n_sheets":3,"sheets":["Report","Discounts","Combination lines"],"not_rendered":{"defined_names":2},"read":"whole","date_system":"1900"}

{"sheet":"Report","index":0,"n_rows":7750,"n_cols":32,"rows_kept":2250,"cut":true,"bounds":{"rows_first":1000,"rows_last":250,"rows_between":1000,"halvings":1}}
["WK Code","Type","EAN number","Base unit of measure","Description","Description 2","Description 3","Product type","Product sub type","Model group","Model Subgroup","Door Model","Type","Subtype","Replenishment","Type of wood","FSC","Doorblade type","Finish","Height","Width","Thickness","Design","XL","Rebate","Fire resistance","Gross price","Gross price incl VAT","Nett price",null,"Brandline","Discount group"]
[8718528022504,"Artikel",8718528022504,"STUKS","WK042, 780x2015x38, bwh 244","PEFC-CS PHW","V:RAL9010, vent.sl., isogl., solid/FJ","DEUR","BALKON","BALKON","BS","042","","","Inventory","PHW",false,"","RAL 9010",2015,780,38,"",false,false,false,403.31,488,{"$f":"ROUND(AA2*(1-VLOOKUP(AF2,Discounts!C:E,3,0)),2)","v":403.31},null,18030,"E055"]
[8718528022528,"Artikel",8718528022528,"STUKS","WK042, 780x2115x38, bwh 244","PEFC-CS PHW","V:RAL9010, vent.sl., isogl., solid/FJ","DEUR","BALKON","BALKON","BS","042","","","Inventory","PHW",false,"","RAL 9010",2115,780,38,"",false,false,false,403.31,488,{"$f":"ROUND(AA3*(1-VLOOKUP(AF3,Discounts!C:E,3,0)),2)","v":403.31},null,18030,"E055"]
[8718528022542,"Artikel",8718528022542,"STUKS","WK042, 830x2015x38, bwh 244","PEFC-CS PHW","V:RAL9010, vent.sl., isogl., solid/FJ","DEUR","BALKON","BALKON","BS","042","","","Inventory","PHW",false,"","RAL 9010",2015,830,38,"",false,false,false,403.31,488,{"$f":"ROUND(AA4*(1-VLOOKUP(AF4,Discounts!C:E,3,0)),2)","v":403.31},null,18030,"E055"]
[8718528022566,"Artikel",8718528022566,"STUKS","WK042, 830x2115x38, bwh 244","PEFC-CS PHW","V:RAL9010, vent.sl., isogl., solid/FJ","DEUR","BALKON","BALKON","BS","042","","","Inventory","PHW",false,"","RAL 9010",2115,830,38,"",false,false,false,403.31,488,{"$f":"ROUND(AA5*(1-VLOOKUP(AF5,Discounts!C:E,3,0)),2)","v":403.31},null,18030,"E055"]
[8718528022665,"Artikel",8718528022665,"STUKS","WK042, 930x2015x38, bwh 244","PEFC-CS PHW","V:RAL9010, vent.sl., isogl., solid/FJ","DEUR","BALKON","BALKON","BS","042","","","Inventory","PHW",false,"","RAL 9010",2015,930,38,"",false,false,false,403.31,488,{"$f":"ROUND(AA6*(1-VLOOKUP(AF6,Discounts!C:E,3,0)),2)","v":403.31},null,18030,"E055"]
[8718528022726,"Artikel",8718528022726,"STUKS","WK043, 780x2015x38, bwh 349","PEFC-CS PHW","V:RAL9010, vent.sl., isogl., solid/FJ","DEUR","BALKON","BALKON","BS","043","","","Inventory","PHW",false,"","RAL 9010",2015,780,38,"",false,false,false,424.8,514,{"$f":"ROUND(AA7*(1-VLOOKUP(AF7,Discounts!C:E,3,0)),2)","v":424.8},null,18040,"E055"]
[8718528022757,"Artikel",8718528022757,"STUKS","WK043, 780x2115x38, bwh 349","PEFC-CS PHW","V:RAL9010, vent.sl., isogl., solid/FJ","DEUR","BALKON","BALKON","BS","043","","","Inventory","PHW",false,"","RAL 9010",2115,780,38,"",false,false,false,424.8,514,{"$f":"ROUND(AA8*(1-VLOOKUP(AF8,Discounts!C:E,3,0)),2)","v":424.8},null,18040,"E055"]
[8718528022788,"Artikel",8718528022788,"STUKS","WK043, 830x2015x38, bwh 349","PEFC-CS PHW","V:RAL9010, vent.sl., isogl., solid/FJ","DEUR","BALKON","BALKON","BS","043","","","Inventory","PHW",false,"","RAL 9010",2015,830,38,"",false,false,false,424.8,514,{"$f":"ROUND(AA9*(1-VLOOKUP(AF9,Discounts!C:E,3,0)),2)","v":424.8},null,18040,"E055"]
[8718528022818,"Artikel",8718528022818,"STUKS","WK043, 830x2115x38, bwh 349","PEFC-CS PHW","V:RAL9010, vent.sl., isogl., solid/FJ","DEUR","BALKON","BALKON","BS","043","","","Inventory","PHW",false,"","RAL 9010",2115,830,38,"",false,false,false,424.8,514,{"$f":"ROUND(AA10*(1-VLOOKUP(AF10,Discounts!C:E,3,0)),2)","v":424.8},null,18040,"E055"]
[8718528022900,"Artikel",8718528022900,"STUKS","WK043, 880x2115x38, bwh 349","PEFC-CS PHW","V:RAL9010, vent.sl., isogl., solid/FJ","DEUR","BALKON","BALKON","BS","043","","","Inventory","PHW",false,"","RAL 9010",2115,880,38,"",false,false,false,424.8,514,{"$f":"ROUND(AA11*(1-VLOOKUP(AF11,Discounts!C:E,3,0)),2)","v":424.8},null,18040,"E055"]
[8718528022993,"Artikel",8718528022993,"STUKS","WK043, 930x2115x38, bwh 349","PEFC-CS PHW","V:RAL9010, vent.sl., isogl., solid/FJ","DEUR","BALKON","BALKON","BS","043","","","Inventory","PHW",false,"","RAL 9010",2115,930,38,"",false,false,false,424.8,514,{"$f":"ROUND(AA12*(1-VLOOKUP(AF12,Discounts!C:E,3,0)),2)","v":424.8},null,18040,"E055"]
[8718528023853,"Artikel",8718528023853,"STUKS","WK043, 730x2115x38, bwh 349","PEFC-CS PHW","V:RAL9010, vent.sl., isogl., solid/FJ","DEUR","BALKON","BALKON","BS","043","","","Inventory","PHW",false,"","RAL 9010",2115,730,38,"",false,false,false,424.8,514,{"$f":"ROUND(AA13*(1-VLOOKUP(AF13,Discounts!C:E,3,0)),2)","v":424.8},null,18040,"E055"]
[8718528219904,"Artikel",8718528219904,"STUKS","WK043, 880x2115x38, bwh 349","PEFC-CS PHW, NON-KOMO","V:RAL9010, vent.sl., isogl., solid/FJ","DEUR","BALKON","BALKON","BS","043","","","Inventory","PHW",false,"","RAL 9010",2115,880,38,"",false,false,false,424.8,514,{"$f":"ROUND(AA14*(1-VLOOKUP(AF14,Discounts!C:E,3,0)),2)","v":424.8},null,18040,"E055"]
[8718528220269,"Artikel",8718528220269,"STUKS","WK043, 880x2015x38, bwh 349","PEFC-CS PHW, NON-KOMO","V:RAL9010, vent.sl., isogl., solid/FJ","DEUR","BALKON","BALKON","BS","043","","","Inventory","PHW",false,"","RAL 9010",2015,880,38,"",false,false,false,424.8,514,{"$f":"ROUND(AA15*(1-VLOOKUP(AF15,Discounts!C:E,3,0)),2)","v":424.8},null,18040,"E055"]
[8718528023877,"Artikel",8718528023877,"STUKS","WK044, 780x2115x38, bwh 454","PEFC-CS PHW","V:RAL9010, vent.sl., isogl., solid/FJ","DEUR","BALKON","BALKON","BS","044","","","Inventory","PHW",false,"","RAL 9010",2115,780,38,"",false,false,false,445.46,539,{"$f":"ROUND(AA16*(1-VLOOKUP(AF16,Discounts!C:E,3,0)),2)","v":445.46},null,18050,"E055"]
[8718528023884,"Artikel",8718528023884,"STUKS","WK044, 830x2015x38, bwh 454","PEFC-CS PHW","V:RAL9010, vent.sl., isogl., solid/FJ","DEUR","BALKON","BALKON","BS","044","","","Inventory","PHW",false,"","RAL 9010",2015,830,38,"",false,false,false,445.46,539,{"$f":"ROUND(AA17*(1-VLOOKUP(AF17,Discounts!C:E,3,0)),2)","v":445.46},null,18050,"E055"]
[8718528023891,"Artikel",8718528023891,"STUKS","WK044, 830x2115x38, bwh 454","PEFC-CS PHW","V:RAL9010, vent.sl., isogl., solid/FJ","DEUR","BALKON","BALKON","BS","044","","","Inventory","PHW",false,"","RAL 9010",2115,830,38,"",false,false,false,445.46,539,{"$f":"ROUND(AA18*(1-VLOOKUP(AF18,Discounts!C:E,3,0)),2)","v":445.46},null,18050,"E055"]
[8718528023907,"Artikel",8718528023907,"STUKS","WK044, 880x2015x38, bwh 454","PEFC-CS PHW","V:RAL9010, vent.sl., isogl., solid/FJ","DEUR","BALKON","BALKON","BS","044","","","Inventory","PHW",false,"","RAL 9010",2015,880,38,"",false,false,false,445.46,539,{"$f":"ROUND(AA19*(1-VLOOKUP(AF19,Discounts!C:E,3,0)),2)","v":445.46},null,18050,"E055"]
[8718528220450,"Artikel",8718528220450,"STUKS","WK044, 780x2115x38, bwh 454","PEFC-CS PHW, NON-KOMO","V:RAL9010, vent.sl., isogl., solid/FJ","DEUR","BALKON","BALKON","BS","044","","","Inventory","PHW",false,"","RAL 9010",2115,780,38,"",false,false,false,445.46,539,{"$f":"ROUND(AA20*(1-VLOOKUP(AF20,Discounts!C:E,3,0)),2)","v":445.46},null,18050,"E055"]
[8718528023051,"Artikel",8718528023051,"STUKS","WK046, 780x2015x38, bwh 664","PEFC-CS PHW","V:RAL9010, vent.sl., isogl., solid/FJ","DEUR","BALKON","BALKON","BS","046","","","Inventory","PHW",false,"","RAL 9010",2015,780,38,"",false,false,false,488.43,591,{"$f":"ROUND(AA21*(1-VLOOKUP(AF21,Discounts!C:E,3,0)),2)","v":488.43},null,18060,"E055"]
[8718528023112,"Artikel",8718528023112,"STUKS","WK046, 830x2015x38, bwh 664","PEFC-CS PHW","V:RAL9010, vent.sl., isogl., solid/FJ","DEUR","BALKON","BALKON","BS","046","","","Inventory","PHW",false,"","RAL 9010",2015,830,38,"",false,false,false,488.43,591,{"$f":"ROUND(AA22*(1-VLOOKUP(AF22,Discounts!C:E,3,0)),2)","v":488.43},null,18060,"E055"]
[8718528023143,"Artikel",8718528023143,"STUKS","WK046, 830x2115x38, bwh 664","PEFC-CS PHW","V:RAL9010, vent.sl., isogl., solid/FJ","DEUR","BALKON","BALKON","BS","046","","","Inventory","PHW",false,"","RAL 9010",2115,830,38,"",false,false,false,488.43,591,{"$f":"ROUND(AA23*(1-VLOOKUP(AF23,Discounts!C:E,3,0)),2)","v":488.43},null,18060,"E055"]
[8718528023235,"Artikel",8718528023235,"STUKS","WK046, 930x2015x38, bwh 664","PEFC-CS PHW","V:RAL9010, vent.sl., isogl., solid/FJ","DEUR","BALKON","BALKON","BS","046","","","Inventory","PHW",false,"","RAL 9010",2015,930,38,"",false,false,false,488.43,591,{"$f":"ROUND(AA24*(1-VLOOKUP(AF24,Discounts!C:E,3,0)),2)","v":488.43},null,18060,"E055"]
[8718528023266,"Artikel",8718528023266,"STUKS","WK046, 930x2115x38, bwh 664","PEFC-CS PHW","V:RAL9010, vent.sl., isogl., solid/FJ","DEUR","BALKON","BALKON","BS","046","","","Inventory","PHW",false,"","RAL 9010",2115,930,38,"",false,false,false,488.43,591,{"$f":"ROUND(AA25*(1-VLOOKUP(AF25,Discounts!C:E,3,0)),2)","v":488.43},null,18060,"E055"]
[8718528023297,"Artikel",8718528023297,"STUKS","WK048, 780x2015x38, bwh 874","PEFC-CS PHW","V:RAL9010, vent.sl., isogl., solid/FJ","DEUR","BALKON","BALKON","BS","048","","","Inventory","PHW",false,"","RAL 9010",2015,780,38,"",false,false,false,531.41,643,{"$f":"ROUND(AA26*(1-VLOOKUP(AF26,Discounts!C:E,3,0)),2)","v":531.41},null,18070,"E055"]
[8718528023358,"Artikel",8718528023358,"STUKS","WK048, 830x2015x38, bwh 874","PEFC-CS PHW","V:RAL9010, vent.sl., isogl., solid/FJ","DEUR","BALKON","BALKON","BS","048","","","Inventory","PHW",false,"","RAL 9010",2015,830,38,"",false,false,false,531.41,643,{"$f":"ROUND(AA27*(1-VLOOKUP(AF27,Discounts!C:E,3,0)),2)","v":531.41},null,18070,"E055"]
[8718528023440,"Artikel",8718528023440,"STUKS","WK048, 880x2115x38, bwh 874","PEFC-CS PHW","V:RAL9010, vent.sl., isogl., solid/FJ","DEUR","BALKON","BALKON","BS","048","","","Inventory","PHW",false,"","RAL 9010",2115,880,38,"",false,false,false,531.41,643,{"$f":"ROUND(AA28*(1-VLOOKUP(AF28,Discounts!C:E,3,0)),2)","v":531.41},null,18070,"E055"]
[8718528023495,"Artikel",8718528023495,"STUKS","WK048, 930x2015x38, bwh 874","PEFC-CS PHW","V:RAL9010, vent.sl., isogl., solid/FJ","DEUR","BALKON","BALKON","BS","048","","","Inventory","PHW",false,"","RAL 9010",2015,930,38,"",false,false,false,531.41,643,{"$f":"ROUND(AA29*(1-VLOOKUP(AF29,Discounts!C:E,3,0)),2)","v":531.41},null,18070,"E055"]
[8718528023525,"Artikel",8718528023525,"STUKS","WK048, 930x2115x38, bwh 874","PEFC-CS PHW","V:RAL9010, vent.sl., isogl., solid/FJ","DEUR","BALKON","BALKON","BS","048","","","Inventory","PHW",false,"","RAL 9010",2115,930,38,"",false,false,false,531.41,643,{"$f":"ROUND(AA30*(1-VLOOKUP(AF30,Discounts!C:E,3,0)),2)","v":531.41},null,18070,"E055"]
[8718528025284,"Artikel",8718528025284,"STUKS","WK042, 830x2015x38, bwh 244","FSC® cert. Premium Hardwood","V:RAL9010, vent.sl., isogl., FSC Mix 70% CU-COC 800339","DEUR","BALKON","BALKON","BS","042","","","Inventory","FSCPHW",true,"","RAL 9010",2015,830,38,"",false,false,false,452.89,548,{"$f":"ROUND(AA31*(1-VLOOKUP(AF31,Discounts!C:E,3,0)),2)","v":452.89},null,18080,"E075"]
[8718528025291,"Artikel",8718528025291,"STUKS","WK042, 830x2115x38, bwh 244","FSC® cert. Premium Hardwood","V:RAL9010, vent.sl., isogl., FSC Mix 70% CU-COC 800339","DEUR","BALKON","BALKON","BS","042","","","Inventory","FSCPHW",true,"","RAL 9010",2115,830,38,"",false,false,false,452.89,548,{"$f":"ROUND(AA32*(1-VLOOKUP(AF32,Discounts!C:E,3,0)),2)","v":452.89},null,18080,"E075"]
[8718528025307,"Artikel",8718528025307,"STUKS","WK042, 880x2015x38, bwh 244","FSC® cert. Premium Hardwood","V:RAL9010, vent.sl., isogl., FSC Mix 70% CU-COC 800339","DEUR","BALKON","BALKON","BS","042","","","Inventory","FSCPHW",true,"","RAL 9010",2015,880,38,"",false,false,false,452.89,548,{"$f":"ROUND(AA33*(1-VLOOKUP(AF33,Discounts!C:E,3,0)),2)","v":452.89},null,18080,"E075"]
[8718528025314,"Artikel",8718528025314,"STUKS","WK042, 880x2115x38, bwh 244","FSC® cert. Premium Hardwood","V:RAL9010, vent.sl., isogl., FSC Mix 70% CU-COC 800339","DEUR","BALKON","BALKON","BS","042","","","Inventory","FSCPHW",true,"","RAL 9010",2115,880,38,"",false,false,false,452.89,548,{"$f":"ROUND(AA34*(1-VLOOKUP(AF34,Discounts!C:E,3,0)),2)","v":452.89},null,18080,"E075"]
[8718528025321,"Artikel",8718528025321,"STUKS","WK042, 930x2015x38, bwh 244","FSC® cert. Premium Hardwood","V:RAL9010, vent.sl., isogl., FSC Mix 70% CU-COC 800339","DEUR","BALKON","BALKON","BS","042","","","Inventory","FSCPHW",true,"","RAL 9010",2015,930,38,"",false,false,false,452.89,548,{"$f":"ROUND(AA35*(1-VLOOKUP(AF35,Discounts!C:E,3,0)),2)","v":452.89},null,18080,"E075"]
[8718528025338,"Artikel",8718528025338,"STUKS","WK042, 930x2115x38, bwh 244","FSC® cert. Premium Hardwood","V:RAL9010, vent.sl., isogl., FSC Mix 70% CU-COC 800339","DEUR","BALKON","BALKON","BS","042","","","Inventory","FSCPHW",true,"","RAL 9010",2115,930,38,"",false,false,false,452.89,548,{"$f":"ROUND(AA36*(1-VLOOKUP(AF36,Discounts!C:E,3,0)),2)","v":452.89},null,18080,"E075"]
[8718528345207,"Artikel",8718528345207,"STUKS","WK042, 780x2015x38, bwh 244","FSC® cert. PHW KOMO","V:RAL9010, vent.sl., isogl., solid/FJ","DEUR","BALKON","BALKON","BS","042","","","Inventory","FSCPHW",true,"","RAL 9010",0,0,38,"",false,false,false,452.89,548,{"$f":"ROUND(AA37*(1-VLOOKUP(AF37,Discounts!C:E,3,0)),2)","v":452.89},null,18080,"E075"]
[8718528345269,"Artikel",8718528345269,"STUKS","WK042, 780x2115x38, bwh 244","FSC® cert. PHW KOMO","V:RAL9010, vent.sl., isogl., solid/FJ","DEUR","BALKON","BALKON","BS","042","","","Inventory","FSCPHW",true,"","RAL 9010",0,0,38,"",false,false,false,452.89,548,{"$f":"ROUND(AA38*(1-VLOOKUP(AF38,Discounts!C:E,3,0)),2)","v":452.89},null,18080,"E075"]
[8718528024508,"Artikel",8718528024508,"STUKS","WK043, 780x2015x38, bwh 349","FSC® cert. Premium Hardwood","V:RAL9010, vent.sl., isogl., FSC Mix 70% CU-COC 800339","DEUR","BALKON","BALKON","BS","043","","","Inventory","FSCPHW",true,"","RAL 9010",2015,780,38,"",false,false,false,476.86,577,{"$f":"ROUND(AA39*(1-VLOOKUP(AF39,Discounts!C:E,3,0)),2)","v":476.86},null,18090,"E075"]
[8718528024515,"Artikel",8718528024515,"STUKS","WK043, 780x2115x38, bwh 349","FSC® cert. Premium Hardwood","V:RAL9010, vent.sl., isogl., FSC Mix 70% CU-COC 800339","DEUR","BALKON","BALKON","BS","043","","","Inventory","FSCPHW",true,"","RAL 9010",2115,780,38,"",false,false,false,476.86,577,{"$f":"ROUND(AA40*(1-VLOOKUP(AF40,Discounts!C:E,3,0)),2)","v":476.86},null,18090,"E075"]
[8718528024522,"Artikel",8718528024522,"STUKS","WK043, 830x2015x38, bwh 349","FSC® cert. Premium Hardwood","V:RAL9010, vent.sl., isogl., FSC Mix 70% CU-COC 800339","DEUR","BALKON","BALKON","BS","043","","","Inventory","FSCPHW",true,"","RAL 9010",2015,830,38,"",false,false,false,476.86,577,{"$f":"ROUND(AA41*(1-VLOOKUP(AF41,Discounts!C:E,3,0)),2)","v":476.86},null,18090,"E075"]
[8718528024539,"Artikel",8718528024539,"STUKS","WK043, 830x2115x38, bwh 349","FSC® cert. Premium Hardwood","V:RAL9010, vent.sl., isogl., FSC Mix 70% CU-COC 800339","DEUR","BALKON","BALKON","BS","043","","","Inventory","FSCPHW",true,"","RAL 9010",2115,830,38,"",false,false,false,476.86,577,{"$f":"ROUND(AA42*(1-VLOOKUP(AF42,Discounts!C:E,3,0)),2)","v":476.86},null,18090,"E075"]
[8718528024546,"Artikel",8718528024546,"STUKS","WK043, 880x2015x38, bwh 349","FSC® cert. Premium Hardwood","V:RAL9010, vent.sl., isogl., FSC Mix 70% CU-COC 800339","DEUR","BALKON","BALKON","BS","043","","","Inventory","FSCPHW",true,"","RAL 9010",2015,880,38,"",false,false,false,476.86,577,{"$f":"ROUND(AA43*(1-VLOOKUP(AF43,Discounts!C:E,3,0)),2)","v":476.86},null,18090,"E075"]
[8718528024553,"Artikel",8718528024553,"STUKS","WK043, 880x2115x38, bwh 349","FSC® cert. Premium Hardwood","V:RAL9010, vent.sl., isogl., FSC Mix 70% CU-COC 800339","DEUR","BALKON","BALKON","BS","043","","","Inventory","FSCPHW",true,"","RAL 9010",2115,880,38,"",false,false,false,476.86,577,{"$f":"ROUND(AA44*(1-VLOOKUP(AF44,Discounts!C:E,3,0)),2)","v":476.86},null,18090,"E075"]
[8718528024560,"Artikel",8718528024560,"STUKS","WK043, 930x2015x38, bwh 349","FSC® cert. Premium Hardwood","V:RAL9010, vent.sl., isogl., FSC Mix 70% CU-COC 800339","DEUR","BALKON","BALKON","BS","043","","","Inventory","FSCPHW",true,"","RAL 9010",2015,930,38,"",false,false,false,476.86,577,{"$f":"ROUND(AA45*(1-VLOOKUP(AF45,Discounts!C:E,3,0)),2)","v":476.86},null,18090,"E075"]
[8718528024577,"Artikel",8718528024577,"STUKS","WK043, 930x2115x38, bwh 349","FSC® cert. Premium Hardwood","V:RAL9010, vent.sl., isogl., FSC Mix 70% CU-COC 800339","DEUR","BALKON","BALKON","BS","043","","","Inventory","FSCPHW",true,"","RAL 9010",2115,930,38,"",false,false,false,476.86,577,{"$f":"ROUND(AA46*(1-VLOOKUP(AF46,Discounts!C:E,3,0)),2)","v":476.86},null,18090,"E075"]
[8718528345290,"Artikel",8718528345290,"STUKS","WK043, 730x2015x38, bwh 349","FSC® cert. PHW KOMO","V:RAL9010, vent.sl., isogl., solid/FJ","DEUR","BALKON","BALKON","BS","043","","","Inventory","FSCPHW",true,"","RAL 9010",0,0,38,"",false,false,false,476.86,577,{"$f":"ROUND(AA47*(1-VLOOKUP(AF47,Discounts!C:E,3,0)),2)","v":476.86},null,18090,"E075"]
[8718528345320,"Artikel",8718528345320,"STUKS","WK043, 730x2115x38, bwh 349","FSC® cert. PHW KOMO","V:RAL9010, vent.sl., isogl., solid/FJ","DEUR","BALKON","BALKON","BS","043","","","Inventory","FSCPHW",true,"","RAL 9010",0,0,38,"",false,false,false,476.86,577,{"$f":"ROUND(AA48*(1-VLOOKUP(AF48,Discounts!C:E,3,0)),2)","v":476.86},null,18090,"E075"]
[8718528025376,"Artikel",8718528025376,"STUKS","WK044, 830x2015x38, bwh 454","FSC® cert. Premium Hardwood","V:RAL9010, vent.sl., isogl., FSC Mix 70% CU-COC 800339","DEUR","BALKON","BALKON","BS","044","","","Inventory","FSCPHW",true,"","RAL 9010",2015,830,38,"",false,false,false,499.18,604,{"$f":"ROUND(AA49*(1-VLOOKUP(AF49,Discounts!C:E,3,0)),2)","v":499.18},null,18100,"E075"]
[8718528025383,"Artikel",8718528025383,"STUKS","WK044, 830x2115x38, bwh 454","FSC® cert. Premium Hardwood","V:RAL9010, vent.sl., isogl., FSC Mix 70% CU-COC 800339","DEUR","BALKON","BALKON","BS","044","","","Inventory","FSCPHW",true,"","RAL 9010",2115,830,38,"",false,false,false,499.18,604,{"$f":"ROUND(AA50*(1-VLOOKUP(AF50,Discounts!C:E,3,0)),2)","v":499.18},null,18100,"E075"]
[8718528025390,"Artikel",8718528025390,"STUKS","WK044, 880x2015x38, bwh 454","FSC® cert. Premium Hardwood","V:RAL9010, vent.sl., isogl., FSC Mix 70% CU-COC 800339","DEUR","BALKON","BALKON","BS","044","","","Inventory","FSCPHW",true,"","RAL 9010",2015,880,38,"",false,false,false,499.18,604,{"$f":"ROUND(AA51*(1-VLOOKUP(AF51,Discounts!C:E,3,0)),2)","v":499.18},null,18100,"E075"]
[8718528025406,"Artikel",8718528025406,"STUKS","WK044, 880x2115x38, bwh 454","FSC® cert. Premium Hardwood","V:RAL9010, vent.sl., isogl., FSC Mix 70% CU-COC 800339","DEUR","BALKON","BALKON","BS","044","","","Inventory","FSCPHW",true,"","RAL 9010",2115,880,38,"",false,false,false,499.18,604,{"$f":"ROUND(AA52*(1-VLOOKUP(AF52,Discounts!C:E,3,0)),2)","v":499.18},null,18100,"E075"]
[8718528025413,"Artikel",8718528025413,"STUKS","WK044, 930x2015x38, bwh 454","FSC® cert. Premium Hardwood","V:RAL9010, vent.sl., isogl., FSC Mix 70% CU-COC 800339","DEUR","BALKON","BALKON","BS","044","","","Inventory","FSCPHW",true,"","RAL 9010",2015,930,38,"",false,false,false,499.18,604,{"$f":"ROUND(AA53*(1-VLOOKUP(AF53,Discounts!C:E,3,0)),2)","v":499.18},null,18100,"E075"]
[8718528025420,"Artikel",8718528025420,"STUKS","WK044, 930x2115x38, bwh 454","FSC® cert. Premium Hardwood","V:RAL9010, vent.sl., isogl., FSC Mix 70% CU-COC 800339","DEUR","BALKON","BALKON","BS","044","","","Inventory","FSCPHW",true,"","RAL 9010",2115,930,38,"",false,false,false,499.18,604,{"$f":"ROUND(AA54*(1-VLOOKUP(AF54,Discounts!C:E,3,0)),2)","v":499.18},null,18100,"E075"]
[8718528345351,"Artikel",8718528345351,"STUKS","WK044, 780x2015x38, bwh 454","FSC® cert. PHW KOMO","V:RAL9010, vent.sl., isogl., solid/FJ","DEUR","BALKON","BALKON","BS","044","","","Inventory","FSCPHW",true,"","RAL 9010",0,0,38,"",false,false,false,499.18,604,{"$f":"ROUND(AA55*(1-VLOOKUP(AF55,Discounts!C:E,3,0)),2)","v":499.18},null,18100,"E075"]
[8718528345382,"Artikel",8718528345382,"STUKS","WK044, 780x2115x38, bwh 454","FSC® cert. PHW KOMO","V:RAL9010, vent.sl., isogl., solid/FJ","DEUR","BALKON","BALKON","BS","044","","","Inventory","FSCPHW",true,"","RAL 9010",0,0,38,"",false,false,false,499.18,604,{"$f":"ROUND(AA56*(1-VLOOKUP(AF56,Discounts!C:E,3,0)),2)","v":499.18},null,18100,"E075"]
[8718528024614,"Artikel",8718528024614,"STUKS","WK046, 830x2015x38, bwh 664","FSC® cert. Premium Hardwood","V:RAL9010, vent.sl., isogl., FSC Mix 70% CU-COC 800339","DEUR","BALKON","BALKON","BS","046","","","Inventory","FSCPHW",true,"","RAL 9010",2015,830,38,"",false,false,false,549.59,665,{"$f":"ROUND(AA57*(1-VLOOKUP(AF57,Discounts!C:E,3,0)),2)","v":549.59},null,18110,"E075"]
[8718528024621,"Artikel",8718528024621,"STUKS","WK046, 830x2115x38, bwh 664","FSC® cert. Premium Hardwood","V:RAL9010, vent.sl., isogl., FSC Mix 70% CU-COC 800339","DEUR","BALKON","BALKON","BS","046","","","Inventory","FSCPHW",true,"","RAL 9010",2115,830,38,"",false,false,false,549.59,665,{"$f":"ROUND(AA58*(1-VLOOKUP(AF58,Discounts!C:E,3,0)),2)","v":549.59},null,18110,"E075"]
[8718528024638,"Artikel",8718528024638,"STUKS","WK046, 880x2015x38, bwh 664","FSC® cert. Premium Hardwood","V:RAL9010, vent.sl., isogl., FSC Mix 70% CU-COC 800339","DEUR","BALKON","BALKON","BS","046","","","Inventory","FSCPHW",true,"","RAL 9010",2015,880,38,"",false,false,false,549.59,665,{"$f":"ROUND(AA59*(1-VLOOKUP(AF59,Discounts!C:E,3,0)),2)","v":549.59},null,18110,"E075"]
[8718528024645,"Artikel",8718528024645,"STUKS","WK046, 880x2115x38, bwh 664","FSC® cert. Premium Hardwood","V:RAL9010, vent.sl., isogl., FSC Mix 70% CU-COC 800339","DEUR","BALKON","BALKON","BS","046","","","Inventory","FSCPHW",true,"","RAL 9010",2115,880,38,"",false,false,false,549.59,665,{"$f":"ROUND(AA60*(1-VLOOKUP(AF60,Discounts!C:E,3,0)),2)","v":549.59},null,18110,"E075"]
[8718528024652,"Artikel",8718528024652,"STUKS","WK046, 930x2015x38, bwh 664","FSC® cert. Premium Hardwood","V:RAL9010, vent.sl., isogl., FSC Mix 70% CU-COC 800339","DEUR","BALKON","BALKON","BS","046","","","Inventory","FSCPHW",true,"","RAL 9010",2015,930,38,"",false,false,false,549.59,665,{"$f":"ROUND(AA61*(1-VLOOKUP(AF61,Discounts!C:E,3,0)),2)","v":549.59},null,18110,"E075"]
[8718528024669,"Artikel",8718528024669,"STUKS","WK046, 930x2115x38, bwh 664","FSC® cert. Premium Hardwood","V:RAL9010, vent.sl., isogl., FSC Mix 70% CU-COC 800339","DEUR","BALKON","BALKON","BS","046","","","Inventory","FSCPHW",true,"","RAL 9010",2115,930,38,"",false,false,false,549.59,665,{"$f":"ROUND(AA62*(1-VLOOKUP(AF62,Discounts!C:E,3,0)),2)","v":549.59},null,18110,"E075"]
[8718528345412,"Artikel",8718528345412,"STUKS","WK046, 780x2015x38, bwh 664","FSC® cert. PHW KOMO","V:RAL9010, vent.sl., isogl., solid/FJ","DEUR","BALKON","BALKON","BS","046","","","Inventory","FSCPHW",true,"","RAL 9010",0,0,38,"",false,false,false,549.59,665,{"$f":"ROUND(AA63*(1-VLOOKUP(AF63,Discounts!C:E,3,0)),2)","v":549.59},null,18110,"E075"]
[8718528345443,"Artikel",8718528345443,"STUKS","WK046, 780x2115x38, bwh 664","FSC® cert. PHW KOMO","V:RAL9010, vent.sl., isogl., solid/FJ","DEUR","BALKON","BALKON","BS","046","","","Inventory","FSCPHW",true,"","RAL 9010",0,0,38,"",false,false,false,549.59,665,{"$f":"ROUND(AA64*(1-VLOOKUP(AF64,Discounts!C:E,3,0)),2)","v":549.59},null,18110,"E075"]
[8718528024690,"Artikel",8718528024690,"STUKS","WK048, 830x2015x38, bwh 874","FSC® cert. Premium Hardwood","V:RAL9010, vent.sl., isogl., FSC Mix 70% CU-COC 800339","DEUR","BALKON","BALKON","BS","048","","","Inventory","FSCPHW",true,"","RAL 9010",2015,830,38,"",false,false,false,598.35,724,{"$f":"ROUND(AA65*(1-VLOOKUP(AF65,Discounts!C:E,3,0)),2)","v":598.35},null,18130,"E075"]
[8718528024706,"Artikel",8718528024706,"STUKS","WK048, 830x2115x38, bwh 874","FSC® cert. Premium Hardwood","V:RAL9010, vent.sl., isogl., FSC Mix 70% CU-COC 800339","DEUR","BALKON","BALKON","BS","048","","","Inventory","FSCPHW",true,"","RAL 9010",2115,830,38,"",false,false,false,598.35,724,{"$f":"ROUND(AA66*(1-VLOOKUP(AF66,Discounts!C:E,3,0)),2)","v":598.35},null,18130,"E075"]
[8718528024713,"Artikel",8718528024713,"STUKS","WK048, 880x2015x38, bwh 874","FSC® cert. Premium Hardwood","V:RAL9010, vent.sl., isogl., FSC Mix 70% CU-COC 800339","DEUR","BALKON","BALKON","BS","048","","","Inventory","FSCPHW",true,"","RAL 9010",2015,880,38,"",false,false,false,598.35,724,{"$f":"ROUND(AA67*(1-VLOOKUP(AF67,Discounts!C:E,3,0)),2)","v":598.35},null,18130,"E075"]
[8718528024720,"Artikel",8718528024720,"STUKS","WK048, 880x2115x38, bwh 874","FSC® cert. Premium Hardwood","V:RAL9010, vent.sl., isogl., FSC Mix 70% CU-COC 800339","DEUR","BALKON","BALKON","BS","048","","","Inventory","FSCPHW",true,"","RAL 9010",2115,880,38,"",false,false,false,598.35,724,{"$f":"ROUND(AA68*(1-VLOOKUP(AF68,Discounts!C:E,3,0)),2)","v":598.35},null,18130,"E075"]
[8718528024737,"Artikel",8718528024737,"STUKS","WK048, 930x2015x38, bwh 874","FSC® cert. Premium Hardwood","V:RAL9010, vent.sl., isogl., FSC Mix 70% CU-COC 800339","DEUR","BALKON","BALKON","BS","048","","","Inventory","FSCPHW",true,"","RAL 9010",2015,930,38,"",false,false,false,598.35,724,{"$f":"ROUND(AA69*(1-VLOOKUP(AF69,Discounts!C:E,3,0)),2)","v":598.35},null,18130,"E075"]
[8718528024744,"Artikel",8718528024744,"STUKS","WK048, 930x2115x38, bwh 874","FSC® cert. Premium Hardwood","V:RAL9010, vent.sl., isogl., FSC Mix 70% CU-COC 800339","DEUR","BALKON","BALKON","BS","048","","","Inventory","FSCPHW",true,"","RAL 9010",2115,930,38,"",false,false,false,598.35,724,{"$f":"ROUND(AA70*(1-VLOOKUP(AF70,Discounts!C:E,3,0)),2)","v":598.35},null,18130,"E075"]
[8718528345474,"Artikel",8718528345474,"STUKS","WK048, 780x2015x38, bwh 874","FSC® cert. PHW KOMO","V:RAL9010, vent.sl., isogl., solid/FJ","DEUR","BALKON","BALKON","BS","048","","","Inventory","FSCPHW",true,"","RAL 9010",0,0,38,"",false,false,false,598.35,724,{"$f":"ROUND(AA71*(1-VLOOKUP(AF71,Discounts!C:E,3,0)),2)","v":598.35},null,18130,"E075"]
[8718528345504,"Artikel",8718528345504,"STUKS","WK048, 780x2115x38, bwh 874","FSC® cert. PHW KOMO","V:RAL9010, vent.sl., isogl., solid/FJ","DEUR","BALKON","BALKON","BS","048","","","Inventory","FSCPHW",true,"","RAL 9010",0,0,38,"",false,false,false,598.35,724,{"$f":"ROUND(AA72*(1-VLOOKUP(AF72,Discounts!C:E,3,0)),2)","v":598.35},null,18130,"E075"]
[8718528024850,"Artikel",8718528024850,"STUKS","WK042, 830x2015x38, bwh 244","FSC® cert. Hardwood","V:RAL7035,vent.sl.,isogl.,solid/FJ,FSC Mix 70% CU-COC 800339","DEUR","BALKON","BALKON","BS","042","","","Inventory","FSCHW",true,"","RAL 7035",2015,830,38,"",false,false,false,392.56,475,{"$f":"ROUND(AA73*(1-VLOOKUP(AF73,Discounts!C:E,3,0)),2)","v":392.56},null,18140,"E065"]
[8718528024867,"Artikel",8718528024867,"STUKS","WK042, 830x2115x38, bwh 244","FSC® cert. Hardwood","V:RAL7035,vent.sl.,isogl.,solid/FJ,FSC Mix 70% CU-COC 800339","DEUR","BALKON","BALKON","BS","042","","","Inventory","FSCHW",true,"","RAL 7035",2115,830,38,"",false,false,false,392.56,475,{"$f":"ROUND(AA74*(1-VLOOKUP(AF74,Discounts!C:E,3,0)),2)","v":392.56},null,18140,"E065"]
[8718528024874,"Artikel",8718528024874,"STUKS","WK042, 880x2015x38, bwh 244","FSC® cert. Hardwood","V:RAL7035,vent.sl.,isogl.,solid/FJ,FSC Mix 70% CU-COC 800339","DEUR","BALKON","BALKON","BS","042","","","Inventory","FSCHW",true,"","RAL 7035",2015,880,38,"",false,false,false,392.56,475,{"$f":"ROUND(AA75*(1-VLOOKUP(AF75,Discounts!C:E,3,0)),2)","v":392.56},null,18140,"E065"]
[8718528024881,"Artikel",8718528024881,"STUKS","WK042, 880x2115x38, bwh 244","FSC® cert. Hardwood","V:RAL7035,vent.sl.,isogl.,solid/FJ,FSC Mix 70% CU-COC 800339","DEUR","BALKON","BALKON","BS","042","","","Inventory","FSCHW",true,"","RAL 7035",2115,880,38,"",false,false,false,392.56,475,{"$f":"ROUND(AA76*(1-VLOOKUP(AF76,Discounts!C:E,3,0)),2)","v":392.56},null,18140,"E065"]
[8718528024898,"Artikel",8718528024898,"STUKS","WK042, 930x2015x38, bwh 244","FSC® cert. Hardwood","V:RAL7035,vent.sl.,isogl.,solid/FJ,FSC Mix 70% CU-COC 800339","DEUR","BALKON","BALKON","BS","042","","","Inventory","FSCHW",true,"","RAL 7035",2015,930,38,"",false,false,false,392.56,475,{"$f":"ROUND(AA77*(1-VLOOKUP(AF77,Discounts!C:E,3,0)),2)","v":392.56},null,18140,"E065"]
[8718528024904,"Artikel",8718528024904,"STUKS","WK042, 930x2115x38, bwh 244","FSC® cert. Hardwood","V:RAL7035,vent.sl.,isogl.,solid/FJ,FSC Mix 70% CU-COC 800339","DEUR","BALKON","BALKON","BS","042","","","Inventory","FSCHW",true,"","RAL 7035",2115,930,38,"",false,false,false,392.56,475,{"$f":"ROUND(AA78*(1-VLOOKUP(AF78,Discounts!C:E,3,0)),2)","v":392.56},null,18140,"E065"]
[8718528219959,"Artikel",8718528219959,"STUKS","WK042, 930x2115x38, bwh 244","FSC® cert. Hardwood NON-KOMO","V:RAL7035,vent.sl.,isogl.,solid/FJ,FSC Mix 70% CU-COC 800339","DEUR","BALKON","BALKON","BS","042","","","Inventory","FSCHW",true,"","RAL 7035",2115,930,38,"",false,false,false,392.56,475,{"$f":"ROUND(AA79*(1-VLOOKUP(AF79,Discounts!C:E,3,0)),2)","v":392.56},null,18140,"E065"]
[8718528220627,"Artikel",8718528220627,"STUKS","WK042, 830x2015x38, bwh 244","FSC® cert. Hardwood NON-KOMO","V:RAL7035,vent.sl.,isogl.,solid/FJ,FSC Mix 70% CU-COC 800339","DEUR","BALKON","BALKON","BS","042","","","Inventory","FSCHW",true,"","RAL 7035",2015,830,38,"",false,false,false,392.56,475,{"$f":"ROUND(AA80*(1-VLOOKUP(AF80,Discounts!C:E,3,0)),2)","v":392.56},null,18140,"E065"]
[8718528220634,"Artikel",8718528220634,"STUKS","WK042, 830x2115x38, bwh 244","FSC® cert. Hardwood NON-KOMO","V:RAL7035,vent.sl.,isogl.,solid/FJ,FSC Mix 70% CU-COC 800339","DEUR","BALKON","BALKON","BS","042","","","Inventory","FSCHW",true,"","RAL 7035",2115,830,38,"",false,false,false,392.56,475,{"$f":"ROUND(AA81*(1-VLOOKUP(AF81,Discounts!C:E,3,0)),2)","v":392.56},null,18140,"E065"]
[8718528220641,"Artikel",8718528220641,"STUKS","WK042, 880x2115x38, bwh 244","FSC® cert. Hardwood NON-KOMO","V:RAL7035,vent.sl.,isogl.,solid/FJ,FSC Mix 70% CU-COC 800339","DEUR","BALKON","BALKON","BS","042","","","Inventory","FSCHW",true,"","RAL 7035",2115,880,38,"",false,false,false,392.56,475,{"$f":"ROUND(AA82*(1-VLOOKUP(AF82,Discounts!C:E,3,0)),2)","v":392.56},null,18140,"E065"]
[8718528345115,"Artikel",8718528345115,"STUKS","WK042, 730x2015x38, bwh 244","FSC® cert. Hardwood KOMO","V:RAL7035, vent.sl., isogl., solid/FJ","DEUR","BALKON","BALKON","BS","042","","","Inventory","FSCHW",true,"","RAL 7035",0,0,38,"",false,false,false,392.56,475,{"$f":"ROUND(AA83*(1-VLOOKUP(AF83,Discounts!C:E,3,0)),2)","v":392.56},null,18140,"E065"]
[8718528345146,"Artikel",8718528345146,"STUKS","WK042, 730x2115x38, bwh 244","FSC® cert. Hardwood KOMO","V:RAL7035, vent.sl., isogl., solid/FJ","DEUR","BALKON","BALKON","BS","042","","","Inventory","FSCHW",true,"","RAL 7035",0,0,38,"",false,false,false,392.56,475,{"$f":"ROUND(AA84*(1-VLOOKUP(AF84,Discounts!C:E,3,0)),2)","v":392.56},null,18140,"E065"]
[8718528345177,"Artikel",8718528345177,"STUKS","WK042, 780x2015x38, bwh 244","FSC® cert. Hardwood KOMO","V:RAL7035, vent.sl., isogl., solid/FJ","DEUR","BALKON","BALKON","BS","042","","","Inventory","FSCHW",true,"","RAL 7035",0,0,38,"",false,false,false,392.56,475,{"$f":"ROUND(AA85*(1-VLOOKUP(AF85,Discounts!C:E,3,0)),2)","v":392.56},null,18140,"E065"]
[8718528345238,"Artikel",8718528345238,"STUKS","WK042, 780x2115x38, bwh 244","FSC® cert. Hardwood KOMO","V:RAL7035, vent.sl., isogl., solid/FJ","DEUR","BALKON","BALKON","BS","042","","","Inventory","FSCHW",true,"","RAL 7035",0,0,38,"",false,false,false,392.56,475,{"$f":"ROUND(AA86*(1-VLOOKUP(AF86,Discounts!C:E,3,0)),2)","v":392.56},null,18140,"E065"]
[8718528024942,"Artikel",8718528024942,"STUKS","WK043, 830x2015x38, bwh 349","FSC® cert. Hardwood","V:RAL7035,vent.sl.,isogl.,solid/FJ,FSC Mix 70% CU-COC 800339","DEUR","BALKON","BALKON","BS","043","","","Inventory","FSCHW",true,"","RAL 7035",2015,830,38,"",false,false,false,413.23,500,{"$f":"ROUND(AA87*(1-VLOOKUP(AF87,Discounts!C:E,3,0)),2)","v":413.23},null,18150,"E065"]
[8718528024959,"Artikel",8718528024959,"STUKS","WK043, 830x2115x38, bwh 349","FSC® cert. Hardwood","V:RAL7035,vent.sl.,isogl.,solid/FJ,FSC Mix 70% CU-COC 800339","DEUR","BALKON","BALKON","BS","043","","","Inventory","FSCHW",true,"","RAL 7035",2115,830,38,"",false,false,false,413.23,500,{"$f":"ROUND(AA88*(1-VLOOKUP(AF88,Discounts!C:E,3,0)),2)","v":413.23},null,18150,"E065"]
[8718528024966,"Artikel",8718528024966,"STUKS","WK043, 880x2015x38, bwh 349","FSC® cert. Hardwood","V:RAL7035,vent.sl.,isogl.,solid/FJ,FSC Mix 70% CU-COC 800339","DEUR","BALKON","BALKON","BS","043","","","Inventory","FSCHW",true,"","RAL 7035",2015,880,38,"",false,false,false,413.23,500,{"$f":"ROUND(AA89*(1-VLOOKUP(AF89,Discounts!C:E,3,0)),2)","v":413.23},null,18150,"E065"]
[8718528024973,"Artikel",8718528024973,"STUKS","WK043, 880x2115x38, bwh 349","FSC® cert. Hardwood","V:RAL7035,vent.sl.,isogl.,solid/FJ,FSC Mix 70% CU-COC 800339","DEUR","BALKON","BALKON","BS","043","","","Inventory","FSCHW",true,"","RAL 7035",2115,880,38,"",false,false,false,413.23,500,{"$f":"ROUND(AA90*(1-VLOOKUP(AF90,Discounts!C:E,3,0)),2)","v":413.23},null,18150,"E065"]
[8718528024980,"Artikel",8718528024980,"STUKS","WK043, 930x2015x38, bwh 349","FSC® cert. Hardwood","V:RAL7035,vent.sl.,isogl.,solid/FJ,FSC Mix 70% CU-COC 800339","DEUR","BALKON","BALKON","BS","043","","","Inventory","FSCHW",true,"","RAL 7035",2015,930,38,"",false,false,false,413.23,500,{"$f":"ROUND(AA91*(1-VLOOKUP(AF91,Discounts!C:E,3,0)),2)","v":413.23},null,18150,"E065"]
[8718528024997,"Artikel",8718528024997,"STUKS","WK043, 930x2115x38, bwh 349","FSC® cert. Hardwood","V:RAL7035,vent.sl.,isogl.,solid/FJ,FSC Mix 70% CU-COC 800339","DEUR","BALKON","BALKON","BS","043","","","Inventory","FSCHW",true,"","RAL 7035",2115,930,38,"",false,false,false,413.23,500,{"$f":"ROUND(AA92*(1-VLOOKUP(AF92,Discounts!C:E,3,0)),2)","v":413.23},null,18150,"E065"]
[8718528219973,"Artikel",8718528219973,"STUKS","WK043, 830x2115x38, bwh 349","FSC® cert. Hardwood NON-KOMO","V:RAL7035,vent.sl.,isogl.,solid/FJ,FSC Mix 70% CU-COC 800339","DEUR","BALKON","BALKON","BS","043","","","Inventory","FSCHW",true,"","RAL 7035",2115,830,38,"",false,false,false,413.23,500,{"$f":"ROUND(AA93*(1-VLOOKUP(AF93,Discounts!C:E,3,0)),2)","v":413.23},null,18150,"E065"]
[8718528219980,"Artikel",8718528219980,"STUKS","WK043, 880x2115x38, bwh 349","FSC® cert. Hardwood NON-KOMO","V:RAL7035,vent.sl.,isogl.,solid/FJ,FSC Mix 70% CU-COC 800339","DEUR","BALKON","BALKON","BS","043","","","Inventory","FSCHW",true,"","RAL 7035",2115,880,38,"",false,false,false,413.23,500,{"$f":"ROUND(AA94*(1-VLOOKUP(AF94,Discounts!C:E,3,0)),2)","v":413.23},null,18150,"E065"]
[8718528220665,"Artikel",8718528220665,"STUKS","WK043, 880x2015x38, bwh 349","FSC® cert. Hardwood NON-KOMO","V:RAL7035,vent.sl.,isogl.,solid/FJ,FSC Mix 70% CU-COC 800339","DEUR","BALKON","BALKON","BS","043","","","Inventory","FSCHW",true,"","RAL 7035",2015,880,38,"",false,false,false,413.23,500,{"$f":"ROUND(AA95*(1-VLOOKUP(AF95,Discounts!C:E,3,0)),2)","v":413.23},null,18150,"E065"]
[8718528220672,"Artikel",8718528220672,"STUKS","WK043, 930x2015x38, bwh 349","FSC® cert. Hardwood NON-KOMO","V:RAL7035,vent.sl.,isogl.,solid/FJ,FSC Mix 70% CU-COC 800339","DEUR","BALKON","BALKON","BS","043","","","Inventory","FSCHW",true,"","RAL 7035",2015,930,38,"",false,false,false,413.23,500,{"$f":"ROUND(AA96*(1-VLOOKUP(AF96,Discounts!C:E,3,0)),2)","v":413.23},null,18150,"E065"]
[8718528025031,"Artikel",8718528025031,"STUKS","WK044, 830x2015x38, bwh 454","FSC® cert. Hardwood","V:RAL7035,vent.sl.,isogl.,solid/FJ,FSC Mix 70% CU-COC 800339","DEUR","BALKON","BALKON","BS","044","","","Inventory","FSCHW",true,"","RAL 7035",2015,830,38,"",false,false,false,433.06,524,{"$f":"ROUND(AA97*(1-VLOOKUP(AF97,Discounts!C:E,3,0)),2)","v":433.06},null,18160,"E065"]
[8718528025048,"Artikel",8718528025048,"STUKS","WK044, 830x2115x38, bwh 454","FSC® cert. Hardwood","V:RAL7035,vent.sl.,isogl.,solid/FJ,FSC Mix 70% CU-COC 800339","DEUR","BALKON","BALKON","BS","044","","","Inventory","FSCHW",true,"","RAL 7035",2115,830,38,"",false,false,false,433.06,524,{"$f":"ROUND(AA98*(1-VLOOKUP(AF98,Discounts!C:E,3,0)),2)","v":433.06},null,18160,"E065"]
[8718528025055,"Artikel",8718528025055,"STUKS","WK044, 880x2015x38, bwh 454","FSC® cert. Hardwood","V:RAL7035,vent.sl.,isogl.,solid/FJ,FSC Mix 70% CU-COC 800339","DEUR","BALKON","BALKON","BS","044","","","Inventory","FSCHW",true,"","RAL 7035",2015,880,38,"",false,false,false,433.06,524,{"$f":"ROUND(AA99*(1-VLOOKUP(AF99,Discounts!C:E,3,0)),2)","v":433.06},null,18160,"E065"]
[8718528025062,"Artikel",8718528025062,"STUKS","WK044, 880x2115x38, bwh 454","FSC® cert. Hardwood","V:RAL7035,vent.sl.,isogl.,solid/FJ,FSC Mix 70% CU-COC 800339","DEUR","BALKON","BALKON","BS","044","","","Inventory","FSCHW",true,"","RAL 7035",2115,880,38,"",false,false,false,433.06,524,{"$f":"ROUND(AA100*(1-VLOOKUP(AF100,Discounts!C:E,3,0)),2)","v":433.06},null,18160,"E065"]
[8718528025079,"Artikel",8718528025079,"STUKS","WK044, 930x2015x38, bwh 454","FSC® cert. Hardwood","V:RAL7035,vent.sl.,isogl.,solid/FJ,FSC Mix 70% CU-COC 800339","DEUR","BALKON","BALKON","BS","044","","","Inventory","FSCHW",true,"","RAL 7035",2015,930,38,"",false,false,false,433.06,524,{"$f":"ROUND(AA101*(1-VLOOKUP(AF101,Discounts!C:E,3,0)),2)","v":433.06},null,18160,"E065"]
[8718528025086,"Artikel",8718528025086,"STUKS","WK044, 930x2115x38, bwh 454","FSC® cert. Hardwood","V:RAL7035,vent.sl.,isogl.,solid/FJ,FSC Mix 70% CU-COC 800339","DEUR","BALKON","BALKON","BS","044","","","Inventory","FSCHW",true,"","RAL 7035",2115,930,38,"",false,false,false,433.06,524,{"$f":"ROUND(AA102*(1-VLOOKUP(AF102,Discounts!C:E,3,0)),2)","v":433.06},null,18160,"E065"]
[8718528220726,"Artikel",8718528220726,"STUKS","WK044, 880x2115x38, bwh 454","FSC® cert. Hardwood NON-KOMO","V:RAL7035,vent.sl.,isogl.,solid/FJ,FSC Mix 70% CU-COC 800339","DEUR","BALKON","BALKON","BS","044","","","Inventory","FSCHW",true,"","RAL 7035",2115,880,38,"",false,false,false,433.06,524,{"$f":"ROUND(AA103*(1-VLOOKUP(AF103,Discounts!C:E,3,0)),2)","v":433.06},null,18160,"E065"]
[8718528025123,"Artikel",8718528025123,"STUKS","WK046, 830x2015x38, bwh 664","FSC® cert. Hardwood","V:RAL7035,vent.sl.,isogl.,solid/FJ,FSC Mix 70% CU-COC 800339","DEUR","BALKON","BALKON","BS","046","","","Inventory","FSCHW",true,"","RAL 7035",2015,830,38,"",false,false,false,473.56,573,{"$f":"ROUND(AA104*(1-VLOOKUP(AF104,Discounts!C:E,3,0)),2)","v":473.56},null,18170,"E065"]
[8718528025130,"Artikel",8718528025130,"STUKS","WK046, 830x2115x38, bwh 664","FSC® cert. Hardwood","V:RAL7035,vent.sl.,isogl.,solid/FJ,FSC Mix 70% CU-COC 800339","DEUR","BALKON","BALKON","BS","046","","","Inventory","FSCHW",true,"","RAL 7035",2115,830,38,"",false,false,false,473.56,573,{"$f":"ROUND(AA105*(1-VLOOKUP(AF105,Discounts!C:E,3,0)),2)","v":473.56},null,18170,"E065"]
[8718528025147,"Artikel",8718528025147,"STUKS","WK046, 880x2015x38, bwh 664","FSC® cert. Hardwood","V:RAL7035,vent.sl.,isogl.,solid/FJ,FSC Mix 70% CU-COC 800339","DEUR","BALKON","BALKON","BS","046","","","Inventory","FSCHW",true,"","RAL 7035",2015,880,38,"",false,false,false,473.56,573,{"$f":"ROUND(AA106*(1-VLOOKUP(AF106,Discounts!C:E,3,0)),2)","v":473.56},null,18170,"E065"]
[8718528025154,"Artikel",8718528025154,"STUKS","WK046, 880x2115x38, bwh 664","FSC® cert. Hardwood","V:RAL7035,vent.sl.,isogl.,solid/FJ,FSC Mix 70% CU-COC 800339","DEUR","BALKON","BALKON","BS","046","","","Inventory","FSCHW",true,"","RAL 7035",2115,880,38,"",false,false,false,473.56,573,{"$f":"ROUND(AA107*(1-VLOOKUP(AF107,Discounts!C:E,3,0)),2)","v":473.56},null,18170,"E065"]
[8718528025161,"Artikel",8718528025161,"STUKS","WK046, 930x2015x38, bwh 664","FSC® cert. Hardwood","V:RAL7035,vent.sl.,isogl.,solid/FJ,FSC Mix 70% CU-COC 800339","DEUR","BALKON","BALKON","BS","046","","","Inventory","FSCHW",true,"","RAL 7035",2015,930,38,"",false,false,false,473.56,573,{"$f":"ROUND(AA108*(1-VLOOKUP(AF108,Discounts!C:E,3,0)),2)","v":473.56},null,18170,"E065"]
[8718528025178,"Artikel",8718528025178,"STUKS","WK046, 930x2115x38, bwh 664","FSC® cert. Hardwood","V:RAL7035,vent.sl.,isogl.,solid/FJ,FSC Mix 70% CU-COC 800339","DEUR","BALKON","BALKON","BS","046","","","Inventory","FSCHW",true,"","RAL 7035",2115,930,38,"",false,false,false,473.56,573,{"$f":"ROUND(AA109*(1-VLOOKUP(AF109,Discounts!C:E,3,0)),2)","v":473.56},null,18170,"E065"]
[8718528220771,"Artikel",8718528220771,"STUKS","WK046, 880x2115x38, bwh 664","FSC® cert. Hardwood NON-KOMO","V:RAL7035,vent.sl.,isogl.,solid/FJ,FSC Mix 70% CU-COC 800339","DEUR","BALKON","BALKON","BS","046","","","Inventory","FSCHW",true,"","RAL 7035",2115,880,38,"",false,false,false,473.56,573,{"$f":"ROUND(AA110*(1-VLOOKUP(AF110,Discounts!C:E,3,0)),2)","v":473.56},null,18170,"E065"]
[8718528025208,"Artikel",8718528025208,"STUKS","WK048, 830x2015x38, bwh 874","FSC® cert. Hardwood","V:RAL7035,vent.sl.,isogl.,solid/FJ,FSC Mix 70% CU-COC 800339","DEUR","BALKON","BALKON","BS","048","","","Inventory","FSCHW",true,"","RAL 7035",2015,830,38,"",false,false,false,511.57,619,{"$f":"ROUND(AA111*(1-VLOOKUP(AF111,Discounts!C:E,3,0)),2)","v":511.57},null,18180,"E065"]
[8718528025215,"Artikel",8718528025215,"STUKS","WK048, 830x2115x38, bwh 874","FSC® cert. Hardwood","V:RAL7035,vent.sl.,isogl.,solid/FJ,FSC Mix 70% CU-COC 800339","DEUR","BALKON","BALKON","BS","048","","","Inventory","FSCHW",true,"","RAL 7035",2115,830,38,"",false,false,false,511.57,619,{"$f":"ROUND(AA112*(1-VLOOKUP(AF112,Discounts!C:E,3,0)),2)","v":511.57},null,18180,"E065"]
[8718528025222,"Artikel",8718528025222,"STUKS","WK048, 880x2015x38, bwh 874","FSC® cert. Hardwood","V:RAL7035,vent.sl.,isogl.,solid/FJ,FSC Mix 70% CU-COC 800339","DEUR","BALKON","BALKON","BS","048","","","Inventory","FSCHW",true,"","RAL 7035",2015,880,38,"",false,false,false,511.57,619,{"$f":"ROUND(AA113*(1-VLOOKUP(AF113,Discounts!C:E,3,0)),2)","v":511.57},null,18180,"E065"]
[8718528025239,"Artikel",8718528025239,"STUKS","WK048, 880x2115x38, bwh 874","FSC® cert. Hardwood","V:RAL7035,vent.sl.,isogl.,solid/FJ,FSC Mix 70% CU-COC 800339","DEUR","BALKON","BALKON","BS","048","","","Inventory","FSCHW",true,"","RAL 7035",2115,880,38,"",false,false,false,511.57,619,{"$f":"ROUND(AA114*(1-VLOOKUP(AF114,Discounts!C:E,3,0)),2)","v":511.57},null,18180,"E065"]
[8718528025246,"Artikel",8718528025246,"STUKS","WK048, 930x2015x38, bwh 874","FSC® cert. Hardwood","V:RAL7035,vent.sl.,isogl.,solid/FJ,FSC Mix 70% CU-COC 800339","DEUR","BALKON","BALKON","BS","048","","","Inventory","FSCHW",true,"","RAL 7035",2015,930,38,"",false,false,false,511.57,619,{"$f":"ROUND(AA115*(1-VLOOKUP(AF115,Discounts!C:E,3,0)),2)","v":511.57},null,18180,"E065"]
[8718528025253,"Artikel",8718528025253,"STUKS","WK048, 930x2115x38, bwh 874","FSC® cert. Hardwood","V:RAL7035,vent.sl.,isogl.,solid/FJ,FSC Mix 70% CU-COC 800339","DEUR","BALKON","BALKON","BS","048","","","Inventory","FSCHW",true,"","RAL 7035",2115,930,38,"",false,false,false,511.57,619,{"$f":"ROUND(AA116*(1-VLOOKUP(AF116,Discounts!C:E,3,0)),2)","v":511.57},null,18180,"E065"]
[8718528220832,"Artikel",8718528220832,"STUKS","WK048, 930x2015x38, bwh 874","FSC® cert. Hardwood NON-KOMO","V:RAL7035,vent.sl.,isogl.,solid/FJ,FSC Mix 70% CU-COC 800339","DEUR","BALKON","BALKON","BS","048","","","Inventory","FSCHW",true,"","RAL 7035",2015,930,38,"",false,false,false,511.57,619,{"$f":"ROUND(AA117*(1-VLOOKUP(AF117,Discounts!C:E,3,0)),2)","v":511.57},null,18180,"E065"]
[8718528219850,"Artikel",8718528219850,"STUKS","WK042XL, 930x2340x38, bwh 269","PEFC-CS PHW, NON-KOMO","V:RAL9010, vent.sl., isogl., solid/FJ","DEUR","BALKON","BALKON","BS","042","","","Inventory","PHW",false,"","RAL 9010",2340,930,38,"",true,false,false,467.77,566,{"$f":"ROUND(AA118*(1-VLOOKUP(AF118,Discounts!C:E,3,0)),2)","v":467.77},null,18240,"E055"]
[8718528220375,"Artikel",8718528220375,"STUKS","WK042XL, 830x2340x38, bwh 269","PEFC-CS PHW, NON-KOMO","V:RAL9010, vent.sl., isogl., solid/FJ","DEUR","BALKON","BALKON","BS","042","","","Inventory","PHW",false,"","RAL 9010",2340,830,38,"",true,false,false,467.77,566,{"$f":"ROUND(AA119*(1-VLOOKUP(AF119,Discounts!C:E,3,0)),2)","v":467.77},null,18240,"E055"]
[8718528022849,"Artikel",8718528022849,"STUKS","WK043XL, 830x2340x38, bwh 374","PEFC-CS PHW","V:RAL9010, vent.sl., isogl., solid/FJ","DEUR","BALKON","BALKON","BS","043","","","Inventory","PHW",false,"","RAL 9010",2340,830,38,"",true,false,false,488.43,591,{"$f":"ROUND(AA120*(1-VLOOKUP(AF120,Discounts!C:E,3,0)),2)","v":488.43},null,18250,"E055"]
[8718528023037,"Artikel",8718528023037,"STUKS","WK043XL, 930x2340x38, bwh 374","PEFC-CS PHW","V:RAL9010, vent.sl., isogl., solid/FJ","DEUR","BALKON","BALKON","BS","043","","","Inventory","PHW",false,"","RAL 9010",2340,930,38,"",true,false,false,488.43,591,{"$f":"ROUND(AA121*(1-VLOOKUP(AF121,Discounts!C:E,3,0)),2)","v":488.43},null,18250,"E055"]
[8718528220276,"Artikel",8718528220276,"STUKS","WK043XL, 880x2340x38, bwh 374","PEFC-CS PHW, NON-KOMO","V:RAL9010, vent.sl., isogl., solid/FJ","DEUR","BALKON","BALKON","BS","043","","","Inventory","PHW",false,"","RAL 9010",2340,880,38,"",true,false,false,488.43,591,{"$f":"ROUND(AA122*(1-VLOOKUP(AF122,Discounts!C:E,3,0)),2)","v":488.43},null,18250,"E055"]
[8718528023945,"Artikel",8718528023945,"STUKS","WK044XL, 830x2340x38, bwh 479","PEFC-CS PHW","V:RAL9010, vent.sl., isogl., solid/FJ","DEUR","BALKON","BALKON","BS","044","","","Inventory","PHW",false,"","RAL 9010",2340,830,38,"",true,false,false,510.75,618,{"$f":"ROUND(AA123*(1-VLOOKUP(AF123,Discounts!C:E,3,0)),2)","v":510.75},null,18260,"E055"]
[8718528023952,"Artikel",8718528023952,"STUKS","WK044XL, 880x2340x38, bwh 479","PEFC-CS PHW","V:RAL9010, vent.sl., isogl., solid/FJ","DEUR","BALKON","BALKON","BS","044","","","Inventory","PHW",false,"","RAL 9010",2340,880,38,"",true,false,false,510.75,618,{"$f":"ROUND(AA124*(1-VLOOKUP(AF124,Discounts!C:E,3,0)),2)","v":510.75},null,18260,"E055"]
[8718528023990,"Artikel",8718528023990,"STUKS","WK046XL, 880x2340x38, bwh 689","PEFC-CS PHW","V:RAL9010, vent.sl., isogl., solid/FJ","DEUR","BALKON","BALKON","BS","046","","","Inventory","PHW",false,"","RAL 9010",2340,880,38,"",true,false,false,552.07,668,{"$f":"ROUND(AA125*(1-VLOOKUP(AF125,Discounts!C:E,3,0)),2)","v":552.07},null,18270,"E055"]
[8718528023471,"Artikel",8718528023471,"STUKS","WK048XL, 880x2340x38, bwh 899","PEFC-CS PHW","V:RAL9010, vent.sl., isogl., solid/FJ","DEUR","BALKON","BALKON","BS","048","","","Inventory","PHW",false,"","RAL 9010",2340,880,38,"",true,false,false,591.74,716,{"$f":"ROUND(AA126*(1-VLOOKUP(AF126,Discounts!C:E,3,0)),2)","v":591.74},null,18280,"E055"]
[8718528220245,"Artikel",8718528220245,"STUKS","WK048XL, 930x2340x38, bwh 899","PEFC-CS PHW, NON-KOMO","V:RAL9010, vent.sl., isogl., solid/FJ","DEUR","BALKON","BALKON","BS","048","","","Inventory","PHW",false,"","RAL 9010",2340,930,38,"",true,false,false,591.74,716,{"$f":"ROUND(AA127*(1-VLOOKUP(AF127,Discounts!C:E,3,0)),2)","v":591.74},null,18280,"E055"]
[8718528220429,"Artikel",8718528220429,"STUKS","WK048XL, 880x2340x38, bwh 899","PEFC-CS PHW, NON-KOMO","V:RAL9010, vent.sl., isogl., solid/FJ","DEUR","BALKON","BALKON","BS","048","","","Inventory","PHW",false,"","RAL 9010",2340,880,38,"",true,false,false,591.74,716,{"$f":"ROUND(AA128*(1-VLOOKUP(AF128,Discounts!C:E,3,0)),2)","v":591.74},null,18280,"E055"]
[8718528025345,"Artikel",8718528025345,"STUKS","WK042XL, 830x2340x38, bwh 269","FSC® cert. Premium Hardwood","V:RAL9010, vent.sl., isogl., FSC Mix 70% CU-COC 800339","DEUR","BALKON","BALKON","BS","042","","","Inventory","FSCPHW",true,"","RAL 9010",2340,830,38,"",true,false,false,526.45,637,{"$f":"ROUND(AA129*(1-VLOOKUP(AF129,Discounts!C:E,3,0)),2)","v":526.45},null,18290,"E075"]
[8718528025352,"Artikel",8718528025352,"STUKS","WK042XL, 880x2340x38, bwh 269","FSC® cert. Premium Hardwood","V:RAL9010, vent.sl., isogl., FSC Mix 70% CU-COC 800339","DEUR","BALKON","BALKON","BS","042","","","Inventory","FSCPHW",true,"","RAL 9010",2340,880,38,"",true,false,false,526.45,637,{"$f":"ROUND(AA130*(1-VLOOKUP(AF130,Discounts!C:E,3,0)),2)","v":526.45},null,18290,"E075"]
[8718528025369,"Artikel",8718528025369,"STUKS","WK042XL, 930x2340x38, bwh 269","FSC® cert. Premium Hardwood","V:RAL9010, vent.sl., isogl., FSC Mix 70% CU-COC 800339","DEUR","BALKON","BALKON","BS","042","","","Inventory","FSCPHW",true,"","RAL 9010",2340,930,38,"",true,false,false,526.45,637,{"$f":"ROUND(AA131*(1-VLOOKUP(AF131,Discounts!C:E,3,0)),2)","v":526.45},null,18290,"E075"]
[8718528024584,"Artikel",8718528024584,"STUKS","WK043XL, 830x2340x38, bwh 374","FSC® cert. Premium Hardwood","V:RAL9010, vent.sl., isogl., FSC Mix 70% CU-COC 800339","DEUR","BALKON","BALKON","BS","043","","","Inventory","FSCPHW",true,"","RAL 9010",2340,830,38,"",true,false,false,549.59,665,{"$f":"ROUND(AA132*(1-VLOOKUP(AF132,Discounts!C:E,3,0)),2)","v":549.59},null,18300,"E075"]
[8718528024591,"Artikel",8718528024591,"STUKS","WK043XL, 880x2340x38, bwh 374","FSC® cert. Premium Hardwood","V:RAL9010, vent.sl., isogl., FSC Mix 70% CU-COC 800339","DEUR","BALKON","BALKON","BS","043","","","Inventory","FSCPHW",true,"","RAL 9010",2340,880,38,"",true,false,false,549.59,665,{"$f":"ROUND(AA133*(1-VLOOKUP(AF133,Discounts!C:E,3,0)),2)","v":549.59},null,18300,"E075"]
[8718528024607,"Artikel",8718528024607,"STUKS","WK043XL, 930x2340x38, bwh 374","FSC® cert. Premium Hardwood","V:RAL9010, vent.sl., isogl., FSC Mix 70% CU-COC 800339","DEUR","BALKON","BALKON","BS","043","","","Inventory","FSCPHW",true,"","RAL 9010",2340,930,38,"",true,false,false,549.59,665,{"$f":"ROUND(AA134*(1-VLOOKUP(AF134,Discounts!C:E,3,0)),2)","v":549.59},null,18300,"E075"]
[8718528025437,"Artikel",8718528025437,"STUKS","WK044XL, 830x2340x38, bwh 479","FSC® cert. Premium Hardwood","V:RAL9010, vent.sl., isogl., FSC Mix 70% CU-COC 800339","DEUR","BALKON","BALKON","BS","044","","","Inventory","FSCPHW",true,"","RAL 9010",2340,830,38,"",true,false,false,575.21,696,{"$f":"ROUND(AA135*(1-VLOOKUP(AF135,Discounts!C:E,3,0)),2)","v":575.21},null,18310,"E075"]
[8718528025444,"Artikel",8718528025444,"STUKS","WK044XL, 880x2340x38, bwh 479","FSC® cert. Premium Hardwood","V:RAL9010, vent.sl., isogl., FSC Mix 70% CU-COC 800339","DEUR","BALKON","BALKON","BS","044","","","Inventory","FSCPHW",true,"","RAL 9010",2340,880,38,"",true,false,false,575.21,696,{"$f":"ROUND(AA136*(1-VLOOKUP(AF136,Discounts!C:E,3,0)),2)","v":575.21},null,18310,"E075"]
[8718528025451,"Artikel",8718528025451,"STUKS","WK044XL, 930x2340x38, bwh 479","FSC® cert. Premium Hardwood","V:RAL9010, vent.sl., isogl., FSC Mix 70% CU-COC 800339","DEUR","BALKON","BALKON","BS","044","","","Inventory","FSCPHW",true,"","RAL 9010",2340,930,38,"",true,false,false,575.21,696,{"$f":"ROUND(AA137*(1-VLOOKUP(AF137,Discounts!C:E,3,0)),2)","v":575.21},null,18310,"E075"]
[8718528024676,"Artikel",8718528024676,"STUKS","WK046XL, 880x2340x38, bwh 689","FSC® cert. Premium Hardwood","V:RAL9010, vent.sl., isogl., FSC Mix 70% CU-COC 800339","DEUR","BALKON","BALKON","BS","046","","","Inventory","FSCPHW",true,"","RAL 9010",2340,880,38,"",true,false,false,622.32,753,{"$f":"ROUND(AA138*(1-VLOOKUP(AF138,Discounts!C:E,3,0)),2)","v":622.32},null,18320,"E075"]
[8718528024683,"Artikel",8718528024683,"STUKS","WK046XL, 930x2340x38, bwh 689","FSC® cert. Premium Hardwood","V:RAL9010, vent.sl., isogl., FSC Mix 70% CU-COC 800339","DEUR","BALKON","BALKON","BS","046","","","Inventory","FSCPHW",true,"","RAL 9010",2340,930,38,"",true,false,false,622.32,753,{"$f":"ROUND(AA139*(1-VLOOKUP(AF139,Discounts!C:E,3,0)),2)","v":622.32},null,18320,"E075"]
[8718528024751,"Artikel",8718528024751,"STUKS","WK048XL, 880x2340x38, bwh 899","FSC® cert. Premium Hardwood","V:RAL9010, vent.sl., isogl., FSC Mix 70% CU-COC 800339","DEUR","BALKON","BALKON","BS","048","","","Inventory","FSCPHW",true,"","RAL 9010",2340,880,38,"",true,false,false,670.25,811,{"$f":"ROUND(AA140*(1-VLOOKUP(AF140,Discounts!C:E,3,0)),2)","v":670.25},null,18330,"E075"]
[8718528024768,"Artikel",8718528024768,"STUKS","WK048XL, 930x2340x38, bwh 899","FSC® cert. Premium Hardwood","V:RAL9010, vent.sl., isogl., FSC Mix 70% CU-COC 800339","DEUR","BALKON","BALKON","BS","048","","","Inventory","FSCPHW",true,"","RAL 9010",2340,930,38,"",true,false,false,670.25,811,{"$f":"ROUND(AA141*(1-VLOOKUP(AF141,Discounts!C:E,3,0)),2)","v":670.25},null,18330,"E075"]
[8718528024911,"Artikel",8718528024911,"STUKS","WK042XL, 830x2340x38, bwh 269","FSC® cert. Hardwood","V:RAL7035,vent.sl.,isogl.,solid/FJ,FSC Mix 70% CU-COC 800339","DEUR","BALKON","BALKON","BS","042","","","Inventory","FSCHW",true,"","RAL 7035",2340,830,38,"",true,false,false,440.5,533,{"$f":"ROUND(AA142*(1-VLOOKUP(AF142,Discounts!C:E,3,0)),2)","v":440.5},null,18340,"E065"]
[8718528024928,"Artikel",8718528024928,"STUKS","WK042XL, 880x2340x38, bwh 269","FSC® cert. Hardwood","V:RAL7035,vent.sl.,isogl.,solid/FJ,FSC Mix 70% CU-COC 800339","DEUR","BALKON","BALKON","BS","042","","","Inventory","FSCHW",true,"","RAL 7035",2340,880,38,"",true,false,false,440.5,533,{"$f":"ROUND(AA143*(1-VLOOKUP(AF143,Discounts!C:E,3,0)),2)","v":440.5},null,18340,"E065"]
[8718528024935,"Artikel",8718528024935,"STUKS","WK042XL, 930x2340x38, bwh 269","FSC® cert. Hardwood","V:RAL7035,vent.sl.,isogl.,solid/FJ,FSC Mix 70% CU-COC 800339","DEUR","BALKON","BALKON","BS","042","","","Inventory","FSCHW",true,"","RAL 7035",2340,930,38,"",true,false,false,440.5,533,{"$f":"ROUND(AA144*(1-VLOOKUP(AF144,Discounts!C:E,3,0)),2)","v":440.5},null,18340,"E065"]
[8718528025000,"Artikel",8718528025000,"STUKS","WK043XL, 830x2340x38, bwh 374","FSC® cert. Hardwood","V:RAL7035,vent.sl.,isogl.,solid/FJ,FSC Mix 70% CU-COC 800339","DEUR","BALKON","BALKON","BS","043","","","Inventory","FSCHW",true,"","RAL 7035",2340,830,38,"",true,false,false,458.68,555,{"$f":"ROUND(AA145*(1-VLOOKUP(AF145,Discounts!C:E,3,0)),2)","v":458.68},null,18350,"E065"]
[8718528025017,"Artikel",8718528025017,"STUKS","WK043XL, 880x2340x38, bwh 374","FSC® cert. Hardwood","V:RAL7035,vent.sl.,isogl.,solid/FJ,FSC Mix 70% CU-COC 800339","DEUR","BALKON","BALKON","BS","043","","","Inventory","FSCHW",true,"","RAL 7035",2340,880,38,"",true,false,false,458.68,555,{"$f":"ROUND(AA146*(1-VLOOKUP(AF146,Discounts!C:E,3,0)),2)","v":458.68},null,18350,"E065"]
[8718528025024,"Artikel",8718528025024,"STUKS","WK043XL, 930x2340x38, bwh 374","FSC® cert. Hardwood","V:RAL7035,vent.sl.,isogl.,solid/FJ,FSC Mix 70% CU-COC 800339","DEUR","BALKON","BALKON","BS","043","","","Inventory","FSCHW",true,"","RAL 7035",2340,930,38,"",true,false,false,458.68,555,{"$f":"ROUND(AA147*(1-VLOOKUP(AF147,Discounts!C:E,3,0)),2)","v":458.68},null,18350,"E065"]
[8718528025093,"Artikel",8718528025093,"STUKS","WK044XL, 830x2340x38, bwh 479","FSC® cert. Hardwood","V:RAL7035,vent.sl.,isogl.,solid/FJ,FSC Mix 70% CU-COC 800339","DEUR","BALKON","BALKON","BS","044","","","Inventory","FSCHW",true,"","RAL 7035",2340,830,38,"",true,false,false,478.51,579,{"$f":"ROUND(AA148*(1-VLOOKUP(AF148,Discounts!C:E,3,0)),2)","v":478.51},null,18360,"E065"]
[8718528025109,"Artikel",8718528025109,"STUKS","WK044XL, 880x2340x38, bwh 479","FSC® cert. Hardwood","V:RAL7035,vent.sl.,isogl.,solid/FJ,FSC Mix 70% CU-COC 800339","DEUR","BALKON","BALKON","BS","044","","","Inventory","FSCHW",true,"","RAL 7035",2340,880,38,"",true,false,false,478.51,579,{"$f":"ROUND(AA149*(1-VLOOKUP(AF149,Discounts!C:E,3,0)),2)","v":478.51},null,18360,"E065"]
[8718528025116,"Artikel",8718528025116,"STUKS","WK044XL, 930x2340x38, bwh 479","FSC® cert. Hardwood","V:RAL7035,vent.sl.,isogl.,solid/FJ,FSC Mix 70% CU-COC 800339","DEUR","BALKON","BALKON","BS","044","","","Inventory","FSCHW",true,"","RAL 7035",2340,930,38,"",true,false,false,478.51,579,{"$f":"ROUND(AA150*(1-VLOOKUP(AF150,Discounts!C:E,3,0)),2)","v":478.51},null,18360,"E065"]
[8718528025185,"Artikel",8718528025185,"STUKS","WK046XL, 880x2340x38, bwh 689","FSC® cert. Hardwood","V:RAL7035,vent.sl.,isogl.,solid/FJ,FSC Mix 70% CU-COC 800339","DEUR","BALKON","BALKON","BS","046","","","Inventory","FSCHW",true,"","RAL 7035",2340,880,38,"",true,false,false,519.01,628,{"$f":"ROUND(AA151*(1-VLOOKUP(AF151,Discounts!C:E,3,0)),2)","v":519.01},null,18370,"E065"]
[8718528025192,"Artikel",8718528025192,"STUKS","WK046XL, 930x2340x38, bwh 689","FSC® cert. Hardwood","V:RAL7035,vent.sl.,isogl.,solid/FJ,FSC Mix 70% CU-COC 800339","DEUR","BALKON","BALKON","BS","046","","","Inventory","FSCHW",true,"","RAL 7035",2340,930,38,"",true,false,false,519.01,628,{"$f":"ROUND(AA152*(1-VLOOKUP(AF152,Discounts!C:E,3,0)),2)","v":519.01},null,18370,"E065"]
[8718528025260,"Artikel",8718528025260,"STUKS","WK048XL, 880x2340x38, bwh 899","FSC® cert. Hardwood","V:RAL7035,vent.sl.,isogl.,solid/FJ,FSC Mix 70% CU-COC 800339","DEUR","BALKON","BALKON","BS","048","","","Inventory","FSCHW",true,"","RAL 7035",2340,880,38,"",true,false,false,560.33,678,{"$f":"ROUND(AA153*(1-VLOOKUP(AF153,Discounts!C:E,3,0)),2)","v":560.33},null,18380,"E065"]
[8718528025277,"Artikel",8718528025277,"STUKS","WK048XL, 930x2340x38, bwh 899","FSC® cert. Hardwood","V:RAL7035,vent.sl.,isogl.,solid/FJ,FSC Mix 70% CU-COC 800339","DEUR","BALKON","BALKON","BS","048","","","Inventory","FSCHW",true,"","RAL 7035",2340,930,38,"",true,false,false,560.33,678,{"$f":"ROUND(AA154*(1-VLOOKUP(AF154,Discounts!C:E,3,0)),2)","v":560.33},null,18380,"E065"]
[8718528220849,"Artikel",8718528220849,"STUKS","WK048XL, 930x2340x38, bwh 899","FSC® cert. Hardwood NON-KOMO","V:RAL7035,vent.sl.,isogl.,solid/FJ,FSC Mix 70% CU-COC 800339","DEUR","BALKON","BALKON","BS","048","","","Inventory","FSCHW",true,"","RAL 7035",2340,930,38,"",true,false,false,560.33,678,{"$f":"ROUND(AA155*(1-VLOOKUP(AF155,Discounts!C:E,3,0)),2)","v":560.33},null,18380,"E065"]
[8718528039038,"Artikel",8718528039038,"STUKS","Voordeurknop Sky PVD Gold","","","HENS","BESLAG","","","","VOORDEURKNOP","SKY","Inventory","",false,"","",0,0,0,"",false,false,false,145.45,176,{"$f":"ROUND(AA156*(1-VLOOKUP(AF156,Discounts!C:E,3,0)),2)","v":145.45},null,24770,"O115"]
[8718528039052,"Artikel",8718528039052,"STUKS","Voordeurknop Mistral PVD Gold","","","HENS","BESLAG","","","","VOORDEURKNOP","MISTRAL","Inventory","",false,"","",0,0,0,"",false,false,false,106.61,129,{"$f":"ROUND(AA157*(1-VLOOKUP(AF157,Discounts!C:E,3,0)),2)","v":106.61},null,24780,"O115"]
[8718528039267,"Artikel",8718528039267,"STUKS","Briefplaat River PVD Gold","","","HENS","BESLAG","","","","BRIEFPLAAT","RIVER","Inventory","",false,"","",0,0,0,"",false,false,false,228.1,276,{"$f":"ROUND(AA158*(1-VLOOKUP(AF158,Discounts!C:E,3,0)),2)","v":228.1},null,24810,"O115"]
[8718528038871,"Artikel",8718528038871,"STUKS","Deurkruk Frost PVD Gold","links","","HENS","BESLAG","","","","DEURKRUK LIFETIME","FROST","Inventory","",false,"","",0,0,0,"",false,false,false,123.14,149,{"$f":"ROUND(AA159*(1-VLOOKUP(AF159,Discounts!C:E,3,0)),2)","v":123.14},null,24830,"O115"]
[8718528038888,"Artikel",8718528038888,"STUKS","Deurkruk Frost PVD Gold","rechts","","HENS","BESLAG","","","","DEURKRUK LIFETIME","FROST","Inventory","",false,"","",0,0,0,"",false,false,false,123.14,149,{"$f":"ROUND(AA160*(1-VLOOKUP(AF160,Discounts!C:E,3,0)),2)","v":123.14},null,24830,"O115"]
[8718528059029,"Artikel",8718528059029,"STUKS","Deurkruk Breeze PVD Gold","rechts","","HENS","BESLAG","","","","DEURKRUK LIFETIME","BREEZE","Inventory","",false,"","",0,0,0,"",false,false,false,89.26,108,{"$f":"ROUND(AA161*(1-VLOOKUP(AF161,Discounts!C:E,3,0)),2)","v":89.26},null,24840,"O115"]
[8718528156773,"Artikel",8718528156773,"STUKS","Deurkruk Breeze PVD Gold","L/R","","HENS","BESLAG","","","","DEURKRUK LIFETIME","BREEZE","Inventory","",false,"","",0,0,0,"",false,false,false,89.26,108,{"$f":"ROUND(AA162*(1-VLOOKUP(AF162,Discounts!C:E,3,0)),2)","v":89.26},null,24840,"O115"]
[8718528058831,"Artikel",8718528058831,"STUKS","Deurkruk Bubble PVD Gold","links + rechts","","HENS","BESLAG","","","","DEURKRUK LIFETIME","BUBBLE","Inventory","",false,"","",0,0,0,"",false,false,false,85.12,103,{"$f":"ROUND(AA163*(1-VLOOKUP(AF163,Discounts!C:E,3,0)),2)","v":85.12},null,24850,"O115"]
[8718528040881,"Artikel",8718528040881,"STUKS","Deurklopper Spring PVD Gold","","","HENS","BESLAG","","","","DEURKLOPPER","SPRING","Inventory","",false,"","",0,0,0,"",false,false,false,238.84,289,{"$f":"ROUND(AA164*(1-VLOOKUP(AF164,Discounts!C:E,3,0)),2)","v":238.84},null,24860,"O115"]
[8718528096024,"Artikel",8718528096024,"STUKS","Los binnenrozet PVD Gold","met ktb (52 mm)","","HENS","BESLAG","","","","LOS BINNENROZET","","Inventory","",false,"","",0,0,0,"",false,false,false,26.45,32,{"$f":"ROUND(AA165*(1-VLOOKUP(AF165,Discounts!C:E,3,0)),2)","v":26.45},null,24870,"O115"]
[8718528040799,"Artikel",8718528040799,"STUKS","Beldrukker Cool PVD Gold","","","HENS","BESLAG","","","","BELDRUKKER","COOL","Inventory","",false,"","",0,0,0,"",false,false,false,54.55,66,{"$f":"ROUND(AA166*(1-VLOOKUP(AF166,Discounts!C:E,3,0)),2)","v":54.55},null,24880,"O115"]
[8718528040836,"Artikel",8718528040836,"STUKS","Beldrukker Sunny PVD Gold","","","HENS","BESLAG","","","","BELDRUKKER","SUNNY","Inventory","",false,"","",0,0,0,"",false,false,false,54.55,66,{"$f":"ROUND(AA167*(1-VLOOKUP(AF167,Discounts!C:E,3,0)),2)","v":54.55},null,24890,"O115"]
[8718528339701,"Artikel",8718528339701,"STUKS","Buva deurbalk 8012 binnendr.","L=2115 mm excl sluitplaat","","HENS","SLOTEN","","","","BUVA DEURBALK","","Inventory","",false,"","",0,0,0,"",false,false,false,233.06,282,{"$f":"ROUND(AA168*(1-VLOOKUP(AF168,Discounts!C:E,3,0)),2)","v":233.06},null,40180,"O505"]
[8718528020449,"Artikel",8718528020449,"STUKS","Buva deurbalk 8012 binnendr.","L=2250 mm excl sluitplaat","","HENS","SLOTEN","","","","BUVA DEURBALK","","Inventory","",false,"","",0,0,0,"",false,false,false,233.06,282,{"$f":"ROUND(AA169*(1-VLOOKUP(AF169,Discounts!C:E,3,0)),2)","v":233.06},null,40180,"O505"]
[8718528020456,"Artikel",8718528020456,"STUKS","Buva deurbalk 8012 binnendr.","L=2400 mm excl sluitplaat","","HENS","SLOTEN","","","","BUVA DEURBALK","","Inventory","",false,"","",0,0,0,"",false,false,false,233.06,282,{"$f":"ROUND(AA170*(1-VLOOKUP(AF170,Discounts!C:E,3,0)),2)","v":233.06},null,40180,"O505"]
[8718528020463,"Artikel",8718528020463,"STUKS","Buva deurbalk 8034 buitendr.","L=2073 mm excl sluitplaat","","HENS","SLOTEN","","","","BUVA DEURBALK","","Inventory","",false,"","",0,0,0,"",false,false,false,233.06,282,{"$f":"ROUND(AA171*(1-VLOOKUP(AF171,Discounts!C:E,3,0)),2)","v":233.06},null,40180,"O505"]
[8718528020470,"Artikel",8718528020470,"STUKS","Buva deurbalk 8034 buitendr.","L=2250 mm excl sluitplaat","","HENS","SLOTEN","","","","BUVA DEURBALK","","Inventory","",false,"","",0,0,0,"",false,false,false,233.06,282,{"$f":"ROUND(AA172*(1-VLOOKUP(AF172,Discounts!C:E,3,0)),2)","v":233.06},null,40180,"O505"]
[8718528020487,"Artikel",8718528020487,"STUKS","Buva deurbalk 8034 buitendr.","L=2400 mm excl sluitplaat","","HENS","SLOTEN","","","","BUVA DEURBALK","","Inventory","",false,"","",0,0,0,"",false,false,false,233.06,282,{"$f":"ROUND(AA173*(1-VLOOKUP(AF173,Discounts!C:E,3,0)),2)","v":233.06},null,40180,"O505"]
[8718528020494,"Artikel",8718528020494,"STUKS","Buva deurbalk 8034 buitendr.","L=2600 mm excl sluitplaat","","HENS","SLOTEN","","","","BUVA DEURBALK","","Inventory","",false,"","",0,0,0,"",false,false,false,233.06,282,{"$f":"ROUND(AA174*(1-VLOOKUP(AF174,Discounts!C:E,3,0)),2)","v":233.06},null,40180,"O505"]
[8718528020500,"Artikel",8718528020500,"STUKS","Buva duoslot tbv L1/L3","","","HENS","SLOTEN","LUXBUITEN","","","SLOT","DUO SLOT","Inventory","",false,"","",0,0,0,"",false,false,false,269.42,326,{"$f":"ROUND(AA175*(1-VLOOKUP(AF175,Discounts!C:E,3,0)),2)","v":269.42},null,40650,"O505"]
[8718528020517,"Artikel",8718528020517,"STUKS","Buva duoslot tbv R2/R4","","","HENS","SLOTEN","LUXBUITEN","","","SLOT","DUO SLOT","Inventory","",false,"","",0,0,0,"",false,false,false,269.42,326,{"$f":"ROUND(AA176*(1-VLOOKUP(AF176,Discounts!C:E,3,0)),2)","v":269.42},null,40650,"O505"]
[8718528232002,"Artikel",8718528232002,"STUKS","MultiFin Gen2 F20-55-72 SB","vpl 1772 afg.dr 2 + 4","","HENS","SLOTEN","LUXBUITEN","","","SLOT","BUVA 6220/7220 SB","Inventory","",false,"","",0,0,0,"",false,false,false,143.8,174,{"$f":"ROUND(AA177*(1-VLOOKUP(AF177,Discounts!C:E,3,0)),2)","v":143.8},null,40750,"O500"]
[8718528232026,"Artikel",8718528232026,"STUKS","MultiFin Gen2 F20-55-72 SB","vpl 1772 afg.dr 1 + 3","","HENS","SLOTEN","LUXBUITEN","","","SLOT","BUVA 6220/7220 SB","Inventory","",false,"","",0,0,0,"",false,false,false,143.8,174,{"$f":"ROUND(AA178*(1-VLOOKUP(AF178,Discounts!C:E,3,0)),2)","v":143.8},null,40750,"O500"]
[8718528232088,"Artikel",8718528232088,"STUKS","MultiFin Gen2 F20-55-72 SB","vpl 2090 afg.dr 2 + 4","","HENS","SLOTEN","LUXBUITEN","","","SLOT","BUVA 6220/7220 SB","Inventory","",false,"","",0,0,0,"",false,false,false,143.8,174,{"$f":"ROUND(AA179*(1-VLOOKUP(AF179,Discounts!C:E,3,0)),2)","v":143.8},null,40750,"O500"]
[8718528232101,"Artikel",8718528232101,"STUKS","MultiFin Gen2 F20-55-72 SB","vpl 2090 afg.dr 1 + 3","","HENS","SLOTEN","LUXBUITEN","","","SLOT","BUVA 6220/7220 SB","Inventory","",false,"","",0,0,0,"",false,false,false,143.8,174,{"$f":"ROUND(AA180*(1-VLOOKUP(AF180,Discounts!C:E,3,0)),2)","v":143.8},null,40750,"O500"]
[8718528232163,"Artikel",8718528232163,"STUKS","MultiFin Gen2 F20-55-72 SB","vpl 1772 afg.dr 2 + 4","","HENS","SLOTEN","LUXBUITEN","","","SLOT","BUVA 6220/7220 SB","Inventory","",false,"","",0,0,0,"",false,false,false,143.8,174,{"$f":"ROUND(AA181*(1-VLOOKUP(AF181,Discounts!C:E,3,0)),2)","v":143.8},null,40750,"O500"]
[8718528232187,"Artikel",8718528232187,"STUKS","MultiFin Gen2 F20-55-72 SB","vpl 1772 afg.dr 1 + 3","","HENS","SLOTEN","LUXBUITEN","","","SLOT","BUVA 6220/7220 SB","Inventory","",false,"","",0,0,0,"",false,false,false,143.8,174,{"$f":"ROUND(AA182*(1-VLOOKUP(AF182,Discounts!C:E,3,0)),2)","v":143.8},null,40750,"O500"]
[8718528232248,"Artikel",8718528232248,"STUKS","MultiFin Gen2 F20-55-72 SB","vpl 2090 afg.dr 2 + 4","","HENS","SLOTEN","LUXBUITEN","","","SLOT","BUVA 6220/7220 SB","Inventory","",false,"","",0,0,0,"",false,false,false,143.8,174,{"$f":"ROUND(AA183*(1-VLOOKUP(AF183,Discounts!C:E,3,0)),2)","v":143.8},null,40750,"O500"]
[8718528232262,"Artikel",8718528232262,"STUKS","MultiFin Gen2 F20-55-72 SB","vpl 2090 afg.dr 1 + 3","","HENS","SLOTEN","LUXBUITEN","","","SLOT","BUVA 6220/7220 SB","Inventory","",false,"","",0,0,0,"",false,false,false,143.8,174,{"$f":"ROUND(AA184*(1-VLOOKUP(AF184,Discounts!C:E,3,0)),2)","v":143.8},null,40750,"O500"]
[8718528157053,"Artikel",8718528157053,"STUKS","SLIM tbv Buva 6220/7220/6320","*uitsluitend voor RDC*","see drawing 5386-09 v4","ACCESSOIRES","OVERIG","","","","INFREESMAL","","Inventory","",false,"","",0,0,0,"",false,false,false,85.95,104,{"$f":"ROUND(AA185*(1-VLOOKUP(AF185,Discounts!C:E,3,0)),2)","v":85.95},null,40980,"SD/SG"]
[8718528157060,"Artikel",8718528157060,"STUKS","SLIM tbv Buva 6220/7220/6320","","","ACCESSOIRES","OVERIG","","","","INFREESMAL","","Inventory","",false,"","",0,0,0,"",false,false,false,85.95,104,{"$f":"ROUND(AA186*(1-VLOOKUP(AF186,Discounts!C:E,3,0)),2)","v":85.95},null,40980,"SD/SG"]
[8718528231456,"Artikel",8718528231456,"STUKS","SLIM tbv Buva 6220/7220/6320S","SEN","","ACCESSOIRES","OVERIG","","","","INFREESMAL","","Inventory","",false,"","",0,0,0,"",false,false,false,85.95,104,{"$f":"ROUND(AA187*(1-VLOOKUP(AF187,Discounts!C:E,3,0)),2)","v":85.95},null,40980,"SD/SG"]
[8718528231463,"Artikel",8718528231463,"STUKS","SLIM tbv Buva 6220/7220/6320S","SEN *uitsluitend voor RDC*","","ACCESSOIRES","OVERIG","","","","INFREESMAL","","Inventory","",false,"","",0,0,0,"",false,false,false,85.95,104,{"$f":"ROUND(AA188*(1-VLOOKUP(AF188,Discounts!C:E,3,0)),2)","v":85.95},null,40980,"SD/SG"]
[8718528157077,"Artikel",8718528157077,"STUKS","SLIM tbv Buva 6220 DUO","","","ACCESSOIRES","OVERIG","","","","INFREESMAL","","Inventory","",false,"","",0,0,0,"",false,false,false,85.95,104,{"$f":"ROUND(AA189*(1-VLOOKUP(AF189,Discounts!C:E,3,0)),2)","v":85.95},null,40980,"SD/SG"]
[8718528297858,"Artikel",8718528297858,"STUKS","SLIM tbv Nemef 4900","*uitsluitend voor RDC*","","ACCESSOIRES","OVERIG","","","","INFREESMAL","","Inventory","",false,"","",0,0,0,"",false,false,false,85.95,104,{"$f":"ROUND(AA190*(1-VLOOKUP(AF190,Discounts!C:E,3,0)),2)","v":85.95},null,40980,"SD/SG"]
[8718528231470,"Artikel",8718528231470,"STUKS","SLIM tbv Buva Ergonomic","","","ACCESSOIRES","OVERIG","","","","INFREESMAL","","Inventory","",false,"","",0,0,0,"",false,false,false,85.95,104,{"$f":"ROUND(AA191*(1-VLOOKUP(AF191,Discounts!C:E,3,0)),2)","v":85.95},null,40980,"SD/SG"]
[8718528297841,"Artikel",8718528297841,"STUKS","SLIM tbv Buva 6220/7220/6320","*uitsluitend voor RDC*","","ACCESSOIRES","OVERIG","","","","INFREESMAL","","Inventory","",false,"","",0,0,0,"",false,false,false,85.95,104,{"$f":"ROUND(AA192*(1-VLOOKUP(AF192,Discounts!C:E,3,0)),2)","v":85.95},null,40980,"SD/SG"]
[8718528297865,"Artikel",8718528297865,"STUKS","SLIM tbv KFV 4500-4900 W268","*uitsluitend voor RDC*","","ACCESSOIRES","OVERIG","","","","INFREESMAL","","Inventory","",false,"","",0,0,0,"",false,false,false,85.95,104,{"$f":"ROUND(AA193*(1-VLOOKUP(AF193,Discounts!C:E,3,0)),2)","v":85.95},null,40980,"SD/SG"]
[8718528231562,"Artikel",8718528231562,"STUKS","SLIM tbv KFV 5500S W269/W270","","","ACCESSOIRES","OVERIG","","","","INFREESMAL","","Inventory","",false,"","",0,0,0,"",false,false,false,85.95,104,{"$f":"ROUND(AA194*(1-VLOOKUP(AF194,Discounts!C:E,3,0)),2)","v":85.95},null,40980,"SD/SG"]
[8718528232958,"Artikel",8718528232958,"STUKS","SLIM tbv Buva MultiFin","acc. drawing 0888-21","","ACCESSOIRES","OVERIG","","","","INFREESMAL","","Inventory","",false,"","",0,0,0,"",false,false,false,85.95,104,{"$f":"ROUND(AA195*(1-VLOOKUP(AF195,Discounts!C:E,3,0)),2)","v":85.95},null,40980,"SD/SG"]
[8718528356166,"Artikel",8718528356166,"STUKS","Sluitkom infreesmal","tbv Renovatie Multifin Gen2","sluitkom 6025+ en 2x InLine+bijzetkommen vlgs tek.5046-24","ACCESSOIRES","OVERIG","","","","INFREESMAL","","Inventory","",false,"","",0,0,0,"",false,false,false,85.95,104,{"$f":"ROUND(AA196*(1-VLOOKUP(AF196,Discounts!C:E,3,0)),2)","v":85.95},null,40980,"SD/SG"]
[8718528115510,"Artikel",8718528115510,"STUKS","Glas-in-lood model 1546-1","1 ruit, d=25 mm, U=1,4","","GLAS","","LUXBUITEN","VD","1546-1","GLAS-IN-LOOD","","Inventory","",false,"","",0,0,0,"",false,false,false,286.78,347,{"$f":"ROUND(AA197*(1-VLOOKUP(AF197,Discounts!C:E,3,0)),2)","v":286.78},null,43810,"P106"]
[8718528157275,"Artikel",8718528157275,"STUKS","Blank isolatieglas tbv WK1903","880x2115","","GLAS","","LUXBUITEN","VD","1903","BLANK","ISOLATIEGLAS","Inventory","",false,"","",0,0,0,"",false,false,false,136.36,165,{"$f":"ROUND(AA198*(1-VLOOKUP(AF198,Discounts!C:E,3,0)),2)","v":136.36},null,43840,"P106"]
[8718528157282,"Artikel",8718528157282,"STUKS","Blank isolatieglas tbv WK1903","930x2115","","GLAS","","LUXBUITEN","VD","1903","BLANK","ISOLATIEGLAS","Inventory","",false,"","",0,0,0,"",false,false,false,136.36,165,{"$f":"ROUND(AA199*(1-VLOOKUP(AF199,Discounts!C:E,3,0)),2)","v":136.36},null,43840,"P106"]
[8718528157299,"Artikel",8718528157299,"STUKS","Blank isolatieglas tbv WK1903","880x2340","","GLAS","","LUXBUITEN","VD","1903","BLANK","ISOLATIEGLAS","Inventory","",false,"","",0,0,0,"",false,false,false,136.36,165,{"$f":"ROUND(AA200*(1-VLOOKUP(AF200,Discounts!C:E,3,0)),2)","v":136.36},null,43840,"P106"]
[8718528157305,"Artikel",8718528157305,"STUKS","Blank isolatieglas tbv WK1903","930x2340","","GLAS","","LUXBUITEN","VD","1903","BLANK","ISOLATIEGLAS","Inventory","",false,"","",0,0,0,"",false,false,false,136.36,165,{"$f":"ROUND(AA201*(1-VLOOKUP(AF201,Discounts!C:E,3,0)),2)","v":136.36},null,43840,"P106"]
[8718528157312,"Artikel",8718528157312,"STUKS","Blank isolatieglas tbv WK1904","880x2115","","GLAS","","LUXBUITEN","VD","1904","BLANK","ISOLATIEGLAS","Inventory","",false,"","",0,0,0,"",false,false,false,136.36,165,{"$f":"ROUND(AA202*(1-VLOOKUP(AF202,Discounts!C:E,3,0)),2)","v":136.36},null,43930,"P106"]
[8718528157329,"Artikel",8718528157329,"STUKS","Blank isolatieglas tbv WK1904","930x2115","","GLAS","","LUXBUITEN","VD","1904","BLANK","ISOLATIEGLAS","Inventory","",false,"","",0,0,0,"",false,false,false,136.36,165,{"$f":"ROUND(AA203*(1-VLOOKUP(AF203,Discounts!C:E,3,0)),2)","v":136.36},null,43930,"P106"]
[8718528157336,"Artikel",8718528157336,"STUKS","Blank isolatieglas tbv WK1904","880x2340","","GLAS","","LUXBUITEN","VD","1904","BLANK","ISOLATIEGLAS","Inventory","",false,"","",0,0,0,"",false,false,false,136.36,165,{"$f":"ROUND(AA204*(1-VLOOKUP(AF204,Discounts!C:E,3,0)),2)","v":136.36},null,43930,"P106"]
[8718528157343,"Artikel",8718528157343,"STUKS","Blank isolatieglas tbv WK1904","930x2340","","GLAS","","LUXBUITEN","VD","1904","BLANK","ISOLATIEGLAS","Inventory","",false,"","",0,0,0,"",false,false,false,136.36,165,{"$f":"ROUND(AA205*(1-VLOOKUP(AF205,Discounts!C:E,3,0)),2)","v":136.36},null,43930,"P106"]
[8718528058701,"Artikel",8718528058701,"STUKS","Veiligheidsrozetten Gold","met ktb","","HENS","BESLAG","","","","VEILIGHEIDSROZET","","Inventory","",false,"","",0,0,0,"",false,false,false,156.2,189,{"$f":"ROUND(AA206*(1-VLOOKUP(AF206,Discounts!C:E,3,0)),2)","v":156.2},null,45020,"O115"]
[8718528058770,"Artikel",8718528058770,"STUKS","Beldrukker Cloud PVD Chrome","","","HENS","BESLAG","","","","BELDRUKKER","CLOUD","Inventory","",false,"","",0,0,0,"",false,false,false,91.74,111,{"$f":"ROUND(AA207*(1-VLOOKUP(AF207,Discounts!C:E,3,0)),2)","v":91.74},null,45060,"O115"]
[8718528058664,"Artikel",8718528058664,"STUKS","Beldrukker Disc RVS","","","HENS","BESLAG","","","","BELDRUKKER","DISC","Inventory","",false,"","",0,0,0,"RVS",false,false,false,48.76,59,{"$f":"ROUND(AA208*(1-VLOOKUP(AF208,Discounts!C:E,3,0)),2)","v":48.76},null,45070,"O115"]
[8718528058787,"Artikel",8718528058787,"STUKS","Beldrukker Spot RVS","","","HENS","BESLAG","","","","BELDRUKKER","SPOT","Inventory","",false,"","",0,0,0,"RVS",false,false,false,59.5,72,{"$f":"ROUND(AA209*(1-VLOOKUP(AF209,Discounts!C:E,3,0)),2)","v":59.5},null,45080,"O115"]
[8718528307373,"Artikel",8718528307373,"STUKS","Briefplaat Flow RVS","","","HENS","BESLAG","","","","BRIEFPLAAT","FLOW","Inventory","",false,"","",0,0,0,"RVS",false,false,false,106.61,129,{"$f":"ROUND(AA210*(1-VLOOKUP(AF210,Discounts!C:E,3,0)),2)","v":106.61},null,45090,"O115"]
[8718528307335,"Artikel",8718528307335,"STUKS","Briefplaat River RVS","","","HENS","BESLAG","","","","BRIEFPLAAT","RIVER","Inventory","",false,"","",0,0,0,"RVS",false,false,false,115.7,140,{"$f":"ROUND(AA211*(1-VLOOKUP(AF211,Discounts!C:E,3,0)),2)","v":115.7},null,45100,"O115"]
[8718528058817,"Artikel",8718528058817,"STUKS","Tochtborstel met afdekplaat","Ocean PVD Gold","","HENS","BESLAG","","","","TOCHTBORSTEL","OCEAN","Inventory","",false,"","",0,0,0,"",false,false,false,153.72,186,{"$f":"ROUND(AA212*(1-VLOOKUP(AF212,Discounts!C:E,3,0)),2)","v":153.72},null,45110,"O115"]
[8718528307359,"Artikel",8718528307359,"STUKS","Tochtborstel Stream RVS","vierkant","","HENS","BESLAG","","","","TOCHTBORSTEL","STREAM","Inventory","",false,"","",0,0,0,"RVS",false,false,false,70.25,85,{"$f":"ROUND(AA213*(1-VLOOKUP(AF213,Discounts!C:E,3,0)),2)","v":70.25},null,45120,"O115"]
[8718528307397,"Artikel",8718528307397,"STUKS","Tochtborstel Shore RVS","rond","","HENS","BESLAG","","","","TOCHTBORSTEL","SHORE","Inventory","",false,"","",0,0,0,"RVS",false,false,false,70.25,85,{"$f":"ROUND(AA214*(1-VLOOKUP(AF214,Discounts!C:E,3,0)),2)","v":70.25},null,45130,"O115"]
[8718528307205,"Artikel",8718528307205,"STUKS","Voordeurknop Stone RVS","","","HENS","BESLAG","","","","VOORDEURKNOP","STONE","Inventory","",false,"","",0,0,0,"RVS",false,false,false,57.02,69,{"$f":"ROUND(AA215*(1-VLOOKUP(AF215,Discounts!C:E,3,0)),2)","v":57.02},null,45140,"O115"]
[8718528307229,"Artikel",8718528307229,"STUKS","Voordeurknop Block RVS","","","HENS","BESLAG","","","","VOORDEURKNOP","BLOCK","Inventory","",false,"","",0,0,0,"RVS",false,false,false,65.29,79,{"$f":"ROUND(AA216*(1-VLOOKUP(AF216,Discounts!C:E,3,0)),2)","v":65.29},null,45150,"O115"]
[8718528059135,"Artikel",8718528059135,"STUKS","Deurgreep Smart RVS 700 mm","","","HENS","BESLAG","","","","DEURGREEP","SMART","Inventory","",false,"","",0,0,0,"RVS",false,false,false,103.31,125,{"$f":"ROUND(AA217*(1-VLOOKUP(AF217,Discounts!C:E,3,0)),2)","v":103.31},null,45170,"O115"]
[8718528307298,"Artikel",8718528307298,"STUKS","Deurgreep Smart RVS 700 mm","","","HENS","BESLAG","","","","DEURGREEP","SMART","Inventory","",false,"","",0,0,0,"RVS",false,false,false,103.31,125,{"$f":"ROUND(AA218*(1-VLOOKUP(AF218,Discounts!C:E,3,0)),2)","v":103.31},null,45170,"O115"]
[8718528307274,"Artikel",8718528307274,"STUKS","Deurgreep Smart RVS 400 mm","","","HENS","BESLAG","","","","DEURGREEP","SMART","Inventory","",false,"","",0,0,0,"RVS",false,false,false,63.64,77,{"$f":"ROUND(AA219*(1-VLOOKUP(AF219,Discounts!C:E,3,0)),2)","v":63.64},null,45180,"O115"]
[8718528046005,"Artikel",8718528046005,"STUKS","Deurgreep Channel RVS 300mm","","","HENS","BESLAG","","","","DEURGREEP","CHANNEL","Inventory","",false,"","",0,0,0,"RVS",false,false,false,86.78,105,{"$f":"ROUND(AA220*(1-VLOOKUP(AF220,Discounts!C:E,3,0)),2)","v":86.78},null,45190,"O115"]
[8718528307311,"Artikel",8718528307311,"STUKS","Deurgreep Channel RVS 300mm","","","HENS","BESLAG","","","","DEURGREEP","CHANNEL","Inventory","",false,"","",0,0,0,"RVS",false,false,false,86.78,105,{"$f":"ROUND(AA221*(1-VLOOKUP(AF221,Discounts!C:E,3,0)),2)","v":86.78},null,45190,"O115"]
[8718528058688,"Artikel",8718528058688,"STUKS","Kierstandhouder Lock RVS","","","HENS","BESLAG","","","","KIERSTANDHOUDER","LOCK","Inventory","",false,"","",0,0,0,"RVS",false,false,false,71.9,87,{"$f":"ROUND(AA222*(1-VLOOKUP(AF222,Discounts!C:E,3,0)),2)","v":71.9},null,45200,"O115"]
[8718528065143,"Artikel",8718528065143,"STUKS","TriComfort®FSC® 935x2340 40mm","inkortbaar tot 815x2220",", FSC Mix 70% CU-COC 800339","DEUR","VLAK","VLAK","TC","3100","","","Inventory","FSCMTI",true,"","",2340,935,40,"",false,false,false,598.35,724,{"$f":"ROUND(AA223*(1-VLOOKUP(AF223,Discounts!C:E,3,0)),2)","v":598.35},null,45220,"D050"]
[8718528058916,"Artikel",8718528058916,"STUKS","Invisible scharnier Medium","mat chroom, afm. 111x29mm","","HENS","BESLAG","","","","SCHARNIER","","Inventory","",false,"","",0,0,0,"",false,false,false,73.55,89,{"$f":"ROUND(AA224*(1-VLOOKUP(AF224,Discounts!C:E,3,0)),2)","v":73.55},null,48450,"O500"]
[8718528075418,"Artikel",8718528075418,"STUKS","TriComfort®FSC® 935x2340 54mm","inkortbaar tot 815x2220",", FSC Mix 70% CU-COC 800339","DEUR","VLAK","VLAK","TC","3100","","","Inventory","FSCMTI",true,"","",0,0,54,"",false,false,false,671.9,813,{"$f":"ROUND(AA225*(1-VLOOKUP(AF225,Discounts!C:E,3,0)),2)","v":671.9},null,48460,"D050"]
[8718528230480,"Artikel",8718528230480,"STUKS","Set brandwerende slotplaatjes","hoofdkast pc 55 (set 4)","","HENS","SLOTEN","","","","BRANDW. PLAATJES","","Inventory","",false,"","",0,0,0,"",false,false,false,19.83,24,{"$f":"ROUND(AA226*(1-VLOOKUP(AF226,Discounts!C:E,3,0)),2)","v":19.83},null,49200,"O505"]
[8718528230497,"Artikel",8718528230497,"STUKS","Set brandwerende slotplaatjes","hoofdkast pc 72 (set 1)","","HENS","SLOTEN","","","","BRANDW. PLAATJES","","Inventory","",false,"","",0,0,0,"",false,false,false,19.83,24,{"$f":"ROUND(AA227*(1-VLOOKUP(AF227,Discounts!C:E,3,0)),2)","v":19.83},null,49200,"O505"]
[8718528306444,"Artikel",8718528306444,"STUKS","Set brandwerende slotplaatjes","hoofdkast pc 92 (set 17)","","HENS","SLOTEN","","","","BRANDW. PLAATJES","","Inventory","",false,"","",0,0,0,"",false,false,false,19.83,24,{"$f":"ROUND(AA228*(1-VLOOKUP(AF228,Discounts!C:E,3,0)),2)","v":19.83},null,49200,"O505"]
[8718528102824,"Artikel",8718528102824,"STUKS","BSW VH GL 818, 89x89x3mm","afgerond, compleet","","HENS","SCHARNIER","","","","SCHARNIER","BUVA","Inventory","",false,"","",0,0,0,"",false,false,false,9.92,12,{"$f":"ROUND(AA229*(1-VLOOKUP(AF229,Discounts!C:E,3,0)),2)","v":9.92},null,49250,"O505"]
[8718528102862,"Artikel",8718528102862,"STUKS","Buva Atlas scharnier 89x89 ai","NW gelagerd deurhelft","","HENS","SCHARNIER","","","","SCHARNIER","BUVA","Inventory","",false,"","",0,0,0,"",false,false,false,9.92,12,{"$f":"ROUND(AA230*(1-VLOOKUP(AF230,Discounts!C:E,3,0)),2)","v":9.92},null,49250,"O505"]
[8718528102879,"Artikel",8718528102879,"STUKS","Buva Atlas scharnier 89x89 ai","NW gelagerd compleet","","HENS","SCHARNIER","","","","SCHARNIER","BUVA","Inventory","",false,"","",0,0,0,"",false,false,false,9.92,12,{"$f":"ROUND(AA231*(1-VLOOKUP(AF231,Discounts!C:E,3,0)),2)","v":9.92},null,49250,"O505"]
[8718528106396,"Artikel",8718528106396,"STUKS","S2 scharnier 89x80x3 Optimaxx","extra doorgezet Dr 2+4 compl.","","HENS","SCHARNIER","","","","SCHARNIER","BUVA","Inventory","",false,"","",0,0,0,"",false,false,false,9.92,12,{"$f":"ROUND(AA232*(1-VLOOKUP(AF232,Discounts!C:E,3,0)),2)","v":9.92},null,49250,"O505"]
[8718528102749,"Artikel",8718528102749,"STUKS","Axa Smart Easyfix Topc. 89x89","1687-09-23/7V compleet","","HENS","SCHARNIER","","","","SCHARNIER","AXA","Inventory","",false,"","",0,0,0,"",false,false,false,9.92,12,{"$f":"ROUND(AA233*(1-VLOOKUP(AF233,Discounts!C:E,3,0)),2)","v":9.92},null,49260,"O505"]
[8718528102787,"Artikel",8718528102787,"STUKS","Axa Smart Easyfix Topc. 89x89","1687-09-23/7V deurhelft","","HENS","SCHARNIER","","","","SCHARNIER","AXA","Inventory","",false,"","",0,0,0,"",false,false,false,9.92,12,{"$f":"ROUND(AA234*(1-VLOOKUP(AF234,Discounts!C:E,3,0)),2)","v":9.92},null,49260,"O505"]
[8718528102794,"Artikel",8718528102794,"STUKS","Axa Smart Easyfix Topc. 89x89","1687-09-23/7V kozijnhelft","","HENS","SCHARNIER","","","","SCHARNIER","AXA","Inventory","",false,"","",0,0,0,"",false,false,false,9.92,12,{"$f":"ROUND(AA235*(1-VLOOKUP(AF235,Discounts!C:E,3,0)),2)","v":9.92},null,49260,"O505"]
[8718528102923,"Artikel",8718528102923,"STUKS","Axa Smart Easyfix 89x102 RENO","links, Al","","HENS","SCHARNIER","","","","SCHARNIER","AXA","Inventory","",false,"","",0,0,0,"",false,false,false,9.92,12,{"$f":"ROUND(AA236*(1-VLOOKUP(AF236,Discounts!C:E,3,0)),2)","v":9.92},null,49260,"O505"]
[8718528102930,"Artikel",8718528102930,"STUKS","Axa Smart Easyfix 89x102 RENO","rechts, Al","","HENS","SCHARNIER","","","","SCHARNIER","AXA","Inventory","",false,"","",0,0,0,"",false,false,false,9.92,12,{"$f":"ROUND(AA237*(1-VLOOKUP(AF237,Discounts!C:E,3,0)),2)","v":9.92},null,49260,"O505"]
[8718528106372,"Artikel",8718528106372,"STUKS","AxaSmart 1677-09-23/7 topcoat","89x89x3 compleet","","HENS","SCHARNIER","","","","SCHARNIER","AXA","Inventory","",false,"","",0,0,0,"",false,false,false,9.92,12,{"$f":"ROUND(AA238*(1-VLOOKUP(AF238,Discounts!C:E,3,0)),2)","v":9.92},null,49260,"O505"]
[8718528106358,"Artikel",8718528106358,"STUKS","S2 classic H600 KB F20-55-92","V02/07 vpl 1988 afgerond","Dr 1t/m4","HENS","SLOTEN","","","","SLOT","S2","Inventory","",false,"","",0,0,0,"",false,false,false,116.53,141,{"$f":"ROUND(AA239*(1-VLOOKUP(AF239,Discounts!C:E,3,0)),2)","v":116.53},null,49330,"O505"]
[8718528102527,"Artikel",8718528102527,"STUKS","Fuhr bovensluitstuk 312 t.b.v.","Fuhr 841","","HENS","SLOTEN","","","","BOVENSLUITSTUK","FUHR","Inventory","",false,"","",0,0,0,"",false,false,false,33.88,41,{"$f":"ROUND(AA240*(1-VLOOKUP(AF240,Discounts!C:E,3,0)),2)","v":33.88},null,53050,"O505"]
[8718528102541,"Artikel",8718528102541,"STUKS","Oploopplaat voor dagschoot","7 mm t.b.v. Fuhr 841","","HENS","SLOTEN","","","","OPLOOPPLAAT","FUHR","Inventory","",false,"","",0,0,0,"",false,false,false,4.96,6,{"$f":"ROUND(AA241*(1-VLOOKUP(AF241,Discounts!C:E,3,0)),2)","v":4.96},null,53060,"O505"]
[8718528020821,"Artikel",8718528020821,"SET","Set sluitpotten tbv Buva","Ergo-Duo","1x1478040+1x1478042+2x1478941+2x1478942","HENS","SLOTEN","","","","SLUITPOTTEN","BUVA","Inventory","",false,"","",0,0,0,"",false,false,false,42.98,52,{"$f":"ROUND(AA242*(1-VLOOKUP(AF242,Discounts!C:E,3,0)),2)","v":42.98},null,53070,"O505"]
[8718528086537,"Artikel",8718528086537,"STUKS","PVD-cleanerset","","","HENS","BESLAG","","","","","","Inventory","",false,"","",0,0,0,"",false,false,false,51.24,62,{"$f":"ROUND(AA243*(1-VLOOKUP(AF243,Discounts!C:E,3,0)),2)","v":51.24},null,53410,"O100"]
[8718528039076,"Artikel",8718528039076,"STUKS","Voordeurknop Mistral PVD","Bronze","","HENS","BESLAG","","","","VOORDEURKNOP","MISTRAL","Inventory","",false,"","",0,0,0,"",false,false,false,106.61,129,{"$f":"ROUND(AA244*(1-VLOOKUP(AF244,Discounts!C:E,3,0)),2)","v":106.61},null,53610,"O115"]
[8718528044841,"Artikel",8718528044841,"STUKS","Voordeurknop Mistral PVD","Nickel","","HENS","BESLAG","","","","VOORDEURKNOP","MISTRAL","Inventory","",false,"","",0,0,0,"",false,false,false,106.61,129,{"$f":"ROUND(AA245*(1-VLOOKUP(AF245,Discounts!C:E,3,0)),2)","v":106.61},null,53620,"O115"]
[8718528058947,"Artikel",8718528058947,"STUKS","Voordeurknop Mistral PVD","Chrome","","HENS","BESLAG","","","","VOORDEURKNOP","MISTRAL","Inventory","",false,"","",0,0,0,"",false,false,false,106.61,129,{"$f":"ROUND(AA246*(1-VLOOKUP(AF246,Discounts!C:E,3,0)),2)","v":106.61},null,53630,"O115"]
[8718528039045,"Artikel",8718528039045,"STUKS","Voordeurknop Sky PVD Bronze","","","HENS","BESLAG","","","","VOORDEURKNOP","SKY","Inventory","",false,"","",0,0,0,"",false,false,false,145.45,176,{"$f":"ROUND(AA247*(1-VLOOKUP(AF247,Discounts!C:E,3,0)),2)","v":145.45},null,53640,"O115"]
[8718528058954,"Artikel",8718528058954,"STUKS","Voordeurknop Sky PVD Nickel","","","HENS","BESLAG","","","","VOORDEURKNOP","SKY","Inventory","",false,"","",0,0,0,"",false,false,false,145.45,176,{"$f":"ROUND(AA248*(1-VLOOKUP(AF248,Discounts!C:E,3,0)),2)","v":145.45},null,53650,"O115"]
[8718528058961,"Artikel",8718528058961,"STUKS","Voordeurknop Sky PVD Chrome","","","HENS","BESLAG","","","","VOORDEURKNOP","SKY","Inventory","",false,"","",0,0,0,"",false,false,false,145.45,176,{"$f":"ROUND(AA249*(1-VLOOKUP(AF249,Discounts!C:E,3,0)),2)","v":145.45},null,53660,"O115"]
[8718528058718,"Artikel",8718528058718,"STUKS","Veiligheidsrozetten Bronze","met ktb","","HENS","BESLAG","","","","VEILIGHEIDSROZET","","Inventory","",false,"","",0,0,0,"",false,false,false,156.2,189,{"$f":"ROUND(AA250*(1-VLOOKUP(AF250,Discounts!C:E,3,0)),2)","v":156.2},null,53700,"O115"]
[8718528058725,"Artikel",8718528058725,"STUKS","Veiligheidsrozetten Nickel","met ktb","","HENS","BESLAG","","","","VEILIGHEIDSROZET","","Inventory","",false,"","",0,0,0,"",false,false,false,156.2,189,{"$f":"ROUND(AA251*(1-VLOOKUP(AF251,Discounts!C:E,3,0)),2)","v":156.2},null,53710,"O115"]
[8718528058732,"Artikel",8718528058732,"STUKS","Veiligheidsrozetten Chrome","met ktb","","HENS","BESLAG","","","","VEILIGHEIDSROZET","","Inventory","",false,"","",0,0,0,"",false,false,false,156.2,189,{"$f":"ROUND(AA252*(1-VLOOKUP(AF252,Discounts!C:E,3,0)),2)","v":156.2},null,53720,"O115"]
[8718528058749,"Artikel",8718528058749,"STUKS","Veiligheidsrozetten PVD Chrome","vierkant","","HENS","BESLAG","","","","VEILIGHEIDSROZET","","Inventory","",false,"","",0,0,0,"",false,false,false,181.82,220,{"$f":"ROUND(AA253*(1-VLOOKUP(AF253,Discounts!C:E,3,0)),2)","v":181.82},null,53730,"O115"]
[8718528134238,"Artikel",8718528134238,"STUKS","Veiligheidsrozet PVD Chrome","vierkant met ktb","","HENS","BESLAG","","","","VEILIGHEIDSROZET","","Inventory","",false,"","",0,0,0,"",false,false,false,181.82,220,{"$f":"ROUND(AA254*(1-VLOOKUP(AF254,Discounts!C:E,3,0)),2)","v":181.82},null,53730,"O115"]
[8718528040812,"Artikel",8718528040812,"STUKS","Beldrukker Cool PVD Bronze","","","HENS","BESLAG","","","","BELDRUKKER","COOL","Inventory","",false,"","",0,0,0,"",false,false,false,54.55,66,{"$f":"ROUND(AA255*(1-VLOOKUP(AF255,Discounts!C:E,3,0)),2)","v":54.55},null,53740,"O115"]
[8718528044865,"Artikel",8718528044865,"STUKS","Beldrukker Cool PVD Nickel","","","HENS","BESLAG","","","","BELDRUKKER","COOL","Inventory","",false,"","",0,0,0,"",false,false,false,54.55,66,{"$f":"ROUND(AA256*(1-VLOOKUP(AF256,Discounts!C:E,3,0)),2)","v":54.55},null,53750,"O115"]
[8718528040850,"Artikel",8718528040850,"STUKS","Beldrukker Sunny PVD Bronze","","","HENS","BESLAG","","","","BELDRUKKER","SUNNY","Inventory","",false,"","",0,0,0,"",false,false,false,54.55,66,{"$f":"ROUND(AA257*(1-VLOOKUP(AF257,Discounts!C:E,3,0)),2)","v":54.55},null,53760,"O115"]
[8718528044858,"Artikel",8718528044858,"STUKS","Beldrukker Sunny PVD Nickel","","","HENS","BESLAG","","","","BELDRUKKER","SUNNY","Inventory","",false,"","",0,0,0,"",false,false,false,54.55,66,{"$f":"ROUND(AA258*(1-VLOOKUP(AF258,Discounts!C:E,3,0)),2)","v":54.55},null,53770,"O115"]
[8718528058763,"Artikel",8718528058763,"STUKS","Beldrukker Sunny PVD Chrome","","","HENS","BESLAG","","","","BELDRUKKER","SUNNY","Inventory","",false,"","",0,0,0,"",false,false,false,54.55,66,{"$f":"ROUND(AA259*(1-VLOOKUP(AF259,Discounts!C:E,3,0)),2)","v":54.55},null,53780,"O115"]
[8718528040904,"Artikel",8718528040904,"STUKS","Deurklopper Spring PVD Bronze","","","HENS","BESLAG","","","","DEURKLOPPER","SPRING","Inventory","",false,"","",0,0,0,"",false,false,false,238.84,289,{"$f":"ROUND(AA260*(1-VLOOKUP(AF260,Discounts!C:E,3,0)),2)","v":238.84},null,53790,"O115"]
[8718528044926,"Artikel",8718528044926,"STUKS","Deurklopper Spring PVD Nickel","","","HENS","BESLAG","","","","DEURKLOPPER","SPRING","Inventory","",false,"","",0,0,0,"",false,false,false,238.84,289,{"$f":"ROUND(AA261*(1-VLOOKUP(AF261,Discounts!C:E,3,0)),2)","v":238.84},null,53800,"O115"]
[8718528058596,"Artikel",8718528058596,"STUKS","Deurklopper Spring PVD Chrome","","","HENS","BESLAG","","","","DEURKLOPPER","SPRING","Inventory","",false,"","",0,0,0,"",false,false,false,238.84,289,{"$f":"ROUND(AA262*(1-VLOOKUP(AF262,Discounts!C:E,3,0)),2)","v":238.84},null,53810,"O115"]
[8718528039281,"Artikel",8718528039281,"STUKS","Briefplaat River PVD Bronze","","","HENS","BESLAG","","","","BRIEFPLAAT","RIVER","Inventory","",false,"","",0,0,0,"",false,false,false,228.1,276,{"$f":"ROUND(AA263*(1-VLOOKUP(AF263,Discounts!C:E,3,0)),2)","v":228.1},null,53820,"O115"]
[8718528044902,"Artikel",8718528044902,"STUKS","Briefplaat River PVD Nickel","","","HENS","BESLAG","","","","BRIEFPLAAT","RIVER","Inventory","",false,"","",0,0,0,"",false,false,false,228.1,276,{"$f":"ROUND(AA264*(1-VLOOKUP(AF264,Discounts!C:E,3,0)),2)","v":228.1},null,53830,"O115"]
[8718528058985,"Artikel",8718528058985,"STUKS","Briefplaat River PVD Chrome","","","HENS","BESLAG","","","","BRIEFPLAAT","RIVER","Inventory","",false,"","",0,0,0,"",false,false,false,228.1,276,{"$f":"ROUND(AA265*(1-VLOOKUP(AF265,Discounts!C:E,3,0)),2)","v":228.1},null,53840,"O115"]
[8718528058794,"Artikel",8718528058794,"STUKS","Tochtborstel met afdekplaat","Ocean PVD Bronze","","HENS","BESLAG","","","","TOCHTBORSTEL","OCEAN","Inventory","",false,"","",0,0,0,"",false,false,false,153.72,186,{"$f":"ROUND(AA266*(1-VLOOKUP(AF266,Discounts!C:E,3,0)),2)","v":153.72},null,53880,"O115"]
[8718528058824,"Artikel",8718528058824,"STUKS","Tochtborstel met afdekplaat","Ocean PVD Nickel","","HENS","BESLAG","","","","TOCHTBORSTEL","OCEAN","Inventory","",false,"","",0,0,0,"",false,false,false,153.72,186,{"$f":"ROUND(AA267*(1-VLOOKUP(AF267,Discounts!C:E,3,0)),2)","v":153.72},null,53890,"O115"]
[8718528058800,"Artikel",8718528058800,"STUKS","Tochtborstel met afdekplaat","Ocean PVD Chrome","","HENS","BESLAG","","","","TOCHTBORSTEL","OCEAN","Inventory","",false,"","",0,0,0,"",false,false,false,153.72,186,{"$f":"ROUND(AA268*(1-VLOOKUP(AF268,Discounts!C:E,3,0)),2)","v":153.72},null,53900,"O115"]
[8718528038918,"Artikel",8718528038918,"STUKS","Deurkruk Frost PVD Bronze","links","","HENS","BESLAG","","","","DEURKRUK LIFETIME","FROST","Inventory","",false,"","",0,0,0,"",false,false,false,123.14,149,{"$f":"ROUND(AA269*(1-VLOOKUP(AF269,Discounts!C:E,3,0)),2)","v":123.14},null,53910,"O115"]
[8718528038925,"Artikel",8718528038925,"STUKS","Deurkruk Frost PVD Bronze","rechts","","HENS","BESLAG","","","","DEURKRUK LIFETIME","FROST","Inventory","",false,"","",0,0,0,"",false,false,false,123.14,149,{"$f":"ROUND(AA270*(1-VLOOKUP(AF270,Discounts!C:E,3,0)),2)","v":123.14},null,53910,"O115"]
[8718528044872,"Artikel",8718528044872,"STUKS","Deurkruk Frost PVD Nickel","links","","HENS","BESLAG","","","","DEURKRUK LIFETIME","FROST","Inventory","",false,"","",0,0,0,"",false,false,false,123.14,149,{"$f":"ROUND(AA271*(1-VLOOKUP(AF271,Discounts!C:E,3,0)),2)","v":123.14},null,53920,"O115"]
[8718528044889,"Artikel",8718528044889,"STUKS","Deurkruk Frost PVD Nickel","rechts","","HENS","BESLAG","","","","DEURKRUK LIFETIME","FROST","Inventory","",false,"","",0,0,0,"",false,false,false,123.14,149,{"$f":"ROUND(AA272*(1-VLOOKUP(AF272,Discounts!C:E,3,0)),2)","v":123.14},null,53920,"O115"]
[8718528058923,"Artikel",8718528058923,"STUKS","Deurkruk Frost PVD Chrome","links","","HENS","BESLAG","","","","DEURKRUK LIFETIME","FROST","Inventory","",false,"","",0,0,0,"",false,false,false,123.14,149,{"$f":"ROUND(AA273*(1-VLOOKUP(AF273,Discounts!C:E,3,0)),2)","v":123.14},null,53930,"O115"]
[8718528058930,"Artikel",8718528058930,"STUKS","Deurkruk Frost PVD Chrome","rechts","","HENS","BESLAG","","","","DEURKRUK LIFETIME","FROST","Inventory","",false,"","",0,0,0,"",false,false,false,123.14,149,{"$f":"ROUND(AA274*(1-VLOOKUP(AF274,Discounts!C:E,3,0)),2)","v":123.14},null,53930,"O115"]
[8718528058848,"Artikel",8718528058848,"STUKS","Deurkruk Bubble PVD Bronze","links + rechts","","HENS","BESLAG","","","","DEURKRUK LIFETIME","BUBBLE","Inventory","",false,"","",0,0,0,"",false,false,false,85.12,103,{"$f":"ROUND(AA275*(1-VLOOKUP(AF275,Discounts!C:E,3,0)),2)","v":85.12},null,53940,"O115"]
[8718528058855,"Artikel",8718528058855,"STUKS","Deurkruk Bubble PVD Nickel","links + rechts","","HENS","BESLAG","LUXBUITEN","","","DEURKRUK LIFETIME","BUBBLE","Inventory","",false,"","",0,0,0,"",false,false,false,85.12,103,{"$f":"ROUND(AA276*(1-VLOOKUP(AF276,Discounts!C:E,3,0)),2)","v":85.12},null,53950,"O115"]
[8718528156759,"Artikel",8718528156759,"STUKS","Deurkruk Breeze PVD Bronze","L/R","","HENS","BESLAG","LUXBUITEN","","","DEURKRUK LIFETIME","BREEZE","Inventory","",false,"","",0,0,0,"",false,false,false,89.26,108,{"$f":"ROUND(AA277*(1-VLOOKUP(AF277,Discounts!C:E,3,0)),2)","v":89.26},null,53960,"O115"]
[8718528156797,"Artikel",8718528156797,"STUKS","Deurkruk Breeze PVD Nickel","L/R","","HENS","BESLAG","LUXBUITEN","","","DEURKRUK LIFETIME","BREEZE","Inventory","",false,"","",0,0,0,"",false,false,false,89.26,108,{"$f":"ROUND(AA278*(1-VLOOKUP(AF278,Discounts!C:E,3,0)),2)","v":89.26},null,53970,"O115"]
[8718528059074,"Artikel",8718528059074,"STUKS","Deurkruk Breeze PVD Chrome","links","","HENS","BESLAG","LUXBUITEN","","","DEURKRUK LIFETIME","BREEZE","Inventory","",false,"","",0,0,0,"",false,false,false,89.26,108,{"$f":"ROUND(AA279*(1-VLOOKUP(AF279,Discounts!C:E,3,0)),2)","v":89.26},null,53980,"O115"]
[8718528059081,"Artikel",8718528059081,"STUKS","Deurkruk Breeze PVD Chrome","rechts","","HENS","BESLAG","LUXBUITEN","","","DEURKRUK LIFETIME","BREEZE","Inventory","",false,"","",0,0,0,"",false,false,false,89.26,108,{"$f":"ROUND(AA280*(1-VLOOKUP(AF280,Discounts!C:E,3,0)),2)","v":89.26},null,53980,"O115"]
[8718528156827,"Artikel",8718528156827,"STUKS","Deurkruk Breeze PVD Chrome","L/R","","HENS","BESLAG","LUXBUITEN","","","DEURKRUK LIFETIME","BREEZE","Inventory","",false,"","",0,0,0,"",false,false,false,89.26,108,{"$f":"ROUND(AA281*(1-VLOOKUP(AF281,Discounts!C:E,3,0)),2)","v":89.26},null,53980,"O115"]
[8718528103098,"Artikel",8718528103098,"STUKS","Los binnenrozet PVD Bronze","met ktb (52 mm)","","HENS","BESLAG","LUXBUITEN","","","LOS BINNENROZET","","Inventory","",false,"","",0,0,0,"",false,false,false,26.45,32,{"$f":"ROUND(AA282*(1-VLOOKUP(AF282,Discounts!C:E,3,0)),2)","v":26.45},null,53990,"O115"]
[8718528103074,"Artikel",8718528103074,"STUKS","Los binnenrozet PVD Nickel","met ktb (52 mm)","","HENS","BESLAG","LUXBUITEN","","","LOS BINNENROZET","","Inventory","",false,"","",0,0,0,"",false,false,false,26.45,32,{"$f":"ROUND(AA283*(1-VLOOKUP(AF283,Discounts!C:E,3,0)),2)","v":26.45},null,54000,"O115"]
[8718528103081,"Artikel",8718528103081,"STUKS","Los binnenrozet PVD Chrome","met ktb (52 mm)","","HENS","BESLAG","LUXBUITEN","","","LOS BINNENROZET","","Inventory","",false,"","",0,0,0,"",false,false,false,26.45,32,{"$f":"ROUND(AA284*(1-VLOOKUP(AF284,Discounts!C:E,3,0)),2)","v":26.45},null,54010,"O115"]
[8718528102596,"Artikel",8718528102596,"STUKS","VTS scharnierplaatje 1mm","transparant","","HENS","SCHARNIER","","","","","","Inventory","",false,"","",0,0,0,"",false,false,false,3.31,4,{"$f":"ROUND(AA285*(1-VLOOKUP(AF285,Discounts!C:E,3,0)),2)","v":3.31},null,54050,"O505"]
[8718528106402,"Artikel",8718528106402,"STUKS","Fuhr 841-N stolplijst U26x2087","T3 tbv loopdeur Dr.2+4","","HENS","SLOTEN","","","","SLOT","FUHR","Inventory","",false,"","",0,0,0,"",false,false,false,219.83,266,{"$f":"ROUND(AA286*(1-VLOOKUP(AF286,Discounts!C:E,3,0)),2)","v":219.83},null,54080,"O505"]
[8718528106419,"Artikel",8718528106419,"STUKS","Fuhr 841-N stolplijst U26x2087","T3 tbv loopdeur Dr.1+3","","HENS","SLOTEN","","","","SLOT","FUHR","Inventory","",false,"","",0,0,0,"",false,false,false,219.83,266,{"$f":"ROUND(AA287*(1-VLOOKUP(AF287,Discounts!C:E,3,0)),2)","v":219.83},null,54080,"O505"]
[8718528102534,"Artikel",8718528102534,"STUKS","Fuhr bovensluitstuk 612 t.b.v.","Fuhr 841","","HENS","SLOTEN","","","","BOVENSLUITSTUK","FUHR","Inventory","",false,"","",0,0,0,"",false,false,false,68.6,83,{"$f":"ROUND(AA288*(1-VLOOKUP(AF288,Discounts!C:E,3,0)),2)","v":68.6},null,54090,"O505"]
[8718528086551,"Artikel",8718528086551,"STUKS","Deurkruk Bubble PVD Chrome","L/R","","HENS","BESLAG","LUXBUITEN","","","DEURKRUK LIFETIME","BUBBLE","Inventory","",false,"","",0,0,0,"",false,false,false,85.12,103,{"$f":"ROUND(AA289*(1-VLOOKUP(AF289,Discounts!C:E,3,0)),2)","v":85.12},null,54310,"O115"]
[8718528086575,"Artikel",8718528086575,"STUKS","Briefplaat Lake Inox","","","HENS","BESLAG","LUXBUITEN","","","BRIEFPLAAT","LAKE","Inventory","",false,"","",0,0,0,"",false,false,false,52.07,63,{"$f":"ROUND(AA290*(1-VLOOKUP(AF290,Discounts!C:E,3,0)),2)","v":52.07},null,54320,"O115"]
[8718528086582,"Artikel",8718528086582,"STUKS","Tochtborstel met afdekplaat","Creek Inox","","HENS","BESLAG","LUXBUITEN","","","TOCHTBORSTEL","CREEK","Inventory","",false,"","",0,0,0,"",false,false,false,78.51,95,{"$f":"ROUND(AA291*(1-VLOOKUP(AF291,Discounts!C:E,3,0)),2)","v":78.51},null,54330,"O115"]
[8718528307182,"Artikel",8718528307182,"STUKS","Deurkrukstel Kosmos RVS","L/R","","HENS","BESLAG","LUXBUITEN","","","DEURKRUK LIFETIME","KOSMOS","Inventory","",false,"","",0,0,0,"RVS",false,false,false,61.98,75,{"$f":"ROUND(AA292*(1-VLOOKUP(AF292,Discounts!C:E,3,0)),2)","v":61.98},null,54350,"O110"]
[8718528335918,"Artikel",8718528335918,"STUKS","Deurkruk Kosmos RVS Rechts","","","HENS","BESLAG","LUXBUITEN","","","DEURKRUK LIFETIME","KOSMOS","Inventory","",false,"","",0,0,0,"RVS",false,false,false,61.98,75,{"$f":"ROUND(AA293*(1-VLOOKUP(AF293,Discounts!C:E,3,0)),2)","v":61.98},null,54350,"O110"]
[8718528335970,"Artikel",8718528335970,"STUKS","Deurkruk Kosmos RVS Links","","","HENS","BESLAG","LUXBUITEN","","","DEURKRUK LIFETIME","KOSMOS","Inventory","",false,"","",0,0,0,"RVS",false,false,false,61.98,75,{"$f":"ROUND(AA294*(1-VLOOKUP(AF294,Discounts!C:E,3,0)),2)","v":61.98},null,54350,"O110"]
[8718528086995,"Artikel",8718528086995,"STUKS","Driehoeksgreep RVS","","","HENS","BESLAG","LUXBUITEN","","","DRIEHOEKSGREEP","","Inventory","",false,"","",0,0,0,"RVS",false,false,false,228.93,277,{"$f":"ROUND(AA295*(1-VLOOKUP(AF295,Discounts!C:E,3,0)),2)","v":228.93},null,54900,"O115"]
[8718528134078,"Artikel",8718528134078,"STUKS","AC9201 (model WK6030) aanslagl","ten behoeve van binnendeuren","standaard, set a 2 stuks wit gegrond L=2450","ACCESSOIRES","AANSLAGLATTEN","","","","SLAGLATTEN","","Inventory","",false,"","",0,0,0,"",false,false,false,63.64,77,{"$f":"ROUND(AA296*(1-VLOOKUP(AF296,Discounts!C:E,3,0)),2)","v":63.64},null,57450,"R100"]
[8718528096055,"Artikel",8718528096055,"STUKS","WK042, 630x2015x38, bwh 244","PEFC-CS HW","V:RAL7035, vent.sl., isogl., solid/FJ","DEUR","BALKON","BALKON","BS","042","","","Inventory","HW",false,"","RAL 7035",2015,630,38,"",false,false,false,344.63,417,{"$f":"ROUND(AA297*(1-VLOOKUP(AF297,Discounts!C:E,3,0)),2)","v":344.63},null,57470,"E056"]
[8718528096062,"Artikel",8718528096062,"STUKS","WK042, 630x2115x38, bwh 244","PEFC-CS HW","V:RAL7035, vent.sl., isogl., solid/FJ","DEUR","BALKON","BALKON","BS","042","","","Inventory","HW",false,"","RAL 7035",2115,630,38,"",false,false,false,344.63,417,{"$f":"ROUND(AA298*(1-VLOOKUP(AF298,Discounts!C:E,3,0)),2)","v":344.63},null,57470,"E056"]
[8718528096109,"Artikel",8718528096109,"STUKS","WK042, 730x2115x38, bwh 244","PEFC-CS HW","V:RAL7035, vent.sl., isogl., solid/FJ","DEUR","BALKON","BALKON","BS","042","","","Inventory","HW",false,"","RAL 7035",2115,730,38,"",false,false,false,344.63,417,{"$f":"ROUND(AA299*(1-VLOOKUP(AF299,Discounts!C:E,3,0)),2)","v":344.63},null,57470,"E056"]
[8718528096116,"Artikel",8718528096116,"STUKS","WK042, 780x2015x38, bwh 244","PEFC-CS HW","V:RAL7035, vent.sl., isogl., solid/FJ","DEUR","BALKON","BALKON","BS","042","","","Inventory","HW",false,"","RAL 7035",2015,780,38,"",false,false,false,344.63,417,{"$f":"ROUND(AA300*(1-VLOOKUP(AF300,Discounts!C:E,3,0)),2)","v":344.63},null,57470,"E056"]
[8718528096123,"Artikel",8718528096123,"STUKS","WK042, 780x2115x38, bwh 244","PEFC-CS HW","V:RAL7035, vent.sl., isogl., solid/FJ","DEUR","BALKON","BALKON","BS","042","","","Inventory","HW",false,"","RAL 7035",2115,780,38,"",false,false,false,344.63,417,{"$f":"ROUND(AA301*(1-VLOOKUP(AF301,Discounts!C:E,3,0)),2)","v":344.63},null,57470,"E056"]
[8718528096130,"Artikel",8718528096130,"STUKS","WK042, 830x2015x38, bwh 244","PEFC-CS HW","V:RAL7035, vent.sl., isogl., solid/FJ","DEUR","BALKON","BALKON","BS","042","","","Inventory","HW",false,"","RAL 7035",2015,830,38,"",false,false,false,344.63,417,{"$f":"ROUND(AA302*(1-VLOOKUP(AF302,Discounts!C:E,3,0)),2)","v":344.63},null,57470,"E056"]
[8718528096147,"Artikel",8718528096147,"STUKS","WK042, 830x2115x38, bwh 244","PEFC-CS HW","V:RAL7035, vent.sl., isogl., solid/FJ","DEUR","BALKON","BALKON","BS","042","","","Inventory","HW",false,"","RAL 7035",2115,830,38,"",false,false,false,344.63,417,{"$f":"ROUND(AA303*(1-VLOOKUP(AF303,Discounts!C:E,3,0)),2)","v":344.63},null,57470,"E056"]
[8718528096161,"Artikel",8718528096161,"STUKS","WK042, 880x2115x38, bwh 244","PEFC-CS HW","V:RAL7035, vent.sl., isogl., solid/FJ","DEUR","BALKON","BALKON","BS","042","","","Inventory","HW",false,"","RAL 7035",2115,880,38,"",false,false,false,344.63,417,{"$f":"ROUND(AA304*(1-VLOOKUP(AF304,Discounts!C:E,3,0)),2)","v":344.63},null,57470,"E056"]
[8718528096178,"Artikel",8718528096178,"STUKS","WK042, 930x2015x38, bwh 244","PEFC-CS HW","V:RAL7035, vent.sl., isogl., solid/FJ","DEUR","BALKON","BALKON","BS","042","","","Inventory","HW",false,"","RAL 7035",2015,930,38,"",false,false,false,344.63,417,{"$f":"ROUND(AA305*(1-VLOOKUP(AF305,Discounts!C:E,3,0)),2)","v":344.63},null,57470,"E056"]
[8718528096185,"Artikel",8718528096185,"STUKS","WK042, 930x2115x38, bwh 244","PEFC-CS HW","V:RAL7035, vent.sl., isogl., solid/FJ","DEUR","BALKON","BALKON","BS","042","","","Inventory","HW",false,"","RAL 7035",2115,930,38,"",false,false,false,344.63,417,{"$f":"ROUND(AA306*(1-VLOOKUP(AF306,Discounts!C:E,3,0)),2)","v":344.63},null,57470,"E056"]
[8718528220030,"Artikel",8718528220030,"STUKS","WK042, 930x2115x38, bwh 244","PEFC-CS HW, NON-KOMO","V:RAL7035, vent.sl., isogl., solid/FJ","DEUR","BALKON","BALKON","BS","042","","","Inventory","HW",false,"","RAL 7035",2115,930,38,"",false,false,false,344.63,417,{"$f":"ROUND(AA307*(1-VLOOKUP(AF307,Discounts!C:E,3,0)),2)","v":344.63},null,57470,"E056"]
[8718528220887,"Artikel",8718528220887,"STUKS","WK042, 730x2015x38, bwh 244","PEFC-CS HW, NON-KOMO","V:RAL7035, vent.sl., isogl., solid/FJ","DEUR","BALKON","BALKON","BS","042","","","Inventory","HW",false,"","RAL 7035",2015,730,38,"",false,false,false,344.63,417,{"$f":"ROUND(AA308*(1-VLOOKUP(AF308,Discounts!C:E,3,0)),2)","v":344.63},null,57470,"E056"]
[8718528220894,"Artikel",8718528220894,"STUKS","WK042, 730x2115x38, bwh 244","PEFC-CS HW, NON-KOMO","V:RAL7035, vent.sl., isogl., solid/FJ","DEUR","BALKON","BALKON","BS","042","","","Inventory","HW",false,"","RAL 7035",2115,730,38,"",false,false,false,344.63,417,{"$f":"ROUND(AA309*(1-VLOOKUP(AF309,Discounts!C:E,3,0)),2)","v":344.63},null,57470,"E056"]
[8718528220948,"Artikel",8718528220948,"STUKS","WK042, 880x2115x38, bwh 244","PEFC-CS HW, NON-KOMO","V:RAL7035, vent.sl., isogl., solid/FJ","DEUR","BALKON","BALKON","BS","042","","","Inventory","HW",false,"","RAL 7035",2115,880,38,"",false,false,false,344.63,417,{"$f":"ROUND(AA310*(1-VLOOKUP(AF310,Discounts!C:E,3,0)),2)","v":344.63},null,57470,"E056"]
[8718528096192,"Artikel",8718528096192,"STUKS","WK042XL, 830x2340x38, bwh 269","PEFC-CS HW","V:RAL7035, vent.sl., isogl., solid/FJ","DEUR","BALKON","BALKON","BS","042","","","Inventory","HW",false,"","RAL 7035",2340,830,38,"",true,false,false,381.82,462,{"$f":"ROUND(AA311*(1-VLOOKUP(AF311,Discounts!C:E,3,0)),2)","v":381.82},null,57480,"E056"]
[8718528096208,"Artikel",8718528096208,"STUKS","WK042XL, 880x2340x38, bwh 269","PEFC-CS HW","V:RAL7035, vent.sl., isogl., solid/FJ","DEUR","BALKON","BALKON","BS","042","","","Inventory","HW",false,"","RAL 7035",2340,880,38,"",true,false,false,381.82,462,{"$f":"ROUND(AA312*(1-VLOOKUP(AF312,Discounts!C:E,3,0)),2)","v":381.82},null,57480,"E056"]
[8718528096215,"Artikel",8718528096215,"STUKS","WK042XL, 930x2340x38, bwh 269","PEFC-CS HW","V:RAL7035, vent.sl., isogl., solid/FJ","DEUR","BALKON","BALKON","BS","042","","","Inventory","HW",false,"","RAL 7035",2340,930,38,"",true,false,false,381.82,462,{"$f":"ROUND(AA313*(1-VLOOKUP(AF313,Discounts!C:E,3,0)),2)","v":381.82},null,57480,"E056"]
[8718528220047,"Artikel",8718528220047,"STUKS","WK042XL, 930x2340x38, bwh 269","PEFC-CS HW, NON-KOMO","V:RAL7035, vent.sl., isogl., solid/FJ","DEUR","BALKON","BALKON","BS","042","","","Inventory","HW",false,"","RAL 7035",2340,930,38,"",true,false,false,381.82,462,{"$f":"ROUND(AA314*(1-VLOOKUP(AF314,Discounts!C:E,3,0)),2)","v":381.82},null,57480,"E056"]
[8718528220955,"Artikel",8718528220955,"STUKS","WK042XL, 830x2340x38, bwh 269","PEFC-CS HW, NON-KOMO","V:RAL7035, vent.sl., isogl., solid/FJ","DEUR","BALKON","BALKON","BS","042","","","Inventory","HW",false,"","RAL 7035",2340,830,38,"",true,false,false,381.82,462,{"$f":"ROUND(AA315*(1-VLOOKUP(AF315,Discounts!C:E,3,0)),2)","v":381.82},null,57480,"E056"]
[8718528096222,"Artikel",8718528096222,"STUKS","WK046, 830x2015x38, bwh 664","PEFC-CS HW","V:RAL7035, vent.sl., isogl., solid/FJ","DEUR","BALKON","BALKON","BS","046","","","Inventory","HW",false,"","RAL 7035",2015,830,38,"",false,false,false,412.4,499,{"$f":"ROUND(AA316*(1-VLOOKUP(AF316,Discounts!C:E,3,0)),2)","v":412.4},null,57490,"E056"]
[8718528096239,"Artikel",8718528096239,"STUKS","WK046, 830x2115x38, bwh 664","PEFC-CS HW","V:RAL7035, vent.sl., isogl., solid/FJ","DEUR","BALKON","BALKON","BS","046","","","Inventory","HW",false,"","RAL 7035",2115,830,38,"",false,false,false,412.4,499,{"$f":"ROUND(AA317*(1-VLOOKUP(AF317,Discounts!C:E,3,0)),2)","v":412.4},null,57490,"E056"]
[8718528096246,"Artikel",8718528096246,"STUKS","WK046, 880x2015x38, bwh 664","PEFC-CS HW","V:RAL7035, vent.sl., isogl., solid/FJ","DEUR","BALKON","BALKON","BS","046","","","Inventory","HW",false,"","RAL 7035",2015,880,38,"",false,false,false,412.4,499,{"$f":"ROUND(AA318*(1-VLOOKUP(AF318,Discounts!C:E,3,0)),2)","v":412.4},null,57490,"E056"]
[8718528096260,"Artikel",8718528096260,"STUKS","WK046, 930x2015x38, bwh 664","PEFC-CS HW","V:RAL7035, vent.sl., isogl., solid/FJ","DEUR","BALKON","BALKON","BS","046","","","Inventory","HW",false,"","RAL 7035",2015,930,38,"",false,false,false,412.4,499,{"$f":"ROUND(AA319*(1-VLOOKUP(AF319,Discounts!C:E,3,0)),2)","v":412.4},null,57490,"E056"]
[8718528096277,"Artikel",8718528096277,"STUKS","WK046, 930x2115x38, bwh 664","PEFC-CS HW","V:RAL7035, vent.sl., isogl., solid/FJ","DEUR","BALKON","BALKON","BS","046","","","Inventory","HW",false,"","RAL 7035",2115,930,38,"",false,false,false,412.4,499,{"$f":"ROUND(AA320*(1-VLOOKUP(AF320,Discounts!C:E,3,0)),2)","v":412.4},null,57490,"E056"]
[8718528220078,"Artikel",8718528220078,"STUKS","WK046, 880x2115x38, bwh 664","PEFC-CS HW, NON-KOMO","V:RAL7035, vent.sl., isogl., solid/FJ","DEUR","BALKON","BALKON","BS","046","","","Inventory","HW",false,"","RAL 7035",2115,880,38,"",false,false,false,412.4,499,{"$f":"ROUND(AA321*(1-VLOOKUP(AF321,Discounts!C:E,3,0)),2)","v":412.4},null,57490,"E056"]
[8718528220085,"Artikel",8718528220085,"STUKS","WK046, 930x2015x38, bwh 664","PEFC-CS HW, NON-KOMO","V:RAL7035, vent.sl., isogl., solid/FJ","DEUR","BALKON","BALKON","BS","046","","","Inventory","HW",false,"","RAL 7035",2015,930,38,"",false,false,false,412.4,499,{"$f":"ROUND(AA322*(1-VLOOKUP(AF322,Discounts!C:E,3,0)),2)","v":412.4},null,57490,"E056"]
[8718528220962,"Artikel",8718528220962,"STUKS","WK046, 880x2015x38, bwh 664","PEFC-CS HW, NON-KOMO","V:RAL7035, vent.sl., isogl., solid/FJ","DEUR","BALKON","BALKON","BS","046","","","Inventory","HW",false,"","RAL 7035",2015,880,38,"",false,false,false,412.4,499,{"$f":"ROUND(AA323*(1-VLOOKUP(AF323,Discounts!C:E,3,0)),2)","v":412.4},null,57490,"E056"]
[8718528220979,"Artikel",8718528220979,"STUKS","WK046, 930x2115x38, bwh 664","PEFC-CS HW, NON-KOMO","V:RAL7035, vent.sl., isogl., solid/FJ","DEUR","BALKON","BALKON","BS","046","","","Inventory","HW",false,"","RAL 7035",2115,930,38,"",false,false,false,412.4,499,{"$f":"ROUND(AA324*(1-VLOOKUP(AF324,Discounts!C:E,3,0)),2)","v":412.4},null,57490,"E056"]
[8718528096291,"Artikel",8718528096291,"STUKS","WK046XL, 930x2340x38, bwh 689","PEFC-CS HW","V:RAL7035, vent.sl., isogl., solid/FJ","DEUR","BALKON","BALKON","BS","046","","","Inventory","HW",false,"","RAL 7035",2340,930,38,"",true,false,false,448.76,543,{"$f":"ROUND(AA325*(1-VLOOKUP(AF325,Discounts!C:E,3,0)),2)","v":448.76},null,57500,"E056"]
[8718528096307,"Artikel",8718528096307,"STUKS","WK048, 830x2015x38, bwh 874","PEFC-CS HW","V:RAL7035, vent.sl., isogl., solid/FJ","DEUR","BALKON","BALKON","BS","048","","","Inventory","HW",false,"","RAL 7035",2015,830,38,"",false,false,false,442.98,536,{"$f":"ROUND(AA326*(1-VLOOKUP(AF326,Discounts!C:E,3,0)),2)","v":442.98},null,57510,"E056"]
[8718528096314,"Artikel",8718528096314,"STUKS","WK048, 830x2115x38, bwh 874","PEFC-CS HW","V:RAL7035, vent.sl., isogl., solid/FJ","DEUR","BALKON","BALKON","BS","048","","","Inventory","HW",false,"","RAL 7035",2115,830,38,"",false,false,false,442.98,536,{"$f":"ROUND(AA327*(1-VLOOKUP(AF327,Discounts!C:E,3,0)),2)","v":442.98},null,57510,"E056"]
[8718528096338,"Artikel",8718528096338,"STUKS","WK048, 880x2115x38, bwh 874","PEFC-CS HW","V:RAL7035, vent.sl., isogl., solid/FJ","DEUR","BALKON","BALKON","BS","048","","","Inventory","HW",false,"","RAL 7035",2115,880,38,"",false,false,false,442.98,536,{"$f":"ROUND(AA328*(1-VLOOKUP(AF328,Discounts!C:E,3,0)),2)","v":442.98},null,57510,"E056"]
[8718528096345,"Artikel",8718528096345,"STUKS","WK048, 930x2015x38, bwh 874","PEFC-CS HW","V:RAL7035, vent.sl., isogl., solid/FJ","DEUR","BALKON","BALKON","BS","048","","","Inventory","HW",false,"","RAL 7035",2015,930,38,"",false,false,false,442.98,536,{"$f":"ROUND(AA329*(1-VLOOKUP(AF329,Discounts!C:E,3,0)),2)","v":442.98},null,57510,"E056"]
[8718528096352,"Artikel",8718528096352,"STUKS","WK048, 930x2115x38, bwh 874","PEFC-CS HW","V:RAL7035, vent.sl., isogl., solid/FJ","DEUR","BALKON","BALKON","BS","048","","","Inventory","HW",false,"","RAL 7035",2115,930,38,"",false,false,false,442.98,536,{"$f":"ROUND(AA330*(1-VLOOKUP(AF330,Discounts!C:E,3,0)),2)","v":442.98},null,57510,"E056"]
[8718528096369,"Artikel",8718528096369,"STUKS","WK048XL, 880x2340x38, bwh 899","PEFC-CS HW","V:RAL7035, vent.sl., isogl., solid/FJ","DEUR","BALKON","BALKON","BS","048","","","Inventory","HW",false,"","RAL 7035",2340,880,38,"",true,false,false,483.47,585,{"$f":"ROUND(AA331*(1-VLOOKUP(AF331,Discounts!C:E,3,0)),2)","v":483.47},null,57520,"E056"]
[8718528096376,"Artikel",8718528096376,"STUKS","WK048XL, 930x2340x38, bwh 899","PEFC-CS HW","V:RAL7035, vent.sl., isogl., solid/FJ","DEUR","BALKON","BALKON","BS","048","","","Inventory","HW",false,"","RAL 7035",2340,930,38,"",true,false,false,483.47,585,{"$f":"ROUND(AA332*(1-VLOOKUP(AF332,Discounts!C:E,3,0)),2)","v":483.47},null,57520,"E056"]
[8718528220986,"Artikel",8718528220986,"STUKS","WK048XL, 930x2340x38, bwh 899","PEFC-CS HW, NON-KOMO","V:RAL7035, vent.sl., isogl., solid/FJ","DEUR","BALKON","BALKON","BS","048","","","Inventory","HW",false,"","RAL 7035",2340,930,38,"",true,false,false,483.47,585,{"$f":"ROUND(AA333*(1-VLOOKUP(AF333,Discounts!C:E,3,0)),2)","v":483.47},null,57520,"E056"]
[8718528096390,"Artikel",8718528096390,"STUKS","Toiletgarnituur Chrome rond","","","HENS","BESLAG","BINNEN","","","TOILETGARNITUUR","ROND","Inventory","",false,"","",0,0,0,"",false,false,false,48.76,59,{"$f":"ROUND(AA334*(1-VLOOKUP(AF334,Discounts!C:E,3,0)),2)","v":48.76},null,103060,"O110"]
[8718528096406,"Artikel",8718528096406,"SET","Set sleutelrozetten Chrome","rond","","HENS","BESLAG","BINNEN","","","SLEUTELROZET","","Inventory","",false,"","",0,0,0,"",false,false,false,17.36,21,{"$f":"ROUND(AA335*(1-VLOOKUP(AF335,Discounts!C:E,3,0)),2)","v":17.36},null,103070,"O110"]
[8718528096413,"Artikel",8718528096413,"SET","Set cilinderrozetten Chrome","rond","","HENS","BESLAG","BINNEN","","","CILINDERROZET","","Inventory","",false,"","",0,0,0,"",false,false,false,17.36,21,{"$f":"ROUND(AA336*(1-VLOOKUP(AF336,Discounts!C:E,3,0)),2)","v":17.36},null,103080,"O110"]
[8718528019405,"Artikel",8718528019405,"STUKS","WK65010 C3 stomp","wit 830x2015 slg/vpl","FSC Mix 70% CU-COC 800339","DEUR","BINNEN","BINNEN","MODERN","65010","","","Inventory","",true,"STOMP","",2015,830,38,"",false,false,false,469.42,568,{"$f":"ROUND(AA337*(1-VLOOKUP(AF337,Discounts!C:E,3,0)),2)","v":469.42},null,103630,"B055"]
[8718528019436,"Artikel",8718528019436,"STUKS","WK65010 C3 stomp","wit 830x2115 slg/vpl","FSC Mix 70% CU-COC 800339","DEUR","BINNEN","BINNEN","MODERN","65010","","","Inventory","",true,"STOMP","",2115,830,38,"",false,false,false,469.42,568,{"$f":"ROUND(AA338*(1-VLOOKUP(AF338,Discounts!C:E,3,0)),2)","v":469.42},null,103630,"B055"]
[8718528019467,"Artikel",8718528019467,"STUKS","WK65010 XL C3 stomp","wit 830x2315 slg/vpl","FSC Mix 70% CU-COC 800339","DEUR","BINNEN","BINNEN","MODERN","65010","","","Inventory","",true,"STOMP","",2315,830,38,"",false,false,false,469.42,568,{"$f":"ROUND(AA339*(1-VLOOKUP(AF339,Discounts!C:E,3,0)),2)","v":469.42},null,103630,"B055"]
[8718528019498,"Artikel",8718528019498,"STUKS","WK65010 C3 stomp","wit 880x2015 slg/vpl","FSC Mix 70% CU-COC 800339","DEUR","BINNEN","BINNEN","MODERN","65010","","","Inventory","",true,"STOMP","",2015,880,38,"",false,false,false,469.42,568,{"$f":"ROUND(AA340*(1-VLOOKUP(AF340,Discounts!C:E,3,0)),2)","v":469.42},null,103630,"B055"]
[8718528019504,"Artikel",8718528019504,"STUKS","WK65010 C3 stomp","wit 880x2115 slg/vpl","FSC Mix 70% CU-COC 800339","DEUR","BINNEN","BINNEN","MODERN","65010","","","Inventory","",true,"STOMP","",2115,880,38,"",false,false,false,469.42,568,{"$f":"ROUND(AA341*(1-VLOOKUP(AF341,Discounts!C:E,3,0)),2)","v":469.42},null,103630,"B055"]
[8718528019535,"Artikel",8718528019535,"STUKS","WK65010 XL C3 stomp","wit 880x2315 slg/vpl","FSC Mix 70% CU-COC 800339","DEUR","BINNEN","BINNEN","MODERN","65010","","","Inventory","",true,"STOMP","",2315,880,38,"",false,false,false,469.42,568,{"$f":"ROUND(AA342*(1-VLOOKUP(AF342,Discounts!C:E,3,0)),2)","v":469.42},null,103630,"B055"]
[8718528019566,"Artikel",8718528019566,"STUKS","WK65010 C3 stomp","wit 930x2015 slg/vpl","FSC Mix 70% CU-COC 800339","DEUR","BINNEN","BINNEN","MODERN","65010","","","Inventory","",true,"STOMP","",2015,930,38,"",false,false,false,469.42,568,{"$f":"ROUND(AA343*(1-VLOOKUP(AF343,Discounts!C:E,3,0)),2)","v":469.42},null,103630,"B055"]
[8718528019573,"Artikel",8718528019573,"STUKS","WK65010 C3 stomp","wit 930x2115 slg/vpl","FSC Mix 70% CU-COC 800339","DEUR","BINNEN","BINNEN","MODERN","65010","","","Inventory","",true,"STOMP","",2115,930,38,"",false,false,false,469.42,568,{"$f":"ROUND(AA344*(1-VLOOKUP(AF344,Discounts!C:E,3,0)),2)","v":469.42},null,103630,"B055"]
[8718528019603,"Artikel",8718528019603,"STUKS","WK65010 XL C3 stomp","wit 930x2315 slg/vpl","FSC Mix 70% CU-COC 800339","DEUR","BINNEN","BINNEN","MODERN","65010","","","Inventory","",true,"STOMP","",2315,930,38,"",false,false,false,469.42,568,{"$f":"ROUND(AA345*(1-VLOOKUP(AF345,Discounts!C:E,3,0)),2)","v":469.42},null,103630,"B055"]
[8718528101490,"Artikel",8718528101490,"STUKS","WK65010 C3 stomp","wit 730x2015 slg/vpl","FSC Mix 70% CU-COC 800339","DEUR","BINNEN","BINNEN","MODERN","65010","","","Inventory","",true,"STOMP","",2015,730,38,"",false,false,false,469.42,568,{"$f":"ROUND(AA346*(1-VLOOKUP(AF346,Discounts!C:E,3,0)),2)","v":469.42},null,103630,"B055"]
[8718528101506,"Artikel",8718528101506,"STUKS","WK65010 C3 stomp","wit 730x2115 slg/vpl","FSC Mix 70% CU-COC 800339","DEUR","BINNEN","BINNEN","MODERN","65010","","","Inventory","",true,"STOMP","",2115,730,38,"",false,false,false,469.42,568,{"$f":"ROUND(AA347*(1-VLOOKUP(AF347,Discounts!C:E,3,0)),2)","v":469.42},null,103630,"B055"]
[8718528101513,"Artikel",8718528101513,"STUKS","WK65010 XL C3 stomp","wit 730x2315 slg/vpl","FSC Mix 70% CU-COC 800339","DEUR","BINNEN","BINNEN","MODERN","65010","","","Inventory","",true,"STOMP","",2315,730,38,"",false,false,false,469.42,568,{"$f":"ROUND(AA348*(1-VLOOKUP(AF348,Discounts!C:E,3,0)),2)","v":469.42},null,103630,"B055"]
[8718528101520,"Artikel",8718528101520,"STUKS","WK65010 C3 stomp","wit 780x2015 slg/vpl","FSC Mix 70% CU-COC 800339","DEUR","BINNEN","BINNEN","MODERN","65010","","","Inventory","",true,"STOMP","",2015,780,38,"",false,false,false,469.42,568,{"$f":"ROUND(AA349*(1-VLOOKUP(AF349,Discounts!C:E,3,0)),2)","v":469.42},null,103630,"B055"]
[8718528101537,"Artikel",8718528101537,"STUKS","WK65010 C3 stomp","wit 780x2115 slg/vpl","FSC Mix 70% CU-COC 800339","DEUR","BINNEN","BINNEN","MODERN","65010","","","Inventory","",true,"STOMP","",2115,780,38,"",false,false,false,469.42,568,{"$f":"ROUND(AA350*(1-VLOOKUP(AF350,Discounts!C:E,3,0)),2)","v":469.42},null,103630,"B055"]
[8718528101544,"Artikel",8718528101544,"STUKS","WK65010 XL C3 stomp","wit 780x2315 slg/vpl","FSC Mix 70% CU-COC 800339","DEUR","BINNEN","BINNEN","MODERN","65010","","","Inventory","",true,"STOMP","",2315,780,38,"",false,false,false,469.42,568,{"$f":"ROUND(AA351*(1-VLOOKUP(AF351,Discounts!C:E,3,0)),2)","v":469.42},null,103630,"B055"]
[8718528011362,"Artikel",8718528011362,"STUKS","WK6511 A1 stomp","wit 630x2015 slg/vpl","FSC Mix 70% CU-COC 800339","DEUR","BINNEN","BINNEN","MODERN","6511","","","Inventory","",true,"STOMP","",2015,630,38,"",false,false,false,336.36,407,{"$f":"ROUND(AA352*(1-VLOOKUP(AF352,Discounts!C:E,3,0)),2)","v":336.36},null,103640,"B055"]
[8718528011393,"Artikel",8718528011393,"STUKS","WK6511 A1 stomp","wit 630x2115 slg/vpl","FSC Mix 70% CU-COC 800339","DEUR","BINNEN","BINNEN","MODERN","6511","","","Inventory","",true,"STOMP","",2115,630,38,"",false,false,false,336.36,407,{"$f":"ROUND(AA353*(1-VLOOKUP(AF353,Discounts!C:E,3,0)),2)","v":336.36},null,103640,"B055"]
[8718528011423,"Artikel",8718528011423,"STUKS","WK6511 A1 stomp","wit 680x2015 slg/vpl","FSC Mix 70% CU-COC 800339","DEUR","BINNEN","BINNEN","MODERN","6511","","","Inventory","",true,"STOMP","",2015,680,38,"",false,false,false,336.36,407,{"$f":"ROUND(AA354*(1-VLOOKUP(AF354,Discounts!C:E,3,0)),2)","v":336.36},null,103640,"B055"]
[8718528011454,"Artikel",8718528011454,"STUKS","WK6511 A1 stomp","wit 680x2115 slg/vpl","FSC Mix 70% CU-COC 800339","DEUR","BINNEN","BINNEN","MODERN","6511","","","Inventory","",true,"STOMP","",2115,680,38,"",false,false,false,336.36,407,{"$f":"ROUND(AA355*(1-VLOOKUP(AF355,Discounts!C:E,3,0)),2)","v":336.36},null,103640,"B055"]
[8718528011485,"Artikel",8718528011485,"STUKS","WK6511 A1 stomp","wit 730x2015 slg/vpl","FSC Mix 70% CU-COC 800339","DEUR","BINNEN","BINNEN","MODERN","6511","","","Inventory","",true,"STOMP","",2015,730,38,"",false,false,false,336.36,407,{"$f":"ROUND(AA356*(1-VLOOKUP(AF356,Discounts!C:E,3,0)),2)","v":336.36},null,103640,"B055"]
[8718528011515,"Artikel",8718528011515,"STUKS","WK6511 A1 stomp","wit 730x2115 slg/vpl","FSC Mix 70% CU-COC 800339","DEUR","BINNEN","BINNEN","MODERN","6511","","","Inventory","",true,"STOMP","",2115,730,38,"",false,false,false,336.36,407,{"$f":"ROUND(AA357*(1-VLOOKUP(AF357,Discounts!C:E,3,0)),2)","v":336.36},null,103640,"B055"]
[8718528011546,"Artikel",8718528011546,"STUKS","WK6511 XL A1 stomp","wit 730x2315 slg/vpl","FSC Mix 70% CU-COC 800339","DEUR","BINNEN","BINNEN","MODERN","6511","","","Inventory","",true,"STOMP","",2315,730,38,"",false,false,false,336.36,407,{"$f":"ROUND(AA358*(1-VLOOKUP(AF358,Discounts!C:E,3,0)),2)","v":336.36},null,103640,"B055"]
[8718528011577,"Artikel",8718528011577,"STUKS","WK6511 A1 stomp","wit 780x2015 slg/vpl","FSC Mix 70% CU-COC 800339","DEUR","BINNEN","BINNEN","MODERN","6511","","","Inventory","",true,"STOMP","",2015,780,38,"",false,false,false,336.36,407,{"$f":"ROUND(AA359*(1-VLOOKUP(AF359,Discounts!C:E,3,0)),2)","v":336.36},null,103640,"B055"]
[8718528011607,"Artikel",8718528011607,"STUKS","WK6511 A1 stomp","wit 780x2115 slg/vpl","FSC Mix 70% CU-COC 800339","DEUR","BINNEN","BINNEN","MODERN","6511","","","Inventory","",true,"STOMP","",2115,780,38,"",false,false,false,336.36,407,{"$f":"ROUND(AA360*(1-VLOOKUP(AF360,Discounts!C:E,3,0)),2)","v":336.36},null,103640,"B055"]
[8718528011638,"Artikel",8718528011638,"STUKS","WK6511 XL A1 stomp","wit 780x2315 slg/vpl","FSC Mix 70% CU-COC 800339","DEUR","BINNEN","BINNEN","MODERN","6511","","","Inventory","",true,"STOMP","",2315,780,38,"",false,false,false,336.36,407,{"$f":"ROUND(AA361*(1-VLOOKUP(AF361,Discounts!C:E,3,0)),2)","v":336.36},null,103640,"B055"]
[8718528011669,"Artikel",8718528011669,"STUKS","WK6511 A1 stomp","wit 830x2015 slg/vpl","FSC Mix 70% CU-COC 800339","DEUR","BINNEN","BINNEN","MODERN","6511","","","Inventory","",true,"STOMP","",2015,830,38,"",false,false,false,336.36,407,{"$f":"ROUND(AA362*(1-VLOOKUP(AF362,Discounts!C:E,3,0)),2)","v":336.36},null,103640,"B055"]
[8718528011690,"Artikel",8718528011690,"STUKS","WK6511 A1 stomp","wit 830x2115 slg/vpl","FSC Mix 70% CU-COC 800339","DEUR","BINNEN","BINNEN","MODERN","6511","","","Inventory","",true,"STOMP","",2115,830,38,"",false,false,false,336.36,407,{"$f":"ROUND(AA363*(1-VLOOKUP(AF363,Discounts!C:E,3,0)),2)","v":336.36},null,103640,"B055"]
[8718528011720,"Artikel",8718528011720,"STUKS","WK6511 XL A1 stomp","wit 830x2315 slg/vpl","FSC Mix 70% CU-COC 800339","DEUR","BINNEN","BINNEN","MODERN","6511","","","Inventory","",true,"STOMP","",2315,830,38,"",false,false,false,336.36,407,{"$f":"ROUND(AA364*(1-VLOOKUP(AF364,Discounts!C:E,3,0)),2)","v":336.36},null,103640,"B055"]
[8718528011751,"Artikel",8718528011751,"STUKS","WK6511 A1 stomp","wit 880x2015 slg/vpl","FSC Mix 70% CU-COC 800339","DEUR","BINNEN","BINNEN","MODERN","6511","","","Inventory","",true,"STOMP","",2015,880,38,"",false,false,false,336.36,407,{"$f":"ROUND(AA365*(1-VLOOKUP(AF365,Discounts!C:E,3,0)),2)","v":336.36},null,103640,"B055"]
[8718528011768,"Artikel",8718528011768,"STUKS","WK6511 A1 stomp","wit 880x2115 slg/vpl","FSC Mix 70% CU-COC 800339","DEUR","BINNEN","BINNEN","MODERN","6511","","","Inventory","",true,"STOMP","",2115,880,38,"",false,false,false,336.36,407,{"$f":"ROUND(AA366*(1-VLOOKUP(AF366,Discounts!C:E,3,0)),2)","v":336.36},null,103640,"B055"]
[8718528011799,"Artikel",8718528011799,"STUKS","WK6511 XL A1 stomp","wit 880x2315 slg/vpl","FSC Mix 70% CU-COC 800339","DEUR","BINNEN","BINNEN","MODERN","6511","","","Inventory","",true,"STOMP","",2315,880,38,"",false,false,false,336.36,407,{"$f":"ROUND(AA367*(1-VLOOKUP(AF367,Discounts!C:E,3,0)),2)","v":336.36},null,103640,"B055"]
[8718528011829,"Artikel",8718528011829,"STUKS","WK6511 A1 stomp","wit 930x2015 slg/vpl","FSC Mix 70% CU-COC 800339","DEUR","BINNEN","BINNEN","MODERN","6511","","","Inventory","",true,"STOMP","",2015,930,38,"",false,false,false,336.36,407,{"$f":"ROUND(AA368*(1-VLOOKUP(AF368,Discounts!C:E,3,0)),2)","v":336.36},null,103640,"B055"]
[8718528011836,"Artikel",8718528011836,"STUKS","WK6511 A1 stomp","wit 930x2115 slg/vpl","FSC Mix 70% CU-COC 800339","DEUR","BINNEN","BINNEN","MODERN","6511","","","Inventory","",true,"STOMP","",2115,930,38,"",false,false,false,336.36,407,{"$f":"ROUND(AA369*(1-VLOOKUP(AF369,Discounts!C:E,3,0)),2)","v":336.36},null,103640,"B055"]
[8718528011867,"Artikel",8718528011867,"STUKS","WK6511 XL A1 stomp","wit 930x2315 slg/vpl","FSC Mix 70% CU-COC 800339","DEUR","BINNEN","BINNEN","MODERN","6511","","","Inventory","",true,"STOMP","",2315,930,38,"",false,false,false,336.36,407,{"$f":"ROUND(AA370*(1-VLOOKUP(AF370,Discounts!C:E,3,0)),2)","v":336.36},null,103640,"B055"]
[8718528099735,"Artikel",8718528099735,"STUKS","WK6511 XL A1 stomp","wit 630x2315 slg/vpl","FSC Mix 70% CU-COC 800339","DEUR","BINNEN","BINNEN","MODERN","6511","","","Inventory","",true,"STOMP","",2315,630,38,"",false,false,false,336.36,407,{"$f":"ROUND(AA371*(1-VLOOKUP(AF371,Discounts!C:E,3,0)),2)","v":336.36},null,103640,"B055"]
[8718528099742,"Artikel",8718528099742,"STUKS","WK6511 XL A1 stomp","wit 680x2315 slg/vpl","FSC Mix 70% CU-COC 800339","DEUR","BINNEN","BINNEN","MODERN","6511","","","Inventory","",true,"STOMP","",2315,680,38,"",false,false,false,336.36,407,{"$f":"ROUND(AA372*(1-VLOOKUP(AF372,Discounts!C:E,3,0)),2)","v":336.36},null,103640,"B055"]
[8718528011898,"Artikel",8718528011898,"STUKS","WK6512 A stomp","wit 730x2015 slg/vpl","FSC Mix 70% CU-COC 800339","DEUR","BINNEN","BINNEN","MODERN","6512","","","Inventory","",true,"STOMP","",2015,730,38,"",false,false,false,383.47,464,{"$f":"ROUND(AA373*(1-VLOOKUP(AF373,Discounts!C:E,3,0)),2)","v":383.47},null,103650,"B055"]
[8718528011904,"Artikel",8718528011904,"STUKS","WK6512 A stomp","wit 730x2115 slg/vpl","FSC Mix 70% CU-COC 800339","DEUR","BINNEN","BINNEN","MODERN","6512","","","Inventory","",true,"STOMP","",2115,730,38,"",false,false,false,383.47,464,{"$f":"ROUND(AA374*(1-VLOOKUP(AF374,Discounts!C:E,3,0)),2)","v":383.47},null,103650,"B055"]
[8718528011911,"Artikel",8718528011911,"STUKS","WK6512 XL A stomp","wit 730x2315 slg/vpl","FSC Mix 70% CU-COC 800339","DEUR","BINNEN","BINNEN","MODERN","6512","","","Inventory","",true,"STOMP","",2315,730,38,"",false,false,false,383.47,464,{"$f":"ROUND(AA375*(1-VLOOKUP(AF375,Discounts!C:E,3,0)),2)","v":383.47},null,103650,"B055"]
[8718528011928,"Artikel",8718528011928,"STUKS","WK6512 A stomp","wit 780x2015 slg/vpl","FSC Mix 70% CU-COC 800339","DEUR","BINNEN","BINNEN","MODERN","6512","","","Inventory","",true,"STOMP","",2015,780,38,"",false,false,false,383.47,464,{"$f":"ROUND(AA376*(1-VLOOKUP(AF376,Discounts!C:E,3,0)),2)","v":383.47},null,103650,"B055"]
[8718528011959,"Artikel",8718528011959,"STUKS","WK6512 A stomp","wit 780x2115 slg/vpl","FSC Mix 70% CU-COC 800339","DEUR","BINNEN","BINNEN","MODERN","6512","","","Inventory","",true,"STOMP","",2115,780,38,"",false,false,false,383.47,464,{"$f":"ROUND(AA377*(1-VLOOKUP(AF377,Discounts!C:E,3,0)),2)","v":383.47},null,103650,"B055"]
[8718528011966,"Artikel",8718528011966,"STUKS","WK6512 XL A stomp","wit 780x2315 slg/vpl","FSC Mix 70% CU-COC 800339","DEUR","BINNEN","BINNEN","MODERN","6512","","","Inventory","",true,"STOMP","",2315,780,38,"",false,false,false,383.47,464,{"$f":"ROUND(AA378*(1-VLOOKUP(AF378,Discounts!C:E,3,0)),2)","v":383.47},null,103650,"B055"]
[8718528011973,"Artikel",8718528011973,"STUKS","WK6512 A stomp","wit 830x2015 slg/vpl","FSC Mix 70% CU-COC 800339","DEUR","BINNEN","BINNEN","MODERN","6512","","","Inventory","",true,"STOMP","",2015,830,38,"",false,false,false,383.47,464,{"$f":"ROUND(AA379*(1-VLOOKUP(AF379,Discounts!C:E,3,0)),2)","v":383.47},null,103650,"B055"]
[8718528012000,"Artikel",8718528012000,"STUKS","WK6512 A stomp","wit 830x2115 slg/vpl","FSC Mix 70% CU-COC 800339","DEUR","BINNEN","BINNEN","MODERN","6512","","","Inventory","",true,"STOMP","",2115,830,38,"",false,false,false,383.47,464,{"$f":"ROUND(AA380*(1-VLOOKUP(AF380,Discounts!C:E,3,0)),2)","v":383.47},null,103650,"B055"]
[8718528012031,"Artikel",8718528012031,"STUKS","WK6512 XL A stomp","wit 830x2315 slg/vpl","FSC Mix 70% CU-COC 800339","DEUR","BINNEN","BINNEN","MODERN","6512","","","Inventory","",true,"STOMP","",2315,830,38,"",false,false,false,383.47,464,{"$f":"ROUND(AA381*(1-VLOOKUP(AF381,Discounts!C:E,3,0)),2)","v":383.47},null,103650,"B055"]
[8718528012062,"Artikel",8718528012062,"STUKS","WK6512 A stomp","wit 880x2015 slg/vpl","FSC Mix 70% CU-COC 800339","DEUR","BINNEN","BINNEN","MODERN","6512","","","Inventory","",true,"STOMP","",2015,880,38,"",false,false,false,383.47,464,{"$f":"ROUND(AA382*(1-VLOOKUP(AF382,Discounts!C:E,3,0)),2)","v":383.47},null,103650,"B055"]
[8718528012079,"Artikel",8718528012079,"STUKS","WK6512 A stomp","wit 880x2115 slg/vpl","FSC Mix 70% CU-COC 800339","DEUR","BINNEN","BINNEN","MODERN","6512","","","Inventory","",true,"STOMP","",2115,880,38,"",false,false,false,383.47,464,{"$f":"ROUND(AA383*(1-VLOOKUP(AF383,Discounts!C:E,3,0)),2)","v":383.47},null,103650,"B055"]
[8718528012109,"Artikel",8718528012109,"STUKS","WK6512 XL A stomp","wit 880x2315 slg/vpl","FSC Mix 70% CU-COC 800339","DEUR","BINNEN","BINNEN","MODERN","6512","","","Inventory","",true,"STOMP","",2315,880,38,"",false,false,false,383.47,464,{"$f":"ROUND(AA384*(1-VLOOKUP(AF384,Discounts!C:E,3,0)),2)","v":383.47},null,103650,"B055"]
[8718528012130,"Artikel",8718528012130,"STUKS","WK6512 A stomp","wit 930x2015 slg/vpl","FSC Mix 70% CU-COC 800339","DEUR","BINNEN","BINNEN","MODERN","6512","","","Inventory","",true,"STOMP","",2015,930,38,"",false,false,false,383.47,464,{"$f":"ROUND(AA385*(1-VLOOKUP(AF385,Discounts!C:E,3,0)),2)","v":383.47},null,103650,"B055"]
[8718528012147,"Artikel",8718528012147,"STUKS","WK6512 A stomp","wit 930x2115 slg/vpl","FSC Mix 70% CU-COC 800339","DEUR","BINNEN","BINNEN","MODERN","6512","","","Inventory","",true,"STOMP","",2115,930,38,"",false,false,false,383.47,464,{"$f":"ROUND(AA386*(1-VLOOKUP(AF386,Discounts!C:E,3,0)),2)","v":383.47},null,103650,"B055"]
[8718528012178,"Artikel",8718528012178,"STUKS","WK6512 XL A stomp","wit 930x2315 slg/vpl","FSC Mix 70% CU-COC 800339","DEUR","BINNEN","BINNEN","MODERN","6512","","","Inventory","",true,"STOMP","",2315,930,38,"",false,false,false,383.47,464,{"$f":"ROUND(AA387*(1-VLOOKUP(AF387,Discounts!C:E,3,0)),2)","v":383.47},null,103650,"B055"]
[8718528099759,"Artikel",8718528099759,"STUKS","WK6512 A stomp","wit 630x2015 slg/vpl","FSC Mix 70% CU-COC 800339","DEUR","BINNEN","BINNEN","MODERN","6512","","","Inventory","",true,"STOMP","",2015,630,38,"",false,false,false,383.47,464,{"$f":"ROUND(AA388*(1-VLOOKUP(AF388,Discounts!C:E,3,0)),2)","v":383.47},null,103650,"B055"]
[8718528099766,"Artikel",8718528099766,"STUKS","WK6512 A stomp","wit 630x2115 slg/vpl","FSC Mix 70% CU-COC 800339","DEUR","BINNEN","BINNEN","MODERN","6512","","","Inventory","",true,"STOMP","",2115,630,38,"",false,false,false,383.47,464,{"$f":"ROUND(AA389*(1-VLOOKUP(AF389,Discounts!C:E,3,0)),2)","v":383.47},null,103650,"B055"]
[8718528099773,"Artikel",8718528099773,"STUKS","WK6512 XL A stomp","wit 630x2315 slg/vpl","FSC Mix 70% CU-COC 800339","DEUR","BINNEN","BINNEN","MODERN","6512","","","Inventory","",true,"STOMP","",2315,630,38,"",false,false,false,383.47,464,{"$f":"ROUND(AA390*(1-VLOOKUP(AF390,Discounts!C:E,3,0)),2)","v":383.47},null,103650,"B055"]
[8718528099780,"Artikel",8718528099780,"STUKS","WK6512 A stomp","wit 680x2015 slg/vpl","FSC Mix 70% CU-COC 800339","DEUR","BINNEN","BINNEN","MODERN","6512","","","Inventory","",true,"STOMP","",2015,680,38,"",false,false,false,383.47,464,{"$f":"ROUND(AA391*(1-VLOOKUP(AF391,Discounts!C:E,3,0)),2)","v":383.47},null,103650,"B055"]
[8718528099797,"Artikel",8718528099797,"STUKS","WK6512 A stomp","wit 680x2115 slg/vpl","FSC Mix 70% CU-COC 800339","DEUR","BINNEN","BINNEN","MODERN","6512","","","Inventory","",true,"STOMP","",2115,680,38,"",false,false,false,383.47,464,{"$f":"ROUND(AA392*(1-VLOOKUP(AF392,Discounts!C:E,3,0)),2)","v":383.47},null,103650,"B055"]
[8718528099803,"Artikel",8718528099803,"STUKS","WK6512 XL A stomp","wit 680x2315 slg/vpl","FSC Mix 70% CU-COC 800339","DEUR","BINNEN","BINNEN","MODERN","6512","","","Inventory","",true,"STOMP","",2315,680,38,"",false,false,false,383.47,464,{"$f":"ROUND(AA393*(1-VLOOKUP(AF393,Discounts!C:E,3,0)),2)","v":383.47},null,103650,"B055"]
[8718528012208,"Artikel",8718528012208,"STUKS","WK6513 A stomp","wit 630x2015 slg/vpl","FSC Mix 70% CU-COC 800339","DEUR","BINNEN","BINNEN","MODERN","6513","","","Inventory","",true,"STOMP","",2015,630,38,"",false,false,false,361.16,437,{"$f":"ROUND(AA394*(1-VLOOKUP(AF394,Discounts!C:E,3,0)),2)","v":361.16},null,103660,"B055"]
[8718528012239,"Artikel",8718528012239,"STUKS","WK6513 A stomp","wit 630x2115 slg/vpl","FSC Mix 70% CU-COC 800339","DEUR","BINNEN","BINNEN","MODERN","6513","","","Inventory","",true,"STOMP","",2115,630,38,"",false,false,false,361.16,437,{"$f":"ROUND(AA395*(1-VLOOKUP(AF395,Discounts!C:E,3,0)),2)","v":361.16},null,103660,"B055"]
[8718528012260,"Artikel",8718528012260,"STUKS","WK6513 A stomp","wit 680x2015 slg/vpl","FSC Mix 70% CU-COC 800339","DEUR","BINNEN","BINNEN","MODERN","6513","","","Inventory","",true,"STOMP","",2015,680,38,"",false,false,false,361.16,437,{"$f":"ROUND(AA396*(1-VLOOKUP(AF396,Discounts!C:E,3,0)),2)","v":361.16},null,103660,"B055"]
[8718528012291,"Artikel",8718528012291,"STUKS","WK6513 A stomp","wit 680x2115 slg/vpl","FSC Mix 70% CU-COC 800339","DEUR","BINNEN","BINNEN","MODERN","6513","","","Inventory","",true,"STOMP","",2115,680,38,"",false,false,false,361.16,437,{"$f":"ROUND(AA397*(1-VLOOKUP(AF397,Discounts!C:E,3,0)),2)","v":361.16},null,103660,"B055"]
[8718528012321,"Artikel",8718528012321,"STUKS","WK6513 A stomp","wit 730x2015 slg/vpl","FSC Mix 70% CU-COC 800339","DEUR","BINNEN","BINNEN","MODERN","6513","","","Inventory","",true,"STOMP","",2015,730,38,"",false,false,false,361.16,437,{"$f":"ROUND(AA398*(1-VLOOKUP(AF398,Discounts!C:E,3,0)),2)","v":361.16},null,103660,"B055"]
[8718528012352,"Artikel",8718528012352,"STUKS","WK6513 A stomp","wit 730x2115 slg/vpl","FSC Mix 70% CU-COC 800339","DEUR","BINNEN","BINNEN","MODERN","6513","","","Inventory","",true,"STOMP","",2115,730,38,"",false,false,false,361.16,437,{"$f":"ROUND(AA399*(1-VLOOKUP(AF399,Discounts!C:E,3,0)),2)","v":361.16},null,103660,"B055"]
[8718528012383,"Artikel",8718528012383,"STUKS","WK6513 XL A stomp","wit 730x2315 slg/vpl","FSC Mix 70% CU-COC 800339","DEUR","BINNEN","BINNEN","MODERN","6513","","","Inventory","",true,"STOMP","",2315,730,38,"",false,false,false,361.16,437,{"$f":"ROUND(AA400*(1-VLOOKUP(AF400,Discounts!C:E,3,0)),2)","v":361.16},null,103660,"B055"]
[8718528012413,"Artikel",8718528012413,"STUKS","WK6513 A stomp","wit 780x2015 slg/vpl","FSC Mix 70% CU-COC 800339","DEUR","BINNEN","BINNEN","MODERN","6513","","","Inventory","",true,"STOMP","",2015,780,38,"",false,false,false,361.16,437,{"$f":"ROUND(AA401*(1-VLOOKUP(AF401,Discounts!C:E,3,0)),2)","v":361.16},null,103660,"B055"]
[8718528012444,"Artikel",8718528012444,"STUKS","WK6513 A stomp","wit 780x2115 slg/vpl","FSC Mix 70% CU-COC 800339","DEUR","BINNEN","BINNEN","MODERN","6513","","","Inventory","",true,"STOMP","",2115,780,38,"",false,false,false,361.16,437,{"$f":"ROUND(AA402*(1-VLOOKUP(AF402,Discounts!C:E,3,0)),2)","v":361.16},null,103660,"B055"]
[8718528012475,"Artikel",8718528012475,"STUKS","WK6513 XL A stomp","wit 780x2315 slg/vpl","FSC Mix 70% CU-COC 800339","DEUR","BINNEN","BINNEN","MODERN","6513","","","Inventory","",true,"STOMP","",2315,780,38,"",false,false,false,361.16,437,{"$f":"ROUND(AA403*(1-VLOOKUP(AF403,Discounts!C:E,3,0)),2)","v":361.16},null,103660,"B055"]
[8718528012505,"Artikel",8718528012505,"STUKS","WK6513 A stomp","wit 830x2015 slg/vpl","FSC Mix 70% CU-COC 800339","DEUR","BINNEN","BINNEN","MODERN","6513","","","Inventory","",true,"STOMP","",2015,830,38,"",false,false,false,361.16,437,{"$f":"ROUND(AA404*(1-VLOOKUP(AF404,Discounts!C:E,3,0)),2)","v":361.16},null,103660,"B055"]
[8718528012536,"Artikel",8718528012536,"STUKS","WK6513 A stomp","wit 830x2115 slg/vpl","FSC Mix 70% CU-COC 800339","DEUR","BINNEN","BINNEN","MODERN","6513","","","Inventory","",true,"STOMP","",2115,830,38,"",false,false,false,361.16,437,{"$f":"ROUND(AA405*(1-VLOOKUP(AF405,Discounts!C:E,3,0)),2)","v":361.16},null,103660,"B055"]
[8718528012567,"Artikel",8718528012567,"STUKS","WK6513 XL A stomp","wit 830x2315 slg/vpl","FSC Mix 70% CU-COC 800339","DEUR","BINNEN","BINNEN","MODERN","6513","","","Inventory","",true,"STOMP","",2315,830,38,"",false,false,false,361.16,437,{"$f":"ROUND(AA406*(1-VLOOKUP(AF406,Discounts!C:E,3,0)),2)","v":361.16},null,103660,"B055"]
[8718528012598,"Artikel",8718528012598,"STUKS","WK6513 A stomp","wit 880x2015 slg/vpl","FSC Mix 70% CU-COC 800339","DEUR","BINNEN","BINNEN","MODERN","6513","","","Inventory","",true,"STOMP","",2015,880,38,"",false,false,false,361.16,437,{"$f":"ROUND(AA407*(1-VLOOKUP(AF407,Discounts!C:E,3,0)),2)","v":361.16},null,103660,"B055"]
[8718528012604,"Artikel",8718528012604,"STUKS","WK6513 A stomp","wit 880x2115 slg/vpl","FSC Mix 70% CU-COC 800339","DEUR","BINNEN","BINNEN","MODERN","6513","","","Inventory","",true,"STOMP","",2115,880,38,"",false,false,false,361.16,437,{"$f":"ROUND(AA408*(1-VLOOKUP(AF408,Discounts!C:E,3,0)),2)","v":361.16},null,103660,"B055"]
[8718528012635,"Artikel",8718528012635,"STUKS","WK6513 XL A stomp","wit 880x2315 slg/vpl","FSC Mix 70% CU-COC 800339","DEUR","BINNEN","BINNEN","MODERN","6513","","","Inventory","",true,"STOMP","",2315,880,38,"",false,false,false,361.16,437,{"$f":"ROUND(AA409*(1-VLOOKUP(AF409,Discounts!C:E,3,0)),2)","v":361.16},null,103660,"B055"]
[8718528012666,"Artikel",8718528012666,"STUKS","WK6513 A stomp","wit 930x2015 slg/vpl","FSC Mix 70% CU-COC 800339","DEUR","BINNEN","BINNEN","MODERN","6513","","","Inventory","",true,"STOMP","",2015,930,38,"",false,false,false,361.16,437,{"$f":"ROUND(AA410*(1-VLOOKUP(AF410,Discounts!C:E,3,0)),2)","v":361.16},null,103660,"B055"]
[8718528012673,"Artikel",8718528012673,"STUKS","WK6513 A stomp","wit 930x2115 slg/vpl","FSC Mix 70% CU-COC 800339","DEUR","BINNEN","BINNEN","MODERN","6513","","","Inventory","",true,"STOMP","",2115,930,38,"",false,false,false,361.16,437,{"$f":"ROUND(AA411*(1-VLOOKUP(AF411,Discounts!C:E,3,0)),2)","v":361.16},null,103660,"B055"]
[8718528012703,"Artikel",8718528012703,"STUKS","WK6513 XL A stomp","wit 930x2315 slg/vpl","FSC Mix 70% CU-COC 800339","DEUR","BINNEN","BINNEN","MODERN","6513","","","Inventory","",true,"STOMP","",2315,930,38,"",false,false,false,361.16,437,{"$f":"ROUND(AA412*(1-VLOOKUP(AF412,Discounts!C:E,3,0)),2)","v":361.16},null,103660,"B055"]
[8718528099810,"Artikel",8718528099810,"STUKS","WK6513 XL A stomp","wit 630x2315 slg/vpl","FSC Mix 70% CU-COC 800339","DEUR","BINNEN","BINNEN","MODERN","6513","","","Inventory","",true,"STOMP","",2315,630,38,"",false,false,false,361.16,437,{"$f":"ROUND(AA413*(1-VLOOKUP(AF413,Discounts!C:E,3,0)),2)","v":361.16},null,103660,"B055"]
[8718528099827,"Artikel",8718528099827,"STUKS","WK6513 XL A stomp","wit 680x2315 slg/vpl","FSC Mix 70% CU-COC 800339","DEUR","BINNEN","BINNEN","MODERN","6513","","","Inventory","",true,"STOMP","",2315,680,38,"",false,false,false,361.16,437,{"$f":"ROUND(AA414*(1-VLOOKUP(AF414,Discounts!C:E,3,0)),2)","v":361.16},null,103660,"B055"]
[8718528012734,"Artikel",8718528012734,"STUKS","WK6514 A1 stomp","wit 630x2015 slg/vpl","FSC Mix 70% CU-COC 800339","DEUR","BINNEN","BINNEN","MODERN","6514","","","Inventory","",true,"STOMP","",2015,630,38,"",false,false,false,406.61,492,{"$f":"ROUND(AA415*(1-VLOOKUP(AF415,Discounts!C:E,3,0)),2)","v":406.61},null,103670,"B055"]
[8718528012765,"Artikel",8718528012765,"STUKS","WK6514 A1 stomp","wit 630x2115 slg/vpl","FSC Mix 70% CU-COC 800339","DEUR","BINNEN","BINNEN","MODERN","6514","","","Inventory","",true,"STOMP","",2115,630,38,"",false,false,false,406.61,492,{"$f":"ROUND(AA416*(1-VLOOKUP(AF416,Discounts!C:E,3,0)),2)","v":406.61},null,103670,"B055"]
[8718528012796,"Artikel",8718528012796,"STUKS","WK6514 A1 stomp","wit 680x2015 slg/vpl","FSC Mix 70% CU-COC 800339","DEUR","BINNEN","BINNEN","MODERN","6514","","","Inventory","",true,"STOMP","",2015,680,38,"",false,false,false,406.61,492,{"$f":"ROUND(AA417*(1-VLOOKUP(AF417,Discounts!C:E,3,0)),2)","v":406.61},null,103670,"B055"]
[8718528012826,"Artikel",8718528012826,"STUKS","WK6514 A1 stomp","wit 680x2115 slg/vpl","FSC Mix 70% CU-COC 800339","DEUR","BINNEN","BINNEN","MODERN","6514","","","Inventory","",true,"STOMP","",2115,680,38,"",false,false,false,406.61,492,{"$f":"ROUND(AA418*(1-VLOOKUP(AF418,Discounts!C:E,3,0)),2)","v":406.61},null,103670,"B055"]
[8718528012857,"Artikel",8718528012857,"STUKS","WK6514 A1 stomp","wit 730x2015 slg/vpl","FSC Mix 70% CU-COC 800339","DEUR","BINNEN","BINNEN","MODERN","6514","","","Inventory","",true,"STOMP","",2015,730,38,"",false,false,false,406.61,492,{"$f":"ROUND(AA419*(1-VLOOKUP(AF419,Discounts!C:E,3,0)),2)","v":406.61},null,103670,"B055"]
[8718528012888,"Artikel",8718528012888,"STUKS","WK6514 A1 stomp","wit 730x2115 slg/vpl","FSC Mix 70% CU-COC 800339","DEUR","BINNEN","BINNEN","MODERN","6514","","","Inventory","",true,"STOMP","",2115,730,38,"",false,false,false,406.61,492,{"$f":"ROUND(AA420*(1-VLOOKUP(AF420,Discounts!C:E,3,0)),2)","v":406.61},null,103670,"B055"]
[8718528012918,"Artikel",8718528012918,"STUKS","WK6514 XL A1 stomp","wit 730x2315 slg/vpl","FSC Mix 70% CU-COC 800339","DEUR","BINNEN","BINNEN","MODERN","6514","","","Inventory","",true,"STOMP","",2315,730,38,"",false,false,false,406.61,492,{"$f":"ROUND(AA421*(1-VLOOKUP(AF421,Discounts!C:E,3,0)),2)","v":406.61},null,103670,"B055"]
[8718528012949,"Artikel",8718528012949,"STUKS","WK6514 A1 stomp","wit 780x2015 slg/vpl","FSC Mix 70% CU-COC 800339","DEUR","BINNEN","BINNEN","MODERN","6514","","","Inventory","",true,"STOMP","",2015,780,38,"",false,false,false,406.61,492,{"$f":"ROUND(AA422*(1-VLOOKUP(AF422,Discounts!C:E,3,0)),2)","v":406.61},null,103670,"B055"]
[8718528012970,"Artikel",8718528012970,"STUKS","WK6514 A1 stomp","wit 780x2115 slg/vpl","FSC Mix 70% CU-COC 800339","DEUR","BINNEN","BINNEN","MODERN","6514","","","Inventory","",true,"STOMP","",2115,780,38,"",false,false,false,406.61,492,{"$f":"ROUND(AA423*(1-VLOOKUP(AF423,Discounts!C:E,3,0)),2)","v":406.61},null,103670,"B055"]
[8718528013007,"Artikel",8718528013007,"STUKS","WK6514 XL A1 stomp","wit 780x2315 slg/vpl","FSC Mix 70% CU-COC 800339","DEUR","BINNEN","BINNEN","MODERN","6514","","","Inventory","",true,"STOMP","",2315,780,38,"",false,false,false,406.61,492,{"$f":"ROUND(AA424*(1-VLOOKUP(AF424,Discounts!C:E,3,0)),2)","v":406.61},null,103670,"B055"]
[8718528013038,"Artikel",8718528013038,"STUKS","WK6514 A1 stomp","wit 830x2015 slg/vpl","FSC Mix 70% CU-COC 800339","DEUR","BINNEN","BINNEN","MODERN","6514","","","Inventory","",true,"STOMP","",2015,830,38,"",false,false,false,406.61,492,{"$f":"ROUND(AA425*(1-VLOOKUP(AF425,Discounts!C:E,3,0)),2)","v":406.61},null,103670,"B055"]
[8718528013069,"Artikel",8718528013069,"STUKS","WK6514 A1 stomp","wit 830x2115 slg/vpl","FSC Mix 70% CU-COC 800339","DEUR","BINNEN","BINNEN","MODERN","6514","","","Inventory","",true,"STOMP","",2115,830,38,"",false,false,false,406.61,492,{"$f":"ROUND(AA426*(1-VLOOKUP(AF426,Discounts!C:E,3,0)),2)","v":406.61},null,103670,"B055"]
[8718528013090,"Artikel",8718528013090,"STUKS","WK6514 XL A1 stomp","wit 830x2315 slg/vpl","FSC Mix 70% CU-COC 800339","DEUR","BINNEN","BINNEN","MODERN","6514","","","Inventory","",true,"STOMP","",2315,830,38,"",false,false,false,406.61,492,{"$f":"ROUND(AA427*(1-VLOOKUP(AF427,Discounts!C:E,3,0)),2)","v":406.61},null,103670,"B055"]
[8718528013120,"Artikel",8718528013120,"STUKS","WK6514 A1 stomp","wit 880x2015 slg/vpl","FSC Mix 70% CU-COC 800339","DEUR","BINNEN","BINNEN","MODERN","6514","","","Inventory","",true,"STOMP","",2015,880,38,"",false,false,false,406.61,492,{"$f":"ROUND(AA428*(1-VLOOKUP(AF428,Discounts!C:E,3,0)),2)","v":406.61},null,103670,"B055"]
[8718528013137,"Artikel",8718528013137,"STUKS","WK6514 A1 stomp","wit 880x2115 slg/vpl","FSC Mix 70% CU-COC 800339","DEUR","BINNEN","BINNEN","MODERN","6514","","","Inventory","",true,"STOMP","",2115,880,38,"",false,false,false,406.61,492,{"$f":"ROUND(AA429*(1-VLOOKUP(AF429,Discounts!C:E,3,0)),2)","v":406.61},null,103670,"B055"]
[8718528013168,"Artikel",8718528013168,"STUKS","WK6514 XL A1 stomp","wit 880x2315 slg/vpl","FSC Mix 70% CU-COC 800339","DEUR","BINNEN","BINNEN","MODERN","6514","","","Inventory","",true,"STOMP","",2315,880,38,"",false,false,false,406.61,492,{"$f":"ROUND(AA430*(1-VLOOKUP(AF430,Discounts!C:E,3,0)),2)","v":406.61},null,103670,"B055"]
[8718528013199,"Artikel",8718528013199,"STUKS","WK6514 A1 stomp","wit 930x2015 slg/vpl","FSC Mix 70% CU-COC 800339","DEUR","BINNEN","BINNEN","MODERN","6514","","","Inventory","",true,"STOMP","",2015,930,38,"",false,false,false,406.61,492,{"$f":"ROUND(AA431*(1-VLOOKUP(AF431,Discounts!C:E,3,0)),2)","v":406.61},null,103670,"B055"]
[8718528013205,"Artikel",8718528013205,"STUKS","WK6514 A1 stomp","wit 930x2115 slg/vpl","FSC Mix 70% CU-COC 800339","DEUR","BINNEN","BINNEN","MODERN","6514","","","Inventory","",true,"STOMP","",2115,930,38,"",false,false,false,406.61,492,{"$f":"ROUND(AA432*(1-VLOOKUP(AF432,Discounts!C:E,3,0)),2)","v":406.61},null,103670,"B055"]
[8718528013236,"Artikel",8718528013236,"STUKS","WK6514 XL A1 stomp","wit 930x2315 slg/vpl","FSC Mix 70% CU-COC 800339","DEUR","BINNEN","BINNEN","MODERN","6514","","","Inventory","",true,"STOMP","",2315,930,38,"",false,false,false,406.61,492,{"$f":"ROUND(AA433*(1-VLOOKUP(AF433,Discounts!C:E,3,0)),2)","v":406.61},null,103670,"B055"]
[8718528099834,"Artikel",8718528099834,"STUKS","WK6514 XL A1 stomp","wit 630x2315 slg/vpl","FSC Mix 70% CU-COC 800339","DEUR","BINNEN","BINNEN","MODERN","6514","","","Inventory","",true,"STOMP","",2315,630,38,"",false,false,false,406.61,492,{"$f":"ROUND(AA434*(1-VLOOKUP(AF434,Discounts!C:E,3,0)),2)","v":406.61},null,103670,"B055"]
[8718528099841,"Artikel",8718528099841,"STUKS","WK6514 XL A1 stomp","wit 680x2315 slg/vpl","FSC Mix 70% CU-COC 800339","DEUR","BINNEN","BINNEN","MODERN","6514","","","Inventory","",true,"STOMP","",2315,680,38,"",false,false,false,406.61,492,{"$f":"ROUND(AA435*(1-VLOOKUP(AF435,Discounts!C:E,3,0)),2)","v":406.61},null,103670,"B055"]
[8718528013267,"Artikel",8718528013267,"STUKS","WK6521 A1 stomp","wit 630x2015 slg/vpl","FSC Mix 70% CU-COC 800339","DEUR","BINNEN","BINNEN","MODERN","6521","","","Inventory","",true,"STOMP","",2015,630,38,"",false,false,false,363.64,440,{"$f":"ROUND(AA436*(1-VLOOKUP(AF436,Discounts!C:E,3,0)),2)","v":363.64},null,103690,"B055"]
[8718528013298,"Artikel",8718528013298,"STUKS","WK6521 A1 stomp","wit 630x2115 slg/vpl","FSC Mix 70% CU-COC 800339","DEUR","BINNEN","BINNEN","MODERN","6521","","","Inventory","",true,"STOMP","",2115,630,38,"",false,false,false,363.64,440,{"$f":"ROUND(AA437*(1-VLOOKUP(AF437,Discounts!C:E,3,0)),2)","v":363.64},null,103690,"B055"]
[8718528013328,"Artikel",8718528013328,"STUKS","WK6521 A1 stomp","wit 680x2015 slg/vpl","FSC Mix 70% CU-COC 800339","DEUR","BINNEN","BINNEN","MODERN","6521","","","Inventory","",true,"STOMP","",2015,680,38,"",false,false,false,363.64,440,{"$f":"ROUND(AA438*(1-VLOOKUP(AF438,Discounts!C:E,3,0)),2)","v":363.64},null,103690,"B055"]
[8718528013359,"Artikel",8718528013359,"STUKS","WK6521 A1 stomp","wit 680x2115 slg/vpl","FSC Mix 70% CU-COC 800339","DEUR","BINNEN","BINNEN","MODERN","6521","","","Inventory","",true,"STOMP","",2115,680,38,"",false,false,false,363.64,440,{"$f":"ROUND(AA439*(1-VLOOKUP(AF439,Discounts!C:E,3,0)),2)","v":363.64},null,103690,"B055"]
[8718528013380,"Artikel",8718528013380,"STUKS","WK6521 A1 stomp","wit 730x2015 slg/vpl","FSC Mix 70% CU-COC 800339","DEUR","BINNEN","BINNEN","MODERN","6521","","","Inventory","",true,"STOMP","",2015,730,38,"",false,false,false,363.64,440,{"$f":"ROUND(AA440*(1-VLOOKUP(AF440,Discounts!C:E,3,0)),2)","v":363.64},null,103690,"B055"]
[8718528013410,"Artikel",8718528013410,"STUKS","WK6521 A1 stomp","wit 730x2115 slg/vpl","FSC Mix 70% CU-COC 800339","DEUR","BINNEN","BINNEN","MODERN","6521","","","Inventory","",true,"STOMP","",2115,730,38,"",false,false,false,363.64,440,{"$f":"ROUND(AA441*(1-VLOOKUP(AF441,Discounts!C:E,3,0)),2)","v":363.64},null,103690,"B055"]
[8718528013441,"Artikel",8718528013441,"STUKS","WK6521 XL A1 stomp","wit 730x2315 slg/vpl","FSC Mix 70% CU-COC 800339","DEUR","BINNEN","BINNEN","MODERN","6521","","","Inventory","",true,"STOMP","",2315,730,38,"",false,false,false,363.64,440,{"$f":"ROUND(AA442*(1-VLOOKUP(AF442,Discounts!C:E,3,0)),2)","v":363.64},null,103690,"B055"]
[8718528013472,"Artikel",8718528013472,"STUKS","WK6521 A1 stomp","wit 780x2015 slg/vpl","FSC Mix 70% CU-COC 800339","DEUR","BINNEN","BINNEN","MODERN","6521","","","Inventory","",true,"STOMP","",2015,780,38,"",false,false,false,363.64,440,{"$f":"ROUND(AA443*(1-VLOOKUP(AF443,Discounts!C:E,3,0)),2)","v":363.64},null,103690,"B055"]
[8718528013502,"Artikel",8718528013502,"STUKS","WK6521 A1 stomp","wit 780x2115 slg/vpl","FSC Mix 70% CU-COC 800339","DEUR","BINNEN","BINNEN","MODERN","6521","","","Inventory","",true,"STOMP","",2115,780,38,"",false,false,false,363.64,440,{"$f":"ROUND(AA444*(1-VLOOKUP(AF444,Discounts!C:E,3,0)),2)","v":363.64},null,103690,"B055"]
[8718528013533,"Artikel",8718528013533,"STUKS","WK6521 XL A1 stomp","wit 780x2315 slg/vpl","FSC Mix 70% CU-COC 800339","DEUR","BINNEN","BINNEN","MODERN","6521","","","Inventory","",true,"STOMP","",2315,780,38,"",false,false,false,363.64,440,{"$f":"ROUND(AA445*(1-VLOOKUP(AF445,Discounts!C:E,3,0)),2)","v":363.64},null,103690,"B055"]
[8718528013564,"Artikel",8718528013564,"STUKS","WK6521 A1 stomp","wit 830x2015 slg/vpl","FSC Mix 70% CU-COC 800339","DEUR","BINNEN","BINNEN","MODERN","6521","","","Inventory","",true,"STOMP","",2015,830,38,"",false,false,false,363.64,440,{"$f":"ROUND(AA446*(1-VLOOKUP(AF446,Discounts!C:E,3,0)),2)","v":363.64},null,103690,"B055"]
[8718528013595,"Artikel",8718528013595,"STUKS","WK6521 A1 stomp","wit 830x2115 slg/vpl","FSC Mix 70% CU-COC 800339","DEUR","BINNEN","BINNEN","MODERN","6521","","","Inventory","",true,"STOMP","",2115,830,38,"",false,false,false,363.64,440,{"$f":"ROUND(AA447*(1-VLOOKUP(AF447,Discounts!C:E,3,0)),2)","v":363.64},null,103690,"B055"]
[8718528013625,"Artikel",8718528013625,"STUKS","WK6521 XL A1 stomp","wit 830x2315 slg/vpl","FSC Mix 70% CU-COC 800339","DEUR","BINNEN","BINNEN","MODERN","6521","","","Inventory","",true,"STOMP","",2315,830,38,"",false,false,false,363.64,440,{"$f":"ROUND(AA448*(1-VLOOKUP(AF448,Discounts!C:E,3,0)),2)","v":363.64},null,103690,"B055"]
[8718528013656,"Artikel",8718528013656,"STUKS","WK6521 A1 stomp","wit 880x2015 slg/vpl","FSC Mix 70% CU-COC 800339","DEUR","BINNEN","BINNEN","MODERN","6521","","","Inventory","",true,"STOMP","",2015,880,38,"",false,false,false,363.64,440,{"$f":"ROUND(AA449*(1-VLOOKUP(AF449,Discounts!C:E,3,0)),2)","v":363.64},null,103690,"B055"]
[8718528013663,"Artikel",8718528013663,"STUKS","WK6521 A1 stomp","wit 880x2115 slg/vpl","FSC Mix 70% CU-COC 800339","DEUR","BINNEN","BINNEN","MODERN","6521","","","Inventory","",true,"STOMP","",2115,880,38,"",false,false,false,363.64,440,{"$f":"ROUND(AA450*(1-VLOOKUP(AF450,Discounts!C:E,3,0)),2)","v":363.64},null,103690,"B055"]
[8718528013694,"Artikel",8718528013694,"STUKS","WK6521 XL A1 stomp","wit 880x2315 slg/vpl","FSC Mix 70% CU-COC 800339","DEUR","BINNEN","BINNEN","MODERN","6521","","","Inventory","",true,"STOMP","",2315,880,38,"",false,false,false,363.64,440,{"$f":"ROUND(AA451*(1-VLOOKUP(AF451,Discounts!C:E,3,0)),2)","v":363.64},null,103690,"B055"]
[8718528013724,"Artikel",8718528013724,"STUKS","WK6521 A1 stomp","wit 930x2015 slg/vpl","FSC Mix 70% CU-COC 800339","DEUR","BINNEN","BINNEN","MODERN","6521","","","Inventory","",true,"STOMP","",2015,930,38,"",false,false,false,363.64,440,{"$f":"ROUND(AA452*(1-VLOOKUP(AF452,Discounts!C:E,3,0)),2)","v":363.64},null,103690,"B055"]
[8718528013731,"Artikel",8718528013731,"STUKS","WK6521 A1 stomp","wit 930x2115 slg/vpl","FSC Mix 70% CU-COC 800339","DEUR","BINNEN","BINNEN","MODERN","6521","","","Inventory","",true,"STOMP","",2115,930,38,"",false,false,false,363.64,440,{"$f":"ROUND(AA453*(1-VLOOKUP(AF453,Discounts!C:E,3,0)),2)","v":363.64},null,103690,"B055"]
[8718528013762,"Artikel",8718528013762,"STUKS","WK6521 XL A1 stomp","wit 930x2315 slg/vpl","FSC Mix 70% CU-COC 800339","DEUR","BINNEN","BINNEN","MODERN","6521","","","Inventory","",true,"STOMP","",2315,930,38,"",false,false,false,363.64,440,{"$f":"ROUND(AA454*(1-VLOOKUP(AF454,Discounts!C:E,3,0)),2)","v":363.64},null,103690,"B055"]
[8718528099964,"Artikel",8718528099964,"STUKS","WK6521 XL A1 stomp","wit 630x2315 slg/vpl","FSC Mix 70% CU-COC 800339","DEUR","BINNEN","BINNEN","MODERN","6521","","","Inventory","",true,"STOMP","",2315,630,38,"",false,false,false,363.64,440,{"$f":"ROUND(AA455*(1-VLOOKUP(AF455,Discounts!C:E,3,0)),2)","v":363.64},null,103690,"B055"]
[8718528099971,"Artikel",8718528099971,"STUKS","WK6521 XL A1 stomp","wit 680x2315 slg/vpl","FSC Mix 70% CU-COC 800339","DEUR","BINNEN","BINNEN","MODERN","6521","","","Inventory","",true,"STOMP","",2315,680,38,"",false,false,false,363.64,440,{"$f":"ROUND(AA456*(1-VLOOKUP(AF456,Discounts!C:E,3,0)),2)","v":363.64},null,103690,"B055"]
[8718528013793,"Artikel",8718528013793,"STUKS","WK6522 A1 stomp","wit 780x2015 slg/vpl","FSC Mix 70% CU-COC 800339","DEUR","BINNEN","BINNEN","MODERN","6522","","","Inventory","",true,"STOMP","",2015,780,38,"",false,false,false,397.52,481,{"$f":"ROUND(AA457*(1-VLOOKUP(AF457,Discounts!C:E,3,0)),2)","v":397.52},null,103700,"B055"]
[8718528013823,"Artikel",8718528013823,"STUKS","WK6522 A1 stomp","wit 830x2015 slg/vpl","FSC Mix 70% CU-COC 800339","DEUR","BINNEN","BINNEN","MODERN","6522","","","Inventory","",true,"STOMP","",2015,830,38,"",false,false,false,397.52,481,{"$f":"ROUND(AA458*(1-VLOOKUP(AF458,Discounts!C:E,3,0)),2)","v":397.52},null,103700,"B055"]
[8718528013854,"Artikel",8718528013854,"STUKS","WK6522 A1 stomp","wit 830x2115 slg/vpl","FSC Mix 70% CU-COC 800339","DEUR","BINNEN","BINNEN","MODERN","6522","","","Inventory","",true,"STOMP","",2115,830,38,"",false,false,false,397.52,481,{"$f":"ROUND(AA459*(1-VLOOKUP(AF459,Discounts!C:E,3,0)),2)","v":397.52},null,103700,"B055"]
[8718528013885,"Artikel",8718528013885,"STUKS","WK6522 XL A1 stomp","wit 830x2315 slg/vpl","FSC Mix 70% CU-COC 800339","DEUR","BINNEN","BINNEN","MODERN","6522","","","Inventory","",true,"STOMP","",2315,830,38,"",false,false,false,397.52,481,{"$f":"ROUND(AA460*(1-VLOOKUP(AF460,Discounts!C:E,3,0)),2)","v":397.52},null,103700,"B055"]
[8718528013915,"Artikel",8718528013915,"STUKS","WK6522 A1 stomp","wit 880x2015 slg/vpl","FSC Mix 70% CU-COC 800339","DEUR","BINNEN","BINNEN","MODERN","6522","","","Inventory","",true,"STOMP","",2015,880,38,"",false,false,false,397.52,481,{"$f":"ROUND(AA461*(1-VLOOKUP(AF461,Discounts!C:E,3,0)),2)","v":397.52},null,103700,"B055"]
[8718528013922,"Artikel",8718528013922,"STUKS","WK6522 A1 stomp","wit 880x2115 slg/vpl","FSC Mix 70% CU-COC 800339","DEUR","BINNEN","BINNEN","MODERN","6522","","","Inventory","",true,"STOMP","",2115,880,38,"",false,false,false,397.52,481,{"$f":"ROUND(AA462*(1-VLOOKUP(AF462,Discounts!C:E,3,0)),2)","v":397.52},null,103700,"B055"]
[8718528013953,"Artikel",8718528013953,"STUKS","WK6522 XL A1 stomp","wit 880x2315 slg/vpl","FSC Mix 70% CU-COC 800339","DEUR","BINNEN","BINNEN","MODERN","6522","","","Inventory","",true,"STOMP","",2315,880,38,"",false,false,false,397.52,481,{"$f":"ROUND(AA463*(1-VLOOKUP(AF463,Discounts!C:E,3,0)),2)","v":397.52},null,103700,"B055"]
[8718528013984,"Artikel",8718528013984,"STUKS","WK6522 A1 stomp","wit 930x2015 slg/vpl","FSC Mix 70% CU-COC 800339","DEUR","BINNEN","BINNEN","MODERN","6522","","","Inventory","",true,"STOMP","",2015,930,38,"",false,false,false,397.52,481,{"$f":"ROUND(AA464*(1-VLOOKUP(AF464,Discounts!C:E,3,0)),2)","v":397.52},null,103700,"B055"]
[8718528013991,"Artikel",8718528013991,"STUKS","WK6522 A1 stomp","wit 930x2115 slg/vpl","FSC Mix 70% CU-COC 800339","DEUR","BINNEN","BINNEN","MODERN","6522","","","Inventory","",true,"STOMP","",2115,930,38,"",false,false,false,397.52,481,{"$f":"ROUND(AA465*(1-VLOOKUP(AF465,Discounts!C:E,3,0)),2)","v":397.52},null,103700,"B055"]
[8718528014028,"Artikel",8718528014028,"STUKS","WK6522 XL A1 stomp","wit 930x2315 slg/vpl","FSC Mix 70% CU-COC 800339","DEUR","BINNEN","BINNEN","MODERN","6522","","","Inventory","",true,"STOMP","",2315,930,38,"",false,false,false,397.52,481,{"$f":"ROUND(AA466*(1-VLOOKUP(AF466,Discounts!C:E,3,0)),2)","v":397.52},null,103700,"B055"]
[8718528099988,"Artikel",8718528099988,"STUKS","WK6522 A1 stomp","wit 630x2015 slg/vpl","FSC Mix 70% CU-COC 800339","DEUR","BINNEN","BINNEN","MODERN","6522","","","Inventory","",true,"STOMP","",2015,630,38,"",false,false,false,397.52,481,{"$f":"ROUND(AA467*(1-VLOOKUP(AF467,Discounts!C:E,3,0)),2)","v":397.52},null,103700,"B055"]
[8718528099995,"Artikel",8718528099995,"STUKS","WK6522 A1 stomp","wit 630x2115 slg/vpl","FSC Mix 70% CU-COC 800339","DEUR","BINNEN","BINNEN","MODERN","6522","","","Inventory","",true,"STOMP","",2115,630,38,"",false,false,false,397.52,481,{"$f":"ROUND(AA468*(1-VLOOKUP(AF468,Discounts!C:E,3,0)),2)","v":397.52},null,103700,"B055"]
[8718528100004,"Artikel",8718528100004,"STUKS","WK6522 XL A1 stomp","wit 630x2315 slg/vpl","FSC Mix 70% CU-COC 800339","DEUR","BINNEN","BINNEN","MODERN","6522","","","Inventory","",true,"STOMP","",2315,630,38,"",false,false,false,397.52,481,{"$f":"ROUND(AA469*(1-VLOOKUP(AF469,Discounts!C:E,3,0)),2)","v":397.52},null,103700,"B055"]
[8718528100011,"Artikel",8718528100011,"STUKS","WK6522 A1 stomp","wit 680x2015 slg/vpl","FSC Mix 70% CU-COC 800339","DEUR","BINNEN","BINNEN","MODERN","6522","","","Inventory","",true,"STOMP","",2015,680,38,"",false,false,false,397.52,481,{"$f":"ROUND(AA470*(1-VLOOKUP(AF470,Discounts!C:E,3,0)),2)","v":397.52},null,103700,"B055"]
[8718528100028,"Artikel",8718528100028,"STUKS","WK6522 A1 stomp","wit 680x2115 slg/vpl","FSC Mix 70% CU-COC 800339","DEUR","BINNEN","BINNEN","MODERN","6522","","","Inventory","",true,"STOMP","",2115,680,38,"",false,false,false,397.52,481,{"$f":"ROUND(AA471*(1-VLOOKUP(AF471,Discounts!C:E,3,0)),2)","v":397.52},null,103700,"B055"]
[8718528100035,"Artikel",8718528100035,"STUKS","WK6522 XL A1 stomp","wit 680x2315 slg/vpl","FSC Mix 70% CU-COC 800339","DEUR","BINNEN","BINNEN","MODERN","6522","","","Inventory","",true,"STOMP","",2315,680,38,"",false,false,false,397.52,481,{"$f":"ROUND(AA472*(1-VLOOKUP(AF472,Discounts!C:E,3,0)),2)","v":397.52},null,103700,"B055"]
[8718528100042,"Artikel",8718528100042,"STUKS","WK6522 A1 stomp","wit 730x2015 slg/vpl","FSC Mix 70% CU-COC 800339","DEUR","BINNEN","BINNEN","MODERN","6522","","","Inventory","",true,"STOMP","",2015,730,38,"",false,false,false,397.52,481,{"$f":"ROUND(AA473*(1-VLOOKUP(AF473,Discounts!C:E,3,0)),2)","v":397.52},null,103700,"B055"]
[8718528100059,"Artikel",8718528100059,"STUKS","WK6522 A1 stomp","wit 730x2115 slg/vpl","FSC Mix 70% CU-COC 800339","DEUR","BINNEN","BINNEN","MODERN","6522","","","Inventory","",true,"STOMP","",2115,730,38,"",false,false,false,397.52,481,{"$f":"ROUND(AA474*(1-VLOOKUP(AF474,Discounts!C:E,3,0)),2)","v":397.52},null,103700,"B055"]
[8718528100066,"Artikel",8718528100066,"STUKS","WK6522 XL A1 stomp","wit 730x2315 slg/vpl","FSC Mix 70% CU-COC 800339","DEUR","BINNEN","BINNEN","MODERN","6522","","","Inventory","",true,"STOMP","",2315,730,38,"",false,false,false,397.52,481,{"$f":"ROUND(AA475*(1-VLOOKUP(AF475,Discounts!C:E,3,0)),2)","v":397.52},null,103700,"B055"]
[8718528100073,"Artikel",8718528100073,"STUKS","WK6522 A1 stomp","wit 780x2115 slg/vpl","FSC Mix 70% CU-COC 800339","DEUR","BINNEN","BINNEN","MODERN","6522","","","Inventory","",true,"STOMP","",2115,780,38,"",false,false,false,397.52,481,{"$f":"ROUND(AA476*(1-VLOOKUP(AF476,Discounts!C:E,3,0)),2)","v":397.52},null,103700,"B055"]
[8718528100080,"Artikel",8718528100080,"STUKS","WK6522 XL A1 stomp","wit 780x2315 slg/vpl","FSC Mix 70% CU-COC 800339","DEUR","BINNEN","BINNEN","MODERN","6522","","","Inventory","",true,"STOMP","",2315,780,38,"",false,false,false,397.52,481,{"$f":"ROUND(AA477*(1-VLOOKUP(AF477,Discounts!C:E,3,0)),2)","v":397.52},null,103700,"B055"]
[8718528014059,"Artikel",8718528014059,"STUKS","WK6531 A1 stomp","wit 730x2015 slg/vpl","FSC Mix 70% CU-COC 800339","DEUR","BINNEN","BINNEN","MODERN","6531","","","Inventory","",true,"STOMP","",2015,730,38,"",false,false,false,402.48,487,{"$f":"ROUND(AA478*(1-VLOOKUP(AF478,Discounts!C:E,3,0)),2)","v":402.48},null,103710,"B055"]
[8718528014080,"Artikel",8718528014080,"STUKS","WK6531 A1 stomp","wit 730x2115 slg/vpl","FSC Mix 70% CU-COC 800339","DEUR","BINNEN","BINNEN","MODERN","6531","","","Inventory","",true,"STOMP","",2115,730,38,"",false,false,false,402.48,487,{"$f":"ROUND(AA479*(1-VLOOKUP(AF479,Discounts!C:E,3,0)),2)","v":402.48},null,103710,"B055"]
[8718528014110,"Artikel",8718528014110,"STUKS","WK6531 XL A1 stomp","wit 730x2315 slg/vpl","FSC Mix 70% CU-COC 800339","DEUR","BINNEN","BINNEN","MODERN","6531","","","Inventory","",true,"STOMP","",2315,730,38,"",false,false,false,402.48,487,{"$f":"ROUND(AA480*(1-VLOOKUP(AF480,Discounts!C:E,3,0)),2)","v":402.48},null,103710,"B055"]
[8718528014141,"Artikel",8718528014141,"STUKS","WK6531 A1 stomp","wit 780x2015 slg/vpl","FSC Mix 70% CU-COC 800339","DEUR","BINNEN","BINNEN","MODERN","6531","","","Inventory","",true,"STOMP","",2015,780,38,"",false,false,false,402.48,487,{"$f":"ROUND(AA481*(1-VLOOKUP(AF481,Discounts!C:E,3,0)),2)","v":402.48},null,103710,"B055"]
[8718528014172,"Artikel",8718528014172,"STUKS","WK6531 A1 stomp","wit 780x2115 slg/vpl","FSC Mix 70% CU-COC 800339","DEUR","BINNEN","BINNEN","MODERN","6531","","","Inventory","",true,"STOMP","",2115,780,38,"",false,false,false,402.48,487,{"$f":"ROUND(AA482*(1-VLOOKUP(AF482,Discounts!C:E,3,0)),2)","v":402.48},null,103710,"B055"]
[8718528014202,"Artikel",8718528014202,"STUKS","WK6531 XL A1 stomp","wit 780x2315 slg/vpl","FSC Mix 70% CU-COC 800339","DEUR","BINNEN","BINNEN","MODERN","6531","","","Inventory","",true,"STOMP","",2315,780,38,"",false,false,false,402.48,487,{"$f":"ROUND(AA483*(1-VLOOKUP(AF483,Discounts!C:E,3,0)),2)","v":402.48},null,103710,"B055"]
[8718528014233,"Artikel",8718528014233,"STUKS","WK6531 A1 stomp","wit 830x2015 slg/vpl","FSC Mix 70% CU-COC 800339","DEUR","BINNEN","BINNEN","MODERN","6531","","","Inventory","",true,"STOMP","",2015,830,38,"",false,false,false,402.48,487,{"$f":"ROUND(AA484*(1-VLOOKUP(AF484,Discounts!C:E,3,0)),2)","v":402.48},null,103710,"B055"]
[8718528014264,"Artikel",8718528014264,"STUKS","WK6531 A1 stomp","wit 830x2115 slg/vpl","FSC Mix 70% CU-COC 800339","DEUR","BINNEN","BINNEN","MODERN","6531","","","Inventory","",true,"STOMP","",2115,830,38,"",false,false,false,402.48,487,{"$f":"ROUND(AA485*(1-VLOOKUP(AF485,Discounts!C:E,3,0)),2)","v":402.48},null,103710,"B055"]
[8718528014295,"Artikel",8718528014295,"STUKS","WK6531 XL A1 stomp","wit 830x2315 slg/vpl","FSC Mix 70% CU-COC 800339","DEUR","BINNEN","BINNEN","MODERN","6531","","","Inventory","",true,"STOMP","",2315,830,38,"",false,false,false,402.48,487,{"$f":"ROUND(AA486*(1-VLOOKUP(AF486,Discounts!C:E,3,0)),2)","v":402.48},null,103710,"B055"]
[8718528014325,"Artikel",8718528014325,"STUKS","WK6531 A1 stomp","wit 880x2015 slg/vpl","FSC Mix 70% CU-COC 800339","DEUR","BINNEN","BINNEN","MODERN","6531","","","Inventory","",true,"STOMP","",2015,880,38,"",false,false,false,402.48,487,{"$f":"ROUND(AA487*(1-VLOOKUP(AF487,Discounts!C:E,3,0)),2)","v":402.48},null,103710,"B055"]
[8718528014332,"Artikel",8718528014332,"STUKS","WK6531 A1 stomp","wit 880x2115 slg/vpl","FSC Mix 70% CU-COC 800339","DEUR","BINNEN","BINNEN","MODERN","6531","","","Inventory","",true,"STOMP","",2115,880,38,"",false,false,false,402.48,487,{"$f":"ROUND(AA488*(1-VLOOKUP(AF488,Discounts!C:E,3,0)),2)","v":402.48},null,103710,"B055"]
[8718528014363,"Artikel",8718528014363,"STUKS","WK6531 XL A1 stomp","wit 880x2315 slg/vpl","FSC Mix 70% CU-COC 800339","DEUR","BINNEN","BINNEN","MODERN","6531","","","Inventory","",true,"STOMP","",2315,880,38,"",false,false,false,402.48,487,{"$f":"ROUND(AA489*(1-VLOOKUP(AF489,Discounts!C:E,3,0)),2)","v":402.48},null,103710,"B055"]
[8718528014394,"Artikel",8718528014394,"STUKS","WK6531 A1 stomp","wit 930x2015 slg/vpl","FSC Mix 70% CU-COC 800339","DEUR","BINNEN","BINNEN","MODERN","6531","","","Inventory","",true,"STOMP","",2015,930,38,"",false,false,false,402.48,487,{"$f":"ROUND(AA490*(1-VLOOKUP(AF490,Discounts!C:E,3,0)),2)","v":402.48},null,103710,"B055"]
[8718528014400,"Artikel",8718528014400,"STUKS","WK6531 A1 stomp","wit 930x2115 slg/vpl","FSC Mix 70% CU-COC 800339","DEUR","BINNEN","BINNEN","MODERN","6531","","","Inventory","",true,"STOMP","",2115,930,38,"",false,false,false,402.48,487,{"$f":"ROUND(AA491*(1-VLOOKUP(AF491,Discounts!C:E,3,0)),2)","v":402.48},null,103710,"B055"]
[8718528014431,"Artikel",8718528014431,"STUKS","WK6531 XL A1 stomp","wit 930x2315 slg/vpl","FSC Mix 70% CU-COC 800339","DEUR","BINNEN","BINNEN","MODERN","6531","","","Inventory","",true,"STOMP","",2315,930,38,"",false,false,false,402.48,487,{"$f":"ROUND(AA492*(1-VLOOKUP(AF492,Discounts!C:E,3,0)),2)","v":402.48},null,103710,"B055"]
[8718528056509,"Artikel",8718528056509,"STUKS","WK6531 A1 stomp","wit 630x2015 slg/vpl","FSC Mix 70% CU-COC 800339","DEUR","BINNEN","BINNEN","MODERN","6531","","","Inventory","",true,"STOMP","",2015,630,38,"",false,false,false,402.48,487,{"$f":"ROUND(AA493*(1-VLOOKUP(AF493,Discounts!C:E,3,0)),2)","v":402.48},null,103710,"B055"]
[8718528056561,"Artikel",8718528056561,"STUKS","WK6531 A1 stomp","wit 630x2115 slg/vpl","FSC Mix 70% CU-COC 800339","DEUR","BINNEN","BINNEN","MODERN","6531","","","Inventory","",true,"STOMP","",2115,630,38,"",false,false,false,402.48,487,{"$f":"ROUND(AA494*(1-VLOOKUP(AF494,Discounts!C:E,3,0)),2)","v":402.48},null,103710,"B055"]
[8718528056622,"Artikel",8718528056622,"STUKS","WK6531 A1 stomp","wit 680x2015 slg/vpl","FSC Mix 70% CU-COC 800339","DEUR","BINNEN","BINNEN","MODERN","6531","","","Inventory","",true,"STOMP","",2015,680,38,"",false,false,false,402.48,487,{"$f":"ROUND(AA495*(1-VLOOKUP(AF495,Discounts!C:E,3,0)),2)","v":402.48},null,103710,"B055"]
[8718528056684,"Artikel",8718528056684,"STUKS","WK6531 A1 stomp","wit 680x2115 slg/vpl","FSC Mix 70% CU-COC 800339","DEUR","BINNEN","BINNEN","MODERN","6531","","","Inventory","",true,"STOMP","",2115,680,38,"",false,false,false,402.48,487,{"$f":"ROUND(AA496*(1-VLOOKUP(AF496,Discounts!C:E,3,0)),2)","v":402.48},null,103710,"B055"]
[8718528100097,"Artikel",8718528100097,"STUKS","WK6531 XL A1 stomp","wit 630x2315 slg/vpl","FSC Mix 70% CU-COC 800339","DEUR","BINNEN","BINNEN","MODERN","6531","","","Inventory","",true,"STOMP","",2315,630,38,"",false,false,false,402.48,487,{"$f":"ROUND(AA497*(1-VLOOKUP(AF497,Discounts!C:E,3,0)),2)","v":402.48},null,103710,"B055"]
[8718528100103,"Artikel",8718528100103,"STUKS","WK6531 XL A1 stomp","wit 680x2315 slg/vpl","FSC Mix 70% CU-COC 800339","DEUR","BINNEN","BINNEN","MODERN","6531","","","Inventory","",true,"STOMP","",2315,680,38,"",false,false,false,402.48,487,{"$f":"ROUND(AA498*(1-VLOOKUP(AF498,Discounts!C:E,3,0)),2)","v":402.48},null,103710,"B055"]
[8718528014462,"Artikel",8718528014462,"STUKS","WK6532 A1 stomp","wit 780x2015 slg/vpl","FSC Mix 70% CU-COC 800339","DEUR","BINNEN","BINNEN","MODERN","6532","","","Inventory","",true,"STOMP","",2015,780,38,"",false,false,false,411.57,498,{"$f":"ROUND(AA499*(1-VLOOKUP(AF499,Discounts!C:E,3,0)),2)","v":411.57},null,103720,"B055"]
[8718528014493,"Artikel",8718528014493,"STUKS","WK6532 A1 stomp","wit 830x2015 slg/vpl","FSC Mix 70% CU-COC 800339","DEUR","BINNEN","BINNEN","MODERN","6532","","","Inventory","",true,"STOMP","",2015,830,38,"",false,false,false,411.57,498,{"$f":"ROUND(AA500*(1-VLOOKUP(AF500,Discounts!C:E,3,0)),2)","v":411.57},null,103720,"B055"]
[8718528014523,"Artikel",8718528014523,"STUKS","WK6532 A1 stomp","wit 830x2115 slg/vpl","FSC Mix 70% CU-COC 800339","DEUR","BINNEN","BINNEN","MODERN","6532","","","Inventory","",true,"STOMP","",2115,830,38,"",false,false,false,411.57,498,{"$f":"ROUND(AA501*(1-VLOOKUP(AF501,Discounts!C:E,3,0)),2)","v":411.57},null,103720,"B055"]
[8718528014554,"Artikel",8718528014554,"STUKS","WK6532 XL A1 stomp","wit 830x2315 slg/vpl","FSC Mix 70% CU-COC 800339","DEUR","BINNEN","BINNEN","MODERN","6532","","","Inventory","",true,"STOMP","",2315,830,38,"",false,false,false,411.57,498,{"$f":"ROUND(AA502*(1-VLOOKUP(AF502,Discounts!C:E,3,0)),2)","v":411.57},null,103720,"B055"]
[8718528014585,"Artikel",8718528014585,"STUKS","WK6532 A1 stomp","wit 880x2015 slg/vpl","FSC Mix 70% CU-COC 800339","DEUR","BINNEN","BINNEN","MODERN","6532","","","Inventory","",true,"STOMP","",2015,880,38,"",false,false,false,411.57,498,{"$f":"ROUND(AA503*(1-VLOOKUP(AF503,Discounts!C:E,3,0)),2)","v":411.57},null,103720,"B055"]
[8718528014592,"Artikel",8718528014592,"STUKS","WK6532 A1 stomp","wit 880x2115 slg/vpl","FSC Mix 70% CU-COC 800339","DEUR","BINNEN","BINNEN","MODERN","6532","","","Inventory","",true,"STOMP","",2115,880,38,"",false,false,false,411.57,498,{"$f":"ROUND(AA504*(1-VLOOKUP(AF504,Discounts!C:E,3,0)),2)","v":411.57},null,103720,"B055"]
[8718528014622,"Artikel",8718528014622,"STUKS","WK6532 XL A1 stomp","wit 880x2315 slg/vpl","FSC Mix 70% CU-COC 800339","DEUR","BINNEN","BINNEN","MODERN","6532","","","Inventory","",true,"STOMP","",2315,880,38,"",false,false,false,411.57,498,{"$f":"ROUND(AA505*(1-VLOOKUP(AF505,Discounts!C:E,3,0)),2)","v":411.57},null,103720,"B055"]
[8718528014653,"Artikel",8718528014653,"STUKS","WK6532 A1 stomp","wit 930x2015 slg/vpl","FSC Mix 70% CU-COC 800339","DEUR","BINNEN","BINNEN","MODERN","6532","","","Inventory","",true,"STOMP","",2015,930,38,"",false,false,false,411.57,498,{"$f":"ROUND(AA506*(1-VLOOKUP(AF506,Discounts!C:E,3,0)),2)","v":411.57},null,103720,"B055"]
[8718528014660,"Artikel",8718528014660,"STUKS","WK6532 A1 stomp","wit 930x2115 slg/vpl","FSC Mix 70% CU-COC 800339","DEUR","BINNEN","BINNEN","MODERN","6532","","","Inventory","",true,"STOMP","",2115,930,38,"",false,false,false,411.57,498,{"$f":"ROUND(AA507*(1-VLOOKUP(AF507,Discounts!C:E,3,0)),2)","v":411.57},null,103720,"B055"]
[8718528014691,"Artikel",8718528014691,"STUKS","WK6532 XL A1 stomp","wit 930x2315 slg/vpl","FSC Mix 70% CU-COC 800339","DEUR","BINNEN","BINNEN","MODERN","6532","","","Inventory","",true,"STOMP","",2315,930,38,"",false,false,false,411.57,498,{"$f":"ROUND(AA508*(1-VLOOKUP(AF508,Discounts!C:E,3,0)),2)","v":411.57},null,103720,"B055"]
[8718528100110,"Artikel",8718528100110,"STUKS","WK6532 A1 stomp","wit 630x2015 slg/vpl","FSC Mix 70% CU-COC 800339","DEUR","BINNEN","BINNEN","MODERN","6532","","","Inventory","",true,"STOMP","",2015,630,38,"",false,false,false,411.57,498,{"$f":"ROUND(AA509*(1-VLOOKUP(AF509,Discounts!C:E,3,0)),2)","v":411.57},null,103720,"B055"]
[8718528100127,"Artikel",8718528100127,"STUKS","WK6532 A1 stomp","wit 630x2115 slg/vpl","FSC Mix 70% CU-COC 800339","DEUR","BINNEN","BINNEN","MODERN","6532","","","Inventory","",true,"STOMP","",2115,630,38,"",false,false,false,411.57,498,{"$f":"ROUND(AA510*(1-VLOOKUP(AF510,Discounts!C:E,3,0)),2)","v":411.57},null,103720,"B055"]
[8718528100134,"Artikel",8718528100134,"STUKS","WK6532 XL A1 stomp","wit 630x2315 slg/vpl","FSC Mix 70% CU-COC 800339","DEUR","BINNEN","BINNEN","MODERN","6532","","","Inventory","",true,"STOMP","",2315,630,38,"",false,false,false,411.57,498,{"$f":"ROUND(AA511*(1-VLOOKUP(AF511,Discounts!C:E,3,0)),2)","v":411.57},null,103720,"B055"]
[8718528100141,"Artikel",8718528100141,"STUKS","WK6532 A1 stomp","wit 680x2015 slg/vpl","FSC Mix 70% CU-COC 800339","DEUR","BINNEN","BINNEN","MODERN","6532","","","Inventory","",true,"STOMP","",2015,680,38,"",false,false,false,411.57,498,{"$f":"ROUND(AA512*(1-VLOOKUP(AF512,Discounts!C:E,3,0)),2)","v":411.57},null,103720,"B055"]
[8718528100158,"Artikel",8718528100158,"STUKS","WK6532 A1 stomp","wit 680x2115 slg/vpl","FSC Mix 70% CU-COC 800339","DEUR","BINNEN","BINNEN","MODERN","6532","","","Inventory","",true,"STOMP","",2115,680,38,"",false,false,false,411.57,498,{"$f":"ROUND(AA513*(1-VLOOKUP(AF513,Discounts!C:E,3,0)),2)","v":411.57},null,103720,"B055"]
[8718528100165,"Artikel",8718528100165,"STUKS","WK6532 XL A1 stomp","wit 680x2315 slg/vpl","FSC Mix 70% CU-COC 800339","DEUR","BINNEN","BINNEN","MODERN","6532","","","Inventory","",true,"STOMP","",2315,680,38,"",false,false,false,411.57,498,{"$f":"ROUND(AA514*(1-VLOOKUP(AF514,Discounts!C:E,3,0)),2)","v":411.57},null,103720,"B055"]
[8718528100172,"Artikel",8718528100172,"STUKS","WK6532 A1 stomp","wit 730x2015 slg/vpl","FSC Mix 70% CU-COC 800339","DEUR","BINNEN","BINNEN","MODERN","6532","","","Inventory","",true,"STOMP","",2015,730,38,"",false,false,false,411.57,498,{"$f":"ROUND(AA515*(1-VLOOKUP(AF515,Discounts!C:E,3,0)),2)","v":411.57},null,103720,"B055"]
[8718528100189,"Artikel",8718528100189,"STUKS","WK6532 A1 stomp","wit 730x2115 slg/vpl","FSC Mix 70% CU-COC 800339","DEUR","BINNEN","BINNEN","MODERN","6532","","","Inventory","",true,"STOMP","",2115,730,38,"",false,false,false,411.57,498,{"$f":"ROUND(AA516*(1-VLOOKUP(AF516,Discounts!C:E,3,0)),2)","v":411.57},null,103720,"B055"]
[8718528100196,"Artikel",8718528100196,"STUKS","WK6532 XL A1 stomp","wit 730x2315 slg/vpl","FSC Mix 70% CU-COC 800339","DEUR","BINNEN","BINNEN","MODERN","6532","","","Inventory","",true,"STOMP","",2315,730,38,"",false,false,false,411.57,498,{"$f":"ROUND(AA517*(1-VLOOKUP(AF517,Discounts!C:E,3,0)),2)","v":411.57},null,103720,"B055"]
[8718528100202,"Artikel",8718528100202,"STUKS","WK6532 A1 stomp","wit 780x2115 slg/vpl","FSC Mix 70% CU-COC 800339","DEUR","BINNEN","BINNEN","MODERN","6532","","","Inventory","",true,"STOMP","",2115,780,38,"",false,false,false,411.57,498,{"$f":"ROUND(AA518*(1-VLOOKUP(AF518,Discounts!C:E,3,0)),2)","v":411.57},null,103720,"B055"]
[8718528100219,"Artikel",8718528100219,"STUKS","WK6532 XL A1 stomp","wit 780x2315 slg/vpl","FSC Mix 70% CU-COC 800339","DEUR","BINNEN","BINNEN","MODERN","6532","","","Inventory","",true,"STOMP","",2315,780,38,"",false,false,false,411.57,498,{"$f":"ROUND(AA519*(1-VLOOKUP(AF519,Discounts!C:E,3,0)),2)","v":411.57},null,103720,"B055"]
[8718528016633,"Artikel",8718528016633,"STUKS","WK6533 A1 stomp","wit 780x2015 slg/vpl","FSC Mix 70% CU-COC 800339","DEUR","BINNEN","BINNEN","MODERN","6533","","","Inventory","",true,"STOMP","",2015,780,38,"",false,false,false,388.43,470,{"$f":"ROUND(AA520*(1-VLOOKUP(AF520,Discounts!C:E,3,0)),2)","v":388.43},null,103730,"B055"]
[8718528016664,"Artikel",8718528016664,"STUKS","WK6533 A1 stomp","wit 830x2015 slg/vpl","FSC Mix 70% CU-COC 800339","DEUR","BINNEN","BINNEN","MODERN","6533","","","Inventory","",true,"STOMP","",2015,830,38,"",false,false,false,388.43,470,{"$f":"ROUND(AA521*(1-VLOOKUP(AF521,Discounts!C:E,3,0)),2)","v":388.43},null,103730,"B055"]
[8718528016695,"Artikel",8718528016695,"STUKS","WK6533 A1 stomp","wit 830x2115 slg/vpl","FSC Mix 70% CU-COC 800339","DEUR","BINNEN","BINNEN","MODERN","6533","","","Inventory","",true,"STOMP","",2115,830,38,"",false,false,false,388.43,470,{"$f":"ROUND(AA522*(1-VLOOKUP(AF522,Discounts!C:E,3,0)),2)","v":388.43},null,103730,"B055"]
[8718528016725,"Artikel",8718528016725,"STUKS","WK6533 XL A1 stomp","wit 830x2315 slg/vpl","FSC Mix 70% CU-COC 800339","DEUR","BINNEN","BINNEN","MODERN","6533","","","Inventory","",true,"STOMP","",2315,830,38,"",false,false,false,388.43,470,{"$f":"ROUND(AA523*(1-VLOOKUP(AF523,Discounts!C:E,3,0)),2)","v":388.43},null,103730,"B055"]
[8718528016756,"Artikel",8718528016756,"STUKS","WK6533 A1 stomp","wit 880x2015 slg/vpl","FSC Mix 70% CU-COC 800339","DEUR","BINNEN","BINNEN","MODERN","6533","","","Inventory","",true,"STOMP","",2015,880,38,"",false,false,false,388.43,470,{"$f":"ROUND(AA524*(1-VLOOKUP(AF524,Discounts!C:E,3,0)),2)","v":388.43},null,103730,"B055"]
[8718528016763,"Artikel",8718528016763,"STUKS","WK6533 A1 stomp","wit 880x2115 slg/vpl","FSC Mix 70% CU-COC 800339","DEUR","BINNEN","BINNEN","MODERN","6533","","","Inventory","",true,"STOMP","",2115,880,38,"",false,false,false,388.43,470,{"$f":"ROUND(AA525*(1-VLOOKUP(AF525,Discounts!C:E,3,0)),2)","v":388.43},null,103730,"B055"]
[8718528016794,"Artikel",8718528016794,"STUKS","WK6533 XL A1 stomp","wit 880x2315 slg/vpl","FSC Mix 70% CU-COC 800339","DEUR","BINNEN","BINNEN","MODERN","6533","","","Inventory","",true,"STOMP","",2315,880,38,"",false,false,false,388.43,470,{"$f":"ROUND(AA526*(1-VLOOKUP(AF526,Discounts!C:E,3,0)),2)","v":388.43},null,103730,"B055"]
[8718528016824,"Artikel",8718528016824,"STUKS","WK6533 A1 stomp","wit 930x2015 slg/vpl","FSC Mix 70% CU-COC 800339","DEUR","BINNEN","BINNEN","MODERN","6533","","","Inventory","",true,"STOMP","",2015,930,38,"",false,false,false,388.43,470,{"$f":"ROUND(AA527*(1-VLOOKUP(AF527,Discounts!C:E,3,0)),2)","v":388.43},null,103730,"B055"]
[8718528016831,"Artikel",8718528016831,"STUKS","WK6533 A1 stomp","wit 930x2115 slg/vpl","FSC Mix 70% CU-COC 800339","DEUR","BINNEN","BINNEN","MODERN","6533","","","Inventory","",true,"STOMP","",2115,930,38,"",false,false,false,388.43,470,{"$f":"ROUND(AA528*(1-VLOOKUP(AF528,Discounts!C:E,3,0)),2)","v":388.43},null,103730,"B055"]
[8718528016862,"Artikel",8718528016862,"STUKS","WK6533 XL A1 stomp","wit 930x2315 slg/vpl","FSC Mix 70% CU-COC 800339","DEUR","BINNEN","BINNEN","MODERN","6533","","","Inventory","",true,"STOMP","",2315,930,38,"",false,false,false,388.43,470,{"$f":"ROUND(AA529*(1-VLOOKUP(AF529,Discounts!C:E,3,0)),2)","v":388.43},null,103730,"B055"]
[8718528100226,"Artikel",8718528100226,"STUKS","WK6533 A1 stomp","wit 630x2015 slg/vpl","FSC Mix 70% CU-COC 800339","DEUR","BINNEN","BINNEN","MODERN","6533","","","Inventory","",true,"STOMP","",2015,630,38,"",false,false,false,388.43,470,{"$f":"ROUND(AA530*(1-VLOOKUP(AF530,Discounts!C:E,3,0)),2)","v":388.43},null,103730,"B055"]
[8718528100233,"Artikel",8718528100233,"STUKS","WK6533 A1 stomp","wit 630x2115 slg/vpl","FSC Mix 70% CU-COC 800339","DEUR","BINNEN","BINNEN","MODERN","6533","","","Inventory","",true,"STOMP","",2115,630,38,"",false,false,false,388.43,470,{"$f":"ROUND(AA531*(1-VLOOKUP(AF531,Discounts!C:E,3,0)),2)","v":388.43},null,103730,"B055"]
[8718528100240,"Artikel",8718528100240,"STUKS","WK6533 XL A1 stomp","wit 630x2315 slg/vpl","FSC Mix 70% CU-COC 800339","DEUR","BINNEN","BINNEN","MODERN","6533","","","Inventory","",true,"STOMP","",2315,630,38,"",false,false,false,388.43,470,{"$f":"ROUND(AA532*(1-VLOOKUP(AF532,Discounts!C:E,3,0)),2)","v":388.43},null,103730,"B055"]
[8718528100257,"Artikel",8718528100257,"STUKS","WK6533 A1 stomp","wit 680x2015 slg/vpl","FSC Mix 70% CU-COC 800339","DEUR","BINNEN","BINNEN","MODERN","6533","","","Inventory","",true,"STOMP","",2015,680,38,"",false,false,false,388.43,470,{"$f":"ROUND(AA533*(1-VLOOKUP(AF533,Discounts!C:E,3,0)),2)","v":388.43},null,103730,"B055"]
[8718528100264,"Artikel",8718528100264,"STUKS","WK6533 A1 stomp","wit 680x2115 slg/vpl","FSC Mix 70% CU-COC 800339","DEUR","BINNEN","BINNEN","MODERN","6533","","","Inventory","",true,"STOMP","",2115,680,38,"",false,false,false,388.43,470,{"$f":"ROUND(AA534*(1-VLOOKUP(AF534,Discounts!C:E,3,0)),2)","v":388.43},null,103730,"B055"]
[8718528100271,"Artikel",8718528100271,"STUKS","WK6533 XL A1 stomp","wit 680x2315 slg/vpl","FSC Mix 70% CU-COC 800339","DEUR","BINNEN","BINNEN","MODERN","6533","","","Inventory","",true,"STOMP","",2315,680,38,"",false,false,false,388.43,470,{"$f":"ROUND(AA535*(1-VLOOKUP(AF535,Discounts!C:E,3,0)),2)","v":388.43},null,103730,"B055"]
[8718528100288,"Artikel",8718528100288,"STUKS","WK6533 A1 stomp","wit 730x2015 slg/vpl","FSC Mix 70% CU-COC 800339","DEUR","BINNEN","BINNEN","MODERN","6533","","","Inventory","",true,"STOMP","",2015,730,38,"",false,false,false,388.43,470,{"$f":"ROUND(AA536*(1-VLOOKUP(AF536,Discounts!C:E,3,0)),2)","v":388.43},null,103730,"B055"]
[8718528100295,"Artikel",8718528100295,"STUKS","WK6533 A1 stomp","wit 730x2115 slg/vpl","FSC Mix 70% CU-COC 800339","DEUR","BINNEN","BINNEN","MODERN","6533","","","Inventory","",true,"STOMP","",2115,730,38,"",false,false,false,388.43,470,{"$f":"ROUND(AA537*(1-VLOOKUP(AF537,Discounts!C:E,3,0)),2)","v":388.43},null,103730,"B055"]
[8718528100301,"Artikel",8718528100301,"STUKS","WK6533 XL A1 stomp","wit 730x2315 slg/vpl","FSC Mix 70% CU-COC 800339","DEUR","BINNEN","BINNEN","MODERN","6533","","","Inventory","",true,"STOMP","",2315,730,38,"",false,false,false,388.43,470,{"$f":"ROUND(AA538*(1-VLOOKUP(AF538,Discounts!C:E,3,0)),2)","v":388.43},null,103730,"B055"]
[8718528100318,"Artikel",8718528100318,"STUKS","WK6533 A1 stomp","wit 780x2115 slg/vpl","FSC Mix 70% CU-COC 800339","DEUR","BINNEN","BINNEN","MODERN","6533","","","Inventory","",true,"STOMP","",2115,780,38,"",false,false,false,388.43,470,{"$f":"ROUND(AA539*(1-VLOOKUP(AF539,Discounts!C:E,3,0)),2)","v":388.43},null,103730,"B055"]
[8718528100325,"Artikel",8718528100325,"STUKS","WK6533 XL A1 stomp","wit 780x2315 slg/vpl","FSC Mix 70% CU-COC 800339","DEUR","BINNEN","BINNEN","MODERN","6533","","","Inventory","",true,"STOMP","",2315,780,38,"",false,false,false,388.43,470,{"$f":"ROUND(AA540*(1-VLOOKUP(AF540,Discounts!C:E,3,0)),2)","v":388.43},null,103730,"B055"]
[8718528014721,"Artikel",8718528014721,"STUKS","WK6541 A1 stomp","wit 730x2015 slg/vpl","FSC Mix 70% CU-COC 800339","DEUR","BINNEN","BINNEN","MODERN","6541","","","Inventory","",true,"STOMP","",2015,730,38,"",false,false,false,441.32,534,{"$f":"ROUND(AA541*(1-VLOOKUP(AF541,Discounts!C:E,3,0)),2)","v":441.32},null,103740,"B055"]
[8718528014752,"Artikel",8718528014752,"STUKS","WK6541 A1 stomp","wit 730x2115 slg/vpl","FSC Mix 70% CU-COC 800339","DEUR","BINNEN","BINNEN","MODERN","6541","","","Inventory","",true,"STOMP","",2115,730,38,"",false,false,false,441.32,534,{"$f":"ROUND(AA542*(1-VLOOKUP(AF542,Discounts!C:E,3,0)),2)","v":441.32},null,103740,"B055"]
[8718528014783,"Artikel",8718528014783,"STUKS","WK6541 XL A1 stomp","wit 730x2315 slg/vpl","FSC Mix 70% CU-COC 800339","DEUR","BINNEN","BINNEN","MODERN","6541","","","Inventory","",true,"STOMP","",2315,730,38,"",false,false,false,441.32,534,{"$f":"ROUND(AA543*(1-VLOOKUP(AF543,Discounts!C:E,3,0)),2)","v":441.32},null,103740,"B055"]
[8718528014813,"Artikel",8718528014813,"STUKS","WK6541 A1 stomp","wit 780x2015 slg/vpl","FSC Mix 70% CU-COC 800339","DEUR","BINNEN","BINNEN","MODERN","6541","","","Inventory","",true,"STOMP","",2015,780,38,"",false,false,false,441.32,534,{"$f":"ROUND(AA544*(1-VLOOKUP(AF544,Discounts!C:E,3,0)),2)","v":441.32},null,103740,"B055"]
[8718528014844,"Artikel",8718528014844,"STUKS","WK6541 A1 stomp","wit 780x2115 slg/vpl","FSC Mix 70% CU-COC 800339","DEUR","BINNEN","BINNEN","MODERN","6541","","","Inventory","",true,"STOMP","",2115,780,38,"",false,false,false,441.32,534,{"$f":"ROUND(AA545*(1-VLOOKUP(AF545,Discounts!C:E,3,0)),2)","v":441.32},null,103740,"B055"]
[8718528014875,"Artikel",8718528014875,"STUKS","WK6541 XL A1 stomp","wit 780x2315 slg/vpl","FSC Mix 70% CU-COC 800339","DEUR","BINNEN","BINNEN","MODERN","6541","","","Inventory","",true,"STOMP","",2315,780,38,"",false,false,false,441.32,534,{"$f":"ROUND(AA546*(1-VLOOKUP(AF546,Discounts!C:E,3,0)),2)","v":441.32},null,103740,"B055"]
[8718528014905,"Artikel",8718528014905,"STUKS","WK6541 A1 stomp","wit 830x2015 slg/vpl","FSC Mix 70% CU-COC 800339","DEUR","BINNEN","BINNEN","MODERN","6541","","","Inventory","",true,"STOMP","",2015,830,38,"",false,false,false,441.32,534,{"$f":"ROUND(AA547*(1-VLOOKUP(AF547,Discounts!C:E,3,0)),2)","v":441.32},null,103740,"B055"]
[8718528014936,"Artikel",8718528014936,"STUKS","WK6541 A1 stomp","wit 830x2115 slg/vpl","FSC Mix 70% CU-COC 800339","DEUR","BINNEN","BINNEN","MODERN","6541","","","Inventory","",true,"STOMP","",2115,830,38,"",false,false,false,441.32,534,{"$f":"ROUND(AA548*(1-VLOOKUP(AF548,Discounts!C:E,3,0)),2)","v":441.32},null,103740,"B055"]
[8718528014967,"Artikel",8718528014967,"STUKS","WK6541 XL A1 stomp","wit 830x2315 slg/vpl","FSC Mix 70% CU-COC 800339","DEUR","BINNEN","BINNEN","MODERN","6541","","","Inventory","",true,"STOMP","",2315,830,38,"",false,false,false,441.32,534,{"$f":"ROUND(AA549*(1-VLOOKUP(AF549,Discounts!C:E,3,0)),2)","v":441.32},null,103740,"B055"]
[8718528014998,"Artikel",8718528014998,"STUKS","WK6541 A1 stomp","wit 880x2015 slg/vpl","FSC Mix 70% CU-COC 800339","DEUR","BINNEN","BINNEN","MODERN","6541","","","Inventory","",true,"STOMP","",2015,880,38,"",false,false,false,441.32,534,{"$f":"ROUND(AA550*(1-VLOOKUP(AF550,Discounts!C:E,3,0)),2)","v":441.32},null,103740,"B055"]
[8718528015001,"Artikel",8718528015001,"STUKS","WK6541 A1 stomp","wit 880x2115 slg/vpl","FSC Mix 70% CU-COC 800339","DEUR","BINNEN","BINNEN","MODERN","6541","","","Inventory","",true,"STOMP","",2115,880,38,"",false,false,false,441.32,534,{"$f":"ROUND(AA551*(1-VLOOKUP(AF551,Discounts!C:E,3,0)),2)","v":441.32},null,103740,"B055"]
[8718528015032,"Artikel",8718528015032,"STUKS","WK6541 XL A1 stomp","wit 880x2315 slg/vpl","FSC Mix 70% CU-COC 800339","DEUR","BINNEN","BINNEN","MODERN","6541","","","Inventory","",true,"STOMP","",2315,880,38,"",false,false,false,441.32,534,{"$f":"ROUND(AA552*(1-VLOOKUP(AF552,Discounts!C:E,3,0)),2)","v":441.32},null,103740,"B055"]
[8718528015063,"Artikel",8718528015063,"STUKS","WK6541 A1 stomp","wit 930x2015 slg/vpl","FSC Mix 70% CU-COC 800339","DEUR","BINNEN","BINNEN","MODERN","6541","","","Inventory","",true,"STOMP","",2015,930,38,"",false,false,false,441.32,534,{"$f":"ROUND(AA553*(1-VLOOKUP(AF553,Discounts!C:E,3,0)),2)","v":441.32},null,103740,"B055"]
[8718528015070,"Artikel",8718528015070,"STUKS","WK6541 A1 stomp","wit 930x2115 slg/vpl","FSC Mix 70% CU-COC 800339","DEUR","BINNEN","BINNEN","MODERN","6541","","","Inventory","",true,"STOMP","",2115,930,38,"",false,false,false,441.32,534,{"$f":"ROUND(AA554*(1-VLOOKUP(AF554,Discounts!C:E,3,0)),2)","v":441.32},null,103740,"B055"]
[8718528015100,"Artikel",8718528015100,"STUKS","WK6541 XL A1 stomp","wit 930x2315 slg/vpl","FSC Mix 70% CU-COC 800339","DEUR","BINNEN","BINNEN","MODERN","6541","","","Inventory","",true,"STOMP","",2315,930,38,"",false,false,false,441.32,534,{"$f":"ROUND(AA555*(1-VLOOKUP(AF555,Discounts!C:E,3,0)),2)","v":441.32},null,103740,"B055"]
[8718528100332,"Artikel",8718528100332,"STUKS","WK6541 A1 stomp","wit 630x2015 slg/vpl","FSC Mix 70% CU-COC 800339","DEUR","BINNEN","BINNEN","MODERN","6541","","","Inventory","",true,"STOMP","",2015,630,38,"",false,false,false,441.32,534,{"$f":"ROUND(AA556*(1-VLOOKUP(AF556,Discounts!C:E,3,0)),2)","v":441.32},null,103740,"B055"]
[8718528100349,"Artikel",8718528100349,"STUKS","WK6541 A1 stomp","wit 630x2115 slg/vpl","FSC Mix 70% CU-COC 800339","DEUR","BINNEN","BINNEN","MODERN","6541","","","Inventory","",true,"STOMP","",2115,630,38,"",false,false,false,441.32,534,{"$f":"ROUND(AA557*(1-VLOOKUP(AF557,Discounts!C:E,3,0)),2)","v":441.32},null,103740,"B055"]
[8718528100356,"Artikel",8718528100356,"STUKS","WK6541 XL A1 stomp","wit 630x2315 slg/vpl","FSC Mix 70% CU-COC 800339","DEUR","BINNEN","BINNEN","MODERN","6541","","","Inventory","",true,"STOMP","",2315,630,38,"",false,false,false,441.32,534,{"$f":"ROUND(AA558*(1-VLOOKUP(AF558,Discounts!C:E,3,0)),2)","v":441.32},null,103740,"B055"]
[8718528100363,"Artikel",8718528100363,"STUKS","WK6541 A1 stomp","wit 680x2015 slg/vpl","FSC Mix 70% CU-COC 800339","DEUR","BINNEN","BINNEN","MODERN","6541","","","Inventory","",true,"STOMP","",2015,680,38,"",false,false,false,441.32,534,{"$f":"ROUND(AA559*(1-VLOOKUP(AF559,Discounts!C:E,3,0)),2)","v":441.32},null,103740,"B055"]
[8718528100370,"Artikel",8718528100370,"STUKS","WK6541 A1 stomp","wit 680x2115 slg/vpl","FSC Mix 70% CU-COC 800339","DEUR","BINNEN","BINNEN","MODERN","6541","","","Inventory","",true,"STOMP","",2115,680,38,"",false,false,false,441.32,534,{"$f":"ROUND(AA560*(1-VLOOKUP(AF560,Discounts!C:E,3,0)),2)","v":441.32},null,103740,"B055"]
[8718528100387,"Artikel",8718528100387,"STUKS","WK6541 XL A1 stomp","wit 680x2315 slg/vpl","FSC Mix 70% CU-COC 800339","DEUR","BINNEN","BINNEN","MODERN","6541","","","Inventory","",true,"STOMP","",2315,680,38,"",false,false,false,441.32,534,{"$f":"ROUND(AA561*(1-VLOOKUP(AF561,Discounts!C:E,3,0)),2)","v":441.32},null,103740,"B055"]
[8718528015131,"Artikel",8718528015131,"STUKS","WK6542 A1 stomp","wit 780x2015 slg/vpl","FSC Mix 70% CU-COC 800339","DEUR","BINNEN","BINNEN","MODERN","6542","","","Inventory","",true,"STOMP","",2015,780,38,"",false,false,false,423.14,512,{"$f":"ROUND(AA562*(1-VLOOKUP(AF562,Discounts!C:E,3,0)),2)","v":423.14},null,103750,"B055"]
[8718528015162,"Artikel",8718528015162,"STUKS","WK6542 A1 stomp","wit 830x2015 slg/vpl","FSC Mix 70% CU-COC 800339","DEUR","BINNEN","BINNEN","MODERN","6542","","","Inventory","",true,"STOMP","",2015,830,38,"",false,false,false,423.14,512,{"$f":"ROUND(AA563*(1-VLOOKUP(AF563,Discounts!C:E,3,0)),2)","v":423.14},null,103750,"B055"]
[8718528015193,"Artikel",8718528015193,"STUKS","WK6542 A1 stomp","wit 830x2115 slg/vpl","FSC Mix 70% CU-COC 800339","DEUR","BINNEN","BINNEN","MODERN","6542","","","Inventory","",true,"STOMP","",2115,830,38,"",false,false,false,423.14,512,{"$f":"ROUND(AA564*(1-VLOOKUP(AF564,Discounts!C:E,3,0)),2)","v":423.14},null,103750,"B055"]
[8718528015223,"Artikel",8718528015223,"STUKS","WK6542 XL A1 stomp","wit 830x2315 slg/vpl","FSC Mix 70% CU-COC 800339","DEUR","BINNEN","BINNEN","MODERN","6542","","","Inventory","",true,"STOMP","",2315,830,38,"",false,false,false,423.14,512,{"$f":"ROUND(AA565*(1-VLOOKUP(AF565,Discounts!C:E,3,0)),2)","v":423.14},null,103750,"B055"]
[8718528015254,"Artikel",8718528015254,"STUKS","WK6542 A1 stomp","wit 880x2015 slg/vpl","FSC Mix 70% CU-COC 800339","DEUR","BINNEN","BINNEN","MODERN","6542","","","Inventory","",true,"STOMP","",2015,880,38,"",false,false,false,423.14,512,{"$f":"ROUND(AA566*(1-VLOOKUP(AF566,Discounts!C:E,3,0)),2)","v":423.14},null,103750,"B055"]
[8718528015261,"Artikel",8718528015261,"STUKS","WK6542 A1 stomp","wit 880x2115 slg/vpl","FSC Mix 70% CU-COC 800339","DEUR","BINNEN","BINNEN","MODERN","6542","","","Inventory","",true,"STOMP","",2115,880,38,"",false,false,false,423.14,512,{"$f":"ROUND(AA567*(1-VLOOKUP(AF567,Discounts!C:E,3,0)),2)","v":423.14},null,103750,"B055"]
[8718528015292,"Artikel",8718528015292,"STUKS","WK6542 XL A1 stomp","wit 880x2315 slg/vpl","FSC Mix 70% CU-COC 800339","DEUR","BINNEN","BINNEN","MODERN","6542","","","Inventory","",true,"STOMP","",2315,880,38,"",false,false,false,423.14,512,{"$f":"ROUND(AA568*(1-VLOOKUP(AF568,Discounts!C:E,3,0)),2)","v":423.14},null,103750,"B055"]
[8718528015322,"Artikel",8718528015322,"STUKS","WK6542 A1 stomp","wit 930x2015 slg/vpl","FSC Mix 70% CU-COC 800339","DEUR","BINNEN","BINNEN","MODERN","6542","","","Inventory","",true,"STOMP","",2015,930,38,"",false,false,false,423.14,512,{"$f":"ROUND(AA569*(1-VLOOKUP(AF569,Discounts!C:E,3,0)),2)","v":423.14},null,103750,"B055"]
[8718528015339,"Artikel",8718528015339,"STUKS","WK6542 A1 stomp","wit 930x2115 slg/vpl","FSC Mix 70% CU-COC 800339","DEUR","BINNEN","BINNEN","MODERN","6542","","","Inventory","",true,"STOMP","",2115,930,38,"",false,false,false,423.14,512,{"$f":"ROUND(AA570*(1-VLOOKUP(AF570,Discounts!C:E,3,0)),2)","v":423.14},null,103750,"B055"]
[8718528015360,"Artikel",8718528015360,"STUKS","WK6542 XL A1 stomp","wit 930x2315 slg/vpl","FSC Mix 70% CU-COC 800339","DEUR","BINNEN","BINNEN","MODERN","6542","","","Inventory","",true,"STOMP","",2315,930,38,"",false,false,false,423.14,512,{"$f":"ROUND(AA571*(1-VLOOKUP(AF571,Discounts!C:E,3,0)),2)","v":423.14},null,103750,"B055"]
[8718528100394,"Artikel",8718528100394,"STUKS","WK6542 A1 stomp","wit 630x2015 slg/vpl","FSC Mix 70% CU-COC 800339","DEUR","BINNEN","BINNEN","MODERN","6542","","","Inventory","",true,"STOMP","",2015,630,38,"",false,false,false,423.14,512,{"$f":"ROUND(AA572*(1-VLOOKUP(AF572,Discounts!C:E,3,0)),2)","v":423.14},null,103750,"B055"]
[8718528100400,"Artikel",8718528100400,"STUKS","WK6542 A1 stomp","wit 630x2115 slg/vpl","FSC Mix 70% CU-COC 800339","DEUR","BINNEN","BINNEN","MODERN","6542","","","Inventory","",true,"STOMP","",2115,630,38,"",false,false,false,423.14,512,{"$f":"ROUND(AA573*(1-VLOOKUP(AF573,Discounts!C:E,3,0)),2)","v":423.14},null,103750,"B055"]
[8718528100417,"Artikel",8718528100417,"STUKS","WK6542 XL A1 stomp","wit 630x2315 slg/vpl","FSC Mix 70% CU-COC 800339","DEUR","BINNEN","BINNEN","MODERN","6542","","","Inventory","",true,"STOMP","",2315,630,38,"",false,false,false,423.14,512,{"$f":"ROUND(AA574*(1-VLOOKUP(AF574,Discounts!C:E,3,0)),2)","v":423.14},null,103750,"B055"]
[8718528100424,"Artikel",8718528100424,"STUKS","WK6542 A1 stomp","wit 680x2015 slg/vpl","FSC Mix 70% CU-COC 800339","DEUR","BINNEN","BINNEN","MODERN","6542","","","Inventory","",true,"STOMP","",2015,680,38,"",false,false,false,423.14,512,{"$f":"ROUND(AA575*(1-VLOOKUP(AF575,Discounts!C:E,3,0)),2)","v":423.14},null,103750,"B055"]
[8718528100431,"Artikel",8718528100431,"STUKS","WK6542 A1 stomp","wit 680x2115 slg/vpl","FSC Mix 70% CU-COC 800339","DEUR","BINNEN","BINNEN","MODERN","6542","","","Inventory","",true,"STOMP","",2115,680,38,"",false,false,false,423.14,512,{"$f":"ROUND(AA576*(1-VLOOKUP(AF576,Discounts!C:E,3,0)),2)","v":423.14},null,103750,"B055"]
[8718528100448,"Artikel",8718528100448,"STUKS","WK6542 XL A1 stomp","wit 680x2315 slg/vpl","FSC Mix 70% CU-COC 800339","DEUR","BINNEN","BINNEN","MODERN","6542","","","Inventory","",true,"STOMP","",2315,680,38,"",false,false,false,423.14,512,{"$f":"ROUND(AA577*(1-VLOOKUP(AF577,Discounts!C:E,3,0)),2)","v":423.14},null,103750,"B055"]
[8718528100455,"Artikel",8718528100455,"STUKS","WK6542 A1 stomp","wit 730x2015 slg/vpl","FSC Mix 70% CU-COC 800339","DEUR","BINNEN","BINNEN","MODERN","6542","","","Inventory","",true,"STOMP","",2015,730,38,"",false,false,false,423.14,512,{"$f":"ROUND(AA578*(1-VLOOKUP(AF578,Discounts!C:E,3,0)),2)","v":423.14},null,103750,"B055"]
[8718528100462,"Artikel",8718528100462,"STUKS","WK6542 A1 stomp","wit 730x2115 slg/vpl","FSC Mix 70% CU-COC 800339","DEUR","BINNEN","BINNEN","MODERN","6542","","","Inventory","",true,"STOMP","",2115,730,38,"",false,false,false,423.14,512,{"$f":"ROUND(AA579*(1-VLOOKUP(AF579,Discounts!C:E,3,0)),2)","v":423.14},null,103750,"B055"]
[8718528100479,"Artikel",8718528100479,"STUKS","WK6542 XL A1 stomp","wit 730x2315 slg/vpl","FSC Mix 70% CU-COC 800339","DEUR","BINNEN","BINNEN","MODERN","6542","","","Inventory","",true,"STOMP","",2315,730,38,"",false,false,false,423.14,512,{"$f":"ROUND(AA580*(1-VLOOKUP(AF580,Discounts!C:E,3,0)),2)","v":423.14},null,103750,"B055"]
[8718528100486,"Artikel",8718528100486,"STUKS","WK6542 A1 stomp","wit 780x2115 slg/vpl","FSC Mix 70% CU-COC 800339","DEUR","BINNEN","BINNEN","MODERN","6542","","","Inventory","",true,"STOMP","",2115,780,38,"",false,false,false,423.14,512,{"$f":"ROUND(AA581*(1-VLOOKUP(AF581,Discounts!C:E,3,0)),2)","v":423.14},null,103750,"B055"]
[8718528100493,"Artikel",8718528100493,"STUKS","WK6542 XL A1 stomp","wit 780x2315 slg/vpl","FSC Mix 70% CU-COC 800339","DEUR","BINNEN","BINNEN","MODERN","6542","","","Inventory","",true,"STOMP","",2315,780,38,"",false,false,false,423.14,512,{"$f":"ROUND(AA582*(1-VLOOKUP(AF582,Discounts!C:E,3,0)),2)","v":423.14},null,103750,"B055"]
[8718528015391,"Artikel",8718528015391,"STUKS","WK6551 A1 stomp","wit 730x2015 slg/vpl","FSC Mix 70% CU-COC 800339","DEUR","BINNEN","BINNEN","MODERN","6551","","","Inventory","",true,"STOMP","",2015,730,38,"",false,false,false,402.48,487,{"$f":"ROUND(AA583*(1-VLOOKUP(AF583,Discounts!C:E,3,0)),2)","v":402.48},null,103760,"B055"]
[8718528015421,"Artikel",8718528015421,"STUKS","WK6551 A1 stomp","wit 730x2115 slg/vpl","FSC Mix 70% CU-COC 800339","DEUR","BINNEN","BINNEN","MODERN","6551","","","Inventory","",true,"STOMP","",2115,730,38,"",false,false,false,402.48,487,{"$f":"ROUND(AA584*(1-VLOOKUP(AF584,Discounts!C:E,3,0)),2)","v":402.48},null,103760,"B055"]
[8718528015452,"Artikel",8718528015452,"STUKS","WK6551 XL A1 stomp","wit 730x2315 slg/vpl","FSC Mix 70% CU-COC 800339","DEUR","BINNEN","BINNEN","MODERN","6551","","","Inventory","",true,"STOMP","",2315,730,38,"",false,false,false,402.48,487,{"$f":"ROUND(AA585*(1-VLOOKUP(AF585,Discounts!C:E,3,0)),2)","v":402.48},null,103760,"B055"]
[8718528015483,"Artikel",8718528015483,"STUKS","WK6551 A1 stomp","wit 780x2015 slg/vpl","FSC Mix 70% CU-COC 800339","DEUR","BINNEN","BINNEN","MODERN","6551","","","Inventory","",true,"STOMP","",2015,780,38,"",false,false,false,402.48,487,{"$f":"ROUND(AA586*(1-VLOOKUP(AF586,Discounts!C:E,3,0)),2)","v":402.48},null,103760,"B055"]
[8718528015513,"Artikel",8718528015513,"STUKS","WK6551 A1 stomp","wit 780x2115 slg/vpl","FSC Mix 70% CU-COC 800339","DEUR","BINNEN","BINNEN","MODERN","6551","","","Inventory","",true,"STOMP","",2115,780,38,"",false,false,false,402.48,487,{"$f":"ROUND(AA587*(1-VLOOKUP(AF587,Discounts!C:E,3,0)),2)","v":402.48},null,103760,"B055"]
[8718528015544,"Artikel",8718528015544,"STUKS","WK6551 XL A1 stomp","wit 780x2315 slg/vpl","FSC Mix 70% CU-COC 800339","DEUR","BINNEN","BINNEN","MODERN","6551","","","Inventory","",true,"STOMP","",2315,780,38,"",false,false,false,402.48,487,{"$f":"ROUND(AA588*(1-VLOOKUP(AF588,Discounts!C:E,3,0)),2)","v":402.48},null,103760,"B055"]
[8718528015575,"Artikel",8718528015575,"STUKS","WK6551 A1 stomp","wit 830x2015 slg/vpl","FSC Mix 70% CU-COC 800339","DEUR","BINNEN","BINNEN","MODERN","6551","","","Inventory","",true,"STOMP","",2015,830,38,"",false,false,false,402.48,487,{"$f":"ROUND(AA589*(1-VLOOKUP(AF589,Discounts!C:E,3,0)),2)","v":402.48},null,103760,"B055"]
[8718528015605,"Artikel",8718528015605,"STUKS","WK6551 A1 stomp","wit 830x2115 slg/vpl","FSC Mix 70% CU-COC 800339","DEUR","BINNEN","BINNEN","MODERN","6551","","","Inventory","",true,"STOMP","",2115,830,38,"",false,false,false,402.48,487,{"$f":"ROUND(AA590*(1-VLOOKUP(AF590,Discounts!C:E,3,0)),2)","v":402.48},null,103760,"B055"]
[8718528015636,"Artikel",8718528015636,"STUKS","WK6551 XL A1 stomp","wit 830x2315 slg/vpl","FSC Mix 70% CU-COC 800339","DEUR","BINNEN","BINNEN","MODERN","6551","","","Inventory","",true,"STOMP","",2315,830,38,"",false,false,false,402.48,487,{"$f":"ROUND(AA591*(1-VLOOKUP(AF591,Discounts!C:E,3,0)),2)","v":402.48},null,103760,"B055"]
[8718528015667,"Artikel",8718528015667,"STUKS","WK6551 A1 stomp","wit 880x2015 slg/vpl","FSC Mix 70% CU-COC 800339","DEUR","BINNEN","BINNEN","MODERN","6551","","","Inventory","",true,"STOMP","",2015,880,38,"",false,false,false,402.48,487,{"$f":"ROUND(AA592*(1-VLOOKUP(AF592,Discounts!C:E,3,0)),2)","v":402.48},null,103760,"B055"]
[8718528015674,"Artikel",8718528015674,"STUKS","WK6551 A1 stomp","wit 880x2115 slg/vpl","FSC Mix 70% CU-COC 800339","DEUR","BINNEN","BINNEN","MODERN","6551","","","Inventory","",true,"STOMP","",2115,880,38,"",false,false,false,402.48,487,{"$f":"ROUND(AA593*(1-VLOOKUP(AF593,Discounts!C:E,3,0)),2)","v":402.48},null,103760,"B055"]
[8718528015704,"Artikel",8718528015704,"STUKS","WK6551 XL A1 stomp","wit 880x2315 slg/vpl","FSC Mix 70% CU-COC 800339","DEUR","BINNEN","BINNEN","MODERN","6551","","","Inventory","",true,"STOMP","",2315,880,38,"",false,false,false,402.48,487,{"$f":"ROUND(AA594*(1-VLOOKUP(AF594,Discounts!C:E,3,0)),2)","v":402.48},null,103760,"B055"]
[8718528015735,"Artikel",8718528015735,"STUKS","WK6551 A1 stomp","wit 930x2015 slg/vpl","FSC Mix 70% CU-COC 800339","DEUR","BINNEN","BINNEN","MODERN","6551","","","Inventory","",true,"STOMP","",2015,930,38,"",false,false,false,402.48,487,{"$f":"ROUND(AA595*(1-VLOOKUP(AF595,Discounts!C:E,3,0)),2)","v":402.48},null,103760,"B055"]
[8718528015742,"Artikel",8718528015742,"STUKS","WK6551 A1 stomp","wit 930x2115 slg/vpl","FSC Mix 70% CU-COC 800339","DEUR","BINNEN","BINNEN","MODERN","6551","","","Inventory","",true,"STOMP","",2115,930,38,"",false,false,false,402.48,487,{"$f":"ROUND(AA596*(1-VLOOKUP(AF596,Discounts!C:E,3,0)),2)","v":402.48},null,103760,"B055"]
[8718528015773,"Artikel",8718528015773,"STUKS","WK6551 XL A1 stomp","wit 930x2315 slg/vpl","FSC Mix 70% CU-COC 800339","DEUR","BINNEN","BINNEN","MODERN","6551","","","Inventory","",true,"STOMP","",2315,930,38,"",false,false,false,402.48,487,{"$f":"ROUND(AA597*(1-VLOOKUP(AF597,Discounts!C:E,3,0)),2)","v":402.48},null,103760,"B055"]
[8718528100509,"Artikel",8718528100509,"STUKS","WK6551 A1 stomp","wit 630x2015 slg/vpl","FSC Mix 70% CU-COC 800339","DEUR","BINNEN","BINNEN","MODERN","6551","","","Inventory","",true,"STOMP","",2015,630,38,"",false,false,false,402.48,487,{"$f":"ROUND(AA598*(1-VLOOKUP(AF598,Discounts!C:E,3,0)),2)","v":402.48},null,103760,"B055"]
[8718528100516,"Artikel",8718528100516,"STUKS","WK6551 A1 stomp","wit 630x2115 slg/vpl","FSC Mix 70% CU-COC 800339","DEUR","BINNEN","BINNEN","MODERN","6551","","","Inventory","",true,"STOMP","",2115,630,38,"",false,false,false,402.48,487,{"$f":"ROUND(AA599*(1-VLOOKUP(AF599,Discounts!C:E,3,0)),2)","v":402.48},null,103760,"B055"]
[8718528100523,"Artikel",8718528100523,"STUKS","WK6551 XL A1 stomp","wit 630x2315 slg/vpl","FSC Mix 70% CU-COC 800339","DEUR","BINNEN","BINNEN","MODERN","6551","","","Inventory","",true,"STOMP","",2315,630,38,"",false,false,false,402.48,487,{"$f":"ROUND(AA600*(1-VLOOKUP(AF600,Discounts!C:E,3,0)),2)","v":402.48},null,103760,"B055"]
[8718528100530,"Artikel",8718528100530,"STUKS","WK6551 A1 stomp","wit 680x2015 slg/vpl","FSC Mix 70% CU-COC 800339","DEUR","BINNEN","BINNEN","MODERN","6551","","","Inventory","",true,"STOMP","",2015,680,38,"",false,false,false,402.48,487,{"$f":"ROUND(AA601*(1-VLOOKUP(AF601,Discounts!C:E,3,0)),2)","v":402.48},null,103760,"B055"]
[8718528100547,"Artikel",8718528100547,"STUKS","WK6551 A1 stomp","wit 680x2115 slg/vpl","FSC Mix 70% CU-COC 800339","DEUR","BINNEN","BINNEN","MODERN","6551","","","Inventory","",true,"STOMP","",2115,680,38,"",false,false,false,402.48,487,{"$f":"ROUND(AA602*(1-VLOOKUP(AF602,Discounts!C:E,3,0)),2)","v":402.48},null,103760,"B055"]
[8718528100554,"Artikel",8718528100554,"STUKS","WK6551 XL A1 stomp","wit 680x2315 slg/vpl","FSC Mix 70% CU-COC 800339","DEUR","BINNEN","BINNEN","MODERN","6551","","","Inventory","",true,"STOMP","",2315,680,38,"",false,false,false,402.48,487,{"$f":"ROUND(AA603*(1-VLOOKUP(AF603,Discounts!C:E,3,0)),2)","v":402.48},null,103760,"B055"]
[8718528015803,"Artikel",8718528015803,"STUKS","WK6552 A1 stomp","wit 780x2015 slg/vpl","FSC Mix 70% CU-COC 800339","DEUR","BINNEN","BINNEN","MODERN","6552","","","Inventory","",true,"STOMP","",2015,780,38,"",false,false,false,374.38,453,{"$f":"ROUND(AA604*(1-VLOOKUP(AF604,Discounts!C:E,3,0)),2)","v":374.38},null,103770,"B055"]
[8718528015834,"Artikel",8718528015834,"STUKS","WK6552 A1 stomp","wit 830x2015 slg/vpl","FSC Mix 70% CU-COC 800339","DEUR","BINNEN","BINNEN","MODERN","6552","","","Inventory","",true,"STOMP","",2015,830,38,"",false,false,false,374.38,453,{"$f":"ROUND(AA605*(1-VLOOKUP(AF605,Discounts!C:E,3,0)),2)","v":374.38},null,103770,"B055"]
[8718528015865,"Artikel",8718528015865,"STUKS","WK6552 A1 stomp","wit 830x2115 slg/vpl","FSC Mix 70% CU-COC 800339","DEUR","BINNEN","BINNEN","MODERN","6552","","","Inventory","",true,"STOMP","",2115,830,38,"",false,false,false,374.38,453,{"$f":"ROUND(AA606*(1-VLOOKUP(AF606,Discounts!C:E,3,0)),2)","v":374.38},null,103770,"B055"]
[8718528015896,"Artikel",8718528015896,"STUKS","WK6552 XL A1 stomp","wit 830x2315 slg/vpl","FSC Mix 70% CU-COC 800339","DEUR","BINNEN","BINNEN","MODERN","6552","","","Inventory","",true,"STOMP","",2315,830,38,"",false,false,false,374.38,453,{"$f":"ROUND(AA607*(1-VLOOKUP(AF607,Discounts!C:E,3,0)),2)","v":374.38},null,103770,"B055"]
[8718528015926,"Artikel",8718528015926,"STUKS","WK6552 A1 stomp","wit 880x2015 slg/vpl","FSC Mix 70% CU-COC 800339","DEUR","BINNEN","BINNEN","MODERN","6552","","","Inventory","",true,"STOMP","",2015,880,38,"",false,false,false,374.38,453,{"$f":"ROUND(AA608*(1-VLOOKUP(AF608,Discounts!C:E,3,0)),2)","v":374.38},null,103770,"B055"]
[8718528015933,"Artikel",8718528015933,"STUKS","WK6552 A1 stomp","wit 880x2115 slg/vpl","FSC Mix 70% CU-COC 800339","DEUR","BINNEN","BINNEN","MODERN","6552","","","Inventory","",true,"STOMP","",2115,880,38,"",false,false,false,374.38,453,{"$f":"ROUND(AA609*(1-VLOOKUP(AF609,Discounts!C:E,3,0)),2)","v":374.38},null,103770,"B055"]
[8718528015964,"Artikel",8718528015964,"STUKS","WK6552 XL A1 stomp","wit 880x2315 slg/vpl","FSC Mix 70% CU-COC 800339","DEUR","BINNEN","BINNEN","MODERN","6552","","","Inventory","",true,"STOMP","",2315,880,38,"",false,false,false,374.38,453,{"$f":"ROUND(AA610*(1-VLOOKUP(AF610,Discounts!C:E,3,0)),2)","v":374.38},null,103770,"B055"]
[8718528015995,"Artikel",8718528015995,"STUKS","WK6552 A1 stomp","wit 930x2015 slg/vpl","FSC Mix 70% CU-COC 800339","DEUR","BINNEN","BINNEN","MODERN","6552","","","Inventory","",true,"STOMP","",2015,930,38,"",false,false,false,374.38,453,{"$f":"ROUND(AA611*(1-VLOOKUP(AF611,Discounts!C:E,3,0)),2)","v":374.38},null,103770,"B055"]
[8718528016008,"Artikel",8718528016008,"STUKS","WK6552 A1 stomp","wit 930x2115 slg/vpl","FSC Mix 70% CU-COC 800339","DEUR","BINNEN","BINNEN","MODERN","6552","","","Inventory","",true,"STOMP","",2115,930,38,"",false,false,false,374.38,453,{"$f":"ROUND(AA612*(1-VLOOKUP(AF612,Discounts!C:E,3,0)),2)","v":374.38},null,103770,"B055"]
[8718528016039,"Artikel",8718528016039,"STUKS","WK6552 XL A1 stomp","wit 930x2315 slg/vpl","FSC Mix 70% CU-COC 800339","DEUR","BINNEN","BINNEN","MODERN","6552","","","Inventory","",true,"STOMP","",2315,930,38,"",false,false,false,374.38,453,{"$f":"ROUND(AA613*(1-VLOOKUP(AF613,Discounts!C:E,3,0)),2)","v":374.38},null,103770,"B055"]
[8718528100561,"Artikel",8718528100561,"STUKS","WK6552 A1 stomp","wit 630x2015 slg/vpl","FSC Mix 70% CU-COC 800339","DEUR","BINNEN","BINNEN","MODERN","6552","","","Inventory","",true,"STOMP","",2015,630,38,"",false,false,false,374.38,453,{"$f":"ROUND(AA614*(1-VLOOKUP(AF614,Discounts!C:E,3,0)),2)","v":374.38},null,103770,"B055"]
[8718528100578,"Artikel",8718528100578,"STUKS","WK6552 A1 stomp","wit 630x2115 slg/vpl","FSC Mix 70% CU-COC 800339","DEUR","BINNEN","BINNEN","MODERN","6552","","","Inventory","",true,"STOMP","",2115,630,38,"",false,false,false,374.38,453,{"$f":"ROUND(AA615*(1-VLOOKUP(AF615,Discounts!C:E,3,0)),2)","v":374.38},null,103770,"B055"]
[8718528100585,"Artikel",8718528100585,"STUKS","WK6552 XL A1 stomp","wit 630x2315 slg/vpl","FSC Mix 70% CU-COC 800339","DEUR","BINNEN","BINNEN","MODERN","6552","","","Inventory","",true,"STOMP","",2315,630,38,"",false,false,false,374.38,453,{"$f":"ROUND(AA616*(1-VLOOKUP(AF616,Discounts!C:E,3,0)),2)","v":374.38},null,103770,"B055"]
[8718528100592,"Artikel",8718528100592,"STUKS","WK6552 A1 stomp","wit 680x2015 slg/vpl","FSC Mix 70% CU-COC 800339","DEUR","BINNEN","BINNEN","MODERN","6552","","","Inventory","",true,"STOMP","",2015,680,38,"",false,false,false,374.38,453,{"$f":"ROUND(AA617*(1-VLOOKUP(AF617,Discounts!C:E,3,0)),2)","v":374.38},null,103770,"B055"]
[8718528100608,"Artikel",8718528100608,"STUKS","WK6552 A1 stomp","wit 680x2115 slg/vpl","FSC Mix 70% CU-COC 800339","DEUR","BINNEN","BINNEN","MODERN","6552","","","Inventory","",true,"STOMP","",2115,680,38,"",false,false,false,374.38,453,{"$f":"ROUND(AA618*(1-VLOOKUP(AF618,Discounts!C:E,3,0)),2)","v":374.38},null,103770,"B055"]
[8718528100615,"Artikel",8718528100615,"STUKS","WK6552 XL A1 stomp","wit 680x2315 slg/vpl","FSC Mix 70% CU-COC 800339","DEUR","BINNEN","BINNEN","MODERN","6552","","","Inventory","",true,"STOMP","",2315,680,38,"",false,false,false,374.38,453,{"$f":"ROUND(AA619*(1-VLOOKUP(AF619,Discounts!C:E,3,0)),2)","v":374.38},null,103770,"B055"]
[8718528100622,"Artikel",8718528100622,"STUKS","WK6552 A1 stomp","wit 730x2015 slg/vpl","FSC Mix 70% CU-COC 800339","DEUR","BINNEN","BINNEN","MODERN","6552","","","Inventory","",true,"STOMP","",2015,730,38,"",false,false,false,374.38,453,{"$f":"ROUND(AA620*(1-VLOOKUP(AF620,Discounts!C:E,3,0)),2)","v":374.38},null,103770,"B055"]
[8718528100639,"Artikel",8718528100639,"STUKS","WK6552 A1 stomp","wit 730x2115 slg/vpl","FSC Mix 70% CU-COC 800339","DEUR","BINNEN","BINNEN","MODERN","6552","","","Inventory","",true,"STOMP","",2115,730,38,"",false,false,false,374.38,453,{"$f":"ROUND(AA621*(1-VLOOKUP(AF621,Discounts!C:E,3,0)),2)","v":374.38},null,103770,"B055"]
[8718528100646,"Artikel",8718528100646,"STUKS","WK6552 XL A1 stomp","wit 730x2315 slg/vpl","FSC Mix 70% CU-COC 800339","DEUR","BINNEN","BINNEN","MODERN","6552","","","Inventory","",true,"STOMP","",2315,730,38,"",false,false,false,374.38,453,{"$f":"ROUND(AA622*(1-VLOOKUP(AF622,Discounts!C:E,3,0)),2)","v":374.38},null,103770,"B055"]
[8718528100653,"Artikel",8718528100653,"STUKS","WK6552 A1 stomp","wit 780x2115 slg/vpl","FSC Mix 70% CU-COC 800339","DEUR","BINNEN","BINNEN","MODERN","6552","","","Inventory","",true,"STOMP","",2115,780,38,"",false,false,false,374.38,453,{"$f":"ROUND(AA623*(1-VLOOKUP(AF623,Discounts!C:E,3,0)),2)","v":374.38},null,103770,"B055"]
[8718528100660,"Artikel",8718528100660,"STUKS","WK6552 XL A1 stomp","wit 780x2315 slg/vpl","FSC Mix 70% CU-COC 800339","DEUR","BINNEN","BINNEN","MODERN","6552","","","Inventory","",true,"STOMP","",2315,780,38,"",false,false,false,374.38,453,{"$f":"ROUND(AA624*(1-VLOOKUP(AF624,Discounts!C:E,3,0)),2)","v":374.38},null,103770,"B055"]
[8718528016060,"Artikel",8718528016060,"STUKS","WK6562 A1 stomp","wit 730x2015 slg/vpl","FSC Mix 70% CU-COC 800339","DEUR","BINNEN","BINNEN","MODERN","6562","","","Inventory","",true,"STOMP","",2015,730,38,"",false,false,false,421.49,510,{"$f":"ROUND(AA625*(1-VLOOKUP(AF625,Discounts!C:E,3,0)),2)","v":421.49},null,103780,"B055"]
[8718528016077,"Artikel",8718528016077,"STUKS","WK6562 A1 stomp","wit 730x2115 slg/vpl","FSC Mix 70% CU-COC 800339","DEUR","BINNEN","BINNEN","MODERN","6562","","","Inventory","",true,"STOMP","",2115,730,38,"",false,false,false,421.49,510,{"$f":"ROUND(AA626*(1-VLOOKUP(AF626,Discounts!C:E,3,0)),2)","v":421.49},null,103780,"B055"]
[8718528016084,"Artikel",8718528016084,"STUKS","WK6562 XL A1 stomp","wit 730x2315 slg/vpl","FSC Mix 70% CU-COC 800339","DEUR","BINNEN","BINNEN","MODERN","6562","","","Inventory","",true,"STOMP","",2315,730,38,"",false,false,false,421.49,510,{"$f":"ROUND(AA627*(1-VLOOKUP(AF627,Discounts!C:E,3,0)),2)","v":421.49},null,103780,"B055"]
[8718528016091,"Artikel",8718528016091,"STUKS","WK6562 A1 stomp","wit 780x2015 slg/vpl","FSC Mix 70% CU-COC 800339","DEUR","BINNEN","BINNEN","MODERN","6562","","","Inventory","",true,"STOMP","",2015,780,38,"",false,false,false,421.49,510,{"$f":"ROUND(AA628*(1-VLOOKUP(AF628,Discounts!C:E,3,0)),2)","v":421.49},null,103780,"B055"]
[8718528016121,"Artikel",8718528016121,"STUKS","WK6562 A1 stomp","wit 780x2115 slg/vpl","FSC Mix 70% CU-COC 800339","DEUR","BINNEN","BINNEN","MODERN","6562","","","Inventory","",true,"STOMP","",2115,780,38,"",false,false,false,421.49,510,{"$f":"ROUND(AA629*(1-VLOOKUP(AF629,Discounts!C:E,3,0)),2)","v":421.49},null,103780,"B055"]
[8718528016138,"Artikel",8718528016138,"STUKS","WK6562 XL A1 stomp","wit 780x2315 slg/vpl","FSC Mix 70% CU-COC 800339","DEUR","BINNEN","BINNEN","MODERN","6562","","","Inventory","",true,"STOMP","",2315,780,38,"",false,false,false,421.49,510,{"$f":"ROUND(AA630*(1-VLOOKUP(AF630,Discounts!C:E,3,0)),2)","v":421.49},null,103780,"B055"]
[8718528016145,"Artikel",8718528016145,"STUKS","WK6562 A1 stomp","wit 830x2015 slg/vpl","FSC Mix 70% CU-COC 800339","DEUR","BINNEN","BINNEN","MODERN","6562","","","Inventory","",true,"STOMP","",2015,830,38,"",false,false,false,421.49,510,{"$f":"ROUND(AA631*(1-VLOOKUP(AF631,Discounts!C:E,3,0)),2)","v":421.49},null,103780,"B055"]
[8718528016176,"Artikel",8718528016176,"STUKS","WK6562 A1 stomp","wit 830x2115 slg/vpl","FSC Mix 70% CU-COC 800339","DEUR","BINNEN","BINNEN","MODERN","6562","","","Inventory","",true,"STOMP","",2115,830,38,"",false,false,false,421.49,510,{"$f":"ROUND(AA632*(1-VLOOKUP(AF632,Discounts!C:E,3,0)),2)","v":421.49},null,103780,"B055"]
[8718528016206,"Artikel",8718528016206,"STUKS","WK6562 XL A1 stomp","wit 830x2315 slg/vpl","FSC Mix 70% CU-COC 800339","DEUR","BINNEN","BINNEN","MODERN","6562","","","Inventory","",true,"STOMP","",2315,830,38,"",false,false,false,421.49,510,{"$f":"ROUND(AA633*(1-VLOOKUP(AF633,Discounts!C:E,3,0)),2)","v":421.49},null,103780,"B055"]
[8718528016237,"Artikel",8718528016237,"STUKS","WK6562 A1 stomp","wit 880x2015 slg/vpl","FSC Mix 70% CU-COC 800339","DEUR","BINNEN","BINNEN","MODERN","6562","","","Inventory","",true,"STOMP","",2015,880,38,"",false,false,false,421.49,510,{"$f":"ROUND(AA634*(1-VLOOKUP(AF634,Discounts!C:E,3,0)),2)","v":421.49},null,103780,"B055"]
[8718528016244,"Artikel",8718528016244,"STUKS","WK6562 A1 stomp","wit 880x2115 slg/vpl","FSC Mix 70% CU-COC 800339","DEUR","BINNEN","BINNEN","MODERN","6562","","","Inventory","",true,"STOMP","",2115,880,38,"",false,false,false,421.49,510,{"$f":"ROUND(AA635*(1-VLOOKUP(AF635,Discounts!C:E,3,0)),2)","v":421.49},null,103780,"B055"]
[8718528016275,"Artikel",8718528016275,"STUKS","WK6562 XL A1 stomp","wit 880x2315 slg/vpl","FSC Mix 70% CU-COC 800339","DEUR","BINNEN","BINNEN","MODERN","6562","","","Inventory","",true,"STOMP","",2315,880,38,"",false,false,false,421.49,510,{"$f":"ROUND(AA636*(1-VLOOKUP(AF636,Discounts!C:E,3,0)),2)","v":421.49},null,103780,"B055"]
[8718528016305,"Artikel",8718528016305,"STUKS","WK6562 A1 stomp","wit 930x2015 slg/vpl","FSC Mix 70% CU-COC 800339","DEUR","BINNEN","BINNEN","MODERN","6562","","","Inventory","",true,"STOMP","",2015,930,38,"",false,false,false,421.49,510,{"$f":"ROUND(AA637*(1-VLOOKUP(AF637,Discounts!C:E,3,0)),2)","v":421.49},null,103780,"B055"]
[8718528016312,"Artikel",8718528016312,"STUKS","WK6562 A1 stomp","wit 930x2115 slg/vpl","FSC Mix 70% CU-COC 800339","DEUR","BINNEN","BINNEN","MODERN","6562","","","Inventory","",true,"STOMP","",2115,930,38,"",false,false,false,421.49,510,{"$f":"ROUND(AA638*(1-VLOOKUP(AF638,Discounts!C:E,3,0)),2)","v":421.49},null,103780,"B055"]
[8718528016343,"Artikel",8718528016343,"STUKS","WK6562 XL A1 stomp","wit 930x2315 slg/vpl","FSC Mix 70% CU-COC 800339","DEUR","BINNEN","BINNEN","MODERN","6562","","","Inventory","",true,"STOMP","",2315,930,38,"",false,false,false,421.49,510,{"$f":"ROUND(AA639*(1-VLOOKUP(AF639,Discounts!C:E,3,0)),2)","v":421.49},null,103780,"B055"]
[8718528100677,"Artikel",8718528100677,"STUKS","WK6562 A1 stomp","wit 630x2015 slg/vpl","FSC Mix 70% CU-COC 800339","DEUR","BINNEN","BINNEN","MODERN","6562","","","Inventory","",true,"STOMP","",2015,630,38,"",false,false,false,421.49,510,{"$f":"ROUND(AA640*(1-VLOOKUP(AF640,Discounts!C:E,3,0)),2)","v":421.49},null,103780,"B055"]
[8718528100684,"Artikel",8718528100684,"STUKS","WK6562 A1 stomp","wit 630x2115 slg/vpl","FSC Mix 70% CU-COC 800339","DEUR","BINNEN","BINNEN","MODERN","6562","","","Inventory","",true,"STOMP","",2115,630,38,"",false,false,false,421.49,510,{"$f":"ROUND(AA641*(1-VLOOKUP(AF641,Discounts!C:E,3,0)),2)","v":421.49},null,103780,"B055"]
[8718528100691,"Artikel",8718528100691,"STUKS","WK6562 XL A1 stomp","wit 630x2315 slg/vpl","FSC Mix 70% CU-COC 800339","DEUR","BINNEN","BINNEN","MODERN","6562","","","Inventory","",true,"STOMP","",2315,630,38,"",false,false,false,421.49,510,{"$f":"ROUND(AA642*(1-VLOOKUP(AF642,Discounts!C:E,3,0)),2)","v":421.49},null,103780,"B055"]
[8718528100707,"Artikel",8718528100707,"STUKS","WK6562 A1 stomp","wit 680x2015 slg/vpl","FSC Mix 70% CU-COC 800339","DEUR","BINNEN","BINNEN","MODERN","6562","","","Inventory","",true,"STOMP","",2015,680,38,"",false,false,false,421.49,510,{"$f":"ROUND(AA643*(1-VLOOKUP(AF643,Discounts!C:E,3,0)),2)","v":421.49},null,103780,"B055"]
[8718528100714,"Artikel",8718528100714,"STUKS","WK6562 A1 stomp","wit 680x2115 slg/vpl","FSC Mix 70% CU-COC 800339","DEUR","BINNEN","BINNEN","MODERN","6562","","","Inventory","",true,"STOMP","",2115,680,38,"",false,false,false,421.49,510,{"$f":"ROUND(AA644*(1-VLOOKUP(AF644,Discounts!C:E,3,0)),2)","v":421.49},null,103780,"B055"]
[8718528100721,"Artikel",8718528100721,"STUKS","WK6562 XL A1 stomp","wit 680x2315 slg/vpl","FSC Mix 70% CU-COC 800339","DEUR","BINNEN","BINNEN","MODERN","6562","","","Inventory","",true,"STOMP","",2315,680,38,"",false,false,false,421.49,510,{"$f":"ROUND(AA645*(1-VLOOKUP(AF645,Discounts!C:E,3,0)),2)","v":421.49},null,103780,"B055"]
[8718528016893,"Artikel",8718528016893,"STUKS","WK6571 A1 stomp","wit 730x2015 slg/vpl","FSC Mix 70% CU-COC 800339","DEUR","BINNEN","BINNEN","MODERN","6571","","","Inventory","",true,"STOMP","",2015,730,38,"",false,false,false,375.21,454,{"$f":"ROUND(AA646*(1-VLOOKUP(AF646,Discounts!C:E,3,0)),2)","v":375.21},null,103790,"B055"]
[8718528016923,"Artikel",8718528016923,"STUKS","WK6571 A1 stomp","wit 730x2115 slg/vpl","FSC Mix 70% CU-COC 800339","DEUR","BINNEN","BINNEN","MODERN","6571","","","Inventory","",true,"STOMP","",2115,730,38,"",false,false,false,375.21,454,{"$f":"ROUND(AA647*(1-VLOOKUP(AF647,Discounts!C:E,3,0)),2)","v":375.21},null,103790,"B055"]
[8718528016954,"Artikel",8718528016954,"STUKS","WK6571 XL A1 stomp","wit 730x2315 slg/vpl","FSC Mix 70% CU-COC 800339","DEUR","BINNEN","BINNEN","MODERN","6571","","","Inventory","",true,"STOMP","",2315,730,38,"",false,false,false,375.21,454,{"$f":"ROUND(AA648*(1-VLOOKUP(AF648,Discounts!C:E,3,0)),2)","v":375.21},null,103790,"B055"]
[8718528016985,"Artikel",8718528016985,"STUKS","WK6571 A1 stomp","wit 780x2015 slg/vpl","FSC Mix 70% CU-COC 800339","DEUR","BINNEN","BINNEN","MODERN","6571","","","Inventory","",true,"STOMP","",2015,780,38,"",false,false,false,375.21,454,{"$f":"ROUND(AA649*(1-VLOOKUP(AF649,Discounts!C:E,3,0)),2)","v":375.21},null,103790,"B055"]
[8718528017012,"Artikel",8718528017012,"STUKS","WK6571 A1 stomp","wit 780x2115 slg/vpl","FSC Mix 70% CU-COC 800339","DEUR","BINNEN","BINNEN","MODERN","6571","","","Inventory","",true,"STOMP","",2115,780,38,"",false,false,false,375.21,454,{"$f":"ROUND(AA650*(1-VLOOKUP(AF650,Discounts!C:E,3,0)),2)","v":375.21},null,103790,"B055"]
[8718528017043,"Artikel",8718528017043,"STUKS","WK6571 XL A1 stomp","wit 780x2315 slg/vpl","FSC Mix 70% CU-COC 800339","DEUR","BINNEN","BINNEN","MODERN","6571","","","Inventory","",true,"STOMP","",2315,780,38,"",false,false,false,375.21,454,{"$f":"ROUND(AA651*(1-VLOOKUP(AF651,Discounts!C:E,3,0)),2)","v":375.21},null,103790,"B055"]
[8718528017074,"Artikel",8718528017074,"STUKS","WK6571 A1 stomp","wit 830x2015 slg/vpl","FSC Mix 70% CU-COC 800339","DEUR","BINNEN","BINNEN","MODERN","6571","","","Inventory","",true,"STOMP","",2015,830,38,"",false,false,false,375.21,454,{"$f":"ROUND(AA652*(1-VLOOKUP(AF652,Discounts!C:E,3,0)),2)","v":375.21},null,103790,"B055"]
[8718528017104,"Artikel",8718528017104,"STUKS","WK6571 A1 stomp","wit 830x2115 slg/vpl","FSC Mix 70% CU-COC 800339","DEUR","BINNEN","BINNEN","MODERN","6571","","","Inventory","",true,"STOMP","",2115,830,38,"",false,false,false,375.21,454,{"$f":"ROUND(AA653*(1-VLOOKUP(AF653,Discounts!C:E,3,0)),2)","v":375.21},null,103790,"B055"]
[8718528017135,"Artikel",8718528017135,"STUKS","WK6571 XL A1 stomp","wit 830x2315 slg/vpl","FSC Mix 70% CU-COC 800339","DEUR","BINNEN","BINNEN","MODERN","6571","","","Inventory","",true,"STOMP","",2315,830,38,"",false,false,false,375.21,454,{"$f":"ROUND(AA654*(1-VLOOKUP(AF654,Discounts!C:E,3,0)),2)","v":375.21},null,103790,"B055"]
[8718528017166,"Artikel",8718528017166,"STUKS","WK6571 A1 stomp","wit 880x2015 slg/vpl","FSC Mix 70% CU-COC 800339","DEUR","BINNEN","BINNEN","MODERN","6571","","","Inventory","",true,"STOMP","",2015,880,38,"",false,false,false,375.21,454,{"$f":"ROUND(AA655*(1-VLOOKUP(AF655,Discounts!C:E,3,0)),2)","v":375.21},null,103790,"B055"]
[8718528017173,"Artikel",8718528017173,"STUKS","WK6571 A1 stomp","wit 880x2115 slg/vpl","FSC Mix 70% CU-COC 800339","DEUR","BINNEN","BINNEN","MODERN","6571","","","Inventory","",true,"STOMP","",2115,880,38,"",false,false,false,375.21,454,{"$f":"ROUND(AA656*(1-VLOOKUP(AF656,Discounts!C:E,3,0)),2)","v":375.21},null,103790,"B055"]
[8718528017203,"Artikel",8718528017203,"STUKS","WK6571 XL A1 stomp","wit 880x2315 slg/vpl","FSC Mix 70% CU-COC 800339","DEUR","BINNEN","BINNEN","MODERN","6571","","","Inventory","",true,"STOMP","",2315,880,38,"",false,false,false,375.21,454,{"$f":"ROUND(AA657*(1-VLOOKUP(AF657,Discounts!C:E,3,0)),2)","v":375.21},null,103790,"B055"]
[8718528017234,"Artikel",8718528017234,"STUKS","WK6571 A1 stomp","wit 930x2015 slg/vpl","FSC Mix 70% CU-COC 800339","DEUR","BINNEN","BINNEN","MODERN","6571","","","Inventory","",true,"STOMP","",2015,930,38,"",false,false,false,375.21,454,{"$f":"ROUND(AA658*(1-VLOOKUP(AF658,Discounts!C:E,3,0)),2)","v":375.21},null,103790,"B055"]
[8718528017241,"Artikel",8718528017241,"STUKS","WK6571 A1 stomp","wit 930x2115 slg/vpl","FSC Mix 70% CU-COC 800339","DEUR","BINNEN","BINNEN","MODERN","6571","","","Inventory","",true,"STOMP","",2115,930,38,"",false,false,false,375.21,454,{"$f":"ROUND(AA659*(1-VLOOKUP(AF659,Discounts!C:E,3,0)),2)","v":375.21},null,103790,"B055"]
[8718528017272,"Artikel",8718528017272,"STUKS","WK6571 XL A1 stomp","wit 930x2315 slg/vpl","FSC Mix 70% CU-COC 800339","DEUR","BINNEN","BINNEN","MODERN","6571","","","Inventory","",true,"STOMP","",2315,930,38,"",false,false,false,375.21,454,{"$f":"ROUND(AA660*(1-VLOOKUP(AF660,Discounts!C:E,3,0)),2)","v":375.21},null,103790,"B055"]
[8718528100738,"Artikel",8718528100738,"STUKS","WK6571 A1 stomp","wit 630x2015 slg/vpl","FSC Mix 70% CU-COC 800339","DEUR","BINNEN","BINNEN","MODERN","6571","","","Inventory","",true,"STOMP","",2015,630,38,"",false,false,false,375.21,454,{"$f":"ROUND(AA661*(1-VLOOKUP(AF661,Discounts!C:E,3,0)),2)","v":375.21},null,103790,"B055"]
[8718528100745,"Artikel",8718528100745,"STUKS","WK6571 A1 stomp","wit 630x2115 slg/vpl","FSC Mix 70% CU-COC 800339","DEUR","BINNEN","BINNEN","MODERN","6571","","","Inventory","",true,"STOMP","",2115,630,38,"",false,false,false,375.21,454,{"$f":"ROUND(AA662*(1-VLOOKUP(AF662,Discounts!C:E,3,0)),2)","v":375.21},null,103790,"B055"]
[8718528100752,"Artikel",8718528100752,"STUKS","WK6571 XL A1 stomp","wit 630x2315 slg/vpl","FSC Mix 70% CU-COC 800339","DEUR","BINNEN","BINNEN","MODERN","6571","","","Inventory","",true,"STOMP","",2315,630,38,"",false,false,false,375.21,454,{"$f":"ROUND(AA663*(1-VLOOKUP(AF663,Discounts!C:E,3,0)),2)","v":375.21},null,103790,"B055"]
[8718528100769,"Artikel",8718528100769,"STUKS","WK6571 A1 stomp","wit 680x2015 slg/vpl","FSC Mix 70% CU-COC 800339","DEUR","BINNEN","BINNEN","MODERN","6571","","","Inventory","",true,"STOMP","",2015,680,38,"",false,false,false,375.21,454,{"$f":"ROUND(AA664*(1-VLOOKUP(AF664,Discounts!C:E,3,0)),2)","v":375.21},null,103790,"B055"]
[8718528100776,"Artikel",8718528100776,"STUKS","WK6571 A1 stomp","wit 680x2115 slg/vpl","FSC Mix 70% CU-COC 800339","DEUR","BINNEN","BINNEN","MODERN","6571","","","Inventory","",true,"STOMP","",2115,680,38,"",false,false,false,375.21,454,{"$f":"ROUND(AA665*(1-VLOOKUP(AF665,Discounts!C:E,3,0)),2)","v":375.21},null,103790,"B055"]
[8718528100783,"Artikel",8718528100783,"STUKS","WK6571 XL A1 stomp","wit 680x2315 slg/vpl","FSC Mix 70% CU-COC 800339","DEUR","BINNEN","BINNEN","MODERN","6571","","","Inventory","",true,"STOMP","",2315,680,38,"",false,false,false,375.21,454,{"$f":"ROUND(AA666*(1-VLOOKUP(AF666,Discounts!C:E,3,0)),2)","v":375.21},null,103790,"B055"]
[8718528017302,"Artikel",8718528017302,"STUKS","WK6572 A stomp","wit 780x2015 slg/vpl","FSC Mix 70% CU-COC 800339","DEUR","BINNEN","BINNEN","MODERN","6572","","","Inventory","",true,"STOMP","",2015,780,38,"",false,false,false,336.36,407,{"$f":"ROUND(AA667*(1-VLOOKUP(AF667,Discounts!C:E,3,0)),2)","v":336.36},null,103800,"B055"]
[8718528017333,"Artikel",8718528017333,"STUKS","WK6572 A stomp","wit 830x2015 slg/vpl","FSC Mix 70% CU-COC 800339","DEUR","BINNEN","BINNEN","MODERN","6572","","","Inventory","",true,"STOMP","",2015,830,38,"",false,false,false,336.36,407,{"$f":"ROUND(AA668*(1-VLOOKUP(AF668,Discounts!C:E,3,0)),2)","v":336.36},null,103800,"B055"]
[8718528017364,"Artikel",8718528017364,"STUKS","WK6572 A stomp","wit 830x2115 slg/vpl","FSC Mix 70% CU-COC 800339","DEUR","BINNEN","BINNEN","MODERN","6572","","","Inventory","",true,"STOMP","",2115,830,38,"",false,false,false,336.36,407,{"$f":"ROUND(AA669*(1-VLOOKUP(AF669,Discounts!C:E,3,0)),2)","v":336.36},null,103800,"B055"]
[8718528017395,"Artikel",8718528017395,"STUKS","WK6572 XL A stomp","wit 830x2315 slg/vpl","FSC Mix 70% CU-COC 800339","DEUR","BINNEN","BINNEN","MODERN","6572","","","Inventory","",true,"STOMP","",2315,830,38,"",false,false,false,336.36,407,{"$f":"ROUND(AA670*(1-VLOOKUP(AF670,Discounts!C:E,3,0)),2)","v":336.36},null,103800,"B055"]
[8718528017425,"Artikel",8718528017425,"STUKS","WK6572 A stomp","wit 880x2015 slg/vpl","FSC Mix 70% CU-COC 800339","DEUR","BINNEN","BINNEN","MODERN","6572","","","Inventory","",true,"STOMP","",2015,880,38,"",false,false,false,336.36,407,{"$f":"ROUND(AA671*(1-VLOOKUP(AF671,Discounts!C:E,3,0)),2)","v":336.36},null,103800,"B055"]
[8718528017432,"Artikel",8718528017432,"STUKS","WK6572 A stomp","wit 880x2115 slg/vpl","FSC Mix 70% CU-COC 800339","DEUR","BINNEN","BINNEN","MODERN","6572","","","Inventory","",true,"STOMP","",2115,880,38,"",false,false,false,336.36,407,{"$f":"ROUND(AA672*(1-VLOOKUP(AF672,Discounts!C:E,3,0)),2)","v":336.36},null,103800,"B055"]
[8718528017463,"Artikel",8718528017463,"STUKS","WK6572 XL A stomp","wit 880x2315 slg/vpl","FSC Mix 70% CU-COC 800339","DEUR","BINNEN","BINNEN","MODERN","6572","","","Inventory","",true,"STOMP","",2315,880,38,"",false,false,false,336.36,407,{"$f":"ROUND(AA673*(1-VLOOKUP(AF673,Discounts!C:E,3,0)),2)","v":336.36},null,103800,"B055"]
[8718528017494,"Artikel",8718528017494,"STUKS","WK6572 A stomp","wit 930x2015 slg/vpl","FSC Mix 70% CU-COC 800339","DEUR","BINNEN","BINNEN","MODERN","6572","","","Inventory","",true,"STOMP","",2015,930,38,"",false,false,false,336.36,407,{"$f":"ROUND(AA674*(1-VLOOKUP(AF674,Discounts!C:E,3,0)),2)","v":336.36},null,103800,"B055"]
[8718528017500,"Artikel",8718528017500,"STUKS","WK6572 A stomp","wit 930x2115 slg/vpl","FSC Mix 70% CU-COC 800339","DEUR","BINNEN","BINNEN","MODERN","6572","","","Inventory","",true,"STOMP","",2115,930,38,"",false,false,false,336.36,407,{"$f":"ROUND(AA675*(1-VLOOKUP(AF675,Discounts!C:E,3,0)),2)","v":336.36},null,103800,"B055"]
[8718528017531,"Artikel",8718528017531,"STUKS","WK6572 XL A stomp","wit 930x2315 slg/vpl","FSC Mix 70% CU-COC 800339","DEUR","BINNEN","BINNEN","MODERN","6572","","","Inventory","",true,"STOMP","",2315,930,38,"",false,false,false,336.36,407,{"$f":"ROUND(AA676*(1-VLOOKUP(AF676,Discounts!C:E,3,0)),2)","v":336.36},null,103800,"B055"]
[8718528100790,"Artikel",8718528100790,"STUKS","WK6572 A stomp","wit 630x2015 slg/vpl","FSC Mix 70% CU-COC 800339","DEUR","BINNEN","BINNEN","MODERN","6572","","","Inventory","",true,"STOMP","",2015,630,38,"",false,false,false,336.36,407,{"$f":"ROUND(AA677*(1-VLOOKUP(AF677,Discounts!C:E,3,0)),2)","v":336.36},null,103800,"B055"]
[8718528100806,"Artikel",8718528100806,"STUKS","WK6572 A stomp","wit 630x2115 slg/vpl","FSC Mix 70% CU-COC 800339","DEUR","BINNEN","BINNEN","MODERN","6572","","","Inventory","",true,"STOMP","",2115,630,38,"",false,false,false,336.36,407,{"$f":"ROUND(AA678*(1-VLOOKUP(AF678,Discounts!C:E,3,0)),2)","v":336.36},null,103800,"B055"]
[8718528100813,"Artikel",8718528100813,"STUKS","WK6572 XL A stomp","wit 630x2315 slg/vpl","FSC Mix 70% CU-COC 800339","DEUR","BINNEN","BINNEN","MODERN","6572","","","Inventory","",true,"STOMP","",2315,630,38,"",false,false,false,336.36,407,{"$f":"ROUND(AA679*(1-VLOOKUP(AF679,Discounts!C:E,3,0)),2)","v":336.36},null,103800,"B055"]
[8718528100820,"Artikel",8718528100820,"STUKS","WK6572 A stomp","wit 680x2015 slg/vpl","FSC Mix 70% CU-COC 800339","DEUR","BINNEN","BINNEN","MODERN","6572","","","Inventory","",true,"STOMP","",2015,680,38,"",false,false,false,336.36,407,{"$f":"ROUND(AA680*(1-VLOOKUP(AF680,Discounts!C:E,3,0)),2)","v":336.36},null,103800,"B055"]
[8718528100837,"Artikel",8718528100837,"STUKS","WK6572 A stomp","wit 680x2115 slg/vpl","FSC Mix 70% CU-COC 800339","DEUR","BINNEN","BINNEN","MODERN","6572","","","Inventory","",true,"STOMP","",2115,680,38,"",false,false,false,336.36,407,{"$f":"ROUND(AA681*(1-VLOOKUP(AF681,Discounts!C:E,3,0)),2)","v":336.36},null,103800,"B055"]
[8718528100844,"Artikel",8718528100844,"STUKS","WK6572 XL A stomp","wit 680x2315 slg/vpl","FSC Mix 70% CU-COC 800339","DEUR","BINNEN","BINNEN","MODERN","6572","","","Inventory","",true,"STOMP","",2315,680,38,"",false,false,false,336.36,407,{"$f":"ROUND(AA682*(1-VLOOKUP(AF682,Discounts!C:E,3,0)),2)","v":336.36},null,103800,"B055"]
[8718528100851,"Artikel",8718528100851,"STUKS","WK6572 A stomp","wit 730x2015 slg/vpl","FSC Mix 70% CU-COC 800339","DEUR","BINNEN","BINNEN","MODERN","6572","","","Inventory","",true,"STOMP","",2015,730,38,"",false,false,false,336.36,407,{"$f":"ROUND(AA683*(1-VLOOKUP(AF683,Discounts!C:E,3,0)),2)","v":336.36},null,103800,"B055"]
[8718528100868,"Artikel",8718528100868,"STUKS","WK6572 A stomp","wit 730x2115 slg/vpl","FSC Mix 70% CU-COC 800339","DEUR","BINNEN","BINNEN","MODERN","6572","","","Inventory","",true,"STOMP","",2115,730,38,"",false,false,false,336.36,407,{"$f":"ROUND(AA684*(1-VLOOKUP(AF684,Discounts!C:E,3,0)),2)","v":336.36},null,103800,"B055"]
[8718528100875,"Artikel",8718528100875,"STUKS","WK6572 XL A stomp","wit 730x2315 slg/vpl","FSC Mix 70% CU-COC 800339","DEUR","BINNEN","BINNEN","MODERN","6572","","","Inventory","",true,"STOMP","",2315,730,38,"",false,false,false,336.36,407,{"$f":"ROUND(AA685*(1-VLOOKUP(AF685,Discounts!C:E,3,0)),2)","v":336.36},null,103800,"B055"]
[8718528100882,"Artikel",8718528100882,"STUKS","WK6572 A stomp","wit 780x2115 slg/vpl","FSC Mix 70% CU-COC 800339","DEUR","BINNEN","BINNEN","MODERN","6572","","","Inventory","",true,"STOMP","",2115,780,38,"",false,false,false,336.36,407,{"$f":"ROUND(AA686*(1-VLOOKUP(AF686,Discounts!C:E,3,0)),2)","v":336.36},null,103800,"B055"]
[8718528100899,"Artikel",8718528100899,"STUKS","WK6572 XL A stomp","wit 780x2315 slg/vpl","FSC Mix 70% CU-COC 800339","DEUR","BINNEN","BINNEN","MODERN","6572","","","Inventory","",true,"STOMP","",2315,780,38,"",false,false,false,336.36,407,{"$f":"ROUND(AA687*(1-VLOOKUP(AF687,Discounts!C:E,3,0)),2)","v":336.36},null,103800,"B055"]
[8718528122457,"Artikel",8718528122457,"STUKS","Facetglas blank tbv 6512","630 x 2015 set a 8 ruiten","","GLAS","","BINNEN","MODERN","6512","FACETGLAS BLANK","","Inventory","",false,"","",0,0,0,"",false,false,false,214.88,260,{"$f":"ROUND(AA688*(1-VLOOKUP(AF688,Discounts!C:E,3,0)),2)","v":214.88},null,104270,"P107"]
[8718528122464,"Artikel",8718528122464,"STUKS","Facetglas blank tbv 6512","630 x 2115 set a 8 ruiten","","GLAS","","BINNEN","MODERN","6512","FACETGLAS BLANK","","Inventory","",false,"","",0,0,0,"",false,false,false,214.88,260,{"$f":"ROUND(AA689*(1-VLOOKUP(AF689,Discounts!C:E,3,0)),2)","v":214.88},null,104270,"P107"]
[8718528122471,"Artikel",8718528122471,"STUKS","Facetglas blank tbv 6512","680 x 2015 set a 8 ruiten","","GLAS","","BINNEN","MODERN","6512","FACETGLAS BLANK","","Inventory","",false,"","",0,0,0,"",false,false,false,214.88,260,{"$f":"ROUND(AA690*(1-VLOOKUP(AF690,Discounts!C:E,3,0)),2)","v":214.88},null,104270,"P107"]
[8718528122488,"Artikel",8718528122488,"STUKS","Facetglas blank tbv 6512","680 x 2115 set a 8 ruiten","","GLAS","","BINNEN","MODERN","6512","FACETGLAS BLANK","","Inventory","",false,"","",0,0,0,"",false,false,false,214.88,260,{"$f":"ROUND(AA691*(1-VLOOKUP(AF691,Discounts!C:E,3,0)),2)","v":214.88},null,104270,"P107"]
[8718528122495,"Artikel",8718528122495,"STUKS","Facetglas blank tbv 6512","630 x 2315 set a 8 ruiten","","GLAS","","BINNEN","MODERN","6512","FACETGLAS BLANK","","Inventory","",false,"","",0,0,0,"",false,false,false,214.88,260,{"$f":"ROUND(AA692*(1-VLOOKUP(AF692,Discounts!C:E,3,0)),2)","v":214.88},null,104270,"P107"]
[8718528122501,"Artikel",8718528122501,"STUKS","Facetglas blank tbv 6512","680 x 2315 set a 8 ruiten","","GLAS","","BINNEN","MODERN","6512","FACETGLAS BLANK","","Inventory","",false,"","",0,0,0,"",false,false,false,214.88,260,{"$f":"ROUND(AA693*(1-VLOOKUP(AF693,Discounts!C:E,3,0)),2)","v":214.88},null,104270,"P107"]
[8718528029558,"Artikel",8718528029558,"STUKS","Facetglas blank tbv 6512","780x2015 set a 8 ruiten","","GLAS","","BINNEN","MODERN","6512","FACETGLAS BLANK","","Inventory","",false,"","",0,0,0,"",false,false,false,214.88,260,{"$f":"ROUND(AA694*(1-VLOOKUP(AF694,Discounts!C:E,3,0)),2)","v":214.88},null,104270,"P107"]
[8718528029565,"Artikel",8718528029565,"STUKS","Facetglas blank tbv 6512","780x2115 set a 8 ruiten","","GLAS","","BINNEN","MODERN","6512","FACETGLAS BLANK","","Inventory","",false,"","",543,370,0,"",false,false,false,214.88,260,{"$f":"ROUND(AA695*(1-VLOOKUP(AF695,Discounts!C:E,3,0)),2)","v":214.88},null,104270,"P107"]
[8718528029572,"Artikel",8718528029572,"STUKS","Facetglas blank tbv 6512","830x2015 set a 8 ruiten","","GLAS","","BINNEN","MODERN","6512","FACETGLAS BLANK","","Inventory","",false,"","",518,395,0,"",false,false,false,214.88,260,{"$f":"ROUND(AA696*(1-VLOOKUP(AF696,Discounts!C:E,3,0)),2)","v":214.88},null,104270,"P107"]
[8718528029589,"Artikel",8718528029589,"STUKS","Facetglas blank tbv 6512","830x2115 set a 8 ruiten","","GLAS","","BINNEN","MODERN","6512","FACETGLAS BLANK","","Inventory","",false,"","",543,395,0,"",false,false,false,214.88,260,{"$f":"ROUND(AA697*(1-VLOOKUP(AF697,Discounts!C:E,3,0)),2)","v":214.88},null,104270,"P107"]
[8718528029596,"Artikel",8718528029596,"STUKS","Facetglas blank tbv 6512","880x2015 set a 8 ruiten","","GLAS","","BINNEN","MODERN","6512","FACETGLAS BLANK","","Inventory","",false,"","",518,420,0,"",false,false,false,214.88,260,{"$f":"ROUND(AA698*(1-VLOOKUP(AF698,Discounts!C:E,3,0)),2)","v":214.88},null,104270,"P107"]
[8718528029602,"Artikel",8718528029602,"STUKS","Facetglas blank tbv 6512","880x2115 set a 8 ruiten","","GLAS","","BINNEN","MODERN","6512","FACETGLAS BLANK","","Inventory","",false,"","",543,420,0,"",false,false,false,214.88,260,{"$f":"ROUND(AA699*(1-VLOOKUP(AF699,Discounts!C:E,3,0)),2)","v":214.88},null,104270,"P107"]
[8718528029619,"Artikel",8718528029619,"STUKS","Facetglas blank tbv 6512","930x2015 set a 8 ruiten","","GLAS","","BINNEN","MODERN","6512","FACETGLAS BLANK","","Inventory","",false,"","",518,445,0,"",false,false,false,214.88,260,{"$f":"ROUND(AA700*(1-VLOOKUP(AF700,Discounts!C:E,3,0)),2)","v":214.88},null,104270,"P107"]
[8718528029626,"Artikel",8718528029626,"STUKS","Facetglas blank tbv 6512","930x2115 set a 8 ruiten","","GLAS","","BINNEN","MODERN","6512","FACETGLAS BLANK","","Inventory","",false,"","",543,445,0,"",false,false,false,214.88,260,{"$f":"ROUND(AA701*(1-VLOOKUP(AF701,Discounts!C:E,3,0)),2)","v":214.88},null,104270,"P107"]
[8718528029633,"Artikel",8718528029633,"STUKS","Facetglas blank tbv 6512","730x2015 set a 8 ruiten","","GLAS","","BINNEN","MODERN","6512","FACETGLAS BLANK","","Inventory","",false,"","",518,345,0,"",false,false,false,214.88,260,{"$f":"ROUND(AA702*(1-VLOOKUP(AF702,Discounts!C:E,3,0)),2)","v":214.88},null,104270,"P107"]
[8718528029640,"Artikel",8718528029640,"STUKS","Facetglas blank tbv 6512","730x2115 set a 8 ruiten","","GLAS","","BINNEN","MODERN","6512","FACETGLAS BLANK","","Inventory","",false,"","",543,345,0,"",false,false,false,214.88,260,{"$f":"ROUND(AA703*(1-VLOOKUP(AF703,Discounts!C:E,3,0)),2)","v":214.88},null,104270,"P107"]
[8718528030509,"Artikel",8718528030509,"STUKS","Facetglas blank tbv 6512","780x2315 set a 8 ruiten","","GLAS","","BINNEN","MODERN","6512","FACETGLAS BLANK","","Inventory","",false,"","",585,363,0,"",false,false,false,214.88,260,{"$f":"ROUND(AA704*(1-VLOOKUP(AF704,Discounts!C:E,3,0)),2)","v":214.88},null,104270,"P107"]
[8718528030516,"Artikel",8718528030516,"STUKS","Facetglas blank tbv 6512","830x2315 set a 8 ruiten","","GLAS","","BINNEN","MODERN","6512","FACETGLAS BLANK","","Inventory","",false,"","",585,388,0,"",false,false,false,214.88,260,{"$f":"ROUND(AA705*(1-VLOOKUP(AF705,Discounts!C:E,3,0)),2)","v":214.88},null,104270,"P107"]
[8718528030523,"Artikel",8718528030523,"STUKS","Facetglas blank tbv 6512","880x2315 set a 8 ruiten","","GLAS","","BINNEN","MODERN","6512","FACETGLAS BLANK","","Inventory","",false,"","",585,413,0,"",false,false,false,214.88,260,{"$f":"ROUND(AA706*(1-VLOOKUP(AF706,Discounts!C:E,3,0)),2)","v":214.88},null,104270,"P107"]
[8718528030530,"Artikel",8718528030530,"STUKS","Facetglas blank tbv 6512","930x2315 set a 8 ruiten","","GLAS","","BINNEN","MODERN","6512","FACETGLAS BLANK","","Inventory","",false,"","",585,438,0,"",false,false,false,214.88,260,{"$f":"ROUND(AA707*(1-VLOOKUP(AF707,Discounts!C:E,3,0)),2)","v":214.88},null,104270,"P107"]
[8718528030547,"Artikel",8718528030547,"STUKS","Facetglas blank tbv 6512","730x2315 set a 8 ruiten","","GLAS","","BINNEN","MODERN","6512","FACETGLAS BLANK","","Inventory","",false,"","",585,338,0,"",false,false,false,214.88,260,{"$f":"ROUND(AA708*(1-VLOOKUP(AF708,Discounts!C:E,3,0)),2)","v":214.88},null,104270,"P107"]
[8718528122518,"Artikel",8718528122518,"STUKS","Facetglas mat tbv 6512","630 x 2015 set a 8 ruiten","","GLAS","","BINNEN","MODERN","6512","FACETGLAS MAT","","Inventory","",false,"","",0,0,0,"",false,false,false,329.75,399,{"$f":"ROUND(AA709*(1-VLOOKUP(AF709,Discounts!C:E,3,0)),2)","v":329.75},null,104280,"P107"]
[8718528122525,"Artikel",8718528122525,"STUKS","Facetglas mat tbv 6512","630 x 2115 set a 8 ruiten","","GLAS","","BINNEN","MODERN","6512","FACETGLAS MAT","","Inventory","",false,"","",0,0,0,"",false,false,false,329.75,399,{"$f":"ROUND(AA710*(1-VLOOKUP(AF710,Discounts!C:E,3,0)),2)","v":329.75},null,104280,"P107"]
[8718528122532,"Artikel",8718528122532,"STUKS","Facetglas mat tbv 6512","680 x 2015 set a 8 ruiten","","GLAS","","BINNEN","MODERN","6512","FACETGLAS MAT","","Inventory","",false,"","",0,0,0,"",false,false,false,329.75,399,{"$f":"ROUND(AA711*(1-VLOOKUP(AF711,Discounts!C:E,3,0)),2)","v":329.75},null,104280,"P107"]
[8718528122549,"Artikel",8718528122549,"STUKS","Facetglas mat tbv 6512","680 x 2115 set a 8 ruiten","","GLAS","","BINNEN","MODERN","6512","FACETGLAS MAT","","Inventory","",false,"","",0,0,0,"",false,false,false,329.75,399,{"$f":"ROUND(AA712*(1-VLOOKUP(AF712,Discounts!C:E,3,0)),2)","v":329.75},null,104280,"P107"]
[8718528122556,"Artikel",8718528122556,"STUKS","Facetglas mat tbv 6512","630 x 2315 set a 8 ruiten","","GLAS","","BINNEN","MODERN","6512","FACETGLAS MAT","","Inventory","",false,"","",0,0,0,"",false,false,false,329.75,399,{"$f":"ROUND(AA713*(1-VLOOKUP(AF713,Discounts!C:E,3,0)),2)","v":329.75},null,104280,"P107"]
[8718528122563,"Artikel",8718528122563,"STUKS","Facetglas mat tbv 6512","680 x 2315 set a 8 ruiten","","GLAS","","BINNEN","MODERN","6512","FACETGLAS MAT","","Inventory","",false,"","",0,0,0,"",false,false,false,329.75,399,{"$f":"ROUND(AA714*(1-VLOOKUP(AF714,Discounts!C:E,3,0)),2)","v":329.75},null,104280,"P107"]
[8718528029657,"Artikel",8718528029657,"STUKS","Facetglas mat tbv 6512","780x2015 set a 8 ruiten","","GLAS","","BINNEN","MODERN","6512","FACETGLAS MAT","","Inventory","",false,"","",518,370,0,"",false,false,false,329.75,399,{"$f":"ROUND(AA715*(1-VLOOKUP(AF715,Discounts!C:E,3,0)),2)","v":329.75},null,104280,"P107"]
[8718528029664,"Artikel",8718528029664,"STUKS","Facetglas mat tbv 6512","780x2115 set a 8 ruiten","","GLAS","","BINNEN","MODERN","6512","FACETGLAS MAT","","Inventory","",false,"","",543,370,0,"",false,false,false,329.75,399,{"$f":"ROUND(AA716*(1-VLOOKUP(AF716,Discounts!C:E,3,0)),2)","v":329.75},null,104280,"P107"]
[8718528029671,"Artikel",8718528029671,"STUKS","Facetglas mat tbv 6512","830x2015 set a 8 ruiten","","GLAS","","BINNEN","MODERN","6512","FACETGLAS MAT","","Inventory","",false,"","",518,395,0,"",false,false,false,329.75,399,{"$f":"ROUND(AA717*(1-VLOOKUP(AF717,Discounts!C:E,3,0)),2)","v":329.75},null,104280,"P107"]
[8718528029688,"Artikel",8718528029688,"STUKS","Facetglas mat tbv 6512","830x2115 set a 8 ruiten","","GLAS","","BINNEN","MODERN","6512","FACETGLAS MAT","","Inventory","",false,"","",543,395,0,"",false,false,false,329.75,399,{"$f":"ROUND(AA718*(1-VLOOKUP(AF718,Discounts!C:E,3,0)),2)","v":329.75},null,104280,"P107"]
[8718528029695,"Artikel",8718528029695,"STUKS","Facetglas mat tbv 6512","880x2015 set a 8 ruiten","","GLAS","","BINNEN","MODERN","6512","FACETGLAS MAT","","Inventory","",false,"","",518,420,0,"",false,false,false,329.75,399,{"$f":"ROUND(AA719*(1-VLOOKUP(AF719,Discounts!C:E,3,0)),2)","v":329.75},null,104280,"P107"]
[8718528029701,"Artikel",8718528029701,"STUKS","Facetglas mat tbv 6512","880x2115 set a 8 ruiten","","GLAS","","BINNEN","MODERN","6512","FACETGLAS MAT","","Inventory","",false,"","",543,420,0,"",false,false,false,329.75,399,{"$f":"ROUND(AA720*(1-VLOOKUP(AF720,Discounts!C:E,3,0)),2)","v":329.75},null,104280,"P107"]
[8718528029718,"Artikel",8718528029718,"STUKS","Facetglas mat tbv 6512","930x2015 set a 8 ruiten","","GLAS","","BINNEN","MODERN","6512","FACETGLAS MAT","","Inventory","",false,"","",518,445,0,"",false,false,false,329.75,399,{"$f":"ROUND(AA721*(1-VLOOKUP(AF721,Discounts!C:E,3,0)),2)","v":329.75},null,104280,"P107"]
[8718528029725,"Artikel",8718528029725,"STUKS","Facetglas mat tbv 6512","930x2115 set a 8 ruiten","","GLAS","","BINNEN","MODERN","6512","FACETGLAS MAT","","Inventory","",false,"","",543,445,0,"",false,false,false,329.75,399,{"$f":"ROUND(AA722*(1-VLOOKUP(AF722,Discounts!C:E,3,0)),2)","v":329.75},null,104280,"P107"]
[8718528029732,"Artikel",8718528029732,"STUKS","Facetglas mat tbv 6512","730x2015 set a 8 ruiten","","GLAS","","BINNEN","MODERN","6512","FACETGLAS MAT","","Inventory","",false,"","",518,345,0,"",false,false,false,329.75,399,{"$f":"ROUND(AA723*(1-VLOOKUP(AF723,Discounts!C:E,3,0)),2)","v":329.75},null,104280,"P107"]
[8718528029749,"Artikel",8718528029749,"STUKS","Facetglas mat tbv 6512","730x2115 set a 8 ruiten","","GLAS","","BINNEN","MODERN","6512","FACETGLAS MAT","","Inventory","",false,"","",543,345,0,"",false,false,false,329.75,399,{"$f":"ROUND(AA724*(1-VLOOKUP(AF724,Discounts!C:E,3,0)),2)","v":329.75},null,104280,"P107"]
[8718528030554,"Artikel",8718528030554,"STUKS","Facetglas mat tbv 6512","780x2315 set a 8 ruiten","","GLAS","","BINNEN","MODERN","6512","FACETGLAS MAT","","Inventory","",false,"","",585,363,0,"",false,false,false,329.75,399,{"$f":"ROUND(AA725*(1-VLOOKUP(AF725,Discounts!C:E,3,0)),2)","v":329.75},null,104280,"P107"]
[8718528030561,"Artikel",8718528030561,"STUKS","Facetglas mat tbv 6512","830x2315 set a 8 ruiten","","GLAS","","BINNEN","MODERN","6512","FACETGLAS MAT","","Inventory","",false,"","",585,388,0,"",false,false,false,329.75,399,{"$f":"ROUND(AA726*(1-VLOOKUP(AF726,Discounts!C:E,3,0)),2)","v":329.75},null,104280,"P107"]
[8718528030578,"Artikel",8718528030578,"STUKS","Facetglas mat tbv 6512","880x2315 set a 8 ruiten","","GLAS","","BINNEN","MODERN","6512","FACETGLAS MAT","","Inventory","",false,"","",585,413,0,"",false,false,false,329.75,399,{"$f":"ROUND(AA727*(1-VLOOKUP(AF727,Discounts!C:E,3,0)),2)","v":329.75},null,104280,"P107"]
[8718528030585,"Artikel",8718528030585,"STUKS","Facetglas mat tbv 6512","930x2315 set a 8 ruiten","","GLAS","","BINNEN","MODERN","6512","FACETGLAS MAT","","Inventory","",false,"","",585,438,0,"",false,false,false,329.75,399,{"$f":"ROUND(AA728*(1-VLOOKUP(AF728,Discounts!C:E,3,0)),2)","v":329.75},null,104280,"P107"]
[8718528030592,"Artikel",8718528030592,"STUKS","Facetglas mat tbv 6512","730x2315 set a 8 ruiten","","GLAS","","BINNEN","MODERN","6512","FACETGLAS MAT","","Inventory","",false,"","",585,338,0,"",false,false,false,329.75,399,{"$f":"ROUND(AA729*(1-VLOOKUP(AF729,Discounts!C:E,3,0)),2)","v":329.75},null,104280,"P107"]
[8718528122570,"Artikel",8718528122570,"STUKS","Blank glas tbv 6512","630 x 2015 set a 8 ruiten","","GLAS","","BINNEN","MODERN","6512","BLANK","","Inventory","",false,"","",0,0,0,"",false,false,false,152.89,185,{"$f":"ROUND(AA730*(1-VLOOKUP(AF730,Discounts!C:E,3,0)),2)","v":152.89},null,104290,"P107"]
[8718528122587,"Artikel",8718528122587,"STUKS","Blank glas tbv 6512","630 x 2115 set a 8 ruiten","","GLAS","","BINNEN","MODERN","6512","BLANK","","Inventory","",false,"","",0,0,0,"",false,false,false,152.89,185,{"$f":"ROUND(AA731*(1-VLOOKUP(AF731,Discounts!C:E,3,0)),2)","v":152.89},null,104290,"P107"]
[8718528122594,"Artikel",8718528122594,"STUKS","Blank glas tbv 6512","680 x 2015 set a 8 ruiten","","GLAS","","BINNEN","MODERN","6512","BLANK","","Inventory","",false,"","",0,0,0,"",false,false,false,152.89,185,{"$f":"ROUND(AA732*(1-VLOOKUP(AF732,Discounts!C:E,3,0)),2)","v":152.89},null,104290,"P107"]
[8718528122600,"Artikel",8718528122600,"STUKS","Blank glas tbv 6512","680 x 2115 set a 8 ruiten","","GLAS","","BINNEN","MODERN","6512","BLANK","","Inventory","",false,"","",0,0,0,"",false,false,false,152.89,185,{"$f":"ROUND(AA733*(1-VLOOKUP(AF733,Discounts!C:E,3,0)),2)","v":152.89},null,104290,"P107"]
[8718528122617,"Artikel",8718528122617,"STUKS","Blank glas tbv 6512","630 x 2315 set a 8 ruiten","","GLAS","","BINNEN","MODERN","6512","BLANK","","Inventory","",false,"","",0,0,0,"",false,false,false,152.89,185,{"$f":"ROUND(AA734*(1-VLOOKUP(AF734,Discounts!C:E,3,0)),2)","v":152.89},null,104290,"P107"]
[8718528122624,"Artikel",8718528122624,"STUKS","Blank glas tbv 6512","680 x 2315 set a 8 ruiten","","GLAS","","BINNEN","MODERN","6512","BLANK","","Inventory","",false,"","",0,0,0,"",false,false,false,152.89,185,{"$f":"ROUND(AA735*(1-VLOOKUP(AF735,Discounts!C:E,3,0)),2)","v":152.89},null,104290,"P107"]
[8718528031148,"Artikel",8718528031148,"STUKS","Blank glas tbv 6512","780x2015 set a 8 ruiten","","GLAS","","BINNEN","MODERN","6512","BLANK","","Inventory","",false,"","",518,370,0,"",false,false,false,152.89,185,{"$f":"ROUND(AA736*(1-VLOOKUP(AF736,Discounts!C:E,3,0)),2)","v":152.89},null,104290,"P107"]
[8718528031155,"Artikel",8718528031155,"STUKS","Blank glas tbv 6512","780x2115 set a 8 ruiten","","GLAS","","BINNEN","MODERN","6512","BLANK","","Inventory","",false,"","",543,370,0,"",false,false,false,152.89,185,{"$f":"ROUND(AA737*(1-VLOOKUP(AF737,Discounts!C:E,3,0)),2)","v":152.89},null,104290,"P107"]
[8718528031162,"Artikel",8718528031162,"STUKS","Blank glas tbv 6512","830x2015 set a 8 ruiten","","GLAS","","BINNEN","MODERN","6512","BLANK","","Inventory","",false,"","",518,395,0,"",false,false,false,152.89,185,{"$f":"ROUND(AA738*(1-VLOOKUP(AF738,Discounts!C:E,3,0)),2)","v":152.89},null,104290,"P107"]
[8718528031179,"Artikel",8718528031179,"STUKS","Blank glas tbv 6512","830x2115 set a 8 ruiten","","GLAS","","BINNEN","MODERN","6512","BLANK","","Inventory","",false,"","",543,395,0,"",false,false,false,152.89,185,{"$f":"ROUND(AA739*(1-VLOOKUP(AF739,Discounts!C:E,3,0)),2)","v":152.89},null,104290,"P107"]
[8718528031186,"Artikel",8718528031186,"STUKS","Blank glas tbv 6512","880x2015 set a 8 ruiten","","GLAS","","BINNEN","MODERN","6512","BLANK","","Inventory","",false,"","",518,420,0,"",false,false,false,152.89,185,{"$f":"ROUND(AA740*(1-VLOOKUP(AF740,Discounts!C:E,3,0)),2)","v":152.89},null,104290,"P107"]
[8718528031193,"Artikel",8718528031193,"STUKS","Blank glas tbv 6512","880x2115 set a 8 ruiten","","GLAS","","BINNEN","MODERN","6512","BLANK","","Inventory","",false,"","",543,420,0,"",false,false,false,152.89,185,{"$f":"ROUND(AA741*(1-VLOOKUP(AF741,Discounts!C:E,3,0)),2)","v":152.89},null,104290,"P107"]
[8718528031209,"Artikel",8718528031209,"STUKS","Blank glas tbv 6512","930x2015 set a 8 ruiten","","GLAS","","BINNEN","MODERN","6512","BLANK","","Inventory","",false,"","",518,445,0,"",false,false,false,152.89,185,{"$f":"ROUND(AA742*(1-VLOOKUP(AF742,Discounts!C:E,3,0)),2)","v":152.89},null,104290,"P107"]
[8718528031216,"Artikel",8718528031216,"STUKS","Blank glas tbv 6512","930x2115 set a 8 ruiten","","GLAS","","BINNEN","MODERN","6512","BLANK","","Inventory","",false,"","",543,445,0,"",false,false,false,152.89,185,{"$f":"ROUND(AA743*(1-VLOOKUP(AF743,Discounts!C:E,3,0)),2)","v":152.89},null,104290,"P107"]
[8718528031223,"Artikel",8718528031223,"STUKS","Blank glas tbv 6512","730x2015 set a 8 ruiten","","GLAS","","BINNEN","MODERN","6512","BLANK","","Inventory","",false,"","",518,345,0,"",false,false,false,152.89,185,{"$f":"ROUND(AA744*(1-VLOOKUP(AF744,Discounts!C:E,3,0)),2)","v":152.89},null,104290,"P107"]
[8718528031230,"Artikel",8718528031230,"STUKS","Blank glas tbv 6512","730x2115 set a 8 ruiten","","GLAS","","BINNEN","MODERN","6512","BLANK","","Inventory","",false,"","",543,345,0,"",false,false,false,152.89,185,{"$f":"ROUND(AA745*(1-VLOOKUP(AF745,Discounts!C:E,3,0)),2)","v":152.89},null,104290,"P107"]
[8718528031247,"Artikel",8718528031247,"STUKS","Blank glas tbv 6512","780x2315 set a 8 ruiten","","GLAS","","BINNEN","MODERN","6512","BLANK","","Inventory","",false,"","",585,363,0,"",false,false,false,152.89,185,{"$f":"ROUND(AA746*(1-VLOOKUP(AF746,Discounts!C:E,3,0)),2)","v":152.89},null,104290,"P107"]
[8718528031254,"Artikel",8718528031254,"STUKS","Blank glas tbv 6512","830x2315 set a 8 ruiten","","GLAS","","BINNEN","MODERN","6512","BLANK","","Inventory","",false,"","",585,388,0,"",false,false,false,152.89,185,{"$f":"ROUND(AA747*(1-VLOOKUP(AF747,Discounts!C:E,3,0)),2)","v":152.89},null,104290,"P107"]
[8718528031261,"Artikel",8718528031261,"STUKS","Blank glas tbv 6512","880x2315 set a 8 ruiten","","GLAS","","BINNEN","MODERN","6512","BLANK","","Inventory","",false,"","",585,413,0,"",false,false,false,152.89,185,{"$f":"ROUND(AA748*(1-VLOOKUP(AF748,Discounts!C:E,3,0)),2)","v":152.89},null,104290,"P107"]
[8718528031278,"Artikel",8718528031278,"STUKS","Blank glas tbv 6512","930x2315 set a 8 ruiten","","GLAS","","BINNEN","MODERN","6512","BLANK","","Inventory","",false,"","",585,438,0,"",false,false,false,152.89,185,{"$f":"ROUND(AA749*(1-VLOOKUP(AF749,Discounts!C:E,3,0)),2)","v":152.89},null,104290,"P107"]
[8718528031285,"Artikel",8718528031285,"STUKS","Blank glas tbv 6512","730x2315 set a 8 ruiten","","GLAS","","BINNEN","MODERN","6512","BLANK","","Inventory","",false,"","",585,338,0,"",false,false,false,152.89,185,{"$f":"ROUND(AA750*(1-VLOOKUP(AF750,Discounts!C:E,3,0)),2)","v":152.89},null,104290,"P107"]
[8718528029756,"Artikel",8718528029756,"STUKS","Facetglas blank tbv 6513","780x2015 set a 4 ruiten","","GLAS","","BINNEN","MODERN","6513","FACETGLAS BLANK","","Inventory","",false,"","",492,659,0,"",false,false,false,214.88,260,{"$f":"ROUND(AA751*(1-VLOOKUP(AF751,Discounts!C:E,3,0)),2)","v":214.88},null,104300,"P107"]
[8718528029763,"Artikel",8718528029763,"STUKS","Facetglas blank tbv 6513","830x2015 set a 4 ruiten","","GLAS","","BINNEN","MODERN","6513","FACETGLAS BLANK","","Inventory","",false,"","",492,709,0,"",false,false,false,214.88,260,{"$f":"ROUND(AA752*(1-VLOOKUP(AF752,Discounts!C:E,3,0)),2)","v":214.88},null,104300,"P107"]
[8718528029770,"Artikel",8718528029770,"STUKS","Facetglas blank tbv 6513","830x2115 set a 4 ruiten","","GLAS","","BINNEN","MODERN","6513","FACETGLAS BLANK","","Inventory","",false,"","",517,709,0,"",false,false,false,214.88,260,{"$f":"ROUND(AA753*(1-VLOOKUP(AF753,Discounts!C:E,3,0)),2)","v":214.88},null,104300,"P107"]
[8718528029787,"Artikel",8718528029787,"STUKS","Facetglas blank tbv 6513","880x2015 set a 4 ruiten","","GLAS","","BINNEN","MODERN","6513","FACETGLAS BLANK","","Inventory","",false,"","",492,759,0,"",false,false,false,214.88,260,{"$f":"ROUND(AA754*(1-VLOOKUP(AF754,Discounts!C:E,3,0)),2)","v":214.88},null,104300,"P107"]
[8718528029794,"Artikel",8718528029794,"STUKS","Facetglas blank tbv 6513","880x2115 set a 4 ruiten","","GLAS","","BINNEN","MODERN","6513","FACETGLAS BLANK","","Inventory","",false,"","",517,759,0,"",false,false,false,214.88,260,{"$f":"ROUND(AA755*(1-VLOOKUP(AF755,Discounts!C:E,3,0)),2)","v":214.88},null,104300,"P107"]
[8718528029800,"Artikel",8718528029800,"STUKS","Facetglas blank tbv 6513","930x2015 set a 4 ruiten","","GLAS","","BINNEN","MODERN","6513","FACETGLAS BLANK","","Inventory","",false,"","",492,809,0,"",false,false,false,214.88,260,{"$f":"ROUND(AA756*(1-VLOOKUP(AF756,Discounts!C:E,3,0)),2)","v":214.88},null,104300,"P107"]
[8718528029817,"Artikel",8718528029817,"STUKS","Facetglas blank tbv 6513","930x2115 set a 4 ruiten","","GLAS","","BINNEN","MODERN","6513","FACETGLAS BLANK","","Inventory","",false,"","",517,809,0,"",false,false,false,214.88,260,{"$f":"ROUND(AA757*(1-VLOOKUP(AF757,Discounts!C:E,3,0)),2)","v":214.88},null,104300,"P107"]
[8718528030608,"Artikel",8718528030608,"STUKS","Facetglas blank tbv 6513","830x2315 set a 4 ruiten","","GLAS","","BINNEN","MODERN","6513","FACETGLAS BLANK","","Inventory","",false,"","",559,695,0,"",false,false,false,214.88,260,{"$f":"ROUND(AA758*(1-VLOOKUP(AF758,Discounts!C:E,3,0)),2)","v":214.88},null,104300,"P107"]
[8718528030615,"Artikel",8718528030615,"STUKS","Facetglas blank tbv 6513","880x2315 set a 4 ruiten","","GLAS","","BINNEN","MODERN","6513","FACETGLAS BLANK","","Inventory","",false,"","",559,745,0,"",false,false,false,214.88,260,{"$f":"ROUND(AA759*(1-VLOOKUP(AF759,Discounts!C:E,3,0)),2)","v":214.88},null,104300,"P107"]
[8718528030622,"Artikel",8718528030622,"STUKS","Facetglas blank tbv 6513","930x2315 set a 4 ruiten","","GLAS","","BINNEN","MODERN","6513","FACETGLAS BLANK","","Inventory","",false,"","",559,795,0,"",false,false,false,214.88,260,{"$f":"ROUND(AA760*(1-VLOOKUP(AF760,Discounts!C:E,3,0)),2)","v":214.88},null,104300,"P107"]
[8718528029824,"Artikel",8718528029824,"STUKS","Facetglas mat tbv 6513","780x2015 set a 4 ruiten","","GLAS","","BINNEN","MODERN","6513","FACETGLAS MAT","","Inventory","",false,"","",492,659,0,"",false,false,false,329.75,399,{"$f":"ROUND(AA761*(1-VLOOKUP(AF761,Discounts!C:E,3,0)),2)","v":329.75},null,104310,"P107"]
[8718528029831,"Artikel",8718528029831,"STUKS","Facetglas mat tbv 6513","830x2015 set a 4 ruiten","","GLAS","","BINNEN","MODERN","6513","FACETGLAS MAT","","Inventory","",false,"","",492,709,0,"",false,false,false,329.75,399,{"$f":"ROUND(AA762*(1-VLOOKUP(AF762,Discounts!C:E,3,0)),2)","v":329.75},null,104310,"P107"]
[8718528029848,"Artikel",8718528029848,"STUKS","Facetglas mat tbv 6513","830x2115 set a 4 ruiten","","GLAS","","BINNEN","MODERN","6513","FACETGLAS MAT","","Inventory","",false,"","",517,709,0,"",false,false,false,329.75,399,{"$f":"ROUND(AA763*(1-VLOOKUP(AF763,Discounts!C:E,3,0)),2)","v":329.75},null,104310,"P107"]
[8718528029855,"Artikel",8718528029855,"STUKS","Facetglas mat tbv 6513","880x2015 set a 4 ruiten","","GLAS","","BINNEN","MODERN","6513","FACETGLAS MAT","","Inventory","",false,"","",492,759,0,"",false,false,false,329.75,399,{"$f":"ROUND(AA764*(1-VLOOKUP(AF764,Discounts!C:E,3,0)),2)","v":329.75},null,104310,"P107"]
[8718528029862,"Artikel",8718528029862,"STUKS","Facetglas mat tbv 6513","880x2115 set a 4 ruiten","","GLAS","","BINNEN","MODERN","6513","FACETGLAS MAT","","Inventory","",false,"","",517,759,0,"",false,false,false,329.75,399,{"$f":"ROUND(AA765*(1-VLOOKUP(AF765,Discounts!C:E,3,0)),2)","v":329.75},null,104310,"P107"]
[8718528029879,"Artikel",8718528029879,"STUKS","Facetglas mat tbv 6513","930x2015 set a 4 ruiten","","GLAS","","BINNEN","MODERN","6513","FACETGLAS MAT","","Inventory","",false,"","",492,809,0,"",false,false,false,329.75,399,{"$f":"ROUND(AA766*(1-VLOOKUP(AF766,Discounts!C:E,3,0)),2)","v":329.75},null,104310,"P107"]
[8718528029886,"Artikel",8718528029886,"STUKS","Facetglas mat tbv 6513","930x2115 set a 4 ruiten","","GLAS","","BINNEN","MODERN","6513","FACETGLAS MAT","","Inventory","",false,"","",517,809,0,"",false,false,false,329.75,399,{"$f":"ROUND(AA767*(1-VLOOKUP(AF767,Discounts!C:E,3,0)),2)","v":329.75},null,104310,"P107"]
[8718528030639,"Artikel",8718528030639,"STUKS","Facetglas mat tbv 6513","830x2315 set a 4 ruiten","","GLAS","","BINNEN","MODERN","6513","FACETGLAS MAT","","Inventory","",false,"","",559,695,0,"",false,false,false,329.75,399,{"$f":"ROUND(AA768*(1-VLOOKUP(AF768,Discounts!C:E,3,0)),2)","v":329.75},null,104310,"P107"]
[8718528030646,"Artikel",8718528030646,"STUKS","Facetglas mat tbv 6513","880x2315 set a 4 ruiten","","GLAS","","BINNEN","MODERN","6513","FACETGLAS MAT","","Inventory","",false,"","",559,745,0,"",false,false,false,329.75,399,{"$f":"ROUND(AA769*(1-VLOOKUP(AF769,Discounts!C:E,3,0)),2)","v":329.75},null,104310,"P107"]
[8718528030653,"Artikel",8718528030653,"STUKS","Facetglas mat tbv 6513","930x2315 set a 4 ruiten","","GLAS","","BINNEN","MODERN","6513","FACETGLAS MAT","","Inventory","",false,"","",559,795,0,"",false,false,false,329.75,399,{"$f":"ROUND(AA770*(1-VLOOKUP(AF770,Discounts!C:E,3,0)),2)","v":329.75},null,104310,"P107"]
[8718528031292,"Artikel",8718528031292,"STUKS","Blank glas tbv 6513","780x2015 set a 4 ruiten","","GLAS","","BINNEN","MODERN","6513","BLANK","","Inventory","",false,"","",492,659,0,"",false,false,false,152.89,185,{"$f":"ROUND(AA771*(1-VLOOKUP(AF771,Discounts!C:E,3,0)),2)","v":152.89},null,104320,"P107"]
[8718528031308,"Artikel",8718528031308,"STUKS","Blank glas tbv 6513","830x2015 set a 4 ruiten","","GLAS","","BINNEN","MODERN","6513","BLANK","","Inventory","",false,"","",492,709,0,"",false,false,false,152.89,185,{"$f":"ROUND(AA772*(1-VLOOKUP(AF772,Discounts!C:E,3,0)),2)","v":152.89},null,104320,"P107"]
[8718528031315,"Artikel",8718528031315,"STUKS","Blank glas tbv 6513","830x2115 set a 4 ruiten","","GLAS","","BINNEN","MODERN","6513","BLANK","","Inventory","",false,"","",517,709,0,"",false,false,false,152.89,185,{"$f":"ROUND(AA773*(1-VLOOKUP(AF773,Discounts!C:E,3,0)),2)","v":152.89},null,104320,"P107"]
[8718528031322,"Artikel",8718528031322,"STUKS","Blank glas tbv 6513","880x2015 set a 4 ruiten","","GLAS","","BINNEN","MODERN","6513","BLANK","","Inventory","",false,"","",492,759,0,"",false,false,false,152.89,185,{"$f":"ROUND(AA774*(1-VLOOKUP(AF774,Discounts!C:E,3,0)),2)","v":152.89},null,104320,"P107"]
[8718528031339,"Artikel",8718528031339,"STUKS","Blank glas tbv 6513","880x2115 set a 4 ruiten","","GLAS","","BINNEN","MODERN","6513","BLANK","","Inventory","",false,"","",517,759,0,"",false,false,false,152.89,185,{"$f":"ROUND(AA775*(1-VLOOKUP(AF775,Discounts!C:E,3,0)),2)","v":152.89},null,104320,"P107"]
[8718528031346,"Artikel",8718528031346,"STUKS","Blank glas tbv 6513","930x2015 set a 4 ruiten","","GLAS","","BINNEN","MODERN","6513","BLANK","","Inventory","",false,"","",492,809,0,"",false,false,false,152.89,185,{"$f":"ROUND(AA776*(1-VLOOKUP(AF776,Discounts!C:E,3,0)),2)","v":152.89},null,104320,"P107"]
[8718528031353,"Artikel",8718528031353,"STUKS","Blank glas tbv 6513","930x2115 set a 4 ruiten","","GLAS","","BINNEN","MODERN","6513","BLANK","","Inventory","",false,"","",517,809,0,"",false,false,false,152.89,185,{"$f":"ROUND(AA777*(1-VLOOKUP(AF777,Discounts!C:E,3,0)),2)","v":152.89},null,104320,"P107"]
[8718528031360,"Artikel",8718528031360,"STUKS","Blank glas tbv 6513","830x2315 set a 4 ruiten","","GLAS","","BINNEN","MODERN","6513","BLANK","","Inventory","",false,"","",559,695,0,"",false,false,false,152.89,185,{"$f":"ROUND(AA778*(1-VLOOKUP(AF778,Discounts!C:E,3,0)),2)","v":152.89},null,104320,"P107"]
[8718528031377,"Artikel",8718528031377,"STUKS","Blank glas tbv 6513","880x2315 set a 4 ruiten","","GLAS","","BINNEN","MODERN","6513","BLANK","","Inventory","",false,"","",559,745,0,"",false,false,false,152.89,185,{"$f":"ROUND(AA779*(1-VLOOKUP(AF779,Discounts!C:E,3,0)),2)","v":152.89},null,104320,"P107"]
[8718528031384,"Artikel",8718528031384,"STUKS","Blank glas tbv 6513","930x2315 set a 4 ruiten","","GLAS","","BINNEN","MODERN","6513","BLANK","","Inventory","",false,"","",559,795,0,"",false,false,false,152.89,185,{"$f":"ROUND(AA780*(1-VLOOKUP(AF780,Discounts!C:E,3,0)),2)","v":152.89},null,104320,"P107"]
[8718528031841,"Artikel",8718528031841,"STUKS","Mat glas tbv 6513","780x2015 set a 4 ruiten","","GLAS","","BINNEN","MODERN","6513","MAT","","Inventory","",false,"","",492,659,0,"",false,false,false,246.28,298,{"$f":"ROUND(AA781*(1-VLOOKUP(AF781,Discounts!C:E,3,0)),2)","v":246.28},null,104330,"P107"]
[8718528031858,"Artikel",8718528031858,"STUKS","Mat glas tbv 6513","830x2015 set a 4 ruiten","","GLAS","","BINNEN","MODERN","6513","MAT","","Inventory","",false,"","",492,709,0,"",false,false,false,246.28,298,{"$f":"ROUND(AA782*(1-VLOOKUP(AF782,Discounts!C:E,3,0)),2)","v":246.28},null,104330,"P107"]
[8718528031865,"Artikel",8718528031865,"STUKS","Mat glas tbv 6513","830x2115 set a 4 ruiten","","GLAS","","BINNEN","MODERN","6513","MAT","","Inventory","",false,"","",517,709,0,"",false,false,false,246.28,298,{"$f":"ROUND(AA783*(1-VLOOKUP(AF783,Discounts!C:E,3,0)),2)","v":246.28},null,104330,"P107"]
[8718528031872,"Artikel",8718528031872,"STUKS","Mat glas tbv 6513","880x2015 set a 4 ruiten","","GLAS","","BINNEN","MODERN","6513","MAT","","Inventory","",false,"","",492,759,0,"",false,false,false,246.28,298,{"$f":"ROUND(AA784*(1-VLOOKUP(AF784,Discounts!C:E,3,0)),2)","v":246.28},null,104330,"P107"]
[8718528031889,"Artikel",8718528031889,"STUKS","Mat glas tbv 6513","880x2115 set a 4 ruiten","","GLAS","","BINNEN","MODERN","6513","MAT","","Inventory","",false,"","",517,759,0,"",false,false,false,246.28,298,{"$f":"ROUND(AA785*(1-VLOOKUP(AF785,Discounts!C:E,3,0)),2)","v":246.28},null,104330,"P107"]
[8718528031896,"Artikel",8718528031896,"STUKS","Mat glas tbv 6513","930x2015 set a 4 ruiten","","GLAS","","BINNEN","MODERN","6513","MAT","","Inventory","",false,"","",492,809,0,"",false,false,false,246.28,298,{"$f":"ROUND(AA786*(1-VLOOKUP(AF786,Discounts!C:E,3,0)),2)","v":246.28},null,104330,"P107"]
[8718528031902,"Artikel",8718528031902,"STUKS","Mat glas tbv 6513","930x2115 set a 4 ruiten","","GLAS","","BINNEN","MODERN","6513","MAT","","Inventory","",false,"","",517,809,0,"",false,false,false,246.28,298,{"$f":"ROUND(AA787*(1-VLOOKUP(AF787,Discounts!C:E,3,0)),2)","v":246.28},null,104330,"P107"]
[8718528031919,"Artikel",8718528031919,"STUKS","Mat glas tbv 6513","830x2315 set a 4 ruiten","","GLAS","","BINNEN","MODERN","6513","MAT","","Inventory","",false,"","",559,695,0,"",false,false,false,246.28,298,{"$f":"ROUND(AA788*(1-VLOOKUP(AF788,Discounts!C:E,3,0)),2)","v":246.28},null,104330,"P107"]
[8718528031926,"Artikel",8718528031926,"STUKS","Mat glas tbv 6513","880x2315 set a 4 ruiten","","GLAS","","BINNEN","MODERN","6513","MAT","","Inventory","",false,"","",559,745,0,"",false,false,false,246.28,298,{"$f":"ROUND(AA789*(1-VLOOKUP(AF789,Discounts!C:E,3,0)),2)","v":246.28},null,104330,"P107"]
[8718528031933,"Artikel",8718528031933,"STUKS","Mat glas tbv 6513","930x2315 set a 4 ruiten","","GLAS","","BINNEN","MODERN","6513","MAT","","Inventory","",false,"","",559,795,0,"",false,false,false,246.28,298,{"$f":"ROUND(AA790*(1-VLOOKUP(AF790,Discounts!C:E,3,0)),2)","v":246.28},null,104330,"P107"]
[8718528033142,"Artikel",8718528033142,"STUKS","Mat glas met heldere banen","tbv 6513 780x2015 (4 ruiten)","","GLAS","","BINNEN","MODERN","6513","MAT + HELDERE BANEN","","Inventory","",false,"","",0,0,0,"",false,false,false,312.4,378,{"$f":"ROUND(AA791*(1-VLOOKUP(AF791,Discounts!C:E,3,0)),2)","v":312.4},null,104340,"P107"]
[8718528033159,"Artikel",8718528033159,"STUKS","Mat glas met heldere banen","tbv 6513 830x2015 (4 ruiten)","","GLAS","","BINNEN","MODERN","6513","MAT + HELDERE BANEN","","Inventory","",false,"","",0,0,0,"",false,false,false,312.4,378,{"$f":"ROUND(AA792*(1-VLOOKUP(AF792,Discounts!C:E,3,0)),2)","v":312.4},null,104340,"P107"]
[8718528033166,"Artikel",8718528033166,"STUKS","Mat glas met heldere banen","tbv 6513 830x2115 (4 ruiten)","","GLAS","","BINNEN","MODERN","6513","MAT + HELDERE BANEN","","Inventory","",false,"","",0,0,0,"",false,false,false,312.4,378,{"$f":"ROUND(AA793*(1-VLOOKUP(AF793,Discounts!C:E,3,0)),2)","v":312.4},null,104340,"P107"]
[8718528033173,"Artikel",8718528033173,"STUKS","Mat glas met heldere banen","tbv 6513 830x2315 (4 ruiten)","","GLAS","","BINNEN","MODERN","6513","MAT + HELDERE BANEN","","Inventory","",false,"","",0,0,0,"",false,false,false,312.4,378,{"$f":"ROUND(AA794*(1-VLOOKUP(AF794,Discounts!C:E,3,0)),2)","v":312.4},null,104340,"P107"]
[8718528033180,"Artikel",8718528033180,"STUKS","Mat glas met heldere banen","tbv 6513 880x2015 (4 ruiten)","","GLAS","","BINNEN","MODERN","6513","MAT + HELDERE BANEN","","Inventory","",false,"","",0,0,0,"",false,false,false,312.4,378,{"$f":"ROUND(AA795*(1-VLOOKUP(AF795,Discounts!C:E,3,0)),2)","v":312.4},null,104340,"P107"]
[8718528033197,"Artikel",8718528033197,"STUKS","Mat glas met heldere banen","tbv 6513 880x2115 (4 ruiten)","","GLAS","","BINNEN","MODERN","6513","MAT + HELDERE BANEN","","Inventory","",false,"","",0,0,0,"",false,false,false,312.4,378,{"$f":"ROUND(AA796*(1-VLOOKUP(AF796,Discounts!C:E,3,0)),2)","v":312.4},null,104340,"P107"]
[8718528033203,"Artikel",8718528033203,"STUKS","Mat glas met heldere banen","tbv 6513 880x2315 (4 ruiten)","","GLAS","","BINNEN","MODERN","6513","MAT + HELDERE BANEN","","Inventory","",false,"","",0,0,0,"",false,false,false,312.4,378,{"$f":"ROUND(AA797*(1-VLOOKUP(AF797,Discounts!C:E,3,0)),2)","v":312.4},null,104340,"P107"]
[8718528033210,"Artikel",8718528033210,"STUKS","Mat glas met heldere banen","tbv 6513 930x2015 (4 ruiten)","","GLAS","","BINNEN","MODERN","6513","MAT + HELDERE BANEN","","Inventory","",false,"","",0,0,0,"",false,false,false,312.4,378,{"$f":"ROUND(AA798*(1-VLOOKUP(AF798,Discounts!C:E,3,0)),2)","v":312.4},null,104340,"P107"]
[8718528033227,"Artikel",8718528033227,"STUKS","Mat glas met heldere banen","tbv 6513 930x2115 (4 ruiten)","","GLAS","","BINNEN","MODERN","6513","MAT + HELDERE BANEN","","Inventory","",false,"","",0,0,0,"",false,false,false,312.4,378,{"$f":"ROUND(AA799*(1-VLOOKUP(AF799,Discounts!C:E,3,0)),2)","v":312.4},null,104340,"P107"]
[8718528033234,"Artikel",8718528033234,"STUKS","Mat glas met heldere banen","tbv 6513 930x2315 (4 ruiten)","","GLAS","","BINNEN","MODERN","6513","MAT + HELDERE BANEN","","Inventory","",false,"","",0,0,0,"",false,false,false,312.4,378,{"$f":"ROUND(AA800*(1-VLOOKUP(AF800,Discounts!C:E,3,0)),2)","v":312.4},null,104340,"P107"]
[8718528123928,"Artikel",8718528123928,"STUKS","Facetglas blank tbv 6522","630 x 2015 set a 6 ruiten","","GLAS","","BINNEN","MODERN","6522","FACETGLAS BLANK","","Inventory","",false,"","",0,0,0,"",false,false,false,142.98,173,{"$f":"ROUND(AA801*(1-VLOOKUP(AF801,Discounts!C:E,3,0)),2)","v":142.98},null,104390,"P107"]
[8718528123935,"Artikel",8718528123935,"STUKS","Facetglas blank tbv 6522","630 x 2115 set a 6 ruiten","","GLAS","","BINNEN","MODERN","6522","FACETGLAS BLANK","","Inventory","",false,"","",0,0,0,"",false,false,false,142.98,173,{"$f":"ROUND(AA802*(1-VLOOKUP(AF802,Discounts!C:E,3,0)),2)","v":142.98},null,104390,"P107"]
[8718528123942,"Artikel",8718528123942,"STUKS","Facetglas blank tbv 6522","680 x 2015 set a 6 ruiten","","GLAS","","BINNEN","MODERN","6522","FACETGLAS BLANK","","Inventory","",false,"","",0,0,0,"",false,false,false,142.98,173,{"$f":"ROUND(AA803*(1-VLOOKUP(AF803,Discounts!C:E,3,0)),2)","v":142.98},null,104390,"P107"]
[8718528123959,"Artikel",8718528123959,"STUKS","Facetglas blank tbv 6522","680 x 2115 set a 6 ruiten","","GLAS","","BINNEN","MODERN","6522","FACETGLAS BLANK","","Inventory","",false,"","",0,0,0,"",false,false,false,142.98,173,{"$f":"ROUND(AA804*(1-VLOOKUP(AF804,Discounts!C:E,3,0)),2)","v":142.98},null,104390,"P107"]
[8718528123966,"Artikel",8718528123966,"STUKS","Facetglas blank tbv 6522","730 x 2015 set a 6 ruiten","","GLAS","","BINNEN","MODERN","6522","FACETGLAS BLANK","","Inventory","",false,"","",0,0,0,"",false,false,false,142.98,173,{"$f":"ROUND(AA805*(1-VLOOKUP(AF805,Discounts!C:E,3,0)),2)","v":142.98},null,104390,"P107"]
[8718528123973,"Artikel",8718528123973,"STUKS","Facetglas blank tbv 6522","730 x 2115 set a 6 ruiten","","GLAS","","BINNEN","MODERN","6522","FACETGLAS BLANK","","Inventory","",false,"","",0,0,0,"",false,false,false,142.98,173,{"$f":"ROUND(AA806*(1-VLOOKUP(AF806,Discounts!C:E,3,0)),2)","v":142.98},null,104390,"P107"]
[8718528123980,"Artikel",8718528123980,"STUKS","Facetglas blank tbv 6522","780 x 2115 set a 6 ruiten","","GLAS","","BINNEN","MODERN","6522","FACETGLAS BLANK","","Inventory","",false,"","",0,0,0,"",false,false,false,142.98,173,{"$f":"ROUND(AA807*(1-VLOOKUP(AF807,Discounts!C:E,3,0)),2)","v":142.98},null,104390,"P107"]
[8718528123997,"Artikel",8718528123997,"STUKS","Facetglas blank tbv 6522","630 x 2315 set a 6 ruiten","","GLAS","","BINNEN","MODERN","6522","FACETGLAS BLANK","","Inventory","",false,"","",0,0,0,"",false,false,false,142.98,173,{"$f":"ROUND(AA808*(1-VLOOKUP(AF808,Discounts!C:E,3,0)),2)","v":142.98},null,104390,"P107"]
[8718528124000,"Artikel",8718528124000,"STUKS","Facetglas blank tbv 6522","680 x 2315 set a 6 ruiten","","GLAS","","BINNEN","MODERN","6522","FACETGLAS BLANK","","Inventory","",false,"","",0,0,0,"",false,false,false,142.98,173,{"$f":"ROUND(AA809*(1-VLOOKUP(AF809,Discounts!C:E,3,0)),2)","v":142.98},null,104390,"P107"]
[8718528124017,"Artikel",8718528124017,"STUKS","Facetglas blank tbv 6522","730 x 2315 set a 6 ruiten","","GLAS","","BINNEN","MODERN","6522","FACETGLAS BLANK","","Inventory","",false,"","",0,0,0,"",false,false,false,142.98,173,{"$f":"ROUND(AA810*(1-VLOOKUP(AF810,Discounts!C:E,3,0)),2)","v":142.98},null,104390,"P107"]
[8718528124024,"Artikel",8718528124024,"STUKS","Facetglas blank tbv 6522","780 x 2315 set a 6 ruiten","","GLAS","","BINNEN","MODERN","6522","FACETGLAS BLANK","","Inventory","",false,"","",0,0,0,"",false,false,false,142.98,173,{"$f":"ROUND(AA811*(1-VLOOKUP(AF811,Discounts!C:E,3,0)),2)","v":142.98},null,104390,"P107"]
[8718528029893,"Artikel",8718528029893,"STUKS","Facetglas blank tbv 6522","780x2015 set a 6 ruiten","","GLAS","","BINNEN","MODERN","6522","FACETGLAS BLANK","","Inventory","",false,"","",457,370,0,"",false,false,false,142.98,173,{"$f":"ROUND(AA812*(1-VLOOKUP(AF812,Discounts!C:E,3,0)),2)","v":142.98},null,104390,"P107"]
[8718528029909,"Artikel",8718528029909,"STUKS","Facetglas blank tbv 6522","830x2015 set a 6 ruiten","","GLAS","","BINNEN","MODERN","6522","FACETGLAS BLANK","","Inventory","",false,"","",457,395,0,"",false,false,false,142.98,173,{"$f":"ROUND(AA813*(1-VLOOKUP(AF813,Discounts!C:E,3,0)),2)","v":142.98},null,104390,"P107"]
[8718528029916,"Artikel",8718528029916,"STUKS","Facetglas blank tbv 6522","830x2115 set a 6 ruiten","","GLAS","","BINNEN","MODERN","6522","FACETGLAS BLANK","","Inventory","",false,"","",491,395,0,"",false,false,false,142.98,173,{"$f":"ROUND(AA814*(1-VLOOKUP(AF814,Discounts!C:E,3,0)),2)","v":142.98},null,104390,"P107"]
[8718528029923,"Artikel",8718528029923,"STUKS","Facetglas blank tbv 6522","880x2015 set a 6 ruiten","","GLAS","","BINNEN","MODERN","6522","FACETGLAS BLANK","","Inventory","",false,"","",457,420,0,"",false,false,false,142.98,173,{"$f":"ROUND(AA815*(1-VLOOKUP(AF815,Discounts!C:E,3,0)),2)","v":142.98},null,104390,"P107"]
[8718528029930,"Artikel",8718528029930,"STUKS","Facetglas blank tbv 6522","880x2115 set a 6 ruiten","","GLAS","","BINNEN","MODERN","6522","FACETGLAS BLANK","","Inventory","",false,"","",491,420,0,"",false,false,false,142.98,173,{"$f":"ROUND(AA816*(1-VLOOKUP(AF816,Discounts!C:E,3,0)),2)","v":142.98},null,104390,"P107"]
[8718528029947,"Artikel",8718528029947,"STUKS","Facetglas blank tbv 6522","930x2015 set a 6 ruiten","","GLAS","","BINNEN","MODERN","6522","FACETGLAS BLANK","","Inventory","",false,"","",457,445,0,"",false,false,false,142.98,173,{"$f":"ROUND(AA817*(1-VLOOKUP(AF817,Discounts!C:E,3,0)),2)","v":142.98},null,104390,"P107"]
[8718528029954,"Artikel",8718528029954,"STUKS","Facetglas blank tbv 6522","930x2115 set a 6 ruiten","","GLAS","","BINNEN","MODERN","6522","FACETGLAS BLANK","","Inventory","",false,"","",491,445,0,"",false,false,false,142.98,173,{"$f":"ROUND(AA818*(1-VLOOKUP(AF818,Discounts!C:E,3,0)),2)","v":142.98},null,104390,"P107"]
[8718528030660,"Artikel",8718528030660,"STUKS","Facetglas blank tbv 6522","830x2315 set a 6 ruiten","","GLAS","","BINNEN","MODERN","6522","FACETGLAS BLANK","","Inventory","",false,"","",515,388,0,"",false,false,false,142.98,173,{"$f":"ROUND(AA819*(1-VLOOKUP(AF819,Discounts!C:E,3,0)),2)","v":142.98},null,104390,"P107"]
[8718528030677,"Artikel",8718528030677,"STUKS","Facetglas blank tbv 6522","880x2315 set a 6 ruiten","","GLAS","","BINNEN","MODERN","6522","FACETGLAS BLANK","","Inventory","",false,"","",515,413,0,"",false,false,false,142.98,173,{"$f":"ROUND(AA820*(1-VLOOKUP(AF820,Discounts!C:E,3,0)),2)","v":142.98},null,104390,"P107"]
[8718528030684,"Artikel",8718528030684,"STUKS","Facetglas blank tbv 6522","930x2315 set a 6 ruiten","","GLAS","","BINNEN","MODERN","6522","FACETGLAS BLANK","","Inventory","",false,"","",515,438,0,"",false,false,false,142.98,173,{"$f":"ROUND(AA821*(1-VLOOKUP(AF821,Discounts!C:E,3,0)),2)","v":142.98},null,104390,"P107"]
[8718528124031,"Artikel",8718528124031,"STUKS","Facetglas mat tbv 6522","630 x 2015 set a 6 ruiten","","GLAS","","BINNEN","MODERN","6522","FACETGLAS MAT","","Inventory","",false,"","",0,0,0,"",false,false,false,219.83,266,{"$f":"ROUND(AA822*(1-VLOOKUP(AF822,Discounts!C:E,3,0)),2)","v":219.83},null,104400,"P107"]
[8718528124048,"Artikel",8718528124048,"STUKS","Facetglas mat tbv 6522","630 x 2115 set a 6 ruiten","","GLAS","","BINNEN","MODERN","6522","FACETGLAS MAT","","Inventory","",false,"","",0,0,0,"",false,false,false,219.83,266,{"$f":"ROUND(AA823*(1-VLOOKUP(AF823,Discounts!C:E,3,0)),2)","v":219.83},null,104400,"P107"]
[8718528124055,"Artikel",8718528124055,"STUKS","Facetglas mat tbv 6522","680 x 2015 set a 6 ruiten","","GLAS","","BINNEN","MODERN","6522","FACETGLAS MAT","","Inventory","",false,"","",0,0,0,"",false,false,false,219.83,266,{"$f":"ROUND(AA824*(1-VLOOKUP(AF824,Discounts!C:E,3,0)),2)","v":219.83},null,104400,"P107"]
[8718528124062,"Artikel",8718528124062,"STUKS","Facetglas mat tbv 6522","680 x 2115 set a 6 ruiten","","GLAS","","BINNEN","MODERN","6522","FACETGLAS MAT","","Inventory","",false,"","",0,0,0,"",false,false,false,219.83,266,{"$f":"ROUND(AA825*(1-VLOOKUP(AF825,Discounts!C:E,3,0)),2)","v":219.83},null,104400,"P107"]
[8718528124079,"Artikel",8718528124079,"STUKS","Facetglas mat tbv 6522","730 x 2015 set a 6 ruiten","","GLAS","","BINNEN","MODERN","6522","FACETGLAS MAT","","Inventory","",false,"","",0,0,0,"",false,false,false,219.83,266,{"$f":"ROUND(AA826*(1-VLOOKUP(AF826,Discounts!C:E,3,0)),2)","v":219.83},null,104400,"P107"]
[8718528124086,"Artikel",8718528124086,"STUKS","Facetglas mat tbv 6522","730 x 2115 set a 6 ruiten","","GLAS","","BINNEN","MODERN","6522","FACETGLAS MAT","","Inventory","",false,"","",0,0,0,"",false,false,false,219.83,266,{"$f":"ROUND(AA827*(1-VLOOKUP(AF827,Discounts!C:E,3,0)),2)","v":219.83},null,104400,"P107"]
[8718528124093,"Artikel",8718528124093,"STUKS","Facetglas mat tbv 6522","780 x 2115 set a 6 ruiten","","GLAS","","BINNEN","MODERN","6522","FACETGLAS MAT","","Inventory","",false,"","",0,0,0,"",false,false,false,219.83,266,{"$f":"ROUND(AA828*(1-VLOOKUP(AF828,Discounts!C:E,3,0)),2)","v":219.83},null,104400,"P107"]
[8718528124109,"Artikel",8718528124109,"STUKS","Facetglas mat tbv 6522","630 x 2315 set a 6 ruiten","","GLAS","","BINNEN","MODERN","6522","FACETGLAS MAT","","Inventory","",false,"","",0,0,0,"",false,false,false,219.83,266,{"$f":"ROUND(AA829*(1-VLOOKUP(AF829,Discounts!C:E,3,0)),2)","v":219.83},null,104400,"P107"]
[8718528124116,"Artikel",8718528124116,"STUKS","Facetglas mat tbv 6522","680 x 2315 set a 6 ruiten","","GLAS","","BINNEN","MODERN","6522","FACETGLAS MAT","","Inventory","",false,"","",0,0,0,"",false,false,false,219.83,266,{"$f":"ROUND(AA830*(1-VLOOKUP(AF830,Discounts!C:E,3,0)),2)","v":219.83},null,104400,"P107"]
[8718528124123,"Artikel",8718528124123,"STUKS","Facetglas mat tbv 6522","730 x 2315 set a 6 ruiten","","GLAS","","BINNEN","MODERN","6522","FACETGLAS MAT","","Inventory","",false,"","",0,0,0,"",false,false,false,219.83,266,{"$f":"ROUND(AA831*(1-VLOOKUP(AF831,Discounts!C:E,3,0)),2)","v":219.83},null,104400,"P107"]
[8718528124130,"Artikel",8718528124130,"STUKS","Facetglas mat tbv 6522","780 x 2315 set a 6 ruiten","","GLAS","","BINNEN","MODERN","6522","FACETGLAS MAT","","Inventory","",false,"","",0,0,0,"",false,false,false,219.83,266,{"$f":"ROUND(AA832*(1-VLOOKUP(AF832,Discounts!C:E,3,0)),2)","v":219.83},null,104400,"P107"]
[8718528029961,"Artikel",8718528029961,"STUKS","Facetglas mat tbv 6522","780x2015 set a 6 ruiten","","GLAS","","BINNEN","MODERN","6522","FACETGLAS MAT","","Inventory","",false,"","",457,370,0,"",false,false,false,219.83,266,{"$f":"ROUND(AA833*(1-VLOOKUP(AF833,Discounts!C:E,3,0)),2)","v":219.83},null,104400,"P107"]
[8718528029978,"Artikel",8718528029978,"STUKS","Facetglas mat tbv 6522","830x2015 set a 6 ruiten","","GLAS","","BINNEN","MODERN","6522","FACETGLAS MAT","","Inventory","",false,"","",457,395,0,"",false,false,false,219.83,266,{"$f":"ROUND(AA834*(1-VLOOKUP(AF834,Discounts!C:E,3,0)),2)","v":219.83},null,104400,"P107"]
[8718528029985,"Artikel",8718528029985,"STUKS","Facetglas mat tbv 6522","830x2115 set a 6 ruiten","","GLAS","","BINNEN","MODERN","6522","FACETGLAS MAT","","Inventory","",false,"","",491,395,0,"",false,false,false,219.83,266,{"$f":"ROUND(AA835*(1-VLOOKUP(AF835,Discounts!C:E,3,0)),2)","v":219.83},null,104400,"P107"]
[8718528029992,"Artikel",8718528029992,"STUKS","Facetglas mat tbv 6522","880x2015 set a 6 ruiten","","GLAS","","BINNEN","MODERN","6522","FACETGLAS MAT","","Inventory","",false,"","",457,420,0,"",false,false,false,219.83,266,{"$f":"ROUND(AA836*(1-VLOOKUP(AF836,Discounts!C:E,3,0)),2)","v":219.83},null,104400,"P107"]
[8718528030004,"Artikel",8718528030004,"STUKS","Facetglas mat tbv 6522","880x2115 set a 6 ruiten","","GLAS","","BINNEN","MODERN","6522","FACETGLAS MAT","","Inventory","",false,"","",491,420,0,"",false,false,false,219.83,266,{"$f":"ROUND(AA837*(1-VLOOKUP(AF837,Discounts!C:E,3,0)),2)","v":219.83},null,104400,"P107"]
[8718528030011,"Artikel",8718528030011,"STUKS","Facetglas mat tbv 6522","930x2015 set a 6 ruiten","","GLAS","","BINNEN","MODERN","6522","FACETGLAS MAT","","Inventory","",false,"","",457,445,0,"",false,false,false,219.83,266,{"$f":"ROUND(AA838*(1-VLOOKUP(AF838,Discounts!C:E,3,0)),2)","v":219.83},null,104400,"P107"]
[8718528030028,"Artikel",8718528030028,"STUKS","Facetglas mat tbv 6522","930x2115 set a 6 ruiten","","GLAS","","BINNEN","MODERN","6522","FACETGLAS MAT","","Inventory","",false,"","",491,445,0,"",false,false,false,219.83,266,{"$f":"ROUND(AA839*(1-VLOOKUP(AF839,Discounts!C:E,3,0)),2)","v":219.83},null,104400,"P107"]
[8718528030691,"Artikel",8718528030691,"STUKS","Facetglas mat tbv 6522","830x2315 set a 6 ruiten","","GLAS","","BINNEN","MODERN","6522","FACETGLAS MAT","","Inventory","",false,"","",515,388,0,"",false,false,false,219.83,266,{"$f":"ROUND(AA840*(1-VLOOKUP(AF840,Discounts!C:E,3,0)),2)","v":219.83},null,104400,"P107"]
[8718528030707,"Artikel",8718528030707,"STUKS","Facetglas mat tbv 6522","880x2315 set a 6 ruiten","","GLAS","","BINNEN","MODERN","6522","FACETGLAS MAT","","Inventory","",false,"","",515,413,0,"",false,false,false,219.83,266,{"$f":"ROUND(AA841*(1-VLOOKUP(AF841,Discounts!C:E,3,0)),2)","v":219.83},null,104400,"P107"]
[8718528030714,"Artikel",8718528030714,"STUKS","Facetglas mat tbv 6522","930x2315 set a 6 ruiten","","GLAS","","BINNEN","MODERN","6522","FACETGLAS MAT","","Inventory","",false,"","",515,438,0,"",false,false,false,219.83,266,{"$f":"ROUND(AA842*(1-VLOOKUP(AF842,Discounts!C:E,3,0)),2)","v":219.83},null,104400,"P107"]
[8718528124147,"Artikel",8718528124147,"STUKS","Blank glas tbv 6522","630 x 2015 set a 6 ruiten","","GLAS","","BINNEN","MODERN","6522","BLANK","","Inventory","",false,"","",0,0,0,"",false,false,false,102.48,124,{"$f":"ROUND(AA843*(1-VLOOKUP(AF843,Discounts!C:E,3,0)),2)","v":102.48},null,104410,"P107"]
[8718528124154,"Artikel",8718528124154,"STUKS","Blank glas tbv 6522","630 x 2115 set a 6 ruiten","","GLAS","","BINNEN","MODERN","6522","BLANK","","Inventory","",false,"","",0,0,0,"",false,false,false,102.48,124,{"$f":"ROUND(AA844*(1-VLOOKUP(AF844,Discounts!C:E,3,0)),2)","v":102.48},null,104410,"P107"]
[8718528124161,"Artikel",8718528124161,"STUKS","Blank glas tbv 6522","680 x 2015 set a 6 ruiten","","GLAS","","BINNEN","MODERN","6522","BLANK","","Inventory","",false,"","",0,0,0,"",false,false,false,102.48,124,{"$f":"ROUND(AA845*(1-VLOOKUP(AF845,Discounts!C:E,3,0)),2)","v":102.48},null,104410,"P107"]
[8718528124178,"Artikel",8718528124178,"STUKS","Blank glas tbv 6522","680 x 2115 set a 6 ruiten","","GLAS","","BINNEN","MODERN","6522","BLANK","","Inventory","",false,"","",0,0,0,"",false,false,false,102.48,124,{"$f":"ROUND(AA846*(1-VLOOKUP(AF846,Discounts!C:E,3,0)),2)","v":102.48},null,104410,"P107"]
[8718528124185,"Artikel",8718528124185,"STUKS","Blank glas tbv 6522","730 x 2015 set a 6 ruiten","","GLAS","","BINNEN","MODERN","6522","BLANK","","Inventory","",false,"","",0,0,0,"",false,false,false,102.48,124,{"$f":"ROUND(AA847*(1-VLOOKUP(AF847,Discounts!C:E,3,0)),2)","v":102.48},null,104410,"P107"]
[8718528124192,"Artikel",8718528124192,"STUKS","Blank glas tbv 6522","730 x 2115 set a 6 ruiten","","GLAS","","BINNEN","MODERN","6522","BLANK","","Inventory","",false,"","",0,0,0,"",false,false,false,102.48,124,{"$f":"ROUND(AA848*(1-VLOOKUP(AF848,Discounts!C:E,3,0)),2)","v":102.48},null,104410,"P107"]
[8718528124208,"Artikel",8718528124208,"STUKS","Blank glas tbv 6522","780 x 2115 set a 6 ruiten","","GLAS","","BINNEN","MODERN","6522","BLANK","","Inventory","",false,"","",0,0,0,"",false,false,false,102.48,124,{"$f":"ROUND(AA849*(1-VLOOKUP(AF849,Discounts!C:E,3,0)),2)","v":102.48},null,104410,"P107"]
[8718528124215,"Artikel",8718528124215,"STUKS","Blank glas tbv 6522","630 x 2315 set a 6 ruiten","","GLAS","","BINNEN","MODERN","6522","BLANK","","Inventory","",false,"","",0,0,0,"",false,false,false,102.48,124,{"$f":"ROUND(AA850*(1-VLOOKUP(AF850,Discounts!C:E,3,0)),2)","v":102.48},null,104410,"P107"]
[8718528124222,"Artikel",8718528124222,"STUKS","Blank glas tbv 6522","680 x 2315 set a 6 ruiten","","GLAS","","BINNEN","MODERN","6522","BLANK","","Inventory","",false,"","",0,0,0,"",false,false,false,102.48,124,{"$f":"ROUND(AA851*(1-VLOOKUP(AF851,Discounts!C:E,3,0)),2)","v":102.48},null,104410,"P107"]
[8718528124239,"Artikel",8718528124239,"STUKS","Blank glas tbv 6522","730 x 2315 set a 6 ruiten","","GLAS","","BINNEN","MODERN","6522","BLANK","","Inventory","",false,"","",0,0,0,"",false,false,false,102.48,124,{"$f":"ROUND(AA852*(1-VLOOKUP(AF852,Discounts!C:E,3,0)),2)","v":102.48},null,104410,"P107"]
[8718528124246,"Artikel",8718528124246,"STUKS","Blank glas tbv 6522","780 x 2315 set a 6 ruiten","","GLAS","","BINNEN","MODERN","6522","BLANK","","Inventory","",false,"","",0,0,0,"",false,false,false,102.48,124,{"$f":"ROUND(AA853*(1-VLOOKUP(AF853,Discounts!C:E,3,0)),2)","v":102.48},null,104410,"P107"]
[8718528031391,"Artikel",8718528031391,"STUKS","Blank glas tbv 6522","780x2015 set a 6 ruiten","","GLAS","","BINNEN","MODERN","6522","BLANK","","Inventory","",false,"","",457,370,0,"",false,false,false,102.48,124,{"$f":"ROUND(AA854*(1-VLOOKUP(AF854,Discounts!C:E,3,0)),2)","v":102.48},null,104410,"P107"]
[8718528031407,"Artikel",8718528031407,"STUKS","Blank glas tbv 6522","830x2015 set a 6 ruiten","","GLAS","","BINNEN","MODERN","6522","BLANK","","Inventory","",false,"","",457,395,0,"",false,false,false,102.48,124,{"$f":"ROUND(AA855*(1-VLOOKUP(AF855,Discounts!C:E,3,0)),2)","v":102.48},null,104410,"P107"]
[8718528031414,"Artikel",8718528031414,"STUKS","Blank glas tbv 6522","830x2115 set a 6 ruiten","","GLAS","","BINNEN","MODERN","6522","BLANK","","Inventory","",false,"","",491,395,0,"",false,false,false,102.48,124,{"$f":"ROUND(AA856*(1-VLOOKUP(AF856,Discounts!C:E,3,0)),2)","v":102.48},null,104410,"P107"]
[8718528031421,"Artikel",8718528031421,"STUKS","Blank glas tbv 6522","880x2015 set a 6 ruiten","","GLAS","","BINNEN","MODERN","6522","BLANK","","Inventory","",false,"","",457,420,0,"",false,false,false,102.48,124,{"$f":"ROUND(AA857*(1-VLOOKUP(AF857,Discounts!C:E,3,0)),2)","v":102.48},null,104410,"P107"]
[8718528031438,"Artikel",8718528031438,"STUKS","Blank glas tbv 6522","880x2115 set a 6 ruiten","","GLAS","","BINNEN","MODERN","6522","BLANK","","Inventory","",false,"","",491,420,0,"",false,false,false,102.48,124,{"$f":"ROUND(AA858*(1-VLOOKUP(AF858,Discounts!C:E,3,0)),2)","v":102.48},null,104410,"P107"]
[8718528031445,"Artikel",8718528031445,"STUKS","Blank glas tbv 6522","930x2015 set a 6 ruiten","","GLAS","","BINNEN","MODERN","6522","BLANK","","Inventory","",false,"","",457,445,0,"",false,false,false,102.48,124,{"$f":"ROUND(AA859*(1-VLOOKUP(AF859,Discounts!C:E,3,0)),2)","v":102.48},null,104410,"P107"]
[8718528031452,"Artikel",8718528031452,"STUKS","Blank glas tbv 6522","930x2115 set a 6 ruiten","","GLAS","","BINNEN","MODERN","6522","BLANK","","Inventory","",false,"","",491,445,0,"",false,false,false,102.48,124,{"$f":"ROUND(AA860*(1-VLOOKUP(AF860,Discounts!C:E,3,0)),2)","v":102.48},null,104410,"P107"]
[8718528031469,"Artikel",8718528031469,"STUKS","Blank glas tbv 6522","830x2315 set a 6 ruiten","","GLAS","","BINNEN","MODERN","6522","BLANK","","Inventory","",false,"","",515,388,0,"",false,false,false,102.48,124,{"$f":"ROUND(AA861*(1-VLOOKUP(AF861,Discounts!C:E,3,0)),2)","v":102.48},null,104410,"P107"]
[8718528031476,"Artikel",8718528031476,"STUKS","Blank glas tbv 6522","880x2315 set a 6 ruiten","","GLAS","","BINNEN","MODERN","6522","BLANK","","Inventory","",false,"","",515,413,0,"",false,false,false,102.48,124,{"$f":"ROUND(AA862*(1-VLOOKUP(AF862,Discounts!C:E,3,0)),2)","v":102.48},null,104410,"P107"]
[8718528031483,"Artikel",8718528031483,"STUKS","Blank glas tbv 6522","930x2315 set a 6 ruiten","","GLAS","","BINNEN","MODERN","6522","BLANK","","Inventory","",false,"","",515,438,0,"",false,false,false,102.48,124,{"$f":"ROUND(AA863*(1-VLOOKUP(AF863,Discounts!C:E,3,0)),2)","v":102.48},null,104410,"P107"]
[8718528124307,"Artikel",8718528124307,"STUKS","Facetglas blank tbv 6532","780 x 2115 set a 3 ruiten","","GLAS","","BINNEN","MODERN","6532","FACETGLAS BLANK","","Inventory","",false,"","",0,0,0,"",false,false,false,107.44,130,{"$f":"ROUND(AA864*(1-VLOOKUP(AF864,Discounts!C:E,3,0)),2)","v":107.44},null,104420,"P107"]
[8718528124352,"Artikel",8718528124352,"STUKS","Facetglas blank tbv 6532","730 x 2015 set a 3 ruiten","","GLAS","","BINNEN","MODERN","6532","FACETGLAS BLANK","","Inventory","",false,"","",0,0,0,"",false,false,false,107.44,130,{"$f":"ROUND(AA865*(1-VLOOKUP(AF865,Discounts!C:E,3,0)),2)","v":107.44},null,104420,"P107"]
[8718528124369,"Artikel",8718528124369,"STUKS","Facetglas blank tbv 6532","730 x 2115 set a 3 ruiten","","GLAS","","BINNEN","MODERN","6532","FACETGLAS BLANK","","Inventory","",false,"","",0,0,0,"",false,false,false,107.44,130,{"$f":"ROUND(AA866*(1-VLOOKUP(AF866,Discounts!C:E,3,0)),2)","v":107.44},null,104420,"P107"]
[8718528124444,"Artikel",8718528124444,"STUKS","Facetglas blank tbv 6532","730 x 2315 set a 3 ruiten","","GLAS","","BINNEN","MODERN","6532","FACETGLAS BLANK","","Inventory","",false,"","",0,0,0,"",false,false,false,107.44,130,{"$f":"ROUND(AA867*(1-VLOOKUP(AF867,Discounts!C:E,3,0)),2)","v":107.44},null,104420,"P107"]
[8718528124451,"Artikel",8718528124451,"STUKS","Facetglas blank tbv 6532","780 x 2315 set a 3 ruiten","","GLAS","","BINNEN","MODERN","6532","FACETGLAS BLANK","","Inventory","",false,"","",0,0,0,"",false,false,false,107.44,130,{"$f":"ROUND(AA868*(1-VLOOKUP(AF868,Discounts!C:E,3,0)),2)","v":107.44},null,104420,"P107"]
[8718528030172,"Artikel",8718528030172,"STUKS","Facetglas blank tbv 6532","780x2015 set a 3 ruiten","","GLAS","","BINNEN","MODERN","6532","FACETGLAS BLANK","","Inventory","",false,"","",466,352,0,"",false,false,false,107.44,130,{"$f":"ROUND(AA869*(1-VLOOKUP(AF869,Discounts!C:E,3,0)),2)","v":107.44},null,104420,"P107"]
[8718528030189,"Artikel",8718528030189,"STUKS","Facetglas blank tbv 6532","830x2015 set a 3 ruiten","","GLAS","","BINNEN","MODERN","6532","FACETGLAS BLANK","","Inventory","",false,"","",466,377,0,"",false,false,false,107.44,130,{"$f":"ROUND(AA870*(1-VLOOKUP(AF870,Discounts!C:E,3,0)),2)","v":107.44},null,104420,"P107"]
[8718528030196,"Artikel",8718528030196,"STUKS","Facetglas blank tbv 6532","830x2115 set a 3 ruiten","","GLAS","","BINNEN","MODERN","6532","FACETGLAS BLANK","","Inventory","",false,"","",491,377,0,"",false,false,false,107.44,130,{"$f":"ROUND(AA871*(1-VLOOKUP(AF871,Discounts!C:E,3,0)),2)","v":107.44},null,104420,"P107"]
[8718528030202,"Artikel",8718528030202,"STUKS","Facetglas blank tbv 6532","880x2015 set a 3 ruiten","","GLAS","","BINNEN","MODERN","6532","FACETGLAS BLANK","","Inventory","",false,"","",466,402,0,"",false,false,false,107.44,130,{"$f":"ROUND(AA872*(1-VLOOKUP(AF872,Discounts!C:E,3,0)),2)","v":107.44},null,104420,"P107"]
[8718528030219,"Artikel",8718528030219,"STUKS","Facetglas blank tbv 6532","880x2115 set a 3 ruiten","","GLAS","","BINNEN","MODERN","6532","FACETGLAS BLANK","","Inventory","",false,"","",491,402,0,"",false,false,false,107.44,130,{"$f":"ROUND(AA873*(1-VLOOKUP(AF873,Discounts!C:E,3,0)),2)","v":107.44},null,104420,"P107"]
[8718528030226,"Artikel",8718528030226,"STUKS","Facetglas blank tbv 6532","930x2015 set a 3 ruiten","","GLAS","","BINNEN","MODERN","6532","FACETGLAS BLANK","","Inventory","",false,"","",466,427,0,"",false,false,false,107.44,130,{"$f":"ROUND(AA874*(1-VLOOKUP(AF874,Discounts!C:E,3,0)),2)","v":107.44},null,104420,"P107"]
[8718528030233,"Artikel",8718528030233,"STUKS","Facetglas blank tbv 6532","930x2115 set a 3 ruiten","","GLAS","","BINNEN","MODERN","6532","FACETGLAS BLANK","","Inventory","",false,"","",491,427,0,"",false,false,false,107.44,130,{"$f":"ROUND(AA875*(1-VLOOKUP(AF875,Discounts!C:E,3,0)),2)","v":107.44},null,104420,"P107"]
[8718528030783,"Artikel",8718528030783,"STUKS","Facetglas blank tbv 6532","830x2315 set a 3 ruiten","","GLAS","","BINNEN","MODERN","6532","FACETGLAS BLANK","","Inventory","",false,"","",533,370,0,"",false,false,false,107.44,130,{"$f":"ROUND(AA876*(1-VLOOKUP(AF876,Discounts!C:E,3,0)),2)","v":107.44},null,104420,"P107"]
[8718528030790,"Artikel",8718528030790,"STUKS","Facetglas blank tbv 6532","880x2315 set a 3 ruiten","","GLAS","","BINNEN","MODERN","6532","FACETGLAS BLANK","","Inventory","",false,"","",533,395,0,"",false,false,false,107.44,130,{"$f":"ROUND(AA877*(1-VLOOKUP(AF877,Discounts!C:E,3,0)),2)","v":107.44},null,104420,"P107"]
[8718528030806,"Artikel",8718528030806,"STUKS","Facetglas blank tbv 6532","930x2315 set a 3 ruiten","","GLAS","","BINNEN","MODERN","6532","FACETGLAS BLANK","","Inventory","",false,"","",533,420,0,"",false,false,false,107.44,130,{"$f":"ROUND(AA878*(1-VLOOKUP(AF878,Discounts!C:E,3,0)),2)","v":107.44},null,104420,"P107"]
[8718528124505,"Artikel",8718528124505,"STUKS","Facetglas mat tbv 6532","730 x 2115 set a 3 ruiten","","GLAS","","BINNEN","MODERN","6532","FACETGLAS MAT","","Inventory","",false,"","",0,0,0,"",false,false,false,165.29,200,{"$f":"ROUND(AA879*(1-VLOOKUP(AF879,Discounts!C:E,3,0)),2)","v":165.29},null,104430,"P107"]
[8718528124567,"Artikel",8718528124567,"STUKS","Facetglas mat tbv 6532","730 x 2015 set a 3 ruiten","","GLAS","","BINNEN","MODERN","6532","FACETGLAS MAT","","Inventory","",false,"","",0,0,0,"",false,false,false,165.29,200,{"$f":"ROUND(AA880*(1-VLOOKUP(AF880,Discounts!C:E,3,0)),2)","v":165.29},null,104430,"P107"]
[8718528124581,"Artikel",8718528124581,"STUKS","Facetglas mat tbv 6532","780 x 2115 set a 3 ruiten","","GLAS","","BINNEN","MODERN","6532","FACETGLAS MAT","","Inventory","",false,"","",0,0,0,"",false,false,false,165.29,200,{"$f":"ROUND(AA881*(1-VLOOKUP(AF881,Discounts!C:E,3,0)),2)","v":165.29},null,104430,"P107"]
[8718528124659,"Artikel",8718528124659,"STUKS","Facetglas mat tbv 6532","730 x 2315 set a 3 ruiten","","GLAS","","BINNEN","MODERN","6532","FACETGLAS MAT","","Inventory","",false,"","",0,0,0,"",false,false,false,165.29,200,{"$f":"ROUND(AA882*(1-VLOOKUP(AF882,Discounts!C:E,3,0)),2)","v":165.29},null,104430,"P107"]
[8718528124666,"Artikel",8718528124666,"STUKS","Facetglas mat tbv 6532","780 x 2315 set a 3 ruiten","","GLAS","","BINNEN","MODERN","6532","FACETGLAS MAT","","Inventory","",false,"","",0,0,0,"",false,false,false,165.29,200,{"$f":"ROUND(AA883*(1-VLOOKUP(AF883,Discounts!C:E,3,0)),2)","v":165.29},null,104430,"P107"]
[8718528030240,"Artikel",8718528030240,"STUKS","Facetglas mat tbv 6532","780x2015 set a 3 ruiten","","GLAS","","BINNEN","MODERN","6532","FACETGLAS MAT","","Inventory","",false,"","",466,352,0,"",false,false,false,165.29,200,{"$f":"ROUND(AA884*(1-VLOOKUP(AF884,Discounts!C:E,3,0)),2)","v":165.29},null,104430,"P107"]
[8718528030257,"Artikel",8718528030257,"STUKS","Facetglas mat tbv 6532","830x2015 set a 3 ruiten","","GLAS","","BINNEN","MODERN","6532","FACETGLAS MAT","","Inventory","",false,"","",466,377,0,"",false,false,false,165.29,200,{"$f":"ROUND(AA885*(1-VLOOKUP(AF885,Discounts!C:E,3,0)),2)","v":165.29},null,104430,"P107"]
[8718528030264,"Artikel",8718528030264,"STUKS","Facetglas mat tbv 6532","830x2115 set a 3 ruiten","","GLAS","","BINNEN","MODERN","6532","FACETGLAS MAT","","Inventory","",false,"","",491,377,0,"",false,false,false,165.29,200,{"$f":"ROUND(AA886*(1-VLOOKUP(AF886,Discounts!C:E,3,0)),2)","v":165.29},null,104430,"P107"]
[8718528030271,"Artikel",8718528030271,"STUKS","Facetglas mat tbv 6532","880x2015 set a 3 ruiten","","GLAS","","BINNEN","MODERN","6532","FACETGLAS MAT","","Inventory","",false,"","",466,402,0,"",false,false,false,165.29,200,{"$f":"ROUND(AA887*(1-VLOOKUP(AF887,Discounts!C:E,3,0)),2)","v":165.29},null,104430,"P107"]
[8718528030288,"Artikel",8718528030288,"STUKS","Facetglas mat tbv 6532","880x2115 set a 3 ruiten","","GLAS","","BINNEN","MODERN","6532","FACETGLAS MAT","","Inventory","",false,"","",491,402,0,"",false,false,false,165.29,200,{"$f":"ROUND(AA888*(1-VLOOKUP(AF888,Discounts!C:E,3,0)),2)","v":165.29},null,104430,"P107"]
[8718528030295,"Artikel",8718528030295,"STUKS","Facetglas mat tbv 6532","930x2015 set a 3 ruiten","","GLAS","","BINNEN","MODERN","6532","FACETGLAS MAT","","Inventory","",false,"","",466,427,0,"",false,false,false,165.29,200,{"$f":"ROUND(AA889*(1-VLOOKUP(AF889,Discounts!C:E,3,0)),2)","v":165.29},null,104430,"P107"]
[8718528030301,"Artikel",8718528030301,"STUKS","Facetglas mat tbv 6532","930x2115 set a 3 ruiten","","GLAS","","BINNEN","MODERN","6532","FACETGLAS MAT","","Inventory","",false,"","",491,427,0,"",false,false,false,165.29,200,{"$f":"ROUND(AA890*(1-VLOOKUP(AF890,Discounts!C:E,3,0)),2)","v":165.29},null,104430,"P107"]
[8718528030813,"Artikel",8718528030813,"STUKS","Facetglas mat tbv 6532","830x2315 set a 3 ruiten","","GLAS","","BINNEN","MODERN","6532","FACETGLAS MAT","","Inventory","",false,"","",533,370,0,"",false,false,false,165.29,200,{"$f":"ROUND(AA891*(1-VLOOKUP(AF891,Discounts!C:E,3,0)),2)","v":165.29},null,104430,"P107"]
[8718528030820,"Artikel",8718528030820,"STUKS","Facetglas mat tbv 6532","880x2315 set a 3 ruiten","","GLAS","","BINNEN","MODERN","6532","FACETGLAS MAT","","Inventory","",false,"","",533,395,0,"",false,false,false,165.29,200,{"$f":"ROUND(AA892*(1-VLOOKUP(AF892,Discounts!C:E,3,0)),2)","v":165.29},null,104430,"P107"]
[8718528030837,"Artikel",8718528030837,"STUKS","Facetglas mat tbv 6532","930x2315 set a 3 ruiten","","GLAS","","BINNEN","MODERN","6532","FACETGLAS MAT","","Inventory","",false,"","",533,420,0,"",false,false,false,165.29,200,{"$f":"ROUND(AA893*(1-VLOOKUP(AF893,Discounts!C:E,3,0)),2)","v":165.29},null,104430,"P107"]
[8718528124734,"Artikel",8718528124734,"STUKS","Blank glas tbv 6532","630 x 2015 set a 3 ruiten","","GLAS","","BINNEN","MODERN","6532","BLANK","","Inventory","",false,"","",0,0,0,"",false,false,false,76.86,93,{"$f":"ROUND(AA894*(1-VLOOKUP(AF894,Discounts!C:E,3,0)),2)","v":76.86},null,104440,"P107"]
[8718528124741,"Artikel",8718528124741,"STUKS","Blank glas tbv 6532","630 x 2115 set a 3 ruiten","","GLAS","","BINNEN","MODERN","6532","BLANK","","Inventory","",false,"","",0,0,0,"",false,false,false,76.86,93,{"$f":"ROUND(AA895*(1-VLOOKUP(AF895,Discounts!C:E,3,0)),2)","v":76.86},null,104440,"P107"]
[8718528124758,"Artikel",8718528124758,"STUKS","Blank glas tbv 6532","680 x 2015 set a 3 ruiten","","GLAS","","BINNEN","MODERN","6532","BLANK","","Inventory","",false,"","",0,0,0,"",false,false,false,76.86,93,{"$f":"ROUND(AA896*(1-VLOOKUP(AF896,Discounts!C:E,3,0)),2)","v":76.86},null,104440,"P107"]
[8718528124765,"Artikel",8718528124765,"STUKS","Blank glas tbv 6532","680 x 2115 set a 3 ruiten","","GLAS","","BINNEN","MODERN","6532","BLANK","","Inventory","",false,"","",0,0,0,"",false,false,false,76.86,93,{"$f":"ROUND(AA897*(1-VLOOKUP(AF897,Discounts!C:E,3,0)),2)","v":76.86},null,104440,"P107"]
[8718528124772,"Artikel",8718528124772,"STUKS","Blank glas tbv 6532","730 x 2015 set a 3 ruiten","","GLAS","","BINNEN","MODERN","6532","BLANK","","Inventory","",false,"","",0,0,0,"",false,false,false,76.86,93,{"$f":"ROUND(AA898*(1-VLOOKUP(AF898,Discounts!C:E,3,0)),2)","v":76.86},null,104440,"P107"]
[8718528124789,"Artikel",8718528124789,"STUKS","Blank glas tbv 6532","730 x 2115 set a 3 ruiten","","GLAS","","BINNEN","MODERN","6532","BLANK","","Inventory","",false,"","",0,0,0,"",false,false,false,76.86,93,{"$f":"ROUND(AA899*(1-VLOOKUP(AF899,Discounts!C:E,3,0)),2)","v":76.86},null,104440,"P107"]
[8718528124796,"Artikel",8718528124796,"STUKS","Blank glas tbv 6532","780 x 2115 set a 3 ruiten","","GLAS","","BINNEN","MODERN","6532","BLANK","","Inventory","",false,"","",0,0,0,"",false,false,false,76.86,93,{"$f":"ROUND(AA900*(1-VLOOKUP(AF900,Discounts!C:E,3,0)),2)","v":76.86},null,104440,"P107"]
[8718528124840,"Artikel",8718528124840,"STUKS","Blank glas tbv 6532","630 x 2315 set a 3 ruiten","","GLAS","","BINNEN","MODERN","6532","BLANK","","Inventory","",false,"","",0,0,0,"",false,false,false,76.86,93,{"$f":"ROUND(AA901*(1-VLOOKUP(AF901,Discounts!C:E,3,0)),2)","v":76.86},null,104440,"P107"]
[8718528124857,"Artikel",8718528124857,"STUKS","Blank glas tbv 6532","680 x 2315 set a 3 ruiten","","GLAS","","BINNEN","MODERN","6532","BLANK","","Inventory","",false,"","",0,0,0,"",false,false,false,76.86,93,{"$f":"ROUND(AA902*(1-VLOOKUP(AF902,Discounts!C:E,3,0)),2)","v":76.86},null,104440,"P107"]
[8718528124864,"Artikel",8718528124864,"STUKS","Blank glas tbv 6532","730 x 2315 set a 3 ruiten","","GLAS","","BINNEN","MODERN","6532","BLANK","","Inventory","",false,"","",0,0,0,"",false,false,false,76.86,93,{"$f":"ROUND(AA903*(1-VLOOKUP(AF903,Discounts!C:E,3,0)),2)","v":76.86},null,104440,"P107"]
[8718528124871,"Artikel",8718528124871,"STUKS","Blank glas tbv 6532","780 x 2315 set a 3 ruiten","","GLAS","","BINNEN","MODERN","6532","BLANK","","Inventory","",false,"","",0,0,0,"",false,false,false,76.86,93,{"$f":"ROUND(AA904*(1-VLOOKUP(AF904,Discounts!C:E,3,0)),2)","v":76.86},null,104440,"P107"]
[8718528031490,"Artikel",8718528031490,"STUKS","Blank glas tbv 6532","780x2015 set a 3 ruiten","","GLAS","","BINNEN","MODERN","6532","BLANK","","Inventory","",false,"","",466,352,0,"",false,false,false,76.86,93,{"$f":"ROUND(AA905*(1-VLOOKUP(AF905,Discounts!C:E,3,0)),2)","v":76.86},null,104440,"P107"]
[8718528031506,"Artikel",8718528031506,"STUKS","Blank glas tbv 6532","830x2015 set a 3 ruiten","","GLAS","","BINNEN","MODERN","6532","BLANK","","Inventory","",false,"","",466,377,0,"",false,false,false,76.86,93,{"$f":"ROUND(AA906*(1-VLOOKUP(AF906,Discounts!C:E,3,0)),2)","v":76.86},null,104440,"P107"]
[8718528031513,"Artikel",8718528031513,"STUKS","Blank glas tbv 6532","830x2115 set a 3 ruiten","","GLAS","","BINNEN","MODERN","6532","BLANK","","Inventory","",false,"","",491,377,0,"",false,false,false,76.86,93,{"$f":"ROUND(AA907*(1-VLOOKUP(AF907,Discounts!C:E,3,0)),2)","v":76.86},null,104440,"P107"]
[8718528031520,"Artikel",8718528031520,"STUKS","Blank glas tbv 6532","880x2015 set a 3 ruiten","","GLAS","","BINNEN","MODERN","6532","BLANK","","Inventory","",false,"","",466,402,0,"",false,false,false,76.86,93,{"$f":"ROUND(AA908*(1-VLOOKUP(AF908,Discounts!C:E,3,0)),2)","v":76.86},null,104440,"P107"]
[8718528031537,"Artikel",8718528031537,"STUKS","Blank glas tbv 6532","880x2115 set a 3 ruiten","","GLAS","","BINNEN","MODERN","6532","BLANK","","Inventory","",false,"","",491,402,0,"",false,false,false,76.86,93,{"$f":"ROUND(AA909*(1-VLOOKUP(AF909,Discounts!C:E,3,0)),2)","v":76.86},null,104440,"P107"]
[8718528031544,"Artikel",8718528031544,"STUKS","Blank glas tbv 6532","930x2015 set a 3 ruiten","","GLAS","","BINNEN","MODERN","6532","BLANK","","Inventory","",false,"","",466,427,0,"",false,false,false,76.86,93,{"$f":"ROUND(AA910*(1-VLOOKUP(AF910,Discounts!C:E,3,0)),2)","v":76.86},null,104440,"P107"]
[8718528031551,"Artikel",8718528031551,"STUKS","Blank glas tbv 6532","930x2115 set a 3 ruiten","","GLAS","","BINNEN","MODERN","6532","BLANK","","Inventory","",false,"","",491,427,0,"",false,false,false,76.86,93,{"$f":"ROUND(AA911*(1-VLOOKUP(AF911,Discounts!C:E,3,0)),2)","v":76.86},null,104440,"P107"]
[8718528031568,"Artikel",8718528031568,"STUKS","Blank glas tbv 6532","830x2315 set a 3 ruiten","","GLAS","","BINNEN","MODERN","6532","BLANK","","Inventory","",false,"","",533,370,0,"",false,false,false,76.86,93,{"$f":"ROUND(AA912*(1-VLOOKUP(AF912,Discounts!C:E,3,0)),2)","v":76.86},null,104440,"P107"]
[8718528031575,"Artikel",8718528031575,"STUKS","Blank glas tbv 6532","880x2315 set a 3 ruiten","","GLAS","","BINNEN","MODERN","6532","BLANK","","Inventory","",false,"","",533,395,0,"",false,false,false,76.86,93,{"$f":"ROUND(AA913*(1-VLOOKUP(AF913,Discounts!C:E,3,0)),2)","v":76.86},null,104440,"P107"]
[8718528031582,"Artikel",8718528031582,"STUKS","Blank glas tbv 6532","930x2315 set a 3 ruiten","","GLAS","","BINNEN","MODERN","6532","BLANK","","Inventory","",false,"","",533,420,0,"",false,false,false,76.86,93,{"$f":"ROUND(AA914*(1-VLOOKUP(AF914,Discounts!C:E,3,0)),2)","v":76.86},null,104440,"P107"]
[8718528124956,"Artikel",8718528124956,"STUKS","Facetglas blank tbv 6533","630 x 2015 1 ruit","","GLAS","","BINNEN","MODERN","6533","FACETGLAS BLANK","6533/6582","Inventory","",false,"","",0,0,0,"",false,false,false,71.9,87,{"$f":"ROUND(AA915*(1-VLOOKUP(AF915,Discounts!C:E,3,0)),2)","v":71.9},null,104460,"P107"]
[8718528124963,"Artikel",8718528124963,"STUKS","Facetglas blank tbv 6533","630 x 2115 1 ruit","","GLAS","","BINNEN","MODERN","6533","FACETGLAS BLANK","6533/6582","Inventory","",false,"","",0,0,0,"",false,false,false,71.9,87,{"$f":"ROUND(AA916*(1-VLOOKUP(AF916,Discounts!C:E,3,0)),2)","v":71.9},null,104460,"P107"]
[8718528124970,"Artikel",8718528124970,"STUKS","Facetglas blank tbv 6533","680 x 2015 1 ruit","","GLAS","","BINNEN","MODERN","6533","FACETGLAS BLANK","6533/6582","Inventory","",false,"","",0,0,0,"",false,false,false,71.9,87,{"$f":"ROUND(AA917*(1-VLOOKUP(AF917,Discounts!C:E,3,0)),2)","v":71.9},null,104460,"P107"]
[8718528124987,"Artikel",8718528124987,"STUKS","Facetglas blank tbv 6533","680 x 2115 1 ruit","","GLAS","","BINNEN","MODERN","6533","FACETGLAS BLANK","6533/6582","Inventory","",false,"","",0,0,0,"",false,false,false,71.9,87,{"$f":"ROUND(AA918*(1-VLOOKUP(AF918,Discounts!C:E,3,0)),2)","v":71.9},null,104460,"P107"]
[8718528124994,"Artikel",8718528124994,"STUKS","Facetglas blank tbv 6533","730 x 2015 1 ruit","","GLAS","","BINNEN","MODERN","6533","FACETGLAS BLANK","6533/6582","Inventory","",false,"","",0,0,0,"",false,false,false,71.9,87,{"$f":"ROUND(AA919*(1-VLOOKUP(AF919,Discounts!C:E,3,0)),2)","v":71.9},null,104460,"P107"]
[8718528125007,"Artikel",8718528125007,"STUKS","Facetglas blank tbv 6533","730 x 2115 1 ruit","","GLAS","","BINNEN","MODERN","6533","FACETGLAS BLANK","6533/6582","Inventory","",false,"","",0,0,0,"",false,false,false,71.9,87,{"$f":"ROUND(AA920*(1-VLOOKUP(AF920,Discounts!C:E,3,0)),2)","v":71.9},null,104460,"P107"]
[8718528125014,"Artikel",8718528125014,"STUKS","Facetglas blank tbv 6533","780 x 2115 1 ruit","","GLAS","","BINNEN","MODERN","6533","FACETGLAS BLANK","6533/6582","Inventory","",false,"","",0,0,0,"",false,false,false,71.9,87,{"$f":"ROUND(AA921*(1-VLOOKUP(AF921,Discounts!C:E,3,0)),2)","v":71.9},null,104460,"P107"]
[8718528125052,"Artikel",8718528125052,"STUKS","Facetglas blank tbv 6533","630 x 2315 1 ruit","","GLAS","","BINNEN","MODERN","6533","FACETGLAS BLANK","6533/6582","Inventory","",false,"","",0,0,0,"",false,false,false,71.9,87,{"$f":"ROUND(AA922*(1-VLOOKUP(AF922,Discounts!C:E,3,0)),2)","v":71.9},null,104460,"P107"]
[8718528125069,"Artikel",8718528125069,"STUKS","Facetglas blank tbv 6533","680 x 2315 1 ruit","","GLAS","","BINNEN","MODERN","6533","FACETGLAS BLANK","6533/6582","Inventory","",false,"","",0,0,0,"",false,false,false,71.9,87,{"$f":"ROUND(AA923*(1-VLOOKUP(AF923,Discounts!C:E,3,0)),2)","v":71.9},null,104460,"P107"]
[8718528125076,"Artikel",8718528125076,"STUKS","Facetglas blank tbv 6533","730 x 2315 1 ruit","","GLAS","","BINNEN","MODERN","6533","FACETGLAS BLANK","6533/6582","Inventory","",false,"","",0,0,0,"",false,false,false,71.9,87,{"$f":"ROUND(AA924*(1-VLOOKUP(AF924,Discounts!C:E,3,0)),2)","v":71.9},null,104460,"P107"]
[8718528125083,"Artikel",8718528125083,"STUKS","Facetglas blank tbv 6533","780 x 2315 1 ruit","","GLAS","","BINNEN","MODERN","6533","FACETGLAS BLANK","6533/6582","Inventory","",false,"","",0,0,0,"",false,false,false,71.9,87,{"$f":"ROUND(AA925*(1-VLOOKUP(AF925,Discounts!C:E,3,0)),2)","v":71.9},null,104460,"P107"]
[8718528032343,"Artikel",8718528032343,"STUKS","Facetglas blank tbv 6533/6582","780x2015 1 ruit","","GLAS","","BINNEN","MODERN","6533","FACETGLAS BLANK","6533/6582","Inventory","",false,"","",466,659,0,"",false,false,false,71.9,87,{"$f":"ROUND(AA926*(1-VLOOKUP(AF926,Discounts!C:E,3,0)),2)","v":71.9},null,104460,"P107"]
[8718528032350,"Artikel",8718528032350,"STUKS","Facetglas blank tbv 6533/6582","830x2015 1 ruit","","GLAS","","BINNEN","MODERN","6533","FACETGLAS BLANK","6533/6582","Inventory","",false,"","",466,709,0,"",false,false,false,71.9,87,{"$f":"ROUND(AA927*(1-VLOOKUP(AF927,Discounts!C:E,3,0)),2)","v":71.9},null,104460,"P107"]
[8718528032367,"Artikel",8718528032367,"STUKS","Facetglas blank tbv 6533/6582","830x2115 1 ruit","","GLAS","","BINNEN","MODERN","6533","FACETGLAS BLANK","6533/6582","Inventory","",false,"","",491,709,0,"",false,false,false,71.9,87,{"$f":"ROUND(AA928*(1-VLOOKUP(AF928,Discounts!C:E,3,0)),2)","v":71.9},null,104460,"P107"]
[8718528032374,"Artikel",8718528032374,"STUKS","Facetglas blank tbv 6533/6582","880x2015 1 ruit","","GLAS","","BINNEN","MODERN","6533","FACETGLAS BLANK","6533/6582","Inventory","",false,"","",466,759,0,"",false,false,false,71.9,87,{"$f":"ROUND(AA929*(1-VLOOKUP(AF929,Discounts!C:E,3,0)),2)","v":71.9},null,104460,"P107"]
[8718528032381,"Artikel",8718528032381,"STUKS","Facetglas blank tbv 6533/6582","880x2115 1 ruit","","GLAS","","BINNEN","MODERN","6533","FACETGLAS BLANK","6533/6582","Inventory","",false,"","",491,759,0,"",false,false,false,71.9,87,{"$f":"ROUND(AA930*(1-VLOOKUP(AF930,Discounts!C:E,3,0)),2)","v":71.9},null,104460,"P107"]
[8718528032398,"Artikel",8718528032398,"STUKS","Facetglas blank tbv 6533/6582","930x2015 1 ruit","","GLAS","","BINNEN","MODERN","6533","FACETGLAS BLANK","6533/6582","Inventory","",false,"","",466,809,0,"",false,false,false,71.9,87,{"$f":"ROUND(AA931*(1-VLOOKUP(AF931,Discounts!C:E,3,0)),2)","v":71.9},null,104460,"P107"]
[8718528032404,"Artikel",8718528032404,"STUKS","Facetglas blank tbv 6533/6582","930x2115 1 ruit","","GLAS","","BINNEN","MODERN","6533","FACETGLAS BLANK","6533/6582","Inventory","",false,"","",491,809,0,"",false,false,false,71.9,87,{"$f":"ROUND(AA932*(1-VLOOKUP(AF932,Discounts!C:E,3,0)),2)","v":71.9},null,104460,"P107"]
[8718528032411,"Artikel",8718528032411,"STUKS","Facetglas blank tbv 6533/6582","830x2315 1 ruit","","GLAS","","BINNEN","MODERN","6533","FACETGLAS BLANK","6533/6582","Inventory","",false,"","",533,695,0,"",false,false,false,71.9,87,{"$f":"ROUND(AA933*(1-VLOOKUP(AF933,Discounts!C:E,3,0)),2)","v":71.9},null,104460,"P107"]
[8718528032428,"Artikel",8718528032428,"STUKS","Facetglas blank tbv 6533/6582","880x2315 1 ruit","","GLAS","","BINNEN","MODERN","6533","FACETGLAS BLANK","6533/6582","Inventory","",false,"","",533,745,0,"",false,false,false,71.9,87,{"$f":"ROUND(AA934*(1-VLOOKUP(AF934,Discounts!C:E,3,0)),2)","v":71.9},null,104460,"P107"]
[8718528032435,"Artikel",8718528032435,"STUKS","Facetglas blank tbv 6533/6582","930x2315 1 ruit","","GLAS","","BINNEN","MODERN","6533","FACETGLAS BLANK","6533/6582","Inventory","",false,"","",533,795,0,"",false,false,false,71.9,87,{"$f":"ROUND(AA935*(1-VLOOKUP(AF935,Discounts!C:E,3,0)),2)","v":71.9},null,104460,"P107"]
[8718528125168,"Artikel",8718528125168,"STUKS","Facetglas mat tbv 6533","630 x 2015 1 ruit","","GLAS","","BINNEN","MODERN","6533","FACETGLAS MAT","6533/6582","Inventory","",false,"","",0,0,0,"",false,false,false,109.92,133,{"$f":"ROUND(AA936*(1-VLOOKUP(AF936,Discounts!C:E,3,0)),2)","v":109.92},null,104470,"P107"]
[8718528125175,"Artikel",8718528125175,"STUKS","Facetglas mat tbv 6533","630 x 2115 1 ruit","","GLAS","","BINNEN","MODERN","6533","FACETGLAS MAT","6533/6582","Inventory","",false,"","",0,0,0,"",false,false,false,109.92,133,{"$f":"ROUND(AA937*(1-VLOOKUP(AF937,Discounts!C:E,3,0)),2)","v":109.92},null,104470,"P107"]
[8718528125182,"Artikel",8718528125182,"STUKS","Facetglas mat tbv 6533","680 x 2015 1 ruit","","GLAS","","BINNEN","MODERN","6533","FACETGLAS MAT","6533/6582","Inventory","",false,"","",0,0,0,"",false,false,false,109.92,133,{"$f":"ROUND(AA938*(1-VLOOKUP(AF938,Discounts!C:E,3,0)),2)","v":109.92},null,104470,"P107"]
[8718528125199,"Artikel",8718528125199,"STUKS","Facetglas mat tbv 6533","680 x 2115 1 ruit","","GLAS","","BINNEN","MODERN","6533","FACETGLAS MAT","6533/6582","Inventory","",false,"","",0,0,0,"",false,false,false,109.92,133,{"$f":"ROUND(AA939*(1-VLOOKUP(AF939,Discounts!C:E,3,0)),2)","v":109.92},null,104470,"P107"]
[8718528125205,"Artikel",8718528125205,"STUKS","Facetglas mat tbv 6533","730 x 2015 1 ruit","","GLAS","","BINNEN","MODERN","6533","FACETGLAS MAT","6533/6582","Inventory","",false,"","",0,0,0,"",false,false,false,109.92,133,{"$f":"ROUND(AA940*(1-VLOOKUP(AF940,Discounts!C:E,3,0)),2)","v":109.92},null,104470,"P107"]
[8718528125212,"Artikel",8718528125212,"STUKS","Facetglas mat tbv 6533","730 x 2115 1 ruit","","GLAS","","BINNEN","MODERN","6533","FACETGLAS MAT","6533/6582","Inventory","",false,"","",0,0,0,"",false,false,false,109.92,133,{"$f":"ROUND(AA941*(1-VLOOKUP(AF941,Discounts!C:E,3,0)),2)","v":109.92},null,104470,"P107"]
[8718528125229,"Artikel",8718528125229,"STUKS","Facetglas mat tbv 6533","780 x 2115 1 ruit","","GLAS","","BINNEN","MODERN","6533","FACETGLAS MAT","6533/6582","Inventory","",false,"","",0,0,0,"",false,false,false,109.92,133,{"$f":"ROUND(AA942*(1-VLOOKUP(AF942,Discounts!C:E,3,0)),2)","v":109.92},null,104470,"P107"]
[8718528125267,"Artikel",8718528125267,"STUKS","Facetglas mat tbv 6533","630 x 2315 1 ruit","","GLAS","","BINNEN","MODERN","6533","FACETGLAS MAT","6533/6582","Inventory","",false,"","",0,0,0,"",false,false,false,109.92,133,{"$f":"ROUND(AA943*(1-VLOOKUP(AF943,Discounts!C:E,3,0)),2)","v":109.92},null,104470,"P107"]
[8718528125274,"Artikel",8718528125274,"STUKS","Facetglas mat tbv 6533","680 x 2315 1 ruit","","GLAS","","BINNEN","MODERN","6533","FACETGLAS MAT","6533/6582","Inventory","",false,"","",0,0,0,"",false,false,false,109.92,133,{"$f":"ROUND(AA944*(1-VLOOKUP(AF944,Discounts!C:E,3,0)),2)","v":109.92},null,104470,"P107"]
[8718528125281,"Artikel",8718528125281,"STUKS","Facetglas mat tbv 6533","730 x 2315 1 ruit","","GLAS","","BINNEN","MODERN","6533","FACETGLAS MAT","6533/6582","Inventory","",false,"","",0,0,0,"",false,false,false,109.92,133,{"$f":"ROUND(AA945*(1-VLOOKUP(AF945,Discounts!C:E,3,0)),2)","v":109.92},null,104470,"P107"]
[8718528125298,"Artikel",8718528125298,"STUKS","Facetglas mat tbv 6533","780 x 2315 1 ruit","","GLAS","","BINNEN","MODERN","6533","FACETGLAS MAT","6533/6582","Inventory","",false,"","",0,0,0,"",false,false,false,109.92,133,{"$f":"ROUND(AA946*(1-VLOOKUP(AF946,Discounts!C:E,3,0)),2)","v":109.92},null,104470,"P107"]
[8718528032442,"Artikel",8718528032442,"STUKS","Facetglas mat tbv 6533/6582","780x2015 1 ruit","","GLAS","","BINNEN","MODERN","6533","FACETGLAS MAT","6533/6582","Inventory","",false,"","",466,659,0,"",false,false,false,109.92,133,{"$f":"ROUND(AA947*(1-VLOOKUP(AF947,Discounts!C:E,3,0)),2)","v":109.92},null,104470,"P107"]
[8718528032459,"Artikel",8718528032459,"STUKS","Facetglas mat tbv 6533/6582","830x2015 1 ruit","","GLAS","","BINNEN","MODERN","6533","FACETGLAS MAT","6533/6582","Inventory","",false,"","",466,709,0,"",false,false,false,109.92,133,{"$f":"ROUND(AA948*(1-VLOOKUP(AF948,Discounts!C:E,3,0)),2)","v":109.92},null,104470,"P107"]
[8718528032466,"Artikel",8718528032466,"STUKS","Facetglas mat tbv 6533/6582","830x2115 1 ruit","","GLAS","","BINNEN","MODERN","6533","FACETGLAS MAT","6533/6582","Inventory","",false,"","",491,709,0,"",false,false,false,109.92,133,{"$f":"ROUND(AA949*(1-VLOOKUP(AF949,Discounts!C:E,3,0)),2)","v":109.92},null,104470,"P107"]
[8718528032473,"Artikel",8718528032473,"STUKS","Facetglas mat tbv 6533/6582","880x2015 1 ruit","","GLAS","","BINNEN","MODERN","6533","FACETGLAS MAT","6533/6582","Inventory","",false,"","",466,759,0,"",false,false,false,109.92,133,{"$f":"ROUND(AA950*(1-VLOOKUP(AF950,Discounts!C:E,3,0)),2)","v":109.92},null,104470,"P107"]
[8718528032480,"Artikel",8718528032480,"STUKS","Facetglas mat tbv 6533/6582","880x2115 1 ruit","","GLAS","","BINNEN","MODERN","6533","FACETGLAS MAT","6533/6582","Inventory","",false,"","",491,759,0,"",false,false,false,109.92,133,{"$f":"ROUND(AA951*(1-VLOOKUP(AF951,Discounts!C:E,3,0)),2)","v":109.92},null,104470,"P107"]
[8718528032497,"Artikel",8718528032497,"STUKS","Facetglas mat tbv 6533/6582","930x2015 1 ruit","","GLAS","","BINNEN","MODERN","6533","FACETGLAS MAT","6533/6582","Inventory","",false,"","",466,809,0,"",false,false,false,109.92,133,{"$f":"ROUND(AA952*(1-VLOOKUP(AF952,Discounts!C:E,3,0)),2)","v":109.92},null,104470,"P107"]
[8718528032503,"Artikel",8718528032503,"STUKS","Facetglas mat tbv 6533/6582","930x2115 1 ruit","","GLAS","","BINNEN","MODERN","6533","FACETGLAS MAT","6533/6582","Inventory","",false,"","",491,809,0,"",false,false,false,109.92,133,{"$f":"ROUND(AA953*(1-VLOOKUP(AF953,Discounts!C:E,3,0)),2)","v":109.92},null,104470,"P107"]
[8718528032510,"Artikel",8718528032510,"STUKS","Facetglas mat tbv 6533/6582","830x2315 1 ruit","","GLAS","","BINNEN","MODERN","6533","FACETGLAS MAT","6533/6582","Inventory","",false,"","",533,695,0,"",false,false,false,109.92,133,{"$f":"ROUND(AA954*(1-VLOOKUP(AF954,Discounts!C:E,3,0)),2)","v":109.92},null,104470,"P107"]
[8718528032527,"Artikel",8718528032527,"STUKS","Facetglas mat tbv 6533/6582","880x2315 1 ruit","","GLAS","","BINNEN","MODERN","6533","FACETGLAS MAT","6533/6582","Inventory","",false,"","",533,745,0,"",false,false,false,109.92,133,{"$f":"ROUND(AA955*(1-VLOOKUP(AF955,Discounts!C:E,3,0)),2)","v":109.92},null,104470,"P107"]
[8718528032534,"Artikel",8718528032534,"STUKS","Facetglas mat tbv 6533/6582","930x2315 1 ruit","","GLAS","","BINNEN","MODERN","6533","FACETGLAS MAT","6533/6582","Inventory","",false,"","",533,795,0,"",false,false,false,109.92,133,{"$f":"ROUND(AA956*(1-VLOOKUP(AF956,Discounts!C:E,3,0)),2)","v":109.92},null,104470,"P107"]
[8718528125373,"Artikel",8718528125373,"STUKS","Blank glas tbv 6533","630 x 2015 1 ruit","","GLAS","","BINNEN","MODERN","6533","BLANK","6533/6582","Inventory","",false,"","",0,0,0,"",false,false,false,51.24,62,{"$f":"ROUND(AA957*(1-VLOOKUP(AF957,Discounts!C:E,3,0)),2)","v":51.24},null,104480,"P107"]
[8718528125380,"Artikel",8718528125380,"STUKS","Blank glas tbv 6533","630 x 2115 1 ruit","","GLAS","","BINNEN","MODERN","6533","BLANK","6533/6582","Inventory","",false,"","",0,0,0,"",false,false,false,51.24,62,{"$f":"ROUND(AA958*(1-VLOOKUP(AF958,Discounts!C:E,3,0)),2)","v":51.24},null,104480,"P107"]
[8718528125397,"Artikel",8718528125397,"STUKS","Blank glas tbv 6533","680 x 2015 1 ruit","","GLAS","","BINNEN","MODERN","6533","BLANK","6533/6582","Inventory","",false,"","",0,0,0,"",false,false,false,51.24,62,{"$f":"ROUND(AA959*(1-VLOOKUP(AF959,Discounts!C:E,3,0)),2)","v":51.24},null,104480,"P107"]
[8718528125403,"Artikel",8718528125403,"STUKS","Blank glas tbv 6533","680 x 2115 1 ruit","","GLAS","","BINNEN","MODERN","6533","BLANK","6533/6582","Inventory","",false,"","",0,0,0,"",false,false,false,51.24,62,{"$f":"ROUND(AA960*(1-VLOOKUP(AF960,Discounts!C:E,3,0)),2)","v":51.24},null,104480,"P107"]
[8718528125410,"Artikel",8718528125410,"STUKS","Blank glas tbv 6533","730 x 2015 1 ruit","","GLAS","","BINNEN","MODERN","6533","BLANK","6533/6582","Inventory","",false,"","",0,0,0,"",false,false,false,51.24,62,{"$f":"ROUND(AA961*(1-VLOOKUP(AF961,Discounts!C:E,3,0)),2)","v":51.24},null,104480,"P107"]
[8718528125427,"Artikel",8718528125427,"STUKS","Blank glas tbv 6533","730 x 2115 1 ruit","","GLAS","","BINNEN","MODERN","6533","BLANK","6533/6582","Inventory","",false,"","",0,0,0,"",false,false,false,51.24,62,{"$f":"ROUND(AA962*(1-VLOOKUP(AF962,Discounts!C:E,3,0)),2)","v":51.24},null,104480,"P107"]
[8718528125434,"Artikel",8718528125434,"STUKS","Blank glas tbv 6533","780 x 2115 1 ruit","","GLAS","","BINNEN","MODERN","6533","BLANK","6533/6582","Inventory","",false,"","",0,0,0,"",false,false,false,51.24,62,{"$f":"ROUND(AA963*(1-VLOOKUP(AF963,Discounts!C:E,3,0)),2)","v":51.24},null,104480,"P107"]
[8718528125472,"Artikel",8718528125472,"STUKS","Blank glas tbv 6533","630 x 2315 1 ruit","","GLAS","","BINNEN","MODERN","6533","BLANK","6533/6582","Inventory","",false,"","",0,0,0,"",false,false,false,51.24,62,{"$f":"ROUND(AA964*(1-VLOOKUP(AF964,Discounts!C:E,3,0)),2)","v":51.24},null,104480,"P107"]
[8718528125489,"Artikel",8718528125489,"STUKS","Blank glas tbv 6533","680 x 2315 1 ruit","","GLAS","","BINNEN","MODERN","6533","BLANK","6533/6582","Inventory","",false,"","",0,0,0,"",false,false,false,51.24,62,{"$f":"ROUND(AA965*(1-VLOOKUP(AF965,Discounts!C:E,3,0)),2)","v":51.24},null,104480,"P107"]
[8718528125496,"Artikel",8718528125496,"STUKS","Blank glas tbv 6533","730 x 2315 1 ruit","","GLAS","","BINNEN","MODERN","6533","BLANK","6533/6582","Inventory","",false,"","",0,0,0,"",false,false,false,51.24,62,{"$f":"ROUND(AA966*(1-VLOOKUP(AF966,Discounts!C:E,3,0)),2)","v":51.24},null,104480,"P107"]
[8718528125502,"Artikel",8718528125502,"STUKS","Blank glas tbv 6533","780 x 2315 1 ruit","","GLAS","","BINNEN","MODERN","6533","BLANK","6533/6582","Inventory","",false,"","",0,0,0,"",false,false,false,51.24,62,{"$f":"ROUND(AA967*(1-VLOOKUP(AF967,Discounts!C:E,3,0)),2)","v":51.24},null,104480,"P107"]
[8718528032244,"Artikel",8718528032244,"STUKS","Blank glas tbv 6533/6582","780x2015 1 ruit","","GLAS","","BINNEN","MODERN","6533","BLANK","6533/6582","Inventory","",false,"","",466,659,0,"",false,false,false,51.24,62,{"$f":"ROUND(AA968*(1-VLOOKUP(AF968,Discounts!C:E,3,0)),2)","v":51.24},null,104480,"P107"]
[8718528032251,"Artikel",8718528032251,"STUKS","Blank glas tbv 6533/6582","830x2015 1 ruit","","GLAS","","BINNEN","MODERN","6533","BLANK","6533/6582","Inventory","",false,"","",466,709,0,"",false,false,false,51.24,62,{"$f":"ROUND(AA969*(1-VLOOKUP(AF969,Discounts!C:E,3,0)),2)","v":51.24},null,104480,"P107"]
[8718528032268,"Artikel",8718528032268,"STUKS","Blank glas tbv 6533/6582","830x2115 1 ruit","","GLAS","","BINNEN","MODERN","6533","BLANK","6533/6582","Inventory","",false,"","",491,709,0,"",false,false,false,51.24,62,{"$f":"ROUND(AA970*(1-VLOOKUP(AF970,Discounts!C:E,3,0)),2)","v":51.24},null,104480,"P107"]
[8718528032275,"Artikel",8718528032275,"STUKS","Blank glas tbv 6533/6582","880x2015 1 ruit","","GLAS","","BINNEN","MODERN","6533","BLANK","6533/6582","Inventory","",false,"","",466,759,0,"",false,false,false,51.24,62,{"$f":"ROUND(AA971*(1-VLOOKUP(AF971,Discounts!C:E,3,0)),2)","v":51.24},null,104480,"P107"]
[8718528032282,"Artikel",8718528032282,"STUKS","Blank glas tbv 6533/6582","880x2115 1 ruit","","GLAS","","BINNEN","MODERN","6533","BLANK","6533/6582","Inventory","",false,"","",491,759,0,"",false,false,false,51.24,62,{"$f":"ROUND(AA972*(1-VLOOKUP(AF972,Discounts!C:E,3,0)),2)","v":51.24},null,104480,"P107"]
[8718528032299,"Artikel",8718528032299,"STUKS","Blank glas tbv 6533/6582","930x2015 1 ruit","","GLAS","","BINNEN","MODERN","6533","BLANK","6533/6582","Inventory","",false,"","",466,809,0,"",false,false,false,51.24,62,{"$f":"ROUND(AA973*(1-VLOOKUP(AF973,Discounts!C:E,3,0)),2)","v":51.24},null,104480,"P107"]
[8718528032305,"Artikel",8718528032305,"STUKS","Blank glas tbv 6533/6582","930x2115 1 ruit","","GLAS","","BINNEN","MODERN","6533","BLANK","6533/6582","Inventory","",false,"","",491,809,0,"",false,false,false,51.24,62,{"$f":"ROUND(AA974*(1-VLOOKUP(AF974,Discounts!C:E,3,0)),2)","v":51.24},null,104480,"P107"]
[8718528032312,"Artikel",8718528032312,"STUKS","Blank glas tbv 6533/6582","830x2315 1 ruit","","GLAS","","BINNEN","MODERN","6533","BLANK","6533/6582","Inventory","",false,"","",533,695,0,"",false,false,false,51.24,62,{"$f":"ROUND(AA975*(1-VLOOKUP(AF975,Discounts!C:E,3,0)),2)","v":51.24},null,104480,"P107"]
[8718528032329,"Artikel",8718528032329,"STUKS","Blank glas tbv 6533/6582","880x2315 1 ruit","","GLAS","","BINNEN","MODERN","6533","BLANK","6533/6582","Inventory","",false,"","",533,745,0,"",false,false,false,51.24,62,{"$f":"ROUND(AA976*(1-VLOOKUP(AF976,Discounts!C:E,3,0)),2)","v":51.24},null,104480,"P107"]
[8718528032336,"Artikel",8718528032336,"STUKS","Blank glas tbv 6533/6582","930x2315 1 ruit","","GLAS","","BINNEN","MODERN","6533","BLANK","6533/6582","Inventory","",false,"","",533,795,0,"",false,false,false,51.24,62,{"$f":"ROUND(AA977*(1-VLOOKUP(AF977,Discounts!C:E,3,0)),2)","v":51.24},null,104480,"P107"]
[8718528125588,"Artikel",8718528125588,"STUKS","Glas-in-lood model 6533/6582-1","630 x 2015 1 ruit","","GLAS","","BINNEN","MODERN","6533","GLAS-IN-LOOD 1","6533/6582","Inventory","",false,"","",0,0,0,"",false,false,false,188.43,228,{"$f":"ROUND(AA978*(1-VLOOKUP(AF978,Discounts!C:E,3,0)),2)","v":188.43},null,104500,"P107"]
[8718528125595,"Artikel",8718528125595,"STUKS","Glas-in-lood model 6533/6582-1","630 x 2115 1 ruit","","GLAS","","BINNEN","MODERN","6533","GLAS-IN-LOOD 1","6533/6582","Inventory","",false,"","",0,0,0,"",false,false,false,188.43,228,{"$f":"ROUND(AA979*(1-VLOOKUP(AF979,Discounts!C:E,3,0)),2)","v":188.43},null,104500,"P107"]
[8718528125601,"Artikel",8718528125601,"STUKS","Glas-in-lood model 6533/6582-1","680 x 2015 1 ruit","","GLAS","","BINNEN","MODERN","6533","GLAS-IN-LOOD 1","6533/6582","Inventory","",false,"","",0,0,0,"",false,false,false,188.43,228,{"$f":"ROUND(AA980*(1-VLOOKUP(AF980,Discounts!C:E,3,0)),2)","v":188.43},null,104500,"P107"]
[8718528125618,"Artikel",8718528125618,"STUKS","Glas-in-lood model 6533/6582-1","680 x 2115 1 ruit","","GLAS","","BINNEN","MODERN","6533","GLAS-IN-LOOD 1","6533/6582","Inventory","",false,"","",0,0,0,"",false,false,false,188.43,228,{"$f":"ROUND(AA981*(1-VLOOKUP(AF981,Discounts!C:E,3,0)),2)","v":188.43},null,104500,"P107"]
[8718528125625,"Artikel",8718528125625,"STUKS","Glas-in-lood model 6533/6582-1","730 x 2015 1 ruit","","GLAS","","BINNEN","MODERN","6533","GLAS-IN-LOOD 1","6533/6582","Inventory","",false,"","",0,0,0,"",false,false,false,188.43,228,{"$f":"ROUND(AA982*(1-VLOOKUP(AF982,Discounts!C:E,3,0)),2)","v":188.43},null,104500,"P107"]
[8718528125632,"Artikel",8718528125632,"STUKS","Glas-in-lood model 6533/6582-1","730 x 2115 1 ruit","","GLAS","","BINNEN","MODERN","6533","GLAS-IN-LOOD 1","6533/6582","Inventory","",false,"","",0,0,0,"",false,false,false,188.43,228,{"$f":"ROUND(AA983*(1-VLOOKUP(AF983,Discounts!C:E,3,0)),2)","v":188.43},null,104500,"P107"]
[8718528125649,"Artikel",8718528125649,"STUKS","Glas-in-lood model 6533/6582-1","780 x 2115 1 ruit","","GLAS","","BINNEN","MODERN","6533","GLAS-IN-LOOD 1","6533/6582","Inventory","",false,"","",0,0,0,"",false,false,false,188.43,228,{"$f":"ROUND(AA984*(1-VLOOKUP(AF984,Discounts!C:E,3,0)),2)","v":188.43},null,104500,"P107"]
[8718528125687,"Artikel",8718528125687,"STUKS","Glas-in-lood model 6533/6582-1","630 x 2315 1 ruit","","GLAS","","BINNEN","MODERN","6533","GLAS-IN-LOOD 1","6533/6582","Inventory","",false,"","",0,0,0,"",false,false,false,188.43,228,{"$f":"ROUND(AA985*(1-VLOOKUP(AF985,Discounts!C:E,3,0)),2)","v":188.43},null,104500,"P107"]
[8718528125694,"Artikel",8718528125694,"STUKS","Glas-in-lood model 6533/6582-1","680 x 2315 1 ruit","","GLAS","","BINNEN","MODERN","6533","GLAS-IN-LOOD 1","6533/6582","Inventory","",false,"","",0,0,0,"",false,false,false,188.43,228,{"$f":"ROUND(AA986*(1-VLOOKUP(AF986,Discounts!C:E,3,0)),2)","v":188.43},null,104500,"P107"]
[8718528125700,"Artikel",8718528125700,"STUKS","Glas-in-lood model 6533/6582-1","730 x 2315 1 ruit","","GLAS","","BINNEN","MODERN","6533","GLAS-IN-LOOD 1","6533/6582","Inventory","",false,"","",0,0,0,"",false,false,false,188.43,228,{"$f":"ROUND(AA987*(1-VLOOKUP(AF987,Discounts!C:E,3,0)),2)","v":188.43},null,104500,"P107"]
[8718528125717,"Artikel",8718528125717,"STUKS","Glas-in-lood model 6533/6582-1","780 x 2315 1 ruit","","GLAS","","BINNEN","MODERN","6533","GLAS-IN-LOOD 1","6533/6582","Inventory","",false,"","",0,0,0,"",false,false,false,188.43,228,{"$f":"ROUND(AA988*(1-VLOOKUP(AF988,Discounts!C:E,3,0)),2)","v":188.43},null,104500,"P107"]
[8718528076804,"Artikel",8718528076804,"STUKS","Glas-in-lood model 6533/6582-1","780x2015 1 ruit,d=6 mm","","GLAS","","BINNEN","MODERN","6533","GLAS-IN-LOOD 1","6533/6582","Inventory","",false,"","",0,0,0,"",false,false,false,188.43,228,{"$f":"ROUND(AA989*(1-VLOOKUP(AF989,Discounts!C:E,3,0)),2)","v":188.43},null,104500,"P107"]
[8718528076811,"Artikel",8718528076811,"STUKS","Glas-in-lood model 6533/6582-1","830x2015 1 ruit,d=6 mm","","GLAS","","BINNEN","MODERN","6533","GLAS-IN-LOOD 1","6533/6582","Inventory","",false,"","",0,0,0,"",false,false,false,188.43,228,{"$f":"ROUND(AA990*(1-VLOOKUP(AF990,Discounts!C:E,3,0)),2)","v":188.43},null,104500,"P107"]
[8718528076828,"Artikel",8718528076828,"STUKS","Glas-in-lood model 6533/6582-1","830x2115 1 ruit,d=6 mm","","GLAS","","BINNEN","MODERN","6533","GLAS-IN-LOOD 1","6533/6582","Inventory","",false,"","",0,0,0,"",false,false,false,188.43,228,{"$f":"ROUND(AA991*(1-VLOOKUP(AF991,Discounts!C:E,3,0)),2)","v":188.43},null,104500,"P107"]
[8718528076835,"Artikel",8718528076835,"STUKS","Glas-in-lood model 6533/6582-1","830x2315 1 ruit,d=6 mm","","GLAS","","BINNEN","MODERN","6533","GLAS-IN-LOOD 1","6533/6582","Inventory","",false,"","",0,0,0,"",false,false,false,188.43,228,{"$f":"ROUND(AA992*(1-VLOOKUP(AF992,Discounts!C:E,3,0)),2)","v":188.43},null,104500,"P107"]
[8718528076842,"Artikel",8718528076842,"STUKS","Glas-in-lood model 6533/6582-1","880x2015 1 ruit,d=6 mm","","GLAS","","BINNEN","MODERN","6533","GLAS-IN-LOOD 1","6533/6582","Inventory","",false,"","",0,0,0,"",false,false,false,188.43,228,{"$f":"ROUND(AA993*(1-VLOOKUP(AF993,Discounts!C:E,3,0)),2)","v":188.43},null,104500,"P107"]
[8718528076859,"Artikel",8718528076859,"STUKS","Glas-in-lood model 6533/6582-1","880x2115 1 ruit,d=6 mm","","GLAS","","BINNEN","MODERN","6533","GLAS-IN-LOOD 1","6533/6582","Inventory","",false,"","",0,0,0,"",false,false,false,188.43,228,{"$f":"ROUND(AA994*(1-VLOOKUP(AF994,Discounts!C:E,3,0)),2)","v":188.43},null,104500,"P107"]
[8718528076866,"Artikel",8718528076866,"STUKS","Glas-in-lood model 6533/6582-1","880x2315 1 ruit,d=6 mm","","GLAS","","BINNEN","MODERN","6533","GLAS-IN-LOOD 1","6533/6582","Inventory","",false,"","",0,0,0,"",false,false,false,188.43,228,{"$f":"ROUND(AA995*(1-VLOOKUP(AF995,Discounts!C:E,3,0)),2)","v":188.43},null,104500,"P107"]
[8718528076873,"Artikel",8718528076873,"STUKS","Glas-in-lood model 6533/6582-1","930x2015 1 ruit,d=6 mm","","GLAS","","BINNEN","MODERN","6533","GLAS-IN-LOOD 1","6533/6582","Inventory","",false,"","",0,0,0,"",false,false,false,188.43,228,{"$f":"ROUND(AA996*(1-VLOOKUP(AF996,Discounts!C:E,3,0)),2)","v":188.43},null,104500,"P107"]
[8718528076880,"Artikel",8718528076880,"STUKS","Glas-in-lood model 6533/6582-1","930x2115 1 ruit,d=6 mm","","GLAS","","BINNEN","MODERN","6533","GLAS-IN-LOOD 1","6533/6582","Inventory","",false,"","",0,0,0,"",false,false,false,188.43,228,{"$f":"ROUND(AA997*(1-VLOOKUP(AF997,Discounts!C:E,3,0)),2)","v":188.43},null,104500,"P107"]
[8718528076897,"Artikel",8718528076897,"STUKS","Glas-in-lood model 6533/6582-1","930x2315 1 ruit,d=6 mm","","GLAS","","BINNEN","MODERN","6533","GLAS-IN-LOOD 1","6533/6582","Inventory","",false,"","",0,0,0,"",false,false,false,188.43,228,{"$f":"ROUND(AA998*(1-VLOOKUP(AF998,Discounts!C:E,3,0)),2)","v":188.43},null,104500,"P107"]
[8718528126141,"Artikel",8718528126141,"STUKS","Facetglas blank tbv 6542/6552","630 x 2015 set a 2 ruiten","","GLAS","","BINNEN","MODERN","6542","FACETGLAS BLANK","6542/6552","Inventory","",false,"","",0,0,0,"",false,false,false,142.98,173,{"$f":"ROUND(AA999*(1-VLOOKUP(AF999,Discounts!C:E,3,0)),2)","v":142.98},null,104510,"P107"]
[8718528126158,"Artikel",8718528126158,"STUKS","Facetglas blank tbv 6542/6552","630 x 2115 set a 2 ruiten","","GLAS","","BINNEN","MODERN","6542","FACETGLAS BLANK","6542/6552","Inventory","",false,"","",0,0,0,"",false,false,false,142.98,173,{"$f":"ROUND(AA1000*(1-VLOOKUP(AF1000,Discounts!C:E,3,0)),2)","v":142.98},null,104510,"P107"]
[8718528126196,"Artikel",8718528126196,"STUKS","Facetglas blank tbv 6542/6552","730 x 2115 set a 2 ruiten","","GLAS","","BINNEN","MODERN","6542","FACETGLAS BLANK","6542/6552","Inventory","",false,"","",0,0,0,"",false,false,false,142.98,173,{"$f":"ROUND(AA1004*(1-VLOOKUP(AF1004,Discounts!C:E,3,0)),2)","v":142.98},null,104510,"P107"]
[8718528126240,"Artikel",8718528126240,"STUKS","Facetglas blank tbv 6542/6552","780 x 2315 set a 2 ruiten","","GLAS","","BINNEN","MODERN","6542","FACETGLAS BLANK","6542/6552","Inventory","",false,"","",0,0,0,"",false,false,false,142.98,173,{"$f":"ROUND(AA1009*(1-VLOOKUP(AF1009,Discounts!C:E,3,0)),2)","v":142.98},null,104510,"P107"]
[8718528030080,"Artikel",8718528030080,"STUKS","Facetglas blank tbv 6542/6552","930x2015 set a 2 ruiten","","GLAS","","BINNEN","MODERN","6542","FACETGLAS BLANK","6542/6552","Inventory","",false,"","",1212,410,0,"",false,false,false,142.98,173,{"$f":"ROUND(AA1015*(1-VLOOKUP(AF1015,Discounts!C:E,3,0)),2)","v":142.98},null,104510,"P107"]
[8718528126264,"Artikel",8718528126264,"STUKS","Facetglas mat tbv 6542/6552","630 x 2115 set a 2 ruiten","","GLAS","","BINNEN","MODERN","6542","FACETGLAS MAT","6542/6552","Inventory","",false,"","",0,0,0,"",false,false,false,219.83,266,{"$f":"ROUND(AA1021*(1-VLOOKUP(AF1021,Discounts!C:E,3,0)),2)","v":219.83},null,104520,"P107"]
[8718528030110,"Artikel",8718528030110,"STUKS","Facetglas mat tbv 6542/6552","830x2015 set a 2 ruiten","","GLAS","","BINNEN","MODERN","6542","FACETGLAS MAT","6542/6552","Inventory","",false,"","",1212,360,0,"",false,false,false,219.83,266,{"$f":"ROUND(AA1032*(1-VLOOKUP(AF1032,Discounts!C:E,3,0)),2)","v":219.83},null,104520,"P107"]
[8718528030158,"Artikel",8718528030158,"STUKS","Facetglas mat tbv 6542/6552","930x2015 set a 2 ruiten","","GLAS","","BINNEN","MODERN","6542","FACETGLAS MAT","6542/6552","Inventory","",false,"","",1212,410,0,"",false,false,false,219.83,266,{"$f":"ROUND(AA1036*(1-VLOOKUP(AF1036,Discounts!C:E,3,0)),2)","v":219.83},null,104520,"P107"]
[8718528126387,"Artikel",8718528126387,"STUKS","Blank glas tbv 6542/6552","680 x 2015 set a 2 ruiten","","GLAS","","BINNEN","MODERN","6542","BLANK","6542/6552","Inventory","",false,"","",0,0,0,"",false,false,false,102.48,124,{"$f":"ROUND(AA1043*(1-VLOOKUP(AF1043,Discounts!C:E,3,0)),2)","v":102.48},null,104530,"P107"]
[8718528126431,"Artikel",8718528126431,"STUKS","Blank glas tbv 6542/6552","630 x 2315 set a 2 ruiten","","GLAS","","BINNEN","MODERN","6542","BLANK","6542/6552","Inventory","",false,"","",0,0,0,"",false,false,false,102.48,124,{"$f":"ROUND(AA1048*(1-VLOOKUP(AF1048,Discounts!C:E,3,0)),2)","v":102.48},null,104530,"P107"]
[8718528031612,"Artikel",8718528031612,"STUKS","Blank glas tbv 6542/6552","830x2115 set a 2 ruiten","","GLAS","","BINNEN","MODERN","6542","BLANK","6542/6552","Inventory","",false,"","",1312,360,0,"",false,false,false,102.48,124,{"$f":"ROUND(AA1054*(1-VLOOKUP(AF1054,Discounts!C:E,3,0)),2)","v":102.48},null,104530,"P107"]
[8718528031674,"Artikel",8718528031674,"STUKS","Blank glas tbv 6542/6552","880x2315 set a 2 ruiten","","GLAS","","BINNEN","MODERN","6542","BLANK","6542/6552","Inventory","",false,"","",1385,378,0,"",false,false,false,102.48,124,{"$f":"ROUND(AA1060*(1-VLOOKUP(AF1060,Discounts!C:E,3,0)),2)","v":102.48},null,104530,"P107"]
[8718528127186,"Artikel",8718528127186,"STUKS","Facetglas blank tbv 6562","680 x 2315 set a 8 ruiten","","GLAS","","BINNEN","MODERN","6562","FACETGLAS BLANK","","Inventory","",false,"","",0,0,0,"",false,false,false,214.88,260,{"$f":"ROUND(AA1067*(1-VLOOKUP(AF1067,Discounts!C:E,3,0)),2)","v":214.88},null,104540,"P107"]
[8718528030882,"Artikel",8718528030882,"STUKS","Facetglas blank tbv 6562","880x2015 set a 8 ruiten","","GLAS","","BINNEN","MODERN","6562","FACETGLAS BLANK","","Inventory","",false,"","",443,420,0,"",false,false,false,214.88,260,{"$f":"ROUND(AA1072*(1-VLOOKUP(AF1072,Discounts!C:E,3,0)),2)","v":214.88},null,104540,"P107"]
[8718528127209,"Artikel",8718528127209,"STUKS","Facetglas mat tbv 6562","630 x 2115 set a 8 ruiten","","GLAS","","BINNEN","MODERN","6562","FACETGLAS MAT","","Inventory","",false,"","",0,0,0,"",false,false,false,329.75,399,{"$f":"ROUND(AA1084*(1-VLOOKUP(AF1084,Discounts!C:E,3,0)),2)","v":329.75},null,104550,"P107"]
[8718528127230,"Artikel",8718528127230,"STUKS","Facetglas mat tbv 6562","630 x 2315 set a 8 ruiten","","GLAS","","BINNEN","MODERN","6562","FACETGLAS MAT","","Inventory","",false,"","",0,0,0,"",false,false,false,329.75,399,{"$f":"ROUND(AA1087*(1-VLOOKUP(AF1087,Discounts!C:E,3,0)),2)","v":329.75},null,104550,"P107"]
[8718528031001,"Artikel",8718528031001,"STUKS","Facetglas mat tbv 6562","930x2015 set a 8 ruiten","","GLAS","","BINNEN","MODERN","6562","FACETGLAS MAT","","Inventory","",false,"","",443,445,0,"",false,false,false,329.75,399,{"$f":"ROUND(AA1095*(1-VLOOKUP(AF1095,Discounts!C:E,3,0)),2)","v":329.75},null,104550,"P107"]
[8718528031094,"Artikel",8718528031094,"STUKS","Facetglas mat tbv 6562","780x2315 set a 8 ruiten","","GLAS","","BINNEN","MODERN","6562","FACETGLAS MAT","","Inventory","",false,"","",499,363,0,"",false,false,false,329.75,399,{"$f":"ROUND(AA1099*(1-VLOOKUP(AF1099,Discounts!C:E,3,0)),2)","v":329.75},null,104550,"P107"]
[8718528127278,"Artikel",8718528127278,"STUKS","Blank glas tbv 6562","680 x 2015 set a 8 ruiten","","GLAS","","BINNEN","MODERN","6562","BLANK","","Inventory","",false,"","",0,0,0,"",false,false,false,152.89,185,{"$f":"ROUND(AA1106*(1-VLOOKUP(AF1106,Discounts!C:E,3,0)),2)","v":152.89},null,104560,"P107"]
[8718528031704,"Artikel",8718528031704,"STUKS","Blank glas tbv 6562","780x2115 set a 8 ruiten","","GLAS","","BINNEN","MODERN","6562","BLANK","","Inventory","",false,"","",468,370,0,"",false,false,false,152.89,185,{"$f":"ROUND(AA1111*(1-VLOOKUP(AF1111,Discounts!C:E,3,0)),2)","v":152.89},null,104560,"P107"]
[8718528031780,"Artikel",8718528031780,"STUKS","Blank glas tbv 6562","730x2115 set a 8 ruiten","","GLAS","","BINNEN","MODERN","6562","BLANK","","Inventory","",false,"","",468,345,0,"",false,false,false,152.89,185,{"$f":"ROUND(AA1119*(1-VLOOKUP(AF1119,Discounts!C:E,3,0)),2)","v":152.89},null,104560,"P107"]
[8718528127438,"Artikel",8718528127438,"STUKS","Facetglas blank tbv 6572","780 x 2115 set a 2 ruiten","","GLAS","","BINNEN","MODERN","6572","FACETGLAS BLANK","","Inventory","",false,"","",0,0,0,"",false,false,false,214.88,260,{"$f":"ROUND(AA1130*(1-VLOOKUP(AF1130,Discounts!C:E,3,0)),2)","v":214.88},null,104570,"P107"]
[8718528032657,"Artikel",8718528032657,"STUKS","Facetglas blank tbv 6572","830x2015 set a 2 ruiten","","GLAS","","BINNEN","MODERN","6572","FACETGLAS BLANK","","Inventory","",false,"","",1833,360,0,"",false,false,false,214.88,260,{"$f":"ROUND(AA1136*(1-VLOOKUP(AF1136,Discounts!C:E,3,0)),2)","v":214.88},null,104570,"P107"]
[8718528032718,"Artikel",8718528032718,"STUKS","Facetglas blank tbv 6572","830x2315 set a 2 ruiten","","GLAS","","BINNEN","MODERN","6572","FACETGLAS BLANK","","Inventory","",false,"","",2100,353,0,"",false,false,false,214.88,260,{"$f":"ROUND(AA1142*(1-VLOOKUP(AF1142,Discounts!C:E,3,0)),2)","v":214.88},null,104570,"P107"]
[8718528127605,"Artikel",8718528127605,"STUKS","Blank glas tbv 6572","680 x 2115 set a 2 ruiten","","GLAS","","BINNEN","MODERN","6572","BLANK","","Inventory","",false,"","",0,0,0,"",false,false,false,152.89,185,{"$f":"ROUND(AA1147*(1-VLOOKUP(AF1147,Discounts!C:E,3,0)),2)","v":152.89},null,104580,"P107"]
[8718528127636,"Artikel",8718528127636,"STUKS","Blank glas tbv 6572","780 x 2115 set a 2 ruiten","","GLAS","","BINNEN","MODERN","6572","BLANK","","Inventory","",false,"","",0,0,0,"",false,false,false,152.89,185,{"$f":"ROUND(AA1150*(1-VLOOKUP(AF1150,Discounts!C:E,3,0)),2)","v":152.89},null,104580,"P107"]
[8718528032572,"Artikel",8718528032572,"STUKS","Blank glas tbv 6572","880x2015 set a 2 ruiten","","GLAS","","BINNEN","MODERN","6572","BLANK","","Inventory","",false,"","",1833,385,0,"",false,false,false,152.89,185,{"$f":"ROUND(AA1158*(1-VLOOKUP(AF1158,Discounts!C:E,3,0)),2)","v":152.89},null,104580,"P107"]
[8718528127827,"Artikel",8718528127827,"STUKS","Mat glas tbv 6572","730 x 2115 set a 2 ruiten","","GLAS","","BINNEN","MODERN","6572","MAT","","Inventory","",false,"","",0,0,0,"",false,false,false,246.28,298,{"$f":"ROUND(AA1169*(1-VLOOKUP(AF1169,Discounts!C:E,3,0)),2)","v":246.28},null,104590,"P107"]
[8718528127872,"Artikel",8718528127872,"STUKS","Mat glas tbv 6572","630 x 2315 set a 2 ruiten","","GLAS","","BINNEN","MODERN","6572","MAT","","Inventory","",false,"","",0,0,0,"",false,false,false,246.28,298,{"$f":"ROUND(AA1171*(1-VLOOKUP(AF1171,Discounts!C:E,3,0)),2)","v":246.28},null,104590,"P107"]
[8718528032800,"Artikel",8718528032800,"STUKS","Mat glas tbv 6572","930x2115 set a 2 ruiten","","GLAS","","BINNEN","MODERN","6572","MAT","","Inventory","",false,"","",1933,410,0,"",false,false,false,246.28,298,{"$f":"ROUND(AA1181*(1-VLOOKUP(AF1181,Discounts!C:E,3,0)),2)","v":246.28},null,104590,"P107"]
[8718528125823,"Artikel",8718528125823,"STUKS","Glas-in-lood model 6533/6582-2","680 x 2115 1 ruit","","GLAS","","BINNEN","MODERN","6533","GLAS-IN-LOOD 2","6533/6582","Inventory","",false,"","",0,0,0,"",false,false,false,188.43,228,{"$f":"ROUND(AA1188*(1-VLOOKUP(AF1188,Discounts!C:E,3,0)),2)","v":188.43},null,105480,"P107"]
[8718528125908,"Artikel",8718528125908,"STUKS","Glas-in-lood model 6533/6582-2","680 x 2315 1 ruit","","GLAS","","BINNEN","MODERN","6533","GLAS-IN-LOOD 2","6533/6582","Inventory","",false,"","",0,0,0,"",false,false,false,188.43,228,{"$f":"ROUND(AA1193*(1-VLOOKUP(AF1193,Discounts!C:E,3,0)),2)","v":188.43},null,105480,"P107"]
[8718528076934,"Artikel",8718528076934,"STUKS","Glas-in-lood model 6533/6582-2","830x2315 1 ruit,d=6 mm","","GLAS","","BINNEN","MODERN","6533","GLAS-IN-LOOD 2","6533/6582","Inventory","",false,"","",0,0,0,"",false,false,false,188.43,228,{"$f":"ROUND(AA1199*(1-VLOOKUP(AF1199,Discounts!C:E,3,0)),2)","v":188.43},null,105480,"P107"]
[8718528126493,"Artikel",8718528126493,"STUKS","Glas-in-lood-model 6542/6552-1","680 x 2015 set a 2 ruiten","","GLAS","","BINNEN","MODERN","6542","GLAS-IN-LOOD 1","6542/6552","Inventory","",false,"","",0,0,0,"",false,false,false,422.31,511,{"$f":"ROUND(AA1208*(1-VLOOKUP(AF1208,Discounts!C:E,3,0)),2)","v":422.31},null,105490,"P107"]
[8718528126516,"Artikel",8718528126516,"STUKS","Glas-in-lood-model 6542/6552-1","730 x 2015 set a 2 ruiten","","GLAS","","BINNEN","MODERN","6542","GLAS-IN-LOOD 1","6542/6552","Inventory","",false,"","",0,0,0,"",false,false,false,422.31,511,{"$f":"ROUND(AA1210*(1-VLOOKUP(AF1210,Discounts!C:E,3,0)),2)","v":422.31},null,105490,"P107"]
[8718528077030,"Artikel",8718528077030,"STUKS","Glas-in-lood model 6542/6552-1","880x2015 set a 2 ruiten,d=6 mm","","GLAS","","BINNEN","MODERN","6542","GLAS-IN-LOOD 1","6542/6552","Inventory","",false,"","",0,0,0,"",false,false,false,422.31,511,{"$f":"ROUND(AA1220*(1-VLOOKUP(AF1220,Discounts!C:E,3,0)),2)","v":422.31},null,105490,"P107"]
[8718528077061,"Artikel",8718528077061,"STUKS","Glas-in-lood model 6542/6552-1","930x2115 set a 2 ruiten,d=6 mm","","GLAS","","BINNEN","MODERN","6542","GLAS-IN-LOOD 1","6542/6552","Inventory","",false,"","",0,0,0,"",false,false,false,422.31,511,{"$f":"ROUND(AA1223*(1-VLOOKUP(AF1223,Discounts!C:E,3,0)),2)","v":422.31},null,105490,"P107"]
[8718528126639,"Artikel",8718528126639,"STUKS","Glas-in-lood-model 6542/6552-2","730 x 2115 set a 2 ruiten","","GLAS","","BINNEN","MODERN","6542","GLAS-IN-LOOD 2","6542/6552","Inventory","",false,"","",0,0,0,"",false,false,false,422.31,511,{"$f":"ROUND(AA1232*(1-VLOOKUP(AF1232,Discounts!C:E,3,0)),2)","v":422.31},null,105500,"P107"]
[8718528077122,"Artikel",8718528077122,"STUKS","Glas-in-lood model 6542/6552-2","830x2115 set a 2 ruiten,d=6 mm","","GLAS","","BINNEN","MODERN","6542","GLAS-IN-LOOD 2","6542/6552","Inventory","",false,"","",0,0,0,"",false,false,false,422.31,511,{"$f":"ROUND(AA1240*(1-VLOOKUP(AF1240,Discounts!C:E,3,0)),2)","v":422.31},null,105500,"P107"]
[8718528077160,"Artikel",8718528077160,"STUKS","Glas-in-lood model 6542/6552-2","930x2115 set a 2 ruiten,d=6 mm","","GLAS","","BINNEN","MODERN","6542","GLAS-IN-LOOD 2","6542/6552","Inventory","",false,"","",0,0,0,"",false,false,false,422.31,511,{"$f":"ROUND(AA1244*(1-VLOOKUP(AF1244,Discounts!C:E,3,0)),2)","v":422.31},null,105500,"P107"]
[8718528126721,"Artikel",8718528126721,"STUKS","Glas-in-lood-model 6542/6552-3","680 x 2115 set a 2 ruiten","","GLAS","","BINNEN","MODERN","6542","GLAS-IN-LOOD 3","6542/6552","Inventory","",false,"","",0,0,0,"",false,false,false,422.31,511,{"$f":"ROUND(AA1251*(1-VLOOKUP(AF1251,Discounts!C:E,3,0)),2)","v":422.31},null,105510,"P107"]
[8718528077207,"Artikel",8718528077207,"STUKS","Glas-in-lood model 6542/6552-3","780x2015 set a 2 ruiten,d=6 mm","","GLAS","","BINNEN","MODERN","6542","GLAS-IN-LOOD 3","6542/6552","Inventory","",false,"","",0,0,0,"",false,false,false,422.31,511,{"$f":"ROUND(AA1259*(1-VLOOKUP(AF1259,Discounts!C:E,3,0)),2)","v":422.31},null,105510,"P107"]
[8718528077238,"Artikel",8718528077238,"STUKS","Glas-in-lood model 6542/6552-3","880x2015 set a 2 ruiten,d=6 mm","","GLAS","","BINNEN","MODERN","6542","GLAS-IN-LOOD 3","6542/6552","Inventory","",false,"","",0,0,0,"",false,false,false,422.31,511,{"$f":"ROUND(AA1262*(1-VLOOKUP(AF1262,Discounts!C:E,3,0)),2)","v":422.31},null,105510,"P107"]
[8718528126820,"Artikel",8718528126820,"STUKS","Glas-in-lood-model 6542/6552-4","680 x 2015 set a 2 ruiten","","GLAS","","BINNEN","MODERN","6542","GLAS-IN-LOOD 4","6542/6552","Inventory","",false,"","",0,0,0,"",false,false,false,422.31,511,{"$f":"ROUND(AA1271*(1-VLOOKUP(AF1271,Discounts!C:E,3,0)),2)","v":422.31},null,105520,"P107"]
[8718528126905,"Artikel",8718528126905,"STUKS","Glas-in-lood-model 6542/6552-4","780 x 2315 set a 2 ruiten","","GLAS","","BINNEN","MODERN","6542","GLAS-IN-LOOD 4","6542/6552","Inventory","",false,"","",0,0,0,"",false,false,false,422.31,511,{"$f":"ROUND(AA1279*(1-VLOOKUP(AF1279,Discounts!C:E,3,0)),2)","v":422.31},null,105520,"P107"]
[8718528077337,"Artikel",8718528077337,"STUKS","Glas-in-lood model 6542/6552-4","880x2015 set a 2 ruiten,d=6 mm","","GLAS","","BINNEN","MODERN","6542","GLAS-IN-LOOD 4","6542/6552","Inventory","",false,"","",0,0,0,"",false,false,false,422.31,511,{"$f":"ROUND(AA1283*(1-VLOOKUP(AF1283,Discounts!C:E,3,0)),2)","v":422.31},null,105520,"P107"]
[8718528126936,"Artikel",8718528126936,"STUKS","Glas-in-lood-model 6542/6552-5","680 x 2015 set a 2 ruiten","","GLAS","","BINNEN","MODERN","6542","GLAS-IN-LOOD 5","6542/6552","Inventory","",false,"","",0,0,0,"",false,false,false,422.31,511,{"$f":"ROUND(AA1292*(1-VLOOKUP(AF1292,Discounts!C:E,3,0)),2)","v":422.31},null,105530,"P107"]
[8718528126967,"Artikel",8718528126967,"STUKS","Glas-in-lood-model 6542/6552-5","730 x 2115 set a 2 ruiten","","GLAS","","BINNEN","MODERN","6542","GLAS-IN-LOOD 5","6542/6552","Inventory","",false,"","",0,0,0,"",false,false,false,422.31,511,{"$f":"ROUND(AA1295*(1-VLOOKUP(AF1295,Discounts!C:E,3,0)),2)","v":422.31},null,105530,"P107"]
[8718528077429,"Artikel",8718528077429,"STUKS","Glas-in-lood model 6542/6552-5","830x2115 set a 2 ruiten,d=6 mm","","GLAS","","BINNEN","MODERN","6542","GLAS-IN-LOOD 5","6542/6552","Inventory","",false,"","",0,0,0,"",false,false,false,422.31,511,{"$f":"ROUND(AA1303*(1-VLOOKUP(AF1303,Discounts!C:E,3,0)),2)","v":422.31},null,105530,"P107"]
[8718528077498,"Artikel",8718528077498,"STUKS","Glas-in-lood model 6542/6552-5","930x2315 set a 2 ruiten,d=6 mm","","GLAS","","BINNEN","MODERN","6542","GLAS-IN-LOOD 5","6542/6552","Inventory","",false,"","",0,0,0,"",false,false,false,422.31,511,{"$f":"ROUND(AA1310*(1-VLOOKUP(AF1310,Discounts!C:E,3,0)),2)","v":422.31},null,105530,"P107"]
[8718528127056,"Artikel",8718528127056,"STUKS","Glas-in-lood-model 6542/6552-6","680 x 2115 set a 2 ruiten","","GLAS","","BINNEN","MODERN","6542","GLAS-IN-LOOD 6","6542/6552","Inventory","",false,"","",0,0,0,"",false,false,false,302.48,366,{"$f":"ROUND(AA1314*(1-VLOOKUP(AF1314,Discounts!C:E,3,0)),2)","v":302.48},null,105540,"P107"]
[8718528033241,"Artikel",8718528033241,"STUKS","Glas-in-lood model 6542/6552-6","780x2015 set a 2 ruiten,d=6 mm","","GLAS","","BINNEN","MODERN","6542","GLAS-IN-LOOD 6","6542/6552","Inventory","",false,"","",0,0,0,"",false,false,false,302.48,366,{"$f":"ROUND(AA1322*(1-VLOOKUP(AF1322,Discounts!C:E,3,0)),2)","v":302.48},null,105540,"P107"]
[8718528033333,"Artikel",8718528033333,"STUKS","Glas-in-lood model 6542/6552-6","930x2315 set a 2 ruiten,d=6 mm","","GLAS","","BINNEN","MODERN","6542","GLAS-IN-LOOD 6","6542/6552","Inventory","",false,"","",0,0,0,"",false,false,false,302.48,366,{"$f":"ROUND(AA1331*(1-VLOOKUP(AF1331,Discounts!C:E,3,0)),2)","v":302.48},null,105540,"P107"]
[8718528058244,"Artikel",8718528058244,"STUKS","Krukstel Wind PVD Gold","","","HENS","BESLAG","","","","KRUKSTEL LIFETIME","WIND","Inventory","",false,"","",0,0,0,"",false,false,false,135.54,164,{"$f":"ROUND(AA1334*(1-VLOOKUP(AF1334,Discounts!C:E,3,0)),2)","v":135.54},null,105780,"O110"]
[8718528054574,"Artikel",8718528054574,"STUKS","WK6501 C3 stomp","wit 880x2115 slg/vpl","FSC Mix 70% CU-COC 800339","DEUR","BINNEN","BINNEN","MODERN","6501","","","Inventory","",true,"STOMP","",2115,880,38,"",false,false,false,445.45,539,{"$f":"ROUND(AA1344*(1-VLOOKUP(AF1344,Discounts!C:E,3,0)),2)","v":445.45},null,106260,"B055"]
[8718528054635,"Artikel",8718528054635,"STUKS","WK6501 C3 stomp","wit 930x2015 slg/vpl","FSC Mix 70% CU-COC 800339","DEUR","BINNEN","BINNEN","MODERN","6501","","","Inventory","",true,"STOMP","",2015,930,38,"",false,false,false,445.45,539,{"$f":"ROUND(AA1346*(1-VLOOKUP(AF1346,Discounts!C:E,3,0)),2)","v":445.45},null,106260,"B055"]
[8718528102138,"Artikel",8718528102138,"STUKS","WK6501 C3 stomp","wit 630x2015 slg/vpl","FSC Mix 70% CU-COC 800340","DEUR","BINNEN","BINNEN","MODERN","6501","","","Inventory","",true,"STOMP","",2015,630,38,"",false,false,false,445.45,539,{"$f":"ROUND(AA1355*(1-VLOOKUP(AF1355,Discounts!C:E,3,0)),2)","v":445.45},null,106260,"B055"]
[8718528102169,"Artikel",8718528102169,"STUKS","WK6501 C3 stomp","wit 680x2015 slg/vpl","FSC Mix 70% CU-COC 800339","DEUR","BINNEN","BINNEN","MODERN","6501","","","Inventory","",true,"STOMP","",2015,680,38,"",false,false,false,445.45,539,{"$f":"ROUND(AA1358*(1-VLOOKUP(AF1358,Discounts!C:E,3,0)),2)","v":445.45},null,106260,"B055"]
[8718528054833,"Artikel",8718528054833,"STUKS","WK6503 XL C3 stomp","wit 880x2315 slg/vpl","FSC Mix 70% CU-COC 800339","DEUR","BINNEN","BINNEN","MODERN","6503","","","Inventory","",true,"STOMP","",2315,880,38,"",false,false,false,494.21,598,{"$f":"ROUND(AA1366*(1-VLOOKUP(AF1366,Discounts!C:E,3,0)),2)","v":494.21},null,106290,"B055"]
[8718528101469,"Artikel",8718528101469,"STUKS","WK6503 C3 stomp","wit 780x2015 slg/vpl","FSC Mix 70% CU-COC 800339","DEUR","BINNEN","BINNEN","MODERN","6503","","","Inventory","",true,"STOMP","",2015,780,38,"",false,false,false,494.21,598,{"$f":"ROUND(AA1373*(1-VLOOKUP(AF1373,Discounts!C:E,3,0)),2)","v":494.21},null,106290,"B055"]
[8718528101582,"Artikel",8718528101582,"STUKS","WK65011 XL C stomp","wit 830x2315 slg/vpl","incl. gemonteerd mat gelaagd glas, FSC Mix 70% CU-COC 800339","DEUR","BINNEN","BINNEN","MODERN","65011","MAT GELAAGD","","Inventory","",true,"STOMP","",2315,830,38,"",false,false,false,816.53,988,{"$f":"ROUND(AA1383*(1-VLOOKUP(AF1383,Discounts!C:E,3,0)),2)","v":816.53},null,106310,"B055"]
[8718528057261,"Artikel",8718528057261,"STUKS","Mat gelaagd glas tbv 6513","830x2015 set a 4 ruiten","","GLAS","","BINNEN","MODERN","6513","MAT GELAAGD","","Inventory","",false,"","",0,0,0,"",false,false,false,246.28,298,{"$f":"ROUND(AA1385*(1-VLOOKUP(AF1385,Discounts!C:E,3,0)),2)","v":246.28},null,106320,"P107"]
[8718528128008,"Artikel",8718528128008,"STUKS","Mat gelaagd glas tbv 6572","680 x 2115 set a 2 ruiten","","GLAS","","BINNEN","MODERN","6572","MAT GELAAGD","","Inventory","",false,"","",0,0,0,"",false,false,false,246.28,298,{"$f":"ROUND(AA1396*(1-VLOOKUP(AF1396,Discounts!C:E,3,0)),2)","v":246.28},null,106330,"P107"]
[8718528128015,"Artikel",8718528128015,"STUKS","Mat gelaagd glas tbv 6572","730 x 2015 set a 2 ruiten","","GLAS","","BINNEN","MODERN","6572","MAT GELAAGD","","Inventory","",false,"","",0,0,0,"",false,false,false,246.28,298,{"$f":"ROUND(AA1397*(1-VLOOKUP(AF1397,Discounts!C:E,3,0)),2)","v":246.28},null,106330,"P107"]
[8718528057513,"Artikel",8718528057513,"STUKS","Mat gelaagd glas tbv 6572","880x2015 set a 2 ruiten","","GLAS","","BINNEN","MODERN","6572","MAT GELAAGD","","Inventory","",false,"","",0,0,0,"",false,false,false,246.28,298,{"$f":"ROUND(AA1407*(1-VLOOKUP(AF1407,Discounts!C:E,3,0)),2)","v":246.28},null,106330,"P107"]
[8718528019443,"Artikel",8718528019443,"STUKS","WK65010 C3 opdek links","wit 830x2115 slg/vpl","FSC Mix 70% CU-COC 800339","DEUR","BINNEN","BINNEN","MODERN","65010","","","Inventory","",true,"OPDEK","",2115,830,38,"",false,true,false,481.82,583,{"$f":"ROUND(AA1416*(1-VLOOKUP(AF1416,Discounts!C:E,3,0)),2)","v":481.82},null,106370,"B055"]
[8718528019474,"Artikel",8718528019474,"STUKS","WK65010 XL C3 opdek links","wit 830x2315 slg/vpl","FSC Mix 70% CU-COC 800339","DEUR","BINNEN","BINNEN","MODERN","65010","","","Inventory","",true,"OPDEK","",2315,830,38,"",false,true,false,481.82,583,{"$f":"ROUND(AA1418*(1-VLOOKUP(AF1418,Discounts!C:E,3,0)),2)","v":481.82},null,106370,"B055"]
[8718528019580,"Artikel",8718528019580,"STUKS","WK65010 C3 opdek links","wit 930x2115 slg/vpl","FSC Mix 70% CU-COC 800339","DEUR","BINNEN","BINNEN","MODERN","65010","","","Inventory","",true,"OPDEK","",2115,930,38,"",false,true,false,481.82,583,{"$f":"ROUND(AA1424*(1-VLOOKUP(AF1424,Discounts!C:E,3,0)),2)","v":481.82},null,106370,"B055"]
[8718528118146,"Artikel",8718528118146,"STUKS","WK65010  C3 opdek links","wit 930x2015 slg/vpl","FSC Mix 70% CU-COC 800339","DEUR","BINNEN","BINNEN","MODERN","65010","","","Inventory","",true,"OPDEK","",2015,930,38,"",false,true,false,481.82,583,{"$f":"ROUND(AA1435*(1-VLOOKUP(AF1435,Discounts!C:E,3,0)),2)","v":481.82},null,106370,"B055"]
[8718528121269,"Artikel",8718528121269,"STUKS","WK65010  C3 opdek rechts","wit 730x2015 slg/vpl","FSC Mix 70% CU-COC 800339","DEUR","BINNEN","BINNEN","MODERN","65010","","","Inventory","",true,"OPDEK","",2015,730,38,"",false,true,false,481.82,583,{"$f":"ROUND(AA1436*(1-VLOOKUP(AF1436,Discounts!C:E,3,0)),2)","v":481.82},null,106370,"B055"]
[8718528011430,"Artikel",8718528011430,"STUKS","WK6511 A1 opdek links","wit 680x2015 slg/vpl","FSC Mix 70% CU-COC 800339","DEUR","BINNEN","BINNEN","MODERN","6511","","","Inventory","",true,"OPDEK","",2015,680,38,"",false,true,false,348.76,422,{"$f":"ROUND(AA1448*(1-VLOOKUP(AF1448,Discounts!C:E,3,0)),2)","v":348.76},null,106380,"B055"]
[8718528011539,"Artikel",8718528011539,"STUKS","WK6511 A1 opdek rechts","wit 730x2115 slg/vpl","FSC Mix 70% CU-COC 800339","DEUR","BINNEN","BINNEN","MODERN","6511","","","Inventory","",true,"OPDEK","",2115,730,38,"",false,true,false,348.76,422,{"$f":"ROUND(AA1455*(1-VLOOKUP(AF1455,Discounts!C:E,3,0)),2)","v":348.76},null,106380,"B055"]
[8718528011591,"Artikel",8718528011591,"STUKS","WK6511 A1 opdek rechts","wit 780x2015 slg/vpl","FSC Mix 70% CU-COC 800339","DEUR","BINNEN","BINNEN","MODERN","6511","","","Inventory","",true,"OPDEK","",2015,780,38,"",false,true,false,348.76,422,{"$f":"ROUND(AA1459*(1-VLOOKUP(AF1459,Discounts!C:E,3,0)),2)","v":348.76},null,106380,"B055"]
[8718528011713,"Artikel",8718528011713,"STUKS","WK6511 A1 opdek rechts","wit 830x2115 slg/vpl","FSC Mix 70% CU-COC 800339","DEUR","BINNEN","BINNEN","MODERN","6511","","","Inventory","",true,"OPDEK","",2115,830,38,"",false,true,false,348.76,422,{"$f":"ROUND(AA1467*(1-VLOOKUP(AF1467,Discounts!C:E,3,0)),2)","v":348.76},null,106380,"B055"]
[8718528011775,"Artikel",8718528011775,"STUKS","WK6511 A1 opdek links","wit 880x2115 slg/vpl","FSC Mix 70% CU-COC 800339","DEUR","BINNEN","BINNEN","MODERN","6511","","","Inventory","",true,"OPDEK","",2115,880,38,"",false,true,false,348.76,422,{"$f":"ROUND(AA1470*(1-VLOOKUP(AF1470,Discounts!C:E,3,0)),2)","v":348.76},null,106380,"B055"]
[8718528011850,"Artikel",8718528011850,"STUKS","WK6511 A1 opdek rechts","wit 930x2115 slg/vpl","FSC Mix 70% CU-COC 800339","DEUR","BINNEN","BINNEN","MODERN","6511","","","Inventory","",true,"OPDEK","",2115,930,38,"",false,true,false,348.76,422,{"$f":"ROUND(AA1475*(1-VLOOKUP(AF1475,Discounts!C:E,3,0)),2)","v":348.76},null,106380,"B055"]
[8718528011942,"Artikel",8718528011942,"STUKS","WK6512 A opdek rechts","wit 780x2015 slg/vpl","FSC Mix 70% CU-COC 800339","DEUR","BINNEN","BINNEN","MODERN","6512","","","Inventory","",true,"OPDEK","",2015,780,38,"",false,true,false,395.87,479,{"$f":"ROUND(AA1487*(1-VLOOKUP(AF1487,Discounts!C:E,3,0)),2)","v":395.87},null,106390,"B055"]
[8718528012086,"Artikel",8718528012086,"STUKS","WK6512 A opdek links","wit 880x2115 slg/vpl","FSC Mix 70% CU-COC 800339","DEUR","BINNEN","BINNEN","MODERN","6512","","","Inventory","",true,"OPDEK","",2115,880,38,"",false,true,false,395.87,479,{"$f":"ROUND(AA1494*(1-VLOOKUP(AF1494,Discounts!C:E,3,0)),2)","v":395.87},null,106390,"B055"]
[8718528012154,"Artikel",8718528012154,"STUKS","WK6512 A opdek links","wit 930x2115 slg/vpl","FSC Mix 70% CU-COC 800339","DEUR","BINNEN","BINNEN","MODERN","6512","","","Inventory","",true,"OPDEK","",2115,930,38,"",false,true,false,395.87,479,{"$f":"ROUND(AA1498*(1-VLOOKUP(AF1498,Discounts!C:E,3,0)),2)","v":395.87},null,106390,"B055"]
[8718528115831,"Artikel",8718528115831,"STUKS","WK6512 A opdek links","wit 680x2115 slg/vpl","FSC Mix 70% CU-COC 800339","DEUR","BINNEN","BINNEN","MODERN","6512","","","Inventory","",true,"OPDEK","",2115,680,38,"",false,true,false,395.87,479,{"$f":"ROUND(AA1506*(1-VLOOKUP(AF1506,Discounts!C:E,3,0)),2)","v":395.87},null,106390,"B055"]
[8718528115886,"Artikel",8718528115886,"STUKS","WK6512 A opdek links","wit 780x2115 slg/vpl","FSC Mix 70% CU-COC 800339","DEUR","BINNEN","BINNEN","MODERN","6512","","","Inventory","",true,"OPDEK","",2115,780,38,"",false,true,false,395.87,479,{"$f":"ROUND(AA1511*(1-VLOOKUP(AF1511,Discounts!C:E,3,0)),2)","v":395.87},null,106390,"B055"]
[8718528119013,"Artikel",8718528119013,"STUKS","WK6512 A opdek rechts","wit 680x2015 slg/vpl","FSC Mix 70% CU-COC 800339","DEUR","BINNEN","BINNEN","MODERN","6512","","","Inventory","",true,"OPDEK","",2015,680,38,"",false,true,false,395.87,479,{"$f":"ROUND(AA1518*(1-VLOOKUP(AF1518,Discounts!C:E,3,0)),2)","v":395.87},null,106390,"B055"]
[8718528119051,"Artikel",8718528119051,"STUKS","WK6512 A opdek rechts","wit 730x2115 slg/vpl","FSC Mix 70% CU-COC 800339","DEUR","BINNEN","BINNEN","MODERN","6512","","","Inventory","",true,"OPDEK","",2115,730,38,"",false,true,false,395.87,479,{"$f":"ROUND(AA1522*(1-VLOOKUP(AF1522,Discounts!C:E,3,0)),2)","v":395.87},null,106390,"B055"]
[8718528012284,"Artikel",8718528012284,"STUKS","WK6513 A opdek rechts","wit 680x2015 slg/vpl","FSC Mix 70% CU-COC 800339","DEUR","BINNEN","BINNEN","MODERN","6513","","","Inventory","",true,"OPDEK","",2015,680,38,"",false,true,false,373.56,452,{"$f":"ROUND(AA1533*(1-VLOOKUP(AF1533,Discounts!C:E,3,0)),2)","v":373.56},null,106400,"B055"]
[8718528012376,"Artikel",8718528012376,"STUKS","WK6513 A opdek rechts","wit 730x2115 slg/vpl","FSC Mix 70% CU-COC 800339","DEUR","BINNEN","BINNEN","MODERN","6513","","","Inventory","",true,"OPDEK","",2115,730,38,"",false,true,false,373.56,452,{"$f":"ROUND(AA1539*(1-VLOOKUP(AF1539,Discounts!C:E,3,0)),2)","v":373.56},null,106400,"B055"]
[8718528012468,"Artikel",8718528012468,"STUKS","WK6513 A opdek rechts","wit 780x2115 slg/vpl","FSC Mix 70% CU-COC 800339","DEUR","BINNEN","BINNEN","MODERN","6513","","","Inventory","",true,"OPDEK","",2115,780,38,"",false,true,false,373.56,452,{"$f":"ROUND(AA1545*(1-VLOOKUP(AF1545,Discounts!C:E,3,0)),2)","v":373.56},null,106400,"B055"]
[8718528012543,"Artikel",8718528012543,"STUKS","WK6513 A opdek links","wit 830x2115 slg/vpl","FSC Mix 70% CU-COC 800339","DEUR","BINNEN","BINNEN","MODERN","6513","","","Inventory","",true,"OPDEK","",2115,830,38,"",false,true,false,373.56,452,{"$f":"ROUND(AA1550*(1-VLOOKUP(AF1550,Discounts!C:E,3,0)),2)","v":373.56},null,106400,"B055"]
[8718528012659,"Artikel",8718528012659,"STUKS","WK6513 XL A opdek rechts","wit 880x2315 slg/vpl","FSC Mix 70% CU-COC 800339","DEUR","BINNEN","BINNEN","MODERN","6513","","","Inventory","",true,"OPDEK","",2315,880,38,"",false,true,false,373.56,452,{"$f":"ROUND(AA1557*(1-VLOOKUP(AF1557,Discounts!C:E,3,0)),2)","v":373.56},null,106400,"B055"]
[8718528115930,"Artikel",8718528115930,"STUKS","WK6513 XL A opdek links","wit 680x2315 slg/vpl","FSC Mix 70% CU-COC 800339","DEUR","BINNEN","BINNEN","MODERN","6513","","","Inventory","",true,"OPDEK","",2315,680,38,"",false,true,false,373.56,452,{"$f":"ROUND(AA1563*(1-VLOOKUP(AF1563,Discounts!C:E,3,0)),2)","v":373.56},null,106400,"B055"]
[8718528119143,"Artikel",8718528119143,"STUKS","WK6513 A opdek rechts","wit 930x2015 slg/vpl","FSC Mix 70% CU-COC 800339","DEUR","BINNEN","BINNEN","MODERN","6513","","","Inventory","",true,"OPDEK","",2015,930,38,"",false,true,false,373.56,452,{"$f":"ROUND(AA1569*(1-VLOOKUP(AF1569,Discounts!C:E,3,0)),2)","v":373.56},null,106400,"B055"]
[8718528012802,"Artikel",8718528012802,"STUKS","WK6514 A1 opdek links","wit 680x2015 slg/vpl","FSC Mix 70% CU-COC 800339","DEUR","BINNEN","BINNEN","MODERN","6514","","","Inventory","",true,"OPDEK","",2015,680,38,"",false,true,false,419.01,507,{"$f":"ROUND(AA1574*(1-VLOOKUP(AF1574,Discounts!C:E,3,0)),2)","v":419.01},null,106410,"B055"]
[8718528012956,"Artikel",8718528012956,"STUKS","WK6514 A1 opdek links","wit 780x2015 slg/vpl","FSC Mix 70% CU-COC 800339","DEUR","BINNEN","BINNEN","MODERN","6514","","","Inventory","",true,"OPDEK","",2015,780,38,"",false,true,false,419.01,507,{"$f":"ROUND(AA1584*(1-VLOOKUP(AF1584,Discounts!C:E,3,0)),2)","v":419.01},null,106410,"B055"]
[8718528013052,"Artikel",8718528013052,"STUKS","WK6514 A1 opdek rechts","wit 830x2015 slg/vpl","FSC Mix 70% CU-COC 800339","DEUR","BINNEN","BINNEN","MODERN","6514","","","Inventory","",true,"OPDEK","",2015,830,38,"",false,true,false,419.01,507,{"$f":"ROUND(AA1591*(1-VLOOKUP(AF1591,Discounts!C:E,3,0)),2)","v":419.01},null,106410,"B055"]
[8718528013144,"Artikel",8718528013144,"STUKS","WK6514 A1 opdek links","wit 880x2115 slg/vpl","FSC Mix 70% CU-COC 800339","DEUR","BINNEN","BINNEN","MODERN","6514","","","Inventory","",true,"OPDEK","",2115,880,38,"",false,true,false,419.01,507,{"$f":"ROUND(AA1596*(1-VLOOKUP(AF1596,Discounts!C:E,3,0)),2)","v":419.01},null,106410,"B055"]
[8718528013243,"Artikel",8718528013243,"STUKS","WK6514 XL A1 opdek links","wit 930x2315 slg/vpl","FSC Mix 70% CU-COC 800339","DEUR","BINNEN","BINNEN","MODERN","6514","","","Inventory","",true,"OPDEK","",2315,930,38,"",false,true,false,419.01,507,{"$f":"ROUND(AA1602*(1-VLOOKUP(AF1602,Discounts!C:E,3,0)),2)","v":419.01},null,106410,"B055"]
[8718528102213,"Artikel",8718528102213,"STUKS","WK6514 XL A1 opdek rechts","wit 630x2315 slg/vpl","FSC Mix 70% CU-COC 800339","DEUR","BINNEN","BINNEN","MODERN","6514","","","Inventory","",true,"OPDEK","",2315,630,38,"",false,true,false,419.01,507,{"$f":"ROUND(AA1608*(1-VLOOKUP(AF1608,Discounts!C:E,3,0)),2)","v":419.01},null,106410,"B055"]
[8718528013311,"Artikel",8718528013311,"STUKS","WK6521 A1 opdek rechts","wit 630x2115 slg/vpl","FSC Mix 70% CU-COC 800339","DEUR","BINNEN","BINNEN","MODERN","6521","","","Inventory","",true,"OPDEK","",2115,630,38,"",false,true,false,376.04,455,{"$f":"ROUND(AA1615*(1-VLOOKUP(AF1615,Discounts!C:E,3,0)),2)","v":376.04},null,106430,"B055"]
[8718528013397,"Artikel",8718528013397,"STUKS","WK6521 A1 opdek links","wit 730x2015 slg/vpl","FSC Mix 70% CU-COC 800339","DEUR","BINNEN","BINNEN","MODERN","6521","","","Inventory","",true,"OPDEK","",2015,730,38,"",false,true,false,376.04,455,{"$f":"ROUND(AA1620*(1-VLOOKUP(AF1620,Discounts!C:E,3,0)),2)","v":376.04},null,106430,"B055"]
[8718528013489,"Artikel",8718528013489,"STUKS","WK6521 A1 opdek links","wit 780x2015 slg/vpl","FSC Mix 70% CU-COC 800339","DEUR","BINNEN","BINNEN","MODERN","6521","","","Inventory","",true,"OPDEK","",2015,780,38,"",false,true,false,376.04,455,{"$f":"ROUND(AA1626*(1-VLOOKUP(AF1626,Discounts!C:E,3,0)),2)","v":376.04},null,106430,"B055"]
[8718528013571,"Artikel",8718528013571,"STUKS","WK6521 A1 opdek links","wit 830x2015 slg/vpl","FSC Mix 70% CU-COC 800339","DEUR","BINNEN","BINNEN","MODERN","6521","","","Inventory","",true,"OPDEK","",2015,830,38,"",false,true,false,376.04,455,{"$f":"ROUND(AA1632*(1-VLOOKUP(AF1632,Discounts!C:E,3,0)),2)","v":376.04},null,106430,"B055"]
[8718528013755,"Artikel",8718528013755,"STUKS","WK6521 A1 opdek rechts","wit 930x2115 slg/vpl","FSC Mix 70% CU-COC 800339","DEUR","BINNEN","BINNEN","MODERN","6521","","","Inventory","",true,"OPDEK","",2115,930,38,"",false,true,false,376.04,455,{"$f":"ROUND(AA1643*(1-VLOOKUP(AF1643,Discounts!C:E,3,0)),2)","v":376.04},null,106430,"B055"]
[8718528116128,"Artikel",8718528116128,"STUKS","WK6521  A1 opdek links","wit 930x2015 slg/vpl","FSC Mix 70% CU-COC 800339","DEUR","BINNEN","BINNEN","MODERN","6521","","","Inventory","",true,"OPDEK","",2015,930,38,"",false,true,false,376.04,455,{"$f":"ROUND(AA1647*(1-VLOOKUP(AF1647,Discounts!C:E,3,0)),2)","v":376.04},null,106430,"B055"]
[8718528013809,"Artikel",8718528013809,"STUKS","WK6522 A1 opdek links","wit 780x2015 slg/vpl","FSC Mix 70% CU-COC 800339","DEUR","BINNEN","BINNEN","MODERN","6522","","","Inventory","",true,"OPDEK","",2015,780,38,"",false,true,false,409.92,496,{"$f":"ROUND(AA1654*(1-VLOOKUP(AF1654,Discounts!C:E,3,0)),2)","v":409.92},null,106440,"B055"]
[8718528013878,"Artikel",8718528013878,"STUKS","WK6522 A1 opdek rechts","wit 830x2115 slg/vpl","FSC Mix 70% CU-COC 800339","DEUR","BINNEN","BINNEN","MODERN","6522","","","Inventory","",true,"OPDEK","",2115,830,38,"",false,true,false,409.92,496,{"$f":"ROUND(AA1659*(1-VLOOKUP(AF1659,Discounts!C:E,3,0)),2)","v":409.92},null,106440,"B055"]
[8718528014011,"Artikel",8718528014011,"STUKS","WK6522 A1 opdek rechts","wit 930x2115 slg/vpl","FSC Mix 70% CU-COC 800339","DEUR","BINNEN","BINNEN","MODERN","6522","","","Inventory","",true,"OPDEK","",2115,930,38,"",false,true,false,409.92,496,{"$f":"ROUND(AA1667*(1-VLOOKUP(AF1667,Discounts!C:E,3,0)),2)","v":409.92},null,106440,"B055"]
[8718528116142,"Artikel",8718528116142,"STUKS","WK6522  A1 opdek links","wit 630x2115 slg/vpl","FSC Mix 70% CU-COC 800339","DEUR","BINNEN","BINNEN","MODERN","6522","","","Inventory","",true,"OPDEK","",2115,630,38,"",false,true,false,409.92,496,{"$f":"ROUND(AA1671*(1-VLOOKUP(AF1671,Discounts!C:E,3,0)),2)","v":409.92},null,106440,"B055"]
[8718528116210,"Artikel",8718528116210,"STUKS","WK6522 XL A1 opdek links","wit 730x2315 slg/vpl","FSC Mix 70% CU-COC 800339","DEUR","BINNEN","BINNEN","MODERN","6522","","","Inventory","",true,"OPDEK","",2315,730,38,"",false,true,false,409.92,496,{"$f":"ROUND(AA1678*(1-VLOOKUP(AF1678,Discounts!C:E,3,0)),2)","v":409.92},null,106440,"B055"]
[8718528119327,"Artikel",8718528119327,"STUKS","WK6522  A1 opdek rechts","wit 630x2015 slg/vpl","FSC Mix 70% CU-COC 800339","DEUR","BINNEN","BINNEN","MODERN","6522","","","Inventory","",true,"OPDEK","",2015,630,38,"",false,true,false,409.92,496,{"$f":"ROUND(AA1683*(1-VLOOKUP(AF1683,Discounts!C:E,3,0)),2)","v":409.92},null,106440,"B055"]
[8718528119440,"Artikel",8718528119440,"STUKS","WK6522  A1 opdek rechts","wit 930x2015 slg/vpl","FSC Mix 70% CU-COC 800339","DEUR","BINNEN","BINNEN","MODERN","6522","","","Inventory","",true,"OPDEK","",2015,930,38,"",false,true,false,409.92,496,{"$f":"ROUND(AA1695*(1-VLOOKUP(AF1695,Discounts!C:E,3,0)),2)","v":409.92},null,106440,"B055"]
[8718528014097,"Artikel",8718528014097,"STUKS","WK6531 A1 opdek links","wit 730x2115 slg/vpl","FSC Mix 70% CU-COC 800339","DEUR","BINNEN","BINNEN","MODERN","6531","","","Inventory","",true,"OPDEK","",2115,730,38,"",false,true,false,414.88,502,{"$f":"ROUND(AA1698*(1-VLOOKUP(AF1698,Discounts!C:E,3,0)),2)","v":414.88},null,106450,"B055"]
[8718528014219,"Artikel",8718528014219,"STUKS","WK6531 XL A1 opdek links","wit 780x2315 slg/vpl","FSC Mix 70% CU-COC 800339","DEUR","BINNEN","BINNEN","MODERN","6531","","","Inventory","",true,"OPDEK","",2315,780,38,"",false,true,false,414.88,502,{"$f":"ROUND(AA1706*(1-VLOOKUP(AF1706,Discounts!C:E,3,0)),2)","v":414.88},null,106450,"B055"]
[8718528014271,"Artikel",8718528014271,"STUKS","WK6531 A1 opdek links","wit 830x2115 slg/vpl","FSC Mix 70% CU-COC 800339","DEUR","BINNEN","BINNEN","MODERN","6531","","","Inventory","",true,"OPDEK","",2115,830,38,"",false,true,false,414.88,502,{"$f":"ROUND(AA1710*(1-VLOOKUP(AF1710,Discounts!C:E,3,0)),2)","v":414.88},null,106450,"B055"]
[8718528014387,"Artikel",8718528014387,"STUKS","WK6531 XL A1 opdek rechts","wit 880x2315 slg/vpl","FSC Mix 70% CU-COC 800339","DEUR","BINNEN","BINNEN","MODERN","6531","","","Inventory","",true,"OPDEK","",2315,880,38,"",false,true,false,414.88,502,{"$f":"ROUND(AA1717*(1-VLOOKUP(AF1717,Discounts!C:E,3,0)),2)","v":414.88},null,106450,"B055"]
[8718528056523,"Artikel",8718528056523,"STUKS","WK6531 A1 opdek links","wit 630x2015 slg/vpl","FSC Mix 70% CU-COC 800339","DEUR","BINNEN","BINNEN","MODERN","6531","","","Inventory","",true,"OPDEK","",2015,630,38,"",false,true,false,414.88,502,{"$f":"ROUND(AA1722*(1-VLOOKUP(AF1722,Discounts!C:E,3,0)),2)","v":414.88},null,106450,"B055"]
[8718528116265,"Artikel",8718528116265,"STUKS","WK6531 XL A1 opdek links","wit 630x2315 slg/vpl","FSC Mix 70% CU-COC 800339","DEUR","BINNEN","BINNEN","MODERN","6531","","","Inventory","",true,"OPDEK","",2315,630,38,"",false,true,false,414.88,502,{"$f":"ROUND(AA1730*(1-VLOOKUP(AF1730,Discounts!C:E,3,0)),2)","v":414.88},null,106450,"B055"]
[8718528014516,"Artikel",8718528014516,"STUKS","WK6532 A1 opdek rechts","wit 830x2015 slg/vpl","FSC Mix 70% CU-COC 800339","DEUR","BINNEN","BINNEN","MODERN","6532","","","Inventory","",true,"OPDEK","",2015,830,38,"",false,true,false,423.97,513,{"$f":"ROUND(AA1741*(1-VLOOKUP(AF1741,Discounts!C:E,3,0)),2)","v":423.97},null,106460,"B055"]
[8718528014615,"Artikel",8718528014615,"STUKS","WK6532 A1 opdek rechts","wit 880x2115 slg/vpl","FSC Mix 70% CU-COC 800339","DEUR","BINNEN","BINNEN","MODERN","6532","","","Inventory","",true,"OPDEK","",2115,880,38,"",false,true,false,423.97,513,{"$f":"ROUND(AA1747*(1-VLOOKUP(AF1747,Discounts!C:E,3,0)),2)","v":423.97},null,106460,"B055"]
[8718528014646,"Artikel",8718528014646,"STUKS","WK6532 XL A1 opdek rechts","wit 880x2315 slg/vpl","FSC Mix 70% CU-COC 800339","DEUR","BINNEN","BINNEN","MODERN","6532","","","Inventory","",true,"OPDEK","",2315,880,38,"",false,true,false,423.97,513,{"$f":"ROUND(AA1749*(1-VLOOKUP(AF1749,Discounts!C:E,3,0)),2)","v":423.97},null,106460,"B055"]
[8718528116340,"Artikel",8718528116340,"STUKS","WK6532  A1 opdek links","wit 680x2115 slg/vpl","FSC Mix 70% CU-COC 800339","DEUR","BINNEN","BINNEN","MODERN","6532","","","Inventory","",true,"OPDEK","",2115,680,38,"",false,true,false,423.97,513,{"$f":"ROUND(AA1758*(1-VLOOKUP(AF1758,Discounts!C:E,3,0)),2)","v":423.97},null,106460,"B055"]
[8718528116371,"Artikel",8718528116371,"STUKS","WK6532  A1 opdek links","wit 730x2115 slg/vpl","FSC Mix 70% CU-COC 800339","DEUR","BINNEN","BINNEN","MODERN","6532","","","Inventory","",true,"OPDEK","",2115,730,38,"",false,true,false,423.97,513,{"$f":"ROUND(AA1761*(1-VLOOKUP(AF1761,Discounts!C:E,3,0)),2)","v":423.97},null,106460,"B055"]
[8718528119518,"Artikel",8718528119518,"STUKS","WK6532 XL A1 opdek rechts","wit 630x2315 slg/vpl","FSC Mix 70% CU-COC 800339","DEUR","BINNEN","BINNEN","MODERN","6532","","","Inventory","",true,"OPDEK","",2315,630,38,"",false,true,false,423.97,513,{"$f":"ROUND(AA1769*(1-VLOOKUP(AF1769,Discounts!C:E,3,0)),2)","v":423.97},null,106460,"B055"]
[8718528016640,"Artikel",8718528016640,"STUKS","WK6533 A1 opdek links","wit 780x2015 slg/vpl","FSC Mix 70% CU-COC 800339","DEUR","BINNEN","BINNEN","MODERN","6533","","","Inventory","",true,"OPDEK","",2015,780,38,"",false,true,false,400.83,485,{"$f":"ROUND(AA1780*(1-VLOOKUP(AF1780,Discounts!C:E,3,0)),2)","v":400.83},null,106470,"B055"]
[8718528016671,"Artikel",8718528016671,"STUKS","WK6533 A1 opdek links","wit 830x2015 slg/vpl","FSC Mix 70% CU-COC 800339","DEUR","BINNEN","BINNEN","MODERN","6533","","","Inventory","",true,"OPDEK","",2015,830,38,"",false,true,false,400.83,485,{"$f":"ROUND(AA1782*(1-VLOOKUP(AF1782,Discounts!C:E,3,0)),2)","v":400.83},null,106470,"B055"]
[8718528016848,"Artikel",8718528016848,"STUKS","WK6533 A1 opdek links","wit 930x2115 slg/vpl","FSC Mix 70% CU-COC 800339","DEUR","BINNEN","BINNEN","MODERN","6533","","","Inventory","",true,"OPDEK","",2115,930,38,"",false,true,false,400.83,485,{"$f":"ROUND(AA1792*(1-VLOOKUP(AF1792,Discounts!C:E,3,0)),2)","v":400.83},null,106470,"B055"]
[8718528116463,"Artikel",8718528116463,"STUKS","WK6533  A1 opdek links","wit 680x2015 slg/vpl","FSC Mix 70% CU-COC 800339","DEUR","BINNEN","BINNEN","MODERN","6533","","","Inventory","",true,"OPDEK","",2015,680,38,"",false,true,false,400.83,485,{"$f":"ROUND(AA1799*(1-VLOOKUP(AF1799,Discounts!C:E,3,0)),2)","v":400.83},null,106470,"B055"]
[8718528116470,"Artikel",8718528116470,"STUKS","WK6533  A1 opdek links","wit 680x2115 slg/vpl","FSC Mix 70% CU-COC 800339","DEUR","BINNEN","BINNEN","MODERN","6533","","","Inventory","",true,"OPDEK","",2115,680,38,"",false,true,false,400.83,485,{"$f":"ROUND(AA1800*(1-VLOOKUP(AF1800,Discounts!C:E,3,0)),2)","v":400.83},null,106470,"B055"]
[8718528119631,"Artikel",8718528119631,"STUKS","WK6533  A1 opdek rechts","wit 630x2115 slg/vpl","FSC Mix 70% CU-COC 800339","DEUR","BINNEN","BINNEN","MODERN","6533","","","Inventory","",true,"OPDEK","",2115,630,38,"",false,true,false,400.83,485,{"$f":"ROUND(AA1810*(1-VLOOKUP(AF1810,Discounts!C:E,3,0)),2)","v":400.83},null,106470,"B055"]
[8718528119723,"Artikel",8718528119723,"STUKS","WK6533 XL A1 opdek rechts","wit 780x2315 slg/vpl","FSC Mix 70% CU-COC 800339","DEUR","BINNEN","BINNEN","MODERN","6533","","","Inventory","",true,"OPDEK","",2315,780,38,"",false,true,false,400.83,485,{"$f":"ROUND(AA1819*(1-VLOOKUP(AF1819,Discounts!C:E,3,0)),2)","v":400.83},null,106470,"B055"]
[8718528119747,"Artikel",8718528119747,"STUKS","WK6533  A1 opdek rechts","wit 930x2015 slg/vpl","FSC Mix 70% CU-COC 800339","DEUR","BINNEN","BINNEN","MODERN","6533","","","Inventory","",true,"OPDEK","",2015,930,38,"",false,true,false,400.83,485,{"$f":"ROUND(AA1821*(1-VLOOKUP(AF1821,Discounts!C:E,3,0)),2)","v":400.83},null,106470,"B055"]
[8718528014868,"Artikel",8718528014868,"STUKS","WK6541 A1 opdek rechts","wit 780x2115 slg/vpl","FSC Mix 70% CU-COC 800339","DEUR","BINNEN","BINNEN","MODERN","6541","","","Inventory","",true,"OPDEK","",2115,780,38,"",false,true,false,453.72,549,{"$f":"ROUND(AA1831*(1-VLOOKUP(AF1831,Discounts!C:E,3,0)),2)","v":453.72},null,106480,"B055"]
[8718528014912,"Artikel",8718528014912,"STUKS","WK6541 A1 opdek links","wit 830x2015 slg/vpl","FSC Mix 70% CU-COC 800339","DEUR","BINNEN","BINNEN","MODERN","6541","","","Inventory","",true,"OPDEK","",2015,830,38,"",false,true,false,453.72,549,{"$f":"ROUND(AA1834*(1-VLOOKUP(AF1834,Discounts!C:E,3,0)),2)","v":453.72},null,106480,"B055"]
[8718528015056,"Artikel",8718528015056,"STUKS","WK6541 XL A1 opdek rechts","wit 880x2315 slg/vpl","FSC Mix 70% CU-COC 800339","DEUR","BINNEN","BINNEN","MODERN","6541","","","Inventory","",true,"OPDEK","",2315,880,38,"",false,true,false,453.72,549,{"$f":"ROUND(AA1843*(1-VLOOKUP(AF1843,Discounts!C:E,3,0)),2)","v":453.72},null,106480,"B055"]
[8718528116593,"Artikel",8718528116593,"STUKS","WK6541  A1 opdek links","wit 680x2015 slg/vpl","FSC Mix 70% CU-COC 800339","DEUR","BINNEN","BINNEN","MODERN","6541","","","Inventory","",true,"OPDEK","",2015,680,38,"",false,true,false,453.72,549,{"$f":"ROUND(AA1851*(1-VLOOKUP(AF1851,Discounts!C:E,3,0)),2)","v":453.72},null,106480,"B055"]
[8718528116630,"Artikel",8718528116630,"STUKS","WK6541  A1 opdek links","wit 930x2015 slg/vpl","FSC Mix 70% CU-COC 800339","DEUR","BINNEN","BINNEN","MODERN","6541","","","Inventory","",true,"OPDEK","",2015,930,38,"",false,true,false,453.72,549,{"$f":"ROUND(AA1855*(1-VLOOKUP(AF1855,Discounts!C:E,3,0)),2)","v":453.72},null,106480,"B055"]
[8718528119815,"Artikel",8718528119815,"STUKS","WK6541  A1 opdek rechts","wit 880x2015 slg/vpl","FSC Mix 70% CU-COC 800339","DEUR","BINNEN","BINNEN","MODERN","6541","","","Inventory","",true,"OPDEK","",2015,880,38,"",false,true,false,453.72,549,{"$f":"ROUND(AA1862*(1-VLOOKUP(AF1862,Discounts!C:E,3,0)),2)","v":453.72},null,106480,"B055"]
[8718528015230,"Artikel",8718528015230,"STUKS","WK6542 XL A1 opdek links","wit 830x2315 slg/vpl","FSC Mix 70% CU-COC 800339","DEUR","BINNEN","BINNEN","MODERN","6542","","","Inventory","",true,"OPDEK","",2315,830,38,"",false,true,false,435.54,527,{"$f":"ROUND(AA1870*(1-VLOOKUP(AF1870,Discounts!C:E,3,0)),2)","v":435.54},null,106490,"B055"]
[8718528015285,"Artikel",8718528015285,"STUKS","WK6542 A1 opdek rechts","wit 880x2115 slg/vpl","FSC Mix 70% CU-COC 800339","DEUR","BINNEN","BINNEN","MODERN","6542","","","Inventory","",true,"OPDEK","",2115,880,38,"",false,true,false,435.54,527,{"$f":"ROUND(AA1873*(1-VLOOKUP(AF1873,Discounts!C:E,3,0)),2)","v":435.54},null,106490,"B055"]
[8718528116661,"Artikel",8718528116661,"STUKS","WK6542 XL A1 opdek links","wit 630x2315 slg/vpl","FSC Mix 70% CU-COC 800339","DEUR","BINNEN","BINNEN","MODERN","6542","","","Inventory","",true,"OPDEK","",2315,630,38,"",false,true,false,435.54,527,{"$f":"ROUND(AA1882*(1-VLOOKUP(AF1882,Discounts!C:E,3,0)),2)","v":435.54},null,106490,"B055"]
[8718528116708,"Artikel",8718528116708,"STUKS","WK6542  A1 opdek links","wit 730x2015 slg/vpl","FSC Mix 70% CU-COC 800339","DEUR","BINNEN","BINNEN","MODERN","6542","","","Inventory","",true,"OPDEK","",2015,730,38,"",false,true,false,435.54,527,{"$f":"ROUND(AA1886*(1-VLOOKUP(AF1886,Discounts!C:E,3,0)),2)","v":435.54},null,106490,"B055"]
[8718528119846,"Artikel",8718528119846,"STUKS","WK6542  A1 opdek rechts","wit 630x2115 slg/vpl","FSC Mix 70% CU-COC 800339","DEUR","BINNEN","BINNEN","MODERN","6542","","","Inventory","",true,"OPDEK","",2115,630,38,"",false,true,false,435.54,527,{"$f":"ROUND(AA1894*(1-VLOOKUP(AF1894,Discounts!C:E,3,0)),2)","v":435.54},null,106490,"B055"]
[8718528119938,"Artikel",8718528119938,"STUKS","WK6542 XL A1 opdek rechts","wit 780x2315 slg/vpl","FSC Mix 70% CU-COC 800339","DEUR","BINNEN","BINNEN","MODERN","6542","","","Inventory","",true,"OPDEK","",2315,780,38,"",false,true,false,435.54,527,{"$f":"ROUND(AA1903*(1-VLOOKUP(AF1903,Discounts!C:E,3,0)),2)","v":435.54},null,106490,"B055"]
[8718528015407,"Artikel",8718528015407,"STUKS","WK6551 A1 opdek links","wit 730x2015 slg/vpl","FSC Mix 70% CU-COC 800339","DEUR","BINNEN","BINNEN","MODERN","6551","","","Inventory","",true,"OPDEK","",2015,730,38,"",false,true,false,414.88,502,{"$f":"ROUND(AA1906*(1-VLOOKUP(AF1906,Discounts!C:E,3,0)),2)","v":414.88},null,106500,"B055"]
[8718528015520,"Artikel",8718528015520,"STUKS","WK6551 A1 opdek links","wit 780x2115 slg/vpl","FSC Mix 70% CU-COC 800339","DEUR","BINNEN","BINNEN","MODERN","6551","","","Inventory","",true,"OPDEK","",2115,780,38,"",false,true,false,414.88,502,{"$f":"ROUND(AA1914*(1-VLOOKUP(AF1914,Discounts!C:E,3,0)),2)","v":414.88},null,106500,"B055"]
[8718528015629,"Artikel",8718528015629,"STUKS","WK6551 A1 opdek rechts","wit 830x2115 slg/vpl","FSC Mix 70% CU-COC 800339","DEUR","BINNEN","BINNEN","MODERN","6551","","","Inventory","",true,"OPDEK","",2115,830,38,"",false,true,false,414.88,502,{"$f":"ROUND(AA1921*(1-VLOOKUP(AF1921,Discounts!C:E,3,0)),2)","v":414.88},null,106500,"B055"]
[8718528015698,"Artikel",8718528015698,"STUKS","WK6551 A1 opdek rechts","wit 880x2115 slg/vpl","FSC Mix 70% CU-COC 800339","DEUR","BINNEN","BINNEN","MODERN","6551","","","Inventory","",true,"OPDEK","",2115,880,38,"",false,true,false,414.88,502,{"$f":"ROUND(AA1925*(1-VLOOKUP(AF1925,Discounts!C:E,3,0)),2)","v":414.88},null,106500,"B055"]
[8718528116784,"Artikel",8718528116784,"STUKS","WK6551  A1 opdek links","wit 630x2115 slg/vpl","FSC Mix 70% CU-COC 800339","DEUR","BINNEN","BINNEN","MODERN","6551","","","Inventory","",true,"OPDEK","",2115,630,38,"",false,true,false,414.88,502,{"$f":"ROUND(AA1933*(1-VLOOKUP(AF1933,Discounts!C:E,3,0)),2)","v":414.88},null,106500,"B055"]
[8718528119983,"Artikel",8718528119983,"STUKS","WK6551 XL A1 opdek rechts","wit 630x2315 slg/vpl","FSC Mix 70% CU-COC 800339","DEUR","BINNEN","BINNEN","MODERN","6551","","","Inventory","",true,"OPDEK","",2315,630,38,"",false,true,false,414.88,502,{"$f":"ROUND(AA1942*(1-VLOOKUP(AF1942,Discounts!C:E,3,0)),2)","v":414.88},null,106500,"B055"]
[8718528120019,"Artikel",8718528120019,"STUKS","WK6551 XL A1 opdek rechts","wit 680x2315 slg/vpl","FSC Mix 70% CU-COC 800339","DEUR","BINNEN","BINNEN","MODERN","6551","","","Inventory","",true,"OPDEK","",2315,680,38,"",false,true,false,414.88,502,{"$f":"ROUND(AA1945*(1-VLOOKUP(AF1945,Discounts!C:E,3,0)),2)","v":414.88},null,106500,"B055"]
[8718528015919,"Artikel",8718528015919,"STUKS","WK6552 XL A1 opdek rechts","wit 830x2315 slg/vpl","FSC Mix 70% CU-COC 800339","DEUR","BINNEN","BINNEN","MODERN","6552","","","Inventory","",true,"OPDEK","",2315,830,38,"",false,true,false,386.78,468,{"$f":"ROUND(AA1955*(1-VLOOKUP(AF1955,Discounts!C:E,3,0)),2)","v":386.78},null,106510,"B055"]
[8718528015957,"Artikel",8718528015957,"STUKS","WK6552 A1 opdek rechts","wit 880x2115 slg/vpl","FSC Mix 70% CU-COC 800339","DEUR","BINNEN","BINNEN","MODERN","6552","","","Inventory","",true,"OPDEK","",2115,880,38,"",false,true,false,386.78,468,{"$f":"ROUND(AA1957*(1-VLOOKUP(AF1957,Discounts!C:E,3,0)),2)","v":386.78},null,106510,"B055"]
[8718528116876,"Artikel",8718528116876,"STUKS","WK6552 XL A1 opdek links","wit 630x2315 slg/vpl","FSC Mix 70% CU-COC 800339","DEUR","BINNEN","BINNEN","MODERN","6552","","","Inventory","",true,"OPDEK","",2315,630,38,"",false,true,false,386.78,468,{"$f":"ROUND(AA1966*(1-VLOOKUP(AF1966,Discounts!C:E,3,0)),2)","v":386.78},null,106510,"B055"]
[8718528116937,"Artikel",8718528116937,"STUKS","WK6552 XL A1 opdek links","wit 730x2315 slg/vpl","FSC Mix 70% CU-COC 800339","DEUR","BINNEN","BINNEN","MODERN","6552","","","Inventory","",true,"OPDEK","",2315,730,38,"",false,true,false,386.78,468,{"$f":"ROUND(AA1972*(1-VLOOKUP(AF1972,Discounts!C:E,3,0)),2)","v":386.78},null,106510,"B055"]
[8718528120040,"Artikel",8718528120040,"STUKS","WK6552  A1 opdek rechts","wit 630x2015 slg/vpl","FSC Mix 70% CU-COC 800339","DEUR","BINNEN","BINNEN","MODERN","6552","","","Inventory","",true,"OPDEK","",2015,630,38,"",false,true,false,386.78,468,{"$f":"ROUND(AA1977*(1-VLOOKUP(AF1977,Discounts!C:E,3,0)),2)","v":386.78},null,106510,"B055"]
[8718528120118,"Artikel",8718528120118,"STUKS","WK6552  A1 opdek rechts","wit 730x2115 slg/vpl","FSC Mix 70% CU-COC 800339","DEUR","BINNEN","BINNEN","MODERN","6552","","","Inventory","",true,"OPDEK","",2115,730,38,"",false,true,false,386.78,468,{"$f":"ROUND(AA1984*(1-VLOOKUP(AF1984,Discounts!C:E,3,0)),2)","v":386.78},null,106510,"B055"]
[8718528016183,"Artikel",8718528016183,"STUKS","WK6562 A1 opdek links","wit 830x2115 slg/vpl","FSC Mix 70% CU-COC 800339","DEUR","BINNEN","BINNEN","MODERN","6562","","","Inventory","",true,"OPDEK","",2115,830,38,"",false,true,false,433.89,525,{"$f":"ROUND(AA1994*(1-VLOOKUP(AF1994,Discounts!C:E,3,0)),2)","v":433.89},null,106520,"B055"]
[8718528016213,"Artikel",8718528016213,"STUKS","WK6562 XL A1 opdek links","wit 830x2315 slg/vpl","FSC Mix 70% CU-COC 800339","DEUR","BINNEN","BINNEN","MODERN","6562","","","Inventory","",true,"OPDEK","",2315,830,38,"",false,true,false,433.89,525,{"$f":"ROUND(AA1996*(1-VLOOKUP(AF1996,Discounts!C:E,3,0)),2)","v":433.89},null,106520,"B055"]
[8718528116999,"Artikel",8718528116999,"STUKS","WK6562  A1 opdek links","wit 630x2115 slg/vpl","FSC Mix 70% CU-COC 800339","DEUR","BINNEN","BINNEN","MODERN","6562","","","Inventory","",true,"OPDEK","",2115,630,38,"",false,true,false,433.89,525,{"$f":"ROUND(AA2007*(1-VLOOKUP(AF2007,Discounts!C:E,3,0)),2)","v":433.89},null,106520,"B055"]
[8718528117002,"Artikel",8718528117002,"STUKS","WK6562 XL A1 opdek links","wit 630x2315 slg/vpl","FSC Mix 70% CU-COC 800339","DEUR","BINNEN","BINNEN","MODERN","6562","","","Inventory","",true,"OPDEK","",2315,630,38,"",false,true,false,433.89,525,{"$f":"ROUND(AA2008*(1-VLOOKUP(AF2008,Discounts!C:E,3,0)),2)","v":433.89},null,106520,"B055"]
[8718528117101,"Artikel",8718528117101,"STUKS","WK6562  A1 opdek links","wit 930x2015 slg/vpl","FSC Mix 70% CU-COC 800339","DEUR","BINNEN","BINNEN","MODERN","6562","","","Inventory","",true,"OPDEK","",2015,930,38,"",false,true,false,433.89,525,{"$f":"ROUND(AA2018*(1-VLOOKUP(AF2018,Discounts!C:E,3,0)),2)","v":433.89},null,106520,"B055"]
[8718528120217,"Artikel",8718528120217,"STUKS","WK6562  A1 opdek rechts","wit 680x2115 slg/vpl","FSC Mix 70% CU-COC 800339","DEUR","BINNEN","BINNEN","MODERN","6562","","","Inventory","",true,"OPDEK","",2115,680,38,"",false,true,false,433.89,525,{"$f":"ROUND(AA2023*(1-VLOOKUP(AF2023,Discounts!C:E,3,0)),2)","v":433.89},null,106520,"B055"]
[8718528120279,"Artikel",8718528120279,"STUKS","WK6562 XL A1 opdek rechts","wit 780x2315 slg/vpl","FSC Mix 70% CU-COC 800339","DEUR","BINNEN","BINNEN","MODERN","6562","","","Inventory","",true,"OPDEK","",2315,780,38,"",false,true,false,433.89,525,{"$f":"ROUND(AA2029*(1-VLOOKUP(AF2029,Discounts!C:E,3,0)),2)","v":433.89},null,106520,"B055"]
[8718528016947,"Artikel",8718528016947,"STUKS","WK6571 A1 opdek rechts","wit 730x2115 slg/vpl","FSC Mix 70% CU-COC 800339","DEUR","BINNEN","BINNEN","MODERN","6571","","","Inventory","",true,"OPDEK","",2115,730,38,"",false,true,false,387.61,469,{"$f":"ROUND(AA2035*(1-VLOOKUP(AF2035,Discounts!C:E,3,0)),2)","v":387.61},null,106530,"B055"]
[8718528017111,"Artikel",8718528017111,"STUKS","WK6571 A1 opdek links","wit 830x2115 slg/vpl","FSC Mix 70% CU-COC 800339","DEUR","BINNEN","BINNEN","MODERN","6571","","","Inventory","",true,"OPDEK","",2115,830,38,"",false,true,false,387.61,469,{"$f":"ROUND(AA2046*(1-VLOOKUP(AF2046,Discounts!C:E,3,0)),2)","v":387.61},null,106530,"B055"]
[8718528017128,"Artikel",8718528017128,"STUKS","WK6571 A1 opdek rechts","wit 830x2115 slg/vpl","FSC Mix 70% CU-COC 800339","DEUR","BINNEN","BINNEN","MODERN","6571","","","Inventory","",true,"OPDEK","",2115,830,38,"",false,true,false,387.61,469,{"$f":"ROUND(AA2047*(1-VLOOKUP(AF2047,Discounts!C:E,3,0)),2)","v":387.61},null,106530,"B055"]
[8718528117125,"Artikel",8718528117125,"STUKS","WK6571  A1 opdek links","wit 630x2115 slg/vpl","FSC Mix 70% CU-COC 800339","DEUR","BINNEN","BINNEN","MODERN","6571","","","Inventory","",true,"OPDEK","",2115,630,38,"",false,true,false,387.61,469,{"$f":"ROUND(AA2059*(1-VLOOKUP(AF2059,Discounts!C:E,3,0)),2)","v":387.61},null,106530,"B055"]
[8718528120309,"Artikel",8718528120309,"STUKS","WK6571  A1 opdek rechts","wit 630x2015 slg/vpl","FSC Mix 70% CU-COC 800339","DEUR","BINNEN","BINNEN","MODERN","6571","","","Inventory","",true,"OPDEK","",2015,630,38,"",false,true,false,387.61,469,{"$f":"ROUND(AA2066*(1-VLOOKUP(AF2066,Discounts!C:E,3,0)),2)","v":387.61},null,106530,"B055"]
[8718528120347,"Artikel",8718528120347,"STUKS","WK6571  A1 opdek rechts","wit 680x2115 slg/vpl","FSC Mix 70% CU-COC 800339","DEUR","BINNEN","BINNEN","MODERN","6571","","","Inventory","",true,"OPDEK","",2115,680,38,"",false,true,false,387.61,469,{"$f":"ROUND(AA2070*(1-VLOOKUP(AF2070,Discounts!C:E,3,0)),2)","v":387.61},null,106530,"B055"]
[8718528017371,"Artikel",8718528017371,"STUKS","WK6572 A opdek links","wit 830x2115 slg/vpl","FSC Mix 70% CU-COC 800339","DEUR","BINNEN","BINNEN","MODERN","6572","","","Inventory","",true,"OPDEK","",2115,830,38,"",false,true,false,348.76,422,{"$f":"ROUND(AA2078*(1-VLOOKUP(AF2078,Discounts!C:E,3,0)),2)","v":348.76},null,106540,"B055"]
[8718528017418,"Artikel",8718528017418,"STUKS","WK6572 XL A opdek rechts","wit 830x2315 slg/vpl","FSC Mix 70% CU-COC 800339","DEUR","BINNEN","BINNEN","MODERN","6572","","","Inventory","",true,"OPDEK","",2315,830,38,"",false,true,false,348.76,422,{"$f":"ROUND(AA2081*(1-VLOOKUP(AF2081,Discounts!C:E,3,0)),2)","v":348.76},null,106540,"B055"]
[8718528017517,"Artikel",8718528017517,"STUKS","WK6572 A opdek links","wit 930x2115 slg/vpl","FSC Mix 70% CU-COC 800339","DEUR","BINNEN","BINNEN","MODERN","6572","","","Inventory","",true,"OPDEK","",2115,930,38,"",false,true,false,348.76,422,{"$f":"ROUND(AA2086*(1-VLOOKUP(AF2086,Discounts!C:E,3,0)),2)","v":348.76},null,106540,"B055"]
[8718528117279,"Artikel",8718528117279,"STUKS","WK6572 XL A opdek links","wit 730x2315 slg/vpl","FSC Mix 70% CU-COC 800339","DEUR","BINNEN","BINNEN","MODERN","6572","","","Inventory","",true,"OPDEK","",2315,730,38,"",false,true,false,348.76,422,{"$f":"ROUND(AA2098*(1-VLOOKUP(AF2098,Discounts!C:E,3,0)),2)","v":348.76},null,106540,"B055"]
[8718528120408,"Artikel",8718528120408,"STUKS","WK6572 XL A opdek rechts","wit 630x2315 slg/vpl","FSC Mix 70% CU-COC 800339","DEUR","BINNEN","BINNEN","MODERN","6572","","","Inventory","",true,"OPDEK","",2315,630,38,"",false,true,false,348.76,422,{"$f":"ROUND(AA2105*(1-VLOOKUP(AF2105,Discounts!C:E,3,0)),2)","v":348.76},null,106540,"B055"]
[8718528120460,"Artikel",8718528120460,"STUKS","WK6572 XL A opdek rechts","wit 730x2315 slg/vpl","FSC Mix 70% CU-COC 800339","DEUR","BINNEN","BINNEN","MODERN","6572","","","Inventory","",true,"OPDEK","",2315,730,38,"",false,true,false,348.76,422,{"$f":"ROUND(AA2111*(1-VLOOKUP(AF2111,Discounts!C:E,3,0)),2)","v":348.76},null,106540,"B055"]
[8718528054499,"Artikel",8718528054499,"STUKS","WK6501 C3 opdek rechts","wit 830x2015 slg/vpl","FSC Mix 70% CU-COC 800339","DEUR","BINNEN","BINNEN","MODERN","6501","","","Inventory","",true,"OPDEK","",2015,830,38,"",false,true,false,457.85,554,{"$f":"ROUND(AA2117*(1-VLOOKUP(AF2117,Discounts!C:E,3,0)),2)","v":457.85},null,106550,"B055"]
[8718528054581,"Artikel",8718528054581,"STUKS","WK6501 C3 opdek links","wit 880x2115 slg/vpl","FSC Mix 70% CU-COC 800339","DEUR","BINNEN","BINNEN","MODERN","6501","","","Inventory","",true,"OPDEK","",2115,880,38,"",false,true,false,457.85,554,{"$f":"ROUND(AA2122*(1-VLOOKUP(AF2122,Discounts!C:E,3,0)),2)","v":457.85},null,106550,"B055"]
[8718528054697,"Artikel",8718528054697,"STUKS","WK6501 XL C3 opdek rechts","wit 930x2315 slg/vpl","FSC Mix 70% CU-COC 800339","DEUR","BINNEN","BINNEN","MODERN","6501","","","Inventory","",true,"OPDEK","",2315,930,38,"",false,true,false,457.85,554,{"$f":"ROUND(AA2129*(1-VLOOKUP(AF2129,Discounts!C:E,3,0)),2)","v":457.85},null,106550,"B055"]
[8718528062173,"Artikel",8718528062173,"STUKS","WK6501 C3 opdek rechts","wit 730x2115 slg/vpl","FSC Mix 70% CU-COC 800339","DEUR","BINNEN","BINNEN","MODERN","6501","","","Inventory","",true,"OPDEK","",2115,730,38,"",false,true,false,457.85,554,{"$f":"ROUND(AA2133*(1-VLOOKUP(AF2133,Discounts!C:E,3,0)),2)","v":457.85},null,106550,"B055"]
[8718528121160,"Artikel",8718528121160,"STUKS","WK6501  C3 opdek rechts","wit 880x2015 slg/vpl","FSC Mix 70% CU-COC 800339","DEUR","BINNEN","BINNEN","MODERN","6501","","","Inventory","",true,"OPDEK","",2015,880,38,"",false,true,false,457.85,554,{"$f":"ROUND(AA2144*(1-VLOOKUP(AF2144,Discounts!C:E,3,0)),2)","v":457.85},null,106550,"B055"]
[8718528102299,"Artikel",8718528102299,"STUKS","WK6501 C3 opdek rechts","wit 680x2115 slg/vpl","FSC Mix 70% CU-COC 800339","DEUR","BINNEN","BINNEN","MODERN","6501","","","Inventory","",true,"OPDEK","",2115,680,38,"",false,true,false,457.85,554,{"$f":"ROUND(AA2150*(1-VLOOKUP(AF2150,Discounts!C:E,3,0)),2)","v":457.85},null,106550,"B055"]
[8718528102411,"Artikel",8718528102411,"STUKS","WK6501 C3 opdek links","wit 680x2115 slg/vpl","FSC Mix 70% CU-COC 800339","DEUR","BINNEN","BINNEN","MODERN","6501","","","Inventory","",true,"OPDEK","",2115,680,38,"",false,true,false,457.85,554,{"$f":"ROUND(AA2156*(1-VLOOKUP(AF2156,Discounts!C:E,3,0)),2)","v":457.85},null,106550,"B055"]
[8718528055526,"Artikel",8718528055526,"STUKS","WK6502 XL C opdek links","wit 880x2315 slg/vpl","incl.gem. mat glas+held.bies, FSC Mix 70% CU-COC 800339","DEUR","BINNEN","BINNEN","MODERN","6502","MAT + HELDERE BANEN","","Inventory","",true,"OPDEK","",2315,880,38,"",false,true,false,831.41,1006,{"$f":"ROUND(AA2163*(1-VLOOKUP(AF2163,Discounts!C:E,3,0)),2)","v":831.41},null,106560,"B055"]
[8718528056783,"Artikel",8718528056783,"STUKS","WK6502 C opdek rechts","wit  830x2015 slg/vpl","incl. gemonteerd mat gelaagd glas, FSC Mix 70% CU-COC 800339","DEUR","BINNEN","BINNEN","MODERN","6502","MAT GELAAGD","","Inventory","",true,"OPDEK","",2015,830,38,"",false,true,false,667.77,808,{"$f":"ROUND(AA2168*(1-VLOOKUP(AF2168,Discounts!C:E,3,0)),2)","v":667.77},null,106570,"B055"]
[8718528054710,"Artikel",8718528054710,"STUKS","WK6503 C3 opdek links","wit 830x2015 slg/vpl","FSC Mix 70% CU-COC 800339","DEUR","BINNEN","BINNEN","MODERN","6503","","","Inventory","",true,"OPDEK","",2015,830,38,"",false,true,false,506.61,613,{"$f":"ROUND(AA2174*(1-VLOOKUP(AF2174,Discounts!C:E,3,0)),2)","v":506.61},null,106580,"B055"]
[8718528054819,"Artikel",8718528054819,"STUKS","WK6503 C3 opdek links","wit 880x2115 slg/vpl","FSC Mix 70% CU-COC 800339","DEUR","BINNEN","BINNEN","MODERN","6503","","","Inventory","",true,"OPDEK","",2115,880,38,"",false,true,false,506.61,613,{"$f":"ROUND(AA2180*(1-VLOOKUP(AF2180,Discounts!C:E,3,0)),2)","v":506.61},null,106580,"B055"]
[8718528054895,"Artikel",8718528054895,"STUKS","WK6503 C3 opdek rechts","wit 930x2115 slg/vpl","FSC Mix 70% CU-COC 800339","DEUR","BINNEN","BINNEN","MODERN","6503","","","Inventory","",true,"OPDEK","",2115,930,38,"",false,true,false,506.61,613,{"$f":"ROUND(AA2185*(1-VLOOKUP(AF2185,Discounts!C:E,3,0)),2)","v":506.61},null,106580,"B055"]
[8718528118061,"Artikel",8718528118061,"STUKS","WK6503 C3 opdek links","wit 930x2015 slg/vpl","FSC Mix 70% CU-COC 800339","DEUR","BINNEN","BINNEN","MODERN","6503","","","Inventory","",true,"OPDEK","",2015,930,38,"",false,true,false,506.61,613,{"$f":"ROUND(AA2195*(1-VLOOKUP(AF2195,Discounts!C:E,3,0)),2)","v":506.61},null,106580,"B055"]
[8718528121245,"Artikel",8718528121245,"STUKS","WK6503  C3 opdek rechts","wit 880x2015 slg/vpl","FSC Mix 70% CU-COC 800339","DEUR","BINNEN","BINNEN","MODERN","6503","","","Inventory","",true,"OPDEK","",2015,880,38,"",false,true,false,506.61,613,{"$f":"ROUND(AA2202*(1-VLOOKUP(AF2202,Discounts!C:E,3,0)),2)","v":506.61},null,106580,"B055"]
[8718528056202,"Artikel",8718528056202,"STUKS","WK65011 C opdek rechts","wit 830x2115 slg/vpl","incl. gemonteerd mat gelaagd glas, FSC Mix 70% CU-COC 800339","DEUR","BINNEN","BINNEN","MODERN","65011","MAT GELAAGD","","Inventory","",true,"OPDEK","",2115,830,38,"",false,true,false,828.93,1003,{"$f":"ROUND(AA2207*(1-VLOOKUP(AF2207,Discounts!C:E,3,0)),2)","v":828.93},null,106600,"B055"]
[8718528056462,"Artikel",8718528056462,"STUKS","WK65011 XL C opdek links","wit 930x2315 slg/vpl","incl. gemonteerd mat gelaagd glas, FSC Mix 70% CU-COC 800339","DEUR","BINNEN","BINNEN","MODERN","65011","MAT GELAAGD","","Inventory","",true,"OPDEK","",2315,930,38,"",false,true,false,828.93,1003,{"$f":"ROUND(AA2213*(1-VLOOKUP(AF2213,Discounts!C:E,3,0)),2)","v":828.93},null,106600,"B055"]
[8718528121443,"Artikel",8718528121443,"STUKS","WK65011 C opdek rechts","wit 880x2015 slg/vpl","incl. gemonteerd mat gelaagd glas, FSC Mix 70% CU-COC 800339","DEUR","BINNEN","BINNEN","MODERN","65011","MAT GELAAGD","","Inventory","",true,"OPDEK","",2015,880,38,"",false,true,false,828.93,1003,{"$f":"ROUND(AA2219*(1-VLOOKUP(AF2219,Discounts!C:E,3,0)),2)","v":828.93},null,106600,"B055"]
[8718528126059,"Artikel",8718528126059,"STUKS","Glas-in-lood model 6533/6582-3","730 x 2115 1 ruit","","GLAS","","BINNEN","MODERN","6533","GLAS-IN-LOOD 3","6533/6582","Inventory","",false,"","",0,0,0,"",false,false,false,188.43,228,{"$f":"ROUND(AA2226*(1-VLOOKUP(AF2226,Discounts!C:E,3,0)),2)","v":188.43},null,107370,"P107"]
[8718528126134,"Artikel",8718528126134,"STUKS","Glas-in-lood model 6533/6582-3","780 x 2315 1 ruit","","GLAS","","BINNEN","MODERN","6533","GLAS-IN-LOOD 3","6533/6582","Inventory","",false,"","",0,0,0,"",false,false,false,188.43,228,{"$f":"ROUND(AA2231*(1-VLOOKUP(AF2231,Discounts!C:E,3,0)),2)","v":188.43},null,107370,"P107"]
[8718528057186,"Artikel",8718528057186,"STUKS","Glas-in-lood model 6533/6582-3","880x2115 1 ruit,d=6 mm","","GLAS","","BINNEN","MODERN","6533","GLAS-IN-LOOD 3","6533/6582","Inventory","",false,"","",0,0,0,"",false,false,false,188.43,228,{"$f":"ROUND(AA2237*(1-VLOOKUP(AF2237,Discounts!C:E,3,0)),2)","v":188.43},null,107370,"P107"]
[8718528223574,"Artikel",8718528223574,"SET","Set schuifdeurkommen drip","RVS ovaal","","HENS","BESLAG","","","","SCHUIFDEURKOM","","Inventory","",false,"","",0,0,0,"RVS",false,false,false,32.23,39,{"$f":"ROUND(AA2246*(1-VLOOKUP(AF2246,Discounts!C:E,3,0)),2)","v":32.23},null,108140,"O110"]
[8718528058251,"Artikel",8718528058251,"STUKS","Krukstel Wind PVD Bronze","","","HENS","BESLAG","","","","KRUKSTEL LIFETIME","WIND","Inventory","",false,"","",0,0,0,"",false,false,false,141.32,171,{"$f":"ROUND(AA2254*(1-VLOOKUP(AF2254,Discounts!C:E,3,0)),2)","v":141.32},null,108710,"O110"]
[8718528058459,"Artikel",8718528058459,"STUKS","Toiletgarnituur PVD Nickel","rond","","HENS","BESLAG","","","","TOILETGARNITUUR","ROND","Inventory","",false,"","",0,0,0,"",false,false,false,100,121,{"$f":"ROUND(AA2258*(1-VLOOKUP(AF2258,Discounts!C:E,3,0)),2)","v":100},null,108810,"O110"]
[8718528077641,"Artikel",8718528077641,"SET","Set cilinderrozetten PVD Gold","rond","","HENS","BESLAG","","","","CILINDERROZET","ROND","Inventory","",false,"","",0,0,0,"",false,false,false,30.58,37,{"$f":"ROUND(AA2265*(1-VLOOKUP(AF2265,Discounts!C:E,3,0)),2)","v":30.58},null,109000,"O110"]
[8718528077771,"Artikel",8718528077771,"SET","Set sleutelrozetten PVD Chrome","rond","","HENS","BESLAG","","","","SLEUTELROZET","ROND","Inventory","",false,"","",0,0,0,"",false,false,false,30.58,37,{"$f":"ROUND(AA2270*(1-VLOOKUP(AF2270,Discounts!C:E,3,0)),2)","v":30.58},null,109130,"O110"]
[8718528083215,"Artikel",8718528083215,"STUKS","WK6811 D2 stomp","wit 730x2115 slg/vpl","FSC Mix 70% CU-COC 800339","DEUR","BINNEN","BINNEN","MODERN","6811","","","Inventory","",true,"STOMP","",2115,730,38,"",false,false,false,385.12,466,{"$f":"ROUND(AA2278*(1-VLOOKUP(AF2278,Discounts!C:E,3,0)),2)","v":385.12},null,109340,"B055"]
[8718528083338,"Artikel",8718528083338,"STUKS","WK6811 D2 stomp","wit 930x2115 slg/vpl","FSC Mix 70% CU-COC 800339","DEUR","BINNEN","BINNEN","MODERN","6811","","","Inventory","",true,"STOMP","",2115,930,38,"",false,false,false,385.12,466,{"$f":"ROUND(AA2282*(1-VLOOKUP(AF2282,Discounts!C:E,3,0)),2)","v":385.12},null,109340,"B055"]
[8718528101605,"Artikel",8718528101605,"STUKS","WK6811 D2 stomp","wit 630x2115 slg/vpl","FSC Mix 70% CU-COC 800339","DEUR","BINNEN","BINNEN","MODERN","6811","","","Inventory","",true,"STOMP","",2115,630,38,"",false,false,false,385.12,466,{"$f":"ROUND(AA2289*(1-VLOOKUP(AF2289,Discounts!C:E,3,0)),2)","v":385.12},null,109340,"B055"]
[8718528101650,"Artikel",8718528101650,"STUKS","WK6811 XL D2 stomp","wit 730x2315 slg/vpl","FSC Mix 70% CU-COC 800339","DEUR","BINNEN","BINNEN","MODERN","6811","","","Inventory","",true,"STOMP","",2315,730,38,"",false,false,false,385.12,466,{"$f":"ROUND(AA2294*(1-VLOOKUP(AF2294,Discounts!C:E,3,0)),2)","v":385.12},null,109340,"B055"]
[8718528083284,"Artikel",8718528083284,"STUKS","WK6811 D2 opdek links","wit 830x2115 slg/vpl","FSC Mix 70% CU-COC 800339","DEUR","BINNEN","BINNEN","MODERN","6811","","","Inventory","",true,"OPDEK","",2115,830,38,"",false,true,false,397.52,481,{"$f":"ROUND(AA2306*(1-VLOOKUP(AF2306,Discounts!C:E,3,0)),2)","v":397.52},null,109350,"B055"]
[8718528083321,"Artikel",8718528083321,"STUKS","WK6811 D2 opdek rechts","wit 880x2115 slg/vpl","FSC Mix 70% CU-COC 800339","DEUR","BINNEN","BINNEN","MODERN","6811","","","Inventory","",true,"OPDEK","",2115,880,38,"",false,true,false,397.52,481,{"$f":"ROUND(AA2309*(1-VLOOKUP(AF2309,Discounts!C:E,3,0)),2)","v":397.52},null,109350,"B055"]
[8718528083444,"Artikel",8718528083444,"STUKS","WK6811 XL D2 opdek rechts","wit 930x2315 slg/vpl","FSC Mix 70% CU-COC 800339","DEUR","BINNEN","BINNEN","MODERN","6811","","","Inventory","",true,"OPDEK","",2315,930,38,"",false,true,false,397.52,481,{"$f":"ROUND(AA2317*(1-VLOOKUP(AF2317,Discounts!C:E,3,0)),2)","v":397.52},null,109350,"B055"]
[8718528118337,"Artikel",8718528118337,"STUKS","WK6811  D2 opdek links","wit 680x2015 slg/vpl","FSC Mix 70% CU-COC 800339","DEUR","BINNEN","BINNEN","MODERN","6811","","","Inventory","",true,"OPDEK","",2015,680,38,"",false,true,false,397.52,481,{"$f":"ROUND(AA2321*(1-VLOOKUP(AF2321,Discounts!C:E,3,0)),2)","v":397.52},null,109350,"B055"]
[8718528121511,"Artikel",8718528121511,"STUKS","WK6811 XL D2 opdek rechts","wit 630x2315 slg/vpl","FSC Mix 70% CU-COC 800339","DEUR","BINNEN","BINNEN","MODERN","6811","","","Inventory","",true,"OPDEK","",2315,630,38,"",false,true,false,397.52,481,{"$f":"ROUND(AA2330*(1-VLOOKUP(AF2330,Discounts!C:E,3,0)),2)","v":397.52},null,109350,"B055"]
[8718528121542,"Artikel",8718528121542,"STUKS","WK6811 XL D2 opdek rechts","wit 680x2315 slg/vpl","FSC Mix 70% CU-COC 800339","DEUR","BINNEN","BINNEN","MODERN","6811","","","Inventory","",true,"OPDEK","",2315,680,38,"",false,true,false,397.52,481,{"$f":"ROUND(AA2333*(1-VLOOKUP(AF2333,Discounts!C:E,3,0)),2)","v":397.52},null,109350,"B055"]
[8718528083567,"Artikel",8718528083567,"STUKS","WK6821 D2 stomp","wit 730x2115 slg/vpl","FSC Mix 70% CU-COC 800339","DEUR","BINNEN","BINNEN","MODERN","6821","","","Inventory","",true,"STOMP","",2115,730,38,"",false,false,false,424.79,514,{"$f":"ROUND(AA2341*(1-VLOOKUP(AF2341,Discounts!C:E,3,0)),2)","v":424.79},null,109400,"B055"]
[8718528101681,"Artikel",8718528101681,"STUKS","WK6821 D2 stomp","wit 630x2115 slg/vpl","FSC Mix 70% CU-COC 800339","DEUR","BINNEN","BINNEN","MODERN","6821","","","Inventory","",true,"STOMP","",2115,630,38,"",false,false,false,424.79,514,{"$f":"ROUND(AA2352*(1-VLOOKUP(AF2352,Discounts!C:E,3,0)),2)","v":424.79},null,109400,"B055"]
[8718528101742,"Artikel",8718528101742,"STUKS","WK6821 XL D2 stomp","wit 780x2315 slg/vpl","FSC Mix 70% CU-COC 800339","DEUR","BINNEN","BINNEN","MODERN","6821","","","Inventory","",true,"STOMP","",2315,780,38,"",false,false,false,424.79,514,{"$f":"ROUND(AA2358*(1-VLOOKUP(AF2358,Discounts!C:E,3,0)),2)","v":424.79},null,109400,"B055"]
[8718528083499,"Artikel",8718528083499,"STUKS","WK6821 D2 opdek rechts","wit 730x2015 slg/vpl","FSC Mix 70% CU-COC 800339","DEUR","BINNEN","BINNEN","MODERN","6821","","","Inventory","",true,"OPDEK","",2015,730,38,"",false,true,false,437.19,529,{"$f":"ROUND(AA2360*(1-VLOOKUP(AF2360,Discounts!C:E,3,0)),2)","v":437.19},null,109410,"B055"]
[8718528083635,"Artikel",8718528083635,"STUKS","WK6821 D2 opdek links","wit 830x2115 slg/vpl","FSC Mix 70% CU-COC 800339","DEUR","BINNEN","BINNEN","MODERN","6821","","","Inventory","",true,"OPDEK","",2115,830,38,"",false,true,false,437.19,529,{"$f":"ROUND(AA2369*(1-VLOOKUP(AF2369,Discounts!C:E,3,0)),2)","v":437.19},null,109410,"B055"]
[8718528083673,"Artikel",8718528083673,"STUKS","WK6821 D2 opdek rechts","wit 880x2115 slg/vpl","FSC Mix 70% CU-COC 800339","DEUR","BINNEN","BINNEN","MODERN","6821","","","Inventory","",true,"OPDEK","",2115,880,38,"",false,true,false,437.19,529,{"$f":"ROUND(AA2372*(1-VLOOKUP(AF2372,Discounts!C:E,3,0)),2)","v":437.19},null,109410,"B055"]
[8718528118412,"Artikel",8718528118412,"STUKS","WK6821  D2 opdek links","wit 630x2115 slg/vpl","FSC Mix 70% CU-COC 800339","DEUR","BINNEN","BINNEN","MODERN","6821","","","Inventory","",true,"OPDEK","",2115,630,38,"",false,true,false,437.19,529,{"$f":"ROUND(AA2382*(1-VLOOKUP(AF2382,Discounts!C:E,3,0)),2)","v":437.19},null,109410,"B055"]
[8718528121597,"Artikel",8718528121597,"STUKS","WK6821 D2 opdek rechts","wit 630x2015 slg/vpl","FSC Mix 70% CU-COC 800339","DEUR","BINNEN","BINNEN","MODERN","6821","","","Inventory","",true,"OPDEK","",2015,630,38,"",false,true,false,437.19,529,{"$f":"ROUND(AA2391*(1-VLOOKUP(AF2391,Discounts!C:E,3,0)),2)","v":437.19},null,109410,"B055"]
[8718528121610,"Artikel",8718528121610,"STUKS","WK6821 XL D2 opdek rechts","wit 630x2315 slg/vpl","FSC Mix 70% CU-COC 800339","DEUR","BINNEN","BINNEN","MODERN","6821","","","Inventory","",true,"OPDEK","",2315,630,38,"",false,true,false,437.19,529,{"$f":"ROUND(AA2393*(1-VLOOKUP(AF2393,Discounts!C:E,3,0)),2)","v":437.19},null,109410,"B055"]
[8718528084328,"Artikel",8718528084328,"STUKS","WK6852 D2 stomp","wit 830x2115 slg/vpl","FSC Mix 70% CU-COC 800339","DEUR","BINNEN","BINNEN","MODERN","6852","","","Inventory","",true,"STOMP","",2115,830,38,"",false,false,false,432.23,523,{"$f":"ROUND(AA2403*(1-VLOOKUP(AF2403,Discounts!C:E,3,0)),2)","v":432.23},null,109480,"B055"]
[8718528084519,"Artikel",8718528084519,"STUKS","WK6852 D2 stomp","wit 930x2015 slg/vpl","FSC Mix 70% CU-COC 800339","DEUR","BINNEN","BINNEN","MODERN","6852","","","Inventory","",true,"STOMP","",2015,930,38,"",false,false,false,432.23,523,{"$f":"ROUND(AA2410*(1-VLOOKUP(AF2410,Discounts!C:E,3,0)),2)","v":432.23},null,109480,"B055"]
[8718528101865,"Artikel",8718528101865,"STUKS","WK6852 D2 stomp","wit 680x2015 slg/vpl","FSC Mix 70% CU-COC 800339","DEUR","BINNEN","BINNEN","MODERN","6852","","","Inventory","",true,"STOMP","",2015,680,38,"",false,false,false,432.23,523,{"$f":"ROUND(AA2411*(1-VLOOKUP(AF2411,Discounts!C:E,3,0)),2)","v":432.23},null,109480,"B055"]
[8718528084588,"Artikel",8718528084588,"STUKS","WK6864 D2 stomp","wit 830x2015 slg/vpl","FSC Mix 70% CU-COC 800339","DEUR","BINNEN","BINNEN","MODERN","6864","","","Inventory","",true,"STOMP","",2015,830,38,"",false,false,false,477.69,578,{"$f":"ROUND(AA2421*(1-VLOOKUP(AF2421,Discounts!C:E,3,0)),2)","v":477.69},null,109560,"B055"]
[8718528084854,"Artikel",8718528084854,"STUKS","WK6864 D2 stomp","wit 880x2015 slg/vpl","FSC Mix 70% CU-COC 800339","DEUR","BINNEN","BINNEN","MODERN","6864","","","Inventory","",true,"STOMP","",2015,880,38,"",false,false,false,477.69,578,{"$f":"ROUND(AA2430*(1-VLOOKUP(AF2430,Discounts!C:E,3,0)),2)","v":477.69},null,109560,"B055"]
[8718528101971,"Artikel",8718528101971,"STUKS","WK6864 D2 stomp","wit 680x2015 slg/vpl","FSC Mix 70% CU-COC 800339","DEUR","BINNEN","BINNEN","MODERN","6864","","","Inventory","",true,"STOMP","",2015,680,38,"",false,false,false,477.69,578,{"$f":"ROUND(AA2432*(1-VLOOKUP(AF2432,Discounts!C:E,3,0)),2)","v":477.69},null,109560,"B055"]
[8718528085110,"Artikel",8718528085110,"STUKS","WK6865 XL D2 stomp","wit 830x2315 slg/vpl","FSC Mix 70% CU-COC 800339","DEUR","BINNEN","BINNEN","MODERN","6865","","","Inventory","",true,"STOMP","",2315,830,38,"",false,false,false,432.23,523,{"$f":"ROUND(AA2442*(1-VLOOKUP(AF2442,Discounts!C:E,3,0)),2)","v":432.23},null,109600,"B055"]
[8718528085202,"Artikel",8718528085202,"STUKS","WK6865 D2 stomp","wit 880x2015 slg/vpl","FSC Mix 70% CU-COC 800339","DEUR","BINNEN","BINNEN","MODERN","6865","","","Inventory","",true,"STOMP","",2015,880,38,"",false,false,false,432.23,523,{"$f":"ROUND(AA2445*(1-VLOOKUP(AF2445,Discounts!C:E,3,0)),2)","v":432.23},null,109600,"B055"]
[8718528157039,"Artikel",8718528157039,"STUKS","WK6865 XL D2 stomp","wit 780x2315 slg/vpl","FSC Mix 70% CU-COC 800339","DEUR","BINNEN","BINNEN","MODERN","6865","","","Inventory","",true,"STOMP","",2315,780,38,"",false,false,false,432.23,523,{"$f":"ROUND(AA2454*(1-VLOOKUP(AF2454,Discounts!C:E,3,0)),2)","v":432.23},null,109600,"B055"]
[8718528086438,"Artikel",8718528086438,"STUKS","WK6504 XL C stomp","wit 930x2315 slg/vpl","incl. gemonteerd blank glas, FSC Mix 70% CU-COC 800339","DEUR","BINNEN","BINNEN","MODERN","6504","BLANK","","Inventory","",true,"STOMP","",2315,930,38,"",false,false,false,686.78,831,{"$f":"ROUND(AA2462*(1-VLOOKUP(AF2462,Discounts!C:E,3,0)),2)","v":686.78},null,109750,"B055"]
[8718528086353,"Artikel",8718528086353,"STUKS","WK6504 C opdek rechts","wit 880x2115 slg/vpl","incl. gemonteerd blank glas, FSC Mix 70% CU-COC 800339","DEUR","BINNEN","BINNEN","MODERN","6504","BLANK","","Inventory","",true,"OPDEK","",2115,880,38,"",false,true,false,699.18,846,{"$f":"ROUND(AA2469*(1-VLOOKUP(AF2469,Discounts!C:E,3,0)),2)","v":699.18},null,109760,"B055"]
[8718528086421,"Artikel",8718528086421,"STUKS","WK6504 C opdek rechts","wit 930x2115 slg/vpl","incl. gemonteerd blank glas, FSC Mix 70% CU-COC 800339","DEUR","BINNEN","BINNEN","MODERN","6504","BLANK","","Inventory","",true,"OPDEK","",2115,930,38,"",false,true,false,699.18,846,{"$f":"ROUND(AA2473*(1-VLOOKUP(AF2473,Discounts!C:E,3,0)),2)","v":699.18},null,109760,"B055"]
[8718528121481,"Artikel",8718528121481,"STUKS","WK6504 C opdek rechts","wit 930x2015 slg/vpl","incl. gemonteerd blank glas, FSC Mix 70% CU-COC 800339","DEUR","BINNEN","BINNEN","MODERN","6504","BLANK","","Inventory","",true,"OPDEK","",2015,930,38,"",false,true,false,699.18,846,{"$f":"ROUND(AA2481*(1-VLOOKUP(AF2481,Discounts!C:E,3,0)),2)","v":699.18},null,109760,"B055"]
[8718528083888,"Artikel",8718528083888,"STUKS","WK6851 D2 stomp","wit 830x2015 slg/vpl","FSC Mix 70% CU-COC 800339","DEUR","BINNEN","BINNEN","MODERN","6851","","","Inventory","",true,"STOMP","",2015,830,38,"",false,false,false,477.69,578,{"$f":"ROUND(AA2484*(1-VLOOKUP(AF2484,Discounts!C:E,3,0)),2)","v":477.69},null,109930,"B055"]
[8718528084151,"Artikel",8718528084151,"STUKS","WK6851 D2 stomp","wit 880x2015 slg/vpl","FSC Mix 70% CU-COC 800339","DEUR","BINNEN","BINNEN","MODERN","6851","","","Inventory","",true,"STOMP","",2015,880,38,"",false,false,false,477.69,578,{"$f":"ROUND(AA2493*(1-VLOOKUP(AF2493,Discounts!C:E,3,0)),2)","v":477.69},null,109930,"B055"]
[8718528101803,"Artikel",8718528101803,"STUKS","WK6851 XL D2 stomp","wit 680x2315 slg/vpl","FSC Mix 70% CU-COC 800339","DEUR","BINNEN","BINNEN","MODERN","6851","","","Inventory","",true,"STOMP","",2315,680,38,"",false,false,false,477.69,578,{"$f":"ROUND(AA2497*(1-VLOOKUP(AF2497,Discounts!C:E,3,0)),2)","v":477.69},null,109930,"B055"]
[8718528128336,"Artikel",8718528128336,"STUKS","Facetglas blank tbv 6852","680 x 2315 set a 2 ruiten","","GLAS","","BINNEN","MODERN","6852","FACETGLAS BLANK","","Inventory","",false,"","",0,0,0,"",false,false,false,142.98,173,{"$f":"ROUND(AA2505*(1-VLOOKUP(AF2505,Discounts!C:E,3,0)),2)","v":142.98},null,109970,"P107"]
[8718528085455,"Artikel",8718528085455,"STUKS","Facetglas blank tbv 6852","930x2315 set a 2 ruiten","","GLAS","","BINNEN","MODERN","6852","FACETGLAS BLANK","","Inventory","",false,"","",0,0,0,"",false,false,false,142.98,173,{"$f":"ROUND(AA2514*(1-VLOOKUP(AF2514,Discounts!C:E,3,0)),2)","v":142.98},null,109970,"P107"]
[8718528128503,"Artikel",8718528128503,"STUKS","Facetglas mat tbv 6852","730 x 2115 set a 2 ruiten","","GLAS","","BINNEN","MODERN","6852","FACETGLAS MAT","","Inventory","",false,"","",0,0,0,"",false,false,false,219.83,266,{"$f":"ROUND(AA2520*(1-VLOOKUP(AF2520,Discounts!C:E,3,0)),2)","v":219.83},null,109980,"P107"]
[8718528085509,"Artikel",8718528085509,"STUKS","Facetglas mat tbv 6852","830x2015 set a 2 ruiten","","GLAS","","BINNEN","MODERN","6852","FACETGLAS MAT","","Inventory","",false,"","",0,0,0,"",false,false,false,219.83,266,{"$f":"ROUND(AA2525*(1-VLOOKUP(AF2525,Discounts!C:E,3,0)),2)","v":219.83},null,109980,"P107"]
[8718528085592,"Artikel",8718528085592,"STUKS","Facetglas mat tbv 6852","880x2015 set a 2 ruiten","","GLAS","","BINNEN","MODERN","6852","FACETGLAS MAT","","Inventory","",false,"","",0,0,0,"",false,false,false,219.83,266,{"$f":"ROUND(AA2532*(1-VLOOKUP(AF2532,Discounts!C:E,3,0)),2)","v":219.83},null,109980,"P107"]
[8718528128732,"Artikel",8718528128732,"STUKS","Blank glas tbv 6852","730 x 2015 set a 2 ruiten","","GLAS","","BINNEN","MODERN","6852","BLANK","","Inventory","",false,"","",0,0,0,"",false,false,false,102.48,124,{"$f":"ROUND(AA2536*(1-VLOOKUP(AF2536,Discounts!C:E,3,0)),2)","v":102.48},null,109990,"P107"]
[8718528085288,"Artikel",8718528085288,"STUKS","Blank glas tbv 6852","880x2115 set a 2 ruiten","","GLAS","","BINNEN","MODERN","6852","BLANK","","Inventory","",false,"","",0,0,0,"",false,false,false,102.48,124,{"$f":"ROUND(AA2544*(1-VLOOKUP(AF2544,Discounts!C:E,3,0)),2)","v":102.48},null,109990,"P107"]
[8718528085332,"Artikel",8718528085332,"STUKS","Blank glas tbv 6852","880x2015 set a 2 ruiten","","GLAS","","BINNEN","MODERN","6852","BLANK","","Inventory","",false,"","",0,0,0,"",false,false,false,102.48,124,{"$f":"ROUND(AA2549*(1-VLOOKUP(AF2549,Discounts!C:E,3,0)),2)","v":102.48},null,109990,"P107"]
[8718528129050,"Artikel",8718528129050,"STUKS","Glas-in-lood model 6852-D6","680 x 2315 set a 2 ruiten","","GLAS","","BINNEN","MODERN","6852","GLAS-IN-LOOD D6","","Inventory","",false,"","",0,0,0,"",false,false,false,319.01,386,{"$f":"ROUND(AA2556*(1-VLOOKUP(AF2556,Discounts!C:E,3,0)),2)","v":319.01},null,110000,"P107"]
[8718528085707,"Artikel",8718528085707,"STUKS","Glas-in-lood model 6852-D6","880x2315 set a 2 ruiten, d=6mm","","GLAS","","BINNEN","MODERN","6852","GLAS-IN-LOOD D6","","Inventory","",false,"","",0,0,0,"",false,false,false,319.01,386,{"$f":"ROUND(AA2566*(1-VLOOKUP(AF2566,Discounts!C:E,3,0)),2)","v":319.01},null,110000,"P107"]
[8718528085721,"Artikel",8718528085721,"STUKS","Glas-in-lood model 6852-D6","880x2015 set a 2 ruiten, d=6mm","","GLAS","","BINNEN","MODERN","6852","GLAS-IN-LOOD D6","","Inventory","",false,"","",0,0,0,"",false,false,false,319.01,386,{"$f":"ROUND(AA2568*(1-VLOOKUP(AF2568,Discounts!C:E,3,0)),2)","v":319.01},null,110000,"P107"]
[8718528129210,"Artikel",8718528129210,"STUKS","Facetglas blank tbv 6865","730 x 2015 set a 2 ruiten","","GLAS","","BINNEN","MODERN","6865","FACETGLAS BLANK","","Inventory","",false,"","",0,0,0,"",false,false,false,214.88,260,{"$f":"ROUND(AA2577*(1-VLOOKUP(AF2577,Discounts!C:E,3,0)),2)","v":214.88},null,110770,"P107"]
[8718528085899,"Artikel",8718528085899,"STUKS","Facetglas blank tbv 6865","830x2015 set a 2 ruiten","","GLAS","","BINNEN","MODERN","6865","FACETGLAS BLANK","","Inventory","",false,"","",0,0,0,"",false,false,false,214.88,260,{"$f":"ROUND(AA2583*(1-VLOOKUP(AF2583,Discounts!C:E,3,0)),2)","v":214.88},null,110770,"P107"]
[8718528085967,"Artikel",8718528085967,"STUKS","Facetglas blank tbv 6865","880x2315 set a 2 ruiten","","GLAS","","BINNEN","MODERN","6865","FACETGLAS BLANK","","Inventory","",false,"","",0,0,0,"",false,false,false,214.88,260,{"$f":"ROUND(AA2588*(1-VLOOKUP(AF2588,Discounts!C:E,3,0)),2)","v":214.88},null,110770,"P107"]
[8718528129456,"Artikel",8718528129456,"STUKS","Facetglas mat tbv 6865","730 x 2015 set a 2 ruiten","","GLAS","","BINNEN","MODERN","6865","FACETGLAS MAT","","Inventory","",false,"","",0,0,0,"",false,false,false,329.75,399,{"$f":"ROUND(AA2595*(1-VLOOKUP(AF2595,Discounts!C:E,3,0)),2)","v":329.75},null,110780,"P107"]
[8718528086056,"Artikel",8718528086056,"STUKS","Facetglas mat tbv 6865","830x2115 set a 2 ruiten","","GLAS","","BINNEN","MODERN","6865","FACETGLAS MAT","","Inventory","",false,"","",0,0,0,"",false,false,false,329.75,399,{"$f":"ROUND(AA2601*(1-VLOOKUP(AF2601,Discounts!C:E,3,0)),2)","v":329.75},null,110780,"P107"]
[8718528086117,"Artikel",8718528086117,"STUKS","Facetglas mat tbv 6865","880x2015 set a 2 ruiten","","GLAS","","BINNEN","MODERN","6865","FACETGLAS MAT","","Inventory","",false,"","",0,0,0,"",false,false,false,329.75,399,{"$f":"ROUND(AA2607*(1-VLOOKUP(AF2607,Discounts!C:E,3,0)),2)","v":329.75},null,110780,"P107"]
[8718528085790,"Artikel",8718528085790,"STUKS","Blank glas tbv 6865","830x2115 set a 2 ruiten","","GLAS","","BINNEN","MODERN","6865","BLANK","","Inventory","",false,"","",0,0,0,"",false,false,false,152.89,185,{"$f":"ROUND(AA2618*(1-VLOOKUP(AF2618,Discounts!C:E,3,0)),2)","v":152.89},null,110790,"P107"]
[8718528085806,"Artikel",8718528085806,"STUKS","Blank glas tbv 6865","880x2115 set a 2 ruiten","","GLAS","","BINNEN","MODERN","6865","BLANK","","Inventory","",false,"","",0,0,0,"",false,false,false,152.89,185,{"$f":"ROUND(AA2619*(1-VLOOKUP(AF2619,Discounts!C:E,3,0)),2)","v":152.89},null,110790,"P107"]
[8718528129944,"Artikel",8718528129944,"STUKS","Glas-in-lood model 6865-D1","730 x 2115 set a 2 ruiten","","GLAS","","BINNEN","MODERN","6865","GLAS-IN-LOOD D1","","Inventory","",false,"","",0,0,0,"",false,false,false,319.01,386,{"$f":"ROUND(AA2629*(1-VLOOKUP(AF2629,Discounts!C:E,3,0)),2)","v":319.01},null,110800,"P107"]
[8718528086148,"Artikel",8718528086148,"STUKS","Glas-in-lood model 6865-D1","780x2015 set a 2 ruiten, d=6mm","","GLAS","","BINNEN","MODERN","6865","GLAS-IN-LOOD D1","","Inventory","",false,"","",0,0,0,"",false,false,false,319.01,386,{"$f":"ROUND(AA2634*(1-VLOOKUP(AF2634,Discounts!C:E,3,0)),2)","v":319.01},null,110800,"P107"]
[8718528086223,"Artikel",8718528086223,"STUKS","Glas-in-lood model 6865-D1","880x2315 set a 2 ruiten, d=6mm","","GLAS","","BINNEN","MODERN","6865","GLAS-IN-LOOD D1","","Inventory","",false,"","",0,0,0,"",false,false,false,319.01,386,{"$f":"ROUND(AA2640*(1-VLOOKUP(AF2640,Discounts!C:E,3,0)),2)","v":319.01},null,110800,"P107"]
[8718528102589,"Artikel",8718528102589,"STUKS","Nemef 1264/4 F20-50-63","toilet slot Dr 1t/m4","","HENS","SLOTEN","","","","TOILETSLOT","1264","Inventory","",false,"","",0,0,0,"",false,false,false,23.14,28,{"$f":"ROUND(AA2646*(1-VLOOKUP(AF2646,Discounts!C:E,3,0)),2)","v":23.14},null,116370,"O500"]
[8718528115602,"Artikel",8718528115602,"STUKS","HR++ Top i+ 33.1*-13-4 gehard","Argon u=1,2 WK 048 830x2115","","GLAS","","BALKON","BS","048","BLANK","ISO VEILIGHEIDSGLAS","Inventory","",false,"","",0,0,0,"",false,false,false,189.26,229,{"$f":"ROUND(AA2657*(1-VLOOKUP(AF2657,Discounts!C:E,3,0)),2)","v":189.26},null,134140,"P104"]
[8718528115619,"Artikel",8718528115619,"STUKS","HR++ Top i+ 33.1*-13-4 gehard","Argon u=1,2 WK 048 880x2015","","GLAS","","BALKON","BS","048","BLANK","ISO VEILIGHEIDSGLAS","Inventory","",false,"","",0,0,0,"",false,false,false,189.26,229,{"$f":"ROUND(AA2658*(1-VLOOKUP(AF2658,Discounts!C:E,3,0)),2)","v":189.26},null,134140,"P104"]
[8718528134191,"Artikel",8718528134191,"SET","Vision, schuifdsyst. i/d wand","dubbele deur (2x 2000 mm+","koppelstuk+2 zijden soft-close)","HENS","BESLAG","","","","SCHUIFDEURRAIL","RAIL","Inventory","",false,"","",0,0,0,"",false,false,false,510.74,618,{"$f":"ROUND(AA2670*(1-VLOOKUP(AF2670,Discounts!C:E,3,0)),2)","v":510.74},null,143390,"O500"]
[8718528133354,"Artikel",8718528133354,"SET","AC9003 Set aftimmerlijsten/","basementstukken, wit","","ACCESSOIRES","ARCHITRAVEN","","","","AFTIMMERLIJST","AC9003","Inventory","",false,"","",0,0,0,"",false,false,false,64.46,78,{"$f":"ROUND(AA2677*(1-VLOOKUP(AF2677,Discounts!C:E,3,0)),2)","v":64.46},null,146120,"R100"]
[8718528133439,"Artikel",8718528133439,"SET","AC9101 Set van 2 bovenhoek-","stukken, wit","","ACCESSOIRES","ARCHITRAVEN","","","","HOEKSTUK","AC9101","Inventory","",false,"","",0,0,0,"",false,false,false,21.49,26,{"$f":"ROUND(AA2681*(1-VLOOKUP(AF2681,Discounts!C:E,3,0)),2)","v":21.49},null,146160,"R100"]
[8718528133934,"Artikel",8718528133934,"STUKS","Blank isolatieglas","tbv WK1549 880x2115 1 ruit","","GLAS","","LUXBUITEN","VD","1549","BLANK","ISOLATIEGLAS","Inventory","",false,"","",0,0,0,"",false,false,false,118.18,143,{"$f":"ROUND(AA2685*(1-VLOOKUP(AF2685,Discounts!C:E,3,0)),2)","v":118.18},null,146510,"P106"]
[8718528307083,"Artikel",8718528307083,"STUKS","Smal loopslot,","RVS voorplaat","","HENS","SLOTEN","","","","SLOT","","Inventory","",false,"","",0,0,0,"",false,false,false,37.19,45,{"$f":"ROUND(AA2692*(1-VLOOKUP(AF2692,Discounts!C:E,3,0)),2)","v":37.19},null,147670,"O500"]
[8718528133996,"Artikel",8718528133996,"STUKS","Hoeksluitplaat staal","links of rechts (voor opdek)","t.b.v. loopslot N1255/2","HENS","SLOTEN","","","","","","Inventory","",false,"","",0,0,0,"",false,false,false,4.13,5,{"$f":"ROUND(AA2697*(1-VLOOKUP(AF2697,Discounts!C:E,3,0)),2)","v":4.13},null,147750,"P101"]
[8718528158708,"Artikel",8718528158708,"STUKS","BSW VV RD 818 BV, 89x89 mm","compleet (rvs)","","HENS","SCHARNIER","","","","","","Inventory","",false,"","",0,0,0,"",false,false,false,19.83,24,{"$f":"ROUND(AA2709*(1-VLOOKUP(AF2709,Discounts!C:E,3,0)),2)","v":19.83},null,147850,"O500"]
[8718528131237,"Artikel",8718528131237,"STUKS","WK6351 C3 stomp","wit 730x2115 slg/vpl","FSC Mix 70% CU-COC 800339","DEUR","BINNEN","BINNEN","MODERN","6351","","","Inventory","MDF",true,"STOMP","",2115,730,38,"",false,false,false,332.23,402,{"$f":"ROUND(AA2716*(1-VLOOKUP(AF2716,Discounts!C:E,3,0)),2)","v":332.23},null,148670,"B055"]
[8718528131299,"Artikel",8718528131299,"STUKS","WK6351 C3 stomp","wit 830x2115 slg/vpl","FSC Mix 70% CU-COC 800339","DEUR","BINNEN","BINNEN","MODERN","6351","","","Inventory","MDF",true,"STOMP","",2115,830,38,"",false,false,false,332.23,402,{"$f":"ROUND(AA2722*(1-VLOOKUP(AF2722,Discounts!C:E,3,0)),2)","v":332.23},null,148670,"B055"]
[8718528131350,"Artikel",8718528131350,"STUKS","WK6351 C3 stomp","wit 930x2115 slg/vpl","FSC Mix 70% CU-COC 800339","DEUR","BINNEN","BINNEN","MODERN","6351","","","Inventory","MDF",true,"STOMP","",2115,930,38,"",false,false,false,332.23,402,{"$f":"ROUND(AA2728*(1-VLOOKUP(AF2728,Discounts!C:E,3,0)),2)","v":332.23},null,148670,"B055"]
[8718528150719,"Artikel",8718528150719,"STUKS","WK6301 C3 stomp","wit 780x2015 smal slg/vpl","FSC Mix 70% CU-COC 800339","DEUR","BINNEN","BINNEN","MODERN","6301","","","Inventory","MDF",true,"STOMP","",2015,780,38,"",false,false,false,365.29,442,{"$f":"ROUND(AA2733*(1-VLOOKUP(AF2733,Discounts!C:E,3,0)),2)","v":365.29},null,149130,"B055"]
[8718528150801,"Artikel",8718528150801,"STUKS","WK6301 C3 stomp","wit 830x2015 smal slg/vpl","FSC Mix 70% CU-COC 800339","DEUR","BINNEN","BINNEN","MODERN","6301","","","Inventory","MDF",true,"STOMP","",2015,830,38,"",false,false,false,365.29,442,{"$f":"ROUND(AA2736*(1-VLOOKUP(AF2736,Discounts!C:E,3,0)),2)","v":365.29},null,149130,"B055"]
[8718528151044,"Artikel",8718528151044,"STUKS","WK6301 XL C3 stomp","wit 930x2315 smal slg/vpl","FSC Mix 70% CU-COC 800339","DEUR","BINNEN","BINNEN","MODERN","6301","","","Inventory","MDF",true,"STOMP","",2315,930,38,"",false,false,false,365.29,442,{"$f":"ROUND(AA2744*(1-VLOOKUP(AF2744,Discounts!C:E,3,0)),2)","v":365.29},null,149130,"B055"]
[8718528151372,"Artikel",8718528151372,"STUKS","WK6306 C stomp","zwart 880x2115 smal slg/vpl","incl. gemonteerd blank glas, FSC Mix 70% CU-COC 800339","DEUR","BINNEN","BINNEN","MODERN","6306","BLANK","","Inventory","MDF",true,"STOMP","",2115,880,38,"",false,false,false,614.88,744,{"$f":"ROUND(AA2755*(1-VLOOKUP(AF2755,Discounts!C:E,3,0)),2)","v":614.88},null,149150,"B055"]
[8718528151556,"Artikel",8718528151556,"STUKS","WK6308 C stomp","zwart 730x2115 smal slg/vpl","incl. gemonteerd blank glas, FSC Mix 70% CU-COC 800339","DEUR","BINNEN","BINNEN","MODERN","6308","BLANK","","Inventory","MDF",true,"STOMP","",2115,730,38,"",false,false,false,643.8,779,{"$f":"ROUND(AA2761*(1-VLOOKUP(AF2761,Discounts!C:E,3,0)),2)","v":643.8},null,149160,"B055"]
[8718528151730,"Artikel",8718528151730,"STUKS","WK6308 C stomp","zwart 830x2115 smal slg/vpl","incl. gemonteerd blank glas, FSC Mix 70% CU-COC 800339","DEUR","BINNEN","BINNEN","MODERN","6308","BLANK","","Inventory","MDF",true,"STOMP","",2115,830,38,"",false,false,false,643.8,779,{"$f":"ROUND(AA2767*(1-VLOOKUP(AF2767,Discounts!C:E,3,0)),2)","v":643.8},null,149160,"B055"]
[8718528151945,"Artikel",8718528151945,"STUKS","WK6308 XL C stomp","zwart 930x2315 smal slg/vpl","incl. gemonteerd blank glas, FSC Mix 70% CU-COC 800339","DEUR","BINNEN","BINNEN","MODERN","6308","BLANK","","Inventory","MDF",true,"STOMP","",2315,930,38,"",false,false,false,643.8,779,{"$f":"ROUND(AA2774*(1-VLOOKUP(AF2774,Discounts!C:E,3,0)),2)","v":643.8},null,149160,"B055"]
[8718528132005,"Artikel",8718528132005,"STUKS","WK6356 C stomp","zwart 780x2115 slg/vpl","incl. gemonteerd blank glas, FSC Mix 70% CU-COC 800339","DEUR","BINNEN","BINNEN","MODERN","6356","BLANK","","Inventory","MDF",true,"STOMP","",2115,780,38,"",false,false,false,568.6,688,{"$f":"ROUND(AA2779*(1-VLOOKUP(AF2779,Discounts!C:E,3,0)),2)","v":568.6},null,149170,"B055"]
[8718528132067,"Artikel",8718528132067,"STUKS","WK6356 C stomp","zwart 880x2115 slg/vpl","incl. gemonteerd blank glas, FSC Mix 70% CU-COC 800339","DEUR","BINNEN","BINNEN","MODERN","6356","BLANK","","Inventory","MDF",true,"STOMP","",2115,880,38,"",false,false,false,568.6,688,{"$f":"ROUND(AA2785*(1-VLOOKUP(AF2785,Discounts!C:E,3,0)),2)","v":568.6},null,149170,"B055"]
[8718528132128,"Artikel",8718528132128,"STUKS","WK6358 C stomp","zwart 730x2115 slg/vpl","incl. gemonteerd blank glas, FSC Mix 70% CU-COC 800339","DEUR","BINNEN","BINNEN","MODERN","6358","BLANK","","Inventory","MDF",true,"STOMP","",2115,730,38,"",false,false,false,592.56,717,{"$f":"ROUND(AA2791*(1-VLOOKUP(AF2791,Discounts!C:E,3,0)),2)","v":592.56},null,149180,"B055"]
[8718528132173,"Artikel",8718528132173,"STUKS","WK6358 C stomp","zwart 830x2015 slg/vpl","incl. gemonteerd blank glas, FSC Mix 70% CU-COC 800339","DEUR","BINNEN","BINNEN","MODERN","6358","BLANK","","Inventory","MDF",true,"STOMP","",2015,830,38,"",false,false,false,592.56,717,{"$f":"ROUND(AA2796*(1-VLOOKUP(AF2796,Discounts!C:E,3,0)),2)","v":592.56},null,149180,"B055"]
[8718528307137,"Artikel",8718528307137,"STUKS","Smal toiletslot,","zwarte voorplaat","","HENS","SLOTEN","","","","TOILETSLOT","","Inventory","",false,"","",0,0,0,"",false,false,false,41.32,50,{"$f":"ROUND(AA2806*(1-VLOOKUP(AF2806,Discounts!C:E,3,0)),2)","v":41.32},null,151430,"O500"]
[8718528157404,"Artikel",8718528157404,"SET","Set schuifdeurkommen grid","Black vierkant","","HENS","BESLAG","","","","SCHUIFDEURKOM","","Inventory","",false,"","",0,0,0,"",false,false,false,32.23,39,{"$f":"ROUND(AA2813*(1-VLOOKUP(AF2813,Discounts!C:E,3,0)),2)","v":32.23},null,151530,"O110"]
[8718528019955,"Artikel",8718528019955,"STUKS","WK6551 XL B2 stomp","wit 780x2315 slg/vpl","FSC Mix 70% CU-COC 800339","DEUR","BINNEN","BINNEN","MODERN","6551","","","Inventory","MDF",true,"STOMP","",2315,780,38,"",false,false,false,402.48,487,{"$f":"ROUND(AA2818*(1-VLOOKUP(AF2818,Discounts!C:E,3,0)),2)","v":402.48},null,151750,"B055"]
[8718528020159,"Artikel",8718528020159,"STUKS","WK6551 B2 stomp","wit 930x2115 slg/vpl","FSC Mix 70% CU-COC 800339","DEUR","BINNEN","BINNEN","MODERN","6551","","","Inventory","MDF",true,"STOMP","",2115,930,38,"",false,false,false,402.48,487,{"$f":"ROUND(AA2826*(1-VLOOKUP(AF2826,Discounts!C:E,3,0)),2)","v":402.48},null,151750,"B055"]
[8718528101254,"Artikel",8718528101254,"STUKS","WK6551 XL B2 stomp","wit 630x2315 slg/vpl","FSC Mix 70% CU-COC 800339","DEUR","BINNEN","BINNEN","MODERN","6551","","","Inventory","MDF",true,"STOMP","",2315,630,38,"",false,false,false,402.48,487,{"$f":"ROUND(AA2830*(1-VLOOKUP(AF2830,Discounts!C:E,3,0)),2)","v":402.48},null,151750,"B055"]
[8718528019870,"Artikel",8718528019870,"STUKS","WK6551 B2 opdek links","wit 730x2115 slg/vpl","FSC Mix 70% CU-COC 800339","DEUR","BINNEN","BINNEN","MODERN","6551","","","Inventory","",true,"OPDEK","",2115,730,38,"",false,true,false,414.88,502,{"$f":"ROUND(AA2837*(1-VLOOKUP(AF2837,Discounts!C:E,3,0)),2)","v":414.88},null,151760,"B055"]
[8718528019948,"Artikel",8718528019948,"STUKS","WK6551 B2 opdek rechts","wit 780x2115 slg/vpl","FSC Mix 70% CU-COC 800339","DEUR","BINNEN","BINNEN","MODERN","6551","","","Inventory","",true,"OPDEK","",2115,780,38,"",false,true,false,414.88,502,{"$f":"ROUND(AA2842*(1-VLOOKUP(AF2842,Discounts!C:E,3,0)),2)","v":414.88},null,151760,"B055"]
[8718528020036,"Artikel",8718528020036,"STUKS","WK6551 B2 opdek rechts","wit 830x2115 slg/vpl","FSC Mix 70% CU-COC 800339","DEUR","BINNEN","BINNEN","MODERN","6551","","","Inventory","",true,"OPDEK","",2115,830,38,"",false,true,false,414.88,502,{"$f":"ROUND(AA2848*(1-VLOOKUP(AF2848,Discounts!C:E,3,0)),2)","v":414.88},null,151760,"B055"]
[8718528020197,"Artikel",8718528020197,"STUKS","WK6551 XL B2 opdek links","wit 930x2315 slg/vpl","FSC Mix 70% CU-COC 800339","DEUR","BINNEN","BINNEN","MODERN","6551","","","Inventory","",true,"OPDEK","",2315,930,38,"",false,true,false,414.88,502,{"$f":"ROUND(AA2857*(1-VLOOKUP(AF2857,Discounts!C:E,3,0)),2)","v":414.88},null,151760,"B055"]
[8718528117798,"Artikel",8718528117798,"STUKS","WK6551 XL B2 opdek links","wit 730x2315 slg/vpl","FSC Mix 70% CU-COC 800339","DEUR","BINNEN","BINNEN","MODERN","6551","","","Inventory","",true,"OPDEK","",2315,730,38,"",false,true,false,414.88,502,{"$f":"ROUND(AA2865*(1-VLOOKUP(AF2865,Discounts!C:E,3,0)),2)","v":414.88},null,151760,"B055"]
[8718528120934,"Artikel",8718528120934,"STUKS","WK6551  B2 opdek rechts","wit 630x2115 slg/vpl","FSC Mix 70% CU-COC 800339","DEUR","BINNEN","BINNEN","MODERN","6551","","","Inventory","",true,"OPDEK","",2115,630,38,"",false,true,false,414.88,502,{"$f":"ROUND(AA2869*(1-VLOOKUP(AF2869,Discounts!C:E,3,0)),2)","v":414.88},null,151760,"B055"]
[8718528121009,"Artikel",8718528121009,"STUKS","WK6551  B2 opdek rechts","wit 930x2015 slg/vpl","FSC Mix 70% CU-COC 800339","DEUR","BINNEN","BINNEN","MODERN","6551","","","Inventory","",true,"OPDEK","",2015,930,38,"",false,true,false,414.88,502,{"$f":"ROUND(AA2876*(1-VLOOKUP(AF2876,Discounts!C:E,3,0)),2)","v":414.88},null,151760,"B055"]
[8718528150696,"Artikel",8718528150696,"STUKS","WK6301 XL C3 opdek links","wit 730x2315 smal slg/vpl","FSC Mix 70% CU-COC 800339","DEUR","BINNEN","BINNEN","MODERN","6301","","","Inventory","MDF",true,"OPDEK","",2315,730,38,"",false,true,false,377.69,457,{"$f":"ROUND(AA2881*(1-VLOOKUP(AF2881,Discounts!C:E,3,0)),2)","v":377.69},null,151780,"B055"]
[8718528150818,"Artikel",8718528150818,"STUKS","WK6301 C3 opdek links","wit 830x2015 smal slg/vpl","FSC Mix 70% CU-COC 800339","DEUR","BINNEN","BINNEN","MODERN","6301","","","Inventory","MDF",true,"OPDEK","",2015,830,38,"",false,true,false,377.69,457,{"$f":"ROUND(AA2889*(1-VLOOKUP(AF2889,Discounts!C:E,3,0)),2)","v":377.69},null,151780,"B055"]
[8718528150870,"Artikel",8718528150870,"STUKS","WK6301 XL C3 opdek links","wit 830x2315 smal slg/vpl","FSC Mix 70% CU-COC 800339","DEUR","BINNEN","BINNEN","MODERN","6301","","","Inventory","MDF",true,"OPDEK","",2315,830,38,"",false,true,false,377.69,457,{"$f":"ROUND(AA2893*(1-VLOOKUP(AF2893,Discounts!C:E,3,0)),2)","v":377.69},null,151780,"B055"]
[8718528150979,"Artikel",8718528150979,"STUKS","WK6301 XL C3 opdek rechts","wit 880x2315 smal slg/vpl","FSC Mix 70% CU-COC 800339","DEUR","BINNEN","BINNEN","MODERN","6301","","","Inventory","MDF",true,"OPDEK","",2315,880,38,"",false,true,false,377.69,457,{"$f":"ROUND(AA2900*(1-VLOOKUP(AF2900,Discounts!C:E,3,0)),2)","v":377.69},null,151780,"B055"]
[8718528151990,"Artikel",8718528151990,"STUKS","WK6305 C3 opdek rechts","wit 730x2015 smal slg/vpl","FSC Mix 70% CU-COC 800339","DEUR","BINNEN","BINNEN","MODERN","6305","","","Inventory","MDF",true,"OPDEK","",2015,730,38,"",false,true,false,434.71,526,{"$f":"ROUND(AA2908*(1-VLOOKUP(AF2908,Discounts!C:E,3,0)),2)","v":434.71},null,151790,"B055"]
[8718528152133,"Artikel",8718528152133,"STUKS","WK6305 C3 XL opdek links","wit 780x2315 smal slg/vpl","FSC Mix 70% CU-COC 800339","DEUR","BINNEN","BINNEN","MODERN","6305","","","Inventory","MDF",true,"OPDEK","",2315,780,38,"",false,true,false,434.71,526,{"$f":"ROUND(AA2917*(1-VLOOKUP(AF2917,Discounts!C:E,3,0)),2)","v":434.71},null,151790,"B055"]
[8718528152171,"Artikel",8718528152171,"STUKS","WK6305 C3 opdek rechts","wit 830x2015 smal slg/vpl","FSC Mix 70% CU-COC 800339","DEUR","BINNEN","BINNEN","MODERN","6305","","","Inventory","MDF",true,"OPDEK","",2015,830,38,"",false,true,false,434.71,526,{"$f":"ROUND(AA2920*(1-VLOOKUP(AF2920,Discounts!C:E,3,0)),2)","v":434.71},null,151790,"B055"]
[8718528152294,"Artikel",8718528152294,"STUKS","WK6305 C3 opdek rechts","wit 880x2115 smal slg/vpl","FSC Mix 70% CU-COC 800339","DEUR","BINNEN","BINNEN","MODERN","6305","","","Inventory","MDF",true,"OPDEK","",2115,880,38,"",false,true,false,434.71,526,{"$f":"ROUND(AA2928*(1-VLOOKUP(AF2928,Discounts!C:E,3,0)),2)","v":434.71},null,151790,"B055"]
[8718528152355,"Artikel",8718528152355,"STUKS","WK6305 C3 opdek rechts","wit 930x2015 smal slg/vpl","FSC Mix 70% CU-COC 800339","DEUR","BINNEN","BINNEN","MODERN","6305","","","Inventory","MDF",true,"OPDEK","",2015,930,38,"",false,true,false,434.71,526,{"$f":"ROUND(AA2932*(1-VLOOKUP(AF2932,Discounts!C:E,3,0)),2)","v":434.71},null,151790,"B055"]
[8718528151143,"Artikel",8718528151143,"STUKS","WK6306 XL C opdek links","zwart 730x2315 smal slg/vpl","incl. gemonteerd blank glas, FSC Mix 70% CU-COC 800339","DEUR","BINNEN","BINNEN","MODERN","6306","BLANK","","Inventory","MDF",true,"OPDEK","",2315,730,38,"",false,true,false,627.28,759,{"$f":"ROUND(AA2941*(1-VLOOKUP(AF2941,Discounts!C:E,3,0)),2)","v":627.28},null,151800,"B055"]
[8718528151181,"Artikel",8718528151181,"STUKS","WK6306 C opdek rechts","zwart 780x2015 smal slg/vpl","incl. gemonteerd blank glas, FSC Mix 70% CU-COC 800339","DEUR","BINNEN","BINNEN","MODERN","6306","BLANK","","Inventory","MDF",true,"OPDEK","",2015,780,38,"",false,true,false,627.28,759,{"$f":"ROUND(AA2944*(1-VLOOKUP(AF2944,Discounts!C:E,3,0)),2)","v":627.28},null,151800,"B055"]
[8718528151303,"Artikel",8718528151303,"STUKS","WK6306 C opdek rechts","zwart 830x2115 smal slg/vpl","incl. gemonteerd blank glas, FSC Mix 70% CU-COC 800339","DEUR","BINNEN","BINNEN","MODERN","6306","BLANK","","Inventory","MDF",true,"OPDEK","",2115,830,38,"",false,true,false,627.28,759,{"$f":"ROUND(AA2952*(1-VLOOKUP(AF2952,Discounts!C:E,3,0)),2)","v":627.28},null,151800,"B055"]
[8718528151419,"Artikel",8718528151419,"STUKS","WK6306 XL C opdek links","zwart 880x2315 smal slg/vpl","incl. gemonteerd blank glas, FSC Mix 70% CU-COC 800339","DEUR","BINNEN","BINNEN","MODERN","6306","BLANK","","Inventory","MDF",true,"OPDEK","",2315,880,38,"",false,true,false,627.28,759,{"$f":"ROUND(AA2959*(1-VLOOKUP(AF2959,Discounts!C:E,3,0)),2)","v":627.28},null,151800,"B055"]
[8718528152461,"Artikel",8718528152461,"STUKS","WK6307 C3 opdek links","wit 730x2115 smal slg/vpl","FSC Mix 70% CU-COC 800339","DEUR","BINNEN","BINNEN","MODERN","6307","","","Inventory","MDF",true,"OPDEK","",2115,730,38,"",false,true,false,461.99,559,{"$f":"ROUND(AA2969*(1-VLOOKUP(AF2969,Discounts!C:E,3,0)),2)","v":461.99},null,151810,"B055"]
[8718528152492,"Artikel",8718528152492,"STUKS","WK6307 C3 XL opdek links","wit 730x2315 smal slg/vpl","FSC Mix 70% CU-COC 800339","DEUR","BINNEN","BINNEN","MODERN","6307","","","Inventory","MDF",true,"OPDEK","",2315,730,38,"",false,true,false,461.99,559,{"$f":"ROUND(AA2971*(1-VLOOKUP(AF2971,Discounts!C:E,3,0)),2)","v":461.99},null,151810,"B055"]
[8718528152621,"Artikel",8718528152621,"STUKS","WK6307 C3 opdek rechts","wit 830x2015 smal slg/vpl","FSC Mix 70% CU-COC 800339","DEUR","BINNEN","BINNEN","MODERN","6307","","","Inventory","MDF",true,"OPDEK","",2015,830,38,"",false,true,false,461.99,559,{"$f":"ROUND(AA2980*(1-VLOOKUP(AF2980,Discounts!C:E,3,0)),2)","v":461.99},null,151810,"B055"]
[8718528152676,"Artikel",8718528152676,"STUKS","WK6307 C3 XL opdek links","wit 830x2315 smal slg/vpl","FSC Mix 70% CU-COC 800339","DEUR","BINNEN","BINNEN","MODERN","6307","","","Inventory","MDF",true,"OPDEK","",2315,830,38,"",false,true,false,461.99,559,{"$f":"ROUND(AA2983*(1-VLOOKUP(AF2983,Discounts!C:E,3,0)),2)","v":461.99},null,151810,"B055"]
[8718528152829,"Artikel",8718528152829,"STUKS","WK6307 C3 opdek links","wit 930x2115 smal slg/vpl","FSC Mix 70% CU-COC 800339","DEUR","BINNEN","BINNEN","MODERN","6307","","","Inventory","MDF",true,"OPDEK","",2115,930,38,"",false,true,false,461.99,559,{"$f":"ROUND(AA2993*(1-VLOOKUP(AF2993,Discounts!C:E,3,0)),2)","v":461.99},null,151810,"B055"]
[8718528151600,"Artikel",8718528151600,"STUKS","WK6308 XL C opdek rechts","zwart 730x2315 smal slg/vpl","incl. gemonteerd blank glas, FSC Mix 70% CU-COC 800339","DEUR","BINNEN","BINNEN","MODERN","6308","BLANK","","Inventory","MDF",true,"OPDEK","",2315,730,38,"",false,true,false,656.2,794,{"$f":"ROUND(AA3002*(1-VLOOKUP(AF3002,Discounts!C:E,3,0)),2)","v":656.2},null,151820,"B055"]
[8718528151631,"Artikel",8718528151631,"STUKS","WK6308 C opdek rechts","zwart 780x2015 smal slg/vpl","incl. gemonteerd blank glas, FSC Mix 70% CU-COC 800339","DEUR","BINNEN","BINNEN","MODERN","6308","BLANK","","Inventory","MDF",true,"OPDEK","",2015,780,38,"",false,true,false,656.2,794,{"$f":"ROUND(AA3004*(1-VLOOKUP(AF3004,Discounts!C:E,3,0)),2)","v":656.2},null,151820,"B055"]
[8718528151785,"Artikel",8718528151785,"STUKS","WK6308 XL C opdek rechts","zwart 830x2315 smal slg/vpl","incl. gemonteerd blank glas, FSC Mix 70% CU-COC 800339","DEUR","BINNEN","BINNEN","MODERN","6308","BLANK","","Inventory","MDF",true,"OPDEK","",2315,830,38,"",false,true,false,656.2,794,{"$f":"ROUND(AA3014*(1-VLOOKUP(AF3014,Discounts!C:E,3,0)),2)","v":656.2},null,151820,"B055"]
[8718528151891,"Artikel",8718528151891,"STUKS","WK6308 C opdek links","zwart 930x2015 smal slg/vpl","incl. gemonteerd blank glas, FSC Mix 70% CU-COC 800339","DEUR","BINNEN","BINNEN","MODERN","6308","BLANK","","Inventory","MDF",true,"OPDEK","",2015,930,38,"",false,true,false,656.2,794,{"$f":"ROUND(AA3021*(1-VLOOKUP(AF3021,Discounts!C:E,3,0)),2)","v":656.2},null,151820,"B055"]
[8718528151907,"Artikel",8718528151907,"STUKS","WK6308 C opdek rechts","zwart 930x2015 smal slg/vpl","incl. gemonteerd blank glas, FSC Mix 70% CU-COC 800339","DEUR","BINNEN","BINNEN","MODERN","6308","BLANK","","Inventory","MDF",true,"OPDEK","",2015,930,38,"",false,true,false,656.2,794,{"$f":"ROUND(AA3022*(1-VLOOKUP(AF3022,Discounts!C:E,3,0)),2)","v":656.2},null,151820,"B055"]
[8718528152126,"Artikel",8718528152126,"STUKS","WK6305 C3 XL stomp","wit 780x2315 smal slg/vpl","FSC Mix 70% CU-COC 800339","DEUR","BINNEN","BINNEN","MODERN","6305","","","Inventory","MDF",true,"STOMP","",2315,780,38,"",false,false,false,422.31,511,{"$f":"ROUND(AA3032*(1-VLOOKUP(AF3032,Discounts!C:E,3,0)),2)","v":422.31},null,151830,"B055"]
[8718528152393,"Artikel",8718528152393,"STUKS","WK6305 C3 XL stomp","wit 930x2315 smal slg/vpl","FSC Mix 70% CU-COC 800339","DEUR","BINNEN","BINNEN","MODERN","6305","","","Inventory","MDF",true,"STOMP","",2315,930,38,"",false,false,false,422.31,511,{"$f":"ROUND(AA3041*(1-VLOOKUP(AF3041,Discounts!C:E,3,0)),2)","v":422.31},null,151830,"B055"]
[8718528152515,"Artikel",8718528152515,"STUKS","WK6307 C3 stomp","wit 780x2015 smal slg/vpl","FSC Mix 70% CU-COC 800339","DEUR","BINNEN","BINNEN","MODERN","6307","","","Inventory","MDF",true,"STOMP","",2015,780,38,"",false,false,false,449.59,544,{"$f":"ROUND(AA3045*(1-VLOOKUP(AF3045,Discounts!C:E,3,0)),2)","v":449.59},null,151840,"B055"]
[8718528152751,"Artikel",8718528152751,"STUKS","WK6307 C3 XL stomp","wit 880x2315 smal slg/vpl","FSC Mix 70% CU-COC 800339","DEUR","BINNEN","BINNEN","MODERN","6307","","","Inventory","MDF",true,"STOMP","",2315,880,38,"",false,false,false,449.59,544,{"$f":"ROUND(AA3053*(1-VLOOKUP(AF3053,Discounts!C:E,3,0)),2)","v":449.59},null,151840,"B055"]
[8718528152843,"Artikel",8718528152843,"STUKS","WK6307 C3 XL stomp","wit 930x2315 smal slg/vpl","FSC Mix 70% CU-COC 800339","DEUR","BINNEN","BINNEN","MODERN","6307","","","Inventory","MDF",true,"STOMP","",2315,930,38,"",false,false,false,449.59,544,{"$f":"ROUND(AA3056*(1-VLOOKUP(AF3056,Discounts!C:E,3,0)),2)","v":449.59},null,151840,"B055"]
[8718528018590,"Artikel",8718528018590,"STUKS","WK6531 B2 stomp","wit 880x2015 slg/vpl","FSC Mix 70% CU-COC 800339","DEUR","BINNEN","BINNEN","MODERN","6531","","","Inventory","MDF",true,"STOMP","",2015,880,38,"",false,false,false,402.48,487,{"$f":"ROUND(AA3065*(1-VLOOKUP(AF3065,Discounts!C:E,3,0)),2)","v":402.48},null,152030,"B055"]
[8718528101056,"Artikel",8718528101056,"STUKS","WK6531 XL B2 stomp","wit 630x2315 slg/vpl","FSC Mix 70% CU-COC 800339","DEUR","BINNEN","BINNEN","MODERN","6531","","","Inventory","MDF",true,"STOMP","",2315,630,38,"",false,false,false,402.48,487,{"$f":"ROUND(AA3073*(1-VLOOKUP(AF3073,Discounts!C:E,3,0)),2)","v":402.48},null,152030,"B055"]
[8718528018392,"Artikel",8718528018392,"STUKS","WK6531 B2 opdek links","wit 730x2115 slg/vpl","FSC Mix 70% CU-COC 800339","DEUR","BINNEN","BINNEN","MODERN","6531","","","Inventory","",true,"OPDEK","",2115,730,38,"",false,true,false,414.88,502,{"$f":"ROUND(AA3080*(1-VLOOKUP(AF3080,Discounts!C:E,3,0)),2)","v":414.88},null,152040,"B055"]
[8718528018453,"Artikel",8718528018453,"STUKS","WK6531 B2 opdek links","wit 780x2115 slg/vpl","FSC Mix 70% CU-COC 800339","DEUR","BINNEN","BINNEN","MODERN","6531","","","Inventory","",true,"OPDEK","",2115,780,38,"",false,true,false,414.88,502,{"$f":"ROUND(AA3084*(1-VLOOKUP(AF3084,Discounts!C:E,3,0)),2)","v":414.88},null,152040,"B055"]
[8718528018576,"Artikel",8718528018576,"STUKS","WK6531 XL B2 opdek links","wit 830x2315 slg/vpl","FSC Mix 70% CU-COC 800339","DEUR","BINNEN","BINNEN","MODERN","6531","","","Inventory","",true,"OPDEK","",2315,830,38,"",false,true,false,414.88,502,{"$f":"ROUND(AA3092*(1-VLOOKUP(AF3092,Discounts!C:E,3,0)),2)","v":414.88},null,152040,"B055"]
[8718528018651,"Artikel",8718528018651,"STUKS","WK6531 XL B2 opdek rechts","wit 880x2315 slg/vpl","FSC Mix 70% CU-COC 800339","DEUR","BINNEN","BINNEN","MODERN","6531","","","Inventory","",true,"OPDEK","",2315,880,38,"",false,true,false,414.88,502,{"$f":"ROUND(AA3097*(1-VLOOKUP(AF3097,Discounts!C:E,3,0)),2)","v":414.88},null,152040,"B055"]
[8718528117514,"Artikel",8718528117514,"STUKS","WK6531 XL B2 opdek links","wit 630x2315 slg/vpl","FSC Mix 70% CU-COC 800339","DEUR","BINNEN","BINNEN","MODERN","6531","","","Inventory","",true,"OPDEK","",2315,630,38,"",false,true,false,414.88,502,{"$f":"ROUND(AA3104*(1-VLOOKUP(AF3104,Discounts!C:E,3,0)),2)","v":414.88},null,152040,"B055"]
[8718528117552,"Artikel",8718528117552,"STUKS","WK6531 XL B2 opdek links","wit 730x2315 slg/vpl","FSC Mix 70% CU-COC 800339","DEUR","BINNEN","BINNEN","MODERN","6531","","","Inventory","",true,"OPDEK","",2315,730,38,"",false,true,false,414.88,502,{"$f":"ROUND(AA3108*(1-VLOOKUP(AF3108,Discounts!C:E,3,0)),2)","v":414.88},null,152040,"B055"]
[8718528120736,"Artikel",8718528120736,"STUKS","WK6531 XL B2 opdek rechts","wit 680x2315 slg/vpl","FSC Mix 70% CU-COC 800339","DEUR","BINNEN","BINNEN","MODERN","6531","","","Inventory","",true,"OPDEK","",2315,680,38,"",false,true,false,414.88,502,{"$f":"ROUND(AA3116*(1-VLOOKUP(AF3116,Discounts!C:E,3,0)),2)","v":414.88},null,152040,"B055"]
[8718528019764,"Artikel",8718528019764,"STUKS","WK6532 B2 stomp","wit 930x2015 slg/vpl","FSC Mix 70% CU-COC 800339","DEUR","BINNEN","BINNEN","MODERN","6532","","","Inventory","MDF",true,"STOMP","",2015,930,38,"",false,false,false,411.57,498,{"$f":"ROUND(AA3125*(1-VLOOKUP(AF3125,Discounts!C:E,3,0)),2)","v":411.57},null,152060,"B055"]
[8718528101131,"Artikel",8718528101131,"STUKS","WK6532 B2 stomp","wit 680x2015 slg/vpl","FSC Mix 70% CU-COC 800339","DEUR","BINNEN","BINNEN","MODERN","6532","","","Inventory","MDF",true,"STOMP","",2015,680,38,"",false,false,false,411.57,498,{"$f":"ROUND(AA3131*(1-VLOOKUP(AF3131,Discounts!C:E,3,0)),2)","v":411.57},null,152060,"B055"]
[8718528101186,"Artikel",8718528101186,"STUKS","WK6532 XL B2 stomp","wit 730x2315 slg/vpl","FSC Mix 70% CU-COC 800339","DEUR","BINNEN","BINNEN","MODERN","6532","","","Inventory","MDF",true,"STOMP","",2315,730,38,"",false,false,false,411.57,498,{"$f":"ROUND(AA3136*(1-VLOOKUP(AF3136,Discounts!C:E,3,0)),2)","v":411.57},null,152060,"B055"]
[8718528019672,"Artikel",8718528019672,"STUKS","WK6532 B2 opdek links","wit 830x2115 slg/vpl","FSC Mix 70% CU-COC 800339","DEUR","BINNEN","BINNEN","MODERN","6532","","","Inventory","",true,"OPDEK","",2115,830,38,"",false,true,false,423.97,513,{"$f":"ROUND(AA3143*(1-VLOOKUP(AF3143,Discounts!C:E,3,0)),2)","v":423.97},null,152070,"B055"]
[8718528019740,"Artikel",8718528019740,"STUKS","WK6532 XL B2 opdek links","wit 880x2315 slg/vpl","FSC Mix 70% CU-COC 800339","DEUR","BINNEN","BINNEN","MODERN","6532","","","Inventory","",true,"OPDEK","",2315,880,38,"",false,true,false,423.97,513,{"$f":"ROUND(AA3147*(1-VLOOKUP(AF3147,Discounts!C:E,3,0)),2)","v":423.97},null,152070,"B055"]
[8718528117606,"Artikel",8718528117606,"STUKS","WK6532 XL B2 opdek links","wit 630x2315 slg/vpl","FSC Mix 70% CU-COC 800339","DEUR","BINNEN","BINNEN","MODERN","6532","","","Inventory","",true,"OPDEK","",2315,630,38,"",false,true,false,423.97,513,{"$f":"ROUND(AA3155*(1-VLOOKUP(AF3155,Discounts!C:E,3,0)),2)","v":423.97},null,152070,"B055"]
[8718528117651,"Artikel",8718528117651,"STUKS","WK6532  B2 opdek links","wit 730x2115 slg/vpl","FSC Mix 70% CU-COC 800339","DEUR","BINNEN","BINNEN","MODERN","6532","","","Inventory","",true,"OPDEK","",2115,730,38,"",false,true,false,423.97,513,{"$f":"ROUND(AA3160*(1-VLOOKUP(AF3160,Discounts!C:E,3,0)),2)","v":423.97},null,152070,"B055"]
[8718528117729,"Artikel",8718528117729,"STUKS","WK6532  B2 opdek links","wit 930x2015 slg/vpl","FSC Mix 70% CU-COC 800339","DEUR","BINNEN","BINNEN","MODERN","6532","","","Inventory","",true,"OPDEK","",2015,930,38,"",false,true,false,423.97,513,{"$f":"ROUND(AA3167*(1-VLOOKUP(AF3167,Discounts!C:E,3,0)),2)","v":423.97},null,152070,"B055"]
[8718528120866,"Artikel",8718528120866,"STUKS","WK6532  B2 opdek rechts","wit 780x2015 slg/vpl","FSC Mix 70% CU-COC 800339","DEUR","BINNEN","BINNEN","MODERN","6532","","","Inventory","",true,"OPDEK","",2015,780,38,"",false,true,false,423.97,513,{"$f":"ROUND(AA3177*(1-VLOOKUP(AF3177,Discounts!C:E,3,0)),2)","v":423.97},null,152070,"B055"]
[8718528120910,"Artikel",8718528120910,"STUKS","WK6532  B2 opdek rechts","wit 930x2015 slg/vpl","FSC Mix 70% CU-COC 800339","DEUR","BINNEN","BINNEN","MODERN","6532","","","Inventory","",true,"OPDEK","",2015,930,38,"",false,true,false,423.97,513,{"$f":"ROUND(AA3182*(1-VLOOKUP(AF3182,Discounts!C:E,3,0)),2)","v":423.97},null,152070,"B055"]
[8718528020340,"Artikel",8718528020340,"STUKS","WK6552 B2 stomp","wit 930x2015 slg/vpl","FSC Mix 70% CU-COC 800339","DEUR","BINNEN","BINNEN","MODERN","6552","","","Inventory","MDF",true,"STOMP","",2015,930,38,"",false,false,false,374.38,453,{"$f":"ROUND(AA3188*(1-VLOOKUP(AF3188,Discounts!C:E,3,0)),2)","v":374.38},null,152090,"B055"]
[8718528101339,"Artikel",8718528101339,"STUKS","WK6552 B2 stomp","wit 680x2015 slg/vpl","FSC Mix 70% CU-COC 800339","DEUR","BINNEN","BINNEN","MODERN","6552","","","Inventory","MDF",true,"STOMP","",2015,680,38,"",false,false,false,374.38,453,{"$f":"ROUND(AA3194*(1-VLOOKUP(AF3194,Discounts!C:E,3,0)),2)","v":374.38},null,152090,"B055"]
[8718528101384,"Artikel",8718528101384,"STUKS","WK6552 XL B2 stomp","wit 730x2315 slg/vpl","FSC Mix 70% CU-COC 800339","DEUR","BINNEN","BINNEN","MODERN","6552","","","Inventory","MDF",true,"STOMP","",2315,730,38,"",false,false,false,374.38,453,{"$f":"ROUND(AA3199*(1-VLOOKUP(AF3199,Discounts!C:E,3,0)),2)","v":374.38},null,152090,"B055"]
[8718528020258,"Artikel",8718528020258,"STUKS","WK6552 B2 opdek links","wit 830x2115 slg/vpl","FSC Mix 70% CU-COC 800339","DEUR","BINNEN","BINNEN","MODERN","6552","","","Inventory","",true,"OPDEK","",2115,830,38,"",false,true,false,386.78,468,{"$f":"ROUND(AA3206*(1-VLOOKUP(AF3206,Discounts!C:E,3,0)),2)","v":386.78},null,152100,"B055"]
[8718528020364,"Artikel",8718528020364,"STUKS","WK6552 B2 opdek links","wit 930x2115 slg/vpl","FSC Mix 70% CU-COC 800339","DEUR","BINNEN","BINNEN","MODERN","6552","","","Inventory","",true,"OPDEK","",2115,930,38,"",false,true,false,386.78,468,{"$f":"ROUND(AA3212*(1-VLOOKUP(AF3212,Discounts!C:E,3,0)),2)","v":386.78},null,152100,"B055"]
[8718528117842,"Artikel",8718528117842,"STUKS","WK6552 XL B2 opdek links","wit 630x2315 slg/vpl","FSC Mix 70% CU-COC 800339","DEUR","BINNEN","BINNEN","MODERN","6552","","","Inventory","",true,"OPDEK","",2315,630,38,"",false,true,false,386.78,468,{"$f":"ROUND(AA3218*(1-VLOOKUP(AF3218,Discounts!C:E,3,0)),2)","v":386.78},null,152100,"B055"]
[8718528117958,"Artikel",8718528117958,"STUKS","WK6552  B2 opdek links","wit 880x2015 slg/vpl","FSC Mix 70% CU-COC 800339","DEUR","BINNEN","BINNEN","MODERN","6552","","","Inventory","",true,"OPDEK","",2015,880,38,"",false,true,false,386.78,468,{"$f":"ROUND(AA3229*(1-VLOOKUP(AF3229,Discounts!C:E,3,0)),2)","v":386.78},null,152100,"B055"]
[8718528117965,"Artikel",8718528117965,"STUKS","WK6552  B2 opdek links","wit 930x2015 slg/vpl","FSC Mix 70% CU-COC 800339","DEUR","BINNEN","BINNEN","MODERN","6552","","","Inventory","",true,"OPDEK","",2015,930,38,"",false,true,false,386.78,468,{"$f":"ROUND(AA3230*(1-VLOOKUP(AF3230,Discounts!C:E,3,0)),2)","v":386.78},null,152100,"B055"]
[8718528121108,"Artikel",8718528121108,"STUKS","WK6552  B2 opdek rechts","wit 780x2015 slg/vpl","FSC Mix 70% CU-COC 800339","DEUR","BINNEN","BINNEN","MODERN","6552","","","Inventory","",true,"OPDEK","",2015,780,38,"",false,true,false,386.78,468,{"$f":"ROUND(AA3240*(1-VLOOKUP(AF3240,Discounts!C:E,3,0)),2)","v":386.78},null,152100,"B055"]
[8718528121153,"Artikel",8718528121153,"STUKS","WK6552  B2 opdek rechts","wit 930x2015 slg/vpl","FSC Mix 70% CU-COC 800339","DEUR","BINNEN","BINNEN","MODERN","6552","","","Inventory","",true,"OPDEK","",2015,930,38,"",false,true,false,386.78,468,{"$f":"ROUND(AA3245*(1-VLOOKUP(AF3245,Discounts!C:E,3,0)),2)","v":386.78},null,152100,"B055"]
[8718528153833,"Artikel",8718528153833,"STUKS","Hoeksluitplaat 1266, RVS","Dr 1+3 afgerond","","HENS","SLOTEN","","","","","","Inventory","",false,"","",0,0,0,"",false,false,false,4.96,6,{"$f":"ROUND(AA3251*(1-VLOOKUP(AF3251,Discounts!C:E,3,0)),2)","v":4.96},null,152260,"P101"]
[8718528307304,"Artikel",8718528307304,"STUKS","Greep Smart Black 700 mm","","","HENS","BESLAG","","","","GREEP","","Inventory","",false,"","",0,0,0,"",false,false,false,103.31,125,{"$f":"ROUND(AA3257*(1-VLOOKUP(AF3257,Discounts!C:E,3,0)),2)","v":103.31},null,152380,"O110"]
[8718528153727,"Artikel",8718528153727,"SET","Paarsgewijze bevestiging,","door-de-deur tbv greep Smart","","HENS","BESLAG","","","","","","Inventory","",false,"","",0,0,0,"",false,false,false,6.61,8,{"$f":"ROUND(AA3264*(1-VLOOKUP(AF3264,Discounts!C:E,3,0)),2)","v":6.61},null,152460,"P101"]
[8718528156728,"Artikel",8718528156728,"STUKS","Loopslot, rvs voorplaat Nemef","","","HENS","SLOTEN","","","","SLOT","1255","Inventory","",false,"","",0,0,0,"",false,false,false,23.14,28,{"$f":"ROUND(AA3269*(1-VLOOKUP(AF3269,Discounts!C:E,3,0)),2)","v":23.14},null,153780,"O500"]
[8718528153581,"Artikel",8718528153581,"STUKS","Sluitplaat 1266, afgerond","Staal","","HENS","SLOTEN","","","","SLUITPLAAT","","Inventory","",false,"","",0,0,0,"",false,false,false,4.13,5,{"$f":"ROUND(AA3281*(1-VLOOKUP(AF3281,Discounts!C:E,3,0)),2)","v":4.13},null,155310,"O505"]
[8718528158968,"Artikel",8718528158968,"STUKS","BSW JS V RD 818 STD DD","RVS 89x89x3 mm, compleet","","HENS","SCHARNIER","","","","","","Inventory","",false,"","",0,0,0,"",false,false,false,29.75,36,{"$f":"ROUND(AA3288*(1-VLOOKUP(AF3288,Discounts!C:E,3,0)),2)","v":29.75},null,155470,"O500"]
[8718528157978,"Artikel",8718528157978,"STUKS","Veiligheidsrozettten PVD Black","met ktb","","HENS","BESLAG","","","","VEILIGHEIDSROZET","","Inventory","",false,"","",0,0,0,"",false,false,false,168.6,204,{"$f":"ROUND(AA3292*(1-VLOOKUP(AF3292,Discounts!C:E,3,0)),2)","v":168.6},null,155830,"O115"]
[8718528158043,"Artikel",8718528158043,"STUKS","Deurkruk Frost PVD Black","links","","HENS","BESLAG","","","","DEURKRUK","FROST","Inventory","",false,"","",0,0,0,"",false,false,false,144.63,175,{"$f":"ROUND(AA3296*(1-VLOOKUP(AF3296,Discounts!C:E,3,0)),2)","v":144.63},null,155900,"O115"]
[8718528158470,"Artikel",8718528158470,"SET","Set cilinderrozetten RVS","vierkant","","HENS","BESLAG","","","","CILINDERROZET RVS","","Inventory","",false,"","",0,0,0,"RVS",false,false,false,15.7,19,{"$f":"ROUND(AA3303*(1-VLOOKUP(AF3303,Discounts!C:E,3,0)),2)","v":15.7},null,156680,"O110"]
[8718528158524,"Artikel",8718528158524,"SET","Set sleutelrozetten Black","vierkant","","HENS","BESLAG","","","","SLEUTELROZET","","Inventory","",false,"","",0,0,0,"ZWART",false,false,false,15.7,19,{"$f":"ROUND(AA3308*(1-VLOOKUP(AF3308,Discounts!C:E,3,0)),2)","v":15.7},null,156730,"O110"]
[8718528216088,"Artikel",8718528216088,"STUKS","Invisible scharnieren","BSW Hide 130-70, zwart","","HENS","SCHARNIER","","","","","","Inventory","",false,"","",0,0,0,"",false,false,false,47.93,58,{"$f":"ROUND(AA3316*(1-VLOOKUP(AF3316,Discounts!C:E,3,0)),2)","v":47.93},null,158280,"O500"]
[8718528313251,"Artikel",8718528313251,"STUKS","Deurkruk Line rvs rechts","","","HENS","BESLAG","","","","DEURKRUK LIFETIME","LINE ROND","Inventory","",false,"","",0,0,0,"RVS",false,false,false,34.71,42,{"$f":"ROUND(AA3327*(1-VLOOKUP(AF3327,Discounts!C:E,3,0)),2)","v":34.71},null,160590,"O110"]
[8718528313428,"Artikel",8718528313428,"STUKS","Krukstel Solid rvs","","","HENS","BESLAG","","","","KRUKSTEL LIFETIME","SOLID","Inventory","",false,"","",0,0,0,"",false,false,false,32.23,39,{"$f":"ROUND(AA3333*(1-VLOOKUP(AF3333,Discounts!C:E,3,0)),2)","v":32.23},null,160660,"O110"]
[8718528313541,"Artikel",8718528313541,"STUKS","Krukstel Fresh rvs","","","HENS","BESLAG","","","","KRUKSTEL LIFETIME","FRESH","Inventory","",false,"","",0,0,0,"RVS",false,false,false,32.23,39,{"$f":"ROUND(AA3339*(1-VLOOKUP(AF3339,Discounts!C:E,3,0)),2)","v":32.23},null,160720,"O110"]
[8718528313640,"Artikel",8718528313640,"STUKS","Krukstel Combo Round Black","","","HENS","BESLAG","","","","KRUKSTEL LIFETIME","COMBO","Inventory","",false,"","",0,0,0,"",false,false,false,70.25,85,{"$f":"ROUND(AA3344*(1-VLOOKUP(AF3344,Discounts!C:E,3,0)),2)","v":70.25},null,160770,"O110"]
[8718528313701,"Artikel",8718528313701,"STUKS","Krukstel Globe rvs","","","HENS","BESLAG","","","","KRUKSTEL LIFETIME","GLOBE","Inventory","",false,"","",0,0,0,"RVS",false,false,false,32.23,39,{"$f":"ROUND(AA3347*(1-VLOOKUP(AF3347,Discounts!C:E,3,0)),2)","v":32.23},null,160800,"O110"]
[8718528313862,"Artikel",8718528313862,"STUKS","Set sleutelrozetten","rvs rond 53 mm","","HENS","BESLAG","","","","SLEUTELROZET","ROND","Inventory","",false,"","",0,0,0,"RVS",false,false,false,15.7,19,{"$f":"ROUND(AA3355*(1-VLOOKUP(AF3355,Discounts!C:E,3,0)),2)","v":15.7},null,160900,"O110"]
[8718528307250,"Artikel",8718528307250,"SET","VH rozetten met KTB black rond","","","HENS","BESLAG","","","","VEILIGHEIDSROZET","","Inventory","",false,"","",0,0,0,"",false,false,false,73.55,89,{"$f":"ROUND(AA3366*(1-VLOOKUP(AF3366,Discounts!C:E,3,0)),2)","v":73.55},null,161110,"O115"]
[8718528230237,"Artikel",8718528230237,"STUKS","Set schuifdeurkommen Smooth","PVD Black","","HENS","BESLAG","","","","SCHUIFDEURKOM","","Inventory","",false,"","",0,0,0,"",false,false,false,114.88,139,{"$f":"ROUND(AA3372*(1-VLOOKUP(AF3372,Discounts!C:E,3,0)),2)","v":114.88},null,161180,"O110"]
[8718528307243,"Artikel",8718528307243,"SET","VH rozetten met KTB rvs rond","","","HENS","BESLAG","","","","VEILIGHEIDSROZET","","Inventory","",false,"","",0,0,0,"RVS",false,false,false,61.98,75,{"$f":"ROUND(AA3378*(1-VLOOKUP(AF3378,Discounts!C:E,3,0)),2)","v":61.98},null,162050,"O115"]
[8718528330135,"Artikel",8718528330135,"STUKS","Paddle Aluminium(draaib), set,","ktb, PC55, incl. stift","en schroeven voor 38-54 mm","HENS","BESLAG","","","","","PADDLE","Inventory","",false,"","",0,0,0,"",false,false,false,94.21,114,{"$f":"ROUND(AA3385*(1-VLOOKUP(AF3385,Discounts!C:E,3,0)),2)","v":94.21},null,162170,"O115"]
[8718528330272,"Artikel",8718528330272,"STUKS","Paddle Alum(vast),set,ktb,","PC92 incl. stift en schroeven","voor 38-54 mm","HENS","BESLAG","","","","","PADDLE","Inventory","",false,"","",0,0,0,"",false,false,false,94.21,114,{"$f":"ROUND(AA3390*(1-VLOOKUP(AF3390,Discounts!C:E,3,0)),2)","v":94.21},null,162180,"O115"]
[8718528330029,"Artikel",8718528330029,"STUKS","Narrow Alu, VH set smal, ktb,","PC72, incl. stift","en schroeven voor 38-54 mm","HENS","BESLAG","","","","","NARROW","Inventory","",false,"","",0,0,0,"",false,false,false,85.12,103,{"$f":"ROUND(AA3396*(1-VLOOKUP(AF3396,Discounts!C:E,3,0)),2)","v":85.12},null,162210,"O115"]
[8718528332009,"Artikel",8718528332009,"STUKS","Clean Black, briefplaat en","tochtklep met schacht set voor","38-68mm deuren","HENS","BESLAG","","","","BRIEFPLAAT","CLEAN","Inventory","",false,"","",0,0,0,"",false,false,false,94.21,114,{"$f":"ROUND(AA3405*(1-VLOOKUP(AF3405,Discounts!C:E,3,0)),2)","v":94.21},null,162260,"O115"]
[8718528153178,"Artikel",8718528153178,"STUKS","Loopslot Magnetisch,","zwarte voorpl.,incl.sluitpotje","","HENS","SLOTEN","","","","","","Inventory","",false,"","",0,0,0,"",false,false,false,23.14,28,{"$f":"ROUND(AA3407*(1-VLOOKUP(AF3407,Discounts!C:E,3,0)),2)","v":23.14},null,162280,"P101"]
[8718528337721,"Artikel",8718528337721,"STUKS","AluMaxx®FSC® 1250x3000,40 mm","ingroefbaar FSC 100%","","DEUR","VLAK","VLAK","AL","3000","INGROEFBAAR","","Inventory","",true,"","",0,0,40,"",false,false,false,1060.33,1283,{"$f":"ROUND(AA3417*(1-VLOOKUP(AF3417,Discounts!C:E,3,0)),2)","v":1060.33},null,164470,"D060"]
[8718528342282,"Artikel",8718528342282,"STUKS","Beldrukker Disc Black","","","HENS","BESLAG","","","","BELDRUKKER","DISC","Inventory","",false,"","",0,0,0,"",false,false,false,57.85,70,{"$f":"ROUND(AA3424*(1-VLOOKUP(AF3424,Discounts!C:E,3,0)),2)","v":57.85},null,165970,"P102"]
[8718528348970,"Artikel",8718528348970,"STUKS","KRUKSTEL SOLID XS BRONZE","","","HENS","BESLAG","","","","KRUKSTEL","SOLID XS","Inventory","",false,"","",0,0,0,"BRONZE",false,false,false,40.5,49,{"$f":"ROUND(AA3429*(1-VLOOKUP(AF3429,Discounts!C:E,3,0)),2)","v":40.5},null,166880,"O100"]
[8718528349212,"Artikel",8718528349212,"STUKS","Set toiletgarnituur Vierkant","Messing","","HENS","BESLAG","","","","TOILETGARNITUUR","VIERKANT","Inventory","",false,"","",0,0,0,"MESSING",false,false,false,30.58,37,{"$f":"ROUND(AA3437*(1-VLOOKUP(AF3437,Discounts!C:E,3,0)),2)","v":30.58},null,166960,"O100"]
[8718528349335,"Artikel",8718528349335,"STUKS","DEURGREEP SOLID BLACK 820 MM","","","HENS","BESLAG","","","","DEURGREEP","SOLID","Inventory","",false,"","",0,0,0,"ZWART",false,false,false,57.02,69,{"$f":"ROUND(AA3441*(1-VLOOKUP(AF3441,Discounts!C:E,3,0)),2)","v":57.02},null,167000,"O100"]
[8718528349540,"Artikel",8718528349540,"STUKS","DEURGREEP SOLID XS BRONZE","816 MM","","HENS","BESLAG","","","","DEURGREEP","SOLID XS","Inventory","",false,"","",0,0,0,"BRONZE",false,false,false,73.55,89,{"$f":"ROUND(AA3448*(1-VLOOKUP(AF3448,Discounts!C:E,3,0)),2)","v":73.55},null,167070,"O100"]
[8718528349694,"Artikel",8718528349694,"STUKS","SET SCHUIFDEURKOMMEN VIERKANT","RVS","","HENS","BESLAG","","","","SCHUIFDEURKOMMEN","VIERKANT","Inventory","",false,"","",0,0,0,"RVS",false,false,false,32.23,39,{"$f":"ROUND(AA3453*(1-VLOOKUP(AF3453,Discounts!C:E,3,0)),2)","v":32.23},null,167120,"O100"]
[8718528349892,"Artikel",8718528349892,"STUKS","KRUKSTEL LINE GRIP BLACK","","","HENS","BESLAG","","","","KRUKSTEL","LINE GRIP","Inventory","",false,"","",0,0,0,"ZWART",false,false,false,57.02,69,{"$f":"ROUND(AA3459*(1-VLOOKUP(AF3459,Discounts!C:E,3,0)),2)","v":57.02},null,167180,"O100"]
[8718528350195,"Artikel",8718528350195,"STUKS","TOILETGARNITUUR RVS","ROND 54MM","","HENS","BESLAG","","","","TOILETGARNITUUR","ROND","Inventory","",false,"","",0,0,0,"RVS",false,false,false,30.58,37,{"$f":"ROUND(AA3468*(1-VLOOKUP(AF3468,Discounts!C:E,3,0)),2)","v":30.58},null,167270,"O100"]
[8718528350454,"Artikel",8718528350454,"STUKS","SET SCHUIFDEURKOMMEN ROND","BLACK","","HENS","BESLAG","","","","SCHUIFDEURKOMMEN","ROND","Inventory","",false,"","",0,0,0,"ZWART",false,false,false,32.23,39,{"$f":"ROUND(AA3476*(1-VLOOKUP(AF3476,Discounts!C:E,3,0)),2)","v":32.23},null,167350,"O100"]
[8718528350577,"Artikel",8718528350577,"STUKS","KRUKSTEL DOME RVS","","","HENS","BESLAG","","","","KRUKSTEL","DOME","Inventory","",false,"","",0,0,0,"RVS",false,false,false,32.23,39,{"$f":"ROUND(AA3480*(1-VLOOKUP(AF3480,Discounts!C:E,3,0)),2)","v":32.23},null,167390,"O100"]
[8718528350843,"Artikel",8718528350843,"STUKS","DEURKNOP PLANET MESSING","","","HENS","BESLAG","","","","DEURKNOP","PLANET","Inventory","",false,"","",0,0,0,"MESSING",false,false,false,48.76,59,{"$f":"ROUND(AA3489*(1-VLOOKUP(AF3489,Discounts!C:E,3,0)),2)","v":48.76},null,167480,"O100"]
[8718528350935,"Artikel",8718528350935,"STUKS","DEURKNOP ACRE MESSING","","","HENS","BESLAG","","","","DEURKNOP","ACRE","Inventory","",false,"","",0,0,0,"MESSING",false,false,false,48.76,59,{"$f":"ROUND(AA3492*(1-VLOOKUP(AF3492,Discounts!C:E,3,0)),2)","v":48.76},null,167510,"O100"]
[8718528347478,"Artikel",8718528347478,"STUKS","Set Cilinderrozetten","Dark Metallic Rond","","HENS","BESLAG","","","","CILINDERROZET","ROND","Inventory","",false,"","",0,0,0,"DARK METAL",false,false,false,25.62,31,{"$f":"ROUND(AA3500*(1-VLOOKUP(AF3500,Discounts!C:E,3,0)),2)","v":25.62},null,167590,"O100"]
[8718528347591,"Artikel",8718528347591,"STUKS","Toiletgarnituur","Dark Metallic Rond","","HENS","BESLAG","","","","TOILETGARNITUUR","ROND","Inventory","",false,"","",0,0,0,"DARK METAL",false,false,false,50.41,61,{"$f":"ROUND(AA3504*(1-VLOOKUP(AF3504,Discounts!C:E,3,0)),2)","v":50.41},null,167630,"O100"]
[8718528347898,"Artikel",8718528347898,"STUKS","Krukstel Club","Soft Touch Black","","HENS","BESLAG","","","","KRUKSTEL","CLUB","Inventory","",false,"","",0,0,0,"ZWART",false,false,false,85.12,103,{"$f":"ROUND(AA3511*(1-VLOOKUP(AF3511,Discounts!C:E,3,0)),2)","v":85.12},null,167700,"O100"]
[8718528348178,"Artikel",8718528348178,"STUKS","Set Schuifdeurkommen","Soft Touch Black Vierkant","","HENS","BESLAG","","","","SCHUIFDEURKOMMEN","VIERKANT","Inventory","",false,"","",0,0,0,"ZWART",false,false,false,50.41,61,{"$f":"ROUND(AA3519*(1-VLOOKUP(AF3519,Discounts!C:E,3,0)),2)","v":50.41},null,167780,"O100"]
[8718528351956,"Artikel",8718528351956,"STUKS","Deurkruk Line RVS Links","","","HENS","BESLAG","","","","DEURKRUK","LINE","Inventory","",false,"","",0,0,0,"RVS",false,false,false,23.97,29,{"$f":"ROUND(AA3528*(1-VLOOKUP(AF3528,Discounts!C:E,3,0)),2)","v":23.97},null,167890,"O100"]
[8718528353028,"Artikel",8718528353028,"STUKS","Deurkruk Solid RVS Rechts","","","HENS","BESLAG","","","","KRUK","SOLID","Inventory","",false,"","",0,0,0,"RVS",false,false,false,23.97,29,{"$f":"ROUND(AA3531*(1-VLOOKUP(AF3531,Discounts!C:E,3,0)),2)","v":23.97},null,167980,"O100"]
[8718528342589,"Artikel",8718528342589,"STUKS","Toiletslot, RVS voorplaat DM50","inclusief sluitplaat","","HENS","SLOTEN","","","","TOILETSLOT","","Inventory","",false,"","",0,0,0,"RVS",false,false,false,14.05,17,{"$f":"ROUND(AA3541*(1-VLOOKUP(AF3541,Discounts!C:E,3,0)),2)","v":14.05},null,168080,"O500"]
[8718528342640,"Artikel",8718528342640,"STUKS","Loopslot, RVS voorplaat DM 50","inclusief sluitplaat","","HENS","SLOTEN","","","","LOOPSLOT","","Inventory","",false,"","",0,0,0,"RVS",false,false,false,12.4,15,{"$f":"ROUND(AA3543*(1-VLOOKUP(AF3543,Discounts!C:E,3,0)),2)","v":12.4},null,168100,"O500"]
[8718528342916,"Artikel",8718528342916,"STUKS","Smal magnetisch dag en nacht","cilinderslot, zwarte voorplaat","DM45 inclusief sluitkom en sluitplaat","HENS","SLOTEN","","","","MAGNEET CILINDER","","Inventory","",false,"","",0,0,0,"ZWART",false,false,false,41.32,50,{"$f":"ROUND(AA3552*(1-VLOOKUP(AF3552,Discounts!C:E,3,0)),2)","v":41.32},null,168190,"O500"]
[8718528343005,"Artikel",8718528343005,"STUKS","Smal magnetisch toiletslot,RVS","voorplaat DM45 inclusief","sluitkom en sluitplaat","HENS","SLOTEN","","","","MAGNEET TOILET","","Inventory","",false,"","",0,0,0,"RVS",false,false,false,41.32,50,{"$f":"ROUND(AA3555*(1-VLOOKUP(AF3555,Discounts!C:E,3,0)),2)","v":41.32},null,168220,"O500"]
[8718528343241,"Artikel",8718528343241,"STUKS","Magnetisch toiletslot, RVS","voorplaat DM50 inclusief","sluitkom en sluitplaat","HENS","SLOTEN","","","","MAGNEET TOILET","","Inventory","",false,"","",0,0,0,"RVS",false,false,false,19.01,23,{"$f":"ROUND(AA3563*(1-VLOOKUP(AF3563,Discounts!C:E,3,0)),2)","v":19.01},null,168300,"O500"]
[8718528343548,"Artikel",8718528343548,"STUKS","Vlakke sluitplaat zwart t.b.v.","(smal) magnetisch loopslot","","HENS","SLOTEN","","","","SLUITPLAAT","","Inventory","",false,"","",0,0,0,"ZWART",false,false,false,4.13,5,{"$f":"ROUND(AA3570*(1-VLOOKUP(AF3570,Discounts!C:E,3,0)),2)","v":4.13},null,168370,"P102"]
[8718528343968,"Artikel",8718528343968,"STUKS","Vlakke sluitplaat wit t.b.v.","(smal) kastslot","","HENS","SLOTEN","","","","SLUITPLAAT","","Inventory","",false,"","",0,0,0,"WIT",false,false,false,4.13,5,{"$f":"ROUND(AA3580*(1-VLOOKUP(AF3580,Discounts!C:E,3,0)),2)","v":4.13},null,168480,"P102"]
[8718528357286,"Artikel",8718528357286,"STUKS","Driehoeksgreep BLACK","incl. bevestigingsmateriaal","","","","","","","DRIEHOEKSGREEP","","Inventory","",false,"","",0,0,0,"ZWART",false,false,false,123.14,149,{"$f":"ROUND(AA3582*(1-VLOOKUP(AF3582,Discounts!C:E,3,0)),2)","v":123.14},null,197430,"O100"]
["WK4600","Maatwerk",null,"SET","mw blank iso glas tbv WK1115",null,null,"GLAS","","LUXBUITEN","VNM","1115","BLANK","ISOLATIEGLAS","Order","",false,"","",0,0,0,"",false,false,false,114.05,138,{"$f":"ROUND(AA3591*(1-VLOOKUP(AF3591,Discounts!C:E,3,0)),2)","v":114.05},null,4600,"P105"]
["WK4640","Maatwerk",null,"SET","mw gefigureerd serie 1 iso glas tbv WK1116",null,null,"GLAS","","LUXBUITEN","VNM","1116","GEFIGUREERD SERIE 1","ISOLATIEGLAS","Order","",false,"","",0,0,0,"",false,false,false,138.84,168,{"$f":"ROUND(AA3594*(1-VLOOKUP(AF3594,Discounts!C:E,3,0)),2)","v":138.84},null,4640,"P105"]
["WK4850","Maatwerk",null,"SET","mw gefigureerd serie 1 iso glas tbv WK1153",null,null,"GLAS","","LUXBUITEN","VNM","1153","GEFIGUREERD SERIE 1","ISOLATIEGLAS","Order","",false,"","",0,0,0,"",false,false,false,100.83,122,{"$f":"ROUND(AA3604*(1-VLOOKUP(AF3604,Discounts!C:E,3,0)),2)","v":100.83},null,4850,"P105"]
["WK5090","Maatwerk",null,"SET","mw gefigureerd serie 1 iso VH glas tbv WK1116",null,null,"GLAS","","LUXBUITEN","VNM","1116","GEFIGUREERD SERIE 1","ISO VEILIGHEIDSGLAS","Order","",false,"","",0,0,0,"",false,false,false,185.95,225,{"$f":"ROUND(AA3613*(1-VLOOKUP(AF3613,Discounts!C:E,3,0)),2)","v":185.95},null,5090,"P105"]
["WK5180","Maatwerk",null,"SET","mw gefigureerd serie 1 iso VH glas tbv WK1132",null,null,"GLAS","","LUXBUITEN","VNM","1132","GEFIGUREERD SERIE 1","ISO VEILIGHEIDSGLAS","Order","",false,"","",0,0,0,"",false,false,false,211.57,256,{"$f":"ROUND(AA3615*(1-VLOOKUP(AF3615,Discounts!C:E,3,0)),2)","v":211.57},null,5180,"P105"]
["WK5270","Maatwerk",null,"SET","mw gefigureerd serie 1 iso VH glas tbv WK1152",null,null,"GLAS","","LUXBUITEN","VNM","1152","GEFIGUREERD SERIE 1","ISO VEILIGHEIDSGLAS","Order","",false,"","",0,0,0,"",false,false,false,120.66,146,{"$f":"ROUND(AA3621*(1-VLOOKUP(AF3621,Discounts!C:E,3,0)),2)","v":120.66},null,5270,"P105"]
["WK5710","Maatwerk",null,"SET","mw blank iso VH glas tbv WK1232",null,null,"GLAS","","LUXBUITEN","VD","1232","BLANK","ISO VEILIGHEIDSGLAS","Order","",false,"","",0,0,0,"",false,false,false,356.2,431,{"$f":"ROUND(AA3632*(1-VLOOKUP(AF3632,Discounts!C:E,3,0)),2)","v":356.2},null,5710,"P106"]
["WK5720","Maatwerk",null,"SET","mw gefigureerd serie 1 iso VH glas tbv WK1232",null,null,"GLAS","","LUXBUITEN","VD","1232","GEFIGUREERD SERIE 1","ISO VEILIGHEIDSGLAS","Order","",false,"","",0,0,0,"",false,false,false,399.17,483,{"$f":"ROUND(AA3633*(1-VLOOKUP(AF3633,Discounts!C:E,3,0)),2)","v":399.17},null,5720,"P106"]
["WK5990","Maatwerk",null,"SET","mw gefigureerd serie 1 iso glas tbv WK1342",null,null,"GLAS","","LUXBUITEN","VD","1342","GEFIGUREERD SERIE 1","ISOLATIEGLAS","Order","",false,"","",0,0,0,"",false,false,false,570.25,690,{"$f":"ROUND(AA3643*(1-VLOOKUP(AF3643,Discounts!C:E,3,0)),2)","v":570.25},null,5990,"P106"]
["WK6160","Maatwerk",null,"SET","mw blank iso VH glas tbv WK1313",null,null,"GLAS","","LUXBUITEN","VD","1313","BLANK","ISO VEILIGHEIDSGLAS","Order","",false,"","",0,0,0,"",false,false,false,195.04,236,{"$f":"ROUND(AA3652*(1-VLOOKUP(AF3652,Discounts!C:E,3,0)),2)","v":195.04},null,6160,"P106"]
["WK6250","Maatwerk",null,"SET","mw blank iso VH glas tbv WK1342",null,null,"GLAS","","LUXBUITEN","VD","1342","BLANK","ISO VEILIGHEIDSGLAS","Order","",false,"","",0,0,0,"",false,false,false,686.78,831,{"$f":"ROUND(AA3656*(1-VLOOKUP(AF3656,Discounts!C:E,3,0)),2)","v":686.78},null,6250,"P106"]
["WK6430","Maatwerk",null,"SET","mw blank iso glas tbv WK1366",null,null,"GLAS","","LUXBUITEN","VD","1366","BLANK","ISOLATIEGLAS","Order","",false,"","",0,0,0,"",false,false,false,295.04,357,{"$f":"ROUND(AA3664*(1-VLOOKUP(AF3664,Discounts!C:E,3,0)),2)","v":295.04},null,6430,"P106"]
["WK6470","Maatwerk",null,"SET","mw gefigureerd serie 1 iso glas tbv WK1367",null,null,"GLAS","","LUXBUITEN","VD","1367","GEFIGUREERD SERIE 1","ISOLATIEGLAS","Order","",false,"","",0,0,0,"",false,false,false,435.54,527,{"$f":"ROUND(AA3667*(1-VLOOKUP(AF3667,Discounts!C:E,3,0)),2)","v":435.54},null,6470,"P106"]
["WK6640","Maatwerk",null,"SET","mw blank iso VH glas tbv WK1366",null,null,"GLAS","","LUXBUITEN","VD","1366","BLANK","ISO VEILIGHEIDSGLAS","Order","",false,"","",0,0,0,"",false,false,false,438.84,531,{"$f":"ROUND(AA3672*(1-VLOOKUP(AF3672,Discounts!C:E,3,0)),2)","v":438.84},null,6640,"P106"]
["WK6970","Maatwerk",null,"SET","mw blank iso glas tbv WK1432",null,null,"GLAS","","LUXBUITEN","DD","1432","BLANK","ISOLATIEGLAS","Order","",false,"","",0,0,0,"",false,false,false,83.47,101,{"$f":"ROUND(AA3684*(1-VLOOKUP(AF3684,Discounts!C:E,3,0)),2)","v":83.47},null,6970,"P106"]
["WK7220","Maatwerk",null,"SET","mw gefigureerd serie 1 iso glas tbv WK1541",null,null,"GLAS","","LUXBUITEN","VD","1541","GEFIGUREERD SERIE 1","ISOLATIEGLAS","Order","",false,"","",0,0,0,"",false,false,false,152.07,184,{"$f":"ROUND(AA3691*(1-VLOOKUP(AF3691,Discounts!C:E,3,0)),2)","v":152.07},null,7220,"P106"]
["WK7310","Maatwerk",null,"SET","mw gefigureerd serie 1 iso glas tbv WK1544",null,null,"GLAS","","LUXBUITEN","VD","1544","GEFIGUREERD SERIE 1","ISOLATIEGLAS","Order","",false,"","",0,0,0,"",false,false,false,143.8,174,{"$f":"ROUND(AA3695*(1-VLOOKUP(AF3695,Discounts!C:E,3,0)),2)","v":143.8},null,7310,"P106"]
["WK7550","Maatwerk",null,"SET","mw gefigureerd serie 1 iso VH glas tbv WK1433",null,null,"GLAS","","LUXBUITEN","DD","1433","GEFIGUREERD SERIE 1","ISO VEILIGHEIDSGLAS","Order","",false,"","",0,0,0,"",false,false,false,307.44,372,{"$f":"ROUND(AA3703*(1-VLOOKUP(AF3703,Discounts!C:E,3,0)),2)","v":307.44},null,7550,"P106"]
["WK7780","Maatwerk",null,"SET","mw blank iso VH glas tbv WK1542",null,null,"GLAS","","LUXBUITEN","VD","1542","BLANK","ISO VEILIGHEIDSGLAS","Order","",false,"","",0,0,0,"",false,false,false,187.6,227,{"$f":"ROUND(AA3708*(1-VLOOKUP(AF3708,Discounts!C:E,3,0)),2)","v":187.6},null,7780,"P106"]
["WK8030","Maatwerk",null,"SET","mw gefigureerd serie 1 iso glas tbv WK1622",null,null,"GLAS","","LUXBUITEN","VD","1622","GEFIGUREERD SERIE 1","ISOLATIEGLAS","Order","",false,"","",0,0,0,"",false,false,false,185.12,224,{"$f":"ROUND(AA3715*(1-VLOOKUP(AF3715,Discounts!C:E,3,0)),2)","v":185.12},null,8030,"P106"]
["WK8330","Maatwerk",null,"SET","mw gefigureerd serie 1 iso VH glas tbv WK1555",null,null,"GLAS","","LUXBUITEN","VD","1555","GEFIGUREERD SERIE 1","ISO VEILIGHEIDSGLAS","Order","",false,"","",0,0,0,"",false,false,false,120.66,146,{"$f":"ROUND(AA3719*(1-VLOOKUP(AF3719,Discounts!C:E,3,0)),2)","v":120.66},null,8330,"P106"]
["WK8660","Maatwerk",null,"SET","mw gefigureerd serie 1 iso glas tbv WK1721",null,null,"GLAS","","LUXBUITEN","VD","1721","GEFIGUREERD SERIE 1","ISOLATIEGLAS","Order","",false,"","",0,0,0,"",false,false,false,292.56,354,{"$f":"ROUND(AA3727*(1-VLOOKUP(AF3727,Discounts!C:E,3,0)),2)","v":292.56},null,8660,"P106"]
["WK8920","Maatwerk",null,"SET","mw blank iso glas tbv WK1741",null,null,"GLAS","","LUXBUITEN","VD","1741","BLANK","ISOLATIEGLAS","Order","",false,"","",0,0,0,"",false,false,false,195.04,236,{"$f":"ROUND(AA3736*(1-VLOOKUP(AF3736,Discounts!C:E,3,0)),2)","v":195.04},null,8920,"P106"]
["WK9100","Maatwerk",null,"SET","mw blank iso VH glas tbv WK1721",null,null,"GLAS","","LUXBUITEN","VD","1721","BLANK","ISO VEILIGHEIDSGLAS","Order","",false,"","",0,0,0,"",false,false,false,365.29,442,{"$f":"ROUND(AA3742*(1-VLOOKUP(AF3742,Discounts!C:E,3,0)),2)","v":365.29},null,9100,"P106"]
["WK9200","Maatwerk",null,"SET","mw gefigureerd serie 1 iso VH glas tbv WK1724",null,null,"GLAS","","LUXBUITEN","VD","1724","GEFIGUREERD SERIE 1","ISO VEILIGHEIDSGLAS","Order","",false,"","",0,0,0,"",false,false,false,399.17,483,{"$f":"ROUND(AA3747*(1-VLOOKUP(AF3747,Discounts!C:E,3,0)),2)","v":399.17},null,9200,"P106"]
["WK9490","Maatwerk",null,"SET","mw blank iso VH glas tbv WK1831",null,null,"GLAS","","LUXBUITEN","VD","1831","BLANK","ISO VEILIGHEIDSGLAS","Order","",false,"","",0,0,0,"",false,false,false,274.38,332,{"$f":"ROUND(AA3754*(1-VLOOKUP(AF3754,Discounts!C:E,3,0)),2)","v":274.38},null,9490,"P106"]
["WK9640","Maatwerk",null,"SET","mw blank iso glas tbv WK1853",null,null,"GLAS","","LUXBUITEN","VD","1853","BLANK","ISOLATIEGLAS","Order","",false,"","",0,0,0,"",false,false,false,314.05,380,{"$f":"ROUND(AA3760*(1-VLOOKUP(AF3760,Discounts!C:E,3,0)),2)","v":314.05},null,9640,"P106"]
["WK10060","Maatwerk",null,"SET","mw blank iso VH glas tbv WK1843",null,null,"GLAS","","LUXBUITEN","VD","1843","BLANK","ISO VEILIGHEIDSGLAS","Order","",false,"","",0,0,0,"",false,false,false,813.22,984,{"$f":"ROUND(AA3766*(1-VLOOKUP(AF3766,Discounts!C:E,3,0)),2)","v":813.22},null,10060,"P106"]
["WK10160","Maatwerk",null,"SET","mw gefigureerd serie 1 iso VH glas tbv WK1853",null,null,"GLAS","","LUXBUITEN","VD","1853","GEFIGUREERD SERIE 1","ISO VEILIGHEIDSGLAS","Order","",false,"","",0,0,0,"",false,false,false,673.55,815,{"$f":"ROUND(AA3771*(1-VLOOKUP(AF3771,Discounts!C:E,3,0)),2)","v":673.55},null,10160,"P106"]
["WK10570","Maatwerk",null,"SET","mw blank iso glas tbv WK2132",null,null,"GLAS","","LUXBUITEN","DD","2132","BLANK","ISOLATIEGLAS","Order","",false,"","",0,0,0,"",false,false,false,139.67,169,{"$f":"ROUND(AA3778*(1-VLOOKUP(AF3778,Discounts!C:E,3,0)),2)","v":139.67},null,10570,"P106"]
["WK10870","Maatwerk",null,"SET","mw blank iso glas tbv WK2154",null,null,"GLAS","","LUXBUITEN","DD","2154","BLANK","ISOLATIEGLAS","Order","",false,"","",0,0,0,"",false,false,false,276.86,335,{"$f":"ROUND(AA3788*(1-VLOOKUP(AF3788,Discounts!C:E,3,0)),2)","v":276.86},null,10870,"P106"]
["WK11000","Maatwerk",null,"SET","mw gefigureerd serie 1 iso glas tbv WK2232",null,null,"GLAS","","LUXBUITEN","DD","2232","GEFIGUREERD SERIE 1","ISOLATIEGLAS","Order","",false,"","",0,0,0,"",false,false,false,168.6,204,{"$f":"ROUND(AA3793*(1-VLOOKUP(AF3793,Discounts!C:E,3,0)),2)","v":168.6},null,11000,"P106"]
["WK11240","Maatwerk",null,"SET","mw gefigureerd serie 1 iso VH glas tbv WK2134",null,null,"GLAS","","LUXBUITEN","DD","2134","GEFIGUREERD SERIE 1","ISO VEILIGHEIDSGLAS","Order","",false,"","",0,0,0,"",false,false,false,399.17,483,{"$f":"ROUND(AA3799*(1-VLOOKUP(AF3799,Discounts!C:E,3,0)),2)","v":399.17},null,11240,"P106"]
["WK11390","Maatwerk",null,"SET","mw gefigureerd serie 1 iso VH glas tbv WK2144",null,null,"GLAS","","LUXBUITEN","DD","2144","GEFIGUREERD SERIE 1","ISO VEILIGHEIDSGLAS","Order","",false,"","",0,0,0,"",false,false,false,466.12,564,{"$f":"ROUND(AA3805*(1-VLOOKUP(AF3805,Discounts!C:E,3,0)),2)","v":466.12},null,11390,"P106"]
["WK11620","Maatwerk",null,"SET","mw blank iso VH glas tbv WK2232",null,null,"GLAS","","LUXBUITEN","DD","2232","BLANK","ISO VEILIGHEIDSGLAS","Order","",false,"","",0,0,0,"",false,false,false,196.69,238,{"$f":"ROUND(AA3810*(1-VLOOKUP(AF3810,Discounts!C:E,3,0)),2)","v":196.69},null,11620,"P106"]
["WK12350","Maatwerk",null,"SET","mw gefigureerd serie 1 iso glas tbv WK2532",null,null,"GLAS","","LUXBUITEN","DD","2532","GEFIGUREERD SERIE 1","ISOLATIEGLAS","Order","",false,"","",0,0,0,"",false,false,false,168.6,204,{"$f":"ROUND(AA3817*(1-VLOOKUP(AF3817,Discounts!C:E,3,0)),2)","v":168.6},null,12350,"P106"]
["WK12470","Maatwerk",null,"SET","mw gefigureerd serie 1 iso VH glas tbv WK2246",null,null,"GLAS","","LUXBUITEN","DD","2246","GEFIGUREERD SERIE 1","ISO VEILIGHEIDSGLAS","Order","",false,"","",0,0,0,"",false,false,false,649.59,786,{"$f":"ROUND(AA3823*(1-VLOOKUP(AF3823,Discounts!C:E,3,0)),2)","v":649.59},null,12470,"P106"]
["WK13010","Maatwerk",null,"SET","mw gefigureerd serie 1 iso VH glas tbv WK2534",null,null,"GLAS","","LUXBUITEN","DD","2534","GEFIGUREERD SERIE 1","ISO VEILIGHEIDSGLAS","Order","",false,"","",0,0,0,"",false,false,false,399.17,483,{"$f":"ROUND(AA3829*(1-VLOOKUP(AF3829,Discounts!C:E,3,0)),2)","v":399.17},null,13010,"P106"]
["WK13330","Maatwerk",null,"SET","mw blank iso glas tbv WK2559",null,null,"GLAS","","LUXBUITEN","DD","2559","BLANK","ISOLATIEGLAS","Order","",false,"","",0,0,0,"",false,false,false,556.2,673,{"$f":"ROUND(AA3840*(1-VLOOKUP(AF3840,Discounts!C:E,3,0)),2)","v":556.2},null,13330,"P106"]
["WK13870","Maatwerk",null,"SET","mw blank iso VH glas tbv WK2544",null,null,"GLAS","","LUXBUITEN","DD","2544","BLANK","ISO VEILIGHEIDSGLAS","Order","",false,"","",0,0,0,"",false,false,false,412.4,499,{"$f":"ROUND(AA3844*(1-VLOOKUP(AF3844,Discounts!C:E,3,0)),2)","v":412.4},null,13870,"P106"]
["WK14060","Maatwerk",null,"SET","mw gefigureerd serie 1 iso VH glas tbv WK2559",null,null,"GLAS","","LUXBUITEN","DD","2559","GEFIGUREERD SERIE 1","ISO VEILIGHEIDSGLAS","Order","",false,"","",0,0,0,"",false,false,false,1001.65,1212,{"$f":"ROUND(AA3851*(1-VLOOKUP(AF3851,Discounts!C:E,3,0)),2)","v":1001.65},null,14060,"P106"]
["WK16530","Maatwerk",null,"STUKS","mw WK7710 38mm, FSC® cert. Premium Hardwood",null,null,"DEUR","BALKON","BALKON","BS","7710","","","Order","FSCPHW",true,"","",0,0,38,"",false,false,false,1286.78,1557,{"$f":"ROUND(AA3856*(1-VLOOKUP(AF3856,Discounts!C:E,3,0)),2)","v":1286.78},null,16530,"E016"]
["WK17250","Maatwerk",null,"STUKS","mw WK7710 54mm, FSC® cert. Premium Hardwood",null,null,"DEUR","BALKON","BALKON","BS","7710","","","Order","FSCPHW",true,"","",0,0,54,"",false,false,false,1833.88,2219,{"$f":"ROUND(AA3862*(1-VLOOKUP(AF3862,Discounts!C:E,3,0)),2)","v":1833.88},null,17250,"E013"]
["WK19530","Maatwerk",null,"SET","mw blank iso glas tbv WK012",null,null,"GLAS","","BALKON","SS","012","BLANK","ISOLATIEGLAS","Order","",false,"","",0,0,0,"",false,false,false,223.97,271,{"$f":"ROUND(AA3868*(1-VLOOKUP(AF3868,Discounts!C:E,3,0)),2)","v":223.97},null,19530,"P111"]
["WK19670","Maatwerk",null,"SET","mw blank iso VH glas tbv WK015",null,null,"GLAS","","BALKON","SS","015","BLANK","ISO VEILIGHEIDSGLAS","Order","",false,"","",0,0,0,"",false,false,false,380.99,461,{"$f":"ROUND(AA3875*(1-VLOOKUP(AF3875,Discounts!C:E,3,0)),2)","v":380.99},null,19670,"P111"]
["WK19770","Maatwerk",null,"SET","mw blank iso glas tbv WK019",null,null,"GLAS","","BALKON","SS","019","BLANK","ISOLATIEGLAS","Order","",false,"","",0,0,0,"",false,false,false,168.6,204,{"$f":"ROUND(AA3880*(1-VLOOKUP(AF3880,Discounts!C:E,3,0)),2)","v":168.6},null,19770,"P111"]
["WK20010","Maatwerk",null,"SET","mw blank iso glas tbv WK047",null,null,"GLAS","","BALKON","BS","047","BLANK","ISOLATIEGLAS","Order","",false,"","",0,0,0,"",false,false,false,125.62,152,{"$f":"ROUND(AA3892*(1-VLOOKUP(AF3892,Discounts!C:E,3,0)),2)","v":125.62},null,20010,"P111"]
["WK20070","Maatwerk",null,"SET","mw blank iso VH glas tbv WK048",null,null,"GLAS","","BALKON","BS","048","BLANK","ISO VEILIGHEIDSGLAS","Order","",false,"","",0,0,0,"",false,false,false,189.26,229,{"$f":"ROUND(AA3895*(1-VLOOKUP(AF3895,Discounts!C:E,3,0)),2)","v":189.26},null,20070,"P111"]
["WK20230","Maatwerk",null,"SET","mw blank iso VH glas tbv WK8171",null,null,"GLAS","","BALKON","BS","8171","BLANK","ISO VEILIGHEIDSGLAS","Order","",false,"","",0,0,0,"",false,false,false,333.88,404,{"$f":"ROUND(AA3903*(1-VLOOKUP(AF3903,Discounts!C:E,3,0)),2)","v":333.88},null,20230,"P111"]
["WK20310","Maatwerk",null,"SET","mw blank iso VH glas tbv WK124",null,null,"GLAS","","BALKON","BS","124","BLANK","ISO VEILIGHEIDSGLAS","Order","",false,"","",0,0,0,"",false,false,false,419.01,507,{"$f":"ROUND(AA3907*(1-VLOOKUP(AF3907,Discounts!C:E,3,0)),2)","v":419.01},null,20310,"P111"]
["WK20450","Maatwerk",null,"SET","mw blank iso glas tbv WK7114",null,null,"GLAS","","BALKON","BS","7114","BLANK","ISOLATIEGLAS","Order","",false,"","",0,0,0,"",false,false,false,291.74,353,{"$f":"ROUND(AA3914*(1-VLOOKUP(AF3914,Discounts!C:E,3,0)),2)","v":291.74},null,20450,"P111"]
["WK20550","Maatwerk",null,"SET","mw blank iso VH glas tbv WK7122",null,null,"GLAS","","BALKON","BS","7122","BLANK","ISO VEILIGHEIDSGLAS","Order","",false,"","",0,0,0,"",false,false,false,400.83,485,{"$f":"ROUND(AA3919*(1-VLOOKUP(AF3919,Discounts!C:E,3,0)),2)","v":400.83},null,20550,"P111"]
["WK20710","Maatwerk",null,"SET","mw blank iso VH glas tbv WK7411",null,null,"GLAS","","BALKON","BS","7411","BLANK","ISO VEILIGHEIDSGLAS","Order","",false,"","",0,0,0,"",false,false,false,285.95,346,{"$f":"ROUND(AA3927*(1-VLOOKUP(AF3927,Discounts!C:E,3,0)),2)","v":285.95},null,20710,"P111"]
["WK23330","Maatwerk",null,"SET","mw blank iso glas tbv WK4010",null,null,"GLAS","","LUXBUITEN","TD","4010","BLANK","ISOLATIEGLAS","Order","",false,"","",0,0,0,"",false,false,false,619.83,750,{"$f":"ROUND(AA3938*(1-VLOOKUP(AF3938,Discounts!C:E,3,0)),2)","v":619.83},null,23330,"P106"]
["WK23390","Maatwerk",null,"SET","mw blank iso glas tbv WK4031",null,null,"GLAS","","LUXBUITEN","TD","4031","BLANK","ISOLATIEGLAS","Order","",false,"","",0,0,0,"",false,false,false,198.35,240,{"$f":"ROUND(AA3944*(1-VLOOKUP(AF3944,Discounts!C:E,3,0)),2)","v":198.35},null,23390,"P106"]
["WK23450","Maatwerk",null,"SET","mw blank iso glas tbv WK4056",null,null,"GLAS","","LUXBUITEN","TD","4056","BLANK","ISOLATIEGLAS","Order","",false,"","",0,0,0,"",false,false,false,389.26,471,{"$f":"ROUND(AA3950*(1-VLOOKUP(AF3950,Discounts!C:E,3,0)),2)","v":389.26},null,23450,"P106"]
["WK23500","Maatwerk",null,"SET","mw blank iso glas tbv WK4081",null,null,"GLAS","","LUXBUITEN","TD","4081","BLANK","ISOLATIEGLAS","Order","",false,"","",0,0,0,"",false,false,false,161.98,196,{"$f":"ROUND(AA3955*(1-VLOOKUP(AF3955,Discounts!C:E,3,0)),2)","v":161.98},null,23500,"P106"]
["WK23530","Maatwerk",null,"SET","mw blank iso glas tbv WK4151",null,null,"GLAS","","LUXBUITEN","TD","4151","BLANK","ISOLATIEGLAS","Order","",false,"","",0,0,0,"",false,false,false,185.95,225,{"$f":"ROUND(AA3958*(1-VLOOKUP(AF3958,Discounts!C:E,3,0)),2)","v":185.95},null,23530,"P106"]
["WK23610","Maatwerk",null,"SET","mw blank iso glas tbv WK4186",null,null,"GLAS","","LUXBUITEN","TD","4186","BLANK","ISOLATIEGLAS","Order","",false,"","",0,0,0,"",false,false,false,389.26,471,{"$f":"ROUND(AA3966*(1-VLOOKUP(AF3966,Discounts!C:E,3,0)),2)","v":389.26},null,23610,"P106"]
["WK23810","Maatwerk",null,"SET","mw blank iso VH glas tbv WK4048",null,null,"GLAS","","LUXBUITEN","TD","4048","BLANK","ISO VEILIGHEIDSGLAS","Order","",false,"","",0,0,0,"",false,false,false,755.37,914,{"$f":"ROUND(AA3977*(1-VLOOKUP(AF3977,Discounts!C:E,3,0)),2)","v":755.37},null,23810,"P106"]
["WK23830","Maatwerk",null,"SET","mw blank iso VH glas tbv WK4056",null,null,"GLAS","","LUXBUITEN","TD","4056","BLANK","ISO VEILIGHEIDSGLAS","Order","",false,"","",0,0,0,"",false,false,false,574.38,695,{"$f":"ROUND(AA3979*(1-VLOOKUP(AF3979,Discounts!C:E,3,0)),2)","v":574.38},null,23830,"P106"]
["WK23930","Maatwerk",null,"SET","mw blank iso VH glas tbv WK4158",null,null,"GLAS","","LUXBUITEN","TD","4158","BLANK","ISO VEILIGHEIDSGLAS","Order","",false,"","",0,0,0,"",false,false,false,755.37,914,{"$f":"ROUND(AA3989*(1-VLOOKUP(AF3989,Discounts!C:E,3,0)),2)","v":755.37},null,23930,"P106"]
["WK24090","Maatwerk",null,"SET","mw blank iso glas tbv WK4191",null,null,"GLAS","","LUXBUITEN","TD","4191","BLANK","ISOLATIEGLAS","Order","",false,"","",0,0,0,"",false,false,false,157.85,191,{"$f":"ROUND(AA3996*(1-VLOOKUP(AF3996,Discounts!C:E,3,0)),2)","v":157.85},null,24090,"P106"]
["WK24140","Maatwerk",null,"SET","mw blank iso glas tbv WK4358",null,null,"GLAS","","LUXBUITEN","TD","4358","BLANK","ISOLATIEGLAS","Order","",false,"","",0,0,0,"",false,false,false,528.93,640,{"$f":"ROUND(AA4001*(1-VLOOKUP(AF4001,Discounts!C:E,3,0)),2)","v":528.93},null,24140,"P106"]
["WK24200","Maatwerk",null,"SET","mw blank iso glas tbv WK4576",null,null,"GLAS","","LUXBUITEN","TD","4576","BLANK","ISOLATIEGLAS","Order","",false,"","",0,0,0,"",false,false,false,423.14,512,{"$f":"ROUND(AA4007*(1-VLOOKUP(AF4007,Discounts!C:E,3,0)),2)","v":423.14},null,24200,"P106"]
["WK24290","Maatwerk",null,"SET","mw blank iso VH glas tbv WK4428",null,null,"GLAS","","LUXBUITEN","TD","4428","BLANK","ISO VEILIGHEIDSGLAS","Order","",false,"","",0,0,0,"",false,false,false,844.63,1022,{"$f":"ROUND(AA4016*(1-VLOOKUP(AF4016,Discounts!C:E,3,0)),2)","v":844.63},null,24290,"P106"]
["WK24310","Maatwerk",null,"SET","mw blank iso VH glas tbv WK4558",null,null,"GLAS","","LUXBUITEN","TD","4558","BLANK","ISO VEILIGHEIDSGLAS","Order","",false,"","",0,0,0,"",false,false,false,844.63,1022,{"$f":"ROUND(AA4018*(1-VLOOKUP(AF4018,Discounts!C:E,3,0)),2)","v":844.63},null,24310,"P106"]
["WK31110","Maatwerk",null,"STUKS","Modeltoeslag 3015",null,null,"TOESLAG","","VLAK","","","MODELTOESLAG","3015","Order","",false,"","",0,0,0,"",false,false,false,310.74,376,{"$f":"ROUND(AA4028*(1-VLOOKUP(AF4028,Discounts!C:E,3,0)),2)","v":310.74},null,31110,"SD/SG"]
["WK31140","Maatwerk",null,"STUKS","Modeltoeslag 3022",null,null,"TOESLAG","","VLAK","","","MODELTOESLAG","3022","Order","",false,"","",0,0,0,"",false,false,false,298.35,361,{"$f":"ROUND(AA4031*(1-VLOOKUP(AF4031,Discounts!C:E,3,0)),2)","v":298.35},null,31140,"SD/SG"]
["WK31230","Maatwerk",null,"STUKS","Modeltoeslag 3062",null,null,"TOESLAG","","VLAK","","","MODELTOESLAG","3062","Order","",false,"","",0,0,0,"",false,false,false,279.34,338,{"$f":"ROUND(AA4040*(1-VLOOKUP(AF4040,Discounts!C:E,3,0)),2)","v":279.34},null,31230,"SD/SG"]
["WK31470","Maatwerk",null,"","Voorlaksysteem RAL 9010, 7038, 5013, 3003 of groen Luxbuiten",null,null,"BEWERKING","VERF","LUXBUITEN","","","","","Order","",false,"","",0,0,0,"",false,false,false,141.32,171,{"$f":"ROUND(AA4048*(1-VLOOKUP(AF4048,Discounts!C:E,3,0)),2)","v":141.32},null,31470,"LUXE"]
["WK31640","Maatwerk",null,"","Voorlaksysteem RAL 9010, 7038, 5013, 3003 of groen Luxbuiten VNM",null,null,"BEWERKING","VERF","LUXBUITEN","VNM","","","","Order","",false,"","",0,0,0,"",false,false,false,141.32,171,{"$f":"ROUND(AA4052*(1-VLOOKUP(AF4052,Discounts!C:E,3,0)),2)","v":141.32},null,31640,"LUXE"]
["WK32060","Maatwerk",null,"","Voorlaksysteem RAL 9010, 7038, 5013, 3003 of groen Vlak",null,null,"BEWERKING","VERF","VLAK","","","","","Order","",false,"","",0,0,0,"",false,false,false,121.49,147,{"$f":"ROUND(AA4059*(1-VLOOKUP(AF4059,Discounts!C:E,3,0)),2)","v":121.49},null,32060,"SD/SG"]
["WK32990","Maatwerk",null,"SET","mw blank iso glas tbv 3015 (alle model-subgroepen)",null,null,"GLAS","","VLAK","","3015","BLANK","ISOLATIEGLAS","Order","",false,"","",0,0,0,"",false,false,false,176.03,213,{"$f":"ROUND(AA4067*(1-VLOOKUP(AF4067,Discounts!C:E,3,0)),2)","v":176.03},null,32990,"P111"]
["WK33030","Maatwerk",null,"SET","mw blank iso glas tbv 3023 (alle model-subgroepen)",null,null,"GLAS","","VLAK","","3023","BLANK","ISOLATIEGLAS","Order","",false,"","",0,0,0,"",false,false,false,238.84,289,{"$f":"ROUND(AA4070*(1-VLOOKUP(AF4070,Discounts!C:E,3,0)),2)","v":238.84},null,33030,"P111"]
["WK33120","Maatwerk",null,"SET","mw blank iso glas tbv 3063 (alle model-subgroepen)",null,null,"GLAS","","VLAK","","3063","BLANK","ISOLATIEGLAS","Order","",false,"","",0,0,0,"",false,false,false,176.03,213,{"$f":"ROUND(AA4079*(1-VLOOKUP(AF4079,Discounts!C:E,3,0)),2)","v":176.03},null,33120,"P111"]
["WK33200","Maatwerk",null,"SET","mw gefigureerd serie 1 iso glas tbv 3003 (alle model-subgroepen)",null,null,"GLAS","","VLAK","","3003","GEFIGUREERD SERIE 1","ISOLATIEGLAS","Order","",false,"","",0,0,0,"",false,false,false,209.92,254,{"$f":"ROUND(AA4087*(1-VLOOKUP(AF4087,Discounts!C:E,3,0)),2)","v":209.92},null,33200,"P111"]
["WK33240","Maatwerk",null,"SET","mw gefigureerd serie 1 iso glas tbv 3015 (alle model-subgroepen)",null,null,"GLAS","","VLAK","","3015","GEFIGUREERD SERIE 1","ISOLATIEGLAS","Order","",false,"","",0,0,0,"",false,false,false,209.92,254,{"$f":"ROUND(AA4091*(1-VLOOKUP(AF4091,Discounts!C:E,3,0)),2)","v":209.92},null,33240,"P111"]
["WK33340","Maatwerk",null,"SET","mw gefigureerd serie 1 iso glas tbv 3052 (alle model-subgroepen)",null,null,"GLAS","","VLAK","","3052","GEFIGUREERD SERIE 1","ISOLATIEGLAS","Order","",false,"","",0,0,0,"",false,false,false,152.89,185,{"$f":"ROUND(AA4100*(1-VLOOKUP(AF4100,Discounts!C:E,3,0)),2)","v":152.89},null,33340,"P111"]
["WK33370","Maatwerk",null,"SET","mw gefigureerd serie 1 iso glas tbv 3063 (alle model-subgroepen)",null,null,"GLAS","","VLAK","","3063","GEFIGUREERD SERIE 1","ISOLATIEGLAS","Order","",false,"","",0,0,0,"",false,false,false,209.92,254,{"$f":"ROUND(AA4103*(1-VLOOKUP(AF4103,Discounts!C:E,3,0)),2)","v":209.92},null,33370,"P111"]
["WK33450","Maatwerk",null,"SET","mw blank iso VH glas tbv 3003 (alle model-subgroepen)",null,null,"GLAS","","VLAK","","3003","BLANK","ISO VEILIGHEIDSGLAS","Order","",false,"","",0,0,0,"",false,false,false,240.5,291,{"$f":"ROUND(AA4111*(1-VLOOKUP(AF4111,Discounts!C:E,3,0)),2)","v":240.5},null,33450,"P111"]
["WK33530","Maatwerk",null,"SET","mw blank iso VH glas tbv 3023 (alle model-subgroepen)",null,null,"GLAS","","VLAK","","3023","BLANK","ISO VEILIGHEIDSGLAS","Order","",false,"","",0,0,0,"",false,false,false,342.98,415,{"$f":"ROUND(AA4118*(1-VLOOKUP(AF4118,Discounts!C:E,3,0)),2)","v":342.98},null,33530,"P111"]
["WK33570","Maatwerk",null,"SET","mw blank iso VH glas tbv 3031 (alle model-subgroepen)",null,null,"GLAS","","VLAK","","3031","BLANK","ISO VEILIGHEIDSGLAS","Order","",false,"","",0,0,0,"",false,false,false,142.98,173,{"$f":"ROUND(AA4122*(1-VLOOKUP(AF4122,Discounts!C:E,3,0)),2)","v":142.98},null,33570,"P111"]
["WK33650","Maatwerk",null,"SET","mw blank iso VH glas tbv 3067 (alle model-subgroepen)",null,null,"GLAS","","VLAK","","3067","BLANK","ISO VEILIGHEIDSGLAS","Order","",false,"","",0,0,0,"",false,false,false,448.76,543,{"$f":"ROUND(AA4130*(1-VLOOKUP(AF4130,Discounts!C:E,3,0)),2)","v":448.76},null,33650,"P111"]
["WK33740","Maatwerk",null,"SET","mw gefigureerd serie 1 iso VH glas tbv 3015 (alle model-subgroepen)",null,null,"GLAS","","VLAK","","3015","GEFIGUREERD SERIE 1","ISO VEILIGHEIDSGLAS","Order","",false,"","",0,0,0,"",false,false,false,266.94,323,{"$f":"ROUND(AA4139*(1-VLOOKUP(AF4139,Discounts!C:E,3,0)),2)","v":266.94},null,33740,"P111"]
["WK33780","Maatwerk",null,"SET","mw gefigureerd serie 1 iso VH glas tbv 3023 (alle model-subgroepen)",null,null,"GLAS","","VLAK","","3023","GEFIGUREERD SERIE 1","ISO VEILIGHEIDSGLAS","Order","",false,"","",0,0,0,"",false,false,false,384.3,465,{"$f":"ROUND(AA4142*(1-VLOOKUP(AF4142,Discounts!C:E,3,0)),2)","v":384.3},null,33780,"P111"]
["WK33880","Maatwerk",null,"SET","mw gefigureerd serie 1 iso VH glas tbv 3064 (alle model-subgroepen)",null,null,"GLAS","","VLAK","","3064","GEFIGUREERD SERIE 1","ISO VEILIGHEIDSGLAS","Order","",false,"","",0,0,0,"",false,false,false,384.3,465,{"$f":"ROUND(AA4152*(1-VLOOKUP(AF4152,Discounts!C:E,3,0)),2)","v":384.3},null,33880,"P111"]
["WK33900","Maatwerk",null,"SET","mw gefigureerd serie 1 iso VH glas tbv 3067 (alle model-subgroepen)",null,null,"GLAS","","VLAK","","3067","GEFIGUREERD SERIE 1","ISO VEILIGHEIDSGLAS","Order","",false,"","",0,0,0,"",false,false,false,502.48,608,{"$f":"ROUND(AA4154*(1-VLOOKUP(AF4154,Discounts!C:E,3,0)),2)","v":502.48},null,33900,"P111"]
["WK34010","Maatwerk",null,"","Opplakroeden sd 8 ruits",null,null,"ACCESSOIRES","OPPLAKROEDE","BALKON","","","8 RUITS","","Order","",false,"","",0,0,0,"",false,false,false,160.33,194,{"$f":"ROUND(AA4163*(1-VLOOKUP(AF4163,Discounts!C:E,3,0)),2)","v":160.33},null,34010,"SD/SG"]
["WK34460","Maatwerk",null,"","Afmontage glas, 1 ruit per deur voor VLAK en BALKON",null,null,"BEWERKING","AFMONTAGE","","","","GLAS 1 RUIT","","Order","",false,"","",0,0,0,"",false,false,false,50.41,61,{"$f":"ROUND(AA4166*(1-VLOOKUP(AF4166,Discounts!C:E,3,0)),2)","v":50.41},null,34460,"SD/SG"]
["WK40070","Maatwerk",null,"","Infrezing voor afwijkend driepuntsslot",null,null,"BEWERKING","INFREZEN","LUXBUITEN","","","INFREZING","3PT","Order","",false,"","",0,0,0,"",false,false,false,66.94,81,{"$f":"ROUND(AA4174*(1-VLOOKUP(AF4174,Discounts!C:E,3,0)),2)","v":66.94},null,40070,"LUXE"]
["WK40480","Maatwerk",null,"","Verjonging of kaderinfrezing (bij 54 mm deuren)",null,null,"BEWERKING","INFREZEN","BALKON","","","VERJONGING","","Order","",false,"","",0,0,0,"",false,false,false,32.23,39,{"$f":"ROUND(AA4181*(1-VLOOKUP(AF4181,Discounts!C:E,3,0)),2)","v":32.23},null,40480,"SD/SG"]
["WK40810","Maatwerk",null,"","Rechthoekige sponning OKD (LUX)",null,null,"BEWERKING","INFREZEN","","","","SPONNING OKD","","Order","",false,"","",0,0,0,"",false,false,false,38.02,46,{"$f":"ROUND(AA4191*(1-VLOOKUP(AF4191,Discounts!C:E,3,0)),2)","v":38.02},null,40810,"LUXE"]
["WK40850","Maatwerk",null,"","Afmontage glas, 2 ruiten per deur voor  LUX",null,null,"BEWERKING","AFMONTAGE","LUXBUITEN","","","GLAS 2 RUITEN","","Order","",false,"","",0,0,0,"",false,false,false,68.6,83,{"$f":"ROUND(AA4193*(1-VLOOKUP(AF4193,Discounts!C:E,3,0)),2)","v":68.6},null,40850,"LUXE"]
["WK40960","Maatwerk",null,"","Afmontage glas, 10 ruiten per deur voor  LUX TD",null,null,"BEWERKING","AFMONTAGE","LUXBUITEN","TD","","GLAS 10 RUITEN","","Order","",false,"","",0,0,0,"",false,false,false,208.26,252,{"$f":"ROUND(AA4204*(1-VLOOKUP(AF4204,Discounts!C:E,3,0)),2)","v":208.26},null,40960,"LUXE"]
["WK40970","Maatwerk",null,"STUKS","Weldorpel, gemonteerd vlak onderzijde of verhoogd vanuit onderzijde SD/SG",null,null,"BEWERKING","AFMONTAGE","","","","WELDORPEL","","Order","",false,"","",0,0,0,"",false,false,false,58.68,71,{"$f":"ROUND(AA4205*(1-VLOOKUP(AF4205,Discounts!C:E,3,0)),2)","v":58.68},null,40970,"SD/SG"]
["WK42140","Maatwerk",null,"SET","mw blank iso VH glas tbv WK1144",null,null,"GLAS","","LUXBUITEN","VNM","1144","BLANK","ISO VEILIGHEIDSGLAS","Order","",false,"","",0,0,0,"",false,false,false,120.66,146,{"$f":"ROUND(AA4215*(1-VLOOKUP(AF4215,Discounts!C:E,3,0)),2)","v":120.66},null,42140,"P105"]
["WK42230","Maatwerk",null,"SET","mw blank iso glas tbv WK1546",null,null,"GLAS","","LUXBUITEN","VD","1546","BLANK","ISOLATIEGLAS","Order","",false,"","",0,0,0,"",false,false,false,83.47,101,{"$f":"ROUND(AA4224*(1-VLOOKUP(AF4224,Discounts!C:E,3,0)),2)","v":83.47},null,42230,"P106"]
["WK42250","Maatwerk",null,"SET","mw blank iso glas tbv WK1547",null,null,"GLAS","","LUXBUITEN","VD","1547","BLANK","ISOLATIEGLAS","Order","",false,"","",0,0,0,"",false,false,false,209.92,254,{"$f":"ROUND(AA4226*(1-VLOOKUP(AF4226,Discounts!C:E,3,0)),2)","v":209.92},null,42250,"P106"]
["WK42360","Maatwerk",null,"SET","mw gefigureerd serie 1 iso glas tbv WK1145",null,null,"GLAS","","LUXBUITEN","VNM","1145","GEFIGUREERD SERIE 1","ISOLATIEGLAS","Order","",false,"","",0,0,0,"",false,false,false,109.92,133,{"$f":"ROUND(AA4232*(1-VLOOKUP(AF4232,Discounts!C:E,3,0)),2)","v":109.92},null,42360,"P105"]
["WK42580","Maatwerk",null,"SET","mw gefigureerd serie 1 iso VH glas tbv WK1435",null,null,"GLAS","","LUXBUITEN","VD","1435","GEFIGUREERD SERIE 1","ISO VEILIGHEIDSGLAS","Order","",false,"","",0,0,0,"",false,false,false,254.55,308,{"$f":"ROUND(AA4243*(1-VLOOKUP(AF4243,Discounts!C:E,3,0)),2)","v":254.55},null,42580,"P106"]
["WK42590","Maatwerk",null,"SET","mw gefigureerd serie 1 iso VH glas tbv WK1545",null,null,"GLAS","","LUXBUITEN","VD","1545","GEFIGUREERD SERIE 1","ISO VEILIGHEIDSGLAS","Order","",false,"","",0,0,0,"",false,false,false,184.3,223,{"$f":"ROUND(AA4244*(1-VLOOKUP(AF4244,Discounts!C:E,3,0)),2)","v":184.3},null,42590,"P106"]
["WK43220","Maatwerk",null,"SET","mw blank iso glas tbv 2003",null,null,"GLAS","","LUXBUITEN","VD","2003","BLANK","ISOLATIEGLAS","Order","",false,"","",0,0,0,"",false,false,false,241.32,292,{"$f":"ROUND(AA4256*(1-VLOOKUP(AF4256,Discounts!C:E,3,0)),2)","v":241.32},null,43220,"P106"]
["WK43290","Maatwerk",null,"SET","mw gefigureerd serie 1 iso glas tbv 1931",null,null,"GLAS","","LUXBUITEN","VD","1931","GEFIGUREERD SERIE 1","ISOLATIEGLAS","Order","",false,"","",0,0,0,"",false,false,false,98.35,119,{"$f":"ROUND(AA4263*(1-VLOOKUP(AF4263,Discounts!C:E,3,0)),2)","v":98.35},null,43290,"P106"]
["WK43330","Maatwerk",null,"SET","mw gefigureerd serie 1 iso glas tbv 1962",null,null,"GLAS","","LUXBUITEN","VD","1962","GEFIGUREERD SERIE 1","ISOLATIEGLAS","Order","",false,"","",0,0,0,"",false,false,false,98.35,119,{"$f":"ROUND(AA4267*(1-VLOOKUP(AF4267,Discounts!C:E,3,0)),2)","v":98.35},null,43330,"P106"]
["WK43410","Maatwerk",null,"SET","mw blank iso VH glas tbv 1931",null,null,"GLAS","","LUXBUITEN","VD","1931","BLANK","ISO VEILIGHEIDSGLAS","Order","",false,"","",0,0,0,"",false,false,false,114.05,138,{"$f":"ROUND(AA4275*(1-VLOOKUP(AF4275,Discounts!C:E,3,0)),2)","v":114.05},null,43410,"P106"]
["WK43440","Maatwerk",null,"SET","mw blank iso VH glas tbv 1961",null,null,"GLAS","","LUXBUITEN","VD","1961","BLANK","ISO VEILIGHEIDSGLAS","Order","",false,"","",0,0,0,"",false,false,false,264.46,320,{"$f":"ROUND(AA4278*(1-VLOOKUP(AF4278,Discounts!C:E,3,0)),2)","v":264.46},null,43440,"P106"]
["WK43490","Maatwerk",null,"SET","mw gefigureerd serie 1 iso VH glas tbv 1901",null,null,"GLAS","","LUXBUITEN","VD","1901","GEFIGUREERD SERIE 1","ISO VEILIGHEIDSGLAS","Order","",false,"","",0,0,0,"",false,false,false,180.99,219,{"$f":"ROUND(AA4283*(1-VLOOKUP(AF4283,Discounts!C:E,3,0)),2)","v":180.99},null,43490,"P106"]
["WK44240","Maatwerk",null,"SET","mw blank iso glas tbv WK8041",null,null,"GLAS","","BALKON","BS","8041","BLANK","ISOLATIEGLAS","Order","",false,"","",0,0,0,"",false,false,false,185.95,225,{"$f":"ROUND(AA4295*(1-VLOOKUP(AF4295,Discounts!C:E,3,0)),2)","v":185.95},null,44240,"P111"]
["WK44310","Maatwerk",null,"SET","mw blank iso VH glas tbv WK8081",null,null,"GLAS","","BALKON","BS","8081","BLANK","ISO VEILIGHEIDSGLAS","Order","",false,"","",0,0,0,"",false,false,false,281.82,341,{"$f":"ROUND(AA4302*(1-VLOOKUP(AF4302,Discounts!C:E,3,0)),2)","v":281.82},null,44310,"P111"]
["WK44350","Maatwerk",null,"SET","mw gefigureerd serie 1 iso VH glas tbv WK8181",null,null,"GLAS","","BALKON","BS","8181","GEFIGUREERD SERIE 1","ISO VEILIGHEIDSGLAS","Order","",false,"","",0,0,0,"",false,false,false,342.98,415,{"$f":"ROUND(AA4306*(1-VLOOKUP(AF4306,Discounts!C:E,3,0)),2)","v":342.98},null,44350,"P111"]
["WK44920","Maatwerk",null,"","Afwijkende maat tot 1215 x 2495 Vlakke deuren",null,null,"TOESLAG","","VLAK","","","MAATTOESLAG","<1215X2495","Order","",false,"","",0,0,0,"",false,false,false,200,242,{"$f":"ROUND(AA4314*(1-VLOOKUP(AF4314,Discounts!C:E,3,0)),2)","v":200},null,44920,"SD/SG"]
["WK45990","Maatwerk",null,"SET","mw gefigureerd serie 1 iso glas tbv WK1146",null,null,"GLAS","","LUXBUITEN","VNM","1146","GEFIGUREERD SERIE 1","ISOLATIEGLAS","Order","",false,"","",0,0,0,"",false,false,false,109.92,133,{"$f":"ROUND(AA4319*(1-VLOOKUP(AF4319,Discounts!C:E,3,0)),2)","v":109.92},null,45990,"P105"]
["WK46180","Maatwerk",null,"","Afwijkende maat tot 1050 x 4000 Balkondeuren",null,null,"TOESLAG","","BALKON","","","MAATTOESLAG","<1050X4000","Order","",false,"","",0,0,0,"",false,false,false,70.25,85,{"$f":"ROUND(AA4326*(1-VLOOKUP(AF4326,Discounts!C:E,3,0)),2)","v":70.25},null,46180,"SD/SG"]
["WK48550","Maatwerk",null,"","Meerprijs tussendorpel 170mm ipv 135mm",null,null,"TOESLAG","","","","","T.B.V. BRIEFPLAAT","","Order","",false,"","",0,0,0,"",false,false,false,19.01,23,{"$f":"ROUND(AA4330*(1-VLOOKUP(AF4330,Discounts!C:E,3,0)),2)","v":19.01},null,48550,"SD/SG"]
["WK53020","Maatwerk",null,"","Patenboutgaten tbv lifetime veiligheidcilinderrozetten",null,null,"BEWERKING","INFREZEN","LUXBUITEN","","","GATEN","","Order","",false,"","",0,0,0,"",false,false,false,8.26,10,{"$f":"ROUND(AA4341*(1-VLOOKUP(AF4341,Discounts!C:E,3,0)),2)","v":8.26},null,53020,"LUXE"]
["WK53350","Maatwerk",null,"","Meerprijs geïsoleerde plaat op achterzijde",null,null,"TOESLAG","","LUXBUITEN","","","","","Order","",false,"","",0,0,0,"",false,false,false,199.17,241,{"$f":"ROUND(AA4347*(1-VLOOKUP(AF4347,Discounts!C:E,3,0)),2)","v":199.17},null,53350,"LUXE"]
["WK53480","Maatwerk",null,"","Afmontage opplakroeden sd 8 ruits incl. afkitten",null,null,"BEWERKING","AFMONTAGE","BALKON","","","8 RUITS","","Order","",false,"","",0,0,0,"",false,false,false,132.23,160,{"$f":"ROUND(AA4353*(1-VLOOKUP(AF4353,Discounts!C:E,3,0)),2)","v":132.23},null,53480,"SD/SG"]
["WK54290","Maatwerk",null,"","Afmonteren tongnaald",null,null,"BEWERKING","AFMONTAGE","","","","TONGNAALDSTEL","","Order","",false,"","",0,0,0,"",false,false,false,63.64,77,{"$f":"ROUND(AA4358*(1-VLOOKUP(AF4358,Discounts!C:E,3,0)),2)","v":63.64},null,54290,"LUXE"]
["WK55120","Maatwerk",null,"SET","mw blank iso glas tbv WK8412",null,null,"GLAS","","BALKON","BS","8412","BLANK","ISOLATIEGLAS","Order","",false,"","",0,0,0,"",false,false,false,185.12,224,{"$f":"ROUND(AA4365*(1-VLOOKUP(AF4365,Discounts!C:E,3,0)),2)","v":185.12},null,55120,"P111"]
["WK55180","Maatwerk",null,"SET","mw blank iso VH glas tbv WK8462",null,null,"GLAS","","BALKON","BS","8462","BLANK","ISO VEILIGHEIDSGLAS","Order","",false,"","",0,0,0,"",false,false,false,291.74,353,{"$f":"ROUND(AA4371*(1-VLOOKUP(AF4371,Discounts!C:E,3,0)),2)","v":291.74},null,55180,"P111"]
["WK57740","Maatwerk",null,"STUKS","mw WK3000 Stabiel Comfort® FSC® cert. 40mm, transparant",null,null,"DEUR","VLAK","VLAK","SCT","3000","","","Order","FSCMTI",true,"","",0,0,40,"",false,false,false,727.27,880,{"$f":"ROUND(AA4377*(1-VLOOKUP(AF4377,Discounts!C:E,3,0)),2)","v":727.27},null,57740,"D010"]
["WK103870","Maatwerk",null,"STUKS","mw WK6507 stomp",null,null,"DEUR","BINNEN","BINNEN","MODERN","6507","","","Order","",true,"STOMP","",0,0,38,"",false,false,false,648.76,785,{"$f":"ROUND(AA4382*(1-VLOOKUP(AF4382,Discounts!C:E,3,0)),2)","v":648.76},null,103870,"B015"]
["WK103970","Maatwerk",null,"STUKS","mw WK6515 stomp",null,null,"DEUR","BINNEN","BINNEN","MODERN","6515","","","Order","",true,"STOMP","",0,0,38,"",false,false,false,483.47,585,{"$f":"ROUND(AA4389*(1-VLOOKUP(AF4389,Discounts!C:E,3,0)),2)","v":483.47},null,103970,"B015"]
["WK104070","Maatwerk",null,"STUKS","mw WK6533 stomp",null,null,"DEUR","BINNEN","BINNEN","MODERN","6533","","","Order","",true,"STOMP","",0,0,38,"",false,false,false,447.93,542,{"$f":"ROUND(AA4399*(1-VLOOKUP(AF4399,Discounts!C:E,3,0)),2)","v":447.93},null,104070,"B015"]
["WK104120","Maatwerk",null,"STUKS","mw WK6551 stomp",null,null,"DEUR","BINNEN","BINNEN","MODERN","6551","","","Order","",true,"STOMP","",0,0,38,"",false,false,false,464.46,562,{"$f":"ROUND(AA4404*(1-VLOOKUP(AF4404,Discounts!C:E,3,0)),2)","v":464.46},null,104120,"B015"]
["WK104180","Maatwerk",null,"STUKS","mw WK6565 stomp",null,null,"DEUR","BINNEN","BINNEN","MODERN","6565","","","Order","",true,"STOMP","",0,0,38,"",false,false,false,432.23,523,{"$f":"ROUND(AA4410*(1-VLOOKUP(AF4410,Discounts!C:E,3,0)),2)","v":432.23},null,104180,"B015"]
["WK104240","Maatwerk",null,"STUKS","mw WK6592 stomp",null,null,"DEUR","BINNEN","BINNEN","MODERN","6592","","","Order","",true,"STOMP","",0,0,38,"",false,false,false,523.14,633,{"$f":"ROUND(AA4416*(1-VLOOKUP(AF4416,Discounts!C:E,3,0)),2)","v":523.14},null,104240,"B015"]
["WK104820","Maatwerk",null,"SET","mw facetglas blank set tbv WK6513",null,null,"GLAS","","BINNEN","MODERN","6513","FACETGLAS BLANK","","Order","",false,"","",0,0,0,"",false,false,false,269.42,326,{"$f":"ROUND(AA4423*(1-VLOOKUP(AF4423,Discounts!C:E,3,0)),2)","v":269.42},null,104820,"P109"]
["WK104870","Maatwerk",null,"SET","mw facetglas blank tbv WK6515",null,null,"GLAS","","BINNEN","MODERN","6515","FACETGLAS BLANK","","Order","",false,"","",0,0,0,"",false,false,false,134.71,163,{"$f":"ROUND(AA4428*(1-VLOOKUP(AF4428,Discounts!C:E,3,0)),2)","v":134.71},null,104870,"P109"]
["WK104930","Maatwerk",null,"SET","mw facetglas mat tbv WK6520",null,null,"GLAS","","BINNEN","MODERN","6520","FACETGLAS MAT","","Order","",false,"","",0,0,0,"",false,false,false,276.03,334,{"$f":"ROUND(AA4434*(1-VLOOKUP(AF4434,Discounts!C:E,3,0)),2)","v":276.03},null,104930,"P109"]
["WK104990","Maatwerk",null,"SET","mw mat glas tbv WK6522",null,null,"GLAS","","BINNEN","MODERN","6522","MAT","","Order","",false,"","",0,0,0,"",false,false,false,206.61,250,{"$f":"ROUND(AA4440*(1-VLOOKUP(AF4440,Discounts!C:E,3,0)),2)","v":206.61},null,104990,"P109"]
["WK105120","Maatwerk",null,"SET","mw mat glas tbv WK6533/6582",null,null,"GLAS","","BINNEN","MODERN","6533","MAT","6533/6582","Order","",false,"","",0,0,0,"",false,false,false,103.31,125,{"$f":"ROUND(AA4451*(1-VLOOKUP(AF4451,Discounts!C:E,3,0)),2)","v":103.31},null,105120,"P109"]
["WK105160","Maatwerk",null,"SET","mw blank glas tbv WK6535",null,null,"GLAS","","BINNEN","MODERN","6535","BLANK","","Order","",false,"","",0,0,0,"",false,false,false,128.1,155,{"$f":"ROUND(AA4455*(1-VLOOKUP(AF4455,Discounts!C:E,3,0)),2)","v":128.1},null,105160,"P109"]
["WK105230","Maatwerk",null,"SET","mw facetglas blank tbv WK6561",null,null,"GLAS","","BINNEN","MODERN","6561","FACETGLAS BLANK","","Order","",false,"","",0,0,0,"",false,false,false,269.42,326,{"$f":"ROUND(AA4462*(1-VLOOKUP(AF4462,Discounts!C:E,3,0)),2)","v":269.42},null,105230,"P109"]
["WK105280","Maatwerk",null,"SET","mw facetglas mat tbv WK6562",null,null,"GLAS","","BINNEN","MODERN","6562","FACETGLAS MAT","","Order","",false,"","",0,0,0,"",false,false,false,414.05,501,{"$f":"ROUND(AA4467*(1-VLOOKUP(AF4467,Discounts!C:E,3,0)),2)","v":414.05},null,105280,"P109"]
["WK105360","Maatwerk",null,"SET","mw facetglas mat tbv WK6572",null,null,"GLAS","","BINNEN","MODERN","6572","FACETGLAS MAT","","Order","",false,"","",0,0,0,"",false,false,false,414.05,501,{"$f":"ROUND(AA4475*(1-VLOOKUP(AF4475,Discounts!C:E,3,0)),2)","v":414.05},null,105360,"P109"]
["WK105400","Maatwerk",null,"SET","mw facetglas mat tbv WK6592",null,null,"GLAS","","BINNEN","MODERN","6592","FACETGLAS MAT","","Order","",false,"","",0,0,0,"",false,false,false,276.03,334,{"$f":"ROUND(AA4479*(1-VLOOKUP(AF4479,Discounts!C:E,3,0)),2)","v":276.03},null,105400,"P109"]
["WK105550","Maatwerk",null,"SET","mw gil tbv WK6533/6582 model 1",null,null,"GLAS","","BINNEN","MODERN","6533","GLAS-IN-LOOD 1","6533/6582","Order","",false,"","",0,0,0,"",false,false,false,281.82,341,{"$f":"ROUND(AA4486*(1-VLOOKUP(AF4486,Discounts!C:E,3,0)),2)","v":281.82},null,105550,"P109"]
["WK105600","Maatwerk",null,"SET","mw gil tbv WK6542/6552 model 4",null,null,"GLAS","","BINNEN","MODERN","6542","GLAS-IN-LOOD 4","6542/6552","Order","",false,"","",0,0,0,"",false,false,false,619.83,750,{"$f":"ROUND(AA4491*(1-VLOOKUP(AF4491,Discounts!C:E,3,0)),2)","v":619.83},null,105600,"P109"]
["WK106020","Maatwerk",null,"","bew infrezen schuifdeurkommen",null,null,"BEWERKING","INFREZEN","BINNEN","","","SCHUIFDEURKOMMEN","","Order","",false,"","",0,0,0,"",false,false,false,43.8,53,{"$f":"ROUND(AA4503*(1-VLOOKUP(AF4503,Discounts!C:E,3,0)),2)","v":43.8},null,106020,"LUXE"]
["WK106080","Maatwerk",null,"","Aflak zijdeglans in RAL kleur naar keuze",null,null,"BEWERKING","VERF","BINNEN","MODERN","","","","Order","",false,"","",0,0,0,"",false,false,false,176.03,213,{"$f":"ROUND(AA4506*(1-VLOOKUP(AF4506,Discounts!C:E,3,0)),2)","v":176.03},null,106080,"LUXE"]
["WK106240","Maatwerk",null,"STUKS","mw blank glas incl. 8 kleine ruitjes tbv WK6524",null,null,"GLAS","","BINNEN","MODERN","6524","BLANK+KL RUITJES","","Order","",false,"","",0,0,0,"",false,false,false,233.88,283,{"$f":"ROUND(AA4514*(1-VLOOKUP(AF4514,Discounts!C:E,3,0)),2)","v":233.88},null,106240,"P109"]
["WK106670","Maatwerk",null,"SET","mw mat gelaagd glas tbv WK6522",null,null,"GLAS","","BINNEN","MODERN","6522","MAT GELAAGD","","Order","",false,"","",0,0,0,"",false,false,false,206.61,250,{"$f":"ROUND(AA4518*(1-VLOOKUP(AF4518,Discounts!C:E,3,0)),2)","v":206.61},null,106670,"P109"]
["WK106800","Maatwerk",null,"SET","mw mat gelaagd glas tbv WK6535",null,null,"GLAS","","BINNEN","MODERN","6535","MAT GELAAGD","","Order","",false,"","",0,0,0,"",false,false,false,206.61,250,{"$f":"ROUND(AA4525*(1-VLOOKUP(AF4525,Discounts!C:E,3,0)),2)","v":206.61},null,106800,"P109"]
["WK106850","Maatwerk",null,"STUKS","mw WK65012 stomp",null,null,"DEUR","BINNEN","BINNEN","MODERN","65012","","","Order","",true,"STOMP","",0,0,38,"",false,false,false,575.21,696,{"$f":"ROUND(AA4530*(1-VLOOKUP(AF4530,Discounts!C:E,3,0)),2)","v":575.21},null,106850,"B015"]
["WK107020","Maatwerk",null,"STUKS","mw WK6707 stomp",null,null,"DEUR","BINNEN","BINNEN","MODERN","6707","","","Order","",true,"STOMP","",0,0,38,"",false,false,false,623.14,754,{"$f":"ROUND(AA4538*(1-VLOOKUP(AF4538,Discounts!C:E,3,0)),2)","v":623.14},null,107020,"B015"]
["WK109380","Maatwerk",null,"STUKS","mw WK6820 stomp",null,null,"DEUR","BINNEN","BINNEN","MODERN","6820","","","Order","",true,"STOMP","",0,0,38,"",false,false,false,425.62,515,{"$f":"ROUND(AA4549*(1-VLOOKUP(AF4549,Discounts!C:E,3,0)),2)","v":425.62},null,109380,"B015"]
["WK109540","Maatwerk",null,"STUKS","mw WK6861 stomp",null,null,"DEUR","BINNEN","BINNEN","MODERN","6861","","","Order","",true,"STOMP","",0,0,38,"",false,false,false,425.62,515,{"$f":"ROUND(AA4555*(1-VLOOKUP(AF4555,Discounts!C:E,3,0)),2)","v":425.62},null,109540,"B015"]
["WK109620","Maatwerk",null,"STUKS","mw WK6865 stomp",null,null,"DEUR","BINNEN","BINNEN","MODERN","6865","","","Order","",true,"STOMP","",0,0,38,"",false,false,false,479.34,580,{"$f":"ROUND(AA4557*(1-VLOOKUP(AF4557,Discounts!C:E,3,0)),2)","v":479.34},null,109620,"B015"]
["WK109790","Maatwerk",null,"SET","mw facetglas blank tbv WK6820",null,null,"GLAS","","BINNEN","MODERN","6820","FACETGLAS BLANK","","Order","",false,"","",0,0,0,"",false,false,false,180.17,218,{"$f":"ROUND(AA4566*(1-VLOOKUP(AF4566,Discounts!C:E,3,0)),2)","v":180.17},null,109790,"P109"]
["WK109820","Maatwerk",null,"SET","mw mat glas tbv WK6820",null,null,"GLAS","","BINNEN","MODERN","6820","MAT","","Order","",false,"","",0,0,0,"",false,false,false,206.61,250,{"$f":"ROUND(AA4569*(1-VLOOKUP(AF4569,Discounts!C:E,3,0)),2)","v":206.61},null,109820,"P109"]
["WK109950","Maatwerk",null,"STUKS","mw WK6851 stomp",null,null,"DEUR","BINNEN","BINNEN","MODERN","6851","","","Order","",true,"STOMP","",0,0,38,"",false,false,false,528.93,640,{"$f":"ROUND(AA4577*(1-VLOOKUP(AF4577,Discounts!C:E,3,0)),2)","v":528.93},null,109950,"B015"]
["WK110110","Maatwerk",null,"SET","mw mat gelaagd glas tbv WK6861",null,null,"GLAS","","BINNEN","MODERN","6861","MAT GELAAGD","","Order","",false,"","",0,0,0,"",false,false,false,309.92,375,{"$f":"ROUND(AA4588*(1-VLOOKUP(AF4588,Discounts!C:E,3,0)),2)","v":309.92},null,110110,"P109"]
["WK110130","Maatwerk",null,"SET","mw facetglas blank tbv WK6865",null,null,"GLAS","","BINNEN","MODERN","6865","FACETGLAS BLANK","","Order","",false,"","",0,0,0,"",false,false,false,269.42,326,{"$f":"ROUND(AA4590*(1-VLOOKUP(AF4590,Discounts!C:E,3,0)),2)","v":269.42},null,110130,"P109"]
["WK110230","Maatwerk",null,"SET","mw mat gelaagd glas tbv WK6896",null,null,"GLAS","","BINNEN","MODERN","6896","MAT GELAAGD","","Order","",false,"","",0,0,0,"",false,false,false,206.61,250,{"$f":"ROUND(AA4600*(1-VLOOKUP(AF4600,Discounts!C:E,3,0)),2)","v":206.61},null,110230,"P109"]
["WK110300","Maatwerk",null,"SET","mw gil tbv WK6542/6552 model 6",null,null,"GLAS","","BINNEN","MODERN","6542","GLAS-IN-LOOD 6","6542/6552","Order","",false,"","",0,0,0,"",false,false,false,474.38,574,{"$f":"ROUND(AA4607*(1-VLOOKUP(AF4607,Discounts!C:E,3,0)),2)","v":474.38},null,110300,"P109"]
["WK110310","Maatwerk",null,"STUKS","mw gil tbv WK6820 model D2",null,null,"GLAS","","BINNEN","MODERN","6820","GLAS-IN-LOOD D2","","Order","",false,"","",0,0,0,"",false,false,false,522.31,632,{"$f":"ROUND(AA4608*(1-VLOOKUP(AF4608,Discounts!C:E,3,0)),2)","v":522.31},null,110310,"P109"]
["WK133810","Maatwerk",null,"STUKS","mw WK6519 C stomp",null,null,"DEUR","BINNEN","BINNEN","MODERN","6519","","","Order","MDF",true,"STOMP","",0,0,38,"",false,false,false,442.98,536,{"$f":"ROUND(AA4618*(1-VLOOKUP(AF4618,Discounts!C:E,3,0)),2)","v":442.98},null,133810,"B015"]
["WK133970","Maatwerk",null,"SET","mw blank glas tbv WK6518",null,null,"GLAS","","BINNEN","MODERN","6518","BLANK","","Order","",false,"","",0,0,0,"",false,false,false,192.56,233,{"$f":"ROUND(AA4627*(1-VLOOKUP(AF4627,Discounts!C:E,3,0)),2)","v":192.56},null,133970,"P109"]
["WK134000","Maatwerk",null,"SET","mw mat gelaagd glas tbv WK6518",null,null,"GLAS","","BINNEN","MODERN","6518","MAT GELAAGD","","Order","",false,"","",0,0,0,"",false,false,false,309.09,374,{"$f":"ROUND(AA4629*(1-VLOOKUP(AF4629,Discounts!C:E,3,0)),2)","v":309.09},null,134000,"P109"]
["WK137860","Maatwerk",null,"","Opplakroeden sd 10 ruits",null,null,"ACCESSOIRES","OPPLAKROEDE","BALKON","","","10 RUITS","","Order","",false,"","",0,0,0,"",false,false,false,188.43,228,{"$f":"ROUND(AA4639*(1-VLOOKUP(AF4639,Discounts!C:E,3,0)),2)","v":188.43},null,137860,"SD/SG"]
["WK142690","Maatwerk",null,"SET","mw gil tbv WK6520 model 2",null,null,"GLAS","","BINNEN","MODERN","6520","GLAS-IN-LOOD 2","","Order","",false,"","",0,0,0,"",false,false,false,522.31,632,{"$f":"ROUND(AA4642*(1-VLOOKUP(AF4642,Discounts!C:E,3,0)),2)","v":522.31},null,142690,"P109"]
["WK142780","Maatwerk",null,"SET","mw gil tbv WK6533/6582 model 5",null,null,"GLAS","","BINNEN","MODERN","6533","GLAS-IN-LOOD 5","6533/6582","Order","",false,"","",0,0,0,"",false,false,false,310.74,376,{"$f":"ROUND(AA4651*(1-VLOOKUP(AF4651,Discounts!C:E,3,0)),2)","v":310.74},null,142780,"P109"]
["WK142860","Maatwerk",null,"SET","mw gil tbv WK6865 model D2",null,null,"GLAS","","BINNEN","MODERN","6865","GLAS-IN-LOOD D2","","Order","",false,"","",0,0,0,"",false,false,false,686.78,831,{"$f":"ROUND(AA4659*(1-VLOOKUP(AF4659,Discounts!C:E,3,0)),2)","v":686.78},null,142860,"P109"]
["WK143530","Maatwerk",null,"STUKS","mw WK6212 stomp",null,null,"DEUR","BINNEN","BINNEN","MODERN","6212","","","Order","MDF",true,"STOMP","",0,0,38,"",false,false,false,485.12,587,{"$f":"ROUND(AA4663*(1-VLOOKUP(AF4663,Discounts!C:E,3,0)),2)","v":485.12},null,143530,"B015"]
["WK144410","Maatwerk",null,"STUKS","mw WK6403 stomp",null,null,"DEUR","BINNEN","BINNEN","MODERN","6403","","","Order","MDF",true,"STOMP","",0,0,38,"",false,false,false,657.02,795,{"$f":"ROUND(AA4670*(1-VLOOKUP(AF4670,Discounts!C:E,3,0)),2)","v":657.02},null,144410,"B015"]
["WK146020","Maatwerk",null,"SET","mw gefigureerd serie 1 iso VH glas tbv WK1436",null,null,"GLAS","","LUXBUITEN","VNM","1436","GEFIGUREERD SERIE 1","ISO VEILIGHEIDSGLAS","Order","",false,"","",0,0,0,"",false,false,false,120.66,146,{"$f":"ROUND(AA4678*(1-VLOOKUP(AF4678,Discounts!C:E,3,0)),2)","v":120.66},null,146020,"P105"]
["WK146070","Maatwerk",null,"SET","mw blank iso VH glas tbv WK1437",null,null,"GLAS","","LUXBUITEN","VD","1437","BLANK","ISO VEILIGHEIDSGLAS","Order","",false,"","",0,0,0,"",false,false,false,356.2,431,{"$f":"ROUND(AA4681*(1-VLOOKUP(AF4681,Discounts!C:E,3,0)),2)","v":356.2},null,146070,"P106"]
["WK146280","Maatwerk",null,"SET","mw blank iso VH glas tbv WK1549",null,null,"GLAS","","LUXBUITEN","VD","1549","BLANK","ISO VEILIGHEIDSGLAS","Order","",false,"","",0,0,0,"",false,false,false,166.12,201,{"$f":"ROUND(AA4690*(1-VLOOKUP(AF4690,Discounts!C:E,3,0)),2)","v":166.12},null,146280,"P106"]
["WK146340","Maatwerk",null,"SET","mw blank iso VH glas tbv WK1550",null,null,"GLAS","","LUXBUITEN","VD","1550","BLANK","ISO VEILIGHEIDSGLAS","Order","",false,"","",0,0,0,"",false,false,false,304.13,368,{"$f":"ROUND(AA4694*(1-VLOOKUP(AF4694,Discounts!C:E,3,0)),2)","v":304.13},null,146340,"P106"]
["WK148610","Maatwerk",null,"STUKS","mw WK6351 stomp",null,null,"DEUR","BINNEN","BINNEN","MODERN","6351","","","Order","MDF",true,"STOMP","",0,0,38,"",false,false,false,368.6,446,{"$f":"ROUND(AA4702*(1-VLOOKUP(AF4702,Discounts!C:E,3,0)),2)","v":368.6},null,148610,"B015"]
["WK158510","Maatwerk",null,"SET","mw blank iso glas tbv WK1971",null,null,"GLAS","","LUXBUITEN","VD","1971","BLANK","ISOLATIEGLAS","Order","",false,"","",0,0,0,"",false,false,false,252.89,306,{"$f":"ROUND(AA4711*(1-VLOOKUP(AF4711,Discounts!C:E,3,0)),2)","v":252.89},null,158510,"P106"]
["WK158550","Maatwerk",null,"SET","mw gefigureerd serie 1 iso VH glas tbv WK1971",null,null,"GLAS","","LUXBUITEN","VD","1971","GEFIGUREERD SERIE 1","ISO VEILIGHEIDSGLAS","Order","",false,"","",0,0,0,"",false,false,false,489.26,592,{"$f":"ROUND(AA4714*(1-VLOOKUP(AF4714,Discounts!C:E,3,0)),2)","v":489.26},null,158550,"P106"]
["WK158840","Maatwerk",null,"SET","mw gefigureerd serie 1 iso VH glas tbv 2023",null,null,"GLAS","","LUXBUITEN","VD","2023","GEFIGUREERD SERIE 1","ISO VEILIGHEIDSGLAS","Order","",false,"","",0,0,0,"",false,false,false,184.3,223,{"$f":"ROUND(AA4722*(1-VLOOKUP(AF4722,Discounts!C:E,3,0)),2)","v":184.3},null,158840,"P106"]
["WK161850","Maatwerk",null,"SET","mw facetglas mat tbv WK6510",null,null,"GLAS","","BINNEN","MODERN","6510","FACETGLAS MAT","","Order","",false,"","",0,0,0,"",false,false,false,414.05,501,{"$f":"ROUND(AA4729*(1-VLOOKUP(AF4729,Discounts!C:E,3,0)),2)","v":414.05},null,161850,"P109"]
["WK161890","Maatwerk",null,"SET","mw mat gelaagd glas tbv WK6510",null,null,"GLAS","","BINNEN","MODERN","6510","MAT GELAAGD","","Order","",false,"","",0,0,0,"",false,false,false,309.09,374,{"$f":"ROUND(AA4733*(1-VLOOKUP(AF4733,Discounts!C:E,3,0)),2)","v":309.09},null,161890,"P109"]
["WK163100","Maatwerk",null,"STUKS","Modeltoeslag 3014",null,null,"TOESLAG","","VLAK","","","MODELTOESLAG","3014","Order","",false,"","",0,0,0,"",false,false,false,310.74,376,{"$f":"ROUND(AA4741*(1-VLOOKUP(AF4741,Discounts!C:E,3,0)),2)","v":310.74},null,163100,"SD/SG"]
["WK163190","Maatwerk",null,"STUKS","Modeltoeslag 3082",null,null,"TOESLAG","","VLAK","","","MODELTOESLAG","3082","Order","",false,"","",0,0,0,"",false,false,false,263.64,319,{"$f":"ROUND(AA4750*(1-VLOOKUP(AF4750,Discounts!C:E,3,0)),2)","v":263.64},null,163190,"SD/SG"]
["WK163370","Maatwerk",null,"SET","mw blank iso glas tbv 3012 (alle model-subgroepen)",null,null,"GLAS","","VLAK","TC","3012","BLANK","ISOLATIEGLAS","Order","",false,"","",0,0,0,"",false,false,false,238.84,289,{"$f":"ROUND(AA4753*(1-VLOOKUP(AF4753,Discounts!C:E,3,0)),2)","v":238.84},null,163370,"P111"]
["WK163490","Maatwerk",null,"SET","mw blank iso VH glas tbv 3014 (alle model-subgroepen)",null,null,"GLAS","","VLAK","TC","3014","BLANK","ISO VEILIGHEIDSGLAS","Order","",false,"","",0,0,0,"",false,false,false,240.5,291,{"$f":"ROUND(AA4763*(1-VLOOKUP(AF4763,Discounts!C:E,3,0)),2)","v":240.5},null,163490,"P111"]
["WK163520","Maatwerk",null,"SET","mw blank iso glas tbv 3018 (alle model-subgroepen)",null,null,"GLAS","","VLAK","TC","3018","BLANK","ISOLATIEGLAS","Order","",false,"","",0,0,0,"",false,false,false,108.26,131,{"$f":"ROUND(AA4765*(1-VLOOKUP(AF4765,Discounts!C:E,3,0)),2)","v":108.26},null,163520,"P111"]
["WK163630","Maatwerk",null,"SET","mw gefigureerd serie 1 iso glas tbv 3041 (alle model-subgroepen)",null,null,"GLAS","","VLAK","TC","3041","GEFIGUREERD SERIE 1","ISOLATIEGLAS","Order","",false,"","",0,0,0,"",false,false,false,123.97,150,{"$f":"ROUND(AA4774*(1-VLOOKUP(AF4774,Discounts!C:E,3,0)),2)","v":123.97},null,163630,"P111"]
["WK163700","Maatwerk",null,"SET","mw gefigureerd serie 1 iso VH glas tbv 3042 (alle model-subgroepen)",null,null,"GLAS","","VLAK","TC","3042","GEFIGUREERD SERIE 1","ISO VEILIGHEIDSGLAS","Order","",false,"","",0,0,0,"",false,false,false,152.07,184,{"$f":"ROUND(AA4780*(1-VLOOKUP(AF4780,Discounts!C:E,3,0)),2)","v":152.07},null,163700,"P111"]
["WK163770","Maatwerk",null,"SET","mw blank iso glas tbv 3068 (alle model-subgroepen)",null,null,"GLAS","","VLAK","TC","3068","BLANK","ISOLATIEGLAS","Order","",false,"","",0,0,0,"",false,false,false,108.26,131,{"$f":"ROUND(AA4785*(1-VLOOKUP(AF4785,Discounts!C:E,3,0)),2)","v":108.26},null,163770,"P111"]
["WK163850","Maatwerk",null,"SET","mw gefigureerd serie 1 iso VH glas tbv 3069 (alle model-subgroepen)",null,null,"GLAS","","VLAK","TC","3069","GEFIGUREERD SERIE 1","ISO VEILIGHEIDSGLAS","Order","",false,"","",0,0,0,"",false,false,false,152.07,184,{"$f":"ROUND(AA4792*(1-VLOOKUP(AF4792,Discounts!C:E,3,0)),2)","v":152.07},null,163850,"P111"]
["WK163980","Maatwerk",null,"SET","mw gefigureerd serie 1 iso glas tbv 3084 (alle model-subgroepen)",null,null,"GLAS","","VLAK","TC","3084","GEFIGUREERD SERIE 1","ISOLATIEGLAS","Order","",false,"","",0,0,0,"",false,false,false,292.56,354,{"$f":"ROUND(AA4802*(1-VLOOKUP(AF4802,Discounts!C:E,3,0)),2)","v":292.56},null,163980,"P111"]
["WK164000","Maatwerk",null,"SET","mw gefigureerd serie 1 iso VH glas tbv 3084 (alle model-subgroepen)",null,null,"GLAS","","VLAK","TC","3084","GEFIGUREERD SERIE 1","ISO VEILIGHEIDSGLAS","Order","",false,"","",0,0,0,"",false,false,false,384.3,465,{"$f":"ROUND(AA4804*(1-VLOOKUP(AF4804,Discounts!C:E,3,0)),2)","v":384.3},null,164000,"P111"]
["WK165730","Maatwerk",null,"SET","mw blank iso glas tbv WK044 TC geisoleerd",null,null,"GLAS","","BALKON","ISO","044TC","BLANK","ISOLATIEGLAS","Order","",false,"","",0,0,0,"",false,false,false,147.93,179,{"$f":"ROUND(AA4815*(1-VLOOKUP(AF4815,Discounts!C:E,3,0)),2)","v":147.93},null,165730,"P111"]
["WK165750","Maatwerk",null,"SET","mw blank iso VH glas tbv WK044 TC geisoleerd",null,null,"GLAS","","BALKON","ISO","044TC","BLANK","ISO VEILIGHEIDSGLAS","Order","",false,"","",0,0,0,"",false,false,false,246.28,298,{"$f":"ROUND(AA4816*(1-VLOOKUP(AF4816,Discounts!C:E,3,0)),2)","v":246.28},null,165750,"P111"]
["WK165950","Maatwerk",null,"SET","mw blank iso VH glas tbv WK049 TC geisoleerd",null,null,"GLAS","","BALKON","ISO","049TC","BLANK","ISO VEILIGHEIDSGLAS","Order","",false,"","",0,0,0,"",false,false,false,176.03,213,{"$f":"ROUND(AA4826*(1-VLOOKUP(AF4826,Discounts!C:E,3,0)),2)","v":176.03},null,165950,"P111"]
["WK166030","Maatwerk",null,"SET","mw triple blank iso glas tbv WK046 TC geisoleerd",null,null,"GLAS","","BALKON","ISO","046TC","BLANK","ISO TRIPLE GLAS","Order","",false,"","",0,0,0,"",false,false,false,265.29,321,{"$f":"ROUND(AA4831*(1-VLOOKUP(AF4831,Discounts!C:E,3,0)),2)","v":265.29},null,166030,"P111"]
["WK166090","Maatwerk",null,"SET","mw triple blank iso VH glas tbv WK044 TC geisoleerd",null,null,"GLAS","","BALKON","ISO","044TC","BLANK","ISO TRIPLE VHGLAS","Order","",false,"","",0,0,0,"",false,false,false,389.26,471,{"$f":"ROUND(AA4837*(1-VLOOKUP(AF4837,Discounts!C:E,3,0)),2)","v":389.26},null,166090,"P111"]
["WK166780","Maatwerk",null,"","Balkon: overspray stock door into the same color after milling RAL9010 or RAL7035",null,null,"","","BALKON","","","","","Order","",false,"","",0,0,0,"",false,false,false,41.32,50,{"$f":"ROUND(AA4843*(1-VLOOKUP(AF4843,Discounts!C:E,3,0)),2)","v":41.32},null,166780,"SD/SG"]
["WK171440","Maatwerk",null,"STUKS","BASE -> mw PEFC-CS HW WK7710 38mm",null,null,"","","BALKON","BS","7710","","","Order","PEFCCSHW",false,"","",0,0,38,"",false,false,false,1144.63,1385,{"$f":"ROUND(AA4854*(1-VLOOKUP(AF4854,Discounts!C:E,3,0)),2)","v":1144.63},null,171440,"E016"]
["WK175310","Maatwerk",null,"STUKS","mw PEFC-CS HW WK7410 54mm",null,null,"","","BALKON","BS","7410","","","Order","PEFCCSHW",false,"","",0,0,54,"",false,false,false,1375.21,1664,{"$f":"ROUND(AA4855*(1-VLOOKUP(AF4855,Discounts!C:E,3,0)),2)","v":1375.21},null,175310,"E013"]
["WK205110","Maatwerk",null,"SET","mw blank iso glas tbv WK046 BC geisoleerd",null,null,"","","BALKON","BIOISO","046BC","BLANK","ISOLATIEGLAS","Order","",false,"","",0,0,0,"",false,false,false,133.88,162,{"$f":"ROUND(AA4867*(1-VLOOKUP(AF4867,Discounts!C:E,3,0)),2)","v":133.88},null,205110,"P111"]
["WK205250","Maatwerk",null,"SET","mw blank iso VH glas tbv WK049 BC geisoleerd",null,null,"","","BALKON","BIOISO","049BC","BLANK","ISO VEILIGHEIDSGLAS","Order","",false,"","",0,0,0,"",false,false,false,176.03,213,{"$f":"ROUND(AA4874*(1-VLOOKUP(AF4874,Discounts!C:E,3,0)),2)","v":176.03},null,205250,"P111"]
["WK205300","Maatwerk",null,"SET","mw triple blank iso glas tbv WK045 BC geisoleerd",null,null,"","","BALKON","BIOISO","045BC","BLANK","ISO TRIPLE GLAS","Order","",false,"","",0,0,0,"",false,false,false,282.64,342,{"$f":"ROUND(AA4878*(1-VLOOKUP(AF4878,Discounts!C:E,3,0)),2)","v":282.64},null,205300,"P111"]
["WK205380","Maatwerk",null,"SET","mw triple blank iso VH glas tbv WK045 BC geisoleerd",null,null,"","","BALKON","BIOISO","045BC","BLANK","ISO TRIPLE VHGLAS","Order","",false,"","",0,0,0,"",false,false,false,366.12,443,{"$f":"ROUND(AA4886*(1-VLOOKUP(AF4886,Discounts!C:E,3,0)),2)","v":366.12},null,205380,"P111"]
["WK205410","Maatwerk",null,"SET","mw triple blank iso VH glas tbv WK048 BC geisoleerd",null,null,"","","BALKON","BIOISO","048BC","BLANK","ISO TRIPLE VHGLAS","Order","",false,"","",0,0,0,"",false,false,false,293.39,355,{"$f":"ROUND(AA4889*(1-VLOOKUP(AF4889,Discounts!C:E,3,0)),2)","v":293.39},null,205410,"P111"]
["WK18090","Combinatieregel ",null,"STUKS","vrd WK043 38mm, FSC® cert. Premium Hardwood, RAL 9010",null,null,"DEUR","BALKON","BALKON","BS","043","","","Inventory","FSCPHW",true,"","RAL 9010",0,0,38,"",false,false,false,476.86,577,{"$f":"ROUND(SUMIF('Combination lines'!$A:$H,Report!$AE4894,'Combination lines'!$H:$H),2)","v":476.86},null,18090,"E075"]
["WK18320","Combinatieregel ",null,"STUKS","vrd WK046XL 38mm, FSC® cert. Premium Hardwood, RAL 9010",null,null,"DEUR","BALKON","BALKON","BS","046","","","Inventory","FSCPHW",true,"","RAL 9010",0,0,38,"",true,false,false,622.3199999999999,753,{"$f":"ROUND(SUMIF('Combination lines'!$A:$H,Report!$AE4906,'Combination lines'!$H:$H),2)","v":622.32},null,18320,"E075"]
["WK45220","Combinatieregel ",null,"STUKS","vrd WK3100 TriComfort® FSC® cert. 935 x 2340 40mm",null,null,"DEUR","VLAK","VLAK","TC","3100","","","Inventory","FSCMTI",true,"","",2340,935,40,"",false,false,false,598.35,724,{"$f":"ROUND(SUMIF('Combination lines'!$A:$H,Report!$AE4913,'Combination lines'!$H:$H),2)","v":598.35},null,45220,"D050"]
["WK53530","Combinatieregel ",null,"","Afwijkende maat t/m 1195 x 2495 AluMaxx® ingroefbaar 40mm",null,null,"TOESLAG","","VLAK","AL","","MAATTOESLAG","","Order","",false,"","",0,0,0,"",false,false,false,246.27999999999997,298,{"$f":"ROUND(SUMIF('Combination lines'!$A:$H,Report!$AE4919,'Combination lines'!$H:$H),2)","v":246.28},null,53530,"SD/SG"]
["WK57880","Combinatieregel COM0000000079",null,"","mw WK042-8 ruits 38mm, FSC® cert. Premium Hardwood",null,null,"DEUR","BALKON","BALKON","BS","042","8 RUITS","","Order","FSCPHW",true,"","",0,0,38,"",false,false,false,789.26,955,{"$f":"ROUND(SUMIF('Combination lines'!$A:$H,Report!$AE4925,'Combination lines'!$H:$H),2)","v":789.26},null,57880,""]
["WK57980","Combinatieregel COM0000000089",null,"","mw WK046-6 ruits 38mm, FSC® cert. Hardwood",null,null,"DEUR","BALKON","BALKON","BS","046","6 RUITS","","Order","FSCHW",true,"","",0,0,38,"",false,false,false,804.13,973,{"$f":"ROUND(SUMIF('Combination lines'!$A:$H,Report!$AE4930,'Combination lines'!$H:$H),2)","v":804.13},null,57980,""]
["WK58120","Combinatieregel COM0000000103",null,"","mw WK049-4 ruits 54mm, FSC® cert. Hardwood",null,null,"DEUR","BALKON","BALKON","BS","049","4 RUITS","","Order","FSCHW",true,"","",0,0,54,"",false,false,false,1029.75,1246,{"$f":"ROUND(SUMIF('Combination lines'!$A:$H,Report!$AE4937,'Combination lines'!$H:$H),2)","v":1029.75},null,58120,""]
["WK58200","Combinatieregel COM0000000111",null,"","mw WK8151-6 ruits 54mm, FSC® cert. Hardwood",null,null,"DEUR","BALKON","BALKON","BS","8151","6 RUITS","","Order","FSCHW",true,"","",0,0,54,"",false,false,false,1491.73,1805,{"$f":"ROUND(SUMIF('Combination lines'!$A:$H,Report!$AE4941,'Combination lines'!$H:$H),2)","v":1491.73},null,58200,""]
["WK58410","Combinatieregel COM0000000132",null,"","Krukbediende driepuntsluiting, gemonteerd, incl. los meegeleverde sluitkommen, incl. infrezing SD/SG",null,null,"HENS","SLOTEN","","","","","","Order","",false,"","",0,0,0,"",false,false,false,220.66,267,{"$f":"ROUND(SUMIF('Combination lines'!$A:$H,Report!$AE4952,'Combination lines'!$H:$H),2)","v":220.66},null,58410,""]
["WK58510","Combinatieregel COM0000000142",null,"","Montage stolpnaald + ronde kant frezen contra deur",null,null,"ACCESSOIRES","AANSLAGLATTEN","","","","","","Order","",false,"","",0,0,0,"",false,false,false,76.03,92,{"$f":"ROUND(SUMIF('Combination lines'!$A:$H,Report!$AE4958,'Combination lines'!$H:$H),2)","v":76.03},null,58510,""]
["WK58730","Combinatieregel COM0000000164",null,"","mw WK1116 38mm, FSC® cert. Premium Hardwood",null,null,"DEUR","LUXBUITEN","LUXBUITEN","VNM","1116","","","Order","FSCPHW",true,"","",0,0,38,"",false,false,false,2787.6,3373,{"$f":"ROUND(SUMIF('Combination lines'!$A:$H,Report!$AE4964,'Combination lines'!$H:$H),2)","v":2787.6},null,58730,""]
["WK58960","Combinatieregel COM0000000187",null,"","mw WK1391 38mm, FSC® cert. Premium Hardwood",null,null,"DEUR","LUXBUITEN","LUXBUITEN","VD","1391","","","Order","FSCPHW",true,"","",0,0,38,"",false,false,false,2334.71,2825,{"$f":"ROUND(SUMIF('Combination lines'!$A:$H,Report!$AE4971,'Combination lines'!$H:$H),2)","v":2334.71},null,58960,""]
["WK59180","Combinatieregel COM0000000209",null,"","mw WK1423 38mm, FSC® cert. Premium Hardwood",null,null,"DEUR","LUXBUITEN","LUXBUITEN","VD","1423","","","Order","FSCPHW",true,"","",0,0,38,"",false,false,false,2739.67,3315,{"$f":"ROUND(SUMIF('Combination lines'!$A:$H,Report!$AE4976,'Combination lines'!$H:$H),2)","v":2739.67},null,59180,""]
["WK59440","Combinatieregel COM0000000235",null,"","mw WK1533 38mm, FSC® cert. Premium Hardwood",null,null,"DEUR","LUXBUITEN","LUXBUITEN","VD","1533","","","Order","FSCPHW",true,"","",0,0,38,"",false,false,false,2886.78,3493,{"$f":"ROUND(SUMIF('Combination lines'!$A:$H,Report!$AE4982,'Combination lines'!$H:$H),2)","v":2886.78},null,59440,""]
["WK59650","Combinatieregel COM0000000256",null,"","mw WK1555 38mm, FSC® cert. Premium Hardwood",null,null,"DEUR","LUXBUITEN","LUXBUITEN","VD","1555","","","Order","FSCPHW",true,"","",0,0,38,"",false,false,false,2443.8,2957,{"$f":"ROUND(SUMIF('Combination lines'!$A:$H,Report!$AE4988,'Combination lines'!$H:$H),2)","v":2443.8},null,59650,""]
["WK59840","Combinatieregel COM0000000275",null,"","mw WK1131 38mm, FSC® cert. Premium Hardwood",null,null,"DEUR","LUXBUITEN","LUXBUITEN","VNM","1131","","","Order","FSCPHW",true,"","",0,0,38,"",false,false,false,2470.25,2989,{"$f":"ROUND(SUMIF('Combination lines'!$A:$H,Report!$AE4993,'Combination lines'!$H:$H),2)","v":2470.25},null,59840,""]
["WK60260","Combinatieregel COM0000000317",null,"","mw WK1724 38mm, FSC® cert. Premium Hardwood",null,null,"DEUR","LUXBUITEN","LUXBUITEN","VD","1724","","","Order","FSCPHW",true,"","",0,0,38,"",false,false,false,1974.3799999999999,2389,{"$f":"ROUND(SUMIF('Combination lines'!$A:$H,Report!$AE5003,'Combination lines'!$H:$H),2)","v":1974.38},null,60260,""]
["WK60510","Combinatieregel COM0000000342",null,"","mw WK1831 38mm, FSC® cert. Premium Hardwood",null,null,"DEUR","LUXBUITEN","LUXBUITEN","VD","1831","","","Order","FSCPHW",true,"","",0,0,38,"",false,false,false,2309.09,2794,{"$f":"ROUND(SUMIF('Combination lines'!$A:$H,Report!$AE5010,'Combination lines'!$H:$H),2)","v":2309.09},null,60510,""]
["WK60680","Combinatieregel COM0000000359",null,"","mw WK1911 38mm, FSC® cert. Premium Hardwood",null,null,"DEUR","LUXBUITEN","LUXBUITEN","VD","1911","","","Order","FSCPHW",true,"","",0,0,38,"",false,false,false,1887.61,2284,{"$f":"ROUND(SUMIF('Combination lines'!$A:$H,Report!$AE5015,'Combination lines'!$H:$H),2)","v":1887.61},null,60680,""]
["WK61000","Combinatieregel COM0000000391",null,"","mw WK2132 38mm, FSC® cert. Premium Hardwood",null,null,"DEUR","LUXBUITEN","LUXBUITEN","DD","2132","","","Order","FSCPHW",true,"","",0,0,38,"",false,false,false,1773.56,2146,{"$f":"ROUND(SUMIF('Combination lines'!$A:$H,Report!$AE5021,'Combination lines'!$H:$H),2)","v":1773.56},null,61000,""]
["WK61220","Combinatieregel COM0000000413",null,"","mw WK2154 38mm, FSC® cert. Premium Hardwood",null,null,"DEUR","LUXBUITEN","LUXBUITEN","DD","2154","","","Order","FSCPHW",true,"","",0,0,38,"",false,false,false,1895.05,2293,{"$f":"ROUND(SUMIF('Combination lines'!$A:$H,Report!$AE5027,'Combination lines'!$H:$H),2)","v":1895.05},null,61220,""]
["WK61870","Combinatieregel COM0000000478",null,"","mw WK2525 38mm, FSC® cert. Premium Hardwood",null,null,"DEUR","LUXBUITEN","LUXBUITEN","DD","2525","","","Order","FSCPHW",true,"","",0,0,38,"",false,false,false,1690.92,2046,{"$f":"ROUND(SUMIF('Combination lines'!$A:$H,Report!$AE5034,'Combination lines'!$H:$H),2)","v":1690.92},null,61870,""]
["WK62000","Combinatieregel COM0000000491",null,"","mw WK2539 38mm, FSC® cert. Premium Hardwood",null,null,"DEUR","LUXBUITEN","LUXBUITEN","DD","2539","","","Order","FSCPHW",true,"","",0,0,38,"",false,false,false,1957.86,2369,{"$f":"ROUND(SUMIF('Combination lines'!$A:$H,Report!$AE5039,'Combination lines'!$H:$H),2)","v":1957.86},null,62000,""]
["WK62530","Combinatieregel COM0000000544",null,"","mw WK1111 54mm, FSC® cert. Premium Hardwood",null,null,"DEUR","LUXBUITEN","LUXBUITEN","VNM","1111","","","Order","FSCPHW",true,"","",0,0,54,"",false,false,false,3037.19,3675,{"$f":"ROUND(SUMIF('Combination lines'!$A:$H,Report!$AE5045,'Combination lines'!$H:$H),2)","v":3037.19},null,62530,""]
["WK62840","Combinatieregel COM0000000575",null,"","mw WK1141 54mm, FSC® cert. Premium Hardwood",null,null,"DEUR","LUXBUITEN","LUXBUITEN","VNM","1141","","","Order","FSCPHW",true,"","",0,0,54,"",false,false,false,2157.03,2610,{"$f":"ROUND(SUMIF('Combination lines'!$A:$H,Report!$AE5054,'Combination lines'!$H:$H),2)","v":2157.03},null,62840,""]
["WK63170","Combinatieregel COM0000000608",null,"","mw WK1221 38mm, FSC® cert. Premium Hardwood",null,null,"DEUR","LUXBUITEN","LUXBUITEN","VD","1221","","","Order","FSCPHW",true,"","",0,0,38,"",false,false,false,2191.7400000000002,2652,{"$f":"ROUND(SUMIF('Combination lines'!$A:$H,Report!$AE5062,'Combination lines'!$H:$H),2)","v":2191.74},null,63170,""]
["WK63240","Combinatieregel COM0000000615",null,"","mw WK1241 54mm, FSC® cert. Premium Hardwood",null,null,"DEUR","LUXBUITEN","LUXBUITEN","VD","1241","","","Order","FSCPHW",true,"","",0,0,54,"",false,false,false,2176.87,2634,{"$f":"ROUND(SUMIF('Combination lines'!$A:$H,Report!$AE5066,'Combination lines'!$H:$H),2)","v":2176.87},null,63240,""]
["WK63550","Combinatieregel COM0000000646",null,"","mw WK1313 54mm, FSC® cert. Premium Hardwood",null,null,"DEUR","LUXBUITEN","LUXBUITEN","VD","1313","","","Order","FSCPHW",true,"","",0,0,54,"",false,false,false,2675.21,3237,{"$f":"ROUND(SUMIF('Combination lines'!$A:$H,Report!$AE5073,'Combination lines'!$H:$H),2)","v":2675.21},null,63550,""]
["WK63790","Combinatieregel COM0000000670",null,"","mw WK1364 54mm, FSC® cert. Premium Hardwood",null,null,"DEUR","LUXBUITEN","LUXBUITEN","VD","1364","","","Order","FSCPHW",true,"","",0,0,54,"",false,false,false,3080.17,3727,{"$f":"ROUND(SUMIF('Combination lines'!$A:$H,Report!$AE5078,'Combination lines'!$H:$H),2)","v":3080.17},null,63790,""]
["WK64090","Combinatieregel COM0000000700",null,"","mw WK1391-2 54mm, FSC® cert. Premium Hardwood",null,null,"DEUR","LUXBUITEN","LUXBUITEN","VD","1391-2","","","Order","FSCPHW",true,"","",0,0,54,"",false,false,false,3028.1,3664,{"$f":"ROUND(SUMIF('Combination lines'!$A:$H,Report!$AE5086,'Combination lines'!$H:$H),2)","v":3028.1},null,64090,""]
["WK64280","Combinatieregel COM0000000719",null,"","mw WK1231 38mm, FSC® cert. Premium Hardwood",null,null,"DEUR","LUXBUITEN","LUXBUITEN","VD","1231","","","Order","FSCPHW",true,"","",0,0,38,"",false,false,false,2022.32,2447,{"$f":"ROUND(SUMIF('Combination lines'!$A:$H,Report!$AE5090,'Combination lines'!$H:$H),2)","v":2022.32},null,64280,""]
["WK64590","Combinatieregel COM0000000750",null,"","mw WK1542 54mm, FSC® cert. Premium Hardwood",null,null,"DEUR","LUXBUITEN","LUXBUITEN","VD","1542","","","Order","FSCPHW",true,"","",0,0,54,"",false,false,false,1766.12,2137,{"$f":"ROUND(SUMIF('Combination lines'!$A:$H,Report!$AE5097,'Combination lines'!$H:$H),2)","v":1766.12},null,64590,""]
["WK64770","Combinatieregel COM0000000768",null,"","mw WK1611 54mm, FSC® cert. Premium Hardwood",null,null,"DEUR","LUXBUITEN","LUXBUITEN","VD","1611","","","Order","FSCPHW",true,"","",0,0,54,"",false,false,false,2301.6600000000003,2785,{"$f":"ROUND(SUMIF('Combination lines'!$A:$H,Report!$AE5102,'Combination lines'!$H:$H),2)","v":2301.66},null,64770,""]
["WK65330","Combinatieregel COM0000000824",null,"","mw WK1722 54mm, FSC® cert. Premium Hardwood",null,null,"DEUR","LUXBUITEN","LUXBUITEN","VD","1722","","","Order","FSCPHW",true,"","",0,0,54,"",false,false,false,2026.45,2452,{"$f":"ROUND(SUMIF('Combination lines'!$A:$H,Report!$AE5114,'Combination lines'!$H:$H),2)","v":2026.45},null,65330,""]
["WK65480","Combinatieregel COM0000000839",null,"","mw WK1734 54mm, FSC® cert. Premium Hardwood",null,null,"DEUR","LUXBUITEN","LUXBUITEN","VD","1734","","","Order","FSCPHW",true,"","",0,0,54,"",false,false,false,2840.5,3437,{"$f":"ROUND(SUMIF('Combination lines'!$A:$H,Report!$AE5117,'Combination lines'!$H:$H),2)","v":2840.5},null,65480,""]
["WK65790","Combinatieregel COM0000000870",null,"","mw WK1911 54mm, FSC® cert. Premium Hardwood",null,null,"DEUR","LUXBUITEN","LUXBUITEN","VD","1911","","","Order","FSCPHW",true,"","",0,0,54,"",false,false,false,2137.2000000000003,2586,{"$f":"ROUND(SUMIF('Combination lines'!$A:$H,Report!$AE5125,'Combination lines'!$H:$H),2)","v":2137.2},null,65790,""]
["WK66060","Combinatieregel COM0000000897",null,"","mw WK2121 54mm, FSC® cert. Premium Hardwood",null,null,"DEUR","LUXBUITEN","LUXBUITEN","DD","2121","","","Order","FSCPHW",true,"","",0,0,54,"",false,false,false,2057.8599999999997,2490,{"$f":"ROUND(SUMIF('Combination lines'!$A:$H,Report!$AE5129,'Combination lines'!$H:$H),2)","v":2057.86},null,66060,""]
["WK66330","Combinatieregel COM0000000924",null,"","mw WK2154 54mm, FSC® cert. Premium Hardwood",null,null,"DEUR","LUXBUITEN","LUXBUITEN","DD","2154","","","Order","FSCPHW",true,"","",0,0,54,"",false,false,false,2144.64,2595,{"$f":"ROUND(SUMIF('Combination lines'!$A:$H,Report!$AE5138,'Combination lines'!$H:$H),2)","v":2144.64},null,66330,""]
["WK66590","Combinatieregel COM0000000950",null,"","mw WK2246 54mm, FSC® cert. Premium Hardwood",null,null,"DEUR","LUXBUITEN","LUXBUITEN","DD","2246","","","Order","FSCPHW",true,"","",0,0,54,"",false,false,false,2383.48,2884,{"$f":"ROUND(SUMIF('Combination lines'!$A:$H,Report!$AE5141,'Combination lines'!$H:$H),2)","v":2383.48},null,66590,""]
["WK67190","Combinatieregel COM0000001010",null,"","mw WK2549 54mm, FSC® cert. Premium Hardwood",null,null,"DEUR","LUXBUITEN","LUXBUITEN","DD","2549","","","Order","FSCPHW",true,"","",0,0,54,"",false,false,false,2361.17,2857,{"$f":"ROUND(SUMIF('Combination lines'!$A:$H,Report!$AE5149,'Combination lines'!$H:$H),2)","v":2361.17},null,67190,""]
["WK68340","Combinatieregel COM0000001158",null,"","mw WK013 38mm, FSC® cert. Hardwood, incl. ventilatiesleuven en vlakke iso-glaslatten",null,null,"DEUR","BALKON","BALKON","SS","013","","","Order","FSCHW",true,"","",0,0,38,"",false,false,false,560.33,678,{"$f":"ROUND(SUMIF('Combination lines'!$A:$H,Report!$AE5160,'Combination lines'!$H:$H),2)","v":560.33},null,68340,""]
["WK68460","Combinatieregel COM0000001170",null,"","mw WK016 38mm, FSC® cert. Hardwood, incl. ventilatiesleuven en vlakke iso-glaslatten",null,null,"DEUR","BALKON","BALKON","SS","016","","","Order","FSCHW",true,"","",0,0,38,"",false,false,false,638.02,772,{"$f":"ROUND(SUMIF('Combination lines'!$A:$H,Report!$AE5166,'Combination lines'!$H:$H),2)","v":638.02},null,68460,""]
["WK68500","Combinatieregel COM0000001174",null,"","mw WK017 38mm, FSC® cert. Hardwood, incl. ventilatiesleuven en vlakke iso-glaslatten",null,null,"DEUR","BALKON","BALKON","SS","017","","","Order","FSCHW",true,"","",0,0,38,"",false,false,false,660.33,799,{"$f":"ROUND(SUMIF('Combination lines'!$A:$H,Report!$AE5168,'Combination lines'!$H:$H),2)","v":660.33},null,68500,""]
["WK68690","Combinatieregel COM0000001193",null,"","mw WK044 38mm, FSC® cert. Premium Hardwood, incl. ventilatiesleuven en vlakke iso-glaslatten",null,null,"DEUR","BALKON","BALKON","BS","044","","","Order","FSCPHW",true,"","",0,0,38,"",false,false,false,687.6,832,{"$f":"ROUND(SUMIF('Combination lines'!$A:$H,Report!$AE5177,'Combination lines'!$H:$H),2)","v":687.6},null,68690,""]
["WK68740","Combinatieregel COM0000001198",null,"","mw WK045 38mm, FSC® cert. Hardwood, incl. ventilatiesleuven en vlakke iso-glaslatten",null,null,"DEUR","BALKON","BALKON","BS","045","","","Order","FSCHW",true,"","",0,0,38,"",false,false,false,647.93,784,{"$f":"ROUND(SUMIF('Combination lines'!$A:$H,Report!$AE5180,'Combination lines'!$H:$H),2)","v":647.93},null,68740,""]
["WK68940","Combinatieregel COM0000001218",null,"","mw WK012 54mm, FSC® cert. Hardwood, incl. ventilatiesleuven en vlakke iso-glaslatten",null,null,"DEUR","BALKON","BALKON","SS","012","","","Order","FSCHW",true,"","",0,0,54,"",false,false,false,617.35,747,{"$f":"ROUND(SUMIF('Combination lines'!$A:$H,Report!$AE5190,'Combination lines'!$H:$H),2)","v":617.35},null,68940,""]
["WK69130","Combinatieregel COM0000001237",null,"","mw WK017 54mm, FSC® cert. Premium Hardwood, incl. ventilatiesleuven en vlakke iso-glaslatten",null,null,"DEUR","BALKON","BALKON","SS","017","","","Order","FSCPHW",true,"","",0,0,54,"",false,false,false,902.48,1092,{"$f":"ROUND(SUMIF('Combination lines'!$A:$H,Report!$AE5199,'Combination lines'!$H:$H),2)","v":902.48},null,69130,""]
["WK69170","Combinatieregel COM0000001241",null,"","mw WK018 54mm, FSC® cert. Premium Hardwood, incl. ventilatiesleuven en vlakke iso-glaslatten",null,null,"DEUR","BALKON","BALKON","SS","018","","","Order","FSCPHW",true,"","",0,0,54,"",false,false,false,943.8000000000001,1142,{"$f":"ROUND(SUMIF('Combination lines'!$A:$H,Report!$AE5201,'Combination lines'!$H:$H),2)","v":943.8},null,69170,""]
["WK69370","Combinatieregel COM0000001261",null,"","mw WK045 54mm, FSC® cert. Premium Hardwood, incl. ventilatiesleuven en vlakke iso-glaslatten",null,null,"DEUR","BALKON","BALKON","BS","045","","","Order","FSCPHW",true,"","",0,0,54,"",false,false,false,861.98,1043,{"$f":"ROUND(SUMIF('Combination lines'!$A:$H,Report!$AE5211,'Combination lines'!$H:$H),2)","v":861.98},null,69370,""]
["WK69500","Combinatieregel COM0000001274",null,"","mw WK048 54mm, FSC® cert. Hardwood, incl. ventilatiesleuven en vlakke iso-glaslatten",null,null,"DEUR","BALKON","BALKON","BS","048","","","Order","FSCHW",true,"","",0,0,54,"",false,false,false,886.77,1073,{"$f":"ROUND(SUMIF('Combination lines'!$A:$H,Report!$AE5218,'Combination lines'!$H:$H),2)","v":886.77},null,69500,""]
["WK69530","Combinatieregel COM0000001277",null,"","mw WK049 54mm, FSC® cert. Premium Hardwood, incl. ventilatiesleuven en vlakke iso-glaslatten",null,null,"DEUR","BALKON","BALKON","BS","049","","","Order","FSCPHW",true,"","",0,0,54,"",false,false,false,1032.23,1249,{"$f":"ROUND(SUMIF('Combination lines'!$A:$H,Report!$AE5219,'Combination lines'!$H:$H),2)","v":1032.23},null,69530,""]
["WK69720","Combinatieregel COM0000001296",null,"","mw WK7113 38mm, FSC® cert. Hardwood, incl. ventilatiesleuven en vlakke iso-glaslatten",null,null,"DEUR","BALKON","BALKON","BS","7113","","","Order","FSCHW",true,"","",0,0,38,"",false,false,false,879.3299999999999,1064,{"$f":"ROUND(SUMIF('Combination lines'!$A:$H,Report!$AE5229,'Combination lines'!$H:$H),2)","v":879.33},null,69720,""]
["WK69910","Combinatieregel COM0000001315",null,"","mw WK7132 38mm, FSC® cert. Premium Hardwood, incl. ventilatiesleuven en vlakke iso-glaslatten",null,null,"DEUR","BALKON","BALKON","BS","7132","","","Order","FSCPHW",true,"","",0,0,38,"",false,false,false,895.04,1083,{"$f":"ROUND(SUMIF('Combination lines'!$A:$H,Report!$AE5238,'Combination lines'!$H:$H),2)","v":895.04},null,69910,""]
["WK69950","Combinatieregel COM0000001319",null,"","mw WK7164 38mm, FSC® cert. Premium Hardwood, incl. ventilatiesleuven en vlakke iso-glaslatten",null,null,"DEUR","BALKON","BALKON","BS","7164","","","Order","FSCPHW",true,"","",0,0,38,"",false,false,false,1114.0500000000002,1348,{"$f":"ROUND(SUMIF('Combination lines'!$A:$H,Report!$AE5240,'Combination lines'!$H:$H),2)","v":1114.05},null,69950,""]
["WK70150","Combinatieregel COM0000001339",null,"","mw WK7764 38mm, FSC® cert. Premium Hardwood, incl. ventilatiesleuven en vlakke iso-glaslatten",null,null,"DEUR","BALKON","BALKON","BS","7764","","","Order","FSCPHW",true,"","",0,0,38,"",false,false,false,1167.77,1413,{"$f":"ROUND(SUMIF('Combination lines'!$A:$H,Report!$AE5250,'Combination lines'!$H:$H),2)","v":1167.77},null,70150,""]
["WK70200","Combinatieregel COM0000001344",null,"","mw WK124 54mm, FSC® cert. Hardwood, incl. ventilatiesleuven en vlakke iso-glaslatten",null,null,"DEUR","BALKON","BALKON","BS","124","","","Order","FSCHW",true,"","",0,0,54,"",false,false,false,793.39,960,{"$f":"ROUND(SUMIF('Combination lines'!$A:$H,Report!$AE5253,'Combination lines'!$H:$H),2)","v":793.39},null,70200,""]
["WK70390","Combinatieregel COM0000001363",null,"","mw WK7115 54mm, FSC® cert. Premium Hardwood, incl. ventilatiesleuven en vlakke iso-glaslatten",null,null,"DEUR","BALKON","BALKON","BS","7115","","","Order","FSCPHW",true,"","",0,0,54,"",false,false,false,1401.6399999999999,1696,{"$f":"ROUND(SUMIF('Combination lines'!$A:$H,Report!$AE5262,'Combination lines'!$H:$H),2)","v":1401.64},null,70390,""]
["WK70550","Combinatieregel COM0000001379",null,"","mw WK7164 54mm, FSC® cert. Premium Hardwood, incl. ventilatiesleuven en vlakke iso-glaslatten",null,null,"DEUR","BALKON","BALKON","BS","7164","","","Order","FSCPHW",true,"","",0,0,54,"",false,false,false,1314.05,1590,{"$f":"ROUND(SUMIF('Combination lines'!$A:$H,Report!$AE5270,'Combination lines'!$H:$H),2)","v":1314.05},null,70550,""]
["WK70680","Combinatieregel COM0000001392",null,"","mw WK7462 54mm, FSC® cert. Hardwood, incl. ventilatiesleuven en vlakke iso-glaslatten",null,null,"DEUR","BALKON","BALKON","BS","7462","","","Order","FSCHW",true,"","",0,0,54,"",false,false,false,1340.5,1622,{"$f":"ROUND(SUMIF('Combination lines'!$A:$H,Report!$AE5277,'Combination lines'!$H:$H),2)","v":1340.5},null,70680,""]
["WK70760","Combinatieregel COM0000001400",null,"","mw WK7764 54mm, FSC® cert. Hardwood, incl. ventilatiesleuven en vlakke iso-glaslatten",null,null,"DEUR","BALKON","BALKON","BS","7764","","","Order","FSCHW",true,"","",0,0,54,"",false,false,false,1210.74,1465,{"$f":"ROUND(SUMIF('Combination lines'!$A:$H,Report!$AE5281,'Combination lines'!$H:$H),2)","v":1210.74},null,70760,""]
["WK70960","Combinatieregel COM0000001420",null,"","mw WK8171 54mm, FSC® cert. Premium Hardwood, incl. ventilatiesleuven en vlakke iso-glaslatten",null,null,"DEUR","BALKON","BALKON","BS","8171","","","Order","FSCPHW",true,"","",0,0,54,"",false,false,false,1590.08,1924,{"$f":"ROUND(SUMIF('Combination lines'!$A:$H,Report!$AE5289,'Combination lines'!$H:$H),2)","v":1590.08},null,70960,""]
["WK70990","Combinatieregel COM0000001423",null,"","mw WK8171 54mm, FSC® cert. Hardwood, incl. ventilatiesleuven en vlakke iso-glaslatten",null,null,"DEUR","BALKON","BALKON","BS","8171","","","Order","FSCHW",true,"","",0,0,54,"",false,false,false,1432.23,1733,{"$f":"ROUND(SUMIF('Combination lines'!$A:$H,Report!$AE5292,'Combination lines'!$H:$H),2)","v":1432.23},null,70990,""]
["WK73030","Combinatieregel COM0000001627",null,"","mw WK132 54mm, FSC® cert. Hardwood, incl. ventilatiesleuven en vlakke iso-glaslatten",null,null,"DEUR","BALKON","BALKON","SS","132","","","Order","FSCHW",true,"","",0,0,54,"",false,false,false,720.6600000000001,872,{"$f":"ROUND(SUMIF('Combination lines'!$A:$H,Report!$AE5301,'Combination lines'!$H:$H),2)","v":720.66},null,73030,""]
["WK73070","Combinatieregel COM0000001631",null,"","mw WK232 54mm, FSC® cert. Hardwood, incl. ventilatiesleuven en vlakke iso-glaslatten",null,null,"DEUR","BALKON","BALKON","SS","232","","","Order","FSCHW",true,"","",0,0,54,"",false,false,false,909.0799999999999,1100,{"$f":"ROUND(SUMIF('Combination lines'!$A:$H,Report!$AE5305,'Combination lines'!$H:$H),2)","v":909.08},null,73070,""]
["WK73150","Combinatieregel COM0000001639",null,"","mw WK050 54mm, FSC® cert. Hardwood, incl. ventilatiesleuven en vlakke iso-glaslatten",null,null,"DEUR","BALKON","BALKON","BS","050","","","Order","FSCHW",true,"","",0,0,54,"",false,false,false,1040.5,1259,{"$f":"ROUND(SUMIF('Combination lines'!$A:$H,Report!$AE5313,'Combination lines'!$H:$H),2)","v":1040.5},null,73150,""]
["WK73240","Combinatieregel COM0000001648",null,"","mw WK324 38mm, FSC® cert. Hardwood, incl. ventilatiesleuven en vlakke iso-glaslatten",null,null,"DEUR","BALKON","BALKON","BS","324","","","Order","FSCHW",true,"","",0,0,38,"",false,false,false,908.26,1099,{"$f":"ROUND(SUMIF('Combination lines'!$A:$H,Report!$AE5322,'Combination lines'!$H:$H),2)","v":908.26},null,73240,""]
["WK73270","Combinatieregel COM0000001651",null,"","mw WK334 54mm, FSC® cert. Hardwood, incl. ventilatiesleuven en vlakke iso-glaslatten",null,null,"DEUR","BALKON","BALKON","BS","334","","","Order","FSCHW",true,"","",0,0,54,"",false,false,false,1079.3300000000002,1306,{"$f":"ROUND(SUMIF('Combination lines'!$A:$H,Report!$AE5325,'Combination lines'!$H:$H),2)","v":1079.33},null,73270,""]
["WK73350","Combinatieregel COM0000001659",null,"","mw WK0137 38mm, FSC® cert. Hardwood, incl. ventilatiesleuven en vlakke iso-glaslatten",null,null,"DEUR","BALKON","BALKON","BS","137","","","Order","FSCHW",true,"","",0,0,38,"",false,false,false,724.79,877,{"$f":"ROUND(SUMIF('Combination lines'!$A:$H,Report!$AE5333,'Combination lines'!$H:$H),2)","v":724.79},null,73350,""]
["WK73420","Combinatieregel COM0000001666",null,"","mw WK132 38mm, FSC® cert. Premium Hardwood, incl. ventilatiesleuven en vlakke iso-glaslatten",null,null,"DEUR","BALKON","BALKON","SS","132","","","Order","FSCPHW",true,"","",0,0,38,"",false,false,false,811.5600000000002,982,{"$f":"ROUND(SUMIF('Combination lines'!$A:$H,Report!$AE5340,'Combination lines'!$H:$H),2)","v":811.56},null,73420,""]
["WK73460","Combinatieregel COM0000001670",null,"","mw WK232 38mm, FSC® cert. Premium Hardwood, incl. ventilatiesleuven en vlakke iso-glaslatten",null,null,"DEUR","BALKON","BALKON","SS","232","","","Order","FSCPHW",true,"","",0,0,38,"",false,false,false,871.0699999999999,1054,{"$f":"ROUND(SUMIF('Combination lines'!$A:$H,Report!$AE5344,'Combination lines'!$H:$H),2)","v":871.07},null,73460,""]
["WK73540","Combinatieregel COM0000001678",null,"","mw WK050 38mm, FSC® cert. Premium Hardwood, incl. ventilatiesleuven en vlakke iso-glaslatten",null,null,"DEUR","BALKON","BALKON","BS","050","","","Order","FSCPHW",true,"","",0,0,38,"",false,false,false,936.36,1133,{"$f":"ROUND(SUMIF('Combination lines'!$A:$H,Report!$AE5352,'Combination lines'!$H:$H),2)","v":936.36},null,73540,""]
["WK73590","Combinatieregel COM0000001683",null,"","mw WK144 54mm, FSC® cert. Premium Hardwood, incl. ventilatiesleuven en vlakke iso-glaslatten",null,null,"DEUR","BALKON","BALKON","BS","144","","","Order","FSCPHW",true,"","",0,0,54,"",false,false,false,997.5200000000001,1207,{"$f":"ROUND(SUMIF('Combination lines'!$A:$H,Report!$AE5357,'Combination lines'!$H:$H),2)","v":997.52},null,73590,""]
["WK73660","Combinatieregel COM0000001690",null,"","mw WK334 38mm, FSC® cert. Premium Hardwood, incl. ventilatiesleuven en vlakke iso-glaslatten",null,null,"DEUR","BALKON","BALKON","BS","334","","","Order","FSCPHW",true,"","",0,0,38,"",false,false,false,1016.52,1230,{"$f":"ROUND(SUMIF('Combination lines'!$A:$H,Report!$AE5364,'Combination lines'!$H:$H),2)","v":1016.52},null,73660,""]
["WK73760","Combinatieregel COM0000001700",null,"","mw WK0136 38mm, FSC® cert. Premium Hardwood, incl. ventilatiesleuven en vlakke iso-glaslatten",null,null,"DEUR","BALKON","BALKON","BS","136","","","Order","FSCPHW",true,"","",0,0,38,"",false,false,false,809.9100000000001,980,{"$f":"ROUND(SUMIF('Combination lines'!$A:$H,Report!$AE5374,'Combination lines'!$H:$H),2)","v":809.91},null,73760,""]
["WK73780","Combinatieregel COM0000001702",null,"","mw WK0137 38mm, FSC® cert. Premium Hardwood, incl. ventilatiesleuven en vlakke iso-glaslatten",null,null,"DEUR","BALKON","BALKON","BS","137","","","Order","FSCPHW",true,"","",0,0,38,"",false,false,false,809.9100000000001,980,{"$f":"ROUND(SUMIF('Combination lines'!$A:$H,Report!$AE5376,'Combination lines'!$H:$H),2)","v":809.91},null,73780,""]
["WK75910","Combinatieregel COM0000001915",null,"","mw WK1145 54mm, FSC® cert. Premium Hardwood",null,null,"DEUR","LUXBUITEN","LUXBUITEN","VNM","1145","","","Order","FSCPHW",true,"","",0,0,54,"",false,false,false,2448.7799999999997,2963,{"$f":"ROUND(SUMIF('Combination lines'!$A:$H,Report!$AE5385,'Combination lines'!$H:$H),2)","v":2448.78},null,75910,""]
["WK76030","Combinatieregel COM0000001927",null,"","mw WK1545 54mm, FSC® cert. Premium Hardwood",null,null,"DEUR","LUXBUITEN","LUXBUITEN","VD","1545","","","Order","FSCPHW",true,"","",0,0,54,"",false,false,false,1714.8799999999999,2075,{"$f":"ROUND(SUMIF('Combination lines'!$A:$H,Report!$AE5391,'Combination lines'!$H:$H),2)","v":1714.88},null,76030,""]
["WK76180","Combinatieregel COM0000001942",null,"","mw WK8041 38mm, FSC® cert. Premium Hardwood",null,null,"DEUR","BALKON","BALKON","BS","8041","","","Order","FSCPHW",true,"","",0,0,38,"",false,false,false,687.6,832,{"$f":"ROUND(SUMIF('Combination lines'!$A:$H,Report!$AE5396,'Combination lines'!$H:$H),2)","v":687.6},null,76180,""]
["WK76310","Combinatieregel COM0000001955",null,"","mw WK8081 54mm, FSC® cert. Premium Hardwood",null,null,"DEUR","BALKON","BALKON","BS","8081","","","Order","FSCPHW",true,"","",0,0,54,"",false,false,false,914.0500000000001,1106,{"$f":"ROUND(SUMIF('Combination lines'!$A:$H,Report!$AE5403,'Combination lines'!$H:$H),2)","v":914.05},null,76310,""]
["WK76530","Combinatieregel COM0000001999",null,"","mw WK8081-4 ruits 38mm, FSC® cert. Premium Hardwood",null,null,"DEUR","BALKON","BALKON","BS","8081","4 RUITS","","Order","FSCPHW",true,"","",0,0,38,"",false,false,false,905.78,1096,{"$f":"ROUND(SUMIF('Combination lines'!$A:$H,Report!$AE5409,'Combination lines'!$H:$H),2)","v":905.78},null,76530,""]
["WK76650","Combinatieregel COM0000002011",null,"","mw WK8081-4 ruits 54mm, FSC® cert. Premium Hardwood",null,null,"DEUR","BALKON","BALKON","BS","8081","4 RUITS","","Order","FSCPHW",true,"","",0,0,54,"",false,false,false,1020.6600000000001,1235,{"$f":"ROUND(SUMIF('Combination lines'!$A:$H,Report!$AE5415,'Combination lines'!$H:$H),2)","v":1020.66},null,76650,""]
["WK76780","Combinatieregel COM0000002029",null,"","vrd WK 1903 TriComfort 39mm",null,null,"DEUR","LUXBUITEN","LUXBUITEN","VD","1903","","","Inventory","FSCMTI",true,"STOMP","",0,0,40,"",false,false,false,1797.5299999999997,2175,{"$f":"ROUND(SUMIF('Combination lines'!$A:$H,Report!$AE5426,'Combination lines'!$H:$H),2)","v":1797.53},null,76780,"A050"]
["WK76800","Combinatieregel COM0000002031",null,"","mw WK 1903 TriComfort 39mm",null,null,"DEUR","LUXBUITEN","LUXBUITEN","VD","1903","","","Order","FSCMTI",true,"STOMP","",0,0,40,"",false,false,false,1931.4199999999996,2337,{"$f":"ROUND(SUMIF('Combination lines'!$A:$H,Report!$AE5427,'Combination lines'!$H:$H),2)","v":1931.42},null,76800,"A010"]
["WK76930","Combinatieregel COM0000002044",null,"","mw WK 1931 TriComfort 54mm",null,null,"DEUR","LUXBUITEN","LUXBUITEN","VD","1931","","","Order","FSCMTI",false,"","",0,0,54,"",false,false,false,1609.9099999999999,1948,{"$f":"ROUND(SUMIF('Combination lines'!$A:$H,Report!$AE5437,'Combination lines'!$H:$H),2)","v":1609.91},null,76930,""]
["WK77000","Combinatieregel COM0000002051",null,"","mw WK 1933 TriComfort 39mm",null,null,"DEUR","LUXBUITEN","LUXBUITEN","VD","1933","","","Order","FSCMTI",true,"STOMP","",0,0,40,"",false,false,false,1631.4,1974,{"$f":"ROUND(SUMIF('Combination lines'!$A:$H,Report!$AE5442,'Combination lines'!$H:$H),2)","v":1631.4},null,77000,"A010"]
["WK77080","Combinatieregel COM0000002059",null,"","mw WK 1961 TriComfort 39mm",null,null,"DEUR","LUXBUITEN","LUXBUITEN","VD","1961","","","Order","FSCMTI",true,"STOMP","",0,0,40,"",false,false,false,1477.6799999999998,1788,{"$f":"ROUND(SUMIF('Combination lines'!$A:$H,Report!$AE5448,'Combination lines'!$H:$H),2)","v":1477.68},null,77080,"A010"]
["WK77160","Combinatieregel COM0000002067",null,"","mw WK 2000 TriComfort 39mm",null,null,"DEUR","LUXBUITEN","LUXBUITEN","VD","2000","","","Order","FSCMTI",true,"STOMP","",0,0,40,"",false,false,false,1399.17,1693,{"$f":"ROUND(SUMIF('Combination lines'!$A:$H,Report!$AE5454,'Combination lines'!$H:$H),2)","v":1399.17},null,77160,"A010"]
["WK77300","Combinatieregel COM0000002081",null,"","vrd WK 2020 TriComfort 39mm",null,null,"DEUR","LUXBUITEN","LUXBUITEN","VD","2020","","","Inventory","FSCMTI",true,"STOMP","",0,0,40,"",false,false,false,1576.85,1908,{"$f":"ROUND(SUMIF('Combination lines'!$A:$H,Report!$AE5465,'Combination lines'!$H:$H),2)","v":1576.85},null,77300,"A050"]
["WK77320","Combinatieregel COM0000002083",null,"","mw WK 2020 TriComfort 39mm",null,null,"DEUR","LUXBUITEN","LUXBUITEN","VD","2020","","","Order","FSCMTI",true,"STOMP","",0,0,40,"",false,false,false,1681.81,2035,{"$f":"ROUND(SUMIF('Combination lines'!$A:$H,Report!$AE5466,'Combination lines'!$H:$H),2)","v":1681.81},null,77320,"A010"]
["WK77480","Combinatieregel COM0000002099",null,"","mw WK 2031 TriComfort 39mm",null,null,"DEUR","LUXBUITEN","LUXBUITEN","VD","2031","","","Order","FSCMTI",true,"STOMP","",0,0,40,"",false,false,false,2035.5300000000002,2463,{"$f":"ROUND(SUMIF('Combination lines'!$A:$H,Report!$AE5478,'Combination lines'!$H:$H),2)","v":2035.53},null,77480,"A010"]
["WK77630","Combinatieregel COM0000002114",null,"","mw WK042-3 ruits 38mm, FSC® cert. Hardwood",null,null,"DEUR","BALKON","BALKON","BS","042","3 RUITS","","Order","FSCHW",true,"","",0,0,38,"",false,false,false,675.2,817,{"$f":"ROUND(SUMIF('Combination lines'!$A:$H,Report!$AE5485,'Combination lines'!$H:$H),2)","v":675.2},null,77630,""]
["WK77780","Combinatieregel COM0000002131",null,"","WK HP achterdeursluiting + inbouwespagnolet,gem.,KB, incl. infr,slaglatten met tochtw,sluitpotten, excl. profielcilinder",null,null,"ACCESSOIRES","OVERIG","","","","","","Order","",false,"","",0,0,0,"",false,false,false,661.98,801,{"$f":"ROUND(SUMIF('Combination lines'!$A:$H,Report!$AE5489,'Combination lines'!$H:$H),2)","v":661.98},null,77780,""]
["WK77840","Combinatieregel COM0000002137",null,"","Garagedeuren: grondverfsysteem, dekkend standaard kleur SD",null,null,"BEWERKING","VERF","","","","","","Order","",false,"","",0,0,0,"",false,false,false,204.96,248,{"$f":"ROUND(SUMIF('Combination lines'!$A:$H,Report!$AE5493,'Combination lines'!$H:$H),2)","v":204.96},null,77840,""]
["WK77920","Combinatieregel COM0000002145",null,"","Deur of duodeuren geheel uitgevoerd in 54mm i.p.v. 38mm per stel deuren",null,null,"TOESLAG","INFREZEN","","","","","","Order","",false,"","",0,0,38,"",false,false,false,499.18,604,{"$f":"ROUND(SUMIF('Combination lines'!$A:$H,Report!$AE5500,'Combination lines'!$H:$H),2)","v":499.18},null,77920,""]
["WK77970","Combinatieregel COM0000002150",null,"","Spionoog, diameter 12 mm, afgemonteerd, incl. boring",null,null,"ACCESSOIRES","OVERIG","","","","","","Order","",false,"","",0,0,0,"",false,false,false,44.620000000000005,54,{"$f":"ROUND(SUMIF('Combination lines'!$A:$H,Report!$AE5505,'Combination lines'!$H:$H),2)","v":44.62},null,77970,""]
["WK78410","Combinatieregel COM0000002688",null,"","mw WK7761 38mm, FSC® cert. Premium Hardwood, incl. ventilatiesleuven en vlakke iso-glaslatten",null,null,"DEUR","BALKON","BALKON","BS","7761","","","Order","FSCPHW",true,"","",0,0,38,"",false,false,false,1004.96,1216,{"$f":"ROUND(SUMIF('Combination lines'!$A:$H,Report!$AE5517,'Combination lines'!$H:$H),2)","v":1004.96},null,78410,""]
["WK78580","Combinatieregel COM0000002705",null,"","mw WK8061 54mm, FSC® cert. Premium Hardwood",null,null,"DEUR","BALKON","BALKON","BS","8061","","","Order","FSCPHW",true,"","",0,0,54,"",false,false,false,837.19,1013,{"$f":"ROUND(SUMIF('Combination lines'!$A:$H,Report!$AE5524,'Combination lines'!$H:$H),2)","v":837.19},null,78580,""]
["WK78740","Combinatieregel COM0000002721",null,"","mw blank iso glas tbv WK5358",null,null,"GLAS","","LUXBUITEN","TD","5358","","","Order","",false,"","",0,0,0,"",false,false,false,1079.34,1306,{"$f":"ROUND(SUMIF('Combination lines'!$A:$H,Report!$AE5530,'Combination lines'!$H:$H),2)","v":1079.34},null,78740,""]
["WK78900","Combinatieregel COM0000002737",null,"","mw blank iso vh glas tbv WK5351",null,null,"GLAS","","LUXBUITEN","TD","5351","","","Order","",false,"","",0,0,0,"",false,false,false,1281,1550,{"$f":"ROUND(SUMIF('Combination lines'!$A:$H,Report!$AE5536,'Combination lines'!$H:$H),2)","v":1281},null,78900,""]
["WK88990","Combinatieregel COM0000001086",null,"STUKS","mw WK3601 AluComfort® FSC® cert. 54 mm",null,null,"DEUR","VLAK","VLAK","AC","3000","","","Order","FSCMTI",true,"","",0,0,54,"",false,false,false,1980.18,2396,{"$f":"ROUND(SUMIF('Combination lines'!$A:$H,Report!$AE5541,'Combination lines'!$H:$H),2)","v":1980.18},null,88990,""]
["WK106370","Combinatieregel ",null,"STUKS","vrd WK65010 C3 opdek",null,null,"DEUR","BINNEN","BINNEN","MODERN","65010","","","Inventory","",true,"OPDEK","",0,0,38,"",false,true,false,481.82,583,{"$f":"ROUND(SUMIF('Combination lines'!$A:$H,Report!$AE5544,'Combination lines'!$H:$H),2)","v":481.82},null,106370,"B055"]
["WK106460","Combinatieregel ",null,"STUKS","vrd WK6532 A1 opdek",null,null,"DEUR","BINNEN","BINNEN","MODERN","6532","","","Inventory","",true,"OPDEK","",0,0,38,"",false,true,false,423.96999999999997,513,{"$f":"ROUND(SUMIF('Combination lines'!$A:$H,Report!$AE5552,'Combination lines'!$H:$H),2)","v":423.97},null,106460,"B055"]
["WK106570","Combinatieregel ",null,"STUKS","vrd WK6502 C opdek glas mat gelaagd",null,null,"DEUR","BINNEN","BINNEN","MODERN","6502","MAT GELAAGD","","Inventory","",true,"OPDEK","",0,0,38,"",false,true,false,667.77,808,{"$f":"ROUND(SUMIF('Combination lines'!$A:$H,Report!$AE5563,'Combination lines'!$H:$H),2)","v":667.77},null,106570,"B055"]
["WK107430","Combinatieregel ",null,"STUKS","mw WK6505 opdek",null,null,"DEUR","BINNEN","BINNEN","MODERN","6505","","","Order","",true,"OPDEK","",0,0,38,"",false,true,false,608.27,736,{"$f":"ROUND(SUMIF('Combination lines'!$A:$H,Report!$AE5569,'Combination lines'!$H:$H),2)","v":608.27},null,107430,"B015"]
["WK107530","Combinatieregel ",null,"STUKS","mw WK6513 C opdek",null,null,"DEUR","BINNEN","BINNEN","MODERN","6513","","","Order","",true,"OPDEK","",0,0,38,"",false,true,false,429.76,520,{"$f":"ROUND(SUMIF('Combination lines'!$A:$H,Report!$AE5575,'Combination lines'!$H:$H),2)","v":429.76},null,107530,"B015"]
["WK107600","Combinatieregel ",null,"STUKS","mw WK6524 opdek",null,null,"DEUR","BINNEN","BINNEN","MODERN","6524","","","Order","",true,"OPDEK","",0,0,38,"",false,true,false,512.4,620,{"$f":"ROUND(SUMIF('Combination lines'!$A:$H,Report!$AE5582,'Combination lines'!$H:$H),2)","v":512.4},null,107600,"B015"]
["WK107650","Combinatieregel ",null,"STUKS","mw WK6533 opdek",null,null,"DEUR","BINNEN","BINNEN","MODERN","6533","","","Order","",true,"OPDEK","",0,0,38,"",false,true,false,460.33,557,{"$f":"ROUND(SUMIF('Combination lines'!$A:$H,Report!$AE5587,'Combination lines'!$H:$H),2)","v":460.33},null,107650,"B015"]
["WK107710","Combinatieregel ",null,"STUKS","mw WK6552 opdek",null,null,"DEUR","BINNEN","BINNEN","MODERN","6552","","","Order","",true,"OPDEK","",0,0,38,"",false,true,false,444.63,538,{"$f":"ROUND(SUMIF('Combination lines'!$A:$H,Report!$AE5593,'Combination lines'!$H:$H),2)","v":444.63},null,107710,"B015"]
["WK107770","Combinatieregel ",null,"STUKS","mw WK6571 opdek",null,null,"DEUR","BINNEN","BINNEN","MODERN","6571","","","Order","",true,"OPDEK","",0,0,38,"",false,true,false,445.46,539,{"$f":"ROUND(SUMIF('Combination lines'!$A:$H,Report!$AE5599,'Combination lines'!$H:$H),2)","v":445.46},null,107770,"B015"]
["WK107820","Combinatieregel ",null,"STUKS","mw WK6592 opdek",null,null,"DEUR","BINNEN","BINNEN","MODERN","6592","","","Order","",true,"OPDEK","",0,0,38,"",false,true,false,535.54,648,{"$f":"ROUND(SUMIF('Combination lines'!$A:$H,Report!$AE5604,'Combination lines'!$H:$H),2)","v":535.54},null,107820,"B015"]
["WK108000","Combinatieregel ",null,"STUKS","mw WK6705 opdek",null,null,"DEUR","BINNEN","BINNEN","MODERN","6705","","","Order","",true,"OPDEK","",0,0,38,"",false,true,false,697.52,844,{"$f":"ROUND(SUMIF('Combination lines'!$A:$H,Report!$AE5614,'Combination lines'!$H:$H),2)","v":697.52},null,108000,"B015"]
["WK109430","Combinatieregel ",null,"STUKS","mw WK6821 opdek",null,null,"DEUR","BINNEN","BINNEN","MODERN","6821","","","Order","",true,"OPDEK","",0,0,38,"",false,true,false,483.46999999999997,585,{"$f":"ROUND(SUMIF('Combination lines'!$A:$H,Report!$AE5621,'Combination lines'!$H:$H),2)","v":483.47},null,109430,"B015"]
["WK109530","Combinatieregel ",null,"STUKS","mw WK6860 opdek",null,null,"DEUR","BINNEN","BINNEN","MODERN","6860","","","Order","",true,"OPDEK","",0,0,38,"",false,true,false,483.46999999999997,585,{"$f":"ROUND(SUMIF('Combination lines'!$A:$H,Report!$AE5626,'Combination lines'!$H:$H),2)","v":483.47},null,109530,"B015"]
["WK109690","Combinatieregel ",null,"STUKS","mw WK6893 opdek",null,null,"DEUR","BINNEN","BINNEN","MODERN","6893","","","Order","",true,"OPDEK","",0,0,38,"",false,true,false,585.9499999999999,709,{"$f":"ROUND(SUMIF('Combination lines'!$A:$H,Report!$AE5634,'Combination lines'!$H:$H),2)","v":585.95},null,109690,"B015"]
["WK109940","Combinatieregel ",null,"STUKS","vrd WK6851 D2 opdek",null,null,"DEUR","BINNEN","BINNEN","MODERN","6851","","","Inventory","",true,"OPDEK","",0,0,38,"",false,true,false,490.09,593,{"$f":"ROUND(SUMIF('Combination lines'!$A:$H,Report!$AE5638,'Combination lines'!$H:$H),2)","v":490.09},null,109940,"B055"]
["WK111540","Combinatieregel COM0000002421",null,"","mw WK6502-C mat glas met heldere bies stomp",null,null,"DEUR","BINNEN","BINNEN","MODERN","6502","MAT + HELDERE BANEN","","Order","",true,"STOMP","",0,0,38,"",false,false,false,903.0799999999999,1093,{"$f":"ROUND(SUMIF('Combination lines'!$A:$H,Report!$AE5645,'Combination lines'!$H:$H),2)","v":903.08},null,111540,"B015"]
["WK111590","Combinatieregel COM0000002426",null,"","mw WK65011-C mat gelaagd glas opdek",null,null,"DEUR","BINNEN","BINNEN","MODERN","65011","MAT GELAAGD","","Order","",true,"OPDEK","",0,0,38,"",false,true,false,860.74,1041,{"$f":"ROUND(SUMIF('Combination lines'!$A:$H,Report!$AE5650,'Combination lines'!$H:$H),2)","v":860.74},null,111590,"B015"]
["WK111650","Combinatieregel COM0000002532",null,"","mw WK6502-C blank glas opdek",null,null,"DEUR","BINNEN","BINNEN","MODERN","6502","BLANK","","Order","",true,"OPDEK","",0,0,38,"",false,true,false,715.48,866,{"$f":"ROUND(SUMIF('Combination lines'!$A:$H,Report!$AE5656,'Combination lines'!$H:$H),2)","v":715.48},null,111650,"B015"]
["WK111740","Combinatieregel COM0000002541",null,"","mw WK65013-C blank glas stomp",null,null,"DEUR","BINNEN","BINNEN","MODERN","65013","BLANK","","Order","",true,"STOMP","",0,0,38,"",false,false,false,789.27,955,{"$f":"ROUND(SUMIF('Combination lines'!$A:$H,Report!$AE5665,'Combination lines'!$H:$H),2)","v":789.27},null,111740,"B015"]
["WK111820","Combinatieregel COM0000002549",null,"","mw WK65015-C mat glas stomp",null,null,"DEUR","BINNEN","BINNEN","MODERN","65015","MAT","","Order","",true,"STOMP","",0,0,38,"",false,false,false,933.7,1130,{"$f":"ROUND(SUMIF('Combination lines'!$A:$H,Report!$AE5673,'Combination lines'!$H:$H),2)","v":933.7},null,111820,"B015"]
["WK111860","Combinatieregel COM0000002553",null,"","mw WK65016-C blank glas stomp",null,null,"DEUR","BINNEN","BINNEN","MODERN","65016","BLANK","","Order","",true,"STOMP","",0,0,38,"",false,false,false,719.61,871,{"$f":"ROUND(SUMIF('Combination lines'!$A:$H,Report!$AE5677,'Combination lines'!$H:$H),2)","v":719.61},null,111860,"B015"]
["WK111930","Combinatieregel COM0000002560",null,"","mw WK6506-C blank glas opdek",null,null,"DEUR","BINNEN","BINNEN","MODERN","6506","BLANK","","Order","",true,"OPDEK","",0,0,38,"",false,true,false,820.05,992,{"$f":"ROUND(SUMIF('Combination lines'!$A:$H,Report!$AE5684,'Combination lines'!$H:$H),2)","v":820.05},null,111930,"B015"]
["WK111980","Combinatieregel COM0000002565",null,"","Maatwerk WK6508-C blank glas stomp",null,null,"DEUR","BINNEN","BINNEN","MODERN","6508","BLANK","","Order","",true,"STOMP","",0,0,38,"",false,false,false,791.94,958,{"$f":"ROUND(SUMIF('Combination lines'!$A:$H,Report!$AE5689,'Combination lines'!$H:$H),2)","v":791.94},null,111980,"B015"]
["WK112060","Combinatieregel COM0000002573",null,"","Maatwerk WK6509-C mat glas stomp",null,null,"DEUR","BINNEN","BINNEN","MODERN","6509","MAT","","Order","",true,"STOMP","",0,0,38,"",false,false,false,981.44,1188,{"$f":"ROUND(SUMIF('Combination lines'!$A:$H,Report!$AE5697,'Combination lines'!$H:$H),2)","v":981.44},null,112060,"B015"]
["WK112100","Combinatieregel COM0000002577",null,"","Maatwerk WK6510-C blank glas stomp",null,null,"DEUR","BINNEN","BINNEN","MODERN","6510","BLANK","","Order","",true,"STOMP","",0,0,38,"",false,false,false,674.2,816,{"$f":"ROUND(SUMIF('Combination lines'!$A:$H,Report!$AE5701,'Combination lines'!$H:$H),2)","v":674.2},null,112100,"B015"]
["WK112170","Combinatieregel COM0000002584",null,"","Maatwerk WK6510-C facetglas blank opdek",null,null,"DEUR","BINNEN","BINNEN","MODERN","6510","FACETGLAS BLANK","","Order","",true,"OPDEK","",0,0,38,"",false,true,false,763.46,924,{"$f":"ROUND(SUMIF('Combination lines'!$A:$H,Report!$AE5708,'Combination lines'!$H:$H),2)","v":763.46},null,112170,"B015"]
["WK112270","Combinatieregel COM0000002594",null,"","Maatwerk WK6513-C mat glas opdek",null,null,"DEUR","BINNEN","BINNEN","MODERN","6513","MAT","","Order","",true,"OPDEK","",0,0,38,"",false,true,false,812.42,983,{"$f":"ROUND(SUMIF('Combination lines'!$A:$H,Report!$AE5716,'Combination lines'!$H:$H),2)","v":812.42},null,112270,"B015"]
["WK112380","Combinatieregel COM0000002605",null,"","Maatwerk WK6604-C blank glas stomp",null,null,"DEUR","BINNEN","BINNEN","MODERN","6604","BLANK","","Order","",true,"STOMP","",0,0,38,"",false,false,false,768.8,930,{"$f":"ROUND(SUMIF('Combination lines'!$A:$H,Report!$AE5725,'Combination lines'!$H:$H),2)","v":768.8},null,112380,"B015"]
["WK112410","Combinatieregel COM0000002608",null,"","Maatwerk WK6604-C mat glas opdek",null,null,"DEUR","BINNEN","BINNEN","MODERN","6604","MAT","","Order","",true,"OPDEK","",0,0,38,"",false,true,false,897.73,1086,{"$f":"ROUND(SUMIF('Combination lines'!$A:$H,Report!$AE5728,'Combination lines'!$H:$H),2)","v":897.73},null,112410,"B015"]
["WK112490","Combinatieregel COM0000002616",null,"","Maatwerk WK6606-C mat gelaagd glas opdek",null,null,"DEUR","BINNEN","BINNEN","MODERN","6606","MAT GELAAGD","","Order","",true,"OPDEK","",0,0,38,"",false,true,false,929.77,1125,{"$f":"ROUND(SUMIF('Combination lines'!$A:$H,Report!$AE5736,'Combination lines'!$H:$H),2)","v":929.77},null,112490,"B015"]
["WK112530","Combinatieregel COM0000002620",null,"","Maatwerk WK6610-C mat glas opdek",null,null,"DEUR","BINNEN","BINNEN","MODERN","6610","MAT","","Order","",true,"OPDEK","",0,0,38,"",false,true,false,791.3199999999999,957,{"$f":"ROUND(SUMIF('Combination lines'!$A:$H,Report!$AE5740,'Combination lines'!$H:$H),2)","v":791.32},null,112530,"B015"]
["WK112620","Combinatieregel COM0000002629",null,"","Maatwerk WK6704-C blank glas stomp",null,null,"DEUR","BINNEN","BINNEN","MODERN","6704","BLANK","","Order","",true,"STOMP","",0,0,38,"",false,false,false,865.5,1047,{"$f":"ROUND(SUMIF('Combination lines'!$A:$H,Report!$AE5749,'Combination lines'!$H:$H),2)","v":865.5},null,112620,"B015"]
["WK112650","Combinatieregel COM0000002632",null,"","Maatwerk WK6704-C mat glas opdek",null,null,"DEUR","BINNEN","BINNEN","MODERN","6704","MAT","","Order","",true,"OPDEK","",0,0,38,"",false,true,false,994.4300000000001,1203,{"$f":"ROUND(SUMIF('Combination lines'!$A:$H,Report!$AE5752,'Combination lines'!$H:$H),2)","v":994.43},null,112650,"B015"]
["WK112730","Combinatieregel COM0000002640",null,"","Maatwerk WK6706-C mat gelaagd glas opdek",null,null,"DEUR","BINNEN","BINNEN","MODERN","6706","MAT GELAAGD","","Order","",true,"OPDEK","",0,0,38,"",false,true,false,1028.12,1244,{"$f":"ROUND(SUMIF('Combination lines'!$A:$H,Report!$AE5760,'Combination lines'!$H:$H),2)","v":1028.12},null,112730,"B015"]
["WK114440","Combinatieregel ",null,"","Weekamp High Performance tochtvaldorpel gefreesd en gemonteerd",null,null,"BEWERKING","AFMONTAGE","BINNEN","","","TOCHTVALDORPEL","","Order","",false,"","",0,0,0,"",false,false,false,79.34,96,{"$f":"ROUND(SUMIF('Combination lines'!$A:$H,Report!$AE5767,'Combination lines'!$H:$H),2)","v":79.34},null,114440,"LUXE"]
["WK134720","Combinatieregel ",null,"STUKS","mw WK3541 54mm, FSC® cert. Premium Hardwood",null,null,"DEUR","BALKON","BALKON","BS","3541","","","Order","FSCPHW",true,"","",0,0,54,"",false,false,false,2419.8399999999997,2928,{"$f":"ROUND(SUMIF('Combination lines'!$A:$H,Report!$AE5777,'Combination lines'!$H:$H),2)","v":2419.84},null,134720,""]
["WK134850","Combinatieregel ",null,"STUKS","mw WK3660 Tricomfort® FSC® cert. 54 mm",null,null,"DEUR","VLAK","VLAK","TC","3660","","","Order","FSCMTI",true,"STOMP","",0,0,54,"",false,false,false,2263.63,2739,{"$f":"ROUND(SUMIF('Combination lines'!$A:$H,Report!$AE5779,'Combination lines'!$H:$H),2)","v":2263.63},null,134850,""]
["WK135290","Combinatieregel ",null,"STUKS","mw WK4031 38mm, FSC® cert. Premium Hardwood",null,null,"DEUR","LUXBUITEN","LUXBUITEN","TD","4031","","","Order","FSCPHW",true,"","",0,0,38,"",false,false,false,630.5799999999999,763,{"$f":"ROUND(SUMIF('Combination lines'!$A:$H,Report!$AE5788,'Combination lines'!$H:$H),2)","v":630.58},null,135290,""]
["WK135320","Combinatieregel ",null,"STUKS","mw WK4046 38mm, FSC® cert. Premium Hardwood",null,null,"DEUR","LUXBUITEN","LUXBUITEN","TD","4046","","","Order","FSCPHW",true,"","",0,0,38,"",false,false,false,879.34,1064,{"$f":"ROUND(SUMIF('Combination lines'!$A:$H,Report!$AE5791,'Combination lines'!$H:$H),2)","v":879.34},null,135320,""]
["WK135420","Combinatieregel ",null,"STUKS","mw WK4094 38mm, FSC® cert. Premium Hardwood",null,null,"DEUR","LUXBUITEN","LUXBUITEN","TD","4094","","","Order","FSCPHW",true,"","",0,0,38,"",false,false,false,950.42,1150,{"$f":"ROUND(SUMIF('Combination lines'!$A:$H,Report!$AE5801,'Combination lines'!$H:$H),2)","v":950.42},null,135420,""]
["WK135510","Combinatieregel ",null,"STUKS","mw WK4186 38mm, FSC® cert. Premium Hardwood",null,null,"DEUR","LUXBUITEN","LUXBUITEN","TD","4186","","","Order","FSCPHW",true,"","",0,0,38,"",false,false,false,986.78,1194,{"$f":"ROUND(SUMIF('Combination lines'!$A:$H,Report!$AE5810,'Combination lines'!$H:$H),2)","v":986.78},null,135510,""]
["WK135530","Combinatieregel ",null,"STUKS","mw WK4196 38mm, FSC® cert. Premium Hardwood",null,null,"DEUR","LUXBUITEN","LUXBUITEN","TD","4196","","","Order","FSCPHW",true,"","",0,0,38,"",false,false,false,1012.4,1225,{"$f":"ROUND(SUMIF('Combination lines'!$A:$H,Report!$AE5812,'Combination lines'!$H:$H),2)","v":1012.4},null,135530,""]
["WK135630","Combinatieregel ",null,"STUKS","mw WK4576 38mm, FSC® cert. Premium Hardwood",null,null,"DEUR","LUXBUITEN","LUXBUITEN","TD","4576","","","Order","FSCPHW",true,"","",0,0,38,"",false,false,false,1086.78,1315,{"$f":"ROUND(SUMIF('Combination lines'!$A:$H,Report!$AE5822,'Combination lines'!$H:$H),2)","v":1086.78},null,135630,""]
["WK136380","Combinatieregel ",null,"STUKS","mw WK4018 54mm, FSC® cert. Premium Hardwood",null,null,"DEUR","LUXBUITEN","LUXBUITEN","TD","4018","","","Order","FSCPHW",true,"","",0,0,54,"",false,false,false,1115.71,1350,{"$f":"ROUND(SUMIF('Combination lines'!$A:$H,Report!$AE5829,'Combination lines'!$H:$H),2)","v":1115.71},null,136380,""]
["WK136400","Combinatieregel ",null,"STUKS","mw WK4021 54mm, FSC® cert. Premium Hardwood",null,null,"DEUR","LUXBUITEN","LUXBUITEN","TD","4021","","","Order","FSCPHW",true,"","",0,0,54,"",false,false,false,854.55,1034,{"$f":"ROUND(SUMIF('Combination lines'!$A:$H,Report!$AE5830,'Combination lines'!$H:$H),2)","v":854.55},null,136400,""]
["WK136600","Combinatieregel ",null,"STUKS","mw WK4061 54mm, FSC® cert. Premium Hardwood",null,null,"DEUR","LUXBUITEN","LUXBUITEN","TD","4061","","","Order","FSCPHW",true,"","",0,0,54,"",false,false,false,963.64,1166,{"$f":"ROUND(SUMIF('Combination lines'!$A:$H,Report!$AE5840,'Combination lines'!$H:$H),2)","v":963.64},null,136600,""]
["WK136780","Combinatieregel ",null,"STUKS","mw WK4158 54mm, FSC® cert. Premium Hardwood",null,null,"DEUR","LUXBUITEN","LUXBUITEN","TD","4158","","","Order","FSCPHW",true,"","",0,0,54,"",false,false,false,1222.32,1479,{"$f":"ROUND(SUMIF('Combination lines'!$A:$H,Report!$AE5849,'Combination lines'!$H:$H),2)","v":1222.32},null,136780,""]
["WK136860","Combinatieregel ",null,"STUKS","mw WK4176 54mm, FSC® cert. Premium Hardwood",null,null,"DEUR","LUXBUITEN","LUXBUITEN","TD","4176","","","Order","FSCPHW",true,"","",0,0,54,"",false,false,false,1210.75,1465,{"$f":"ROUND(SUMIF('Combination lines'!$A:$H,Report!$AE5853,'Combination lines'!$H:$H),2)","v":1210.75},null,136860,""]
["WK137020","Combinatieregel ",null,"STUKS","mw WK4358 54mm, FSC® cert. Premium Hardwood",null,null,"DEUR","LUXBUITEN","LUXBUITEN","TD","4358","","","Order","FSCPHW",true,"","",0,0,54,"",false,false,false,1347.11,1630,{"$f":"ROUND(SUMIF('Combination lines'!$A:$H,Report!$AE5861,'Combination lines'!$H:$H),2)","v":1347.11},null,137020,""]
["WK137080","Combinatieregel ",null,"STUKS","mw WK4428 54mm, FSC® cert. Premium Hardwood",null,null,"DEUR","LUXBUITEN","LUXBUITEN","TD","4428","","","Order","FSCPHW",true,"","",0,0,54,"",false,false,false,1267.77,1534,{"$f":"ROUND(SUMIF('Combination lines'!$A:$H,Report!$AE5864,'Combination lines'!$H:$H),2)","v":1267.77},null,137080,""]
["WK137210","Combinatieregel ",null,"STUKS","mw WK4041 54mm, FSC® cert. Premium Hardwood, dubbel",null,null,"DEUR","LUXBUITEN","LUXBUITEN","TD","4041","","","Order","FSCPHW",true,"","",0,0,54,"",false,false,false,1819.84,2202,{"$f":"ROUND(SUMIF('Combination lines'!$A:$H,Report!$AE5873,'Combination lines'!$H:$H),2)","v":1819.84},null,137210,""]
["WK137290","Combinatieregel ",null,"STUKS","mw WK4151 54mm, FSC® cert. Premium Hardwood, dubbel",null,null,"DEUR","LUXBUITEN","LUXBUITEN","TD","4151","","","Order","FSCPHW",true,"","",0,0,54,"",false,false,false,1872.74,2266,{"$f":"ROUND(SUMIF('Combination lines'!$A:$H,Report!$AE5881,'Combination lines'!$H:$H),2)","v":1872.74},null,137290,""]
["WK137360","Combinatieregel ",null,"STUKS","mw WK5221 38mm, FSC® cert. Premium Hardwood",null,null,"DEUR","LUXBUITEN","LUXBUITEN","TD","5221","","","Order","FSCPHW",true,"","",0,0,38,"",false,false,false,1506.6200000000001,1823,{"$f":"ROUND(SUMIF('Combination lines'!$A:$H,Report!$AE5888,'Combination lines'!$H:$H),2)","v":1506.62},null,137360,""]
["WK137440","Combinatieregel ",null,"STUKS","mw WK5228 38mm, FSC® cert. Premium Hardwood",null,null,"DEUR","LUXBUITEN","LUXBUITEN","TD","5228","","","Order","FSCPHW",true,"","",0,0,38,"",false,false,false,2104.14,2546,{"$f":"ROUND(SUMIF('Combination lines'!$A:$H,Report!$AE5892,'Combination lines'!$H:$H),2)","v":2104.14},null,137440,""]
["WK137600","Combinatieregel ",null,"STUKS","mw WK5376 38mm, FSC® cert. Premium Hardwood",null,null,"DEUR","LUXBUITEN","LUXBUITEN","TD","5376","","","Order","FSCPHW",true,"","",0,0,38,"",false,false,false,2189.2599999999998,2649,{"$f":"ROUND(SUMIF('Combination lines'!$A:$H,Report!$AE5900,'Combination lines'!$H:$H),2)","v":2189.26},null,137600,""]
["WK137650","Combinatieregel ",null,"STUKS","mw WK1859 54mm, FSC® cert. Premium Hardwood",null,null,"DEUR","LUXBUITEN","LUXBUITEN","VD","1859","","","Order","FSCPHW",true,"","",0,0,54,"",false,false,false,1842.98,2230,{"$f":"ROUND(SUMIF('Combination lines'!$A:$H,Report!$AE5903,'Combination lines'!$H:$H),2)","v":1842.98},null,137650,""]
["WK138250","Combinatieregel ",null,"STUKS","mw WK1549 54mm, FSC® cert. Premium Hardwood",null,null,"DEUR","LUXBUITEN","LUXBUITEN","VD","1549","","","Order","FSCPHW",true,"STOMP","",0,0,54,"",false,false,false,1714.8799999999999,2075,{"$f":"ROUND(SUMIF('Combination lines'!$A:$H,Report!$AE5912,'Combination lines'!$H:$H),2)","v":1714.88},null,138250,"A010"]
["WK140260","Combinatieregel ",null,"STUKS","mw WK099 54mm, FSC® cert. Premium Hardwood",null,null,"DEUR","BALKON","BALKON","BS","099","","","Order","FSCPHW",true,"","",0,0,54,"",false,false,false,1374.38,1663,{"$f":"ROUND(SUMIF('Combination lines'!$A:$H,Report!$AE5916,'Combination lines'!$H:$H),2)","v":1374.38},null,140260,""]
["WK140510","Combinatieregel ",null,"SET","mw blank iso glas tbv WK3612",null,null,"GLAS","","VLAK","","3612","BLANK","ISOLATIEGLAS","Order","",false,"","",0,0,0,"",false,false,false,186.78,226,{"$f":"ROUND(SUMIF('Combination lines'!$A:$H,Report!$AE5924,'Combination lines'!$H:$H),2)","v":186.78},null,140510,""]
["WK141070","Combinatieregel ",null,"STUKS","mw WK3011 TriComfort® FSC® cert. 40mm",null,null,"DEUR","VLAK","VLAK","TC","3011","","","Order","FSCMTI",true,"","",0,0,40,"",false,false,false,966.94,1170,{"$f":"ROUND(SUMIF('Combination lines'!$A:$H,Report!$AE5933,'Combination lines'!$H:$H),2)","v":966.94},null,141070,""]
["WK141130","Combinatieregel ",null,"STUKS","mw WK3024 TriComfort® FSC® cert. 40mm",null,null,"DEUR","VLAK","VLAK","TC","3024","","","Order","FSCMTI",true,"","",0,0,40,"",false,false,false,1078.51,1305,{"$f":"ROUND(SUMIF('Combination lines'!$A:$H,Report!$AE5939,'Combination lines'!$H:$H),2)","v":1078.51},null,141130,""]
["WK141180","Combinatieregel ",null,"STUKS","mw WK3052 TriComfort® FSC® cert. 40mm",null,null,"DEUR","VLAK","VLAK","TC","3052","","","Order","FSCMTI",true,"","",0,0,40,"",false,false,false,920.6600000000001,1114,{"$f":"ROUND(SUMIF('Combination lines'!$A:$H,Report!$AE5944,'Combination lines'!$H:$H),2)","v":920.66},null,141180,""]
["WK141250","Combinatieregel ",null,"STUKS","mw WK3074 TriComfort® FSC® cert. 40mm",null,null,"DEUR","VLAK","VLAK","TC","3074","","","Order","FSCMTI",true,"","",0,0,40,"",false,false,false,1156.1999999999998,1399,{"$f":"ROUND(SUMIF('Combination lines'!$A:$H,Report!$AE5951,'Combination lines'!$H:$H),2)","v":1156.2},null,141250,""]
["WK141290","Combinatieregel ",null,"STUKS","mw WK3003 TriComfort® FSC® cert. 54mm",null,null,"DEUR","VLAK","VLAK","TC","3003","","","Order","FSCMTI",true,"","",0,0,54,"",false,false,false,1028.1,1244,{"$f":"ROUND(SUMIF('Combination lines'!$A:$H,Report!$AE5955,'Combination lines'!$H:$H),2)","v":1028.1},null,141290,""]
["WK141370","Combinatieregel ",null,"STUKS","mw WK3023 TriComfort® FSC® cert. 54mm",null,null,"DEUR","VLAK","VLAK","TC","3023","","","Order","FSCMTI",true,"","",0,0,54,"",false,false,false,1076.03,1302,{"$f":"ROUND(SUMIF('Combination lines'!$A:$H,Report!$AE5963,'Combination lines'!$H:$H),2)","v":1076.03},null,141370,""]
["WK141420","Combinatieregel ",null,"STUKS","mw WK3051 TriComfort® FSC® cert. 54mm",null,null,"DEUR","VLAK","VLAK","TC","3051","","","Order","FSCMTI",true,"","",0,0,54,"",false,false,false,966.12,1169,{"$f":"ROUND(SUMIF('Combination lines'!$A:$H,Report!$AE5968,'Combination lines'!$H:$H),2)","v":966.12},null,141420,""]
["WK141490","Combinatieregel ",null,"STUKS","mw WK3067 TriComfort® FSC® cert. 54mm",null,null,"DEUR","VLAK","VLAK","TC","3067","","","Order","FSCMTI",true,"","",0,0,54,"",false,false,false,1266.12,1532,{"$f":"ROUND(SUMIF('Combination lines'!$A:$H,Report!$AE5975,'Combination lines'!$H:$H),2)","v":1266.12},null,141490,""]
["WK142120","Combinatieregel ",null,"STUKS","mw WK3023 Stabiel Comfort® FSC® cert. 40mm",null,null,"DEUR","VLAK","VLAK","SC","3023","","","Order","FSCMTI",true,"","",0,0,40,"",false,false,false,914.05,1106,{"$f":"ROUND(SUMIF('Combination lines'!$A:$H,Report!$AE5985,'Combination lines'!$H:$H),2)","v":914.05},null,142120,""]
["WK142170","Combinatieregel ",null,"STUKS","mw WK3051 Stabiel Comfort® FSC® cert. 40mm",null,null,"DEUR","VLAK","VLAK","SC","3051","","","Order","FSCMTI",true,"","",0,0,40,"",false,false,false,804.14,973,{"$f":"ROUND(SUMIF('Combination lines'!$A:$H,Report!$AE5990,'Combination lines'!$H:$H),2)","v":804.14},null,142170,""]
["WK142230","Combinatieregel ",null,"STUKS","mw WK3065 Stabiel Comfort® FSC® cert. 40mm",null,null,"DEUR","VLAK","VLAK","SC","3065","","","Order","FSCMTI",true,"","",0,0,40,"",false,false,false,1011.57,1224,{"$f":"ROUND(SUMIF('Combination lines'!$A:$H,Report!$AE5996,'Combination lines'!$H:$H),2)","v":1011.57},null,142230,""]
["WK142290","Combinatieregel ",null,"STUKS","mw WK3003 Stabiel Comfort® FSC® cert. 54mm",null,null,"DEUR","VLAK","VLAK","SC","3003","","","Order","FSCMTI",true,"","",0,0,54,"",false,false,false,959.5099999999999,1161,{"$f":"ROUND(SUMIF('Combination lines'!$A:$H,Report!$AE6002,'Combination lines'!$H:$H),2)","v":959.51},null,142290,""]
["WK142370","Combinatieregel ",null,"STUKS","mw WK3023 Stabiel Comfort® FSC® cert. 54mm",null,null,"DEUR","VLAK","VLAK","SC","3023","","","Order","FSCMTI",true,"","",0,0,54,"",false,false,false,1007.4399999999999,1219,{"$f":"ROUND(SUMIF('Combination lines'!$A:$H,Report!$AE6007,'Combination lines'!$H:$H),2)","v":1007.44},null,142370,""]
["WK142440","Combinatieregel ",null,"STUKS","mw WK3061 Stabiel Comfort® FSC® cert. 54mm",null,null,"DEUR","VLAK","VLAK","SC","3061","","","Order","FSCMTI",true,"","",0,0,54,"",false,false,false,1032.24,1249,{"$f":"ROUND(SUMIF('Combination lines'!$A:$H,Report!$AE6014,'Combination lines'!$H:$H),2)","v":1032.24},null,142440,""]
["WK142500","Combinatieregel ",null,"STUKS","mw WK3074 Stabiel Comfort® FSC® cert. 54mm",null,null,"DEUR","VLAK","VLAK","SC","3074","","","Order","FSCMTI",true,"","",0,0,54,"",false,false,false,1159.51,1403,{"$f":"ROUND(SUMIF('Combination lines'!$A:$H,Report!$AE6020,'Combination lines'!$H:$H),2)","v":1159.51},null,142500,""]
["WK142610","Combinatieregel ",null,"STUKS","mw WK3000 Fire Proof 30 FSC® cert. 40mm",null,null,"DEUR","VLAK","VLAK","SP","3000","","","Order","FSCMTI",true,"","",0,0,40,"",false,false,true,745.4599999999998,902,{"$f":"ROUND(SUMIF('Combination lines'!$A:$H,Report!$AE6026,'Combination lines'!$H:$H),2)","v":745.46},null,142610,""]
["WK143620","Combinatieregel ",null,"STUKS","mw WK6243 opdek",null,null,"DEUR","BINNEN","BINNEN","MODERN","6243","","","Order","MDF",true,"OPDEK","",0,0,38,"",false,true,false,538.02,651,{"$f":"ROUND(SUMIF('Combination lines'!$A:$H,Report!$AE6037,'Combination lines'!$H:$H),2)","v":538.02},null,143620,"B015"]
["WK143650","Combinatieregel ",null,"","WK High Performance veiligheidsscharnier gefreesd en gemonteerd, staal (89x89mm RH)",null,null,"HENS","SCHARNIER","","","","SCHARNIERINKROZING","","Order","",false,"","",0,0,0,"",false,false,false,20.66,25,{"$f":"ROUND(SUMIF('Combination lines'!$A:$H,Report!$AE6038,'Combination lines'!$H:$H),2)","v":20.66},null,143650,""]
["WK143750","Combinatieregel ",null,"STUKS","mw WK6316-C blank glas stomp",null,null,"DEUR","BINNEN","BINNEN","MODERN","6316","BLANK","","Order","MDF",true,"STOMP","",0,0,38,"",false,false,false,884.1600000000001,1070,{"$f":"ROUND(SUMIF('Combination lines'!$A:$H,Report!$AE6048,'Combination lines'!$H:$H),2)","v":884.16},null,143750,"B015"]
["WK143810","Combinatieregel ",null,"","mw WK6332-C mat gelaagd stomp",null,null,"DEUR","BINNEN","BINNEN","MODERN","6332","MAT GELAAGD","","Order","MDF",true,"STOMP","",0,0,38,"",false,false,false,897.3399999999999,1086,{"$f":"ROUND(SUMIF('Combination lines'!$A:$H,Report!$AE6053,'Combination lines'!$H:$H),2)","v":897.34},null,143810,"B015"]
["WK144460","Combinatieregel ",null,"","mw WK6402 met mat gelaagd glas stomp",null,null,"DEUR","BINNEN","BINNEN","MODERN","6402","MAT GELAAGD","","Order","MDF",true,"STOMP","",0,0,38,"",false,false,false,982.4199999999998,1189,{"$f":"ROUND(SUMIF('Combination lines'!$A:$H,Report!$AE6059,'Combination lines'!$H:$H),2)","v":982.42},null,144460,"B015"]
["WK144580","Combinatieregel ",null,"STUKS","mw WK6403 opdek",null,null,"DEUR","BINNEN","BINNEN","MODERN","6403","","","Order","MDF",true,"OPDEK","",0,0,38,"",false,true,false,669.42,810,{"$f":"ROUND(SUMIF('Combination lines'!$A:$H,Report!$AE6065,'Combination lines'!$H:$H),2)","v":669.42},null,144580,"B015"]
["WK144650","Combinatieregel ",null,"","mw WK6406 met mat gelaagd glas opdek",null,null,"DEUR","BINNEN","BINNEN","MODERN","6406","MAT GELAAGD","","Order","MDF",true,"OPDEK","",0,0,38,"",false,true,false,913,1105,{"$f":"ROUND(SUMIF('Combination lines'!$A:$H,Report!$AE6072,'Combination lines'!$H:$H),2)","v":913},null,144650,"B015"]
["WK145140","Combinatieregel ",null,"","mw WK6356-C met mat gelaagd glas stomp",null,null,"DEUR","BINNEN","BINNEN","MODERN","6356","MAT GELAAGD","","Order","MDF",true,"STOMP","",0,0,38,"",false,false,false,745.6700000000001,902,{"$f":"ROUND(SUMIF('Combination lines'!$A:$H,Report!$AE6077,'Combination lines'!$H:$H),2)","v":745.67},null,145140,"B015"]
["WK145440","Combinatieregel ",null,"","mw WK6361-C met mat gelaagd glas stomp",null,null,"DEUR","BINNEN","BINNEN","MODERN","6361","MAT GELAAGD","","Order","MDF",true,"STOMP","",0,0,38,"",false,false,false,774.4,937,{"$f":"ROUND(SUMIF('Combination lines'!$A:$H,Report!$AE6089,'Combination lines'!$H:$H),2)","v":774.4},null,145440,"B015"]
["WK145630","Combinatieregel ",null,"","Maatwerk WK6517-C3 facetglas mat stomp",null,null,"DEUR","BINNEN","BINNEN","MODERN","6517","FACETGLAS MAT","","Order","",true,"STOMP","",0,0,38,"",false,false,false,651.8399999999999,789,{"$f":"ROUND(SUMIF('Combination lines'!$A:$H,Report!$AE6096,'Combination lines'!$H:$H),2)","v":651.84},null,145630,"B015"]
["WK145670","Combinatieregel ",null,"","Maatwerk WK6517-C3 mat glas stomp",null,null,"DEUR","BINNEN","BINNEN","MODERN","6517","MAT","","Order","",true,"STOMP","",0,0,38,"",false,false,false,617.1299999999999,747,{"$f":"ROUND(SUMIF('Combination lines'!$A:$H,Report!$AE6100,'Combination lines'!$H:$H),2)","v":617.13},null,145670,"B015"]
["WK145710","Combinatieregel ",null,"","Maatwerk WK6517-C3 kathedraal glas stomp",null,null,"DEUR","BINNEN","BINNEN","MODERN","6517","KATHEDRAAL","","Order","",true,"STOMP","",0,0,38,"",false,false,false,599.77,726,{"$f":"ROUND(SUMIF('Combination lines'!$A:$H,Report!$AE6104,'Combination lines'!$H:$H),2)","v":599.77},null,145710,"B015"]
["WK145780","Combinatieregel ",null,"","Maatwerk WK6518-C facetglas mat opdek",null,null,"DEUR","BINNEN","BINNEN","MODERN","6518","FACETGLAS MAT","","Order","",true,"OPDEK","",0,0,38,"",false,true,false,888.6400000000001,1075,{"$f":"ROUND(SUMIF('Combination lines'!$A:$H,Report!$AE6111,'Combination lines'!$H:$H),2)","v":888.64},null,145780,"B015"]
["WK145830","Combinatieregel ",null,"","Maatwerk WK6518-C mat gelaagd glas stomp",null,null,"DEUR","BINNEN","BINNEN","MODERN","6518","MAT GELAAGD","","Order","",true,"STOMP","",0,0,38,"",false,false,false,771.28,933,{"$f":"ROUND(SUMIF('Combination lines'!$A:$H,Report!$AE6116,'Combination lines'!$H:$H),2)","v":771.28},null,145830,"B015"]
["WK146450","Combinatieregel ",null,"","Voordeuren: Toeslag gespoten aflak transparant(gepigmenteerd) incl. houtselectie tbv transparante afwerking",null,null,"BEWERKING","VERF","","","","","","Order","",false,"","",0,0,0,"",false,false,false,178.51999999999998,216,{"$f":"ROUND(SUMIF('Combination lines'!$A:$H,Report!$AE6124,'Combination lines'!$H:$H),2)","v":178.52},null,146450,""]
["WK147070","Combinatieregel ",null,"","Achterdeuren: Toeslag gespoten aflak in 2 kleuren (binnenzijde/buitenzijde)",null,null,"BEWERKING","VERF","","","","","","Order","",false,"","",0,0,0,"",false,false,false,176.02999999999997,213,{"$f":"ROUND(SUMIF('Combination lines'!$A:$H,Report!$AE6135,'Combination lines'!$H:$H),2)","v":176.03},null,147070,""]
["WK147130","Combinatieregel ",null,"SET","mw blank iso glas tbv WK4041 dubbel",null,null,"GLAS","","LUXBUITEN","TD","4041","BLANK","ISOLATIEGLAS","Order","",false,"","",0,0,0,"",false,false,false,373.56,452,{"$f":"ROUND(SUMIF('Combination lines'!$A:$H,Report!$AE6141,'Combination lines'!$H:$H),2)","v":373.56},null,147130,""]
["WK147190","Combinatieregel ",null,"SET","mw blank iso VH glas tbv WK4046 dubbel",null,null,"GLAS","","LUXBUITEN","TD","4046","BLANK","ISO VEILIGHEIDSGLAS","Order","",false,"","",0,0,0,"",false,false,false,1148.76,1390,{"$f":"ROUND(SUMIF('Combination lines'!$A:$H,Report!$AE6147,'Combination lines'!$H:$H),2)","v":1148.76},null,147190,""]
["WK147270","Combinatieregel ",null,"","Terrasdeuren: Toeslag gespoten aflak in 2 kleuren (binnenzijde/buitenzijde)",null,null,"BEWERKING","VERF","","","","","","Order","",false,"","",0,0,0,"",false,false,false,176.02999999999997,213,{"$f":"ROUND(SUMIF('Combination lines'!$A:$H,Report!$AE6152,'Combination lines'!$H:$H),2)","v":176.03},null,147270,""]
["WK147510","Combinatieregel ",null,"","Afhangen/inmeten dubbele terrasdeur, per stel",null,null,"WMS","LUXBUITEN","LUXBUITEN","TD","","","","Order","",false,"","",0,0,0,"",false,false,false,742.97,899,{"$f":"ROUND(SUMIF('Combination lines'!$A:$H,Report!$AE6155,'Combination lines'!$H:$H),2)","v":742.97},null,147510,"SERVICE"]
["WK148640","Combinatieregel ",null,"","mw WK6306-C mat gelaagd glas stomp",null,null,"DEUR","BINNEN","BINNEN","MODERN","6306","MAT GELAAGD","","Order","MDF",true,"STOMP","",0,0,38,"",false,false,false,796.9,964,{"$f":"ROUND(SUMIF('Combination lines'!$A:$H,Report!$AE6163,'Combination lines'!$H:$H),2)","v":796.9},null,148640,"B015"]
["WK148830","Combinatieregel ",null,"","meerprijs glas-in-lood veiligheidsglas WK1281-1",null,null,"GLAS","","LUXBUITEN","VD","1281-1","","","Order","",false,"","",0,0,0,"",false,false,false,75.20999999999998,91,{"$f":"ROUND(SUMIF('Combination lines'!$A:$H,Report!$AE6174,'Combination lines'!$H:$H),2)","v":75.21},null,148830,""]
["WK149000","Combinatieregel ",null,"STUKS","mw WK3502 38mm, FSC® cert. Premium Hardwood, strakke panelen",null,null,"DEUR","BALKON","BALKON","BS","3502DT6","","","Order","FSCPHW",true,"","",0,0,38,"",false,false,false,1800,2178,{"$f":"ROUND(SUMIF('Combination lines'!$A:$H,Report!$AE6180,'Combination lines'!$H:$H),2)","v":1800},null,149000,""]
["WK149350","Combinatieregel ",null,"","mw gefigureerd serie 1 iso glas tbv WK3661",null,null,"GLAS","","VLAK","","3661","GEFIGUREERD SERIE 1","ISOLATIEGLAS","Order","",false,"","",0,0,0,"",false,false,false,247.94,300,{"$f":"ROUND(SUMIF('Combination lines'!$A:$H,Report!$AE6186,'Combination lines'!$H:$H),2)","v":247.94},null,149350,""]
["WK150500","Combinatieregel ",null,"STUKS","mw WK3502 54mm, FSC® cert. Premium Hardwood, traditionele panelen",null,null,"DEUR","BALKON","BALKON","BS","3502DT4","","","Order","FSCPHW",true,"","",0,0,54,"",false,false,false,2562.81,3101,{"$f":"ROUND(SUMIF('Combination lines'!$A:$H,Report!$AE6193,'Combination lines'!$H:$H),2)","v":2562.81},null,150500,""]
["WK151540","Combinatieregel ",null,"","Overspuiten voorraaddeur na bewerkingen in grondverf in RAL-kleur naar keuze",null,null,"BEWERKING","VERF","BINNEN","","","","","Order","",false,"","",0,0,0,"",false,false,false,33.06,40,{"$f":"ROUND(SUMIF('Combination lines'!$A:$H,Report!$AE6198,'Combination lines'!$H:$H),2)","v":33.06},null,151540,""]
["WK151600","Combinatieregel ",null,"SET","mw blank iso VH glas tbv WK4156 dubbel",null,null,"GLAS","","LUXBUITEN","TD","4156","BLANK","ISO VEILIGHEIDSGLAS","Order","",false,"","",0,0,0,"",false,false,false,1148.76,1390,{"$f":"ROUND(SUMIF('Combination lines'!$A:$H,Report!$AE6204,'Combination lines'!$H:$H),2)","v":1148.76},null,151600,""]
["WK151760","Combinatieregel ",null,"STUKS","vrd WK6551 B2 opdek",null,null,"DEUR","BINNEN","BINNEN","MODERN","6551","","","Inventory","",true,"OPDEK","",0,0,38,"",false,true,false,414.88,502,{"$f":"ROUND(SUMIF('Combination lines'!$A:$H,Report!$AE6213,'Combination lines'!$H:$H),2)","v":414.88},null,151760,"B055"]
["WK151790","Combinatieregel ",null,"STUKS","vrd WK6305 C3 opdek",null,null,"DEUR","BINNEN","BINNEN","MODERN","6305","","","Inventory","MDF",true,"OPDEK","",0,0,38,"",false,true,false,434.71,526,{"$f":"ROUND(SUMIF('Combination lines'!$A:$H,Report!$AE6215,'Combination lines'!$H:$H),2)","v":434.71},null,151790,"B055"]
["WK151910","Combinatieregel ",null,"STUKS","mw WK6308 C mat gelaagd glas opdek",null,null,"DEUR","BINNEN","BINNEN","MODERN","6308","MAT GELAAGD","","Order","MDF",true,"OPDEK","",0,0,38,"",false,true,false,841.3399999999999,1018,{"$f":"ROUND(SUMIF('Combination lines'!$A:$H,Report!$AE6225,'Combination lines'!$H:$H),2)","v":841.34},null,151910,""]
["WK152040","Combinatieregel ",null,"STUKS","vrd WK6531 B2 opdek",null,null,"DEUR","BINNEN","BINNEN","MODERN","6531","","","Inventory","",true,"OPDEK","",0,0,38,"",false,true,false,414.88,502,{"$f":"ROUND(SUMIF('Combination lines'!$A:$H,Report!$AE6232,'Combination lines'!$H:$H),2)","v":414.88},null,152040,"B055"]
["WK155170","Combinatieregel ",null,"","Afhangen/inmeten stompe binnendeur",null,null,"WMS","BINNEN","BINNEN","","","","","Order","",false,"","",0,0,0,"",false,false,false,199.17000000000002,241,{"$f":"ROUND(SUMIF('Combination lines'!$A:$H,Report!$AE6237,'Combination lines'!$H:$H),2)","v":199.17},null,155170,"SERVICE"]
["WK155410","Combinatieregel ",null,"","Press black met ktb buitenkant, Cube black binnenkant",null,null,"HENS","BESLAG","","","","","","Order","",false,"","",0,0,0,"",false,false,false,111.57,135,{"$f":"ROUND(SUMIF('Combination lines'!$A:$H,Report!$AE6245,'Combination lines'!$H:$H),2)","v":111.57},null,155410,""]
["WK155480","Combinatieregel ",null,"","WK High Performance nastelbaar veiligheidsscharnier gefreesd en gemonteerd, staal (89x89mm RH)",null,null,"HENS","SCHARNIER","","","","SCHARNIERINKROZING","","Order","",false,"","",0,0,0,"",false,false,false,28.92,35,{"$f":"ROUND(SUMIF('Combination lines'!$A:$H,Report!$AE6249,'Combination lines'!$H:$H),2)","v":28.92},null,155480,""]
["WK156420","Combinatieregel ",null,"","mw WK6312-C grijs getint glas stomp",null,null,"DEUR","BINNEN","BINNEN","MODERN","6312","GRIJS GETINT","","Order","MDF",true,"STOMP","",0,0,38,"",false,false,false,951.06,1151,{"$f":"ROUND(SUMIF('Combination lines'!$A:$H,Report!$AE6256,'Combination lines'!$H:$H),2)","v":951.06},null,156420,"B015"]
["WK156470","Combinatieregel ",null,"STUKS","mw WK6316-C grijs getint glas opdek",null,null,"DEUR","BINNEN","BINNEN","MODERN","6316","GRIJS GETINT","","Order","MDF",true,"OPDEK","",0,0,38,"",false,true,false,1066.81,1291,{"$f":"ROUND(SUMIF('Combination lines'!$A:$H,Report!$AE6261,'Combination lines'!$H:$H),2)","v":1066.81},null,156470,""]
["WK156550","Combinatieregel ",null,"","mw WK6358-C met grijs getint glas stomp",null,null,"DEUR","BINNEN","BINNEN","MODERN","6358","GRIJS GETINT","","Order","MDF",true,"STOMP","",0,0,38,"",false,false,false,825.64,999,{"$f":"ROUND(SUMIF('Combination lines'!$A:$H,Report!$AE6267,'Combination lines'!$H:$H),2)","v":825.64},null,156550,"B015"]
["WK156660","Combinatieregel ",null,"","WK kantschuif ingefr+gemont,incl WKHP 3puntslot,ingefr+gemont,SB,incl zelfst.sluitk.+platen, excl profielcil",null,null,"HENS","SLOTEN","LUXBUITEN","","","","","Order","",false,"","",0,0,0,"",false,false,false,592.55,717,{"$f":"ROUND(SUMIF('Combination lines'!$A:$H,Report!$AE6276,'Combination lines'!$H:$H),2)","v":592.55},null,156660,""]
["WK157190","Combinatieregel ",null,"","mw WK6310 C3 mat gelaagd glas stomp",null,null,"DEUR","BINNEN","BINNEN","MODERN","6310","MAT GELAAGD","","Order","MDF",true,"STOMP","",0,0,38,"",false,false,false,782.85,947,{"$f":"ROUND(SUMIF('Combination lines'!$A:$H,Report!$AE6284,'Combination lines'!$H:$H),2)","v":782.85},null,157190,"B015"]
["WK157230","Combinatieregel ",null,"STUKS","mw WK6310 C3 grijs getint glas opdek",null,null,"DEUR","BINNEN","BINNEN","MODERN","6310","GRIJS GETINT","","Order","MDF",true,"OPDEK","",0,0,38,"",false,true,false,834.92,1010,{"$f":"ROUND(SUMIF('Combination lines'!$A:$H,Report!$AE6288,'Combination lines'!$H:$H),2)","v":834.92},null,157230,""]
["WK157440","Combinatieregel ",null,"","mw WK6313-C grijs getint glas stomp",null,null,"DEUR","BINNEN","BINNEN","MODERN","6313","GRIJS GETINT","","Order","MDF",true,"STOMP","",0,0,38,"",false,false,false,869.44,1052,{"$f":"ROUND(SUMIF('Combination lines'!$A:$H,Report!$AE6297,'Combination lines'!$H:$H),2)","v":869.44},null,157440,"B015"]
["WK157470","Combinatieregel ",null,"STUKS","mw WK6313-C grijs getint glas opdek",null,null,"DEUR","BINNEN","BINNEN","MODERN","6313","GRIJS GETINT","","Order","MDF",true,"OPDEK","",0,0,38,"",false,true,false,881.8399999999999,1067,{"$f":"ROUND(SUMIF('Combination lines'!$A:$H,Report!$AE6300,'Combination lines'!$H:$H),2)","v":881.84},null,157470,""]
["WK157670","Combinatieregel ",null,"","mw WK6318 C mat gelaagd glas stomp",null,null,"DEUR","BINNEN","BINNEN","MODERN","6318","MAT GELAAGD","","Order","MDF",true,"STOMP","",0,0,38,"",false,false,false,952.9499999999998,1153,{"$f":"ROUND(SUMIF('Combination lines'!$A:$H,Report!$AE6308,'Combination lines'!$H:$H),2)","v":952.95},null,157670,"B015"]
["WK157710","Combinatieregel ",null,"STUKS","mw WK6318-C grijs getint glas opdek",null,null,"DEUR","BINNEN","BINNEN","MODERN","6318","GRIJS GETINT","","Order","MDF",true,"OPDEK","",0,0,38,"",false,true,false,1019.0699999999999,1233,{"$f":"ROUND(SUMIF('Combination lines'!$A:$H,Report!$AE6312,'Combination lines'!$H:$H),2)","v":1019.07},null,157710,""]
["WK158440","Combinatieregel ",null,"","mw WK1972 54mm, FSC® cert. Premium Hardwood",null,null,"DEUR","LUXBUITEN","LUXBUITEN","VD","1972","","","Order","FSCPHW",true,"","",0,0,54,"",false,false,false,1786.78,2162,{"$f":"ROUND(SUMIF('Combination lines'!$A:$H,Report!$AE6319,'Combination lines'!$H:$H),2)","v":1786.78},null,158440,""]
["WK159040","Combinatieregel ",null,"","vrd WK 2035 TriComfort 39mm",null,null,"DEUR","LUXBUITEN","LUXBUITEN","VD","2035","","","Inventory","FSCMTI",true,"STOMP","",0,0,40,"",false,false,false,2460.32,2977,{"$f":"ROUND(SUMIF('Combination lines'!$A:$H,Report!$AE6327,'Combination lines'!$H:$H),2)","v":2460.32},null,159040,"A050"]
["WK159550","Combinatieregel ",null,"STUKS","mw WK6312-C brons getint glas opdek",null,null,"DEUR","BINNEN","BINNEN","MODERN","6312","BRONS GETINT","","Order","MDF",true,"OPDEK","",0,0,38,"",false,true,false,963.46,1166,{"$f":"ROUND(SUMIF('Combination lines'!$A:$H,Report!$AE6336,'Combination lines'!$H:$H),2)","v":963.46},null,159550,""]
["WK159580","Combinatieregel ",null,"STUKS","mw WK6316-C brons getint glas stomp",null,null,"DEUR","BINNEN","BINNEN","MODERN","6316","BRONS GETINT","","Order","MDF",true,"STOMP","",0,0,38,"",false,false,false,1054.41,1276,{"$f":"ROUND(SUMIF('Combination lines'!$A:$H,Report!$AE6339,'Combination lines'!$H:$H),2)","v":1054.41},null,159580,"B015"]
["WK159680","Combinatieregel ",null,"","mw WK6360-C brons getint glas opdek",null,null,"DEUR","BINNEN","BINNEN","MODERN","6360","BRONS GETINT","","Order","MDF",true,"OPDEK","",0,0,38,"",false,true,false,863.46,1045,{"$f":"ROUND(SUMIF('Combination lines'!$A:$H,Report!$AE6349,'Combination lines'!$H:$H),2)","v":863.46},null,159680,"B015"]
["WK159700","Combinatieregel ",null,"","mw WK6361-C brons getint glas opdek",null,null,"DEUR","BINNEN","BINNEN","MODERN","6361","BRONS GETINT","","Order","MDF",true,"OPDEK","",0,0,38,"",false,true,false,840.52,1017,{"$f":"ROUND(SUMIF('Combination lines'!$A:$H,Report!$AE6351,'Combination lines'!$H:$H),2)","v":840.52},null,159700,"B015"]
["WK159790","Combinatieregel ",null,"","mw WK6313-C brons getint glas stomp",null,null,"DEUR","BINNEN","BINNEN","MODERN","6313","BRONS GETINT","","Order","MDF",true,"STOMP","",0,0,38,"",false,false,false,869.44,1052,{"$f":"ROUND(SUMIF('Combination lines'!$A:$H,Report!$AE6360,'Combination lines'!$H:$H),2)","v":869.44},null,159790,"B015"]
["WK159820","Combinatieregel ",null,"STUKS","mw WK6315-C brons getint glas opdek",null,null,"DEUR","BINNEN","BINNEN","MODERN","6315","BRONS GETINT","","Order","MDF",true,"OPDEK","",0,0,38,"",false,true,false,881.8399999999999,1067,{"$f":"ROUND(SUMIF('Combination lines'!$A:$H,Report!$AE6363,'Combination lines'!$H:$H),2)","v":881.84},null,159820,""]
["WK159900","Combinatieregel ",null,"","mw WK6312-C zwart glas stomp",null,null,"DEUR","BINNEN","BINNEN","MODERN","6312","ZWART","","Order","MDF",true,"STOMP","",0,0,38,"",false,false,false,1039.49,1258,{"$f":"ROUND(SUMIF('Combination lines'!$A:$H,Report!$AE6371,'Combination lines'!$H:$H),2)","v":1039.49},null,159900,"B015"]
["WK159970","Combinatieregel ",null,"","mw WK6332-C zwart glas stomp",null,null,"DEUR","BINNEN","BINNEN","MODERN","6332","ZWART","","Order","MDF",true,"STOMP","",0,0,38,"",false,false,false,1039.49,1258,{"$f":"ROUND(SUMIF('Combination lines'!$A:$H,Report!$AE6378,'Combination lines'!$H:$H),2)","v":1039.49},null,159970,"B015"]
["WK160070","Combinatieregel ",null,"","mw WK6362-C zwart glas stomp",null,null,"DEUR","BINNEN","BINNEN","MODERN","6362","ZWART","","Order","MDF",true,"STOMP","",0,0,38,"",false,false,false,916.55,1109,{"$f":"ROUND(SUMIF('Combination lines'!$A:$H,Report!$AE6388,'Combination lines'!$H:$H),2)","v":916.55},null,160070,"B015"]
["WK160090","Combinatieregel ",null,"","mw WK6309 C3 zwart glas stomp",null,null,"DEUR","BINNEN","BINNEN","MODERN","6309","ZWART","","Order","MDF",true,"STOMP","",0,0,38,"",false,false,false,819.4200000000001,991,{"$f":"ROUND(SUMIF('Combination lines'!$A:$H,Report!$AE6390,'Combination lines'!$H:$H),2)","v":819.42},null,160090,"B015"]
["WK160180","Combinatieregel ",null,"STUKS","mw WK6315-C zwart glas opdek",null,null,"DEUR","BINNEN","BINNEN","MODERN","6315","ZWART","","Order","MDF",true,"OPDEK","",0,0,38,"",false,true,false,970.27,1174,{"$f":"ROUND(SUMIF('Combination lines'!$A:$H,Report!$AE6399,'Combination lines'!$H:$H),2)","v":970.27},null,160180,""]
["WK160210","Combinatieregel ",null,"","mw WK6338 C3 zwart glas stomp",null,null,"DEUR","BINNEN","BINNEN","MODERN","6338","ZWART","","Order","MDF",true,"STOMP","",0,0,38,"",false,false,false,889.46,1076,{"$f":"ROUND(SUMIF('Combination lines'!$A:$H,Report!$AE6402,'Combination lines'!$H:$H),2)","v":889.46},null,160210,"B015"]
["WK162320","Combinatieregel ",null,"STUKS","mw WK4023 38mm, FSC® cert. Premium Hardwood",null,null,"DEUR","LUXBUITEN","LUXBUITEN","TD","4023","","","Order","FSCPHW",true,"","",0,0,38,"",false,false,false,714.88,865,{"$f":"ROUND(SUMIF('Combination lines'!$A:$H,Report!$AE6412,'Combination lines'!$H:$H),2)","v":714.88},null,162320,""]
["WK162920","Combinatieregel ",null,"STUKS","mw WK3010 TriComfort® FSC® cert. 40mm",null,null,"DEUR","VLAK","VLAK","TC","3010","","","Order","FSCMTI",true,"","",0,0,40,"",false,false,false,911.5699999999999,1103,{"$f":"ROUND(SUMIF('Combination lines'!$A:$H,Report!$AE6421,'Combination lines'!$H:$H),2)","v":911.57},null,162920,""]
["WK162940","Combinatieregel ",null,"STUKS","mw WK3013 TriComfort® FSC® cert. 40mm",null,null,"DEUR","VLAK","VLAK","TC","3013","","","Order","FSCMTI",true,"","",0,0,40,"",false,false,false,966.9399999999999,1170,{"$f":"ROUND(SUMIF('Combination lines'!$A:$H,Report!$AE6423,'Combination lines'!$H:$H),2)","v":966.94},null,162940,""]
["WK163000","Combinatieregel ",null,"STUKS","mw WK3043 TriComfort® FSC® cert. 40mm",null,null,"DEUR","VLAK","VLAK","TC","3043","","","Order","FSCMTI",true,"","",0,0,40,"",false,false,false,1039.67,1258,{"$f":"ROUND(SUMIF('Combination lines'!$A:$H,Report!$AE6429,'Combination lines'!$H:$H),2)","v":1039.67},null,163000,""]
["WK163260","Combinatieregel ",null,"STUKS","mw WK3018 TriComfort® FSC® cert. 54mm",null,null,"DEUR","VLAK","VLAK","TC","3018","","","Order","FSCMTI",true,"","",0,0,54,"",false,false,false,1038.84,1257,{"$f":"ROUND(SUMIF('Combination lines'!$A:$H,Report!$AE6440,'Combination lines'!$H:$H),2)","v":1038.84},null,163260,""]
["WK163270","Combinatieregel ",null,"STUKS","mw WK3019 TriComfort® FSC® cert. 54mm",null,null,"DEUR","VLAK","VLAK","TC","3019","","","Order","FSCMTI",true,"","",0,0,54,"",false,false,false,1074.3799999999999,1300,{"$f":"ROUND(SUMIF('Combination lines'!$A:$H,Report!$AE6441,'Combination lines'!$H:$H),2)","v":1074.38},null,163270,""]
["WK164500","Combinatieregel ",null,"","Afwijkende maat t/m 945 x 2345 AluMaxx® FSC® cert. ingroefbaar 40mm",null,null,"TOESLAG","","VLAK","AL","","MAATTOESLAG","","Order","",true,"","",0,0,0,"",false,false,false,43.81000000000006,53,{"$f":"ROUND(SUMIF('Combination lines'!$A:$H,Report!$AE6451,'Combination lines'!$H:$H),2)","v":43.81},null,164500,"SD/SG"]
["WK164590","Combinatieregel ",null,"STUKS","mw WK3001 AluMaxx® FSC® cert. 40mm ingroefbaar",null,null,"DEUR","VLAK","VLAK","AL","3001","","","Order","",true,"","",0,0,40,"",false,false,false,955.3699999999999,1156,{"$f":"ROUND(SUMIF('Combination lines'!$A:$H,Report!$AE6460,'Combination lines'!$H:$H),2)","v":955.37},null,164590,""]
["WK164630","Combinatieregel ",null,"STUKS","mw WK3003 AluMaxx® FSC® cert. 40mm ingroefbaar",null,null,"DEUR","VLAK","VLAK","AL","3003","","","Order","",true,"","",0,0,40,"",false,false,false,1007.44,1219,{"$f":"ROUND(SUMIF('Combination lines'!$A:$H,Report!$AE6464,'Combination lines'!$H:$H),2)","v":1007.44},null,164630,""]
["WK164710","Combinatieregel ",null,"STUKS","mw WK3015 AluMaxx® FSC® cert. 40mm ingroefbaar",null,null,"DEUR","VLAK","VLAK","AL","3015","","","Order","",true,"","",0,0,40,"",false,false,false,1101.65,1333,{"$f":"ROUND(SUMIF('Combination lines'!$A:$H,Report!$AE6472,'Combination lines'!$H:$H),2)","v":1101.65},null,164710,""]
["WK164740","Combinatieregel ",null,"STUKS","mw WK3016 AluMaxx® FSC® cert. 54mm ingroefbaar",null,null,"DEUR","VLAK","VLAK","AL","3016","","","Order","",true,"","",0,0,54,"",false,false,false,1202.49,1455,{"$f":"ROUND(SUMIF('Combination lines'!$A:$H,Report!$AE6475,'Combination lines'!$H:$H),2)","v":1202.49},null,164740,""]
["WK164790","Combinatieregel ",null,"STUKS","mw WK3023 AluMaxx® FSC® cert. 40mm ingroefbaar",null,null,"DEUR","VLAK","VLAK","AL","3023","","","Order","",true,"","",0,0,40,"",false,false,false,1055.37,1277,{"$f":"ROUND(SUMIF('Combination lines'!$A:$H,Report!$AE6480,'Combination lines'!$H:$H),2)","v":1055.37},null,164790,""]
["WK164910","Combinatieregel ",null,"STUKS","mw WK3052 AluMaxx® FSC® cert. 40mm ingroefbaar",null,null,"DEUR","VLAK","VLAK","AL","3052","","","Order","",true,"","",0,0,40,"",false,false,false,971.9000000000001,1176,{"$f":"ROUND(SUMIF('Combination lines'!$A:$H,Report!$AE6492,'Combination lines'!$H:$H),2)","v":971.9},null,164910,""]
["WK164980","Combinatieregel ",null,"STUKS","mw WK3063 AluMaxx® FSC® cert. 54mm ingroefbaar",null,null,"DEUR","VLAK","VLAK","AL","3063","","","Order","",true,"","",0,0,54,"",false,false,false,1272.73,1540,{"$f":"ROUND(SUMIF('Combination lines'!$A:$H,Report!$AE6499,'Combination lines'!$H:$H),2)","v":1272.73},null,164980,""]
["WK165020","Combinatieregel ",null,"STUKS","mw WK3065 AluMaxx® FSC® cert. 54mm ingroefbaar",null,null,"DEUR","VLAK","VLAK","AL","3065","","","Order","",true,"","",0,0,54,"",false,false,false,1272.73,1540,{"$f":"ROUND(SUMIF('Combination lines'!$A:$H,Report!$AE6503,'Combination lines'!$H:$H),2)","v":1272.73},null,165020,""]
["WK165290","Combinatieregel ",null,"","mw WK042 54mm, TC geisoleerd, incl. ventilatiesleuven en vlakke iso-glaslatten",null,null,"DEUR","BALKON","BALKON","ISO","042TC","","","Order","",true,"","",0,0,54,"",false,false,false,914.05,1106,{"$f":"ROUND(SUMIF('Combination lines'!$A:$H,Report!$AE6511,'Combination lines'!$H:$H),2)","v":914.05},null,165290,""]
["WK165390","Combinatieregel ",null,"","mw WK047 54mm, TC geisoleerd, incl. ventilatiesleuven en vlakke iso-glaslatten",null,null,"DEUR","BALKON","BALKON","ISO","047TC","","","Order","",true,"","",0,0,54,"",false,false,false,1028.92,1245,{"$f":"ROUND(SUMIF('Combination lines'!$A:$H,Report!$AE6516,'Combination lines'!$H:$H),2)","v":1028.92},null,165390,""]
["WK168610","Combinatieregel ",null,"STUKS","mw WK3085 TriComfort® FSC® cert. 40mm",null,null,"DEUR","VLAK","VLAK","TC","3085","","","Order","FSCMTI",true,"","",0,0,40,"",false,false,false,1216.53,1472,{"$f":"ROUND(SUMIF('Combination lines'!$A:$H,Report!$AE6523,'Combination lines'!$H:$H),2)","v":1216.53},null,168610,""]
["WK169940","Combinatieregel ",null,"","mw WK8081 38mm, PEFC-CS PHW",null,null,"","","BALKON","BS","8081","","","Order","PEFCCSPHW",false,"","",0,0,38,"",false,false,false,799.1700000000001,967,{"$f":"ROUND(SUMIF('Combination lines'!$A:$H,Report!$AE6527,'Combination lines'!$H:$H),2)","v":799.17},null,169940,""]
["WK170020","Combinatieregel ",null,"","mw WK8061 38mm, PEFC-CS PHW",null,null,"","","BALKON","BS","8061","","","Order","PEFCCSPHW",false,"","",0,0,38,"",false,false,false,744.63,901,{"$f":"ROUND(SUMIF('Combination lines'!$A:$H,Report!$AE6535,'Combination lines'!$H:$H),2)","v":744.63},null,170020,""]
["WK170190","Combinatieregel ",null,"","mw WK016 38mm, PEFC-CS PHW, incl. ventilatiesleuven en vlakke iso-glaslatten",null,null,"","","BALKON","SS","016","","","Order","PEFCCSPHW",false,"","",0,0,38,"",false,false,false,700,847,{"$f":"ROUND(SUMIF('Combination lines'!$A:$H,Report!$AE6544,'Combination lines'!$H:$H),2)","v":700},null,170190,""]
["WK170260","Combinatieregel ",null,"","mw WK041 38mm, PEFC-CS PHW, incl. ventilatiesleuven en vlakke iso-glaslatten",null,null,"","","BALKON","BS","041","","","Order","PEFCCSPHW",false,"","",0,0,38,"",false,false,false,658.6800000000001,797,{"$f":"ROUND(SUMIF('Combination lines'!$A:$H,Report!$AE6550,'Combination lines'!$H:$H),2)","v":658.68},null,170260,""]
["WK170340","Combinatieregel ",null,"","mw WK045 38mm, PEFC-CS PHW, incl. ventilatiesleuven en vlakke iso-glaslatten",null,null,"","","BALKON","BS","045","","","Order","PEFCCSPHW",false,"","",0,0,38,"",false,false,false,714.88,865,{"$f":"ROUND(SUMIF('Combination lines'!$A:$H,Report!$AE6555,'Combination lines'!$H:$H),2)","v":714.88},null,170340,""]
["WK170430","Combinatieregel ",null,"","mw WK050 38mm, PEFC-CS PHW, incl. ventilatiesleuven en vlakke iso-glaslatten",null,null,"","","BALKON","BS","050","","","Order","PEFCCSPHW",false,"","",0,0,38,"",false,false,false,936.36,1133,{"$f":"ROUND(SUMIF('Combination lines'!$A:$H,Report!$AE6562,'Combination lines'!$H:$H),2)","v":936.36},null,170430,""]
["WK170510","Combinatieregel ",null,"","mw WK0127 38mm, PEFC-CS PHW, incl. ventilatiesleuven en vlakke iso-glaslatten",null,null,"","","BALKON","BS","127","","","Order","PEFCCSPHW",false,"","",0,0,38,"",false,false,false,714.05,864,{"$f":"ROUND(SUMIF('Combination lines'!$A:$H,Report!$AE6568,'Combination lines'!$H:$H),2)","v":714.05},null,170510,""]
["WK170590","Combinatieregel ",null,"","mw WK144 38mm, PEFC-CS PHW, incl. ventilatiesleuven en vlakke iso-glaslatten",null,null,"","","BALKON","BS","144","","","Order","PEFCCSPHW",false,"","",0,0,38,"",false,false,false,842.97,1020,{"$f":"ROUND(SUMIF('Combination lines'!$A:$H,Report!$AE6574,'Combination lines'!$H:$H),2)","v":842.97},null,170590,""]
["WK170690","Combinatieregel ",null,"","mw WK322 38mm, PEFC-CS PHW, incl. ventilatiesleuven en vlakke iso-glaslatten",null,null,"","","BALKON","SS","322","","","Order","PEFCCSPHW",false,"","",0,0,38,"",false,false,false,939.66,1137,{"$f":"ROUND(SUMIF('Combination lines'!$A:$H,Report!$AE6579,'Combination lines'!$H:$H),2)","v":939.66},null,170690,""]
["WK170830","Combinatieregel ",null,"","mw WK7115 38mm, PEFC-CS PHW, incl. ventilatiesleuven en vlakke iso-glaslatten",null,null,"","","BALKON","BS","7115","","","Order","PEFCCSPHW",false,"","",0,0,38,"",false,false,false,1153.71,1396,{"$f":"ROUND(SUMIF('Combination lines'!$A:$H,Report!$AE6586,'Combination lines'!$H:$H),2)","v":1153.71},null,170830,""]
["WK170980","Combinatieregel ",null,"","mw WK8151 38mm, PEFC-CS PHW, incl. ventilatiesleuven en vlakke iso-glaslatten",null,null,"","","BALKON","BS","8151","","","Order","PEFCCSPHW",false,"","",0,0,38,"",false,false,false,1131.4099999999999,1369,{"$f":"ROUND(SUMIF('Combination lines'!$A:$H,Report!$AE6596,'Combination lines'!$H:$H),2)","v":1131.41},null,170980,""]
["WK171040","Combinatieregel ",null,"STUKS","mw WK7810 38mm, PEFC-CS PHW",null,null,"","","BALKON","BS","7810","","","Order","PEFCCSPHW",false,"","",0,0,38,"",false,false,false,1642.98,1988,{"$f":"ROUND(SUMIF('Combination lines'!$A:$H,Report!$AE6601,'Combination lines'!$H:$H),2)","v":1642.98},null,171040,""]
["WK171100","Combinatieregel ",null,"STUKS","mw WK3502 38mm, PEFC-CS PHW, traditionele panelen",null,null,"","","BALKON","BS","3502DT4","","","Order","PEFCCSPHW",false,"","",0,0,38,"",false,false,false,1786.78,2162,{"$f":"ROUND(SUMIF('Combination lines'!$A:$H,Report!$AE6607,'Combination lines'!$H:$H),2)","v":1786.78},null,171100,""]
["WK171810","Combinatieregel ",null,"","mw WK044-8 ruits 38mm, PEFC-CS HW, incl. ventilatiesleuven en vlakke iso-glaslatten",null,null,"","","BALKON","BS","044","8 RUITS","","Order","PEFCCSHW",false,"","",0,0,38,"",false,false,false,784.3,949,{"$f":"ROUND(SUMIF('Combination lines'!$A:$H,Report!$AE6613,'Combination lines'!$H:$H),2)","v":784.3},null,171810,""]
["WK172010","Combinatieregel ",null,"STUKS","mw WK042-8 ruits 38mm, PEFC-CS HW, incl. ventilatiesleuven en vlakke iso-glaslatten",null,null,"","","BALKON","BS","042","8 RUITS","","Order","PEFCCSHW",false,"","",0,0,38,"",false,false,false,736.36,891,{"$f":"ROUND(SUMIF('Combination lines'!$A:$H,Report!$AE6618,'Combination lines'!$H:$H),2)","v":736.36},null,172010,""]
["WK172080","Combinatieregel ",null,"STUKS","mw WK014 38mm, PEFC-CS HW, incl. ventilatiesleuven en vlakke iso-glaslatten",null,null,"","","BALKON","SS","014","","","Order","PEFCCSHW",false,"","",0,0,38,"",false,false,false,708.27,857,{"$f":"ROUND(SUMIF('Combination lines'!$A:$H,Report!$AE6625,'Combination lines'!$H:$H),2)","v":708.27},null,172080,""]
["WK172140","Combinatieregel ",null,"STUKS","mw WK042 38mm, PEFC-CS HW, incl. ventilatiesleuven en vlakke iso-glaslatten",null,null,"","","BALKON","BS","042","","","Order","PEFCCSHW",false,"","",0,0,38,"",false,false,false,576.03,697,{"$f":"ROUND(SUMIF('Combination lines'!$A:$H,Report!$AE6631,'Combination lines'!$H:$H),2)","v":576.03},null,172140,""]
["WK172200","Combinatieregel ",null,"STUKS","mw WK048 38mm, PEFC-CS HW, incl. ventilatiesleuven en vlakke iso-glaslatten",null,null,"","","BALKON","BS","048","","","Order","PEFCCSHW",false,"","",0,0,38,"",false,false,false,719.84,871,{"$f":"ROUND(SUMIF('Combination lines'!$A:$H,Report!$AE6637,'Combination lines'!$H:$H),2)","v":719.84},null,172200,""]
["WK172310","Combinatieregel ",null,"STUKS","mw WK7164 38mm, PEFC-CS HW, incl. ventilatiesleuven en vlakke iso-glaslatten",null,null,"","","BALKON","BS","7164","","","Order","PEFCCSHW",false,"","",0,0,38,"",false,false,false,1029.75,1246,{"$f":"ROUND(SUMIF('Combination lines'!$A:$H,Report!$AE6648,'Combination lines'!$H:$H),2)","v":1029.75},null,172310,""]
["WK172350","Combinatieregel ",null,"STUKS","mw WK7711 38mm, PEFC-CS HW, incl. ventilatiesleuven en vlakke iso-glaslatten",null,null,"","","BALKON","BS","7711","","","Order","PEFCCSHW",false,"","",0,0,38,"",false,false,false,1355.3700000000001,1640,{"$f":"ROUND(SUMIF('Combination lines'!$A:$H,Report!$AE6652,'Combination lines'!$H:$H),2)","v":1355.37},null,172350,""]
["WK172420","Combinatieregel ",null,"STUKS","mw WK122 38mm, PEFC-CS HW, incl. ventilatiesleuven en vlakke iso-glaslatten",null,null,"","","BALKON","SS","122","","","Order","PEFCCSHW",false,"","",0,0,38,"",false,false,false,709.09,858,{"$f":"ROUND(SUMIF('Combination lines'!$A:$H,Report!$AE6659,'Combination lines'!$H:$H),2)","v":709.09},null,172420,""]
["WK172470","Combinatieregel ",null,"STUKS","mw WK332 38mm, PEFC-CS HW, incl. ventilatiesleuven en vlakke iso-glaslatten",null,null,"","","BALKON","SS","332","","","Order","PEFCCSHW",false,"","",0,0,38,"",false,false,false,895.86,1084,{"$f":"ROUND(SUMIF('Combination lines'!$A:$H,Report!$AE6664,'Combination lines'!$H:$H),2)","v":895.86},null,172470,""]
["WK172530","Combinatieregel ",null,"STUKS","mw WK234 38mm, PEFC-CS HW, incl. ventilatiesleuven en vlakke iso-glaslatten",null,null,"","","BALKON","BS","234","","","Order","PEFCCSHW",false,"","",0,0,38,"",false,false,false,838.8399999999999,1015,{"$f":"ROUND(SUMIF('Combination lines'!$A:$H,Report!$AE6670,'Combination lines'!$H:$H),2)","v":838.84},null,172530,""]
["WK172590","Combinatieregel ",null,"STUKS","mw WK8041-6 ruits 38mm, PEFC-CS HW, incl. ventilatiesleuven en vlakke iso-glaslatten",null,null,"","","BALKON","BS","8041","6 RUITS","","Order","PEFCCSHW",false,"","",0,0,38,"",false,false,false,755.37,914,{"$f":"ROUND(SUMIF('Combination lines'!$A:$H,Report!$AE6676,'Combination lines'!$H:$H),2)","v":755.37},null,172590,""]
["WK172700","Combinatieregel ",null,"STUKS","mw WK099 38mm, PEFC-CS HW",null,null,"","","BALKON","BS","099","","","Order","PEFCCSHW",false,"","",0,0,38,"",false,false,false,975.21,1180,{"$f":"ROUND(SUMIF('Combination lines'!$A:$H,Report!$AE6683,'Combination lines'!$H:$H),2)","v":975.21},null,172700,""]
["WK173890","Combinatieregel ",null,"","mw WK8041-6 ruits 54mm, PEFC-CS PHW",null,null,"","","BALKON","BS","8041","6 RUITS","","Order","PEFCCSPHW",false,"","",0,0,54,"",false,false,false,944.6200000000001,1143,{"$f":"ROUND(SUMIF('Combination lines'!$A:$H,Report!$AE6688,'Combination lines'!$H:$H),2)","v":944.62},null,173890,""]
["WK174010","Combinatieregel ",null,"","mw WK014 54mm, PEFC-CS PHW, incl. ventilatiesleuven en vlakke iso-glaslatten",null,null,"","","BALKON","SS","014","","","Order","PEFCCSPHW",false,"","",0,0,54,"",false,false,false,776.86,940,{"$f":"ROUND(SUMIF('Combination lines'!$A:$H,Report!$AE6700,'Combination lines'!$H:$H),2)","v":776.86},null,174010,""]
["WK174040","Combinatieregel ",null,"","mw WK017 54mm, PEFC-CS PHW, incl. ventilatiesleuven en vlakke iso-glaslatten",null,null,"","","BALKON","SS","017","","","Order","PEFCCSPHW",false,"","",0,0,54,"",false,false,false,902.48,1092,{"$f":"ROUND(SUMIF('Combination lines'!$A:$H,Report!$AE6703,'Combination lines'!$H:$H),2)","v":902.48},null,174040,""]
["WK174130","Combinatieregel ",null,"","mw WK042-3 ruits 54mm, PEFC-CS PHW",null,null,"","","BALKON","BS","042","3 RUITS","","Order","PEFCCSPHW",false,"","",0,0,54,"",false,false,false,836.36,1012,{"$f":"ROUND(SUMIF('Combination lines'!$A:$H,Report!$AE6711,'Combination lines'!$H:$H),2)","v":836.36},null,174130,""]
["WK174200","Combinatieregel ",null,"","mw WK046-6 ruits 54mm, PEFC-CS PHW",null,null,"","","BALKON","BS","046","6 RUITS","","Order","PEFCCSPHW",false,"","",0,0,54,"",false,false,false,1037.18,1255,{"$f":"ROUND(SUMIF('Combination lines'!$A:$H,Report!$AE6715,'Combination lines'!$H:$H),2)","v":1037.18},null,174200,""]
["WK174310","Combinatieregel ",null,"","mw WK051 54mm, PEFC-CS PHW, incl. ventilatiesleuven en vlakke iso-glaslatten",null,null,"","","BALKON","BS","051","","","Order","PEFCCSPHW",false,"","",0,0,54,"",false,false,false,1178.51,1426,{"$f":"ROUND(SUMIF('Combination lines'!$A:$H,Report!$AE6722,'Combination lines'!$H:$H),2)","v":1178.51},null,174310,""]
["WK174380","Combinatieregel ",null,"","mw WK0126 54mm, PEFC-CS PHW, incl. ventilatiesleuven en vlakke iso-glaslatten",null,null,"","","BALKON","BS","126","","","Order","PEFCCSPHW",false,"","",0,0,54,"",false,false,false,833.8800000000001,1009,{"$f":"ROUND(SUMIF('Combination lines'!$A:$H,Report!$AE6727,'Combination lines'!$H:$H),2)","v":833.88},null,174380,""]
["WK174490","Combinatieregel ",null,"","mw WK222 54mm, PEFC-CS PHW, incl. ventilatiesleuven en vlakke iso-glaslatten",null,null,"","","BALKON","SS","222","","","Order","PEFCCSPHW",false,"","",0,0,54,"",false,false,false,947.9300000000001,1147,{"$f":"ROUND(SUMIF('Combination lines'!$A:$H,Report!$AE6735,'Combination lines'!$H:$H),2)","v":947.93},null,174490,""]
["WK174710","Combinatieregel ",null,"","mw WK7115 54mm, PEFC-CS PHW, incl. ventilatiesleuven en vlakke iso-glaslatten",null,null,"","","BALKON","BS","7115","","","Order","PEFCCSPHW",false,"","",0,0,54,"",false,false,false,1401.6399999999999,1696,{"$f":"ROUND(SUMIF('Combination lines'!$A:$H,Report!$AE6746,'Combination lines'!$H:$H),2)","v":1401.64},null,174710,""]
["WK174820","Combinatieregel ",null,"","mw WK7412 54mm, PEFC-CS PHW, incl. ventilatiesleuven en vlakke iso-glaslatten",null,null,"","","BALKON","BS","7412","","","Order","PEFCCSPHW",false,"","",0,0,54,"",false,false,false,1663.64,2013,{"$f":"ROUND(SUMIF('Combination lines'!$A:$H,Report!$AE6752,'Combination lines'!$H:$H),2)","v":1663.64},null,174820,""]
["WK174880","Combinatieregel ",null,"","mw WK8171 54mm, PEFC-CS PHW, incl. ventilatiesleuven en vlakke iso-glaslatten",null,null,"","","BALKON","BS","8171","","","Order","PEFCCSPHW",false,"","",0,0,54,"",false,false,false,1590.08,1924,{"$f":"ROUND(SUMIF('Combination lines'!$A:$H,Report!$AE6758,'Combination lines'!$H:$H),2)","v":1590.08},null,174880,""]
["WK174940","Combinatieregel ",null,"STUKS","mw WK3501 54mm, PEFC-CS PHW, strakke panelen",null,null,"","","BALKON","BS","3501DT6","","","Order","PEFCCSPHW",false,"","",0,0,54,"",false,false,false,2205.79,2669,{"$f":"ROUND(SUMIF('Combination lines'!$A:$H,Report!$AE6763,'Combination lines'!$H:$H),2)","v":2205.79},null,174940,""]
["WK174970","Combinatieregel ",null,"STUKS","mw WK3501 54mm, PEFC-CS PHW, traditionele panelen",null,null,"","","BALKON","BS","3501DT4","","","Order","PEFCCSPHW",false,"","",0,0,54,"",false,false,false,2205.79,2669,{"$f":"ROUND(SUMIF('Combination lines'!$A:$H,Report!$AE6766,'Combination lines'!$H:$H),2)","v":2205.79},null,174970,""]
["WK175810","Combinatieregel ",null,"STUKS","mw WK8191-4 ruits 54mm, PEFC-CS HW, incl. ventilatiesleuven en vlakke iso-glaslatten",null,null,"","","BALKON","BS","8191","4 RUITS","","Order","PEFCCSHW",false,"","",0,0,54,"",false,false,false,1603.3,1940,{"$f":"ROUND(SUMIF('Combination lines'!$A:$H,Report!$AE6774,'Combination lines'!$H:$H),2)","v":1603.3},null,175810,""]
["WK175920","Combinatieregel ",null,"STUKS","mw WK044 54mm, PEFC-CS HW, incl. ventilatiesleuven en vlakke iso-glaslatten",null,null,"","","BALKON","BS","044","","","Order","PEFCCSHW",false,"","",0,0,54,"",false,false,false,741.32,897,{"$f":"ROUND(SUMIF('Combination lines'!$A:$H,Report!$AE6785,'Combination lines'!$H:$H),2)","v":741.32},null,175920,""]
["WK175940","Combinatieregel ",null,"STUKS","mw WK046 54mm, PEFC-CS HW, incl. ventilatiesleuven en vlakke iso-glaslatten",null,null,"","","BALKON","BS","046","","","Order","PEFCCSHW",false,"","",0,0,54,"",false,false,false,816.53,988,{"$f":"ROUND(SUMIF('Combination lines'!$A:$H,Report!$AE6787,'Combination lines'!$H:$H),2)","v":816.53},null,175940,""]
["WK176040","Combinatieregel ",null,"STUKS","mw WK7122 54mm, PEFC-CS HW, incl. ventilatiesleuven en vlakke iso-glaslatten",null,null,"","","BALKON","BS","7122","","","Order","PEFCCSHW",false,"","",0,0,54,"",false,false,false,915.7,1108,{"$f":"ROUND(SUMIF('Combination lines'!$A:$H,Report!$AE6797,'Combination lines'!$H:$H),2)","v":915.7},null,176040,""]
["WK176110","Combinatieregel ",null,"STUKS","mw WK7711 54mm, PEFC-CS HW, incl. ventilatiesleuven en vlakke iso-glaslatten",null,null,"","","BALKON","BS","7711","","","Order","PEFCCSHW",false,"","",0,0,54,"",false,false,false,1766.1100000000001,2137,{"$f":"ROUND(SUMIF('Combination lines'!$A:$H,Report!$AE6804,'Combination lines'!$H:$H),2)","v":1766.11},null,176110,""]
["WK176160","Combinatieregel ",null,"STUKS","mw WK020 54mm, PEFC-CS HW, incl. ventilatiesleuven en vlakke iso-glaslatten",null,null,"","","BALKON","SS","020","","","Order","PEFCCSHW",false,"","",0,0,54,"",false,false,false,1001.6500000000001,1212,{"$f":"ROUND(SUMIF('Combination lines'!$A:$H,Report!$AE6809,'Combination lines'!$H:$H),2)","v":1001.65},null,176160,""]
["WK176220","Combinatieregel ",null,"STUKS","mw WK322 54mm, PEFC-CS HW, incl. ventilatiesleuven en vlakke iso-glaslatten",null,null,"","","BALKON","SS","322","","","Order","PEFCCSHW",false,"","",0,0,54,"",false,false,false,976.02,1181,{"$f":"ROUND(SUMIF('Combination lines'!$A:$H,Report!$AE6815,'Combination lines'!$H:$H),2)","v":976.02},null,176220,""]
["WK176310","Combinatieregel ",null,"STUKS","mw WK334 54mm, PEFC-CS HW, incl. ventilatiesleuven en vlakke iso-glaslatten",null,null,"","","BALKON","BS","334","","","Order","PEFCCSHW",false,"","",0,0,54,"",false,false,false,1079.33,1306,{"$f":"ROUND(SUMIF('Combination lines'!$A:$H,Report!$AE6824,'Combination lines'!$H:$H),2)","v":1079.33},null,176310,""]
["WK176330","Combinatieregel ",null,"STUKS","mw WK8081 54mm, PEFC-CS HW, incl. ventilatiesleuven en vlakke iso-glaslatten",null,null,"","","BALKON","BS","8081","","","Order","PEFCCSHW",false,"","",0,0,54,"",false,false,false,820.6600000000001,993,{"$f":"ROUND(SUMIF('Combination lines'!$A:$H,Report!$AE6826,'Combination lines'!$H:$H),2)","v":820.66},null,176330,""]
["WK176880","Combinatieregel ",null,"STUKS","mw WK012 68mm, PEFC-CS HW, incl. ventilatiesleuven en vlakke iso-glaslatten",null,null,"","","BALKON","SS","012","","","Order","PEFCCSHW",false,"","",0,0,68,"",false,false,false,854.5500000000001,1034,{"$f":"ROUND(SUMIF('Combination lines'!$A:$H,Report!$AE6836,'Combination lines'!$H:$H),2)","v":854.55},null,176880,""]
["WK176950","Combinatieregel ",null,"STUKS","mw WK019 68mm, PEFC-CS HW, incl. ventilatiesleuven en vlakke iso-glaslatten",null,null,"","","BALKON","SS","019","","","Order","PEFCCSHW",false,"","",0,0,68,"",false,false,false,1280.99,1550,{"$f":"ROUND(SUMIF('Combination lines'!$A:$H,Report!$AE6843,'Combination lines'!$H:$H),2)","v":1280.99},null,176950,""]
["WK177000","Combinatieregel ",null,"STUKS","mw WK044 68mm, PEFC-CS HW, incl. ventilatiesleuven en vlakke iso-glaslatten",null,null,"","","BALKON","BS","044","","","Order","PEFCCSHW",false,"","",0,0,68,"",false,false,false,1029.75,1246,{"$f":"ROUND(SUMIF('Combination lines'!$A:$H,Report!$AE6848,'Combination lines'!$H:$H),2)","v":1029.75},null,177000,""]
["WK177080","Combinatieregel ",null,"STUKS","mw WK122 68mm, PEFC-CS HW, incl. ventilatiesleuven en vlakke iso-glaslatten",null,null,"","","BALKON","SS","122","","","Order","PEFCCSHW",false,"","",0,0,68,"",false,false,false,1008.26,1220,{"$f":"ROUND(SUMIF('Combination lines'!$A:$H,Report!$AE6856,'Combination lines'!$H:$H),2)","v":1008.26},null,177080,""]
["WK177140","Combinatieregel ",null,"STUKS","mw WK224 68mm, PEFC-CS HW, incl. ventilatiesleuven en vlakke iso-glaslatten",null,null,"","","BALKON","BS","224","","","Order","PEFCCSHW",false,"","",0,0,68,"",false,false,false,1233.88,1493,{"$f":"ROUND(SUMIF('Combination lines'!$A:$H,Report!$AE6860,'Combination lines'!$H:$H),2)","v":1233.88},null,177140,""]
["WK177210","Combinatieregel ",null,"STUKS","mw WK8151 68mm, PEFC-CS HW, incl. ventilatiesleuven en vlakke iso-glaslatten",null,null,"","","BALKON","BS","8151","","","Order","PEFCCSHW",false,"","",0,0,68,"",false,false,false,1822.31,2205,{"$f":"ROUND(SUMIF('Combination lines'!$A:$H,Report!$AE6867,'Combination lines'!$H:$H),2)","v":1822.31},null,177210,""]
["WK180780","Combinatieregel ",null,"STUKS","mw WK4046 38mm, PEFC-CS PHW, dubbel",null,null,"","","LUXBUITEN","TD","4046","","","Order","PEFCCSPHW",false,"","",0,0,38,"",false,false,false,1758.68,2128,{"$f":"ROUND(SUMIF('Combination lines'!$A:$H,Report!$AE6875,'Combination lines'!$H:$H),2)","v":1758.68},null,180780,"C010"]
["WK180810","Combinatieregel ",null,"STUKS","mw WK4151 38mm, PEFC-CS PHW, dubbel",null,null,"","","LUXBUITEN","TD","4151","","","Order","PEFCCSPHW",false,"","",0,0,38,"",false,false,false,1373.56,1662,{"$f":"ROUND(SUMIF('Combination lines'!$A:$H,Report!$AE6878,'Combination lines'!$H:$H),2)","v":1373.56},null,180810,"C010"]
["WK180910","Combinatieregel ",null,"","mw WK1361-2 38mm, PEFC-CS PHW",null,null,"","","LUXBUITEN","VD","1361-2","","","Order","PEFCCSPHW",false,"","",0,0,38,"",false,false,false,2913.2200000000003,3525,{"$f":"ROUND(SUMIF('Combination lines'!$A:$H,Report!$AE6887,'Combination lines'!$H:$H),2)","v":2913.22},null,180910,""]
["WK181050","Combinatieregel ",null,"","mw WK1382-1 38mm, PEFC-CS PHW",null,null,"","","LUXBUITEN","VD","1382-1","","","Order","PEFCCSPHW",false,"","",0,0,38,"",false,false,false,3715.7,4496,{"$f":"ROUND(SUMIF('Combination lines'!$A:$H,Report!$AE6895,'Combination lines'!$H:$H),2)","v":3715.7},null,181050,""]
["WK181090","Combinatieregel ",null,"","mw WK1391-2 38mm, PEFC-CS PHW",null,null,"","","LUXBUITEN","VD","1391-2","","","Order","PEFCCSPHW",false,"","",0,0,38,"",false,false,false,2778.5099999999998,3362,{"$f":"ROUND(SUMIF('Combination lines'!$A:$H,Report!$AE6899,'Combination lines'!$H:$H),2)","v":2778.51},null,181090,""]
["WK181310","Combinatieregel ",null,"","mw WK1532 38mm, PEFC-CS PHW",null,null,"","","LUXBUITEN","VD","1532","","","Order","PEFCCSPHW",false,"","",0,0,38,"",false,false,false,2691.7400000000002,3257,{"$f":"ROUND(SUMIF('Combination lines'!$A:$H,Report!$AE6908,'Combination lines'!$H:$H),2)","v":2691.74},null,181310,""]
["WK181340","Combinatieregel ",null,"","mw WK1542 38mm, PEFC-CS PHW",null,null,"","","LUXBUITEN","VD","1542","","","Order","PEFCCSPHW",false,"","",0,0,38,"",false,false,false,1516.53,1835,{"$f":"ROUND(SUMIF('Combination lines'!$A:$H,Report!$AE6911,'Combination lines'!$H:$H),2)","v":1516.53},null,181340,""]
["WK181500","Combinatieregel ",null,"","mw WK1622-1 38mm, PEFC-CS PHW",null,null,"","","LUXBUITEN","VD","1622-1","","","Order","PEFCCSPHW",false,"","",0,0,38,"",false,false,false,3551.24,4297,{"$f":"ROUND(SUMIF('Combination lines'!$A:$H,Report!$AE6919,'Combination lines'!$H:$H),2)","v":3551.24},null,181500,""]
["WK181680","Combinatieregel ",null,"","mw WK1715 38mm, PEFC-CS PHW",null,null,"","","LUXBUITEN","VD","1715","","","Order","PEFCCSPHW",false,"","",0,0,38,"",false,false,false,1979.34,2395,{"$f":"ROUND(SUMIF('Combination lines'!$A:$H,Report!$AE6926,'Combination lines'!$H:$H),2)","v":1979.34},null,181680,""]
["WK181730","Combinatieregel ",null,"","mw WK1724 38mm, PEFC-CS PHW",null,null,"","","LUXBUITEN","VD","1724","","","Order","PEFCCSPHW",false,"","",0,0,38,"",false,false,false,1974.3799999999999,2389,{"$f":"ROUND(SUMIF('Combination lines'!$A:$H,Report!$AE6930,'Combination lines'!$H:$H),2)","v":1974.38},null,181730,""]
["WK181890","Combinatieregel ",null,"","mw WK1843 38mm, PEFC-CS PHW",null,null,"","","LUXBUITEN","VD","1843","","","Order","PEFCCSPHW",false,"","",0,0,38,"",false,false,false,1866.94,2259,{"$f":"ROUND(SUMIF('Combination lines'!$A:$H,Report!$AE6938,'Combination lines'!$H:$H),2)","v":1866.94},null,181890,""]
["WK182100","Combinatieregel ",null,"","mw WK2132 38mm, PEFC-CS PHW",null,null,"","","LUXBUITEN","DD","2132","","","Order","PEFCCSPHW",false,"","",0,0,38,"",false,false,false,1773.56,2146,{"$f":"ROUND(SUMIF('Combination lines'!$A:$H,Report!$AE6947,'Combination lines'!$H:$H),2)","v":1773.56},null,182100,""]
["WK182140","Combinatieregel ",null,"","mw WK1143 38mm, PEFC-CS PHW",null,null,"","","LUXBUITEN","VNM","1143","","","Order","PEFCCSPHW",false,"","",0,0,38,"",false,false,false,1907.44,2308,{"$f":"ROUND(SUMIF('Combination lines'!$A:$H,Report!$AE6950,'Combination lines'!$H:$H),2)","v":1907.44},null,182140,""]
["WK182530","Combinatieregel ",null,"","mw WK2525 38mm, PEFC-CS PHW",null,null,"","","LUXBUITEN","DD","2525","","","Order","PEFCCSPHW",false,"","",0,0,38,"",false,false,false,1690.92,2046,{"$f":"ROUND(SUMIF('Combination lines'!$A:$H,Report!$AE6960,'Combination lines'!$H:$H),2)","v":1690.92},null,182530,""]
["WK182550","Combinatieregel ",null,"","mw WK2532 38mm, PEFC-CS PHW",null,null,"","","LUXBUITEN","DD","2532","","","Order","PEFCCSPHW",false,"","",0,0,38,"",false,false,false,1882.6499999999999,2278,{"$f":"ROUND(SUMIF('Combination lines'!$A:$H,Report!$AE6962,'Combination lines'!$H:$H),2)","v":1882.65},null,182550,""]
["WK182860","Combinatieregel ",null,"","mw WK1221 38mm, PEFC-CS PHW",null,null,"","","LUXBUITEN","VD","1221","","","Order","PEFCCSPHW",false,"","",0,0,38,"",false,false,false,2191.7400000000002,2652,{"$f":"ROUND(SUMIF('Combination lines'!$A:$H,Report!$AE6971,'Combination lines'!$H:$H),2)","v":2191.74},null,182860,""]
["WK182910","Combinatieregel ",null,"","mw WK1231 38mm, PEFC-CS PHW",null,null,"","","LUXBUITEN","VD","1231","","","Order","PEFCCSPHW",false,"","",0,0,38,"",false,false,false,2022.32,2447,{"$f":"ROUND(SUMIF('Combination lines'!$A:$H,Report!$AE6974,'Combination lines'!$H:$H),2)","v":2022.32},null,182910,""]
["WK183010","Combinatieregel ",null,"","mw WK1282 38mm, PEFC-CS PHW",null,null,"","","LUXBUITEN","VD","1282","","","Order","PEFCCSPHW",false,"","",0,0,38,"",false,false,false,3116.53,3771,{"$f":"ROUND(SUMIF('Combination lines'!$A:$H,Report!$AE6982,'Combination lines'!$H:$H),2)","v":3116.53},null,183010,""]
["WK183160","Combinatieregel ",null,"","mw WK1118 38mm, PEFC-CS PHW",null,null,"","","LUXBUITEN","VNM","1118-1","","","Order","PEFCCSPHW",false,"","",0,0,38,"",false,false,false,3168.59,3834,{"$f":"ROUND(SUMIF('Combination lines'!$A:$H,Report!$AE6989,'Combination lines'!$H:$H),2)","v":3168.59},null,183160,""]
["WK183260","Combinatieregel ",null,"","mw WK1147 38mm, PEFC-CS PHW",null,null,"","","LUXBUITEN","VNM","1147","","","Order","PEFCCSPHW",false,"","",0,0,38,"",false,false,false,2508.2799999999997,3035,{"$f":"ROUND(SUMIF('Combination lines'!$A:$H,Report!$AE6999,'Combination lines'!$H:$H),2)","v":2508.28},null,183260,""]
["WK185420","Combinatieregel ",null,"","mw WK4010 10-ruits 38mm, PEFC-CS PHW, dubbel",null,null,"","","LUXBUITEN","TD","4010","10 RUITS","","Order","PEFCCSPHW",false,"","",0,0,38,"",false,false,false,1618.18,1958,{"$f":"ROUND(SUMIF('Combination lines'!$A:$H,Report!$AE7001,'Combination lines'!$H:$H),2)","v":1618.18},null,185420,""]
["WK185530","Combinatieregel ",null,"","mw WK4376 6-ruits 38mm, PEFC-CS PHW, dubbel",null,null,"","","LUXBUITEN","TD","4376","6 RUITS","","Order","PEFCCSPHW",false,"","",0,0,38,"",false,false,false,1930.58,2336,{"$f":"ROUND(SUMIF('Combination lines'!$A:$H,Report!$AE7012,'Combination lines'!$H:$H),2)","v":1930.58},null,185530,""]
["WK185540","Combinatieregel ",null,"","mw WK4558 8-ruits 38mm, PEFC-CS PHW, dubbel",null,null,"","","LUXBUITEN","TD","4558","8 RUITS","","Order","PEFCCSPHW",false,"","",0,0,38,"",false,false,false,1952.06,2362,{"$f":"ROUND(SUMIF('Combination lines'!$A:$H,Report!$AE7013,'Combination lines'!$H:$H),2)","v":1952.06},null,185540,""]
["WK185640","Combinatieregel ",null,"STUKS","mw WK4081 38mm, PEFC-CS PHW, dubbel",null,null,"","","LUXBUITEN","TD","4081","","","Order","PEFCCSPHW",false,"","",0,0,38,"",false,false,false,1530.58,1852,{"$f":"ROUND(SUMIF('Combination lines'!$A:$H,Report!$AE7023,'Combination lines'!$H:$H),2)","v":1530.58},null,185640,""]
["WK185760","Combinatieregel ",null,"STUKS","mw WK4010 38mm, PEFC-CS PHW",null,null,"","","LUXBUITEN","TD","4010","","","Order","PEFCCSPHW",false,"","",0,0,38,"",false,false,false,930.58,1126,{"$f":"ROUND(SUMIF('Combination lines'!$A:$H,Report!$AE7032,'Combination lines'!$H:$H),2)","v":930.58},null,185760,""]
["WK185780","Combinatieregel ",null,"STUKS","mw WK4018 38mm, PEFC-CS PHW",null,null,"","","LUXBUITEN","TD","4018","","","Order","PEFCCSPHW",false,"","",0,0,38,"",false,false,false,866.12,1048,{"$f":"ROUND(SUMIF('Combination lines'!$A:$H,Report!$AE7034,'Combination lines'!$H:$H),2)","v":866.12},null,185780,""]
["WK185840","Combinatieregel ",null,"STUKS","mw WK4041 38mm, PEFC-CS PHW",null,null,"","","LUXBUITEN","TD","4041","","","Order","PEFCCSPHW",false,"","",0,0,38,"",false,false,false,660.33,799,{"$f":"ROUND(SUMIF('Combination lines'!$A:$H,Report!$AE7040,'Combination lines'!$H:$H),2)","v":660.33},null,185840,""]
["WK185950","Combinatieregel ",null,"STUKS","mw WK4094 38mm, PEFC-CS PHW",null,null,"","","LUXBUITEN","TD","4094","","","Order","PEFCCSPHW",false,"","",0,0,38,"",false,false,false,950.42,1150,{"$f":"ROUND(SUMIF('Combination lines'!$A:$H,Report!$AE7051,'Combination lines'!$H:$H),2)","v":950.42},null,185950,""]
["WK185960","Combinatieregel ",null,"STUKS","mw WK4151 38mm, PEFC-CS PHW",null,null,"","","LUXBUITEN","TD","4151","","","Order","PEFCCSPHW",false,"","",0,0,38,"",false,false,false,686.78,831,{"$f":"ROUND(SUMIF('Combination lines'!$A:$H,Report!$AE7052,'Combination lines'!$H:$H),2)","v":686.78},null,185960,""]
["WK186080","Combinatieregel ",null,"STUKS","mw WK4228 38mm, PEFC-CS PHW",null,null,"","","LUXBUITEN","TD","4228","","","Order","PEFCCSPHW",false,"","",0,0,38,"",false,false,false,1018.1800000000001,1232,{"$f":"ROUND(SUMIF('Combination lines'!$A:$H,Report!$AE7064,'Combination lines'!$H:$H),2)","v":1018.18},null,186080,""]
["WK186150","Combinatieregel ",null,"STUKS","mw WK4558 38mm, PEFC-CS PHW",null,null,"","","LUXBUITEN","TD","4558","","","Order","PEFCCSPHW",false,"","",0,0,38,"",false,false,false,1097.52,1328,{"$f":"ROUND(SUMIF('Combination lines'!$A:$H,Report!$AE7071,'Combination lines'!$H:$H),2)","v":1097.52},null,186150,""]
["WK186220","Combinatieregel ",null,"STUKS","mw WK5226 38mm, PEFC-CS PHW",null,null,"","","LUXBUITEN","TD","5226","","","Order","PEFCCSPHW",false,"","",0,0,38,"",false,false,false,1966.95,2380,{"$f":"ROUND(SUMIF('Combination lines'!$A:$H,Report!$AE7075,'Combination lines'!$H:$H),2)","v":1966.95},null,186220,""]
["WK186300","Combinatieregel ",null,"STUKS","mw WK1437 38mm, PEFC-CS PHW",null,null,"","","LUXBUITEN","VD","1437","","","Order","PEFCCSPHW",false,"","",0,0,38,"",false,false,false,1544.6299999999999,1869,{"$f":"ROUND(SUMIF('Combination lines'!$A:$H,Report!$AE7083,'Combination lines'!$H:$H),2)","v":1544.63},null,186300,"A010"]
["WK186330","Combinatieregel ",null,"STUKS","mw WK1550 38mm, PEFC-CS PHW",null,null,"","","LUXBUITEN","VD","1550","","","Order","PEFCCSPHW",false,"STOMP","",0,0,38,"",false,false,false,1465.29,1773,{"$f":"ROUND(SUMIF('Combination lines'!$A:$H,Report!$AE7086,'Combination lines'!$H:$H),2)","v":1465.29},null,186330,"A010"]
["WK186470","Combinatieregel ",null,"STUKS","mw WK4023 38mm, PEFC-CS PHW",null,null,"","","LUXBUITEN","TD","4023","","","Order","PEFCCSPHW",false,"","",0,0,38,"",false,false,false,714.88,865,{"$f":"ROUND(SUMIF('Combination lines'!$A:$H,Report!$AE7091,'Combination lines'!$H:$H),2)","v":714.88},null,186470,""]
["WK187060","Combinatieregel ",null,"STUKS","mw WK4171 54mm, PEFC-CS Premium Hardwood, dubbel",null,null,"","","LUXBUITEN","TD","4171","","","Order","PEFCCSPHW",false,"","",0,0,54,"",false,false,false,1976.88,2392,{"$f":"ROUND(SUMIF('Combination lines'!$A:$H,Report!$AE7103,'Combination lines'!$H:$H),2)","v":1976.88},null,187060,"C010"]
["WK189560","Combinatieregel ",null,"","mw WK1116 54mm, PEFC-CS Premium Hardwood",null,null,"","","LUXBUITEN","VNM","1116","","","Order","PEFCCSPHW",false,"","",0,0,54,"",false,false,false,3037.19,3675,{"$f":"ROUND(SUMIF('Combination lines'!$A:$H,Report!$AE7110,'Combination lines'!$H:$H),2)","v":3037.19},null,189560,""]
["WK189640","Combinatieregel ",null,"","mw WK1133 54mm, PEFC-CS Premium Hardwood",null,null,"","","LUXBUITEN","VNM","1133","","","Order","PEFCCSPHW",false,"","",0,0,54,"",false,false,false,3895.05,4713,{"$f":"ROUND(SUMIF('Combination lines'!$A:$H,Report!$AE7114,'Combination lines'!$H:$H),2)","v":3895.05},null,189640,""]
["WK189760","Combinatieregel ",null,"","mw WK1223 54mm, PEFC-CS Premium Hardwood",null,null,"","","LUXBUITEN","VD","1223","","","Order","PEFCCSPHW",false,"","",0,0,54,"",false,false,false,2368.6000000000004,2866,{"$f":"ROUND(SUMIF('Combination lines'!$A:$H,Report!$AE7122,'Combination lines'!$H:$H),2)","v":2368.6},null,189760,""]
["WK189810","Combinatieregel ",null,"","mw WK1242 54mm, PEFC-CS Premium Hardwood",null,null,"","","LUXBUITEN","VD","1242","","","Order","PEFCCSPHW",false,"","",0,0,54,"",false,false,false,2271.9100000000003,2749,{"$f":"ROUND(SUMIF('Combination lines'!$A:$H,Report!$AE7127,'Combination lines'!$H:$H),2)","v":2271.91},null,189810,""]
["WK189920","Combinatieregel ",null,"","mw WK1321 54mm, PEFC-CS Premium Hardwood",null,null,"","","LUXBUITEN","VD","1321","","","Order","PEFCCSPHW",false,"","",0,0,54,"",false,false,false,2698.3500000000004,3265,{"$f":"ROUND(SUMIF('Combination lines'!$A:$H,Report!$AE7134,'Combination lines'!$H:$H),2)","v":2698.35},null,189920,""]
["WK189970","Combinatieregel ",null,"","mw WK1364 54mm, PEFC-CS Premium Hardwood",null,null,"","","LUXBUITEN","VD","1364","","","Order","PEFCCSPHW",false,"","",0,0,54,"",false,false,false,3080.17,3727,{"$f":"ROUND(SUMIF('Combination lines'!$A:$H,Report!$AE7138,'Combination lines'!$H:$H),2)","v":3080.17},null,189970,""]
["WK190140","Combinatieregel ",null,"","mw WK1433 54mm, PEFC-CS Premium Hardwood",null,null,"","","LUXBUITEN","DD","1433","","","Order","PEFCCSPHW",false,"","",0,0,54,"",false,false,false,2400.84,2905,{"$f":"ROUND(SUMIF('Combination lines'!$A:$H,Report!$AE7149,'Combination lines'!$H:$H),2)","v":2400.84},null,190140,""]
["WK190270","Combinatieregel ",null,"","mw WK1555 54mm, PEFC-CS Premium Hardwood",null,null,"","","LUXBUITEN","VD","1555","","","Order","PEFCCSPHW",false,"","",0,0,54,"",false,false,false,2693.39,3259,{"$f":"ROUND(SUMIF('Combination lines'!$A:$H,Report!$AE7155,'Combination lines'!$H:$H),2)","v":2693.39},null,190270,""]
["WK190360","Combinatieregel ",null,"","mw WK1642 54mm, PEFC-CS Premium Hardwood",null,null,"","","LUXBUITEN","VD","1642","","","Order","PEFCCSPHW",false,"","",0,0,54,"",false,false,false,1747.94,2115,{"$f":"ROUND(SUMIF('Combination lines'!$A:$H,Report!$AE7161,'Combination lines'!$H:$H),2)","v":1747.94},null,190360,""]
["WK190430","Combinatieregel ",null,"","mw WK1722 54mm, PEFC-CS Premium Hardwood",null,null,"","","LUXBUITEN","VD","1722","","","Order","PEFCCSPHW",false,"","",0,0,54,"",false,false,false,2026.45,2452,{"$f":"ROUND(SUMIF('Combination lines'!$A:$H,Report!$AE7166,'Combination lines'!$H:$H),2)","v":2026.45},null,190430,""]
["WK190570","Combinatieregel ",null,"","mw WK1832 54mm, PEFC-CS Premium Hardwood",null,null,"","","LUXBUITEN","VD","1832","","","Order","PEFCCSPHW",false,"","",0,0,54,"",false,false,false,2485.13,3007,{"$f":"ROUND(SUMIF('Combination lines'!$A:$H,Report!$AE7173,'Combination lines'!$H:$H),2)","v":2485.13},null,190570,""]
["WK190710","Combinatieregel ",null,"","mw WK2121 54mm, PEFC-CS Premium Hardwood",null,null,"","","LUXBUITEN","DD","2121","","","Order","PEFCCSPHW",false,"","",0,0,54,"",false,false,false,2057.8599999999997,2490,{"$f":"ROUND(SUMIF('Combination lines'!$A:$H,Report!$AE7179,'Combination lines'!$H:$H),2)","v":2057.86},null,190710,""]
["WK190790","Combinatieregel ",null,"","mw WK2144 54mm, PEFC-CS Premium Hardwood",null,null,"","","LUXBUITEN","DD","2144","","","Order","PEFCCSPHW",false,"","",0,0,54,"",false,false,false,2144.64,2595,{"$f":"ROUND(SUMIF('Combination lines'!$A:$H,Report!$AE7185,'Combination lines'!$H:$H),2)","v":2144.64},null,190790,""]
["WK191120","Combinatieregel ",null,"","mw WK2525 54mm, PEFC-CS Premium Hardwood",null,null,"","","LUXBUITEN","DD","2525","","","Order","PEFCCSPHW",false,"","",0,0,54,"",false,false,false,1940.51,2348,{"$f":"ROUND(SUMIF('Combination lines'!$A:$H,Report!$AE7190,'Combination lines'!$H:$H),2)","v":1940.51},null,191120,""]
["WK191220","Combinatieregel ",null,"","mw WK2549 54mm, PEFC-CS Premium Hardwood",null,null,"","","LUXBUITEN","DD","2549","","","Order","PEFCCSPHW",false,"","",0,0,54,"",false,false,false,2361.17,2857,{"$f":"ROUND(SUMIF('Combination lines'!$A:$H,Report!$AE7197,'Combination lines'!$H:$H),2)","v":2361.17},null,191220,""]
["WK191520","Combinatieregel ",null,"","mw WK1546 54mm, PEFC-CS Premium Hardwood",null,null,"","","LUXBUITEN","VD","1546","","","Order","PEFCCSPHW",false,"","",0,0,54,"",false,false,false,1794.22,2171,{"$f":"ROUND(SUMIF('Combination lines'!$A:$H,Report!$AE7207,'Combination lines'!$H:$H),2)","v":1794.22},null,191520,""]
["WK191580","Combinatieregel ",null,"STUKS","mw WK4011 54mm, PEFC-CS Premium Hardwood",null,null,"","","LUXBUITEN","TD","4011","","","Order","PEFCCSPHW",false,"","",0,0,54,"",false,false,false,828.9300000000001,1003,{"$f":"ROUND(SUMIF('Combination lines'!$A:$H,Report!$AE7212,'Combination lines'!$H:$H),2)","v":828.93},null,191580,""]
["WK191640","Combinatieregel ",null,"STUKS","mw WK4038 54mm, PEFC-CS Premium Hardwood",null,null,"","","LUXBUITEN","TD","4038","","","Order","PEFCCSPHW",false,"","",0,0,54,"",false,false,false,1166.1200000000001,1411,{"$f":"ROUND(SUMIF('Combination lines'!$A:$H,Report!$AE7218,'Combination lines'!$H:$H),2)","v":1166.12},null,191640,""]
["WK191700","Combinatieregel ",null,"STUKS","mw WK4061 54mm, PEFC-CS Premium Hardwood",null,null,"","","LUXBUITEN","TD","4061","","","Order","PEFCCSPHW",false,"","",0,0,54,"",false,false,false,963.64,1166,{"$f":"ROUND(SUMIF('Combination lines'!$A:$H,Report!$AE7224,'Combination lines'!$H:$H),2)","v":963.64},null,191700,""]
["WK191770","Combinatieregel ",null,"STUKS","mw WK4151 54mm, PEFC-CS Premium Hardwood",null,null,"","","LUXBUITEN","TD","4151","","","Order","PEFCCSPHW",false,"","",0,0,54,"",false,false,false,936.37,1133,{"$f":"ROUND(SUMIF('Combination lines'!$A:$H,Report!$AE7231,'Combination lines'!$H:$H),2)","v":936.37},null,191770,""]
["WK191820","Combinatieregel ",null,"STUKS","mw WK4171 54mm, PEFC-CS Premium Hardwood",null,null,"","","LUXBUITEN","TD","4171","","","Order","PEFCCSPHW",false,"","",0,0,54,"",false,false,false,988.44,1196,{"$f":"ROUND(SUMIF('Combination lines'!$A:$H,Report!$AE7236,'Combination lines'!$H:$H),2)","v":988.44},null,191820,""]
["WK191880","Combinatieregel ",null,"STUKS","mw WK4226 54mm, PEFC-CS Premium Hardwood",null,null,"","","LUXBUITEN","TD","4226","","","Order","PEFCCSPHW",false,"","",0,0,54,"",false,false,false,1200.83,1453,{"$f":"ROUND(SUMIF('Combination lines'!$A:$H,Report!$AE7242,'Combination lines'!$H:$H),2)","v":1200.83},null,191880,""]
["WK191940","Combinatieregel ",null,"STUKS","mw WK4428 54mm, PEFC-CS Premium Hardwood",null,null,"","","LUXBUITEN","TD","4428","","","Order","PEFCCSPHW",false,"","",0,0,54,"",false,false,false,1267.77,1534,{"$f":"ROUND(SUMIF('Combination lines'!$A:$H,Report!$AE7248,'Combination lines'!$H:$H),2)","v":1267.77},null,191940,""]
["WK192050","Combinatieregel ",null,"STUKS","mw WK1859 54mm, PEFC-CS Premium Hardwood",null,null,"","","LUXBUITEN","VD","1859","","","Order","PEFCCSPHW",false,"","",0,0,54,"",false,false,false,1842.98,2230,{"$f":"ROUND(SUMIF('Combination lines'!$A:$H,Report!$AE7259,'Combination lines'!$H:$H),2)","v":1842.98},null,192050,""]
["WK192140","Combinatieregel ",null,"STUKS","mw WK1549 54mm, PEFC-CS Premium Hardwood",null,null,"","","LUXBUITEN","VD","1549","","","Order","PEFCCSPHW",false,"STOMP","",0,0,54,"",false,false,false,1714.8799999999999,2075,{"$f":"ROUND(SUMIF('Combination lines'!$A:$H,Report!$AE7263,'Combination lines'!$H:$H),2)","v":1714.88},null,192140,"A010"]
["WK192320","Combinatieregel ",null,"STUKS","mw WK4623 54mm, PEFC-CS Premium Hardwood",null,null,"","","LUXBUITEN","TD","4623","","","Order","PEFCCSPHW",false,"","",0,0,54,"",false,false,false,926.45,1121,{"$f":"ROUND(SUMIF('Combination lines'!$A:$H,Report!$AE7270,'Combination lines'!$H:$H),2)","v":926.45},null,192320,""]
["WK193230","Combinatieregel ",null,"STUKS","mw WK3004 BioComfort®-R 54mm",null,null,"","","VLAK","BC_R","3004","","","Order","PEFCCSHW",false,"","",0,0,54,"",false,false,false,1114.8899999999999,1349,{"$f":"ROUND(SUMIF('Combination lines'!$A:$H,Report!$AE7275,'Combination lines'!$H:$H),2)","v":1114.89},null,193230,""]
["WK193310","Combinatieregel ",null,"STUKS","mw WK3016 BioComfort®-R 54mm",null,null,"","","VLAK","BC_R","3016","","","Order","PEFCCSHW",false,"","",0,0,54,"",false,false,false,1252.08,1515,{"$f":"ROUND(SUMIF('Combination lines'!$A:$H,Report!$AE7283,'Combination lines'!$H:$H),2)","v":1252.08},null,193310,""]
["WK193350","Combinatieregel ",null,"STUKS","mw WK3022 BioComfort®-R 54mm",null,null,"","","VLAK","BC_R","3022","","","Order","PEFCCSHW",false,"","",0,0,54,"",false,false,false,1258.69,1523,{"$f":"ROUND(SUMIF('Combination lines'!$A:$H,Report!$AE7287,'Combination lines'!$H:$H),2)","v":1258.69},null,193350,""]
["WK193420","Combinatieregel ",null,"STUKS","mw WK3042 BioComfort®-R 54mm",null,null,"","","VLAK","BC_R","3042","","","Order","PEFCCSHW",false,"","",0,0,54,"",false,false,false,1209.1,1463,{"$f":"ROUND(SUMIF('Combination lines'!$A:$H,Report!$AE7294,'Combination lines'!$H:$H),2)","v":1209.1},null,193420,""]
["WK193470","Combinatieregel ",null,"STUKS","mw WK3062 BioComfort®-R 54mm",null,null,"","","VLAK","BC_R","3062","","","Order","PEFCCSHW",false,"","",0,0,54,"",false,false,false,1239.6799999999998,1500,{"$f":"ROUND(SUMIF('Combination lines'!$A:$H,Report!$AE7299,'Combination lines'!$H:$H),2)","v":1239.68},null,193470,""]
["WK193590","Combinatieregel ",null,"STUKS","mw WK3082 BioComfort®-R 54mm",null,null,"","","VLAK","BC_R","3082","","","Order","PEFCCSHW",false,"","",0,0,54,"",false,false,false,1223.98,1481,{"$f":"ROUND(SUMIF('Combination lines'!$A:$H,Report!$AE7311,'Combination lines'!$H:$H),2)","v":1223.98},null,193590,""]
["WK193620","Combinatieregel ",null,"STUKS","mw WK3085 BioComfort®-R 54mm",null,null,"","","VLAK","BC_R","3085","","","Order","PEFCCSHW",false,"","",0,0,54,"",false,false,false,1437.1999999999998,1739,{"$f":"ROUND(SUMIF('Combination lines'!$A:$H,Report!$AE7314,'Combination lines'!$H:$H),2)","v":1437.2},null,193620,""]
["WK193840","Combinatieregel ",null,"","vrd WK1144 38mm, PEFC-CS Premium Hardwood",null,null,"","","LUXBUITEN","VNM","1144","","","Inventory","PEFCCSPHW",false,"","",0,0,38,"",false,false,false,1832.24,2217,{"$f":"ROUND(SUMIF('Combination lines'!$A:$H,Report!$AE7322,'Combination lines'!$H:$H),2)","v":1832.24},null,193840,""]
["WK193880","Combinatieregel ",null,"","vrd WK1545 38mm, PEFC-CS Premium Hardwood",null,null,"","","LUXBUITEN","VD","1545","","","Inventory","PEFCCSPHW",false,"","",0,0,38,"",false,false,false,1350.4199999999998,1634,{"$f":"ROUND(SUMIF('Combination lines'!$A:$H,Report!$AE7326,'Combination lines'!$H:$H),2)","v":1350.42},null,193880,""]
["WK193950","Combinatieregel ",null,"STUKS","vrd WK1611 38mm, PEFC-CS Premium Hardwood",null,null,"","","LUXBUITEN","VD","1611","","","Inventory","PEFCCSPHW",false,"STOMP","",0,0,38,"",false,false,false,1780.1699999999998,2154,{"$f":"ROUND(SUMIF('Combination lines'!$A:$H,Report!$AE7333,'Combination lines'!$H:$H),2)","v":1780.17},null,193950,""]
["WK199480","Combinatieregel ",null,"","mw WK6340-C blank glas stomp",null,null,"","","BINNEN","MODERN","6340","BLANK","","Order","MDF",true,"STOMP","",0,0,38,"",false,false,false,705.8,854,{"$f":"ROUND(SUMIF('Combination lines'!$A:$H,Report!$AE7338,'Combination lines'!$H:$H),2)","v":705.8},null,199480,""]
["WK199570","Combinatieregel ",null,"","mw WK6340-C brons getint glas opdek",null,null,"","","BINNEN","MODERN","6340","BRONS GETINT","","Order","MDF",true,"OPDEK","",0,0,38,"",false,true,false,888.45,1075,{"$f":"ROUND(SUMIF('Combination lines'!$A:$H,Report!$AE7346,'Combination lines'!$H:$H),2)","v":888.45},null,199570,""]
["WK199750","Combinatieregel ",null,"","mw WK6341-C zwart glas opdek",null,null,"","","BINNEN","MODERN","6341","ZWART","","Order","MDF",true,"OPDEK","",0,0,38,"",false,true,false,970.27,1174,{"$f":"ROUND(SUMIF('Combination lines'!$A:$H,Report!$AE7357,'Combination lines'!$H:$H),2)","v":970.27},null,199750,""]
["WK199880","Combinatieregel ",null,"","mw WK6342 C blank glas opdek",null,null,"","","BINNEN","MODERN","6342","BLANK","","Order","MDF",true,"OPDEK","",0,0,38,"",false,true,false,744.45,901,{"$f":"ROUND(SUMIF('Combination lines'!$A:$H,Report!$AE7363,'Combination lines'!$H:$H),2)","v":744.45},null,199880,""]
["WK199900","Combinatieregel ",null,"","mw WK6342-C grijs getint glas opdek",null,null,"","","BINNEN","MODERN","6342","GRIJS GETINT","","Order","MDF",true,"OPDEK","",0,0,38,"",false,true,false,914.7,1107,{"$f":"ROUND(SUMIF('Combination lines'!$A:$H,Report!$AE7365,'Combination lines'!$H:$H),2)","v":914.7},null,199900,""]
["WK200060","Combinatieregel ",null,"","mw WK6343 C mat gelaagd glas opdek",null,null,"","","BINNEN","MODERN","6343","MAT GELAAGD","","Order","MDF",true,"OPDEK","",0,0,38,"",false,true,false,834.73,1010,{"$f":"ROUND(SUMIF('Combination lines'!$A:$H,Report!$AE7374,'Combination lines'!$H:$H),2)","v":834.73},null,200060,""]
["WK200090","Combinatieregel ",null,"","mw WK6343-C zwart glas opdek",null,null,"","","BINNEN","MODERN","6343","ZWART","","Order","MDF",true,"OPDEK","",0,0,38,"",false,true,false,976.88,1182,{"$f":"ROUND(SUMIF('Combination lines'!$A:$H,Report!$AE7377,'Combination lines'!$H:$H),2)","v":976.88},null,200090,""]
["WK200240","Combinatieregel ",null,"","mw WK6344-C grijs getint glas opdek",null,null,"","","BINNEN","MODERN","6344","GRIJS GETINT","","Order","MDF",true,"OPDEK","",0,0,38,"",false,true,false,914.7,1107,{"$f":"ROUND(SUMIF('Combination lines'!$A:$H,Report!$AE7385,'Combination lines'!$H:$H),2)","v":914.7},null,200240,""]
["WK200420","Combinatieregel ",null,"","mw WK6370-C brons getint glas opdek",null,null,"","","BINNEN","MODERN","6370","BRONS GETINT","","Order","MDF",true,"OPDEK","",0,0,38,"",false,true,false,989.28,1197,{"$f":"ROUND(SUMIF('Combination lines'!$A:$H,Report!$AE7396,'Combination lines'!$H:$H),2)","v":989.28},null,200420,""]
["WK200500","Combinatieregel ",null,"","mw WK6371-C blank glas stomp",null,null,"","","BINNEN","MODERN","6371","BLANK","","Order","MDF",true,"STOMP","",0,0,38,"",false,false,false,913.24,1105,{"$f":"ROUND(SUMIF('Combination lines'!$A:$H,Report!$AE7398,'Combination lines'!$H:$H),2)","v":913.24},null,200500,""]
["WK200670","Combinatieregel ",null,"","mw WK6372-C blank glas stomp",null,null,"","","BINNEN","MODERN","6372","BLANK","","Order","MDF",true,"STOMP","",0,0,38,"",false,false,false,861.56,1042,{"$f":"ROUND(SUMIF('Combination lines'!$A:$H,Report!$AE7408,'Combination lines'!$H:$H),2)","v":861.56},null,200670,""]
["WK200750","Combinatieregel ",null,"","mw WK6372-C grijs getint glas opdek",null,null,"","","BINNEN","MODERN","6372","GRIJS GETINT","","Order","MDF",true,"OPDEK","",0,0,38,"",false,true,false,1044.21,1263,{"$f":"ROUND(SUMIF('Combination lines'!$A:$H,Report!$AE7415,'Combination lines'!$H:$H),2)","v":1044.21},null,200750,""]
["WK200860","Combinatieregel ",null,"","mw WK6373-C grijs getint glas stomp",null,null,"","","BINNEN","MODERN","6373","GRIJS GETINT","","Order","MDF",true,"STOMP","",0,0,38,"",false,false,false,1058.06,1280,{"$f":"ROUND(SUMIF('Combination lines'!$A:$H,Report!$AE7420,'Combination lines'!$H:$H),2)","v":1058.06},null,200860,""]
["WK200930","Combinatieregel ",null,"","mw WK6373-C brons getint glas opdek",null,null,"","","BINNEN","MODERN","6373","BRONS GETINT","","Order","MDF",true,"OPDEK","",0,0,38,"",false,true,false,1070.46,1295,{"$f":"ROUND(SUMIF('Combination lines'!$A:$H,Report!$AE7426,'Combination lines'!$H:$H),2)","v":1070.46},null,200930,""]
["WK201090","Combinatieregel ",null,"","mw WK6374-C grijs getint glas opdek",null,null,"","","BINNEN","MODERN","6374","GRIJS GETINT","","Order","MDF",true,"OPDEK","",0,0,38,"",false,true,false,1252.48,1516,{"$f":"ROUND(SUMIF('Combination lines'!$A:$H,Report!$AE7435,'Combination lines'!$H:$H),2)","v":1252.48},null,201090,""]
["WK201110","Combinatieregel ",null,"","mw WK6374-C zwart glas opdek",null,null,"","","BINNEN","MODERN","6374","ZWART","","Order","MDF",true,"OPDEK","",0,0,38,"",false,true,false,1340.9099999999999,1623,{"$f":"ROUND(SUMIF('Combination lines'!$A:$H,Report!$AE7437,'Combination lines'!$H:$H),2)","v":1340.91},null,201110,""]
["WK201310","Combinatieregel ",null,"STUKS","Maatwerk WK6306-EIK C blank glas opdek",null,null,"","","BINNEN","MODERN","6306-EIK","BLANK","","Order","FSCEIK",true,"OPDEK","",0,0,38,"",false,true,false,763.02,923,{"$f":"ROUND(SUMIF('Combination lines'!$A:$H,Report!$AE7447,'Combination lines'!$H:$H),2)","v":763.02},null,201310,""]
["WK201340","Combinatieregel ",null,"STUKS","Maatwerk WK6306-EIK C brons getint glas opdek",null,null,"","","BINNEN","MODERN","6306-EIK","BRONS GETINT","","Order","FSCEIK",true,"OPDEK","",0,0,38,"",false,true,false,933.27,1129,{"$f":"ROUND(SUMIF('Combination lines'!$A:$H,Report!$AE7450,'Combination lines'!$H:$H),2)","v":933.27},null,201340,""]
["WK201510","Combinatieregel ",null,"STUKS","Maatwerk WK6308-EIK C mat gelaagd glas opdek",null,null,"","","BINNEN","MODERN","6308-EIK","MAT GELAAGD","","Order","FSCEIK",true,"OPDEK","",0,0,38,"",false,true,false,914.8899999999999,1107,{"$f":"ROUND(SUMIF('Combination lines'!$A:$H,Report!$AE7459,'Combination lines'!$H:$H),2)","v":914.89},null,201510,""]
["WK201650","Combinatieregel ",null,"","Maatwerk WK6309-EIK C3 zwart glas stomp",null,null,"","","BINNEN","MODERN","6309-EIK","ZWART","","Order","FSCEIK",true,"STOMP","",0,0,38,"",false,false,false,889.6700000000001,1077,{"$f":"ROUND(SUMIF('Combination lines'!$A:$H,Report!$AE7467,'Combination lines'!$H:$H),2)","v":889.67},null,201650,""]
["WK201700","Combinatieregel ",null,"STUKS","Maatwerk WK6309-EIK C3 brons getint glas opdek",null,null,"","","BINNEN","MODERN","6309-EIK","BRONS GETINT","","Order","FSCEIK",true,"OPDEK","",0,0,38,"",false,true,false,843.39,1021,{"$f":"ROUND(SUMIF('Combination lines'!$A:$H,Report!$AE7471,'Combination lines'!$H:$H),2)","v":843.39},null,201700,""]
["WK201840","Combinatieregel ",null,"STUKS","Maatwerk WK6310-EIK C3 blank glas opdek",null,null,"","","BINNEN","MODERN","6310-EIK","BLANK","","Order","FSCEIK",true,"OPDEK","",0,0,38,"",false,true,false,781.21,945,{"$f":"ROUND(SUMIF('Combination lines'!$A:$H,Report!$AE7478,'Combination lines'!$H:$H),2)","v":781.21},null,201840,""]
["WK201980","Combinatieregel ",null,"","Maatwerk WK6311-EIK C3 brons getint glas stomp",null,null,"","","BINNEN","MODERN","6311-EIK","BRONS GETINT","","Order","FSCEIK",true,"STOMP","",0,0,38,"",false,false,false,1004.1499999999999,1215,{"$f":"ROUND(SUMIF('Combination lines'!$A:$H,Report!$AE7486,'Combination lines'!$H:$H),2)","v":1004.15},null,201980,""]
["WK202020","Combinatieregel ",null,"STUKS","Maatwerk WK6311-EIK C3 mat gelaagd glas opdek",null,null,"","","BINNEN","MODERN","6311-EIK","MAT GELAAGD","","Order","FSCEIK",true,"OPDEK","",0,0,38,"",false,true,false,962.8299999999999,1165,{"$f":"ROUND(SUMIF('Combination lines'!$A:$H,Report!$AE7489,'Combination lines'!$H:$H),2)","v":962.83},null,202020,""]
["WK202180","Combinatieregel ",null,"STUKS","Maatwerk WK6312-EIK C3 blank glas opdek",null,null,"","","BINNEN","MODERN","6312-EIK","BLANK","","Order","FSCEIK",true,"OPDEK","",0,0,38,"",false,true,false,870.8999999999999,1054,{"$f":"ROUND(SUMIF('Combination lines'!$A:$H,Report!$AE7498,'Combination lines'!$H:$H),2)","v":870.9},null,202180,""]
["WK202210","Combinatieregel ",null,"STUKS","Maatwerk WK6312-EIK C3 brons getint glas opdek",null,null,"","","BINNEN","MODERN","6312-EIK","BRONS GETINT","","Order","FSCEIK",true,"OPDEK","",0,0,38,"",false,true,false,1041.1499999999999,1260,{"$f":"ROUND(SUMIF('Combination lines'!$A:$H,Report!$AE7501,'Combination lines'!$H:$H),2)","v":1041.15},null,202210,""]
["WK202220","Combinatieregel ",null,"STUKS","Maatwerk WK6312-EIK C3 zwart glas opdek",null,null,"","","BINNEN","MODERN","6312-EIK","ZWART","","Order","FSCEIK",true,"OPDEK","",0,0,38,"",false,true,false,1129.58,1367,{"$f":"ROUND(SUMIF('Combination lines'!$A:$H,Report!$AE7502,'Combination lines'!$H:$H),2)","v":1129.58},null,202220,""]
["WK202290","Combinatieregel ",null,"","Maatwerk WK6313-EIK C blank glas stomp",null,null,"","","BINNEN","MODERN","6313-EIK","BLANK","","Order","FSCEIK",true,"STOMP","",0,0,38,"",false,false,false,770.26,932,{"$f":"ROUND(SUMIF('Combination lines'!$A:$H,Report!$AE7503,'Combination lines'!$H:$H),2)","v":770.26},null,202290,""]
["WK202300","Combinatieregel ",null,"","Maatwerk WK6313-EIK C mat gelaagd glas stomp",null,null,"","","BINNEN","MODERN","6313-EIK","MAT GELAAGD","","Order","FSCEIK",true,"STOMP","",0,0,38,"",false,false,false,886.79,1073,{"$f":"ROUND(SUMIF('Combination lines'!$A:$H,Report!$AE7504,'Combination lines'!$H:$H),2)","v":886.79},null,202300,""]
["WK202310","Combinatieregel ",null,"","Maatwerk WK6313-EIK C grijs getint glas stomp",null,null,"","","BINNEN","MODERN","6313-EIK","GRIJS GETINT","","Order","FSCEIK",true,"STOMP","",0,0,38,"",false,false,false,940.51,1138,{"$f":"ROUND(SUMIF('Combination lines'!$A:$H,Report!$AE7505,'Combination lines'!$H:$H),2)","v":940.51},null,202310,""]
["WK202320","Combinatieregel ",null,"","Maatwerk WK6313-EIK C brons getint glas stomp",null,null,"","","BINNEN","MODERN","6313-EIK","BRONS GETINT","","Order","FSCEIK",true,"STOMP","",0,0,38,"",false,false,false,940.51,1138,{"$f":"ROUND(SUMIF('Combination lines'!$A:$H,Report!$AE7506,'Combination lines'!$H:$H),2)","v":940.51},null,202320,""]
["WK202330","Combinatieregel ",null,"","Maatwerk WK6313-EIK C zwart glas stomp",null,null,"","","BINNEN","MODERN","6313-EIK","ZWART","","Order","FSCEIK",true,"STOMP","",0,0,38,"",false,false,false,1028.94,1245,{"$f":"ROUND(SUMIF('Combination lines'!$A:$H,Report!$AE7507,'Combination lines'!$H:$H),2)","v":1028.94},null,202330,""]
["WK202350","Combinatieregel ",null,"STUKS","Maatwerk WK6313-EIK C blank glas opdek",null,null,"","","BINNEN","MODERN","6313-EIK","BLANK","","Order","FSCEIK",true,"OPDEK","",0,0,38,"",false,true,false,782.6599999999999,947,{"$f":"ROUND(SUMIF('Combination lines'!$A:$H,Report!$AE7508,'Combination lines'!$H:$H),2)","v":782.66},null,202350,""]
["WK202360","Combinatieregel ",null,"STUKS","Maatwerk WK6313-EIK C mat gelaagd glas opdek",null,null,"","","BINNEN","MODERN","6313-EIK","MAT GELAAGD","","Order","FSCEIK",true,"OPDEK","",0,0,38,"",false,true,false,899.1899999999998,1088,{"$f":"ROUND(SUMIF('Combination lines'!$A:$H,Report!$AE7509,'Combination lines'!$H:$H),2)","v":899.19},null,202360,""]
["WK202370","Combinatieregel ",null,"STUKS","Maatwerk WK6313-EIK C grijs getint glas opdek",null,null,"","","BINNEN","MODERN","6313-EIK","GRIJS GETINT","","Order","FSCEIK",true,"OPDEK","",0,0,38,"",false,true,false,952.9099999999999,1153,{"$f":"ROUND(SUMIF('Combination lines'!$A:$H,Report!$AE7510,'Combination lines'!$H:$H),2)","v":952.91},null,202370,""]
["WK202380","Combinatieregel ",null,"STUKS","Maatwerk WK6313-EIK C brons getint glas opdek",null,null,"","","BINNEN","MODERN","6313-EIK","BRONS GETINT","","Order","FSCEIK",true,"OPDEK","",0,0,38,"",false,true,false,952.9099999999999,1153,{"$f":"ROUND(SUMIF('Combination lines'!$A:$H,Report!$AE7511,'Combination lines'!$H:$H),2)","v":952.91},null,202380,""]
["WK202390","Combinatieregel ",null,"STUKS","Maatwerk WK6313-EIK C zwart glas opdek",null,null,"","","BINNEN","MODERN","6313-EIK","ZWART","","Order","FSCEIK",true,"OPDEK","",0,0,38,"",false,true,false,1041.34,1260,{"$f":"ROUND(SUMIF('Combination lines'!$A:$H,Report!$AE7512,'Combination lines'!$H:$H),2)","v":1041.34},null,202390,""]
["WK202460","Combinatieregel ",null,"STUKS","Maatwerk WK6314-EIK C blank glas stomp",null,null,"","","BINNEN","MODERN","6314-EIK","BLANK","","Order","FSCEIK",true,"STOMP","",0,0,38,"",false,false,false,833.51,1009,{"$f":"ROUND(SUMIF('Combination lines'!$A:$H,Report!$AE7513,'Combination lines'!$H:$H),2)","v":833.51},null,202460,""]
["WK202470","Combinatieregel ",null,"","Maatwerk WK6314-EIK C mat gelaagd glas stomp",null,null,"","","BINNEN","MODERN","6314-EIK","MAT GELAAGD","","Order","FSCEIK",true,"STOMP","",0,0,38,"",false,false,false,950.04,1150,{"$f":"ROUND(SUMIF('Combination lines'!$A:$H,Report!$AE7514,'Combination lines'!$H:$H),2)","v":950.04},null,202470,""]
["WK202480","Combinatieregel ",null,"STUKS","Maatwerk WK6314-EIK C grijs getint glas stomp",null,null,"","","BINNEN","MODERN","6314-EIK","GRIJS GETINT","","Order","FSCEIK",true,"STOMP","",0,0,38,"",false,false,false,1003.76,1215,{"$f":"ROUND(SUMIF('Combination lines'!$A:$H,Report!$AE7515,'Combination lines'!$H:$H),2)","v":1003.76},null,202480,""]
["WK202490","Combinatieregel ",null,"STUKS","Maatwerk WK6314-EIK C brons getint glas stomp",null,null,"","","BINNEN","MODERN","6314-EIK","BRONS GETINT","","Order","FSCEIK",true,"STOMP","",0,0,38,"",false,false,false,1003.76,1215,{"$f":"ROUND(SUMIF('Combination lines'!$A:$H,Report!$AE7516,'Combination lines'!$H:$H),2)","v":1003.76},null,202490,""]
["WK202500","Combinatieregel ",null,"STUKS","Maatwerk WK6314-EIK C zwart glas stomp",null,null,"","","BINNEN","MODERN","6314-EIK","ZWART","","Order","FSCEIK",true,"STOMP","",0,0,38,"",false,false,false,1092.19,1322,{"$f":"ROUND(SUMIF('Combination lines'!$A:$H,Report!$AE7517,'Combination lines'!$H:$H),2)","v":1092.19},null,202500,""]
["WK202520","Combinatieregel ",null,"STUKS","Maatwerk WK6314-EIK C blank glas opdek",null,null,"","","BINNEN","MODERN","6314-EIK","BLANK","","Order","FSCEIK",true,"OPDEK","",0,0,38,"",false,true,false,845.9100000000001,1024,{"$f":"ROUND(SUMIF('Combination lines'!$A:$H,Report!$AE7518,'Combination lines'!$H:$H),2)","v":845.91},null,202520,""]
["WK202530","Combinatieregel ",null,"STUKS","Maatwerk WK6314-EIK C mat gelaagd glas opdek",null,null,"","","BINNEN","MODERN","6314-EIK","MAT GELAAGD","","Order","FSCEIK",true,"OPDEK","",0,0,38,"",false,true,false,962.44,1165,{"$f":"ROUND(SUMIF('Combination lines'!$A:$H,Report!$AE7519,'Combination lines'!$H:$H),2)","v":962.44},null,202530,""]
["WK202540","Combinatieregel ",null,"STUKS","Maatwerk WK6314-EIK C grijs getint glas opdek",null,null,"","","BINNEN","MODERN","6314-EIK","GRIJS GETINT","","Order","FSCEIK",true,"OPDEK","",0,0,38,"",false,true,false,1016.1600000000001,1230,{"$f":"ROUND(SUMIF('Combination lines'!$A:$H,Report!$AE7520,'Combination lines'!$H:$H),2)","v":1016.16},null,202540,""]
["WK202550","Combinatieregel ",null,"STUKS","Maatwerk WK6314-EIK C brons getint glas opdek",null,null,"","","BINNEN","MODERN","6314-EIK","BRONS GETINT","","Order","FSCEIK",true,"OPDEK","",0,0,38,"",false,true,false,1016.1600000000001,1230,{"$f":"ROUND(SUMIF('Combination lines'!$A:$H,Report!$AE7521,'Combination lines'!$H:$H),2)","v":1016.16},null,202550,""]
["WK202560","Combinatieregel ",null,"STUKS","Maatwerk WK6314-EIK C zwart glas opdek",null,null,"","","BINNEN","MODERN","6314-EIK","ZWART","","Order","FSCEIK",true,"OPDEK","",0,0,38,"",false,true,false,1104.5900000000001,1337,{"$f":"ROUND(SUMIF('Combination lines'!$A:$H,Report!$AE7522,'Combination lines'!$H:$H),2)","v":1104.59},null,202560,""]
["WK202630","Combinatieregel ",null,"","Maatwerk WK6315-EIK C blank glas stomp",null,null,"","","BINNEN","MODERN","6315-EIK","BLANK","","Order","FSCEIK",true,"STOMP","",0,0,38,"",false,false,false,770.26,932,{"$f":"ROUND(SUMIF('Combination lines'!$A:$H,Report!$AE7523,'Combination lines'!$H:$H),2)","v":770.26},null,202630,""]
["WK202640","Combinatieregel ",null,"","Maatwerk WK6315-EIK C mat gelaagd glas stomp",null,null,"","","BINNEN","MODERN","6315-EIK","MAT GELAAGD","","Order","FSCEIK",true,"STOMP","",0,0,38,"",false,false,false,886.79,1073,{"$f":"ROUND(SUMIF('Combination lines'!$A:$H,Report!$AE7524,'Combination lines'!$H:$H),2)","v":886.79},null,202640,""]
["WK202650","Combinatieregel ",null,"","Maatwerk WK6315-EIK C grijs getint glas stomp",null,null,"","","BINNEN","MODERN","6315-EIK","GRIJS GETINT","","Order","FSCEIK",true,"STOMP","",0,0,38,"",false,false,false,940.51,1138,{"$f":"ROUND(SUMIF('Combination lines'!$A:$H,Report!$AE7525,'Combination lines'!$H:$H),2)","v":940.51},null,202650,""]
["WK202660","Combinatieregel ",null,"","Maatwerk WK6315-EIK C brons getint glas stomp",null,null,"","","BINNEN","MODERN","6315-EIK","BRONS GETINT","","Order","FSCEIK",true,"STOMP","",0,0,38,"",false,false,false,940.51,1138,{"$f":"ROUND(SUMIF('Combination lines'!$A:$H,Report!$AE7526,'Combination lines'!$H:$H),2)","v":940.51},null,202660,""]
["WK202670","Combinatieregel ",null,"","Maatwerk WK6315-EIK C zwart glas stomp",null,null,"","","BINNEN","MODERN","6315-EIK","ZWART","","Order","FSCEIK",true,"STOMP","",0,0,38,"",false,false,false,1028.94,1245,{"$f":"ROUND(SUMIF('Combination lines'!$A:$H,Report!$AE7527,'Combination lines'!$H:$H),2)","v":1028.94},null,202670,""]
["WK202690","Combinatieregel ",null,"STUKS","Maatwerk WK6315-EIK C blank glas opdek",null,null,"","","BINNEN","MODERN","6315-EIK","BLANK","","Order","FSCEIK",true,"OPDEK","",0,0,38,"",false,true,false,782.6599999999999,947,{"$f":"ROUND(SUMIF('Combination lines'!$A:$H,Report!$AE7528,'Combination lines'!$H:$H),2)","v":782.66},null,202690,""]
["WK202700","Combinatieregel ",null,"STUKS","Maatwerk WK6315-EIK C mat gelaagd glas opdek",null,null,"","","BINNEN","MODERN","6315-EIK","MAT GELAAGD","","Order","FSCEIK",true,"OPDEK","",0,0,38,"",false,true,false,899.1899999999998,1088,{"$f":"ROUND(SUMIF('Combination lines'!$A:$H,Report!$AE7529,'Combination lines'!$H:$H),2)","v":899.19},null,202700,""]
["WK202710","Combinatieregel ",null,"STUKS","Maatwerk WK6315-EIK C grijs getint glas opdek",null,null,"","","BINNEN","MODERN","6315-EIK","GRIJS GETINT","","Order","FSCEIK",true,"OPDEK","",0,0,38,"",false,true,false,952.9099999999999,1153,{"$f":"ROUND(SUMIF('Combination lines'!$A:$H,Report!$AE7530,'Combination lines'!$H:$H),2)","v":952.91},null,202710,""]
["WK202720","Combinatieregel ",null,"STUKS","Maatwerk WK6315-EIK C brons getint glas opdek",null,null,"","","BINNEN","MODERN","6315-EIK","BRONS GETINT","","Order","FSCEIK",true,"OPDEK","",0,0,38,"",false,true,false,952.9099999999999,1153,{"$f":"ROUND(SUMIF('Combination lines'!$A:$H,Report!$AE7531,'Combination lines'!$H:$H),2)","v":952.91},null,202720,""]
["WK202730","Combinatieregel ",null,"STUKS","Maatwerk WK6315-EIK C zwart glas opdek",null,null,"","","BINNEN","MODERN","6315-EIK","ZWART","","Order","FSCEIK",true,"OPDEK","",0,0,38,"",false,true,false,1041.34,1260,{"$f":"ROUND(SUMIF('Combination lines'!$A:$H,Report!$AE7532,'Combination lines'!$H:$H),2)","v":1041.34},null,202730,""]
["WK202800","Combinatieregel ",null,"STUKS","Maatwerk WK6316-EIK C3 blank glas stomp",null,null,"","","BINNEN","MODERN","6316-EIK","BLANK","","Order","FSCEIK",true,"STOMP","",0,0,38,"",false,false,false,970.1099999999999,1174,{"$f":"ROUND(SUMIF('Combination lines'!$A:$H,Report!$AE7533,'Combination lines'!$H:$H),2)","v":970.11},null,202800,""]
["WK202810","Combinatieregel ",null,"","Maatwerk WK6316-EIK C3 mat gelaagd glas stomp",null,null,"","","BINNEN","MODERN","6316-EIK","MAT GELAAGD","","Order","FSCEIK",true,"STOMP","",0,0,38,"",false,false,false,1086.6399999999999,1315,{"$f":"ROUND(SUMIF('Combination lines'!$A:$H,Report!$AE7534,'Combination lines'!$H:$H),2)","v":1086.64},null,202810,""]
["WK202820","Combinatieregel ",null,"STUKS","Maatwerk WK6316-EIK C3 grijs getint glas stomp",null,null,"","","BINNEN","MODERN","6316-EIK","GRIJS GETINT","","Order","FSCEIK",true,"STOMP","",0,0,38,"",false,false,false,1140.36,1380,{"$f":"ROUND(SUMIF('Combination lines'!$A:$H,Report!$AE7535,'Combination lines'!$H:$H),2)","v":1140.36},null,202820,""]
["WK202830","Combinatieregel ",null,"STUKS","Maatwerk WK6316-EIK C3 brons getint glas stomp",null,null,"","","BINNEN","MODERN","6316-EIK","BRONS GETINT","","Order","FSCEIK",true,"STOMP","",0,0,38,"",false,false,false,1140.36,1380,{"$f":"ROUND(SUMIF('Combination lines'!$A:$H,Report!$AE7536,'Combination lines'!$H:$H),2)","v":1140.36},null,202830,""]
["WK202840","Combinatieregel ",null,"STUKS","Maatwerk WK6316-EIK C3 zwart glas stomp",null,null,"","","BINNEN","MODERN","6316-EIK","ZWART","","Order","FSCEIK",true,"STOMP","",0,0,38,"",false,false,false,1228.79,1487,{"$f":"ROUND(SUMIF('Combination lines'!$A:$H,Report!$AE7537,'Combination lines'!$H:$H),2)","v":1228.79},null,202840,""]
["WK202860","Combinatieregel ",null,"STUKS","Maatwerk WK6316-EIK C3 blank glas opdek",null,null,"","","BINNEN","MODERN","6316-EIK","BLANK","","Order","FSCEIK",true,"OPDEK","",0,0,38,"",false,true,false,982.51,1189,{"$f":"ROUND(SUMIF('Combination lines'!$A:$H,Report!$AE7538,'Combination lines'!$H:$H),2)","v":982.51},null,202860,""]
["WK202870","Combinatieregel ",null,"STUKS","Maatwerk WK6316-EIK C3 mat gelaagd glas opdek",null,null,"","","BINNEN","MODERN","6316-EIK","MAT GELAAGD","","Order","FSCEIK",true,"OPDEK","",0,0,38,"",false,true,false,1099.04,1330,{"$f":"ROUND(SUMIF('Combination lines'!$A:$H,Report!$AE7539,'Combination lines'!$H:$H),2)","v":1099.04},null,202870,""]
["WK202880","Combinatieregel ",null,"STUKS","Maatwerk WK6316-EIK C3 grijs getint glas opdek",null,null,"","","BINNEN","MODERN","6316-EIK","GRIJS GETINT","","Order","FSCEIK",true,"OPDEK","",0,0,38,"",false,true,false,1152.76,1395,{"$f":"ROUND(SUMIF('Combination lines'!$A:$H,Report!$AE7540,'Combination lines'!$H:$H),2)","v":1152.76},null,202880,""]
["WK202890","Combinatieregel ",null,"STUKS","Maatwerk WK6316-EIK C3 brons getint glas opdek",null,null,"","","BINNEN","MODERN","6316-EIK","BRONS GETINT","","Order","FSCEIK",true,"OPDEK","",0,0,38,"",false,true,false,1152.76,1395,{"$f":"ROUND(SUMIF('Combination lines'!$A:$H,Report!$AE7541,'Combination lines'!$H:$H),2)","v":1152.76},null,202890,""]
["WK202900","Combinatieregel ",null,"STUKS","Maatwerk WK6316-EIK C3 zwart glas opdek",null,null,"","","BINNEN","MODERN","6316-EIK","ZWART","","Order","FSCEIK",true,"OPDEK","",0,0,38,"",false,true,false,1241.19,1502,{"$f":"ROUND(SUMIF('Combination lines'!$A:$H,Report!$AE7542,'Combination lines'!$H:$H),2)","v":1241.19},null,202900,""]
["WK202970","Combinatieregel ",null,"","Maatwerk WK6318-EIK C blank glas stomp",null,null,"","","BINNEN","MODERN","6318-EIK","BLANK","","Order","FSCEIK",true,"STOMP","",0,0,38,"",false,false,false,920.72,1114,{"$f":"ROUND(SUMIF('Combination lines'!$A:$H,Report!$AE7543,'Combination lines'!$H:$H),2)","v":920.72},null,202970,""]
["WK202980","Combinatieregel ",null,"","Maatwerk WK6318-EIK C mat gelaagd glas stomp",null,null,"","","BINNEN","MODERN","6318-EIK","MAT GELAAGD","","Order","FSCEIK",true,"STOMP","",0,0,38,"",false,false,false,1037.25,1255,{"$f":"ROUND(SUMIF('Combination lines'!$A:$H,Report!$AE7544,'Combination lines'!$H:$H),2)","v":1037.25},null,202980,""]
["WK202990","Combinatieregel ",null,"","Maatwerk WK6318-EIK C grijs getint glas stomp",null,null,"","","BINNEN","MODERN","6318-EIK","GRIJS GETINT","","Order","FSCEIK",true,"STOMP","",0,0,38,"",false,false,false,1090.97,1320,{"$f":"ROUND(SUMIF('Combination lines'!$A:$H,Report!$AE7545,'Combination lines'!$H:$H),2)","v":1090.97},null,202990,""]
["WK203000","Combinatieregel ",null,"","Maatwerk WK6318-EIK C brons getint glas stomp",null,null,"","","BINNEN","MODERN","6318-EIK","BRONS GETINT","","Order","FSCEIK",true,"STOMP","",0,0,38,"",false,false,false,1090.97,1320,{"$f":"ROUND(SUMIF('Combination lines'!$A:$H,Report!$AE7546,'Combination lines'!$H:$H),2)","v":1090.97},null,203000,""]
["WK203010","Combinatieregel ",null,"","Maatwerk WK6318-EIK C zwart glas stomp",null,null,"","","BINNEN","MODERN","6318-EIK","ZWART","","Order","FSCEIK",true,"STOMP","",0,0,38,"",false,false,false,1179.4,1427,{"$f":"ROUND(SUMIF('Combination lines'!$A:$H,Report!$AE7547,'Combination lines'!$H:$H),2)","v":1179.4},null,203010,""]
["WK203030","Combinatieregel ",null,"STUKS","Maatwerk WK6318-EIK C blank glas opdek",null,null,"","","BINNEN","MODERN","6318-EIK","BLANK","","Order","FSCEIK",true,"OPDEK","",0,0,38,"",false,true,false,933.1199999999999,1129,{"$f":"ROUND(SUMIF('Combination lines'!$A:$H,Report!$AE7548,'Combination lines'!$H:$H),2)","v":933.12},null,203030,""]
["WK203040","Combinatieregel ",null,"STUKS","Maatwerk WK6318-EIK C mat gelaagd glas opdek",null,null,"","","BINNEN","MODERN","6318-EIK","MAT GELAAGD","","Order","FSCEIK",true,"OPDEK","",0,0,38,"",false,true,false,1049.6499999999999,1270,{"$f":"ROUND(SUMIF('Combination lines'!$A:$H,Report!$AE7549,'Combination lines'!$H:$H),2)","v":1049.65},null,203040,""]
["WK203050","Combinatieregel ",null,"STUKS","Maatwerk WK6318-EIK C grijs getint glas opdek",null,null,"","","BINNEN","MODERN","6318-EIK","GRIJS GETINT","","Order","FSCEIK",true,"OPDEK","",0,0,38,"",false,true,false,1103.37,1335,{"$f":"ROUND(SUMIF('Combination lines'!$A:$H,Report!$AE7550,'Combination lines'!$H:$H),2)","v":1103.37},null,203050,""]
["WK203060","Combinatieregel ",null,"STUKS","Maatwerk WK6318-EIK C brons getint glas opdek",null,null,"","","BINNEN","MODERN","6318-EIK","BRONS GETINT","","Order","FSCEIK",true,"OPDEK","",0,0,38,"",false,true,false,1103.37,1335,{"$f":"ROUND(SUMIF('Combination lines'!$A:$H,Report!$AE7551,'Combination lines'!$H:$H),2)","v":1103.37},null,203060,""]
["WK203070","Combinatieregel ",null,"STUKS","Maatwerk WK6318-EIK C zwart glas opdek",null,null,"","","BINNEN","MODERN","6318-EIK","ZWART","","Order","FSCEIK",true,"OPDEK","",0,0,38,"",false,true,false,1191.8,1442,{"$f":"ROUND(SUMIF('Combination lines'!$A:$H,Report!$AE7552,'Combination lines'!$H:$H),2)","v":1191.8},null,203070,""]
["WK203140","Combinatieregel ",null,"","Maatwerk WK6328-EIK C blank stomp",null,null,"","","BINNEN","MODERN","6328-EIK","BLANK","","Order","FSCEIK",true,"STOMP","",0,0,38,"",false,false,false,785.96,951,{"$f":"ROUND(SUMIF('Combination lines'!$A:$H,Report!$AE7553,'Combination lines'!$H:$H),2)","v":785.96},null,203140,""]
["WK203150","Combinatieregel ",null,"","Maatwerk WK6328-EIK C mat gelaagd stomp",null,null,"","","BINNEN","MODERN","6328-EIK","MAT GELAAGD","","Order","FSCEIK",true,"STOMP","",0,0,38,"",false,false,false,902.49,1092,{"$f":"ROUND(SUMIF('Combination lines'!$A:$H,Report!$AE7554,'Combination lines'!$H:$H),2)","v":902.49},null,203150,""]
["WK203160","Combinatieregel ",null,"","Maatwerk WK6328-EIK C grijs getint glas stomp",null,null,"","","BINNEN","MODERN","6328-EIK","GRIJS GETINT","","Order","FSCEIK",true,"STOMP","",0,0,38,"",false,false,false,956.21,1157,{"$f":"ROUND(SUMIF('Combination lines'!$A:$H,Report!$AE7555,'Combination lines'!$H:$H),2)","v":956.21},null,203160,""]
["WK203170","Combinatieregel ",null,"","Maatwerk WK6328-EIK C brons getint glas stomp",null,null,"","","BINNEN","MODERN","6328-EIK","BRONS GETINT","","Order","FSCEIK",true,"STOMP","",0,0,38,"",false,false,false,956.21,1157,{"$f":"ROUND(SUMIF('Combination lines'!$A:$H,Report!$AE7556,'Combination lines'!$H:$H),2)","v":956.21},null,203170,""]
["WK203180","Combinatieregel ",null,"","Maatwerk WK6328-EIK C zwart glas stomp",null,null,"","","BINNEN","MODERN","6328-EIK","ZWART","","Order","FSCEIK",true,"STOMP","",0,0,38,"",false,false,false,1044.64,1264,{"$f":"ROUND(SUMIF('Combination lines'!$A:$H,Report!$AE7557,'Combination lines'!$H:$H),2)","v":1044.64},null,203180,""]
["WK203250","Combinatieregel ",null,"","Maatwerk WK6332-EIK C3 blank stomp",null,null,"","","BINNEN","MODERN","6332-EIK","BLANK","","Order","FSCEIK",true,"STOMP","",0,0,38,"",false,false,false,858.5,1039,{"$f":"ROUND(SUMIF('Combination lines'!$A:$H,Report!$AE7558,'Combination lines'!$H:$H),2)","v":858.5},null,203250,""]
["WK203260","Combinatieregel ",null,"","Maatwerk WK6332-EIK C3 mat gelaagd stomp",null,null,"","","BINNEN","MODERN","6332-EIK","MAT GELAAGD","","Order","FSCEIK",true,"STOMP","",0,0,38,"",false,false,false,975.03,1180,{"$f":"ROUND(SUMIF('Combination lines'!$A:$H,Report!$AE7559,'Combination lines'!$H:$H),2)","v":975.03},null,203260,""]
["WK203270","Combinatieregel ",null,"","Maatwerk WK6332-EIK C3 grijs getint glas stomp",null,null,"","","BINNEN","MODERN","6332-EIK","GRIJS GETINT","","Order","FSCEIK",true,"STOMP","",0,0,38,"",false,false,false,1028.75,1245,{"$f":"ROUND(SUMIF('Combination lines'!$A:$H,Report!$AE7560,'Combination lines'!$H:$H),2)","v":1028.75},null,203270,""]
["WK203280","Combinatieregel ",null,"","Maatwerk WK6332-EIK C3 brons getint glas stomp",null,null,"","","BINNEN","MODERN","6332-EIK","BRONS GETINT","","Order","FSCEIK",true,"STOMP","",0,0,38,"",false,false,false,1028.75,1245,{"$f":"ROUND(SUMIF('Combination lines'!$A:$H,Report!$AE7561,'Combination lines'!$H:$H),2)","v":1028.75},null,203280,""]
["WK203290","Combinatieregel ",null,"","Maatwerk WK6332-EIK C3 zwart glas stomp",null,null,"","","BINNEN","MODERN","6332-EIK","ZWART","","Order","FSCEIK",true,"STOMP","",0,0,38,"",false,false,false,1117.1799999999998,1352,{"$f":"ROUND(SUMIF('Combination lines'!$A:$H,Report!$AE7562,'Combination lines'!$H:$H),2)","v":1117.18},null,203290,""]
["WK203360","Combinatieregel ",null,"","Maatwerk WK6334-EIK C3 blank stomp",null,null,"","","BINNEN","MODERN","6334-EIK","BLANK","","Order","FSCEIK",true,"STOMP","",0,0,38,"",false,false,false,970.1099999999999,1174,{"$f":"ROUND(SUMIF('Combination lines'!$A:$H,Report!$AE7563,'Combination lines'!$H:$H),2)","v":970.11},null,203360,""]
["WK203370","Combinatieregel ",null,"","Maatwerk WK6334-EIK C3 mat gelaagd stomp",null,null,"","","BINNEN","MODERN","6334-EIK","MAT GELAAGD","","Order","FSCEIK",true,"STOMP","",0,0,38,"",false,false,false,1086.6399999999999,1315,{"$f":"ROUND(SUMIF('Combination lines'!$A:$H,Report!$AE7564,'Combination lines'!$H:$H),2)","v":1086.64},null,203370,""]
["WK203380","Combinatieregel ",null,"","Maatwerk WK6334-EIK C3 grijs getint glas stomp",null,null,"","","BINNEN","MODERN","6334-EIK","GRIJS GETINT","","Order","FSCEIK",true,"STOMP","",0,0,38,"",false,false,false,1140.36,1380,{"$f":"ROUND(SUMIF('Combination lines'!$A:$H,Report!$AE7565,'Combination lines'!$H:$H),2)","v":1140.36},null,203380,""]
["WK203390","Combinatieregel ",null,"","Maatwerk WK6334-EIK C3 brons getint glas stomp",null,null,"","","BINNEN","MODERN","6334-EIK","BRONS GETINT","","Order","FSCEIK",true,"STOMP","",0,0,38,"",false,false,false,1140.36,1380,{"$f":"ROUND(SUMIF('Combination lines'!$A:$H,Report!$AE7566,'Combination lines'!$H:$H),2)","v":1140.36},null,203390,""]
["WK203400","Combinatieregel ",null,"","Maatwerk WK6334-EIK C3 zwart glas stomp",null,null,"","","BINNEN","MODERN","6334-EIK","ZWART","","Order","FSCEIK",true,"STOMP","",0,0,38,"",false,false,false,1228.79,1487,{"$f":"ROUND(SUMIF('Combination lines'!$A:$H,Report!$AE7567,'Combination lines'!$H:$H),2)","v":1228.79},null,203400,""]
["WK203470","Combinatieregel ",null,"","Maatwerk WK6338-EIK C3 blank glas stomp",null,null,"","","BINNEN","MODERN","6338-EIK","BLANK","","Order","FSCEIK",true,"STOMP","",0,0,38,"",false,false,false,768.8100000000001,930,{"$f":"ROUND(SUMIF('Combination lines'!$A:$H,Report!$AE7568,'Combination lines'!$H:$H),2)","v":768.81},null,203470,""]
["WK203480","Combinatieregel ",null,"","Maatwerk WK6338-EIK C3 mat gelaagd glas stomp",null,null,"","","BINNEN","MODERN","6338-EIK","MAT GELAAGD","","Order","FSCEIK",true,"STOMP","",0,0,38,"",false,false,false,856.4100000000001,1036,{"$f":"ROUND(SUMIF('Combination lines'!$A:$H,Report!$AE7569,'Combination lines'!$H:$H),2)","v":856.41},null,203480,""]
["WK203490","Combinatieregel ",null,"","Maatwerk WK6338-EIK C3 grijs getint glas stomp",null,null,"","","BINNEN","MODERN","6338-EIK","GRIJS GETINT","","Order","FSCEIK",true,"STOMP","",0,0,38,"",false,false,false,896.08,1084,{"$f":"ROUND(SUMIF('Combination lines'!$A:$H,Report!$AE7570,'Combination lines'!$H:$H),2)","v":896.08},null,203490,""]
["WK203500","Combinatieregel ",null,"","Maatwerk WK6338-EIK C3 brons getint glas stomp",null,null,"","","BINNEN","MODERN","6338-EIK","BRONS GETINT","","Order","FSCEIK",true,"STOMP","",0,0,38,"",false,false,false,896.08,1084,{"$f":"ROUND(SUMIF('Combination lines'!$A:$H,Report!$AE7571,'Combination lines'!$H:$H),2)","v":896.08},null,203500,""]
["WK203510","Combinatieregel ",null,"","Maatwerk WK6338-EIK C3 zwart glas stomp",null,null,"","","BINNEN","MODERN","6338-EIK","ZWART","","Order","FSCEIK",true,"STOMP","",0,0,38,"",false,false,false,963.02,1165,{"$f":"ROUND(SUMIF('Combination lines'!$A:$H,Report!$AE7572,'Combination lines'!$H:$H),2)","v":963.02},null,203510,""]
["WK203580","Combinatieregel ",null,"","Maatwerk WK6340-EIK C blank glas stomp",null,null,"","","BINNEN","MODERN","6340-EIK","BLANK","","Order","FSCEIK",true,"STOMP","",0,0,38,"",false,false,false,778.53,942,{"$f":"ROUND(SUMIF('Combination lines'!$A:$H,Report!$AE7573,'Combination lines'!$H:$H),2)","v":778.53},null,203580,""]
["WK203590","Combinatieregel ",null,"","Maatwerk WK6340-EIK C mat gelaagd glas stomp",null,null,"","","BINNEN","MODERN","6340-EIK","MAT GELAAGD","","Order","FSCEIK",true,"STOMP","",0,0,38,"",false,false,false,895.06,1083,{"$f":"ROUND(SUMIF('Combination lines'!$A:$H,Report!$AE7574,'Combination lines'!$H:$H),2)","v":895.06},null,203590,""]
["WK203600","Combinatieregel ",null,"","Maatwerk WK6340-EIK C grijs getint glas stomp",null,null,"","","BINNEN","MODERN","6340-EIK","GRIJS GETINT","","Order","FSCEIK",true,"STOMP","",0,0,38,"",false,false,false,948.78,1148,{"$f":"ROUND(SUMIF('Combination lines'!$A:$H,Report!$AE7575,'Combination lines'!$H:$H),2)","v":948.78},null,203600,""]
["WK203610","Combinatieregel ",null,"","Maatwerk WK6340-EIK C brons getint glas stomp",null,null,"","","BINNEN","MODERN","6340-EIK","BRONS GETINT","","Order","FSCEIK",true,"STOMP","",0,0,38,"",false,false,false,948.78,1148,{"$f":"ROUND(SUMIF('Combination lines'!$A:$H,Report!$AE7576,'Combination lines'!$H:$H),2)","v":948.78},null,203610,""]
["WK203620","Combinatieregel ",null,"","Maatwerk WK6340-EIK C zwart glas stomp",null,null,"","","BINNEN","MODERN","6340-EIK","ZWART","","Order","FSCEIK",true,"STOMP","",0,0,38,"",false,false,false,1037.21,1255,{"$f":"ROUND(SUMIF('Combination lines'!$A:$H,Report!$AE7577,'Combination lines'!$H:$H),2)","v":1037.21},null,203620,""]
["WK203640","Combinatieregel ",null,"","Maatwerk WK6340-EIK C blank glas opdek",null,null,"","","BINNEN","MODERN","6340-EIK","BLANK","","Order","FSCEIK",true,"OPDEK","",0,0,38,"",false,true,false,790.9299999999998,957,{"$f":"ROUND(SUMIF('Combination lines'!$A:$H,Report!$AE7578,'Combination lines'!$H:$H),2)","v":790.93},null,203640,""]
["WK203650","Combinatieregel ",null,"","Maatwerk WK6340-EIK C mat gelaagd glas opdek",null,null,"","","BINNEN","MODERN","6340-EIK","MAT GELAAGD","","Order","FSCEIK",true,"OPDEK","",0,0,38,"",false,true,false,907.4599999999998,1098,{"$f":"ROUND(SUMIF('Combination lines'!$A:$H,Report!$AE7579,'Combination lines'!$H:$H),2)","v":907.46},null,203650,""]
["WK203660","Combinatieregel ",null,"","Maatwerk WK6340-EIK C grijs getint glas opdek",null,null,"","","BINNEN","MODERN","6340-EIK","GRIJS GETINT","","Order","FSCEIK",true,"OPDEK","",0,0,38,"",false,true,false,961.1799999999998,1163,{"$f":"ROUND(SUMIF('Combination lines'!$A:$H,Report!$AE7580,'Combination lines'!$H:$H),2)","v":961.18},null,203660,""]
["WK203670","Combinatieregel ",null,"","Maatwerk WK6340-EIK C brons getint glas opdek",null,null,"","","BINNEN","MODERN","6340-EIK","BRONS GETINT","","Order","FSCEIK",true,"OPDEK","",0,0,38,"",false,true,false,961.1799999999998,1163,{"$f":"ROUND(SUMIF('Combination lines'!$A:$H,Report!$AE7581,'Combination lines'!$H:$H),2)","v":961.18},null,203670,""]
["WK203680","Combinatieregel ",null,"","Maatwerk WK6340-EIK C zwart glas opdek",null,null,"","","BINNEN","MODERN","6340-EIK","ZWART","","Order","FSCEIK",true,"OPDEK","",0,0,38,"",false,true,false,1049.61,1270,{"$f":"ROUND(SUMIF('Combination lines'!$A:$H,Report!$AE7582,'Combination lines'!$H:$H),2)","v":1049.61},null,203680,""]
["WK203750","Combinatieregel ",null,"","Maatwerk WK6341-EIK C blank glas stomp",null,null,"","","BINNEN","MODERN","6341-EIK","BLANK","","Order","FSCEIK",true,"STOMP","",0,0,38,"",false,false,false,770.26,932,{"$f":"ROUND(SUMIF('Combination lines'!$A:$H,Report!$AE7583,'Combination lines'!$H:$H),2)","v":770.26},null,203750,""]
["WK203760","Combinatieregel ",null,"","Maatwerk WK6341-EIK C mat gelaagd glas stomp",null,null,"","","BINNEN","MODERN","6341-EIK","MAT GELAAGD","","Order","FSCEIK",true,"STOMP","",0,0,38,"",false,false,false,886.79,1073,{"$f":"ROUND(SUMIF('Combination lines'!$A:$H,Report!$AE7584,'Combination lines'!$H:$H),2)","v":886.79},null,203760,""]
["WK203770","Combinatieregel ",null,"","Maatwerk WK6341-EIK C grijs getint glas stomp",null,null,"","","BINNEN","MODERN","6341-EIK","GRIJS GETINT","","Order","FSCEIK",true,"STOMP","",0,0,38,"",false,false,false,940.51,1138,{"$f":"ROUND(SUMIF('Combination lines'!$A:$H,Report!$AE7585,'Combination lines'!$H:$H),2)","v":940.51},null,203770,""]
["WK203780","Combinatieregel ",null,"","Maatwerk WK6341-EIK C brons getint glas stomp",null,null,"","","BINNEN","MODERN","6341-EIK","BRONS GETINT","","Order","FSCEIK",true,"STOMP","",0,0,38,"",false,false,false,940.51,1138,{"$f":"ROUND(SUMIF('Combination lines'!$A:$H,Report!$AE7586,'Combination lines'!$H:$H),2)","v":940.51},null,203780,""]
["WK203790","Combinatieregel ",null,"","Maatwerk WK6341-EIK C zwart glas stomp",null,null,"","","BINNEN","MODERN","6341-EIK","ZWART","","Order","FSCEIK",true,"STOMP","",0,0,38,"",false,false,false,1028.94,1245,{"$f":"ROUND(SUMIF('Combination lines'!$A:$H,Report!$AE7587,'Combination lines'!$H:$H),2)","v":1028.94},null,203790,""]
["WK203810","Combinatieregel ",null,"","Maatwerk WK6341-EIK C blank glas opdek",null,null,"","","BINNEN","MODERN","6341-EIK","BLANK","","Order","FSCEIK",true,"OPDEK","",0,0,38,"",false,true,false,782.6599999999999,947,{"$f":"ROUND(SUMIF('Combination lines'!$A:$H,Report!$AE7588,'Combination lines'!$H:$H),2)","v":782.66},null,203810,""]
["WK203820","Combinatieregel ",null,"","Maatwerk WK6341-EIK C mat gelaagd glas opdek",null,null,"","","BINNEN","MODERN","6341-EIK","MAT GELAAGD","","Order","FSCEIK",true,"OPDEK","",0,0,38,"",false,true,false,899.1899999999998,1088,{"$f":"ROUND(SUMIF('Combination lines'!$A:$H,Report!$AE7589,'Combination lines'!$H:$H),2)","v":899.19},null,203820,""]
["WK203830","Combinatieregel ",null,"","Maatwerk WK6341-EIK C grijs getint glas opdek",null,null,"","","BINNEN","MODERN","6341-EIK","GRIJS GETINT","","Order","FSCEIK",true,"OPDEK","",0,0,38,"",false,true,false,952.9099999999999,1153,{"$f":"ROUND(SUMIF('Combination lines'!$A:$H,Report!$AE7590,'Combination lines'!$H:$H),2)","v":952.91},null,203830,""]
["WK203840","Combinatieregel ",null,"","Maatwerk WK6341-EIK C brons getint glas opdek",null,null,"","","BINNEN","MODERN","6341-EIK","BRONS GETINT","","Order","FSCEIK",true,"OPDEK","",0,0,38,"",false,true,false,952.9099999999999,1153,{"$f":"ROUND(SUMIF('Combination lines'!$A:$H,Report!$AE7591,'Combination lines'!$H:$H),2)","v":952.91},null,203840,""]
["WK203850","Combinatieregel ",null,"","Maatwerk WK6341-EIK C zwart glas opdek",null,null,"","","BINNEN","MODERN","6341-EIK","ZWART","","Order","FSCEIK",true,"OPDEK","",0,0,38,"",false,true,false,1041.34,1260,{"$f":"ROUND(SUMIF('Combination lines'!$A:$H,Report!$AE7592,'Combination lines'!$H:$H),2)","v":1041.34},null,203850,""]
["WK203920","Combinatieregel ",null,"","Maatwerk WK6342-EIK C blank glas stomp",null,null,"","","BINNEN","MODERN","6342-EIK","BLANK","","Order","FSCEIK",true,"STOMP","",0,0,38,"",false,false,false,805.5999999999999,975,{"$f":"ROUND(SUMIF('Combination lines'!$A:$H,Report!$AE7593,'Combination lines'!$H:$H),2)","v":805.6},null,203920,""]
["WK203930","Combinatieregel ",null,"","Maatwerk WK6342-EIK C mat gelaagd glas stomp",null,null,"","","BINNEN","MODERN","6342-EIK","MAT GELAAGD","","Order","FSCEIK",true,"STOMP","",0,0,38,"",false,false,false,922.1299999999999,1116,{"$f":"ROUND(SUMIF('Combination lines'!$A:$H,Report!$AE7594,'Combination lines'!$H:$H),2)","v":922.13},null,203930,""]
["WK203940","Combinatieregel ",null,"","Maatwerk WK6342-EIK C grijs getint glas stomp",null,null,"","","BINNEN","MODERN","6342-EIK","GRIJS GETINT","","Order","FSCEIK",true,"STOMP","",0,0,38,"",false,false,false,975.8499999999999,1181,{"$f":"ROUND(SUMIF('Combination lines'!$A:$H,Report!$AE7595,'Combination lines'!$H:$H),2)","v":975.85},null,203940,""]
["WK203950","Combinatieregel ",null,"","Maatwerk WK6342-EIK C brons getint glas stomp",null,null,"","","BINNEN","MODERN","6342-EIK","BRONS GETINT","","Order","FSCEIK",true,"STOMP","",0,0,38,"",false,false,false,975.8499999999999,1181,{"$f":"ROUND(SUMIF('Combination lines'!$A:$H,Report!$AE7596,'Combination lines'!$H:$H),2)","v":975.85},null,203950,""]
["WK203960","Combinatieregel ",null,"","Maatwerk WK6342-EIK C zwart glas stomp",null,null,"","","BINNEN","MODERN","6342-EIK","ZWART","","Order","FSCEIK",true,"STOMP","",0,0,38,"",false,false,false,1064.28,1288,{"$f":"ROUND(SUMIF('Combination lines'!$A:$H,Report!$AE7597,'Combination lines'!$H:$H),2)","v":1064.28},null,203960,""]
["WK203980","Combinatieregel ",null,"","Maatwerk WK6342-EIK C blank glas opdek",null,null,"","","BINNEN","MODERN","6342-EIK","BLANK","","Order","FSCEIK",true,"OPDEK","",0,0,38,"",false,true,false,818,990,{"$f":"ROUND(SUMIF('Combination lines'!$A:$H,Report!$AE7598,'Combination lines'!$H:$H),2)","v":818},null,203980,""]
["WK203990","Combinatieregel ",null,"","Maatwerk WK6342-EIK C mat gelaagd glas opdek",null,null,"","","BINNEN","MODERN","6342-EIK","MAT GELAAGD","","Order","FSCEIK",true,"OPDEK","",0,0,38,"",false,true,false,934.53,1131,{"$f":"ROUND(SUMIF('Combination lines'!$A:$H,Report!$AE7599,'Combination lines'!$H:$H),2)","v":934.53},null,203990,""]
["WK204000","Combinatieregel ",null,"","Maatwerk WK6342-EIK C grijs getint glas opdek",null,null,"","","BINNEN","MODERN","6342-EIK","GRIJS GETINT","","Order","FSCEIK",true,"OPDEK","",0,0,38,"",false,true,false,988.25,1196,{"$f":"ROUND(SUMIF('Combination lines'!$A:$H,Report!$AE7600,'Combination lines'!$H:$H),2)","v":988.25},null,204000,""]
["WK204010","Combinatieregel ",null,"","Maatwerk WK6342-EIK C brons getint glas opdek",null,null,"","","BINNEN","MODERN","6342-EIK","BRONS GETINT","","Order","FSCEIK",true,"OPDEK","",0,0,38,"",false,true,false,988.25,1196,{"$f":"ROUND(SUMIF('Combination lines'!$A:$H,Report!$AE7601,'Combination lines'!$H:$H),2)","v":988.25},null,204010,""]
["WK204020","Combinatieregel ",null,"","Maatwerk WK6342-EIK C zwart glas opdek",null,null,"","","BINNEN","MODERN","6342-EIK","ZWART","","Order","FSCEIK",true,"OPDEK","",0,0,38,"",false,true,false,1076.6799999999998,1303,{"$f":"ROUND(SUMIF('Combination lines'!$A:$H,Report!$AE7602,'Combination lines'!$H:$H),2)","v":1076.68},null,204020,""]
["WK204090","Combinatieregel ",null,"","Maatwerk WK6343-EIK C blank glas stomp",null,null,"","","BINNEN","MODERN","6343-EIK","BLANK","","Order","FSCEIK",true,"STOMP","",0,0,38,"",false,false,false,778.53,942,{"$f":"ROUND(SUMIF('Combination lines'!$A:$H,Report!$AE7603,'Combination lines'!$H:$H),2)","v":778.53},null,204090,""]
["WK204100","Combinatieregel ",null,"","Maatwerk WK6343-EIK C mat gelaagd glas stomp",null,null,"","","BINNEN","MODERN","6343-EIK","MAT GELAAGD","","Order","FSCEIK",true,"STOMP","",0,0,38,"",false,false,false,895.06,1083,{"$f":"ROUND(SUMIF('Combination lines'!$A:$H,Report!$AE7604,'Combination lines'!$H:$H),2)","v":895.06},null,204100,""]
["WK204110","Combinatieregel ",null,"","Maatwerk WK6343-EIK C grijs getint glas stomp",null,null,"","","BINNEN","MODERN","6343-EIK","GRIJS GETINT","","Order","FSCEIK",true,"STOMP","",0,0,38,"",false,false,false,948.78,1148,{"$f":"ROUND(SUMIF('Combination lines'!$A:$H,Report!$AE7605,'Combination lines'!$H:$H),2)","v":948.78},null,204110,""]
["WK204120","Combinatieregel ",null,"","Maatwerk WK6343-EIK C brons getint glas stomp",null,null,"","","BINNEN","MODERN","6343-EIK","BRONS GETINT","","Order","FSCEIK",true,"STOMP","",0,0,38,"",false,false,false,948.78,1148,{"$f":"ROUND(SUMIF('Combination lines'!$A:$H,Report!$AE7606,'Combination lines'!$H:$H),2)","v":948.78},null,204120,""]
["WK204130","Combinatieregel ",null,"","Maatwerk WK6343-EIK C zwart glas stomp",null,null,"","","BINNEN","MODERN","6343-EIK","ZWART","","Order","FSCEIK",true,"STOMP","",0,0,38,"",false,false,false,1037.21,1255,{"$f":"ROUND(SUMIF('Combination lines'!$A:$H,Report!$AE7607,'Combination lines'!$H:$H),2)","v":1037.21},null,204130,""]
["WK204150","Combinatieregel ",null,"","Maatwerk WK6343-EIK C blank glas opdek",null,null,"","","BINNEN","MODERN","6343-EIK","BLANK","","Order","FSCEIK",true,"OPDEK","",0,0,38,"",false,true,false,790.9299999999998,957,{"$f":"ROUND(SUMIF('Combination lines'!$A:$H,Report!$AE7608,'Combination lines'!$H:$H),2)","v":790.93},null,204150,""]
["WK204160","Combinatieregel ",null,"","Maatwerk WK6343-EIK C mat gelaagd glas opdek",null,null,"","","BINNEN","MODERN","6343-EIK","MAT GELAAGD","","Order","FSCEIK",true,"OPDEK","",0,0,38,"",false,true,false,907.4599999999998,1098,{"$f":"ROUND(SUMIF('Combination lines'!$A:$H,Report!$AE7609,'Combination lines'!$H:$H),2)","v":907.46},null,204160,""]
["WK204170","Combinatieregel ",null,"","Maatwerk WK6343-EIK C grijs getint glas opdek",null,null,"","","BINNEN","MODERN","6343-EIK","GRIJS GETINT","","Order","FSCEIK",true,"OPDEK","",0,0,38,"",false,true,false,961.1799999999998,1163,{"$f":"ROUND(SUMIF('Combination lines'!$A:$H,Report!$AE7610,'Combination lines'!$H:$H),2)","v":961.18},null,204170,""]
["WK204180","Combinatieregel ",null,"","Maatwerk WK6343-EIK C brons getint glas opdek",null,null,"","","BINNEN","MODERN","6343-EIK","BRONS GETINT","","Order","FSCEIK",true,"OPDEK","",0,0,38,"",false,true,false,961.1799999999998,1163,{"$f":"ROUND(SUMIF('Combination lines'!$A:$H,Report!$AE7611,'Combination lines'!$H:$H),2)","v":961.18},null,204180,""]
["WK204190","Combinatieregel ",null,"","Maatwerk WK6343-EIK C zwart glas opdek",null,null,"","","BINNEN","MODERN","6343-EIK","ZWART","","Order","FSCEIK",true,"OPDEK","",0,0,38,"",false,true,false,1049.61,1270,{"$f":"ROUND(SUMIF('Combination lines'!$A:$H,Report!$AE7612,'Combination lines'!$H:$H),2)","v":1049.61},null,204190,""]
["WK204260","Combinatieregel ",null,"","Maatwerk WK6344-EIK C blank glas stomp",null,null,"","","BINNEN","MODERN","6344-EIK","BLANK","","Order","FSCEIK",true,"STOMP","",0,0,38,"",false,false,false,805.5999999999999,975,{"$f":"ROUND(SUMIF('Combination lines'!$A:$H,Report!$AE7613,'Combination lines'!$H:$H),2)","v":805.6},null,204260,""]
["WK204270","Combinatieregel ",null,"","Maatwerk WK6344-EIK C mat gelaagd glas stomp",null,null,"","","BINNEN","MODERN","6344-EIK","MAT GELAAGD","","Order","FSCEIK",true,"STOMP","",0,0,38,"",false,false,false,922.1299999999999,1116,{"$f":"ROUND(SUMIF('Combination lines'!$A:$H,Report!$AE7614,'Combination lines'!$H:$H),2)","v":922.13},null,204270,""]
["WK204280","Combinatieregel ",null,"","Maatwerk WK6344-EIK C grijs getint glas stomp",null,null,"","","BINNEN","MODERN","6344-EIK","GRIJS GETINT","","Order","FSCEIK",true,"STOMP","",0,0,38,"",false,false,false,975.8499999999999,1181,{"$f":"ROUND(SUMIF('Combination lines'!$A:$H,Report!$AE7615,'Combination lines'!$H:$H),2)","v":975.85},null,204280,""]
["WK204290","Combinatieregel ",null,"","Maatwerk WK6344-EIK C brons getint glas stomp",null,null,"","","BINNEN","MODERN","6344-EIK","BRONS GETINT","","Order","FSCEIK",true,"STOMP","",0,0,38,"",false,false,false,975.8499999999999,1181,{"$f":"ROUND(SUMIF('Combination lines'!$A:$H,Report!$AE7616,'Combination lines'!$H:$H),2)","v":975.85},null,204290,""]
["WK204300","Combinatieregel ",null,"","Maatwerk WK6344-EIK C zwart glas stomp",null,null,"","","BINNEN","MODERN","6344-EIK","ZWART","","Order","FSCEIK",true,"STOMP","",0,0,38,"",false,false,false,1064.28,1288,{"$f":"ROUND(SUMIF('Combination lines'!$A:$H,Report!$AE7617,'Combination lines'!$H:$H),2)","v":1064.28},null,204300,""]
["WK204320","Combinatieregel ",null,"","Maatwerk WK6344-EIK C blank glas opdek",null,null,"","","BINNEN","MODERN","6344-EIK","BLANK","","Order","FSCEIK",true,"OPDEK","",0,0,38,"",false,true,false,818,990,{"$f":"ROUND(SUMIF('Combination lines'!$A:$H,Report!$AE7618,'Combination lines'!$H:$H),2)","v":818},null,204320,""]
["WK204330","Combinatieregel ",null,"","Maatwerk WK6344-EIK C mat gelaagd glas opdek",null,null,"","","BINNEN","MODERN","6344-EIK","MAT GELAAGD","","Order","FSCEIK",true,"OPDEK","",0,0,38,"",false,true,false,934.53,1131,{"$f":"ROUND(SUMIF('Combination lines'!$A:$H,Report!$AE7619,'Combination lines'!$H:$H),2)","v":934.53},null,204330,""]
["WK204340","Combinatieregel ",null,"","Maatwerk WK6344-EIK C grijs getint glas opdek",null,null,"","","BINNEN","MODERN","6344-EIK","GRIJS GETINT","","Order","FSCEIK",true,"OPDEK","",0,0,38,"",false,true,false,988.25,1196,{"$f":"ROUND(SUMIF('Combination lines'!$A:$H,Report!$AE7620,'Combination lines'!$H:$H),2)","v":988.25},null,204340,""]
["WK204350","Combinatieregel ",null,"","Maatwerk WK6344-EIK C brons getint glas opdek",null,null,"","","BINNEN","MODERN","6344-EIK","BRONS GETINT","","Order","FSCEIK",true,"OPDEK","",0,0,38,"",false,true,false,988.25,1196,{"$f":"ROUND(SUMIF('Combination lines'!$A:$H,Report!$AE7621,'Combination lines'!$H:$H),2)","v":988.25},null,204350,""]
["WK204360","Combinatieregel ",null,"","Maatwerk WK6344-EIK C zwart glas opdek",null,null,"","","BINNEN","MODERN","6344-EIK","ZWART","","Order","FSCEIK",true,"OPDEK","",0,0,38,"",false,true,false,1076.6799999999998,1303,{"$f":"ROUND(SUMIF('Combination lines'!$A:$H,Report!$AE7622,'Combination lines'!$H:$H),2)","v":1076.68},null,204360,""]
["WK204780","Combinatieregel ",null,"","mw WK042 54mm, BC geisoleerd, incl. ventilatiesleuven en vlakke iso-glaslatten",null,null,"","","BALKON","BIOISO","042BC","","","Order","",true,"","",0,0,54,"",false,false,false,914.05,1106,{"$f":"ROUND(SUMIF('Combination lines'!$A:$H,Report!$AE7623,'Combination lines'!$H:$H),2)","v":914.05},null,204780,""]
["WK204800","Combinatieregel ",null,"","mw WK043 54mm, BC geisoleerd, incl. ventilatiesleuven en vlakke iso-glaslatten",null,null,"","","BALKON","BIOISO","043BC","","","Order","",true,"","",0,0,54,"",false,false,false,952.89,1153,{"$f":"ROUND(SUMIF('Combination lines'!$A:$H,Report!$AE7624,'Combination lines'!$H:$H),2)","v":952.89},null,204800,""]
["WK204820","Combinatieregel ",null,"","mw WK044 54mm, BC geisoleerd, incl. ventilatiesleuven en vlakke iso-glaslatten",null,null,"","","BALKON","BIOISO","044BC","","","Order","",true,"","",0,0,54,"",false,false,false,971.9,1176,{"$f":"ROUND(SUMIF('Combination lines'!$A:$H,Report!$AE7625,'Combination lines'!$H:$H),2)","v":971.9},null,204820,""]
["WK204840","Combinatieregel ",null,"","mw WK045 54mm, BC geisoleerd, incl. ventilatiesleuven en vlakke iso-glaslatten",null,null,"","","BALKON","BIOISO","045BC","","","Order","",true,"","",0,0,54,"",false,false,false,972.73,1177,{"$f":"ROUND(SUMIF('Combination lines'!$A:$H,Report!$AE7626,'Combination lines'!$H:$H),2)","v":972.73},null,204840,""]
["WK204860","Combinatieregel ",null,"","mw WK046 54mm, BC geisoleerd, incl. ventilatiesleuven en vlakke iso-glaslatten",null,null,"","","BALKON","BIOISO","046BC","","","Order","",true,"","",0,0,54,"",false,false,false,1007.44,1219,{"$f":"ROUND(SUMIF('Combination lines'!$A:$H,Report!$AE7627,'Combination lines'!$H:$H),2)","v":1007.44},null,204860,""]
["WK204880","Combinatieregel ",null,"","mw WK047 54mm, BC geisoleerd, incl. ventilatiesleuven en vlakke iso-glaslatten",null,null,"","","BALKON","BIOISO","047BC","","","Order","",true,"","",0,0,54,"",false,false,false,1044.63,1264,{"$f":"ROUND(SUMIF('Combination lines'!$A:$H,Report!$AE7628,'Combination lines'!$H:$H),2)","v":1044.63},null,204880,""]
["WK204900","Combinatieregel ",null,"","mw WK048 54mm, BC geisoleerd, incl. ventilatiesleuven en vlakke iso-glaslatten",null,null,"","","BALKON","BIOISO","048BC","","","Order","",true,"","",0,0,54,"",false,false,false,1086.77,1315,{"$f":"ROUND(SUMIF('Combination lines'!$A:$H,Report!$AE7629,'Combination lines'!$H:$H),2)","v":1086.77},null,204900,""]
["WK204920","Combinatieregel ",null,"","mw WK049 54mm, BC geisoleerd, incl. ventilatiesleuven en vlakke iso-glaslatten",null,null,"","","BALKON","BIOISO","049BC","","","Order","",true,"","",0,0,54,"",false,false,false,1124.79,1361,{"$f":"ROUND(SUMIF('Combination lines'!$A:$H,Report!$AE7630,'Combination lines'!$H:$H),2)","v":1124.79},null,204920,""]
["WK204940","Combinatieregel ",null,"","mw WK134 54mm, BC geisoleerd, incl. ventilatiesleuven en vlakke iso-glaslatten",null,null,"","","BALKON","BIOISO","134BC","","","Order","",true,"","",0,0,54,"",false,false,false,1199.17,1451,{"$f":"ROUND(SUMIF('Combination lines'!$A:$H,Report!$AE7631,'Combination lines'!$H:$H),2)","v":1199.17},null,204940,""]
["WK205450","Combinatieregel ",null,"STUKS","mw WK1361 FSC MB 54mm",null,null,"","","LUXBUITEN","VD","1361","","","Order","FSCMB",true,"","",0,0,54,"",false,false,false,2723.9700000000003,3296,{"$f":"ROUND(SUMIF('Combination lines'!$A:$H,Report!$AE7632,'Combination lines'!$H:$H),2)","v":2723.97},null,205450,""]
["WK205460","Combinatieregel ",null,"STUKS","mw WK1223-1 54mm, FSC MB",null,null,"","","LUXBUITEN","VD","1223-1","","","Order","FSCMB",true,"","",0,0,54,"",false,false,false,2204.96,2668,{"$f":"ROUND(SUMIF('Combination lines'!$A:$H,Report!$AE7633,'Combination lines'!$H:$H),2)","v":2204.96},null,205460,"A010"]
[8718528307076,"Artikel",8718528307076,"STUKS","Smal dag en nacht cilinderslot","zwarte voorplaat","","HENS","SLOTEN","","","","SLOT","","Inventory","",false,"","",0,0,0,"",false,false,false,41.32,50,{"$f":"ROUND(AA7634*(1-VLOOKUP(AF7634,Discounts!C:E,3,0)),2)","v":41.32},null,151440,"O500"]
[8718528307151,"Artikel",8718528307151,"STUKS","Smal kastslot, klavier","zwarte voorplaat","","HENS","SLOTEN","","","","SLOT","","Inventory","",false,"","",0,0,0,"",false,false,false,41.32,50,{"$f":"ROUND(AA7635*(1-VLOOKUP(AF7635,Discounts!C:E,3,0)),2)","v":41.32},null,151440,"O500"]
[8718528307175,"Artikel",8718528307175,"STUKS","Smal dag- en nachtslot,","klavier, zwarte voorplaat","","HENS","SLOTEN","","","","SLOT","","Inventory","",false,"","",0,0,0,"",false,false,false,41.32,50,{"$f":"ROUND(AA7636*(1-VLOOKUP(AF7636,Discounts!C:E,3,0)),2)","v":41.32},null,151440,"O500"]
[8718528153857,"Artikel",8718528153857,"STUKS","WK6211 XL C3 stomp","wit 830x2315 slg/vpl","FSC Mix 70% CU-COC 800339","DEUR","BINNEN","BINNEN","MODERN","6211","","","Inventory","MDF",true,"STOMP","RAL 9003",2315,830,38,"",false,false,false,350.41,424,{"$f":"ROUND(AA7637*(1-VLOOKUP(AF7637,Discounts!C:E,3,0)),2)","v":350.41},null,151650,"B055"]
[8718528153864,"Artikel",8718528153864,"STUKS","WK6211 C3 stomp","wit 830x2015 slg/vpl","FSC Mix 70% CU-COC 800339","DEUR","BINNEN","BINNEN","MODERN","6211","","","Inventory","MDF",true,"STOMP","RAL 9003",2015,830,38,"",false,false,false,350.41,424,{"$f":"ROUND(AA7638*(1-VLOOKUP(AF7638,Discounts!C:E,3,0)),2)","v":350.41},null,151650,"B055"]
[8718528153871,"Artikel",8718528153871,"STUKS","WK6211 XL C3 stomp","wit 880x2315 slg/vpl","FSC Mix 70% CU-COC 800339","DEUR","BINNEN","BINNEN","MODERN","6211","","","Inventory","MDF",true,"STOMP","RAL 9003",2315,880,38,"",false,false,false,350.41,424,{"$f":"ROUND(AA7639*(1-VLOOKUP(AF7639,Discounts!C:E,3,0)),2)","v":350.41},null,151650,"B055"]
[8718528153888,"Artikel",8718528153888,"STUKS","WK6211 C3 stomp","wit 880x2115 slg/vpl","FSC Mix 70% CU-COC 800339","DEUR","BINNEN","BINNEN","MODERN","6211","","","Inventory","MDF",true,"STOMP","RAL 9003",2115,880,38,"",false,false,false,350.41,424,{"$f":"ROUND(AA7640*(1-VLOOKUP(AF7640,Discounts!C:E,3,0)),2)","v":350.41},null,151650,"B055"]
[8718528153895,"Artikel",8718528153895,"STUKS","WK6211 XL C3 stomp","wit 930x2315 slg/vpl","FSC Mix 70% CU-COC 800339","DEUR","BINNEN","BINNEN","MODERN","6211","","","Inventory","MDF",true,"STOMP","RAL 9003",2315,930,38,"",false,false,false,350.41,424,{"$f":"ROUND(AA7641*(1-VLOOKUP(AF7641,Discounts!C:E,3,0)),2)","v":350.41},null,151650,"B055"]
[8718528153901,"Artikel",8718528153901,"STUKS","WK6211 C3 stomp","wit 930x2115 slg/vpl","FSC Mix 70% CU-COC 800339","DEUR","BINNEN","BINNEN","MODERN","6211","","","Inventory","MDF",true,"STOMP","RAL 9003",2115,930,38,"",false,false,false,350.41,424,{"$f":"ROUND(AA7642*(1-VLOOKUP(AF7642,Discounts!C:E,3,0)),2)","v":350.41},null,151650,"B055"]
[8718528153918,"Artikel",8718528153918,"STUKS","WK6211 C3 stomp","wit 930x2015 slg/vpl","FSC Mix 70% CU-COC 800339","DEUR","BINNEN","BINNEN","MODERN","6211","","","Inventory","MDF",true,"STOMP","RAL 9003",2015,930,38,"",false,false,false,350.41,424,{"$f":"ROUND(AA7643*(1-VLOOKUP(AF7643,Discounts!C:E,3,0)),2)","v":350.41},null,151650,"B055"]
[8718528153994,"Artikel",8718528153994,"STUKS","WK6211 C3 stomp","wit 830x2115 slg/vpl","FSC Mix 70% CU-COC 800339","DEUR","BINNEN","BINNEN","MODERN","6211","","","Inventory","MDF",true,"STOMP","RAL 9003",2115,830,38,"",false,false,false,350.41,424,{"$f":"ROUND(AA7644*(1-VLOOKUP(AF7644,Discounts!C:E,3,0)),2)","v":350.41},null,151650,"B055"]
[8718528154014,"Artikel",8718528154014,"STUKS","WK6211 C3 stomp","wit 730x2015 slg/vpl","FSC Mix 70% CU-COC 800339","DEUR","BINNEN","BINNEN","MODERN","6211","","","Inventory","MDF",true,"STOMP","RAL 9003",2015,730,38,"",false,false,false,350.41,424,{"$f":"ROUND(AA7645*(1-VLOOKUP(AF7645,Discounts!C:E,3,0)),2)","v":350.41},null,151650,"B055"]
[8718528154021,"Artikel",8718528154021,"STUKS","WK6211 C3 stomp","wit 730x2115 slg/vpl","FSC Mix 70% CU-COC 800339","DEUR","BINNEN","BINNEN","MODERN","6211","","","Inventory","MDF",true,"STOMP","RAL 9003",2115,730,38,"",false,false,false,350.41,424,{"$f":"ROUND(AA7646*(1-VLOOKUP(AF7646,Discounts!C:E,3,0)),2)","v":350.41},null,151650,"B055"]
[8718528154038,"Artikel",8718528154038,"STUKS","WK6211 XL C3 stomp","wit 730x2315 slg/vpl","FSC Mix 70% CU-COC 800339","DEUR","BINNEN","BINNEN","MODERN","6211","","","Inventory","MDF",true,"STOMP","RAL 9003",2315,730,38,"",false,false,false,350.41,424,{"$f":"ROUND(AA7647*(1-VLOOKUP(AF7647,Discounts!C:E,3,0)),2)","v":350.41},null,151650,"B055"]
[8718528154045,"Artikel",8718528154045,"STUKS","WK6211 C3 stomp","wit 780x2015 slg/vpl","FSC Mix 70% CU-COC 800339","DEUR","BINNEN","BINNEN","MODERN","6211","","","Inventory","MDF",true,"STOMP","RAL 9003",2015,780,38,"",false,false,false,350.41,424,{"$f":"ROUND(AA7648*(1-VLOOKUP(AF7648,Discounts!C:E,3,0)),2)","v":350.41},null,151650,"B055"]
[8718528154052,"Artikel",8718528154052,"STUKS","WK6211 C3 stomp","wit 780x2115 slg/vpl","FSC Mix 70% CU-COC 800339","DEUR","BINNEN","BINNEN","MODERN","6211","","","Inventory","MDF",true,"STOMP","RAL 9003",2115,780,38,"",false,false,false,350.41,424,{"$f":"ROUND(AA7649*(1-VLOOKUP(AF7649,Discounts!C:E,3,0)),2)","v":350.41},null,151650,"B055"]
[8718528154069,"Artikel",8718528154069,"STUKS","WK6211 XL C3 stomp","wit 780x2315 slg/vpl","FSC Mix 70% CU-COC 800339","DEUR","BINNEN","BINNEN","MODERN","6211","","","Inventory","MDF",true,"STOMP","RAL 9003",2315,780,38,"",false,false,false,350.41,424,{"$f":"ROUND(AA7650*(1-VLOOKUP(AF7650,Discounts!C:E,3,0)),2)","v":350.41},null,151650,"B055"]
[8718528154076,"Artikel",8718528154076,"STUKS","WK6211 C3 stomp","wit 880x2015 slg/vpl","FSC Mix 70% CU-COC 800339","DEUR","BINNEN","BINNEN","MODERN","6211","","","Inventory","MDF",true,"STOMP","RAL 9003",2015,880,38,"",false,false,false,350.41,424,{"$f":"ROUND(AA7651*(1-VLOOKUP(AF7651,Discounts!C:E,3,0)),2)","v":350.41},null,151650,"B055"]
[8718528153925,"Artikel",8718528153925,"STUKS","WK6243 C3 stomp","wit 830x2115 slg/vpl","FSC Mix 70% CU-COC 800339","DEUR","BINNEN","BINNEN","MODERN","6243","","","Inventory","MDF",true,"STOMP","RAL 9003",2115,830,38,"",false,false,false,473.55,573,{"$f":"ROUND(AA7652*(1-VLOOKUP(AF7652,Discounts!C:E,3,0)),2)","v":473.55},null,151660,"B055"]
[8718528153932,"Artikel",8718528153932,"STUKS","WK6243 C3 stomp","wit 830x2015 slg/vpl","FSC Mix 70% CU-COC 800339","DEUR","BINNEN","BINNEN","MODERN","6243","","","Inventory","MDF",true,"STOMP","RAL 9003",2015,830,38,"",false,false,false,473.55,573,{"$f":"ROUND(AA7653*(1-VLOOKUP(AF7653,Discounts!C:E,3,0)),2)","v":473.55},null,151660,"B055"]
[8718528153949,"Artikel",8718528153949,"STUKS","WK6243 XL C3 stomp","wit 880x2315 slg/vpl","FSC Mix 70% CU-COC 800339","DEUR","BINNEN","BINNEN","MODERN","6243","","","Inventory","MDF",true,"STOMP","RAL 9003",2315,880,38,"",false,false,false,473.55,573,{"$f":"ROUND(AA7654*(1-VLOOKUP(AF7654,Discounts!C:E,3,0)),2)","v":473.55},null,151660,"B055"]
[8718528153956,"Artikel",8718528153956,"STUKS","WK6243 C3 stomp","wit 880x2115 slg/vpl","FSC Mix 70% CU-COC 800339","DEUR","BINNEN","BINNEN","MODERN","6243","","","Inventory","MDF",true,"STOMP","RAL 9003",2115,880,38,"",false,false,false,473.55,573,{"$f":"ROUND(AA7655*(1-VLOOKUP(AF7655,Discounts!C:E,3,0)),2)","v":473.55},null,151660,"B055"]
[8718528153963,"Artikel",8718528153963,"STUKS","WK6243 C3 stomp","wit 880x2015 slg/vpl","FSC Mix 70% CU-COC 800339","DEUR","BINNEN","BINNEN","MODERN","6243","","","Inventory","MDF",true,"STOMP","RAL 9003",2015,880,38,"",false,false,false,473.55,573,{"$f":"ROUND(AA7656*(1-VLOOKUP(AF7656,Discounts!C:E,3,0)),2)","v":473.55},null,151660,"B055"]
[8718528153970,"Artikel",8718528153970,"STUKS","WK6243 XL C3 stomp","wit 930x2315 slg/vpl","FSC Mix 70% CU-COC 800339","DEUR","BINNEN","BINNEN","MODERN","6243","","","Inventory","MDF",true,"STOMP","RAL 9003",2315,930,38,"",false,false,false,473.55,573,{"$f":"ROUND(AA7657*(1-VLOOKUP(AF7657,Discounts!C:E,3,0)),2)","v":473.55},null,151660,"B055"]
[8718528153987,"Artikel",8718528153987,"STUKS","WK6243 C3 stomp","wit 930x2115 slg/vpl","FSC Mix 70% CU-COC 800339","DEUR","BINNEN","BINNEN","MODERN","6243","","","Inventory","MDF",true,"STOMP","RAL 9003",2115,930,38,"",false,false,false,473.55,573,{"$f":"ROUND(AA7658*(1-VLOOKUP(AF7658,Discounts!C:E,3,0)),2)","v":473.55},null,151660,"B055"]
[8718528154007,"Artikel",8718528154007,"STUKS","WK6243 C3 stomp","wit 930x2015 slg/vpl","FSC Mix 70% CU-COC 800339","DEUR","BINNEN","BINNEN","MODERN","6243","","","Inventory","MDF",true,"STOMP","RAL 9003",2015,930,38,"",false,false,false,473.55,573,{"$f":"ROUND(AA7659*(1-VLOOKUP(AF7659,Discounts!C:E,3,0)),2)","v":473.55},null,151660,"B055"]
[8718528154083,"Artikel",8718528154083,"STUKS","WK6243 C3 stomp","wit 730x2015 slg/vpl","FSC Mix 70% CU-COC 800339","DEUR","BINNEN","BINNEN","MODERN","6243","","","Inventory","MDF",true,"STOMP","RAL 9003",2015,730,38,"",false,false,false,473.55,573,{"$f":"ROUND(AA7660*(1-VLOOKUP(AF7660,Discounts!C:E,3,0)),2)","v":473.55},null,151660,"B055"]
[8718528154090,"Artikel",8718528154090,"STUKS","WK6243 C3 stomp","wit 730x2115 slg/vpl","FSC Mix 70% CU-COC 800339","DEUR","BINNEN","BINNEN","MODERN","6243","","","Inventory","MDF",true,"STOMP","RAL 9003",2115,730,38,"",false,false,false,473.55,573,{"$f":"ROUND(AA7661*(1-VLOOKUP(AF7661,Discounts!C:E,3,0)),2)","v":473.55},null,151660,"B055"]
[8718528154106,"Artikel",8718528154106,"STUKS","WK6243 XL C3 stomp","wit 730x2315 slg/vpl","FSC Mix 70% CU-COC 800339","DEUR","BINNEN","BINNEN","MODERN","6243","","","Inventory","MDF",true,"STOMP","RAL 9003",2315,730,38,"",false,false,false,473.55,573,{"$f":"ROUND(AA7662*(1-VLOOKUP(AF7662,Discounts!C:E,3,0)),2)","v":473.55},null,151660,"B055"]
[8718528154113,"Artikel",8718528154113,"STUKS","WK6243 C3 stomp","wit 780x2015 slg/vpl","FSC Mix 70% CU-COC 800339","DEUR","BINNEN","BINNEN","MODERN","6243","","","Inventory","MDF",true,"STOMP","RAL 9003",2015,780,38,"",false,false,false,473.55,573,{"$f":"ROUND(AA7663*(1-VLOOKUP(AF7663,Discounts!C:E,3,0)),2)","v":473.55},null,151660,"B055"]
[8718528154120,"Artikel",8718528154120,"STUKS","WK6243 C3 stomp","wit 780x2115 slg/vpl","FSC Mix 70% CU-COC 800339","DEUR","BINNEN","BINNEN","MODERN","6243","","","Inventory","MDF",true,"STOMP","RAL 9003",2115,780,38,"",false,false,false,473.55,573,{"$f":"ROUND(AA7664*(1-VLOOKUP(AF7664,Discounts!C:E,3,0)),2)","v":473.55},null,151660,"B055"]
[8718528154137,"Artikel",8718528154137,"STUKS","WK6243 XL C3 stomp","wit 780x2315 slg/vpl","FSC Mix 70% CU-COC 800339","DEUR","BINNEN","BINNEN","MODERN","6243","","","Inventory","MDF",true,"STOMP","RAL 9003",2315,780,38,"",false,false,false,473.55,573,{"$f":"ROUND(AA7665*(1-VLOOKUP(AF7665,Discounts!C:E,3,0)),2)","v":473.55},null,151660,"B055"]
[8718528154144,"Artikel",8718528154144,"STUKS","WK6243 XL C3 stomp","wit 830x2315 slg/vpl","FSC Mix 70% CU-COC 800339","DEUR","BINNEN","BINNEN","MODERN","6243","","","Inventory","MDF",true,"STOMP","RAL 9003",2315,830,38,"",false,false,false,473.55,573,{"$f":"ROUND(AA7666*(1-VLOOKUP(AF7666,Discounts!C:E,3,0)),2)","v":473.55},null,151660,"B055"]
[8718528017562,"Artikel",8718528017562,"STUKS","WK6511 B2 stomp","wit 730x2015 slg/vpl","FSC Mix 70% CU-COC 800339","DEUR","BINNEN","BINNEN","MODERN","6511","","","Inventory","MDF",true,"STOMP","",2015,730,38,"",false,false,false,336.36,407,{"$f":"ROUND(AA7667*(1-VLOOKUP(AF7667,Discounts!C:E,3,0)),2)","v":336.36},null,151690,"B055"]
[8718528017593,"Artikel",8718528017593,"STUKS","WK6511 B2 stomp","wit 730x2115 slg/vpl","FSC Mix 70% CU-COC 800339","DEUR","BINNEN","BINNEN","MODERN","6511","","","Inventory","MDF",true,"STOMP","",2115,730,38,"",false,false,false,336.36,407,{"$f":"ROUND(AA7668*(1-VLOOKUP(AF7668,Discounts!C:E,3,0)),2)","v":336.36},null,151690,"B055"]
[8718528017623,"Artikel",8718528017623,"STUKS","WK6511 XL B2 stomp","wit 730x2315 slg/vpl","FSC Mix 70% CU-COC 800339","DEUR","BINNEN","BINNEN","MODERN","6511","","","Inventory","MDF",true,"STOMP","",2315,730,38,"",false,false,false,336.36,407,{"$f":"ROUND(AA7669*(1-VLOOKUP(AF7669,Discounts!C:E,3,0)),2)","v":336.36},null,151690,"B055"]
[8718528017654,"Artikel",8718528017654,"STUKS","WK6511 B2 stomp","wit 780x2015 slg/vpl","FSC Mix 70% CU-COC 800339","DEUR","BINNEN","BINNEN","MODERN","6511","","","Inventory","MDF",true,"STOMP","",2015,780,38,"",false,false,false,336.36,407,{"$f":"ROUND(AA7670*(1-VLOOKUP(AF7670,Discounts!C:E,3,0)),2)","v":336.36},null,151690,"B055"]
[8718528017685,"Artikel",8718528017685,"STUKS","WK6511 B2 stomp","wit 780x2115 slg/vpl","FSC Mix 70% CU-COC 800339","DEUR","BINNEN","BINNEN","MODERN","6511","","","Inventory","MDF",true,"STOMP","",2115,780,38,"",false,false,false,336.36,407,{"$f":"ROUND(AA7671*(1-VLOOKUP(AF7671,Discounts!C:E,3,0)),2)","v":336.36},null,151690,"B055"]
[8718528017715,"Artikel",8718528017715,"STUKS","WK6511 XL B2 stomp","wit 780x2315 slg/vpl","FSC Mix 70% CU-COC 800339","DEUR","BINNEN","BINNEN","MODERN","6511","","","Inventory","MDF",true,"STOMP","",2315,780,38,"",false,false,false,336.36,407,{"$f":"ROUND(AA7672*(1-VLOOKUP(AF7672,Discounts!C:E,3,0)),2)","v":336.36},null,151690,"B055"]
[8718528017746,"Artikel",8718528017746,"STUKS","WK6511 B2 stomp","wit 830x2015 slg/vpl","FSC Mix 70% CU-COC 800339","DEUR","BINNEN","BINNEN","MODERN","6511","","","Inventory","MDF",true,"STOMP","",2015,830,38,"",false,false,false,336.36,407,{"$f":"ROUND(AA7673*(1-VLOOKUP(AF7673,Discounts!C:E,3,0)),2)","v":336.36},null,151690,"B055"]
[8718528017777,"Artikel",8718528017777,"STUKS","WK6511 B2 stomp","wit 830x2115 slg/vpl","FSC Mix 70% CU-COC 800339","DEUR","BINNEN","BINNEN","MODERN","6511","","","Inventory","MDF",true,"STOMP","",2115,830,38,"",false,false,false,336.36,407,{"$f":"ROUND(AA7674*(1-VLOOKUP(AF7674,Discounts!C:E,3,0)),2)","v":336.36},null,151690,"B055"]
[8718528017807,"Artikel",8718528017807,"STUKS","WK6511 XL B2 stomp","wit 830x2315 slg/vpl","FSC Mix 70% CU-COC 800339","DEUR","BINNEN","BINNEN","MODERN","6511","","","Inventory","MDF",true,"STOMP","",2315,830,38,"",false,false,false,336.36,407,{"$f":"ROUND(AA7675*(1-VLOOKUP(AF7675,Discounts!C:E,3,0)),2)","v":336.36},null,151690,"B055"]
[8718528017838,"Artikel",8718528017838,"STUKS","WK6511 B2 stomp","wit 880x2015 slg/vpl","FSC Mix 70% CU-COC 800339","DEUR","BINNEN","BINNEN","MODERN","6511","","","Inventory","MDF",true,"STOMP","",2015,880,38,"",false,false,false,336.36,407,{"$f":"ROUND(AA7676*(1-VLOOKUP(AF7676,Discounts!C:E,3,0)),2)","v":336.36},null,151690,"B055"]
[8718528017845,"Artikel",8718528017845,"STUKS","WK6511 B2 stomp","wit 880x2115 slg/vpl","FSC Mix 70% CU-COC 800339","DEUR","BINNEN","BINNEN","MODERN","6511","","","Inventory","MDF",true,"STOMP","",2115,880,38,"",false,false,false,336.36,407,{"$f":"ROUND(AA7677*(1-VLOOKUP(AF7677,Discounts!C:E,3,0)),2)","v":336.36},null,151690,"B055"]
[8718528017876,"Artikel",8718528017876,"STUKS","WK6511 XL B2 stomp","wit 880x2315 slg/vpl","FSC Mix 70% CU-COC 800339","DEUR","BINNEN","BINNEN","MODERN","6511","","","Inventory","MDF",true,"STOMP","",2315,880,38,"",false,false,false,336.36,407,{"$f":"ROUND(AA7678*(1-VLOOKUP(AF7678,Discounts!C:E,3,0)),2)","v":336.36},null,151690,"B055"]
[8718528017906,"Artikel",8718528017906,"STUKS","WK6511 B2 stomp","wit 930x2015 slg/vpl","FSC Mix 70% CU-COC 800339","DEUR","BINNEN","BINNEN","MODERN","6511","","","Inventory","MDF",true,"STOMP","",2015,930,38,"",false,false,false,336.36,407,{"$f":"ROUND(AA7679*(1-VLOOKUP(AF7679,Discounts!C:E,3,0)),2)","v":336.36},null,151690,"B055"]
[8718528017913,"Artikel",8718528017913,"STUKS","WK6511 B2 stomp","wit 930x2115 slg/vpl","FSC Mix 70% CU-COC 800339","DEUR","BINNEN","BINNEN","MODERN","6511","","","Inventory","MDF",true,"STOMP","",2115,930,38,"",false,false,false,336.36,407,{"$f":"ROUND(AA7680*(1-VLOOKUP(AF7680,Discounts!C:E,3,0)),2)","v":336.36},null,151690,"B055"]
[8718528017944,"Artikel",8718528017944,"STUKS","WK6511 XL B2 stomp","wit 930x2315 slg/vpl","FSC Mix 70% CU-COC 800339","DEUR","BINNEN","BINNEN","MODERN","6511","","","Inventory","MDF",true,"STOMP","",2315,930,38,"",false,false,false,336.36,407,{"$f":"ROUND(AA7681*(1-VLOOKUP(AF7681,Discounts!C:E,3,0)),2)","v":336.36},null,151690,"B055"]
[8718528100905,"Artikel",8718528100905,"STUKS","WK6511 B2 stomp","wit 630x2015 slg/vpl","FSC Mix 70% CU-COC 800339","DEUR","BINNEN","BINNEN","MODERN","6511","","","Inventory","MDF",true,"STOMP","",2015,630,38,"",false,false,false,336.36,407,{"$f":"ROUND(AA7682*(1-VLOOKUP(AF7682,Discounts!C:E,3,0)),2)","v":336.36},null,151690,"B055"]
[8718528100912,"Artikel",8718528100912,"STUKS","WK6511 B2 stomp","wit 630x2115 slg/vpl","FSC Mix 70% CU-COC 800339","DEUR","BINNEN","BINNEN","MODERN","6511","","","Inventory","MDF",true,"STOMP","",2115,630,38,"",false,false,false,336.36,407,{"$f":"ROUND(AA7683*(1-VLOOKUP(AF7683,Discounts!C:E,3,0)),2)","v":336.36},null,151690,"B055"]
[8718528100929,"Artikel",8718528100929,"STUKS","WK6511 XL B2 stomp","wit 630x2315 slg/vpl","FSC Mix 70% CU-COC 800339","DEUR","BINNEN","BINNEN","MODERN","6511","","","Inventory","MDF",true,"STOMP","",2315,630,38,"",false,false,false,336.36,407,{"$f":"ROUND(AA7684*(1-VLOOKUP(AF7684,Discounts!C:E,3,0)),2)","v":336.36},null,151690,"B055"]
[8718528100936,"Artikel",8718528100936,"STUKS","WK6511 B2 stomp","wit 680x2015 slg/vpl","FSC Mix 70% CU-COC 800339","DEUR","BINNEN","BINNEN","MODERN","6511","","","Inventory","MDF",true,"STOMP","",2015,680,38,"",false,false,false,336.36,407,{"$f":"ROUND(AA7685*(1-VLOOKUP(AF7685,Discounts!C:E,3,0)),2)","v":336.36},null,151690,"B055"]
[8718528100943,"Artikel",8718528100943,"STUKS","WK6511 B2 stomp","wit 680x2115 slg/vpl","FSC Mix 70% CU-COC 800339","DEUR","BINNEN","BINNEN","MODERN","6511","","","Inventory","MDF",true,"STOMP","",2115,680,38,"",false,false,false,336.36,407,{"$f":"ROUND(AA7686*(1-VLOOKUP(AF7686,Discounts!C:E,3,0)),2)","v":336.36},null,151690,"B055"]
[8718528100950,"Artikel",8718528100950,"STUKS","WK6511 XL B2 stomp","wit 680x2315 slg/vpl","FSC Mix 70% CU-COC 800339","DEUR","BINNEN","BINNEN","MODERN","6511","","","Inventory","MDF",true,"STOMP","",2315,680,38,"",false,false,false,336.36,407,{"$f":"ROUND(AA7687*(1-VLOOKUP(AF7687,Discounts!C:E,3,0)),2)","v":336.36},null,151690,"B055"]
[8718528017579,"Artikel",8718528017579,"STUKS","WK6511 B2 opdek links","wit 730x2015 slg/vpl","FSC Mix 70% CU-COC 800339","DEUR","BINNEN","BINNEN","MODERN","6511","","","Inventory","",true,"OPDEK","",2015,730,38,"",false,true,false,348.76,422,{"$f":"ROUND(AA7688*(1-VLOOKUP(AF7688,Discounts!C:E,3,0)),2)","v":348.76},null,151700,"B055"]
[8718528017586,"Artikel",8718528017586,"STUKS","WK6511 B2 opdek rechts","wit 730x2015 slg/vpl","FSC Mix 70% CU-COC 800339","DEUR","BINNEN","BINNEN","MODERN","6511","","","Inventory","",true,"OPDEK","",2015,730,38,"",false,true,false,348.76,422,{"$f":"ROUND(AA7689*(1-VLOOKUP(AF7689,Discounts!C:E,3,0)),2)","v":348.76},null,151700,"B055"]
[8718528017609,"Artikel",8718528017609,"STUKS","WK6511 B2 opdek links","wit 730x2115 slg/vpl","FSC Mix 70% CU-COC 800339","DEUR","BINNEN","BINNEN","MODERN","6511","","","Inventory","",true,"OPDEK","",2115,730,38,"",false,true,false,348.76,422,{"$f":"ROUND(AA7690*(1-VLOOKUP(AF7690,Discounts!C:E,3,0)),2)","v":348.76},null,151700,"B055"]
[8718528017616,"Artikel",8718528017616,"STUKS","WK6511 B2 opdek rechts","wit 730x2115 slg/vpl","FSC Mix 70% CU-COC 800339","DEUR","BINNEN","BINNEN","MODERN","6511","","","Inventory","",true,"OPDEK","",2115,730,38,"",false,true,false,348.76,422,{"$f":"ROUND(AA7691*(1-VLOOKUP(AF7691,Discounts!C:E,3,0)),2)","v":348.76},null,151700,"B055"]
[8718528017630,"Artikel",8718528017630,"STUKS","WK6511 XL B2 opdek links","wit 730x2315 slg/vpl","FSC Mix 70% CU-COC 800339","DEUR","BINNEN","BINNEN","MODERN","6511","","","Inventory","",true,"OPDEK","",2315,730,38,"",false,true,false,348.76,422,{"$f":"ROUND(AA7692*(1-VLOOKUP(AF7692,Discounts!C:E,3,0)),2)","v":348.76},null,151700,"B055"]
[8718528017647,"Artikel",8718528017647,"STUKS","WK6511 XL B2 opdek rechts","wit 730x2315 slg/vpl","FSC Mix 70% CU-COC 800339","DEUR","BINNEN","BINNEN","MODERN","6511","","","Inventory","",true,"OPDEK","",2315,730,38,"",false,true,false,348.76,422,{"$f":"ROUND(AA7693*(1-VLOOKUP(AF7693,Discounts!C:E,3,0)),2)","v":348.76},null,151700,"B055"]
[8718528017661,"Artikel",8718528017661,"STUKS","WK6511 B2 opdek links","wit 780x2015 slg/vpl","FSC Mix 70% CU-COC 800339","DEUR","BINNEN","BINNEN","MODERN","6511","","","Inventory","",true,"OPDEK","",2015,780,38,"",false,true,false,348.76,422,{"$f":"ROUND(AA7694*(1-VLOOKUP(AF7694,Discounts!C:E,3,0)),2)","v":348.76},null,151700,"B055"]
[8718528017678,"Artikel",8718528017678,"STUKS","WK6511 B2 opdek rechts","wit 780x2015 slg/vpl","FSC Mix 70% CU-COC 800339","DEUR","BINNEN","BINNEN","MODERN","6511","","","Inventory","",true,"OPDEK","",2015,780,38,"",false,true,false,348.76,422,{"$f":"ROUND(AA7695*(1-VLOOKUP(AF7695,Discounts!C:E,3,0)),2)","v":348.76},null,151700,"B055"]
[8718528017692,"Artikel",8718528017692,"STUKS","WK6511 B2 opdek links","wit 780x2115 slg/vpl","FSC Mix 70% CU-COC 800339","DEUR","BINNEN","BINNEN","MODERN","6511","","","Inventory","",true,"OPDEK","",2115,780,38,"",false,true,false,348.76,422,{"$f":"ROUND(AA7696*(1-VLOOKUP(AF7696,Discounts!C:E,3,0)),2)","v":348.76},null,151700,"B055"]
[8718528017708,"Artikel",8718528017708,"STUKS","WK6511 B2 opdek rechts","wit 780x2115 slg/vpl","FSC Mix 70% CU-COC 800339","DEUR","BINNEN","BINNEN","MODERN","6511","","","Inventory","",true,"OPDEK","",2115,780,38,"",false,true,false,348.76,422,{"$f":"ROUND(AA7697*(1-VLOOKUP(AF7697,Discounts!C:E,3,0)),2)","v":348.76},null,151700,"B055"]
[8718528017722,"Artikel",8718528017722,"STUKS","WK6511 XL B2 opdek links","wit 780x2315 slg/vpl","FSC Mix 70% CU-COC 800339","DEUR","BINNEN","BINNEN","MODERN","6511","","","Inventory","",true,"OPDEK","",2315,780,38,"",false,true,false,348.76,422,{"$f":"ROUND(AA7698*(1-VLOOKUP(AF7698,Discounts!C:E,3,0)),2)","v":348.76},null,151700,"B055"]
[8718528017739,"Artikel",8718528017739,"STUKS","WK6511 XL B2 opdek rechts","wit 780x2315 slg/vpl","FSC Mix 70% CU-COC 800339","DEUR","BINNEN","BINNEN","MODERN","6511","","","Inventory","",true,"OPDEK","",2315,780,38,"",false,true,false,348.76,422,{"$f":"ROUND(AA7699*(1-VLOOKUP(AF7699,Discounts!C:E,3,0)),2)","v":348.76},null,151700,"B055"]
[8718528017753,"Artikel",8718528017753,"STUKS","WK6511 B2 opdek links","wit 830x2015 slg/vpl","FSC Mix 70% CU-COC 800339","DEUR","BINNEN","BINNEN","MODERN","6511","","","Inventory","",true,"OPDEK","",2015,830,38,"",false,true,false,348.76,422,{"$f":"ROUND(AA7700*(1-VLOOKUP(AF7700,Discounts!C:E,3,0)),2)","v":348.76},null,151700,"B055"]
[8718528017760,"Artikel",8718528017760,"STUKS","WK6511 B2 opdek rechts","wit 830x2015 slg/vpl","FSC Mix 70% CU-COC 800339","DEUR","BINNEN","BINNEN","MODERN","6511","","","Inventory","",true,"OPDEK","",2015,830,38,"",false,true,false,348.76,422,{"$f":"ROUND(AA7701*(1-VLOOKUP(AF7701,Discounts!C:E,3,0)),2)","v":348.76},null,151700,"B055"]
[8718528017784,"Artikel",8718528017784,"STUKS","WK6511 B2 opdek links","wit 830x2115 slg/vpl","FSC Mix 70% CU-COC 800339","DEUR","BINNEN","BINNEN","MODERN","6511","","","Inventory","",true,"OPDEK","",2115,830,38,"",false,true,false,348.76,422,{"$f":"ROUND(AA7702*(1-VLOOKUP(AF7702,Discounts!C:E,3,0)),2)","v":348.76},null,151700,"B055"]
[8718528017791,"Artikel",8718528017791,"STUKS","WK6511 B2 opdek rechts","wit 830x2115 slg/vpl","FSC Mix 70% CU-COC 800339","DEUR","BINNEN","BINNEN","MODERN","6511","","","Inventory","",true,"OPDEK","",2115,830,38,"",false,true,false,348.76,422,{"$f":"ROUND(AA7703*(1-VLOOKUP(AF7703,Discounts!C:E,3,0)),2)","v":348.76},null,151700,"B055"]
[8718528017814,"Artikel",8718528017814,"STUKS","WK6511 XL B2 opdek links","wit 830x2315 slg/vpl","FSC Mix 70% CU-COC 800339","DEUR","BINNEN","BINNEN","MODERN","6511","","","Inventory","",true,"OPDEK","",2315,830,38,"",false,true,false,348.76,422,{"$f":"ROUND(AA7704*(1-VLOOKUP(AF7704,Discounts!C:E,3,0)),2)","v":348.76},null,151700,"B055"]
[8718528017821,"Artikel",8718528017821,"STUKS","WK6511 XL B2 opdek rechts","wit 830x2315 slg/vpl","FSC Mix 70% CU-COC 800339","DEUR","BINNEN","BINNEN","MODERN","6511","","","Inventory","",true,"OPDEK","",2315,830,38,"",false,true,false,348.76,422,{"$f":"ROUND(AA7705*(1-VLOOKUP(AF7705,Discounts!C:E,3,0)),2)","v":348.76},null,151700,"B055"]
[8718528017852,"Artikel",8718528017852,"STUKS","WK6511 B2 opdek links","wit 880x2115 slg/vpl","FSC Mix 70% CU-COC 800339","DEUR","BINNEN","BINNEN","MODERN","6511","","","Inventory","",true,"OPDEK","",2115,880,38,"",false,true,false,348.76,422,{"$f":"ROUND(AA7706*(1-VLOOKUP(AF7706,Discounts!C:E,3,0)),2)","v":348.76},null,151700,"B055"]
[8718528017869,"Artikel",8718528017869,"STUKS","WK6511 B2 opdek rechts","wit 880x2115 slg/vpl","FSC Mix 70% CU-COC 800339","DEUR","BINNEN","BINNEN","MODERN","6511","","","Inventory","",true,"OPDEK","",2115,880,38,"",false,true,false,348.76,422,{"$f":"ROUND(AA7707*(1-VLOOKUP(AF7707,Discounts!C:E,3,0)),2)","v":348.76},null,151700,"B055"]
[8718528017883,"Artikel",8718528017883,"STUKS","WK6511 XL B2 opdek links","wit 880x2315 slg/vpl","FSC Mix 70% CU-COC 800339","DEUR","BINNEN","BINNEN","MODERN","6511","","","Inventory","",true,"OPDEK","",2315,880,38,"",false,true,false,348.76,422,{"$f":"ROUND(AA7708*(1-VLOOKUP(AF7708,Discounts!C:E,3,0)),2)","v":348.76},null,151700,"B055"]
[8718528017890,"Artikel",8718528017890,"STUKS","WK6511 XL B2 opdek rechts","wit 880x2315 slg/vpl","FSC Mix 70% CU-COC 800339","DEUR","BINNEN","BINNEN","MODERN","6511","","","Inventory","",true,"OPDEK","",2315,880,38,"",false,true,false,348.76,422,{"$f":"ROUND(AA7709*(1-VLOOKUP(AF7709,Discounts!C:E,3,0)),2)","v":348.76},null,151700,"B055"]
[8718528017920,"Artikel",8718528017920,"STUKS","WK6511 B2 opdek links","wit 930x2115 slg/vpl","FSC Mix 70% CU-COC 800339","DEUR","BINNEN","BINNEN","MODERN","6511","","","Inventory","",true,"OPDEK","",2115,930,38,"",false,true,false,348.76,422,{"$f":"ROUND(AA7710*(1-VLOOKUP(AF7710,Discounts!C:E,3,0)),2)","v":348.76},null,151700,"B055"]
[8718528017937,"Artikel",8718528017937,"STUKS","WK6511 B2 opdek rechts","wit 930x2115 slg/vpl","FSC Mix 70% CU-COC 800339","DEUR","BINNEN","BINNEN","MODERN","6511","","","Inventory","",true,"OPDEK","",2115,930,38,"",false,true,false,348.76,422,{"$f":"ROUND(AA7711*(1-VLOOKUP(AF7711,Discounts!C:E,3,0)),2)","v":348.76},null,151700,"B055"]
[8718528017951,"Artikel",8718528017951,"STUKS","WK6511 XL B2 opdek links","wit 930x2315 slg/vpl","FSC Mix 70% CU-COC 800339","DEUR","BINNEN","BINNEN","MODERN","6511","","","Inventory","",true,"OPDEK","",2315,930,38,"",false,true,false,348.76,422,{"$f":"ROUND(AA7712*(1-VLOOKUP(AF7712,Discounts!C:E,3,0)),2)","v":348.76},null,151700,"B055"]
[8718528017968,"Artikel",8718528017968,"STUKS","WK6511 XL B2 opdek rechts","wit 930x2315 slg/vpl","FSC Mix 70% CU-COC 800339","DEUR","BINNEN","BINNEN","MODERN","6511","","","Inventory","",true,"OPDEK","",2315,930,38,"",false,true,false,348.76,422,{"$f":"ROUND(AA7713*(1-VLOOKUP(AF7713,Discounts!C:E,3,0)),2)","v":348.76},null,151700,"B055"]
[8718528117323,"Artikel",8718528117323,"STUKS","WK6511  B2 opdek links","wit 630x2015 slg/vpl","FSC Mix 70% CU-COC 800339","DEUR","BINNEN","BINNEN","MODERN","6511","","","Inventory","",true,"OPDEK","",2015,630,38,"",false,true,false,348.76,422,{"$f":"ROUND(AA7714*(1-VLOOKUP(AF7714,Discounts!C:E,3,0)),2)","v":348.76},null,151700,"B055"]
[8718528117330,"Artikel",8718528117330,"STUKS","WK6511  B2 opdek links","wit 630x2115 slg/vpl","FSC Mix 70% CU-COC 800339","DEUR","BINNEN","BINNEN","MODERN","6511","","","Inventory","",true,"OPDEK","",2115,630,38,"",false,true,false,348.76,422,{"$f":"ROUND(AA7715*(1-VLOOKUP(AF7715,Discounts!C:E,3,0)),2)","v":348.76},null,151700,"B055"]
[8718528117347,"Artikel",8718528117347,"STUKS","WK6511 XL B2 opdek links","wit 630x2315 slg/vpl","FSC Mix 70% CU-COC 800339","DEUR","BINNEN","BINNEN","MODERN","6511","","","Inventory","",true,"OPDEK","",2315,630,38,"",false,true,false,348.76,422,{"$f":"ROUND(AA7716*(1-VLOOKUP(AF7716,Discounts!C:E,3,0)),2)","v":348.76},null,151700,"B055"]
[8718528117354,"Artikel",8718528117354,"STUKS","WK6511  B2 opdek links","wit 680x2015 slg/vpl","FSC Mix 70% CU-COC 800339","DEUR","BINNEN","BINNEN","MODERN","6511","","","Inventory","",true,"OPDEK","",2015,680,38,"",false,true,false,348.76,422,{"$f":"ROUND(AA7717*(1-VLOOKUP(AF7717,Discounts!C:E,3,0)),2)","v":348.76},null,151700,"B055"]
[8718528117361,"Artikel",8718528117361,"STUKS","WK6511  B2 opdek links","wit 680x2115 slg/vpl","FSC Mix 70% CU-COC 800339","DEUR","BINNEN","BINNEN","MODERN","6511","","","Inventory","",true,"OPDEK","",2115,680,38,"",false,true,false,348.76,422,{"$f":"ROUND(AA7718*(1-VLOOKUP(AF7718,Discounts!C:E,3,0)),2)","v":348.76},null,151700,"B055"]
[8718528117378,"Artikel",8718528117378,"STUKS","WK6511 XL B2 opdek links","wit 680x2315 slg/vpl","FSC Mix 70% CU-COC 800339","DEUR","BINNEN","BINNEN","MODERN","6511","","","Inventory","",true,"OPDEK","",2315,680,38,"",false,true,false,348.76,422,{"$f":"ROUND(AA7719*(1-VLOOKUP(AF7719,Discounts!C:E,3,0)),2)","v":348.76},null,151700,"B055"]
[8718528117385,"Artikel",8718528117385,"STUKS","WK6511  B2 opdek links","wit 880x2015 slg/vpl","FSC Mix 70% CU-COC 800339","DEUR","BINNEN","BINNEN","MODERN","6511","","","Inventory","",true,"OPDEK","",2015,880,38,"",false,true,false,348.76,422,{"$f":"ROUND(AA7720*(1-VLOOKUP(AF7720,Discounts!C:E,3,0)),2)","v":348.76},null,151700,"B055"]
[8718528117392,"Artikel",8718528117392,"STUKS","WK6511  B2 opdek links","wit 930x2015 slg/vpl","FSC Mix 70% CU-COC 800339","DEUR","BINNEN","BINNEN","MODERN","6511","","","Inventory","",true,"OPDEK","",2015,930,38,"",false,true,false,348.76,422,{"$f":"ROUND(AA7721*(1-VLOOKUP(AF7721,Discounts!C:E,3,0)),2)","v":348.76},null,151700,"B055"]
[8718528120514,"Artikel",8718528120514,"STUKS","WK6511  B2 opdek rechts","wit 630x2015 slg/vpl","FSC Mix 70% CU-COC 800339","DEUR","BINNEN","BINNEN","MODERN","6511","","","Inventory","",true,"OPDEK","",2015,630,38,"",false,true,false,348.76,422,{"$f":"ROUND(AA7722*(1-VLOOKUP(AF7722,Discounts!C:E,3,0)),2)","v":348.76},null,151700,"B055"]
[8718528120521,"Artikel",8718528120521,"STUKS","WK6511  B2 opdek rechts","wit 630x2115 slg/vpl","FSC Mix 70% CU-COC 800339","DEUR","BINNEN","BINNEN","MODERN","6511","","","Inventory","",true,"OPDEK","",2115,630,38,"",false,true,false,348.76,422,{"$f":"ROUND(AA7723*(1-VLOOKUP(AF7723,Discounts!C:E,3,0)),2)","v":348.76},null,151700,"B055"]
[8718528120538,"Artikel",8718528120538,"STUKS","WK6511 XL B2 opdek rechts","wit 630x2315 slg/vpl","FSC Mix 70% CU-COC 800339","DEUR","BINNEN","BINNEN","MODERN","6511","","","Inventory","",true,"OPDEK","",2315,630,38,"",false,true,false,348.76,422,{"$f":"ROUND(AA7724*(1-VLOOKUP(AF7724,Discounts!C:E,3,0)),2)","v":348.76},null,151700,"B055"]
[8718528120545,"Artikel",8718528120545,"STUKS","WK6511  B2 opdek rechts","wit 680x2015 slg/vpl","FSC Mix 70% CU-COC 800339","DEUR","BINNEN","BINNEN","MODERN","6511","","","Inventory","",true,"OPDEK","",2015,680,38,"",false,true,false,348.76,422,{"$f":"ROUND(AA7725*(1-VLOOKUP(AF7725,Discounts!C:E,3,0)),2)","v":348.76},null,151700,"B055"]
[8718528120552,"Artikel",8718528120552,"STUKS","WK6511  B2 opdek rechts","wit 680x2115 slg/vpl","FSC Mix 70% CU-COC 800339","DEUR","BINNEN","BINNEN","MODERN","6511","","","Inventory","",true,"OPDEK","",2115,680,38,"",false,true,false,348.76,422,{"$f":"ROUND(AA7726*(1-VLOOKUP(AF7726,Discounts!C:E,3,0)),2)","v":348.76},null,151700,"B055"]
[8718528120569,"Artikel",8718528120569,"STUKS","WK6511 XL B2 opdek rechts","wit 680x2315 slg/vpl","FSC Mix 70% CU-COC 800339","DEUR","BINNEN","BINNEN","MODERN","6511","","","Inventory","",true,"OPDEK","",2315,680,38,"",false,true,false,348.76,422,{"$f":"ROUND(AA7727*(1-VLOOKUP(AF7727,Discounts!C:E,3,0)),2)","v":348.76},null,151700,"B055"]
[8718528120576,"Artikel",8718528120576,"STUKS","WK6511  B2 opdek rechts","wit 880x2015 slg/vpl","FSC Mix 70% CU-COC 800339","DEUR","BINNEN","BINNEN","MODERN","6511","","","Inventory","",true,"OPDEK","",2015,880,38,"",false,true,false,348.76,422,{"$f":"ROUND(AA7728*(1-VLOOKUP(AF7728,Discounts!C:E,3,0)),2)","v":348.76},null,151700,"B055"]
[8718528120583,"Artikel",8718528120583,"STUKS","WK6511  B2 opdek rechts","wit 930x2015 slg/vpl","FSC Mix 70% CU-COC 800339","DEUR","BINNEN","BINNEN","MODERN","6511","","","Inventory","",true,"OPDEK","",2015,930,38,"",false,true,false,348.76,422,{"$f":"ROUND(AA7729*(1-VLOOKUP(AF7729,Discounts!C:E,3,0)),2)","v":348.76},null,151700,"B055"]
[8718528017975,"Artikel",8718528017975,"STUKS","WK6521 B2 stomp","wit 730x2015 slg/vpl","FSC Mix 70% CU-COC 800339","DEUR","BINNEN","BINNEN","MODERN","6521","","","Inventory","MDF",true,"STOMP","",2015,730,38,"",false,false,false,363.64,440,{"$f":"ROUND(AA7730*(1-VLOOKUP(AF7730,Discounts!C:E,3,0)),2)","v":363.64},null,151720,"B055"]
[8718528018002,"Artikel",8718528018002,"STUKS","WK6521 B2 stomp","wit 730x2115 slg/vpl","FSC Mix 70% CU-COC 800339","DEUR","BINNEN","BINNEN","MODERN","6521","","","Inventory","MDF",true,"STOMP","",2115,730,38,"",false,false,false,363.64,440,{"$f":"ROUND(AA7731*(1-VLOOKUP(AF7731,Discounts!C:E,3,0)),2)","v":363.64},null,151720,"B055"]
[8718528018033,"Artikel",8718528018033,"STUKS","WK6521 B2 stomp","wit 780x2015 slg/vpl","FSC Mix 70% CU-COC 800339","DEUR","BINNEN","BINNEN","MODERN","6521","","","Inventory","MDF",true,"STOMP","",2015,780,38,"",false,false,false,363.64,440,{"$f":"ROUND(AA7732*(1-VLOOKUP(AF7732,Discounts!C:E,3,0)),2)","v":363.64},null,151720,"B055"]
[8718528018064,"Artikel",8718528018064,"STUKS","WK6521 B2 stomp","wit 780x2115 slg/vpl","FSC Mix 70% CU-COC 800339","DEUR","BINNEN","BINNEN","MODERN","6521","","","Inventory","MDF",true,"STOMP","",2115,780,38,"",false,false,false,363.64,440,{"$f":"ROUND(AA7733*(1-VLOOKUP(AF7733,Discounts!C:E,3,0)),2)","v":363.64},null,151720,"B055"]
[8718528018095,"Artikel",8718528018095,"STUKS","WK6521 XL B2 stomp","wit 780x2315 slg/vpl","FSC Mix 70% CU-COC 800339","DEUR","BINNEN","BINNEN","MODERN","6521","","","Inventory","MDF",true,"STOMP","",2315,780,38,"",false,false,false,363.64,440,{"$f":"ROUND(AA7734*(1-VLOOKUP(AF7734,Discounts!C:E,3,0)),2)","v":363.64},null,151720,"B055"]
[8718528018125,"Artikel",8718528018125,"STUKS","WK6521 B2 stomp","wit 830x2015 slg/vpl","FSC Mix 70% CU-COC 800339","DEUR","BINNEN","BINNEN","MODERN","6521","","","Inventory","MDF",true,"STOMP","",2015,830,38,"",false,false,false,363.64,440,{"$f":"ROUND(AA7735*(1-VLOOKUP(AF7735,Discounts!C:E,3,0)),2)","v":363.64},null,151720,"B055"]
[8718528018156,"Artikel",8718528018156,"STUKS","WK6521 B2 stomp","wit 830x2115 slg/vpl","FSC Mix 70% CU-COC 800339","DEUR","BINNEN","BINNEN","MODERN","6521","","","Inventory","MDF",true,"STOMP","",2115,830,38,"",false,false,false,363.64,440,{"$f":"ROUND(AA7736*(1-VLOOKUP(AF7736,Discounts!C:E,3,0)),2)","v":363.64},null,151720,"B055"]
[8718528018187,"Artikel",8718528018187,"STUKS","WK6521 XL B2 stomp","wit 830x2315 slg/vpl","FSC Mix 70% CU-COC 800339","DEUR","BINNEN","BINNEN","MODERN","6521","","","Inventory","MDF",true,"STOMP","",2315,830,38,"",false,false,false,363.64,440,{"$f":"ROUND(AA7737*(1-VLOOKUP(AF7737,Discounts!C:E,3,0)),2)","v":363.64},null,151720,"B055"]
[8718528018217,"Artikel",8718528018217,"STUKS","WK6521 B2 stomp","wit 880x2015 slg/vpl","FSC Mix 70% CU-COC 800339","DEUR","BINNEN","BINNEN","MODERN","6521","","","Inventory","MDF",true,"STOMP","",2015,880,38,"",false,false,false,363.64,440,{"$f":"ROUND(AA7738*(1-VLOOKUP(AF7738,Discounts!C:E,3,0)),2)","v":363.64},null,151720,"B055"]
[8718528018224,"Artikel",8718528018224,"STUKS","WK6521 B2 stomp","wit 880x2115 slg/vpl","FSC Mix 70% CU-COC 800339","DEUR","BINNEN","BINNEN","MODERN","6521","","","Inventory","MDF",true,"STOMP","",2115,880,38,"",false,false,false,363.64,440,{"$f":"ROUND(AA7739*(1-VLOOKUP(AF7739,Discounts!C:E,3,0)),2)","v":363.64},null,151720,"B055"]
[8718528018255,"Artikel",8718528018255,"STUKS","WK6521 XL B2 stomp","wit 880x2315 slg/vpl","FSC Mix 70% CU-COC 800339","DEUR","BINNEN","BINNEN","MODERN","6521","","","Inventory","MDF",true,"STOMP","",2315,880,38,"",false,false,false,363.64,440,{"$f":"ROUND(AA7740*(1-VLOOKUP(AF7740,Discounts!C:E,3,0)),2)","v":363.64},null,151720,"B055"]
[8718528018286,"Artikel",8718528018286,"STUKS","WK6521 B2 stomp","wit 930x2015 slg/vpl","FSC Mix 70% CU-COC 800339","DEUR","BINNEN","BINNEN","MODERN","6521","","","Inventory","MDF",true,"STOMP","",2015,930,38,"",false,false,false,363.64,440,{"$f":"ROUND(AA7741*(1-VLOOKUP(AF7741,Discounts!C:E,3,0)),2)","v":363.64},null,151720,"B055"]
[8718528018293,"Artikel",8718528018293,"STUKS","WK6521 B2 stomp","wit 930x2115 slg/vpl","FSC Mix 70% CU-COC 800339","DEUR","BINNEN","BINNEN","MODERN","6521","","","Inventory","MDF",true,"STOMP","",2115,930,38,"",false,false,false,363.64,440,{"$f":"ROUND(AA7742*(1-VLOOKUP(AF7742,Discounts!C:E,3,0)),2)","v":363.64},null,151720,"B055"]
[8718528018323,"Artikel",8718528018323,"STUKS","WK6521 XL B2 stomp","wit 930x2315 slg/vpl","FSC Mix 70% CU-COC 800339","DEUR","BINNEN","BINNEN","MODERN","6521","","","Inventory","MDF",true,"STOMP","",2315,930,38,"",false,false,false,363.64,440,{"$f":"ROUND(AA7743*(1-VLOOKUP(AF7743,Discounts!C:E,3,0)),2)","v":363.64},null,151720,"B055"]
[8718528100967,"Artikel",8718528100967,"STUKS","WK6521 B2 stomp","wit 630x2015 slg/vpl","FSC Mix 70% CU-COC 800339","DEUR","BINNEN","BINNEN","MODERN","6521","","","Inventory","MDF",true,"STOMP","",2015,630,38,"",false,false,false,363.64,440,{"$f":"ROUND(AA7744*(1-VLOOKUP(AF7744,Discounts!C:E,3,0)),2)","v":363.64},null,151720,"B055"]
[8718528100974,"Artikel",8718528100974,"STUKS","WK6521 B2 stomp","wit 630x2115 slg/vpl","FSC Mix 70% CU-COC 800339","DEUR","BINNEN","BINNEN","MODERN","6521","","","Inventory","MDF",true,"STOMP","",2115,630,38,"",false,false,false,363.64,440,{"$f":"ROUND(AA7745*(1-VLOOKUP(AF7745,Discounts!C:E,3,0)),2)","v":363.64},null,151720,"B055"]
[8718528100981,"Artikel",8718528100981,"STUKS","WK6521 XL B2 stomp","wit 630x2315 slg/vpl","FSC Mix 70% CU-COC 800339","DEUR","BINNEN","BINNEN","MODERN","6521","","","Inventory","MDF",true,"STOMP","",2315,630,38,"",false,false,false,363.64,440,{"$f":"ROUND(AA7746*(1-VLOOKUP(AF7746,Discounts!C:E,3,0)),2)","v":363.64},null,151720,"B055"]
[8718528100998,"Artikel",8718528100998,"STUKS","WK6521 B2 stomp","wit 680x2015 slg/vpl","FSC Mix 70% CU-COC 800339","DEUR","BINNEN","BINNEN","MODERN","6521","","","Inventory","MDF",true,"STOMP","",2015,680,38,"",false,false,false,363.64,440,{"$f":"ROUND(AA7747*(1-VLOOKUP(AF7747,Discounts!C:E,3,0)),2)","v":363.64},null,151720,"B055"]
[8718528101001,"Artikel",8718528101001,"STUKS","WK6521 B2 stomp","wit 680x2115 slg/vpl","FSC Mix 70% CU-COC 800339","DEUR","BINNEN","BINNEN","MODERN","6521","","","Inventory","MDF",true,"STOMP","",2115,680,38,"",false,false,false,363.64,440,{"$f":"ROUND(AA7748*(1-VLOOKUP(AF7748,Discounts!C:E,3,0)),2)","v":363.64},null,151720,"B055"]
[8718528101018,"Artikel",8718528101018,"STUKS","WK6521 XL B2 stomp","wit 680x2315 slg/vpl","FSC Mix 70% CU-COC 800339","DEUR","BINNEN","BINNEN","MODERN","6521","","","Inventory","MDF",true,"STOMP","",2315,680,38,"",false,false,false,363.64,440,{"$f":"ROUND(AA7749*(1-VLOOKUP(AF7749,Discounts!C:E,3,0)),2)","v":363.64},null,151720,"B055"]
[8718528101025,"Artikel",8718528101025,"STUKS","WK6521 XL B2 stomp","wit 730x2315 slg/vpl","FSC Mix 70% CU-COC 800339","DEUR","BINNEN","BINNEN","MODERN","6521","","","Inventory","MDF",true,"STOMP","",2315,730,38,"",false,false,false,363.64,440,{"$f":"ROUND(AA7750*(1-VLOOKUP(AF7750,Discounts!C:E,3,0)),2)","v":363.64},null,151720,"B055"]

{"sheet":"Discounts","index":1,"n_rows":74,"n_cols":5,"rows_kept":74}
["Auto+Hide+Values"]
[]
[]
[null,null,"Code","Omschrijving","Korting"]
[null,null,"Code","Description",{"v":0,"d":"0%"}]
[null,null,"A010","Voordeuren / Duetdeuren",{"v":0,"d":"0%"}]
[null,null,"A015","Vroeg-Nederlandse modellen",{"v":0,"d":"0%"}]
[null,null,"A050","Voordeuren voorraad",{"v":0,"d":"0%"}]
[null,null,"A055","Vroeg Ned. modellen voorraad",{"v":0,"d":"0%"}]
[null,null,"A090","Specials voordeuren",{"v":0,"d":"0%"}]
[null,null,"A095","Specials Vroeg Ned. modellen",{"v":0,"d":"0%"}]
[null,null,"B010","Binnendeuren",{"v":0,"d":"0%"}]
[null,null,"B015","Maatwerk Living Doors",{"v":0,"d":"0%"}]
[null,null,"B055","Living Doors",{"v":0,"d":"0%"}]
[null,null,"B055-1","Living Doors",{"v":0,"d":"0%"}]
[null,null,"B090","Specials binnendeuren",{"v":0,"d":"0%"}]
[null,null,"B095","Specials Living Doors",{"v":0,"d":"0%"}]
[null,null,"C010","Terrasdeuren",{"v":0,"d":"0%"}]
[null,null,"C050","Terrasdeuren voorraad",{"v":0,"d":"0%"}]
[null,null,"C090","Specials terrasdeuren",{"v":0,"d":"0%"}]
[null,null,"D010","Vlakke deuren StabielGarant",{"v":0,"d":"0%"}]
[null,null,"D050","Vlakke deuren StabielGarant vr",{"v":0,"d":"0%"}]
[null,null,"D060","Alumaxx",{"v":0,"d":"0%"}]
[null,null,"E010","SD merbau maatwerk",{"v":0,"d":"0%"}]
[null,null,"E011","SD meranti en HW maatwerk",{"v":0,"d":"0%"}]
[null,null,"E012","SD 54 mm deuren Merbau",{"v":0,"d":"0%"}]
[null,null,"E013","SD 54 mm deuren niet Merbau",{"v":0,"d":"0%"}]
[null,null,"E015","SD brede stijl Merbau",{"v":0,"d":"0%"}]
[null,null,"E016","SD brede stijl niet Merbau",{"v":0,"d":"0%"}]
[null,null,"E020","SD garage Merbau 38 mm",{"v":0,"d":"0%"}]
[null,null,"E021","SD garage Merbau 54 mm",{"v":0,"d":"0%"}]
[null,null,"E022","SD garage niet Merbau 38 mm",{"v":0,"d":"0%"}]
[null,null,"E023","SD garage niet Merbau 54 mm",{"v":0,"d":"0%"}]
[null,null,"E050","SD merbau smalle stijl vrd",{"v":0,"d":"0%"}]
[null,null,"E051","SD meranti smalle stijl vrd",{"v":0,"d":"0%"}]
[null,null,"E052","SD mb sm. stijl vrd UITLOPEND",{"v":0,"d":"0%"}]
[null,null,"E055","SD merbau brede stijl vrd",{"v":0,"d":"0%"}]
[null,null,"E056","SD HW brede stijl vrd",{"v":0,"d":"0%"}]
[null,null,"E057","SD merbau brede stijl 54mm vrd",{"v":0,"d":"0%"}]
[null,null,"E058","SD HW brede stijl 54mm vrd",{"v":0,"d":"0%"}]
[null,null,"E059","SD FSC HW brede stijl 54mm vrd",{"v":0,"d":"0%"}]
[null,null,"E061","SD FSC meranti smalle st. vrd",{"v":0,"d":"0%"}]
[null,null,"E065","SD FSC meranti brede st. vrd",{"v":0,"d":"0%"}]
[null,null,"E075","SD FSC PHW brede st. vrd",{"v":0,"d":"0%"}]
[null,null,"E090","Specials SD",{"v":0,"d":"0%"}]
[null,null,"E095","SD TC geisoleerd",{"v":0,"d":"0%"}]
[null,null,"H100","Ramen",{"v":0,"d":"0%"}]
[null,null,"J100","Kozijnen",{"v":0,"d":"0%"}]
[null,null,"K600","Raamprofielen",{"v":0,"d":"0%"}]
[null,null,"LUXE","WAP",{"v":0,"d":"0%"}]
[null,null,"O100","Hang- & sluitwerk sierbeslag",{"v":0,"d":"0%"}]
[null,null,"O105","Uitlopend hang&sluit",{"v":0,"d":"0%"}]
[null,null,"O110","Life Time beslag binnen",{"v":0,"d":"0%"}]
[null,null,"O115","Life time beslag buiten",{"v":0,"d":"0%"}]
[null,null,"O500","Hang- & sluitwerk sloten",{"v":0,"d":"0%"}]
[null,null,"O505","Af te monteren sluitwerk",{"v":0,"d":"0%"}]
[null,null,"P100","Glas / Speciaal hang/sluitwerk",{"v":0,"d":"0%"}]
[null,null,"P101","Ingekocht hang en sluitwerk",{"v":0,"d":"0%"}]
[null,null,"P102","Ingekocht h&s voorraad",{"v":0,"d":"0%"}]
[null,null,"P104","Glas voor stapeldorpeldeuren",{"v":0,"d":"0%"}]
[null,null,"P105","Glas voor vroeg Ned modellen",{"v":0,"d":"0%"}]
[null,null,"P106","Glas voor overige luxe deuren",{"v":0,"d":"0%"}]
[null,null,"P107","Glas / Panelen  Living Doors",{"v":0,"d":"0%"}]
[null,null,"P108","Glas voor ramen",{"v":0,"d":"0%"}]
[null,null,"P109","Maatwerkglas Living Doors",{"v":0,"d":"0%"}]
[null,null,"P111","Maatwerkglas SD/SG",{"v":0,"d":"0%"}]
[null,null,"R100","Lijstwerk uit voorraad",{"v":0,"d":"0%"}]
[null,null,"SD/SG","WAP",{"v":0,"d":"0%"}]
[null,null,"SERVICE","Services",{"v":0,"d":"0%"}]
[null,null,"VE001","Meranti kozijn",{"v":0,"d":"0%"}]
[null,null,"VE002","FSC meranti kozijn",{"v":0,"d":"0%"}]
[null,null,"W100","Catalogi",{"v":0,"d":"0%"}]
[null,null,"W120","Diversen",{"v":0,"d":"0%"}]
[null,null,"W125","Verpakking",{"v":0,"d":"0%"}]

{"sheet":"Combination lines","index":2,"n_rows":26946,"n_cols":9,"rows_kept":4500,"cut":true,"hidden":true,"bounds":{"rows_first":2000,"rows_last":500,"rows_between":2000,"halvings":0}}
["Auto+Hide+values+Formulas=Sheet5,Sheet1,Sheet2"]
[null,"Combi","Brandline","Qty","Type","Gross","Discount code","Disctount","Nett price"]
[null,350,118210,1,"Normal",{"v":1641.32,"d":"€1,641.32"},"A015",{"$f":"IFERROR(VLOOKUP(G3,Discounts!C:E,3,0),0)","v":0},{"$f":"IF(E3=\"Normal\",F3*(1-H3),SUMIF(B:B,C3,I:I)*D3)","v":{"v":1641.32,"d":"€1,641.32"}}]
["Auto",350,134070,1,"Normal",0,"LUXE",{"$f":"IFERROR(VLOOKUP(G4,Discounts!C:E,3,0),0)","v":0},0]
["Auto",370,118220,1,"Normal",0,"A015",{"$f":"IFERROR(VLOOKUP(G5,Discounts!C:E,3,0),0)","v":0},0]
["Auto",370,134070,1,"Normal",0,"LUXE",{"$f":"IFERROR(VLOOKUP(G6,Discounts!C:E,3,0),0)","v":0},0]
["Auto",390,118230,1,"Normal",{"v":1641.32,"d":"€1,641.32"},"A015",{"$f":"IFERROR(VLOOKUP(G7,Discounts!C:E,3,0),0)","v":0},{"v":1641.32,"d":"€1,641.32"}]
["Auto",390,134070,1,"Normal",0,"LUXE",{"$f":"IFERROR(VLOOKUP(G8,Discounts!C:E,3,0),0)","v":0},0]
["Auto",410,118240,1,"Normal",{"v":1641.32,"d":"€1,641.32"},"A015",{"$f":"IFERROR(VLOOKUP(G9,Discounts!C:E,3,0),0)","v":0},{"v":1641.32,"d":"€1,641.32"}]
["Auto",410,134070,1,"Normal",0,"LUXE",{"$f":"IFERROR(VLOOKUP(G10,Discounts!C:E,3,0),0)","v":0},0]
["Auto",430,118250,1,"Normal",{"v":1641.32,"d":"€1,641.32"},"A015",{"$f":"IFERROR(VLOOKUP(G11,Discounts!C:E,3,0),0)","v":0},{"v":1641.32,"d":"€1,641.32"}]
["Auto",430,134070,1,"Normal",0,"LUXE",{"$f":"IFERROR(VLOOKUP(G12,Discounts!C:E,3,0),0)","v":0},0]
["Auto",450,118260,1,"Normal",{"v":1641.32,"d":"€1,641.32"},"A015",{"$f":"IFERROR(VLOOKUP(G13,Discounts!C:E,3,0),0)","v":0},{"v":1641.32,"d":"€1,641.32"}]
["Auto",450,134070,1,"Normal",0,"LUXE",{"$f":"IFERROR(VLOOKUP(G14,Discounts!C:E,3,0),0)","v":0},0]
["Auto",470,118270,1,"Normal",0,"A015",{"$f":"IFERROR(VLOOKUP(G15,Discounts!C:E,3,0),0)","v":0},0]
["Auto",470,134070,1,"Normal",0,"LUXE",{"$f":"IFERROR(VLOOKUP(G16,Discounts!C:E,3,0),0)","v":0},0]
["Auto",490,118280,1,"Normal",0,"A015",{"$f":"IFERROR(VLOOKUP(G17,Discounts!C:E,3,0),0)","v":0},0]
["Auto",490,134070,1,"Normal",0,"LUXE",{"$f":"IFERROR(VLOOKUP(G18,Discounts!C:E,3,0),0)","v":0},0]
["Auto",510,118290,1,"Normal",0,"A015",{"$f":"IFERROR(VLOOKUP(G19,Discounts!C:E,3,0),0)","v":0},0]
["Auto",510,134070,1,"Normal",0,"LUXE",{"$f":"IFERROR(VLOOKUP(G20,Discounts!C:E,3,0),0)","v":0},0]
["Auto",530,118300,1,"Normal",{"v":2237.19,"d":"€2,237.19"},"A015",{"$f":"IFERROR(VLOOKUP(G21,Discounts!C:E,3,0),0)","v":0},{"v":2237.19,"d":"€2,237.19"}]
["Auto",530,134070,1,"Normal",0,"LUXE",{"$f":"IFERROR(VLOOKUP(G22,Discounts!C:E,3,0),0)","v":0},0]
["Auto",550,118310,1,"Normal",{"v":2124.79,"d":"€2,124.79"},"A015",{"$f":"IFERROR(VLOOKUP(G23,Discounts!C:E,3,0),0)","v":0},{"v":2124.79,"d":"€2,124.79"}]
["Auto",550,134070,1,"Normal",0,"LUXE",{"$f":"IFERROR(VLOOKUP(G24,Discounts!C:E,3,0),0)","v":0},0]
["Auto",570,118320,1,"Normal",{"v":2220.66,"d":"€2,220.66"},"A015",{"$f":"IFERROR(VLOOKUP(G25,Discounts!C:E,3,0),0)","v":0},{"v":2220.66,"d":"€2,220.66"}]
["Auto",570,134070,1,"Normal",0,"LUXE",{"$f":"IFERROR(VLOOKUP(G26,Discounts!C:E,3,0),0)","v":0},0]
["Auto",590,118330,1,"Normal",{"v":1674.38,"d":"€1,674.38"},"A015",{"$f":"IFERROR(VLOOKUP(G27,Discounts!C:E,3,0),0)","v":0},{"v":1674.38,"d":"€1,674.38"}]
["Auto",590,134070,1,"Normal",0,"LUXE",{"$f":"IFERROR(VLOOKUP(G28,Discounts!C:E,3,0),0)","v":0},0]
["Auto",610,118340,1,"Normal",{"v":1674.38,"d":"€1,674.38"},"A015",{"$f":"IFERROR(VLOOKUP(G29,Discounts!C:E,3,0),0)","v":0},{"v":1674.38,"d":"€1,674.38"}]
["Auto",610,134070,1,"Normal",0,"LUXE",{"$f":"IFERROR(VLOOKUP(G30,Discounts!C:E,3,0),0)","v":0},0]
["Auto",630,118350,1,"Normal",{"v":1674.38,"d":"€1,674.38"},"A015",{"$f":"IFERROR(VLOOKUP(G31,Discounts!C:E,3,0),0)","v":0},{"v":1674.38,"d":"€1,674.38"}]
["Auto",630,134070,1,"Normal",0,"LUXE",{"$f":"IFERROR(VLOOKUP(G32,Discounts!C:E,3,0),0)","v":0},0]
["Auto",650,118360,1,"Normal",{"v":1980.99,"d":"€1,980.99"},"A015",{"$f":"IFERROR(VLOOKUP(G33,Discounts!C:E,3,0),0)","v":0},{"v":1980.99,"d":"€1,980.99"}]
["Auto",650,134070,1,"Normal",0,"LUXE",{"$f":"IFERROR(VLOOKUP(G34,Discounts!C:E,3,0),0)","v":0},0]
["Auto",670,118370,1,"Normal",{"v":2090.08,"d":"€2,090.08"},"A015",{"$f":"IFERROR(VLOOKUP(G35,Discounts!C:E,3,0),0)","v":0},{"v":2090.08,"d":"€2,090.08"}]
["Auto",670,134070,1,"Normal",0,"LUXE",{"$f":"IFERROR(VLOOKUP(G36,Discounts!C:E,3,0),0)","v":0},0]
["Auto",690,118380,1,"Normal",0,"A015",{"$f":"IFERROR(VLOOKUP(G37,Discounts!C:E,3,0),0)","v":0},0]
["Auto",690,134070,1,"Normal",0,"LUXE",{"$f":"IFERROR(VLOOKUP(G38,Discounts!C:E,3,0),0)","v":0},0]
["Auto",710,118390,1,"Normal",0,"A015",{"$f":"IFERROR(VLOOKUP(G39,Discounts!C:E,3,0),0)","v":0},0]
["Auto",710,134070,1,"Normal",0,"LUXE",{"$f":"IFERROR(VLOOKUP(G40,Discounts!C:E,3,0),0)","v":0},0]
["Auto",730,134070,1,"Normal",0,"LUXE",{"$f":"IFERROR(VLOOKUP(G41,Discounts!C:E,3,0),0)","v":0},0]
["Auto",730,134090,1,"Normal",{"v":2615.7,"d":"€2,615.70"},"A010",{"$f":"IFERROR(VLOOKUP(G42,Discounts!C:E,3,0),0)","v":0},{"v":2615.7,"d":"€2,615.70"}]
["Auto",750,134070,1,"Normal",0,"LUXE",{"$f":"IFERROR(VLOOKUP(G43,Discounts!C:E,3,0),0)","v":0},0]
["Auto",750,134100,1,"Normal",0,"A010",{"$f":"IFERROR(VLOOKUP(G44,Discounts!C:E,3,0),0)","v":0},0]
["Auto",770,134070,1,"Normal",0,"LUXE",{"$f":"IFERROR(VLOOKUP(G45,Discounts!C:E,3,0),0)","v":0},0]
["Auto",770,134110,1,"Normal",0,"A010",{"$f":"IFERROR(VLOOKUP(G46,Discounts!C:E,3,0),0)","v":0},0]
["Auto",790,118400,1,"Normal",{"v":2007.44,"d":"€2,007.44"},"A010",{"$f":"IFERROR(VLOOKUP(G47,Discounts!C:E,3,0),0)","v":0},{"v":2007.44,"d":"€2,007.44"}]
["Auto",790,134070,1,"Normal",0,"LUXE",{"$f":"IFERROR(VLOOKUP(G48,Discounts!C:E,3,0),0)","v":0},0]
["Auto",810,118410,1,"Normal",0,"A010",{"$f":"IFERROR(VLOOKUP(G49,Discounts!C:E,3,0),0)","v":0},0]
["Auto",810,134070,1,"Normal",0,"LUXE",{"$f":"IFERROR(VLOOKUP(G50,Discounts!C:E,3,0),0)","v":0},0]
["Auto",830,118420,1,"Normal",{"v":1934.71,"d":"€1,934.71"},"A010",{"$f":"IFERROR(VLOOKUP(G51,Discounts!C:E,3,0),0)","v":0},{"v":1934.71,"d":"€1,934.71"}]
["Auto",830,134070,1,"Normal",0,"LUXE",{"$f":"IFERROR(VLOOKUP(G52,Discounts!C:E,3,0),0)","v":0},0]
["Auto",850,118430,1,"Normal",{"v":1838.02,"d":"€1,838.02"},"A010",{"$f":"IFERROR(VLOOKUP(G53,Discounts!C:E,3,0),0)","v":0},{"v":1838.02,"d":"€1,838.02"}]
["Auto",850,134070,1,"Normal",0,"LUXE",{"$f":"IFERROR(VLOOKUP(G54,Discounts!C:E,3,0),0)","v":0},0]
["Auto",870,118440,1,"Normal",{"v":2071.07,"d":"€2,071.07"},"A010",{"$f":"IFERROR(VLOOKUP(G55,Discounts!C:E,3,0),0)","v":0},{"v":2071.07,"d":"€2,071.07"}]
["Auto",870,134070,1,"Normal",0,"LUXE",{"$f":"IFERROR(VLOOKUP(G56,Discounts!C:E,3,0),0)","v":0},0]
["Auto",890,118450,1,"Normal",{"v":1742.98,"d":"€1,742.98"},"A010",{"$f":"IFERROR(VLOOKUP(G57,Discounts!C:E,3,0),0)","v":0},{"v":1742.98,"d":"€1,742.98"}]
["Auto",890,134070,1,"Normal",0,"LUXE",{"$f":"IFERROR(VLOOKUP(G58,Discounts!C:E,3,0),0)","v":0},0]
["Auto",910,118460,1,"Normal",{"v":1838.02,"d":"€1,838.02"},"A010",{"$f":"IFERROR(VLOOKUP(G59,Discounts!C:E,3,0),0)","v":0},{"v":1838.02,"d":"€1,838.02"}]
["Auto",910,134070,1,"Normal",0,"LUXE",{"$f":"IFERROR(VLOOKUP(G60,Discounts!C:E,3,0),0)","v":0},0]
["Auto",930,118470,1,"Normal",{"v":2615.7,"d":"€2,615.70"},"A010",{"$f":"IFERROR(VLOOKUP(G61,Discounts!C:E,3,0),0)","v":0},{"v":2615.7,"d":"€2,615.70"}]
["Auto",930,134070,1,"Normal",0,"LUXE",{"$f":"IFERROR(VLOOKUP(G62,Discounts!C:E,3,0),0)","v":0},0]
["Auto",950,118480,1,"Normal",0,"A010",{"$f":"IFERROR(VLOOKUP(G63,Discounts!C:E,3,0),0)","v":0},0]
["Auto",950,134070,1,"Normal",0,"LUXE",{"$f":"IFERROR(VLOOKUP(G64,Discounts!C:E,3,0),0)","v":0},0]
["Auto",970,118490,1,"Normal",0,"A010",{"$f":"IFERROR(VLOOKUP(G65,Discounts!C:E,3,0),0)","v":0},0]
["Auto",970,134070,1,"Normal",0,"LUXE",{"$f":"IFERROR(VLOOKUP(G66,Discounts!C:E,3,0),0)","v":0},0]
["Auto",990,118500,1,"Normal",{"v":3233.06,"d":"€3,233.06"},"A010",{"$f":"IFERROR(VLOOKUP(G67,Discounts!C:E,3,0),0)","v":0},{"$f":"IF(E67=\"Normal\",F67*(1-H67),SUMIF(B:B,C67,I:I)*D67)","v":{"v":3233.06,"d":"€3,233.06"}}]
["Auto",990,134070,1,"Normal",0,"LUXE",{"$f":"IFERROR(VLOOKUP(G68,Discounts!C:E,3,0),0)","v":0},0]
["Auto",1010,118510,1,"Normal",{"v":2932.23,"d":"€2,932.23"},"A010",{"$f":"IFERROR(VLOOKUP(G69,Discounts!C:E,3,0),0)","v":0},{"v":2932.23,"d":"€2,932.23"}]
["Auto",1010,134070,1,"Normal",0,"LUXE",{"$f":"IFERROR(VLOOKUP(G70,Discounts!C:E,3,0),0)","v":0},0]
["Auto",1030,118520,1,"Normal",0,"A010",{"$f":"IFERROR(VLOOKUP(G71,Discounts!C:E,3,0),0)","v":0},0]
["Auto",1030,134070,1,"Normal",0,"LUXE",{"$f":"IFERROR(VLOOKUP(G72,Discounts!C:E,3,0),0)","v":0},0]
["Auto",1050,118530,1,"Normal",0,"A010",{"$f":"IFERROR(VLOOKUP(G73,Discounts!C:E,3,0),0)","v":0},0]
["Auto",1050,134070,1,"Normal",0,"LUXE",{"$f":"IFERROR(VLOOKUP(G74,Discounts!C:E,3,0),0)","v":0},0]
["Auto",1070,118540,1,"Normal",0,"A010",{"$f":"IFERROR(VLOOKUP(G75,Discounts!C:E,3,0),0)","v":0},0]
["Auto",1070,134070,1,"Normal",0,"LUXE",{"$f":"IFERROR(VLOOKUP(G76,Discounts!C:E,3,0),0)","v":0},0]
["Auto",1090,118550,1,"Normal",0,"A010",{"$f":"IFERROR(VLOOKUP(G77,Discounts!C:E,3,0),0)","v":0},0]
["Auto",1090,134070,1,"Normal",0,"LUXE",{"$f":"IFERROR(VLOOKUP(G78,Discounts!C:E,3,0),0)","v":0},0]
["Auto",1110,118560,1,"Normal",{"v":2376.86,"d":"€2,376.86"},"A010",{"$f":"IFERROR(VLOOKUP(G79,Discounts!C:E,3,0),0)","v":0},{"v":2376.86,"d":"€2,376.86"}]
["Auto",1110,134070,1,"Normal",0,"LUXE",{"$f":"IFERROR(VLOOKUP(G80,Discounts!C:E,3,0),0)","v":0},0]
["Auto",1130,118570,1,"Normal",{"v":2241.32,"d":"€2,241.32"},"A010",{"$f":"IFERROR(VLOOKUP(G81,Discounts!C:E,3,0),0)","v":0},{"v":2241.32,"d":"€2,241.32"}]
["Auto",1130,134070,1,"Normal",0,"LUXE",{"$f":"IFERROR(VLOOKUP(G82,Discounts!C:E,3,0),0)","v":0},0]
["Auto",1150,118580,1,"Normal",{"v":2264.46,"d":"€2,264.46"},"A010",{"$f":"IFERROR(VLOOKUP(G83,Discounts!C:E,3,0),0)","v":0},{"v":2264.46,"d":"€2,264.46"}]
["Auto",1150,134070,1,"Normal",0,"LUXE",{"$f":"IFERROR(VLOOKUP(G84,Discounts!C:E,3,0),0)","v":0},0]
["Auto",1170,118590,1,"Normal",0,"A010",{"$f":"IFERROR(VLOOKUP(G85,Discounts!C:E,3,0),0)","v":0},0]
["Auto",1170,134070,1,"Normal",0,"LUXE",{"$f":"IFERROR(VLOOKUP(G86,Discounts!C:E,3,0),0)","v":0},0]
["Auto",1190,118600,1,"Normal",{"v":2677.69,"d":"€2,677.69"},"A010",{"$f":"IFERROR(VLOOKUP(G87,Discounts!C:E,3,0),0)","v":0},{"v":2677.69,"d":"€2,677.69"}]
["Auto",1190,134070,1,"Normal",0,"LUXE",{"$f":"IFERROR(VLOOKUP(G88,Discounts!C:E,3,0),0)","v":0},0]
["Auto",1210,118610,1,"Normal",{"v":2474.38,"d":"€2,474.38"},"A010",{"$f":"IFERROR(VLOOKUP(G89,Discounts!C:E,3,0),0)","v":0},{"v":2474.38,"d":"€2,474.38"}]
["Auto",1210,134070,1,"Normal",0,"LUXE",{"$f":"IFERROR(VLOOKUP(G90,Discounts!C:E,3,0),0)","v":0},0]
["Auto",1230,118620,1,"Normal",0,"A010",{"$f":"IFERROR(VLOOKUP(G91,Discounts!C:E,3,0),0)","v":0},0]
["Auto",1230,134070,1,"Normal",0,"LUXE",{"$f":"IFERROR(VLOOKUP(G92,Discounts!C:E,3,0),0)","v":0},0]
["Auto",1250,118630,1,"Normal",{"v":2728.93,"d":"€2,728.93"},"A010",{"$f":"IFERROR(VLOOKUP(G93,Discounts!C:E,3,0),0)","v":0},{"v":2728.93,"d":"€2,728.93"}]
["Auto",1250,134070,1,"Normal",0,"LUXE",{"$f":"IFERROR(VLOOKUP(G94,Discounts!C:E,3,0),0)","v":0},0]
["Auto",1270,118640,1,"Normal",{"v":2597.52,"d":"€2,597.52"},"A010",{"$f":"IFERROR(VLOOKUP(G95,Discounts!C:E,3,0),0)","v":0},{"v":2597.52,"d":"€2,597.52"}]
["Auto",1270,134070,1,"Normal",0,"LUXE",{"$f":"IFERROR(VLOOKUP(G96,Discounts!C:E,3,0),0)","v":0},0]
["Auto",1290,118650,1,"Normal",0,"A010",{"$f":"IFERROR(VLOOKUP(G97,Discounts!C:E,3,0),0)","v":0},0]
["Auto",1290,134070,1,"Normal",0,"LUXE",{"$f":"IFERROR(VLOOKUP(G98,Discounts!C:E,3,0),0)","v":0},0]
["Auto",1310,118660,1,"Normal",{"v":2646.28,"d":"€2,646.28"},"A010",{"$f":"IFERROR(VLOOKUP(G99,Discounts!C:E,3,0),0)","v":0},{"v":2646.28,"d":"€2,646.28"}]
["Auto",1310,134070,1,"Normal",0,"LUXE",{"$f":"IFERROR(VLOOKUP(G100,Discounts!C:E,3,0),0)","v":0},0]
["Auto",1330,118670,1,"Normal",{"v":2474.38,"d":"€2,474.38"},"A010",{"$f":"IFERROR(VLOOKUP(G101,Discounts!C:E,3,0),0)","v":0},{"v":2474.38,"d":"€2,474.38"}]
["Auto",1330,134070,1,"Normal",0,"LUXE",{"$f":"IFERROR(VLOOKUP(G102,Discounts!C:E,3,0),0)","v":0},0]
["Auto",1350,118680,1,"Normal",0,"A010",{"$f":"IFERROR(VLOOKUP(G103,Discounts!C:E,3,0),0)","v":0},0]
["Auto",1350,134070,1,"Normal",0,"LUXE",{"$f":"IFERROR(VLOOKUP(G104,Discounts!C:E,3,0),0)","v":0},0]
["Auto",1370,118690,1,"Normal",{"v":2728.93,"d":"€2,728.93"},"A010",{"$f":"IFERROR(VLOOKUP(G105,Discounts!C:E,3,0),0)","v":0},{"v":2728.93,"d":"€2,728.93"}]
["Auto",1370,134070,1,"Normal",0,"LUXE",{"$f":"IFERROR(VLOOKUP(G106,Discounts!C:E,3,0),0)","v":0},0]
["Auto",1390,118700,1,"Normal",{"v":2101.65,"d":"€2,101.65"},"A010",{"$f":"IFERROR(VLOOKUP(G107,Discounts!C:E,3,0),0)","v":0},{"v":2101.65,"d":"€2,101.65"}]
["Auto",1390,134070,1,"Normal",0,"LUXE",{"$f":"IFERROR(VLOOKUP(G108,Discounts!C:E,3,0),0)","v":0},0]
["Auto",1410,118710,1,"Normal",0,"A010",{"$f":"IFERROR(VLOOKUP(G109,Discounts!C:E,3,0),0)","v":0},0]
["Auto",1410,134070,1,"Normal",0,"LUXE",{"$f":"IFERROR(VLOOKUP(G110,Discounts!C:E,3,0),0)","v":0},0]
["Auto",1430,118720,1,"Normal",0,"A010",{"$f":"IFERROR(VLOOKUP(G111,Discounts!C:E,3,0),0)","v":0},0]
["Auto",1430,134070,1,"Normal",0,"LUXE",{"$f":"IFERROR(VLOOKUP(G112,Discounts!C:E,3,0),0)","v":0},0]
["Auto",1450,118730,1,"Normal",0,"A010",{"$f":"IFERROR(VLOOKUP(G113,Discounts!C:E,3,0),0)","v":0},0]
["Auto",1450,134070,1,"Normal",0,"LUXE",{"$f":"IFERROR(VLOOKUP(G114,Discounts!C:E,3,0),0)","v":0},0]
["Auto",1470,118740,1,"Normal",0,"A010",{"$f":"IFERROR(VLOOKUP(G115,Discounts!C:E,3,0),0)","v":0},0]
["Auto",1470,134070,1,"Normal",0,"LUXE",{"$f":"IFERROR(VLOOKUP(G116,Discounts!C:E,3,0),0)","v":0},0]
["Auto",1490,118750,1,"Normal",{"v":2555.37,"d":"€2,555.37"},"A010",{"$f":"IFERROR(VLOOKUP(G117,Discounts!C:E,3,0),0)","v":0},{"v":2555.37,"d":"€2,555.37"}]
["Auto",1490,134070,1,"Normal",0,"LUXE",{"$f":"IFERROR(VLOOKUP(G118,Discounts!C:E,3,0),0)","v":0},0]
["Auto",1510,118760,1,"Normal",{"v":2555.37,"d":"€2,555.37"},"A010",{"$f":"IFERROR(VLOOKUP(G119,Discounts!C:E,3,0),0)","v":0},{"v":2555.37,"d":"€2,555.37"}]
["Auto",1510,134070,1,"Normal",0,"LUXE",{"$f":"IFERROR(VLOOKUP(G120,Discounts!C:E,3,0),0)","v":0},0]
["Auto",1530,118770,1,"Normal",{"v":1885.95,"d":"€1,885.95"},"A010",{"$f":"IFERROR(VLOOKUP(G121,Discounts!C:E,3,0),0)","v":0},{"v":1885.95,"d":"€1,885.95"}]
["Auto",1530,134070,1,"Normal",0,"LUXE",{"$f":"IFERROR(VLOOKUP(G122,Discounts!C:E,3,0),0)","v":0},0]
["Auto",1550,118780,1,"Normal",{"v":1825.62,"d":"€1,825.62"},"A010",{"$f":"IFERROR(VLOOKUP(G123,Discounts!C:E,3,0),0)","v":0},{"v":1825.62,"d":"€1,825.62"}]
["Auto",1550,134070,1,"Normal",0,"LUXE",{"$f":"IFERROR(VLOOKUP(G124,Discounts!C:E,3,0),0)","v":0},0]
["Auto",1570,118790,1,"Normal",{"v":1923.97,"d":"€1,923.97"},"A010",{"$f":"IFERROR(VLOOKUP(G125,Discounts!C:E,3,0),0)","v":0},{"v":1923.97,"d":"€1,923.97"}]
["Auto",1570,134070,1,"Normal",0,"LUXE",{"$f":"IFERROR(VLOOKUP(G126,Discounts!C:E,3,0),0)","v":0},0]
["Auto",1590,118800,1,"Normal",0,"A010",{"$f":"IFERROR(VLOOKUP(G127,Discounts!C:E,3,0),0)","v":0},0]
["Auto",1590,134070,1,"Normal",0,"LUXE",{"$f":"IFERROR(VLOOKUP(G128,Discounts!C:E,3,0),0)","v":0},0]
["Auto",1610,118810,1,"Normal",0,"A010",{"$f":"IFERROR(VLOOKUP(G129,Discounts!C:E,3,0),0)","v":0},0]
["Auto",1610,134070,1,"Normal",0,"LUXE",{"$f":"IFERROR(VLOOKUP(G130,Discounts!C:E,3,0),0)","v":0},0]
["Auto",1630,118820,1,"Normal",0,"A010",{"$f":"IFERROR(VLOOKUP(G131,Discounts!C:E,3,0),0)","v":0},{"$f":"IF(E131=\"Normal\",F131*(1-H131),SUMIF(B:B,C131,I:I)*D131)","v":0}]
["Auto",1630,134070,1,"Normal",0,"LUXE",{"$f":"IFERROR(VLOOKUP(G132,Discounts!C:E,3,0),0)","v":0},0]
["Auto",1650,118830,1,"Normal",0,"A010",{"$f":"IFERROR(VLOOKUP(G133,Discounts!C:E,3,0),0)","v":0},0]
["Auto",1650,134070,1,"Normal",0,"LUXE",{"$f":"IFERROR(VLOOKUP(G134,Discounts!C:E,3,0),0)","v":0},0]
["Auto",1670,118840,1,"Normal",0,"A010",{"$f":"IFERROR(VLOOKUP(G135,Discounts!C:E,3,0),0)","v":0},0]
["Auto",1670,134070,1,"Normal",0,"LUXE",{"$f":"IFERROR(VLOOKUP(G136,Discounts!C:E,3,0),0)","v":0},0]
["Auto",1690,118850,1,"Normal",0,"A010",{"$f":"IFERROR(VLOOKUP(G137,Discounts!C:E,3,0),0)","v":0},0]
["Auto",1690,134070,1,"Normal",0,"LUXE",{"$f":"IFERROR(VLOOKUP(G138,Discounts!C:E,3,0),0)","v":0},0]
["Auto",1710,118860,1,"Normal",{"v":2507.44,"d":"€2,507.44"},"A010",{"$f":"IFERROR(VLOOKUP(G139,Discounts!C:E,3,0),0)","v":0},{"v":2507.44,"d":"€2,507.44"}]
["Auto",1710,134070,1,"Normal",0,"LUXE",{"$f":"IFERROR(VLOOKUP(G140,Discounts!C:E,3,0),0)","v":0},0]
["Auto",1730,118870,1,"Normal",{"v":2702.48,"d":"€2,702.48"},"A010",{"$f":"IFERROR(VLOOKUP(G141,Discounts!C:E,3,0),0)","v":0},{"v":2702.48,"d":"€2,702.48"}]
["Auto",1730,134070,1,"Normal",0,"LUXE",{"$f":"IFERROR(VLOOKUP(G142,Discounts!C:E,3,0),0)","v":0},0]
["Auto",1750,118880,1,"Normal",{"v":1301.65,"d":"€1,301.65"},"A010",{"$f":"IFERROR(VLOOKUP(G143,Discounts!C:E,3,0),0)","v":0},{"v":1301.65,"d":"€1,301.65"}]
["Auto",1750,134070,1,"Normal",0,"LUXE",{"$f":"IFERROR(VLOOKUP(G144,Discounts!C:E,3,0),0)","v":0},0]
["Auto",1770,118890,1,"Normal",{"v":1332.23,"d":"€1,332.23"},"A010",{"$f":"IFERROR(VLOOKUP(G145,Discounts!C:E,3,0),0)","v":0},{"v":1332.23,"d":"€1,332.23"}]
["Auto",1770,134070,1,"Normal",0,"LUXE",{"$f":"IFERROR(VLOOKUP(G146,Discounts!C:E,3,0),0)","v":0},0]
["Auto",1790,118900,1,"Normal",0,"A010",{"$f":"IFERROR(VLOOKUP(G147,Discounts!C:E,3,0),0)","v":0},0]
["Auto",1790,134070,1,"Normal",0,"LUXE",{"$f":"IFERROR(VLOOKUP(G148,Discounts!C:E,3,0),0)","v":0},0]
["Auto",1810,118910,1,"Normal",{"v":1472.73,"d":"€1,472.73"},"A010",{"$f":"IFERROR(VLOOKUP(G149,Discounts!C:E,3,0),0)","v":0},{"v":1472.73,"d":"€1,472.73"}]
["Auto",1810,134070,1,"Normal",0,"LUXE",{"$f":"IFERROR(VLOOKUP(G150,Discounts!C:E,3,0),0)","v":0},0]
["Auto",1830,118920,1,"Normal",{"v":1428.93,"d":"€1,428.93"},"A010",{"$f":"IFERROR(VLOOKUP(G151,Discounts!C:E,3,0),0)","v":0},{"v":1428.93,"d":"€1,428.93"}]
["Auto",1830,134070,1,"Normal",0,"LUXE",{"$f":"IFERROR(VLOOKUP(G152,Discounts!C:E,3,0),0)","v":0},0]
["Auto",1850,118930,1,"Normal",0,"A010",{"$f":"IFERROR(VLOOKUP(G153,Discounts!C:E,3,0),0)","v":0},0]
["Auto",1850,134070,1,"Normal",0,"LUXE",{"$f":"IFERROR(VLOOKUP(G154,Discounts!C:E,3,0),0)","v":0},0]
["Auto",1870,118940,1,"Normal",0,"A010",{"$f":"IFERROR(VLOOKUP(G155,Discounts!C:E,3,0),0)","v":0},0]
["Auto",1870,134070,1,"Normal",0,"LUXE",{"$f":"IFERROR(VLOOKUP(G156,Discounts!C:E,3,0),0)","v":0},0]
["Auto",1890,118950,1,"Normal",0,"A010",{"$f":"IFERROR(VLOOKUP(G157,Discounts!C:E,3,0),0)","v":0},0]
["Auto",1890,134070,1,"Normal",0,"LUXE",{"$f":"IFERROR(VLOOKUP(G158,Discounts!C:E,3,0),0)","v":0},0]
["Auto",1910,118960,1,"Normal",{"v":2060.33,"d":"€2,060.33"},"A010",{"$f":"IFERROR(VLOOKUP(G159,Discounts!C:E,3,0),0)","v":0},{"v":2060.33,"d":"€2,060.33"}]
["Auto",1910,134070,1,"Normal",0,"LUXE",{"$f":"IFERROR(VLOOKUP(G160,Discounts!C:E,3,0),0)","v":0},0]
["Auto",1930,118970,1,"Normal",{"v":1867.77,"d":"€1,867.77"},"A010",{"$f":"IFERROR(VLOOKUP(G161,Discounts!C:E,3,0),0)","v":0},{"v":1867.77,"d":"€1,867.77"}]
["Auto",1930,134070,1,"Normal",0,"LUXE",{"$f":"IFERROR(VLOOKUP(G162,Discounts!C:E,3,0),0)","v":0},0]
["Auto",1950,118980,1,"Normal",0,"A010",{"$f":"IFERROR(VLOOKUP(G163,Discounts!C:E,3,0),0)","v":0},0]
["Auto",1950,134070,1,"Normal",0,"LUXE",{"$f":"IFERROR(VLOOKUP(G164,Discounts!C:E,3,0),0)","v":0},0]
["Auto",1970,118990,1,"Normal",0,"A010",{"$f":"IFERROR(VLOOKUP(G165,Discounts!C:E,3,0),0)","v":0},0]
["Auto",1970,134070,1,"Normal",0,"LUXE",{"$f":"IFERROR(VLOOKUP(G166,Discounts!C:E,3,0),0)","v":0},0]
["Auto",1990,119000,1,"Normal",0,"A010",{"$f":"IFERROR(VLOOKUP(G167,Discounts!C:E,3,0),0)","v":0},0]
["Auto",1990,134070,1,"Normal",0,"LUXE",{"$f":"IFERROR(VLOOKUP(G168,Discounts!C:E,3,0),0)","v":0},0]
["Auto",2010,119010,1,"Normal",{"v":2185.12,"d":"€2,185.12"},"A010",{"$f":"IFERROR(VLOOKUP(G169,Discounts!C:E,3,0),0)","v":0},{"v":2185.12,"d":"€2,185.12"}]
["Auto",2010,134070,1,"Normal",0,"LUXE",{"$f":"IFERROR(VLOOKUP(G170,Discounts!C:E,3,0),0)","v":0},0]
["Auto",2030,119020,1,"Normal",{"v":1990.91,"d":"€1,990.91"},"A010",{"$f":"IFERROR(VLOOKUP(G171,Discounts!C:E,3,0),0)","v":0},{"v":1990.91,"d":"€1,990.91"}]
["Auto",2030,134070,1,"Normal",0,"LUXE",{"$f":"IFERROR(VLOOKUP(G172,Discounts!C:E,3,0),0)","v":0},0]
["Auto",2050,119030,1,"Normal",0,"A010",{"$f":"IFERROR(VLOOKUP(G173,Discounts!C:E,3,0),0)","v":0},0]
["Auto",2050,134070,1,"Normal",0,"LUXE",{"$f":"IFERROR(VLOOKUP(G174,Discounts!C:E,3,0),0)","v":0},0]
["Auto",2070,119040,1,"Normal",0,"A010",{"$f":"IFERROR(VLOOKUP(G175,Discounts!C:E,3,0),0)","v":0},0]
["Auto",2070,134070,1,"Normal",0,"LUXE",{"$f":"IFERROR(VLOOKUP(G176,Discounts!C:E,3,0),0)","v":0},0]
["Auto",2090,119050,1,"Normal",{"v":1536.36,"d":"€1,536.36"},"A010",{"$f":"IFERROR(VLOOKUP(G177,Discounts!C:E,3,0),0)","v":0},{"v":1536.36,"d":"€1,536.36"}]
["Auto",2090,134070,1,"Normal",0,"LUXE",{"$f":"IFERROR(VLOOKUP(G178,Discounts!C:E,3,0),0)","v":0},0]
["Auto",2110,119060,1,"Normal",{"v":1314.05,"d":"€1,314.05"},"A010",{"$f":"IFERROR(VLOOKUP(G179,Discounts!C:E,3,0),0)","v":0},{"v":1314.05,"d":"€1,314.05"}]
["Auto",2110,134070,1,"Normal",0,"LUXE",{"$f":"IFERROR(VLOOKUP(G180,Discounts!C:E,3,0),0)","v":0},0]
["Auto",2130,119070,1,"Normal",{"v":2814.05,"d":"€2,814.05"},"A010",{"$f":"IFERROR(VLOOKUP(G181,Discounts!C:E,3,0),0)","v":0},{"v":2814.05,"d":"€2,814.05"}]
["Auto",2130,134070,1,"Normal",0,"LUXE",{"$f":"IFERROR(VLOOKUP(G182,Discounts!C:E,3,0),0)","v":0},0]
["Auto",2150,119080,1,"Normal",0,"A010",{"$f":"IFERROR(VLOOKUP(G183,Discounts!C:E,3,0),0)","v":0},0]
["Auto",2150,134070,1,"Normal",0,"LUXE",{"$f":"IFERROR(VLOOKUP(G184,Discounts!C:E,3,0),0)","v":0},0]
["Auto",2170,119090,1,"Normal",{"v":3056.2,"d":"€3,056.20"},"A010",{"$f":"IFERROR(VLOOKUP(G185,Discounts!C:E,3,0),0)","v":0},{"v":3056.2,"d":"€3,056.20"}]
["Auto",2170,134070,1,"Normal",0,"LUXE",{"$f":"IFERROR(VLOOKUP(G186,Discounts!C:E,3,0),0)","v":0},0]
["Auto",2190,119100,1,"Normal",0,"A010",{"$f":"IFERROR(VLOOKUP(G187,Discounts!C:E,3,0),0)","v":0},0]
["Auto",2190,134070,1,"Normal",0,"LUXE",{"$f":"IFERROR(VLOOKUP(G188,Discounts!C:E,3,0),0)","v":0},0]
["Auto",2210,119110,1,"Normal",0,"A010",{"$f":"IFERROR(VLOOKUP(G189,Discounts!C:E,3,0),0)","v":0},0]
["Auto",2210,134070,1,"Normal",0,"LUXE",{"$f":"IFERROR(VLOOKUP(G190,Discounts!C:E,3,0),0)","v":0},0]
["Auto",2230,119120,1,"Normal",0,"A010",{"$f":"IFERROR(VLOOKUP(G191,Discounts!C:E,3,0),0)","v":0},0]
["Auto",2230,134070,1,"Normal",0,"LUXE",{"$f":"IFERROR(VLOOKUP(G192,Discounts!C:E,3,0),0)","v":0},0]
["Auto",2250,119130,1,"Normal",0,"A010",{"$f":"IFERROR(VLOOKUP(G193,Discounts!C:E,3,0),0)","v":0},0]
["Auto",2250,134070,1,"Normal",0,"LUXE",{"$f":"IFERROR(VLOOKUP(G194,Discounts!C:E,3,0),0)","v":0},0]
["Auto",2270,119140,1,"Normal",{"v":1276.03,"d":"€1,276.03"},"A010",{"$f":"IFERROR(VLOOKUP(G195,Discounts!C:E,3,0),0)","v":0},{"$f":"IF(E195=\"Normal\",F195*(1-H195),SUMIF(B:B,C195,I:I)*D195)","v":{"v":1276.03,"d":"€1,276.03"}}]
["Auto",2270,134070,1,"Normal",0,"LUXE",{"$f":"IFERROR(VLOOKUP(G196,Discounts!C:E,3,0),0)","v":0},0]
["Auto",2290,119150,1,"Normal",{"v":1276.03,"d":"€1,276.03"},"A010",{"$f":"IFERROR(VLOOKUP(G197,Discounts!C:E,3,0),0)","v":0},{"v":1276.03,"d":"€1,276.03"}]
["Auto",2290,134070,1,"Normal",0,"LUXE",{"$f":"IFERROR(VLOOKUP(G198,Discounts!C:E,3,0),0)","v":0},0]
["Auto",2310,119160,1,"Normal",0,"A010",{"$f":"IFERROR(VLOOKUP(G199,Discounts!C:E,3,0),0)","v":0},0]
["Auto",2310,134070,1,"Normal",0,"LUXE",{"$f":"IFERROR(VLOOKUP(G200,Discounts!C:E,3,0),0)","v":0},0]
["Auto",2330,119170,1,"Normal",{"v":1746.28,"d":"€1,746.28"},"A010",{"$f":"IFERROR(VLOOKUP(G201,Discounts!C:E,3,0),0)","v":0},{"v":1746.28,"d":"€1,746.28"}]
["Auto",2330,134070,1,"Normal",0,"LUXE",{"$f":"IFERROR(VLOOKUP(G202,Discounts!C:E,3,0),0)","v":0},0]
["Auto",2350,119180,1,"Normal",{"v":1178.51,"d":"€1,178.51"},"A010",{"$f":"IFERROR(VLOOKUP(G203,Discounts!C:E,3,0),0)","v":0},{"v":1178.51,"d":"€1,178.51"}]
["Auto",2350,134070,1,"Normal",0,"LUXE",{"$f":"IFERROR(VLOOKUP(G204,Discounts!C:E,3,0),0)","v":0},0]
["Auto",2370,119190,1,"Normal",{"v":1592.56,"d":"€1,592.56"},"A010",{"$f":"IFERROR(VLOOKUP(G205,Discounts!C:E,3,0),0)","v":0},{"v":1592.56,"d":"€1,592.56"}]
["Auto",2370,134070,1,"Normal",0,"LUXE",{"$f":"IFERROR(VLOOKUP(G206,Discounts!C:E,3,0),0)","v":0},0]
["Auto",2390,119200,1,"Normal",0,"A010",{"$f":"IFERROR(VLOOKUP(G207,Discounts!C:E,3,0),0)","v":0},0]
["Auto",2390,134070,1,"Normal",0,"LUXE",{"$f":"IFERROR(VLOOKUP(G208,Discounts!C:E,3,0),0)","v":0},0]
["Auto",2410,119210,1,"Normal",0,"A010",{"$f":"IFERROR(VLOOKUP(G209,Discounts!C:E,3,0),0)","v":0},0]
["Auto",2410,134070,1,"Normal",0,"LUXE",{"$f":"IFERROR(VLOOKUP(G210,Discounts!C:E,3,0),0)","v":0},0]
["Auto",2430,119220,1,"Normal",{"v":2185.12,"d":"€2,185.12"},"A010",{"$f":"IFERROR(VLOOKUP(G211,Discounts!C:E,3,0),0)","v":0},{"v":2185.12,"d":"€2,185.12"}]
["Auto",2430,134070,1,"Normal",0,"LUXE",{"$f":"IFERROR(VLOOKUP(G212,Discounts!C:E,3,0),0)","v":0},0]
["Auto",2450,119230,1,"Normal",0,"A010",{"$f":"IFERROR(VLOOKUP(G213,Discounts!C:E,3,0),0)","v":0},0]
["Auto",2450,134070,1,"Normal",0,"LUXE",{"$f":"IFERROR(VLOOKUP(G214,Discounts!C:E,3,0),0)","v":0},0]
["Auto",2470,119240,1,"Normal",0,"A010",{"$f":"IFERROR(VLOOKUP(G215,Discounts!C:E,3,0),0)","v":0},0]
["Auto",2470,134070,1,"Normal",0,"LUXE",{"$f":"IFERROR(VLOOKUP(G216,Discounts!C:E,3,0),0)","v":0},0]
["Auto",2490,119250,1,"Normal",{"v":2406.61,"d":"€2,406.61"},"A010",{"$f":"IFERROR(VLOOKUP(G217,Discounts!C:E,3,0),0)","v":0},{"v":2406.61,"d":"€2,406.61"}]
["Auto",2490,134070,1,"Normal",0,"LUXE",{"$f":"IFERROR(VLOOKUP(G218,Discounts!C:E,3,0),0)","v":0},0]
["Auto",2510,119260,1,"Normal",{"v":2555.37,"d":"€2,555.37"},"A010",{"$f":"IFERROR(VLOOKUP(G219,Discounts!C:E,3,0),0)","v":0},{"v":2555.37,"d":"€2,555.37"}]
["Auto",2510,134070,1,"Normal",0,"LUXE",{"$f":"IFERROR(VLOOKUP(G220,Discounts!C:E,3,0),0)","v":0},0]
["Auto",2530,119270,1,"Normal",{"v":1253.72,"d":"€1,253.72"},"A010",{"$f":"IFERROR(VLOOKUP(G221,Discounts!C:E,3,0),0)","v":0},{"v":1253.72,"d":"€1,253.72"}]
["Auto",2530,134070,1,"Normal",0,"LUXE",{"$f":"IFERROR(VLOOKUP(G222,Discounts!C:E,3,0),0)","v":0},0]
["Auto",2550,119280,1,"Normal",0,"A010",{"$f":"IFERROR(VLOOKUP(G223,Discounts!C:E,3,0),0)","v":0},0]
["Auto",2550,134070,1,"Normal",0,"LUXE",{"$f":"IFERROR(VLOOKUP(G224,Discounts!C:E,3,0),0)","v":0},0]
["Auto",2570,119290,1,"Normal",0,"A010",{"$f":"IFERROR(VLOOKUP(G225,Discounts!C:E,3,0),0)","v":0},0]
["Auto",2570,134070,1,"Normal",0,"LUXE",{"$f":"IFERROR(VLOOKUP(G226,Discounts!C:E,3,0),0)","v":0},0]
["Auto",2590,119300,1,"Normal",0,"A010",{"$f":"IFERROR(VLOOKUP(G227,Discounts!C:E,3,0),0)","v":0},0]
["Auto",2590,134070,1,"Normal",0,"LUXE",{"$f":"IFERROR(VLOOKUP(G228,Discounts!C:E,3,0),0)","v":0},0]
["Auto",2610,119310,1,"Normal",{"v":2124.79,"d":"€2,124.79"},"A010",{"$f":"IFERROR(VLOOKUP(G229,Discounts!C:E,3,0),0)","v":0},{"v":2124.79,"d":"€2,124.79"}]
["Auto",2610,134070,1,"Normal",0,"LUXE",{"$f":"IFERROR(VLOOKUP(G230,Discounts!C:E,3,0),0)","v":0},0]
["Auto",2630,119320,1,"Normal",{"v":1790.08,"d":"€1,790.08"},"A010",{"$f":"IFERROR(VLOOKUP(G231,Discounts!C:E,3,0),0)","v":0},{"v":1790.08,"d":"€1,790.08"}]
["Auto",2630,134070,1,"Normal",0,"LUXE",{"$f":"IFERROR(VLOOKUP(G232,Discounts!C:E,3,0),0)","v":0},0]
["Auto",2650,119330,1,"Normal",0,"A010",{"$f":"IFERROR(VLOOKUP(G233,Discounts!C:E,3,0),0)","v":0},0]
["Auto",2650,134070,1,"Normal",0,"LUXE",{"$f":"IFERROR(VLOOKUP(G234,Discounts!C:E,3,0),0)","v":0},0]
["Auto",2670,119340,1,"Normal",{"v":1580.99,"d":"€1,580.99"},"A010",{"$f":"IFERROR(VLOOKUP(G235,Discounts!C:E,3,0),0)","v":0},{"v":1580.99,"d":"€1,580.99"}]
["Auto",2670,134070,1,"Normal",0,"LUXE",{"$f":"IFERROR(VLOOKUP(G236,Discounts!C:E,3,0),0)","v":0},0]
["Auto",2690,119350,1,"Normal",{"v":1326.45,"d":"€1,326.45"},"A010",{"$f":"IFERROR(VLOOKUP(G237,Discounts!C:E,3,0),0)","v":0},{"v":1326.45,"d":"€1,326.45"}]
["Auto",2690,134070,1,"Normal",0,"LUXE",{"$f":"IFERROR(VLOOKUP(G238,Discounts!C:E,3,0),0)","v":0},0]
["Auto",2710,119360,1,"Normal",{"v":1546.28,"d":"€1,546.28"},"A010",{"$f":"IFERROR(VLOOKUP(G239,Discounts!C:E,3,0),0)","v":0},{"v":1546.28,"d":"€1,546.28"}]
["Auto",2710,134070,1,"Normal",0,"LUXE",{"$f":"IFERROR(VLOOKUP(G240,Discounts!C:E,3,0),0)","v":0},0]
["Auto",2730,119370,1,"Normal",{"v":1519.01,"d":"€1,519.01"},"A010",{"$f":"IFERROR(VLOOKUP(G241,Discounts!C:E,3,0),0)","v":0},{"v":1519.01,"d":"€1,519.01"}]
["Auto",2730,134070,1,"Normal",0,"LUXE",{"$f":"IFERROR(VLOOKUP(G242,Discounts!C:E,3,0),0)","v":0},0]
["Auto",2750,119380,1,"Normal",{"v":1652.89,"d":"€1,652.89"},"A010",{"$f":"IFERROR(VLOOKUP(G243,Discounts!C:E,3,0),0)","v":0},{"v":1652.89,"d":"€1,652.89"}]
["Auto",2750,134070,1,"Normal",0,"LUXE",{"$f":"IFERROR(VLOOKUP(G244,Discounts!C:E,3,0),0)","v":0},0]
["Auto",2770,119390,1,"Normal",0,"A010",{"$f":"IFERROR(VLOOKUP(G245,Discounts!C:E,3,0),0)","v":0},0]
["Auto",2770,134070,1,"Normal",0,"LUXE",{"$f":"IFERROR(VLOOKUP(G246,Discounts!C:E,3,0),0)","v":0},0]
["Auto",2790,119400,1,"Normal",{"v":1652.89,"d":"€1,652.89"},"A010",{"$f":"IFERROR(VLOOKUP(G247,Discounts!C:E,3,0),0)","v":0},{"v":1652.89,"d":"€1,652.89"}]
["Auto",2790,134070,1,"Normal",0,"LUXE",{"$f":"IFERROR(VLOOKUP(G248,Discounts!C:E,3,0),0)","v":0},0]
["Auto",2810,119410,1,"Normal",0,"A010",{"$f":"IFERROR(VLOOKUP(G249,Discounts!C:E,3,0),0)","v":0},0]
["Auto",2810,134070,1,"Normal",0,"LUXE",{"$f":"IFERROR(VLOOKUP(G250,Discounts!C:E,3,0),0)","v":0},0]
["Auto",2830,119420,1,"Normal",{"v":1667.77,"d":"€1,667.77"},"A010",{"$f":"IFERROR(VLOOKUP(G251,Discounts!C:E,3,0),0)","v":0},{"v":1667.77,"d":"€1,667.77"}]
["Auto",2830,134070,1,"Normal",0,"LUXE",{"$f":"IFERROR(VLOOKUP(G252,Discounts!C:E,3,0),0)","v":0},0]
["Auto",2850,119430,1,"Normal",0,"A010",{"$f":"IFERROR(VLOOKUP(G253,Discounts!C:E,3,0),0)","v":0},0]
["Auto",2850,134070,1,"Normal",0,"LUXE",{"$f":"IFERROR(VLOOKUP(G254,Discounts!C:E,3,0),0)","v":0},0]
["Auto",2870,119440,1,"Normal",0,"A010",{"$f":"IFERROR(VLOOKUP(G255,Discounts!C:E,3,0),0)","v":0},0]
["Auto",2870,134070,1,"Normal",0,"LUXE",{"$f":"IFERROR(VLOOKUP(G256,Discounts!C:E,3,0),0)","v":0},0]
["Auto",2890,119450,1,"Normal",0,"A010",{"$f":"IFERROR(VLOOKUP(G257,Discounts!C:E,3,0),0)","v":0},0]
["Auto",2890,134070,1,"Normal",0,"LUXE",{"$f":"IFERROR(VLOOKUP(G258,Discounts!C:E,3,0),0)","v":0},0]
["Auto",2910,119460,1,"Normal",{"v":1667.77,"d":"€1,667.77"},"A010",{"$f":"IFERROR(VLOOKUP(G259,Discounts!C:E,3,0),0)","v":0},{"$f":"IF(E259=\"Normal\",F259*(1-H259),SUMIF(B:B,C259,I:I)*D259)","v":{"v":1667.77,"d":"€1,667.77"}}]
["Auto",2910,134070,1,"Normal",0,"LUXE",{"$f":"IFERROR(VLOOKUP(G260,Discounts!C:E,3,0),0)","v":0},0]
["Auto",2930,119470,1,"Normal",0,"A010",{"$f":"IFERROR(VLOOKUP(G261,Discounts!C:E,3,0),0)","v":0},0]
["Auto",2930,134070,1,"Normal",0,"LUXE",{"$f":"IFERROR(VLOOKUP(G262,Discounts!C:E,3,0),0)","v":0},0]
["Auto",2950,119480,1,"Normal",{"v":1800,"d":"€1,800.00"},"A010",{"$f":"IFERROR(VLOOKUP(G263,Discounts!C:E,3,0),0)","v":0},{"v":1800,"d":"€1,800.00"}]
["Auto",2950,134070,1,"Normal",0,"LUXE",{"$f":"IFERROR(VLOOKUP(G264,Discounts!C:E,3,0),0)","v":0},0]
["Auto",2970,119490,1,"Normal",0,"A010",{"$f":"IFERROR(VLOOKUP(G265,Discounts!C:E,3,0),0)","v":0},0]
["Auto",2970,134070,1,"Normal",0,"LUXE",{"$f":"IFERROR(VLOOKUP(G266,Discounts!C:E,3,0),0)","v":0},0]
["Auto",2990,119500,1,"Normal",0,"A010",{"$f":"IFERROR(VLOOKUP(G267,Discounts!C:E,3,0),0)","v":0},0]
["Auto",2990,134070,1,"Normal",0,"LUXE",{"$f":"IFERROR(VLOOKUP(G268,Discounts!C:E,3,0),0)","v":0},0]
["Auto",3010,119510,1,"Normal",{"v":1730.58,"d":"€1,730.58"},"A010",{"$f":"IFERROR(VLOOKUP(G269,Discounts!C:E,3,0),0)","v":0},{"v":1730.58,"d":"€1,730.58"}]
["Auto",3010,134070,1,"Normal",0,"LUXE",{"$f":"IFERROR(VLOOKUP(G270,Discounts!C:E,3,0),0)","v":0},0]
["Auto",3030,119520,1,"Normal",0,"A010",{"$f":"IFERROR(VLOOKUP(G271,Discounts!C:E,3,0),0)","v":0},0]
["Auto",3030,134070,1,"Normal",0,"LUXE",{"$f":"IFERROR(VLOOKUP(G272,Discounts!C:E,3,0),0)","v":0},0]
["Auto",3050,119530,1,"Normal",0,"A010",{"$f":"IFERROR(VLOOKUP(G273,Discounts!C:E,3,0),0)","v":0},0]
["Auto",3050,134070,1,"Normal",0,"LUXE",{"$f":"IFERROR(VLOOKUP(G274,Discounts!C:E,3,0),0)","v":0},0]
["Auto",3070,119540,1,"Normal",0,"A010",{"$f":"IFERROR(VLOOKUP(G275,Discounts!C:E,3,0),0)","v":0},0]
["Auto",3070,134070,1,"Normal",0,"LUXE",{"$f":"IFERROR(VLOOKUP(G276,Discounts!C:E,3,0),0)","v":0},0]
["Auto",3090,119550,1,"Normal",0,"A010",{"$f":"IFERROR(VLOOKUP(G277,Discounts!C:E,3,0),0)","v":0},0]
["Auto",3090,134070,1,"Normal",0,"LUXE",{"$f":"IFERROR(VLOOKUP(G278,Discounts!C:E,3,0),0)","v":0},0]
["Auto",3110,119560,1,"Normal",0,"A010",{"$f":"IFERROR(VLOOKUP(G279,Discounts!C:E,3,0),0)","v":0},0]
["Auto",3110,134070,1,"Normal",0,"LUXE",{"$f":"IFERROR(VLOOKUP(G280,Discounts!C:E,3,0),0)","v":0},0]
["Auto",3130,119570,1,"Normal",{"v":2051.24,"d":"€2,051.24"},"A010",{"$f":"IFERROR(VLOOKUP(G281,Discounts!C:E,3,0),0)","v":0},{"v":2051.24,"d":"€2,051.24"}]
["Auto",3130,134070,1,"Normal",0,"LUXE",{"$f":"IFERROR(VLOOKUP(G282,Discounts!C:E,3,0),0)","v":0},0]
["Auto",3150,119580,1,"Normal",0,"A010",{"$f":"IFERROR(VLOOKUP(G283,Discounts!C:E,3,0),0)","v":0},0]
["Auto",3150,134070,1,"Normal",0,"LUXE",{"$f":"IFERROR(VLOOKUP(G284,Discounts!C:E,3,0),0)","v":0},0]
["Auto",3170,119590,1,"Normal",0,"A010",{"$f":"IFERROR(VLOOKUP(G285,Discounts!C:E,3,0),0)","v":0},0]
["Auto",3170,134070,1,"Normal",0,"LUXE",{"$f":"IFERROR(VLOOKUP(G286,Discounts!C:E,3,0),0)","v":0},0]
["Auto",3190,119600,1,"Normal",{"v":1682.64,"d":"€1,682.64"},"A010",{"$f":"IFERROR(VLOOKUP(G287,Discounts!C:E,3,0),0)","v":0},{"v":1682.64,"d":"€1,682.64"}]
["Auto",3190,134070,1,"Normal",0,"LUXE",{"$f":"IFERROR(VLOOKUP(G288,Discounts!C:E,3,0),0)","v":0},0]
["Auto",3210,119610,1,"Normal",{"v":2247.11,"d":"€2,247.11"},"A010",{"$f":"IFERROR(VLOOKUP(G289,Discounts!C:E,3,0),0)","v":0},{"v":2247.11,"d":"€2,247.11"}]
["Auto",3210,134070,1,"Normal",0,"LUXE",{"$f":"IFERROR(VLOOKUP(G290,Discounts!C:E,3,0),0)","v":0},0]
["Auto",3230,119620,1,"Normal",0,"A010",{"$f":"IFERROR(VLOOKUP(G291,Discounts!C:E,3,0),0)","v":0},0]
["Auto",3230,134070,1,"Normal",0,"LUXE",{"$f":"IFERROR(VLOOKUP(G292,Discounts!C:E,3,0),0)","v":0},0]
["Auto",3250,119630,1,"Normal",{"v":2702.48,"d":"€2,702.48"},"A010",{"$f":"IFERROR(VLOOKUP(G293,Discounts!C:E,3,0),0)","v":0},{"v":2702.48,"d":"€2,702.48"}]
["Auto",3250,134070,1,"Normal",0,"LUXE",{"$f":"IFERROR(VLOOKUP(G294,Discounts!C:E,3,0),0)","v":0},0]
["Auto",3270,119640,1,"Normal",{"v":1452.07,"d":"€1,452.07"},"A010",{"$f":"IFERROR(VLOOKUP(G295,Discounts!C:E,3,0),0)","v":0},{"v":1452.07,"d":"€1,452.07"}]
["Auto",3270,134070,1,"Normal",0,"LUXE",{"$f":"IFERROR(VLOOKUP(G296,Discounts!C:E,3,0),0)","v":0},0]
["Auto",3290,119650,1,"Normal",{"v":1703.31,"d":"€1,703.31"},"A010",{"$f":"IFERROR(VLOOKUP(G297,Discounts!C:E,3,0),0)","v":0},{"v":1703.31,"d":"€1,703.31"}]
["Auto",3290,134070,1,"Normal",0,"LUXE",{"$f":"IFERROR(VLOOKUP(G298,Discounts!C:E,3,0),0)","v":0},0]
["Auto",3310,119660,1,"Normal",0,"A010",{"$f":"IFERROR(VLOOKUP(G299,Discounts!C:E,3,0),0)","v":0},0]
["Auto",3310,134070,1,"Normal",0,"LUXE",{"$f":"IFERROR(VLOOKUP(G300,Discounts!C:E,3,0),0)","v":0},0]
["Auto",3330,119670,1,"Normal",0,"A010",{"$f":"IFERROR(VLOOKUP(G301,Discounts!C:E,3,0),0)","v":0},0]
["Auto",3330,134070,1,"Normal",0,"LUXE",{"$f":"IFERROR(VLOOKUP(G302,Discounts!C:E,3,0),0)","v":0},0]
["Auto",3350,119680,1,"Normal",0,"A010",{"$f":"IFERROR(VLOOKUP(G303,Discounts!C:E,3,0),0)","v":0},0]
["Auto",3350,134070,1,"Normal",0,"LUXE",{"$f":"IFERROR(VLOOKUP(G304,Discounts!C:E,3,0),0)","v":0},0]
["Auto",3370,119690,1,"Normal",{"v":1339.67,"d":"€1,339.67"},"A010",{"$f":"IFERROR(VLOOKUP(G305,Discounts!C:E,3,0),0)","v":0},{"v":1339.67,"d":"€1,339.67"}]
["Auto",3370,134070,1,"Normal",0,"LUXE",{"$f":"IFERROR(VLOOKUP(G306,Discounts!C:E,3,0),0)","v":0},0]
["Auto",3390,119700,1,"Normal",0,"A010",{"$f":"IFERROR(VLOOKUP(G307,Discounts!C:E,3,0),0)","v":0},0]
["Auto",3390,134070,1,"Normal",0,"LUXE",{"$f":"IFERROR(VLOOKUP(G308,Discounts!C:E,3,0),0)","v":0},0]
["Auto",3410,119710,1,"Normal",0,"A010",{"$f":"IFERROR(VLOOKUP(G309,Discounts!C:E,3,0),0)","v":0},0]
["Auto",3410,134070,1,"Normal",0,"LUXE",{"$f":"IFERROR(VLOOKUP(G310,Discounts!C:E,3,0),0)","v":0},0]
["Auto",3430,119720,1,"Normal",0,"A010",{"$f":"IFERROR(VLOOKUP(G311,Discounts!C:E,3,0),0)","v":0},0]
["Auto",3430,134070,1,"Normal",0,"LUXE",{"$f":"IFERROR(VLOOKUP(G312,Discounts!C:E,3,0),0)","v":0},0]
["Auto",3450,119730,1,"Normal",0,"A010",{"$f":"IFERROR(VLOOKUP(G313,Discounts!C:E,3,0),0)","v":0},0]
["Auto",3450,134070,1,"Normal",0,"LUXE",{"$f":"IFERROR(VLOOKUP(G314,Discounts!C:E,3,0),0)","v":0},0]
["Auto",3470,119740,1,"Normal",0,"A010",{"$f":"IFERROR(VLOOKUP(G315,Discounts!C:E,3,0),0)","v":0},0]
["Auto",3470,134070,1,"Normal",0,"LUXE",{"$f":"IFERROR(VLOOKUP(G316,Discounts!C:E,3,0),0)","v":0},0]
["Auto",3490,119750,1,"Normal",0,"A010",{"$f":"IFERROR(VLOOKUP(G317,Discounts!C:E,3,0),0)","v":0},0]
["Auto",3490,134070,1,"Normal",0,"LUXE",{"$f":"IFERROR(VLOOKUP(G318,Discounts!C:E,3,0),0)","v":0},0]
["Auto",3510,119760,1,"Normal",0,"A010",{"$f":"IFERROR(VLOOKUP(G319,Discounts!C:E,3,0),0)","v":0},0]
["Auto",3510,134070,1,"Normal",0,"LUXE",{"$f":"IFERROR(VLOOKUP(G320,Discounts!C:E,3,0),0)","v":0},0]
["Auto",3530,119770,1,"Normal",0,"A010",{"$f":"IFERROR(VLOOKUP(G321,Discounts!C:E,3,0),0)","v":0},0]
["Auto",3530,134070,1,"Normal",0,"LUXE",{"$f":"IFERROR(VLOOKUP(G322,Discounts!C:E,3,0),0)","v":0},0]
["Auto",3550,119780,1,"Normal",{"v":1906.61,"d":"€1,906.61"},"A010",{"$f":"IFERROR(VLOOKUP(G323,Discounts!C:E,3,0),0)","v":0},{"$f":"IF(E323=\"Normal\",F323*(1-H323),SUMIF(B:B,C323,I:I)*D323)","v":{"v":1906.61,"d":"€1,906.61"}}]
["Auto",3550,134070,1,"Normal",0,"LUXE",{"$f":"IFERROR(VLOOKUP(G324,Discounts!C:E,3,0),0)","v":0},0]
["Auto",3570,119790,1,"Normal",0,"A010",{"$f":"IFERROR(VLOOKUP(G325,Discounts!C:E,3,0),0)","v":0},0]
["Auto",3570,134070,1,"Normal",0,"LUXE",{"$f":"IFERROR(VLOOKUP(G326,Discounts!C:E,3,0),0)","v":0},0]
["Auto",3590,119800,1,"Normal",0,"A010",{"$f":"IFERROR(VLOOKUP(G327,Discounts!C:E,3,0),0)","v":0},0]
["Auto",3590,134070,1,"Normal",0,"LUXE",{"$f":"IFERROR(VLOOKUP(G328,Discounts!C:E,3,0),0)","v":0},0]
["Auto",3610,119810,1,"Normal",0,"A010",{"$f":"IFERROR(VLOOKUP(G329,Discounts!C:E,3,0),0)","v":0},0]
["Auto",3610,134070,1,"Normal",0,"LUXE",{"$f":"IFERROR(VLOOKUP(G330,Discounts!C:E,3,0),0)","v":0},0]
["Auto",3630,119820,1,"Normal",0,"A010",{"$f":"IFERROR(VLOOKUP(G331,Discounts!C:E,3,0),0)","v":0},0]
["Auto",3630,134070,1,"Normal",0,"LUXE",{"$f":"IFERROR(VLOOKUP(G332,Discounts!C:E,3,0),0)","v":0},0]
["Auto",3650,119830,1,"Normal",0,"A010",{"$f":"IFERROR(VLOOKUP(G333,Discounts!C:E,3,0),0)","v":0},0]
["Auto",3650,134070,1,"Normal",0,"LUXE",{"$f":"IFERROR(VLOOKUP(G334,Discounts!C:E,3,0),0)","v":0},0]
["Auto",3670,119840,1,"Normal",0,"A010",{"$f":"IFERROR(VLOOKUP(G335,Discounts!C:E,3,0),0)","v":0},0]
["Auto",3670,134070,1,"Normal",0,"LUXE",{"$f":"IFERROR(VLOOKUP(G336,Discounts!C:E,3,0),0)","v":0},0]
["Auto",3690,119850,1,"Normal",0,"A010",{"$f":"IFERROR(VLOOKUP(G337,Discounts!C:E,3,0),0)","v":0},0]
["Auto",3690,134070,1,"Normal",0,"LUXE",{"$f":"IFERROR(VLOOKUP(G338,Discounts!C:E,3,0),0)","v":0},0]
["Auto",3710,119860,1,"Normal",0,"A010",{"$f":"IFERROR(VLOOKUP(G339,Discounts!C:E,3,0),0)","v":0},0]
["Auto",3710,134070,1,"Normal",0,"LUXE",{"$f":"IFERROR(VLOOKUP(G340,Discounts!C:E,3,0),0)","v":0},0]
["Auto",3730,119870,1,"Normal",0,"A010",{"$f":"IFERROR(VLOOKUP(G341,Discounts!C:E,3,0),0)","v":0},0]
["Auto",3730,134070,1,"Normal",0,"LUXE",{"$f":"IFERROR(VLOOKUP(G342,Discounts!C:E,3,0),0)","v":0},0]
["Auto",3750,119880,1,"Normal",0,"A010",{"$f":"IFERROR(VLOOKUP(G343,Discounts!C:E,3,0),0)","v":0},0]
["Auto",3750,134070,1,"Normal",0,"LUXE",{"$f":"IFERROR(VLOOKUP(G344,Discounts!C:E,3,0),0)","v":0},0]
["Auto",3770,119890,1,"Normal",0,"A010",{"$f":"IFERROR(VLOOKUP(G345,Discounts!C:E,3,0),0)","v":0},0]
["Auto",3770,134070,1,"Normal",0,"LUXE",{"$f":"IFERROR(VLOOKUP(G346,Discounts!C:E,3,0),0)","v":0},0]
["Auto",3790,119900,1,"Normal",0,"A010",{"$f":"IFERROR(VLOOKUP(G347,Discounts!C:E,3,0),0)","v":0},0]
["Auto",3790,134070,1,"Normal",0,"LUXE",{"$f":"IFERROR(VLOOKUP(G348,Discounts!C:E,3,0),0)","v":0},0]
["Auto",3810,119910,1,"Normal",0,"A010",{"$f":"IFERROR(VLOOKUP(G349,Discounts!C:E,3,0),0)","v":0},0]
["Auto",3810,134070,1,"Normal",0,"LUXE",{"$f":"IFERROR(VLOOKUP(G350,Discounts!C:E,3,0),0)","v":0},0]
["Auto",3830,119920,1,"Normal",0,"A010",{"$f":"IFERROR(VLOOKUP(G351,Discounts!C:E,3,0),0)","v":0},0]
["Auto",3830,134070,1,"Normal",0,"LUXE",{"$f":"IFERROR(VLOOKUP(G352,Discounts!C:E,3,0),0)","v":0},0]
["Auto",3850,119930,1,"Normal",0,"A010",{"$f":"IFERROR(VLOOKUP(G353,Discounts!C:E,3,0),0)","v":0},0]
["Auto",3850,134070,1,"Normal",0,"LUXE",{"$f":"IFERROR(VLOOKUP(G354,Discounts!C:E,3,0),0)","v":0},0]
["Auto",3870,119940,1,"Normal",0,"A010",{"$f":"IFERROR(VLOOKUP(G355,Discounts!C:E,3,0),0)","v":0},0]
["Auto",3870,134070,1,"Normal",0,"LUXE",{"$f":"IFERROR(VLOOKUP(G356,Discounts!C:E,3,0),0)","v":0},0]
["Auto",3890,119950,1,"Normal",{"v":1463.64,"d":"€1,463.64"},"A010",{"$f":"IFERROR(VLOOKUP(G357,Discounts!C:E,3,0),0)","v":0},{"v":1463.64,"d":"€1,463.64"}]
["Auto",3890,134070,1,"Normal",0,"LUXE",{"$f":"IFERROR(VLOOKUP(G358,Discounts!C:E,3,0),0)","v":0},0]
["Auto",3910,119960,1,"Normal",{"v":1422.31,"d":"€1,422.31"},"A010",{"$f":"IFERROR(VLOOKUP(G359,Discounts!C:E,3,0),0)","v":0},{"v":1422.31,"d":"€1,422.31"}]
["Auto",3910,134070,1,"Normal",0,"LUXE",{"$f":"IFERROR(VLOOKUP(G360,Discounts!C:E,3,0),0)","v":0},0]
["Auto",3930,119970,1,"Normal",{"v":1655.37,"d":"€1,655.37"},"A010",{"$f":"IFERROR(VLOOKUP(G361,Discounts!C:E,3,0),0)","v":0},{"v":1655.37,"d":"€1,655.37"}]
["Auto",3930,134070,1,"Normal",0,"LUXE",{"$f":"IFERROR(VLOOKUP(G362,Discounts!C:E,3,0),0)","v":0},0]
["Auto",3950,119980,1,"Normal",{"v":1468.6,"d":"€1,468.60"},"A010",{"$f":"IFERROR(VLOOKUP(G363,Discounts!C:E,3,0),0)","v":0},{"v":1468.6,"d":"€1,468.60"}]
["Auto",3950,134070,1,"Normal",0,"LUXE",{"$f":"IFERROR(VLOOKUP(G364,Discounts!C:E,3,0),0)","v":0},0]
["Auto",3970,119990,1,"Normal",{"v":1655.37,"d":"€1,655.37"},"A010",{"$f":"IFERROR(VLOOKUP(G365,Discounts!C:E,3,0),0)","v":0},{"v":1655.37,"d":"€1,655.37"}]
["Auto",3970,134070,1,"Normal",0,"LUXE",{"$f":"IFERROR(VLOOKUP(G366,Discounts!C:E,3,0),0)","v":0},0]
["Auto",3990,120000,1,"Normal",0,"A010",{"$f":"IFERROR(VLOOKUP(G367,Discounts!C:E,3,0),0)","v":0},0]
["Auto",3990,134070,1,"Normal",0,"LUXE",{"$f":"IFERROR(VLOOKUP(G368,Discounts!C:E,3,0),0)","v":0},0]
["Auto",4010,120010,1,"Normal",{"v":1730.58,"d":"€1,730.58"},"A010",{"$f":"IFERROR(VLOOKUP(G369,Discounts!C:E,3,0),0)","v":0},{"v":1730.58,"d":"€1,730.58"}]
["Auto",4010,134070,1,"Normal",0,"LUXE",{"$f":"IFERROR(VLOOKUP(G370,Discounts!C:E,3,0),0)","v":0},0]
["Auto",4030,120020,1,"Normal",0,"A010",{"$f":"IFERROR(VLOOKUP(G371,Discounts!C:E,3,0),0)","v":0},0]
["Auto",4030,134070,1,"Normal",0,"LUXE",{"$f":"IFERROR(VLOOKUP(G372,Discounts!C:E,3,0),0)","v":0},0]
["Auto",4050,120030,1,"Normal",{"v":1730.58,"d":"€1,730.58"},"A010",{"$f":"IFERROR(VLOOKUP(G373,Discounts!C:E,3,0),0)","v":0},{"v":1730.58,"d":"€1,730.58"}]
["Auto",4050,134070,1,"Normal",0,"LUXE",{"$f":"IFERROR(VLOOKUP(G374,Discounts!C:E,3,0),0)","v":0},0]
["Auto",4070,120040,1,"Normal",0,"A010",{"$f":"IFERROR(VLOOKUP(G375,Discounts!C:E,3,0),0)","v":0},0]
["Auto",4070,134070,1,"Normal",0,"LUXE",{"$f":"IFERROR(VLOOKUP(G376,Discounts!C:E,3,0),0)","v":0},0]
["Auto",4090,120050,1,"Normal",{"v":1884.3,"d":"€1,884.30"},"A010",{"$f":"IFERROR(VLOOKUP(G377,Discounts!C:E,3,0),0)","v":0},{"v":1884.3,"d":"€1,884.30"}]
["Auto",4090,134070,1,"Normal",0,"LUXE",{"$f":"IFERROR(VLOOKUP(G378,Discounts!C:E,3,0),0)","v":0},0]
["Auto",4110,120060,1,"Normal",0,"A010",{"$f":"IFERROR(VLOOKUP(G379,Discounts!C:E,3,0),0)","v":0},0]
["Auto",4110,134070,1,"Normal",0,"LUXE",{"$f":"IFERROR(VLOOKUP(G380,Discounts!C:E,3,0),0)","v":0},0]
["Auto",4130,120070,1,"Normal",{"v":1730.58,"d":"€1,730.58"},"A010",{"$f":"IFERROR(VLOOKUP(G381,Discounts!C:E,3,0),0)","v":0},{"v":1730.58,"d":"€1,730.58"}]
["Auto",4130,134070,1,"Normal",0,"LUXE",{"$f":"IFERROR(VLOOKUP(G382,Discounts!C:E,3,0),0)","v":0},0]
["Auto",4150,120080,1,"Normal",0,"A010",{"$f":"IFERROR(VLOOKUP(G383,Discounts!C:E,3,0),0)","v":0},0]
["Auto",4150,134070,1,"Normal",0,"LUXE",{"$f":"IFERROR(VLOOKUP(G384,Discounts!C:E,3,0),0)","v":0},0]
["Auto",4170,120090,1,"Normal",{"v":1884.3,"d":"€1,884.30"},"A010",{"$f":"IFERROR(VLOOKUP(G385,Discounts!C:E,3,0),0)","v":0},{"v":1884.3,"d":"€1,884.30"}]
["Auto",4170,134070,1,"Normal",0,"LUXE",{"$f":"IFERROR(VLOOKUP(G386,Discounts!C:E,3,0),0)","v":0},0]
["Auto",4190,120100,1,"Normal",0,"A010",{"$f":"IFERROR(VLOOKUP(G387,Discounts!C:E,3,0),0)","v":0},{"$f":"IF(E387=\"Normal\",F387*(1-H387),SUMIF(B:B,C387,I:I)*D387)","v":0}]
["Auto",4190,134070,1,"Normal",0,"LUXE",{"$f":"IFERROR(VLOOKUP(G388,Discounts!C:E,3,0),0)","v":0},0]
["Auto",4210,120110,1,"Normal",0,"A010",{"$f":"IFERROR(VLOOKUP(G389,Discounts!C:E,3,0),0)","v":0},0]
["Auto",4210,134070,1,"Normal",0,"LUXE",{"$f":"IFERROR(VLOOKUP(G390,Discounts!C:E,3,0),0)","v":0},0]
["Auto",4230,120120,1,"Normal",0,"A010",{"$f":"IFERROR(VLOOKUP(G391,Discounts!C:E,3,0),0)","v":0},0]
["Auto",4230,134070,1,"Normal",0,"LUXE",{"$f":"IFERROR(VLOOKUP(G392,Discounts!C:E,3,0),0)","v":0},0]
["Auto",4250,120130,1,"Normal",0,"A010",{"$f":"IFERROR(VLOOKUP(G393,Discounts!C:E,3,0),0)","v":0},0]
["Auto",4250,134070,1,"Normal",0,"LUXE",{"$f":"IFERROR(VLOOKUP(G394,Discounts!C:E,3,0),0)","v":0},0]
["Auto",4270,120140,1,"Normal",0,"A010",{"$f":"IFERROR(VLOOKUP(G395,Discounts!C:E,3,0),0)","v":0},0]
["Auto",4270,134070,1,"Normal",0,"LUXE",{"$f":"IFERROR(VLOOKUP(G396,Discounts!C:E,3,0),0)","v":0},0]
["Auto",4290,120150,1,"Normal",0,"A010",{"$f":"IFERROR(VLOOKUP(G397,Discounts!C:E,3,0),0)","v":0},0]
["Auto",4290,134070,1,"Normal",0,"LUXE",{"$f":"IFERROR(VLOOKUP(G398,Discounts!C:E,3,0),0)","v":0},0]
["Auto",4310,120160,1,"Normal",0,"A010",{"$f":"IFERROR(VLOOKUP(G399,Discounts!C:E,3,0),0)","v":0},0]
["Auto",4310,134070,1,"Normal",0,"LUXE",{"$f":"IFERROR(VLOOKUP(G400,Discounts!C:E,3,0),0)","v":0},0]
["Auto",4330,120170,1,"Normal",0,"A010",{"$f":"IFERROR(VLOOKUP(G401,Discounts!C:E,3,0),0)","v":0},0]
["Auto",4330,134070,1,"Normal",0,"LUXE",{"$f":"IFERROR(VLOOKUP(G402,Discounts!C:E,3,0),0)","v":0},0]
["Auto",4350,120180,1,"Normal",0,"A010",{"$f":"IFERROR(VLOOKUP(G403,Discounts!C:E,3,0),0)","v":0},0]
["Auto",4350,134070,1,"Normal",0,"LUXE",{"$f":"IFERROR(VLOOKUP(G404,Discounts!C:E,3,0),0)","v":0},0]
["Auto",4370,120190,1,"Normal",0,"A010",{"$f":"IFERROR(VLOOKUP(G405,Discounts!C:E,3,0),0)","v":0},0]
["Auto",4370,134070,1,"Normal",0,"LUXE",{"$f":"IFERROR(VLOOKUP(G406,Discounts!C:E,3,0),0)","v":0},0]
["Auto",4390,120200,1,"Normal",0,"A010",{"$f":"IFERROR(VLOOKUP(G407,Discounts!C:E,3,0),0)","v":0},0]
["Auto",4390,134070,1,"Normal",0,"LUXE",{"$f":"IFERROR(VLOOKUP(G408,Discounts!C:E,3,0),0)","v":0},0]
["Auto",4410,120210,1,"Normal",0,"A010",{"$f":"IFERROR(VLOOKUP(G409,Discounts!C:E,3,0),0)","v":0},0]
["Auto",4410,134070,1,"Normal",0,"LUXE",{"$f":"IFERROR(VLOOKUP(G410,Discounts!C:E,3,0),0)","v":0},0]
["Auto",4430,120220,1,"Normal",0,"A010",{"$f":"IFERROR(VLOOKUP(G411,Discounts!C:E,3,0),0)","v":0},0]
["Auto",4430,134070,1,"Normal",0,"LUXE",{"$f":"IFERROR(VLOOKUP(G412,Discounts!C:E,3,0),0)","v":0},0]
["Auto",4450,120230,1,"Normal",0,"A010",{"$f":"IFERROR(VLOOKUP(G413,Discounts!C:E,3,0),0)","v":0},0]
["Auto",4450,134070,1,"Normal",0,"LUXE",{"$f":"IFERROR(VLOOKUP(G414,Discounts!C:E,3,0),0)","v":0},0]
["Auto",4470,120240,1,"Normal",0,"A010",{"$f":"IFERROR(VLOOKUP(G415,Discounts!C:E,3,0),0)","v":0},0]
["Auto",4470,134070,1,"Normal",0,"LUXE",{"$f":"IFERROR(VLOOKUP(G416,Discounts!C:E,3,0),0)","v":0},0]
["Auto",14510,120250,1,"Normal",0,"A015",{"$f":"IFERROR(VLOOKUP(G417,Discounts!C:E,3,0),0)","v":0},0]
["Auto",14510,134070,1,"Normal",0,"LUXE",{"$f":"IFERROR(VLOOKUP(G418,Discounts!C:E,3,0),0)","v":0},0]
["Auto",18030,17970,1,"Normal",{"v":281.82,"d":"€281.82"},"E055",{"$f":"IFERROR(VLOOKUP(G419,Discounts!C:E,3,0),0)","v":0},{"v":281.82,"d":"€281.82"}]
["Auto",18030,31920,1,"Normal",{"v":121.49,"d":"€121.49"},"SD/SG",{"$f":"IFERROR(VLOOKUP(G420,Discounts!C:E,3,0),0)","v":0},{"v":121.49,"d":"€121.49"}]
["Auto",18040,17980,1,"Normal",{"v":303.31,"d":"€303.31"},"E055",{"$f":"IFERROR(VLOOKUP(G421,Discounts!C:E,3,0),0)","v":0},{"v":303.31,"d":"€303.31"}]
["Auto",18040,31920,1,"Normal",{"v":121.49,"d":"€121.49"},"SD/SG",{"$f":"IFERROR(VLOOKUP(G422,Discounts!C:E,3,0),0)","v":0},{"v":121.49,"d":"€121.49"}]
["Auto",18050,17990,1,"Normal",{"v":323.97,"d":"€323.97"},"E055",{"$f":"IFERROR(VLOOKUP(G423,Discounts!C:E,3,0),0)","v":0},{"v":323.97,"d":"€323.97"}]
["Auto",18050,31920,1,"Normal",{"v":121.49,"d":"€121.49"},"SD/SG",{"$f":"IFERROR(VLOOKUP(G424,Discounts!C:E,3,0),0)","v":0},{"v":121.49,"d":"€121.49"}]
["Auto",18060,18000,1,"Normal",{"v":366.94,"d":"€366.94"},"E055",{"$f":"IFERROR(VLOOKUP(G425,Discounts!C:E,3,0),0)","v":0},{"v":366.94,"d":"€366.94"}]
["Auto",18060,31920,1,"Normal",{"v":121.49,"d":"€121.49"},"SD/SG",{"$f":"IFERROR(VLOOKUP(G426,Discounts!C:E,3,0),0)","v":0},{"v":121.49,"d":"€121.49"}]
["Auto",18070,18010,1,"Normal",{"v":409.92,"d":"€409.92"},"E055",{"$f":"IFERROR(VLOOKUP(G427,Discounts!C:E,3,0),0)","v":0},{"v":409.92,"d":"€409.92"}]
["Auto",18070,31920,1,"Normal",{"v":121.49,"d":"€121.49"},"SD/SG",{"$f":"IFERROR(VLOOKUP(G428,Discounts!C:E,3,0),0)","v":0},{"v":121.49,"d":"€121.49"}]
["Auto",18080,31920,1,"Normal",{"v":121.49,"d":"€121.49"},"SD/SG",{"$f":"IFERROR(VLOOKUP(G429,Discounts!C:E,3,0),0)","v":0},{"v":121.49,"d":"€121.49"}]
["Auto",18080,149800,1,"Normal",{"v":331.4,"d":"€331.40"},"E075",{"$f":"IFERROR(VLOOKUP(G430,Discounts!C:E,3,0),0)","v":0},{"v":331.4,"d":"€331.40"}]
["Auto",18090,31920,1,"Normal",{"v":121.49,"d":"€121.49"},"SD/SG",{"$f":"IFERROR(VLOOKUP(G431,Discounts!C:E,3,0),0)","v":0},{"v":121.49,"d":"€121.49"}]
["Auto",18090,149810,1,"Normal",{"v":355.37,"d":"€355.37"},"E075",{"$f":"IFERROR(VLOOKUP(G432,Discounts!C:E,3,0),0)","v":0},{"v":355.37,"d":"€355.37"}]
["Auto",18100,31920,1,"Normal",{"v":121.49,"d":"€121.49"},"SD/SG",{"$f":"IFERROR(VLOOKUP(G433,Discounts!C:E,3,0),0)","v":0},{"v":121.49,"d":"€121.49"}]
["Auto",18100,149820,1,"Normal",{"v":377.69,"d":"€377.69"},"E075",{"$f":"IFERROR(VLOOKUP(G434,Discounts!C:E,3,0),0)","v":0},{"v":377.69,"d":"€377.69"}]
["Auto",18110,31920,1,"Normal",{"v":121.49,"d":"€121.49"},"SD/SG",{"$f":"IFERROR(VLOOKUP(G435,Discounts!C:E,3,0),0)","v":0},{"v":121.49,"d":"€121.49"}]
["Auto",18110,149830,1,"Normal",{"v":428.1,"d":"€428.10"},"E075",{"$f":"IFERROR(VLOOKUP(G436,Discounts!C:E,3,0),0)","v":0},{"v":428.1,"d":"€428.10"}]
["Auto",18130,31920,1,"Normal",{"v":121.49,"d":"€121.49"},"SD/SG",{"$f":"IFERROR(VLOOKUP(G437,Discounts!C:E,3,0),0)","v":0},{"v":121.49,"d":"€121.49"}]
["Auto",18130,149840,1,"Normal",{"v":476.86,"d":"€476.86"},"E075",{"$f":"IFERROR(VLOOKUP(G438,Discounts!C:E,3,0),0)","v":0},{"v":476.86,"d":"€476.86"}]
["Auto",18140,31920,1,"Normal",{"v":121.49,"d":"€121.49"},"SD/SG",{"$f":"IFERROR(VLOOKUP(G439,Discounts!C:E,3,0),0)","v":0},{"v":121.49,"d":"€121.49"}]
["Auto",18140,148270,1,"Normal",{"v":271.07,"d":"€271.07"},"E065",{"$f":"IFERROR(VLOOKUP(G440,Discounts!C:E,3,0),0)","v":0},{"v":271.07,"d":"€271.07"}]
["Auto",18150,31920,1,"Normal",{"v":121.49,"d":"€121.49"},"SD/SG",{"$f":"IFERROR(VLOOKUP(G441,Discounts!C:E,3,0),0)","v":0},{"v":121.49,"d":"€121.49"}]
["Auto",18150,148290,1,"Normal",{"v":291.74,"d":"€291.74"},"E065",{"$f":"IFERROR(VLOOKUP(G442,Discounts!C:E,3,0),0)","v":0},{"v":291.74,"d":"€291.74"}]
["Auto",18160,31920,1,"Normal",{"v":121.49,"d":"€121.49"},"SD/SG",{"$f":"IFERROR(VLOOKUP(G443,Discounts!C:E,3,0),0)","v":0},{"v":121.49,"d":"€121.49"}]
["Auto",18160,148310,1,"Normal",{"v":311.57,"d":"€311.57"},"E065",{"$f":"IFERROR(VLOOKUP(G444,Discounts!C:E,3,0),0)","v":0},{"v":311.57,"d":"€311.57"}]
["Auto",18170,31920,1,"Normal",{"v":121.49,"d":"€121.49"},"SD/SG",{"$f":"IFERROR(VLOOKUP(G445,Discounts!C:E,3,0),0)","v":0},{"v":121.49,"d":"€121.49"}]
["Auto",18170,148330,1,"Normal",{"v":352.07,"d":"€352.07"},"E065",{"$f":"IFERROR(VLOOKUP(G446,Discounts!C:E,3,0),0)","v":0},{"v":352.07,"d":"€352.07"}]
["Auto",18180,31920,1,"Normal",{"v":121.49,"d":"€121.49"},"SD/SG",{"$f":"IFERROR(VLOOKUP(G447,Discounts!C:E,3,0),0)","v":0},{"v":121.49,"d":"€121.49"}]
["Auto",18180,148350,1,"Normal",{"v":390.08,"d":"€390.08"},"E065",{"$f":"IFERROR(VLOOKUP(G448,Discounts!C:E,3,0),0)","v":0},{"v":390.08,"d":"€390.08"}]
["Auto",18240,18190,1,"Normal",{"v":346.28,"d":"€346.28"},"E055",{"$f":"IFERROR(VLOOKUP(G449,Discounts!C:E,3,0),0)","v":0},{"v":346.28,"d":"€346.28"}]
["Auto",18240,31920,1,"Normal",{"v":121.49,"d":"€121.49"},"SD/SG",{"$f":"IFERROR(VLOOKUP(G450,Discounts!C:E,3,0),0)","v":0},{"v":121.49,"d":"€121.49"}]
["Auto",18250,18200,1,"Normal",{"v":366.94,"d":"€366.94"},"E055",{"$f":"IFERROR(VLOOKUP(G451,Discounts!C:E,3,0),0)","v":0},{"$f":"IF(E451=\"Normal\",F451*(1-H451),SUMIF(B:B,C451,I:I)*D451)","v":{"v":366.94,"d":"€366.94"}}]
["Auto",18250,31920,1,"Normal",{"v":121.49,"d":"€121.49"},"SD/SG",{"$f":"IFERROR(VLOOKUP(G452,Discounts!C:E,3,0),0)","v":0},{"v":121.49,"d":"€121.49"}]
["Auto",18260,18210,1,"Normal",{"v":389.26,"d":"€389.26"},"E055",{"$f":"IFERROR(VLOOKUP(G453,Discounts!C:E,3,0),0)","v":0},{"v":389.26,"d":"€389.26"}]
["Auto",18260,31920,1,"Normal",{"v":121.49,"d":"€121.49"},"SD/SG",{"$f":"IFERROR(VLOOKUP(G454,Discounts!C:E,3,0),0)","v":0},{"v":121.49,"d":"€121.49"}]
["Auto",18270,18220,1,"Normal",{"v":430.58,"d":"€430.58"},"E055",{"$f":"IFERROR(VLOOKUP(G455,Discounts!C:E,3,0),0)","v":0},{"v":430.58,"d":"€430.58"}]
["Auto",18270,31920,1,"Normal",{"v":121.49,"d":"€121.49"},"SD/SG",{"$f":"IFERROR(VLOOKUP(G456,Discounts!C:E,3,0),0)","v":0},{"v":121.49,"d":"€121.49"}]
["Auto",18280,18230,1,"Normal",{"v":470.25,"d":"€470.25"},"E055",{"$f":"IFERROR(VLOOKUP(G457,Discounts!C:E,3,0),0)","v":0},{"v":470.25,"d":"€470.25"}]
["Auto",18280,31920,1,"Normal",{"v":121.49,"d":"€121.49"},"SD/SG",{"$f":"IFERROR(VLOOKUP(G458,Discounts!C:E,3,0),0)","v":0},{"v":121.49,"d":"€121.49"}]
["Auto",18290,31920,1,"Normal",{"v":121.49,"d":"€121.49"},"SD/SG",{"$f":"IFERROR(VLOOKUP(G459,Discounts!C:E,3,0),0)","v":0},{"v":121.49,"d":"€121.49"}]
["Auto",18290,149850,1,"Normal",{"v":404.96,"d":"€404.96"},"E075",{"$f":"IFERROR(VLOOKUP(G460,Discounts!C:E,3,0),0)","v":0},{"v":404.96,"d":"€404.96"}]
["Auto",18300,31920,1,"Normal",{"v":121.49,"d":"€121.49"},"SD/SG",{"$f":"IFERROR(VLOOKUP(G461,Discounts!C:E,3,0),0)","v":0},{"v":121.49,"d":"€121.49"}]
["Auto",18300,149860,1,"Normal",{"v":428.1,"d":"€428.10"},"E075",{"$f":"IFERROR(VLOOKUP(G462,Discounts!C:E,3,0),0)","v":0},{"v":428.1,"d":"€428.10"}]
["Auto",18310,31920,1,"Normal",{"v":121.49,"d":"€121.49"},"SD/SG",{"$f":"IFERROR(VLOOKUP(G463,Discounts!C:E,3,0),0)","v":0},{"v":121.49,"d":"€121.49"}]
["Auto",18310,149870,1,"Normal",{"v":453.72,"d":"€453.72"},"E075",{"$f":"IFERROR(VLOOKUP(G464,Discounts!C:E,3,0),0)","v":0},{"v":453.72,"d":"€453.72"}]
["Auto",18320,31920,1,"Normal",{"v":121.49,"d":"€121.49"},"SD/SG",{"$f":"IFERROR(VLOOKUP(G465,Discounts!C:E,3,0),0)","v":0},{"v":121.49,"d":"€121.49"}]
["Auto",18320,149880,1,"Normal",{"v":500.83,"d":"€500.83"},"E075",{"$f":"IFERROR(VLOOKUP(G466,Discounts!C:E,3,0),0)","v":0},{"v":500.83,"d":"€500.83"}]
["Auto",18330,31920,1,"Normal",{"v":121.49,"d":"€121.49"},"SD/SG",{"$f":"IFERROR(VLOOKUP(G467,Discounts!C:E,3,0),0)","v":0},{"v":121.49,"d":"€121.49"}]
["Auto",18330,149890,1,"Normal",{"v":548.76,"d":"€548.76"},"E075",{"$f":"IFERROR(VLOOKUP(G468,Discounts!C:E,3,0),0)","v":0},{"v":548.76,"d":"€548.76"}]
["Auto",18340,31920,1,"Normal",{"v":121.49,"d":"€121.49"},"SD/SG",{"$f":"IFERROR(VLOOKUP(G469,Discounts!C:E,3,0),0)","v":0},{"v":121.49,"d":"€121.49"}]
["Auto",18340,148280,1,"Normal",{"v":319.01,"d":"€319.01"},"E065",{"$f":"IFERROR(VLOOKUP(G470,Discounts!C:E,3,0),0)","v":0},{"v":319.01,"d":"€319.01"}]
["Auto",18350,31920,1,"Normal",{"v":121.49,"d":"€121.49"},"SD/SG",{"$f":"IFERROR(VLOOKUP(G471,Discounts!C:E,3,0),0)","v":0},{"v":121.49,"d":"€121.49"}]
["Auto",18350,148300,1,"Normal",{"v":337.19,"d":"€337.19"},"E065",{"$f":"IFERROR(VLOOKUP(G472,Discounts!C:E,3,0),0)","v":0},{"v":337.19,"d":"€337.19"}]
["Auto",18360,31920,1,"Normal",{"v":121.49,"d":"€121.49"},"SD/SG",{"$f":"IFERROR(VLOOKUP(G473,Discounts!C:E,3,0),0)","v":0},{"v":121.49,"d":"€121.49"}]
["Auto",18360,148320,1,"Normal",{"v":357.02,"d":"€357.02"},"E065",{"$f":"IFERROR(VLOOKUP(G474,Discounts!C:E,3,0),0)","v":0},{"v":357.02,"d":"€357.02"}]
["Auto",18370,31920,1,"Normal",{"v":121.49,"d":"€121.49"},"SD/SG",{"$f":"IFERROR(VLOOKUP(G475,Discounts!C:E,3,0),0)","v":0},{"v":121.49,"d":"€121.49"}]
["Auto",18370,148340,1,"Normal",{"v":397.52,"d":"€397.52"},"E065",{"$f":"IFERROR(VLOOKUP(G476,Discounts!C:E,3,0),0)","v":0},{"v":397.52,"d":"€397.52"}]
["Auto",18380,31920,1,"Normal",{"v":121.49,"d":"€121.49"},"SD/SG",{"$f":"IFERROR(VLOOKUP(G477,Discounts!C:E,3,0),0)","v":0},{"v":121.49,"d":"€121.49"}]
["Auto",18380,148360,1,"Normal",{"v":438.84,"d":"€438.84"},"E065",{"$f":"IFERROR(VLOOKUP(G478,Discounts!C:E,3,0),0)","v":0},{"v":438.84,"d":"€438.84"}]
["Auto",21590,21010,1,"Normal",{"v":809.09,"d":"€809.09"},"C010",{"$f":"IFERROR(VLOOKUP(G479,Discounts!C:E,3,0),0)","v":0},{"v":809.09,"d":"€809.09"}]
["Auto",21590,34260,1,"Normal",{"v":249.59,"d":"€249.59"},"LUXE",{"$f":"IFERROR(VLOOKUP(G480,Discounts!C:E,3,0),0)","v":0},{"v":249.59,"d":"€249.59"}]
["Auto",21600,21020,1,"Normal",{"v":457.85,"d":"€457.85"},"C010",{"$f":"IFERROR(VLOOKUP(G481,Discounts!C:E,3,0),0)","v":0},{"v":457.85,"d":"€457.85"}]
["Auto",21600,34260,1,"Normal",{"v":249.59,"d":"€249.59"},"LUXE",{"$f":"IFERROR(VLOOKUP(G482,Discounts!C:E,3,0),0)","v":0},{"v":249.59,"d":"€249.59"}]
["Auto",21610,21030,1,"Normal",{"v":744.63,"d":"€744.63"},"C010",{"$f":"IFERROR(VLOOKUP(G483,Discounts!C:E,3,0),0)","v":0},{"v":744.63,"d":"€744.63"}]
["Auto",21610,34260,1,"Normal",{"v":249.59,"d":"€249.59"},"LUXE",{"$f":"IFERROR(VLOOKUP(G484,Discounts!C:E,3,0),0)","v":0},{"v":249.59,"d":"€249.59"}]
["Auto",21620,21040,1,"Normal",{"v":483.47,"d":"€483.47"},"C010",{"$f":"IFERROR(VLOOKUP(G485,Discounts!C:E,3,0),0)","v":0},{"v":483.47,"d":"€483.47"}]
["Auto",21620,34260,1,"Normal",{"v":249.59,"d":"€249.59"},"LUXE",{"$f":"IFERROR(VLOOKUP(G486,Discounts!C:E,3,0),0)","v":0},{"v":249.59,"d":"€249.59"}]
["Auto",21630,21050,1,"Normal",{"v":702.48,"d":"€702.48"},"C010",{"$f":"IFERROR(VLOOKUP(G487,Discounts!C:E,3,0),0)","v":0},{"v":702.48,"d":"€702.48"}]
["Auto",21630,34260,1,"Normal",{"v":249.59,"d":"€249.59"},"LUXE",{"$f":"IFERROR(VLOOKUP(G488,Discounts!C:E,3,0),0)","v":0},{"v":249.59,"d":"€249.59"}]
["Auto",21640,21060,1,"Normal",{"v":770.25,"d":"€770.25"},"C010",{"$f":"IFERROR(VLOOKUP(G489,Discounts!C:E,3,0),0)","v":0},{"v":770.25,"d":"€770.25"}]
["Auto",21640,34260,1,"Normal",{"v":249.59,"d":"€249.59"},"LUXE",{"$f":"IFERROR(VLOOKUP(G490,Discounts!C:E,3,0),0)","v":0},{"v":249.59,"d":"€249.59"}]
["Auto",21650,21070,1,"Normal",{"v":509.09,"d":"€509.09"},"C010",{"$f":"IFERROR(VLOOKUP(G491,Discounts!C:E,3,0),0)","v":0},{"v":509.09,"d":"€509.09"}]
["Auto",21650,34260,1,"Normal",{"v":249.59,"d":"€249.59"},"LUXE",{"$f":"IFERROR(VLOOKUP(G492,Discounts!C:E,3,0),0)","v":0},{"v":249.59,"d":"€249.59"}]
["Auto",21660,21080,1,"Normal",{"v":795.04,"d":"€795.04"},"C010",{"$f":"IFERROR(VLOOKUP(G493,Discounts!C:E,3,0),0)","v":0},{"v":795.04,"d":"€795.04"}]
["Auto",21660,34260,1,"Normal",{"v":249.59,"d":"€249.59"},"LUXE",{"$f":"IFERROR(VLOOKUP(G494,Discounts!C:E,3,0),0)","v":0},{"v":249.59,"d":"€249.59"}]
["Auto",21670,21090,1,"Normal",{"v":538.84,"d":"€538.84"},"C010",{"$f":"IFERROR(VLOOKUP(G495,Discounts!C:E,3,0),0)","v":0},{"v":538.84,"d":"€538.84"}]
["Auto",21670,34260,1,"Normal",{"v":249.59,"d":"€249.59"},"LUXE",{"$f":"IFERROR(VLOOKUP(G496,Discounts!C:E,3,0),0)","v":0},{"v":249.59,"d":"€249.59"}]
["Auto",21680,21100,1,"Normal",{"v":757.85,"d":"€757.85"},"C010",{"$f":"IFERROR(VLOOKUP(G497,Discounts!C:E,3,0),0)","v":0},{"v":757.85,"d":"€757.85"}]
["Auto",21680,34260,1,"Normal",{"v":249.59,"d":"€249.59"},"LUXE",{"$f":"IFERROR(VLOOKUP(G498,Discounts!C:E,3,0),0)","v":0},{"v":249.59,"d":"€249.59"}]
["Auto",21690,21110,1,"Normal",{"v":822.31,"d":"€822.31"},"C010",{"$f":"IFERROR(VLOOKUP(G499,Discounts!C:E,3,0),0)","v":0},{"v":822.31,"d":"€822.31"}]
["Auto",21690,34260,1,"Normal",{"v":249.59,"d":"€249.59"},"LUXE",{"$f":"IFERROR(VLOOKUP(G500,Discounts!C:E,3,0),0)","v":0},{"v":249.59,"d":"€249.59"}]
["Auto",21700,21120,1,"Normal",{"v":565.29,"d":"€565.29"},"C010",{"$f":"IFERROR(VLOOKUP(G501,Discounts!C:E,3,0),0)","v":0},{"v":565.29,"d":"€565.29"}]
["Auto",21700,34260,1,"Normal",{"v":249.59,"d":"€249.59"},"LUXE",{"$f":"IFERROR(VLOOKUP(G502,Discounts!C:E,3,0),0)","v":0},{"v":249.59,"d":"€249.59"}]
["Auto",21710,21130,1,"Normal",{"v":785.12,"d":"€785.12"},"C010",{"$f":"IFERROR(VLOOKUP(G503,Discounts!C:E,3,0),0)","v":0},{"v":785.12,"d":"€785.12"}]
["Auto",21710,34260,1,"Normal",{"v":249.59,"d":"€249.59"},"LUXE",{"$f":"IFERROR(VLOOKUP(G504,Discounts!C:E,3,0),0)","v":0},{"v":249.59,"d":"€249.59"}]
["Auto",21720,21140,1,"Normal",{"v":592.56,"d":"€592.56"},"C010",{"$f":"IFERROR(VLOOKUP(G505,Discounts!C:E,3,0),0)","v":0},{"v":592.56,"d":"€592.56"}]
["Auto",21720,34260,1,"Normal",{"v":249.59,"d":"€249.59"},"LUXE",{"$f":"IFERROR(VLOOKUP(G506,Discounts!C:E,3,0),0)","v":0},{"v":249.59,"d":"€249.59"}]
["Auto",21730,21150,1,"Normal",{"v":811.57,"d":"€811.57"},"C010",{"$f":"IFERROR(VLOOKUP(G507,Discounts!C:E,3,0),0)","v":0},{"v":811.57,"d":"€811.57"}]
["Auto",21730,34260,1,"Normal",{"v":249.59,"d":"€249.59"},"LUXE",{"$f":"IFERROR(VLOOKUP(G508,Discounts!C:E,3,0),0)","v":0},{"v":249.59,"d":"€249.59"}]
["Auto",21740,21160,1,"Normal",{"v":617.36,"d":"€617.36"},"C010",{"$f":"IFERROR(VLOOKUP(G509,Discounts!C:E,3,0),0)","v":0},{"v":617.36,"d":"€617.36"}]
["Auto",21740,34260,1,"Normal",{"v":249.59,"d":"€249.59"},"LUXE",{"$f":"IFERROR(VLOOKUP(G510,Discounts!C:E,3,0),0)","v":0},{"v":249.59,"d":"€249.59"}]
["Auto",21750,21170,1,"Normal",{"v":839.67,"d":"€839.67"},"C010",{"$f":"IFERROR(VLOOKUP(G511,Discounts!C:E,3,0),0)","v":0},{"v":839.67,"d":"€839.67"}]
["Auto",21750,34260,1,"Normal",{"v":249.59,"d":"€249.59"},"LUXE",{"$f":"IFERROR(VLOOKUP(G512,Discounts!C:E,3,0),0)","v":0},{"v":249.59,"d":"€249.59"}]
["Auto",21760,21180,1,"Normal",{"v":643.8,"d":"€643.80"},"C010",{"$f":"IFERROR(VLOOKUP(G513,Discounts!C:E,3,0),0)","v":0},{"v":643.8,"d":"€643.80"}]
["Auto",21760,34260,1,"Normal",{"v":249.59,"d":"€249.59"},"LUXE",{"$f":"IFERROR(VLOOKUP(G514,Discounts!C:E,3,0),0)","v":0},{"v":249.59,"d":"€249.59"}]
["Auto",21770,21190,1,"Normal",{"v":865.29,"d":"€865.29"},"C010",{"$f":"IFERROR(VLOOKUP(G515,Discounts!C:E,3,0),0)","v":0},{"$f":"IF(E515=\"Normal\",F515*(1-H515),SUMIF(B:B,C515,I:I)*D515)","v":{"v":865.29,"d":"€865.29"}}]
["Auto",21770,34260,1,"Normal",{"v":249.59,"d":"€249.59"},"LUXE",{"$f":"IFERROR(VLOOKUP(G516,Discounts!C:E,3,0),0)","v":0},{"v":249.59,"d":"€249.59"}]
["Auto",21780,21200,1,"Normal",{"v":828.93,"d":"€828.93"},"C010",{"$f":"IFERROR(VLOOKUP(G517,Discounts!C:E,3,0),0)","v":0},{"v":828.93,"d":"€828.93"}]
["Auto",21780,34260,1,"Normal",{"v":249.59,"d":"€249.59"},"LUXE",{"$f":"IFERROR(VLOOKUP(G518,Discounts!C:E,3,0),0)","v":0},{"v":249.59,"d":"€249.59"}]
["Auto",21790,21210,1,"Normal",{"v":565.29,"d":"€565.29"},"C010",{"$f":"IFERROR(VLOOKUP(G519,Discounts!C:E,3,0),0)","v":0},{"v":565.29,"d":"€565.29"}]
["Auto",21790,34260,1,"Normal",{"v":249.59,"d":"€249.59"},"LUXE",{"$f":"IFERROR(VLOOKUP(G520,Discounts!C:E,3,0),0)","v":0},{"v":249.59,"d":"€249.59"}]
["Auto",21800,21220,1,"Normal",{"v":785.12,"d":"€785.12"},"C010",{"$f":"IFERROR(VLOOKUP(G521,Discounts!C:E,3,0),0)","v":0},{"v":785.12,"d":"€785.12"}]
["Auto",21800,34260,1,"Normal",{"v":249.59,"d":"€249.59"},"LUXE",{"$f":"IFERROR(VLOOKUP(G522,Discounts!C:E,3,0),0)","v":0},{"v":249.59,"d":"€249.59"}]
["Auto",21810,21230,1,"Normal",{"v":851.24,"d":"€851.24"},"C010",{"$f":"IFERROR(VLOOKUP(G523,Discounts!C:E,3,0),0)","v":0},{"v":851.24,"d":"€851.24"}]
["Auto",21810,34260,1,"Normal",{"v":249.59,"d":"€249.59"},"LUXE",{"$f":"IFERROR(VLOOKUP(G524,Discounts!C:E,3,0),0)","v":0},{"v":249.59,"d":"€249.59"}]
["Auto",21820,21240,1,"Normal",{"v":592.56,"d":"€592.56"},"C010",{"$f":"IFERROR(VLOOKUP(G525,Discounts!C:E,3,0),0)","v":0},{"v":592.56,"d":"€592.56"}]
["Auto",21820,34260,1,"Normal",{"v":249.59,"d":"€249.59"},"LUXE",{"$f":"IFERROR(VLOOKUP(G526,Discounts!C:E,3,0),0)","v":0},{"v":249.59,"d":"€249.59"}]
["Auto",21830,21250,1,"Normal",{"v":811.57,"d":"€811.57"},"C010",{"$f":"IFERROR(VLOOKUP(G527,Discounts!C:E,3,0),0)","v":0},{"v":811.57,"d":"€811.57"}]
["Auto",21830,34260,1,"Normal",{"v":249.59,"d":"€249.59"},"LUXE",{"$f":"IFERROR(VLOOKUP(G528,Discounts!C:E,3,0),0)","v":0},{"v":249.59,"d":"€249.59"}]
["Auto",21840,21260,1,"Normal",{"v":617.36,"d":"€617.36"},"C010",{"$f":"IFERROR(VLOOKUP(G529,Discounts!C:E,3,0),0)","v":0},{"v":617.36,"d":"€617.36"}]
["Auto",21840,34260,1,"Normal",{"v":249.59,"d":"€249.59"},"LUXE",{"$f":"IFERROR(VLOOKUP(G530,Discounts!C:E,3,0),0)","v":0},{"v":249.59,"d":"€249.59"}]
["Auto",21850,21270,1,"Normal",{"v":839.67,"d":"€839.67"},"C010",{"$f":"IFERROR(VLOOKUP(G531,Discounts!C:E,3,0),0)","v":0},{"v":839.67,"d":"€839.67"}]
["Auto",21850,34260,1,"Normal",{"v":249.59,"d":"€249.59"},"LUXE",{"$f":"IFERROR(VLOOKUP(G532,Discounts!C:E,3,0),0)","v":0},{"v":249.59,"d":"€249.59"}]
["Auto",21860,21280,1,"Normal",{"v":643.8,"d":"€643.80"},"C010",{"$f":"IFERROR(VLOOKUP(G533,Discounts!C:E,3,0),0)","v":0},{"v":643.8,"d":"€643.80"}]
["Auto",21860,34260,1,"Normal",{"v":249.59,"d":"€249.59"},"LUXE",{"$f":"IFERROR(VLOOKUP(G534,Discounts!C:E,3,0),0)","v":0},{"v":249.59,"d":"€249.59"}]
["Auto",21870,21290,1,"Normal",{"v":865.29,"d":"€865.29"},"C010",{"$f":"IFERROR(VLOOKUP(G535,Discounts!C:E,3,0),0)","v":0},{"v":865.29,"d":"€865.29"}]
["Auto",21870,34260,1,"Normal",{"v":249.59,"d":"€249.59"},"LUXE",{"$f":"IFERROR(VLOOKUP(G536,Discounts!C:E,3,0),0)","v":0},{"v":249.59,"d":"€249.59"}]
["Auto",21880,21300,1,"Normal",{"v":809.09,"d":"€809.09"},"A010",{"$f":"IFERROR(VLOOKUP(G537,Discounts!C:E,3,0),0)","v":0},{"v":809.09,"d":"€809.09"}]
["Auto",21880,34260,1,"Normal",{"v":249.59,"d":"€249.59"},"LUXE",{"$f":"IFERROR(VLOOKUP(G538,Discounts!C:E,3,0),0)","v":0},{"v":249.59,"d":"€249.59"}]
["Auto",21890,21310,1,"Normal",{"v":457.85,"d":"€457.85"},"A010",{"$f":"IFERROR(VLOOKUP(G539,Discounts!C:E,3,0),0)","v":0},{"v":457.85,"d":"€457.85"}]
["Auto",21890,34260,1,"Normal",{"v":249.59,"d":"€249.59"},"LUXE",{"$f":"IFERROR(VLOOKUP(G540,Discounts!C:E,3,0),0)","v":0},{"v":249.59,"d":"€249.59"}]
["Auto",21900,21320,1,"Normal",{"v":744.63,"d":"€744.63"},"A010",{"$f":"IFERROR(VLOOKUP(G541,Discounts!C:E,3,0),0)","v":0},{"v":744.63,"d":"€744.63"}]
["Auto",21900,34260,1,"Normal",{"v":249.59,"d":"€249.59"},"LUXE",{"$f":"IFERROR(VLOOKUP(G542,Discounts!C:E,3,0),0)","v":0},{"v":249.59,"d":"€249.59"}]
["Auto",21910,21330,1,"Normal",{"v":483.47,"d":"€483.47"},"C010",{"$f":"IFERROR(VLOOKUP(G543,Discounts!C:E,3,0),0)","v":0},{"v":483.47,"d":"€483.47"}]
["Auto",21910,34260,1,"Normal",{"v":249.59,"d":"€249.59"},"LUXE",{"$f":"IFERROR(VLOOKUP(G544,Discounts!C:E,3,0),0)","v":0},{"v":249.59,"d":"€249.59"}]
["Auto",21920,21340,1,"Normal",{"v":702.48,"d":"€702.48"},"A010",{"$f":"IFERROR(VLOOKUP(G545,Discounts!C:E,3,0),0)","v":0},{"v":702.48,"d":"€702.48"}]
["Auto",21920,34260,1,"Normal",{"v":249.59,"d":"€249.59"},"LUXE",{"$f":"IFERROR(VLOOKUP(G546,Discounts!C:E,3,0),0)","v":0},{"v":249.59,"d":"€249.59"}]
["Auto",21930,21350,1,"Normal",{"v":770.25,"d":"€770.25"},"A010",{"$f":"IFERROR(VLOOKUP(G547,Discounts!C:E,3,0),0)","v":0},{"v":770.25,"d":"€770.25"}]
["Auto",21930,34260,1,"Normal",{"v":249.59,"d":"€249.59"},"LUXE",{"$f":"IFERROR(VLOOKUP(G548,Discounts!C:E,3,0),0)","v":0},{"v":249.59,"d":"€249.59"}]
["Auto",21940,21360,1,"Normal",{"v":509.09,"d":"€509.09"},"A010",{"$f":"IFERROR(VLOOKUP(G549,Discounts!C:E,3,0),0)","v":0},{"v":509.09,"d":"€509.09"}]
["Auto",21940,34260,1,"Normal",{"v":249.59,"d":"€249.59"},"LUXE",{"$f":"IFERROR(VLOOKUP(G550,Discounts!C:E,3,0),0)","v":0},{"v":249.59,"d":"€249.59"}]
["Auto",21950,21370,1,"Normal",{"v":795.04,"d":"€795.04"},"A010",{"$f":"IFERROR(VLOOKUP(G551,Discounts!C:E,3,0),0)","v":0},{"v":795.04,"d":"€795.04"}]
["Auto",21950,34260,1,"Normal",{"v":249.59,"d":"€249.59"},"LUXE",{"$f":"IFERROR(VLOOKUP(G552,Discounts!C:E,3,0),0)","v":0},{"v":249.59,"d":"€249.59"}]
["Auto",21960,21380,1,"Normal",{"v":538.84,"d":"€538.84"},"A010",{"$f":"IFERROR(VLOOKUP(G553,Discounts!C:E,3,0),0)","v":0},{"v":538.84,"d":"€538.84"}]
["Auto",21960,34260,1,"Normal",{"v":249.59,"d":"€249.59"},"LUXE",{"$f":"IFERROR(VLOOKUP(G554,Discounts!C:E,3,0),0)","v":0},{"v":249.59,"d":"€249.59"}]
["Auto",21970,21390,1,"Normal",{"v":757.85,"d":"€757.85"},"A010",{"$f":"IFERROR(VLOOKUP(G555,Discounts!C:E,3,0),0)","v":0},{"v":757.85,"d":"€757.85"}]
["Auto",21970,34260,1,"Normal",{"v":249.59,"d":"€249.59"},"LUXE",{"$f":"IFERROR(VLOOKUP(G556,Discounts!C:E,3,0),0)","v":0},{"v":249.59,"d":"€249.59"}]
["Auto",21980,21400,1,"Normal",{"v":822.31,"d":"€822.31"},"A010",{"$f":"IFERROR(VLOOKUP(G557,Discounts!C:E,3,0),0)","v":0},{"v":822.31,"d":"€822.31"}]
["Auto",21980,34260,1,"Normal",{"v":249.59,"d":"€249.59"},"LUXE",{"$f":"IFERROR(VLOOKUP(G558,Discounts!C:E,3,0),0)","v":0},{"v":249.59,"d":"€249.59"}]
["Auto",21990,21410,1,"Normal",{"v":565.29,"d":"€565.29"},"A010",{"$f":"IFERROR(VLOOKUP(G559,Discounts!C:E,3,0),0)","v":0},{"v":565.29,"d":"€565.29"}]
["Auto",21990,34260,1,"Normal",{"v":249.59,"d":"€249.59"},"LUXE",{"$f":"IFERROR(VLOOKUP(G560,Discounts!C:E,3,0),0)","v":0},{"v":249.59,"d":"€249.59"}]
["Auto",22000,21420,1,"Normal",{"v":785.12,"d":"€785.12"},"A010",{"$f":"IFERROR(VLOOKUP(G561,Discounts!C:E,3,0),0)","v":0},{"v":785.12,"d":"€785.12"}]
["Auto",22000,34260,1,"Normal",{"v":249.59,"d":"€249.59"},"LUXE",{"$f":"IFERROR(VLOOKUP(G562,Discounts!C:E,3,0),0)","v":0},{"v":249.59,"d":"€249.59"}]
["Auto",22010,21430,1,"Normal",{"v":592.56,"d":"€592.56"},"A010",{"$f":"IFERROR(VLOOKUP(G563,Discounts!C:E,3,0),0)","v":0},{"v":592.56,"d":"€592.56"}]
["Auto",22010,34260,1,"Normal",{"v":249.59,"d":"€249.59"},"LUXE",{"$f":"IFERROR(VLOOKUP(G564,Discounts!C:E,3,0),0)","v":0},{"v":249.59,"d":"€249.59"}]
["Auto",22020,21440,1,"Normal",{"v":811.57,"d":"€811.57"},"A010",{"$f":"IFERROR(VLOOKUP(G565,Discounts!C:E,3,0),0)","v":0},{"v":811.57,"d":"€811.57"}]
["Auto",22020,34260,1,"Normal",{"v":249.59,"d":"€249.59"},"LUXE",{"$f":"IFERROR(VLOOKUP(G566,Discounts!C:E,3,0),0)","v":0},{"v":249.59,"d":"€249.59"}]
["Auto",22030,21450,1,"Normal",{"v":617.36,"d":"€617.36"},"A010",{"$f":"IFERROR(VLOOKUP(G567,Discounts!C:E,3,0),0)","v":0},{"v":617.36,"d":"€617.36"}]
["Auto",22030,34260,1,"Normal",{"v":249.59,"d":"€249.59"},"LUXE",{"$f":"IFERROR(VLOOKUP(G568,Discounts!C:E,3,0),0)","v":0},{"v":249.59,"d":"€249.59"}]
["Auto",22040,21460,1,"Normal",{"v":839.67,"d":"€839.67"},"C010",{"$f":"IFERROR(VLOOKUP(G569,Discounts!C:E,3,0),0)","v":0},{"v":839.67,"d":"€839.67"}]
["Auto",22040,34260,1,"Normal",{"v":249.59,"d":"€249.59"},"LUXE",{"$f":"IFERROR(VLOOKUP(G570,Discounts!C:E,3,0),0)","v":0},{"v":249.59,"d":"€249.59"}]
["Auto",22050,21470,1,"Normal",{"v":643.8,"d":"€643.80"},"C010",{"$f":"IFERROR(VLOOKUP(G571,Discounts!C:E,3,0),0)","v":0},{"v":643.8,"d":"€643.80"}]
["Auto",22050,34260,1,"Normal",{"v":249.59,"d":"€249.59"},"LUXE",{"$f":"IFERROR(VLOOKUP(G572,Discounts!C:E,3,0),0)","v":0},{"v":249.59,"d":"€249.59"}]
["Auto",22060,21480,1,"Normal",{"v":865.29,"d":"€865.29"},"C010",{"$f":"IFERROR(VLOOKUP(G573,Discounts!C:E,3,0),0)","v":0},{"v":865.29,"d":"€865.29"}]
["Auto",22060,34260,1,"Normal",{"v":249.59,"d":"€249.59"},"LUXE",{"$f":"IFERROR(VLOOKUP(G574,Discounts!C:E,3,0),0)","v":0},{"v":249.59,"d":"€249.59"}]
["Auto",22070,21490,1,"Normal",{"v":828.93,"d":"€828.93"},"C010",{"$f":"IFERROR(VLOOKUP(G575,Discounts!C:E,3,0),0)","v":0},{"v":828.93,"d":"€828.93"}]
["Auto",22070,34260,1,"Normal",{"v":249.59,"d":"€249.59"},"LUXE",{"$f":"IFERROR(VLOOKUP(G576,Discounts!C:E,3,0),0)","v":0},{"v":249.59,"d":"€249.59"}]
["Auto",22080,21500,1,"Normal",{"v":565.29,"d":"€565.29"},"C010",{"$f":"IFERROR(VLOOKUP(G577,Discounts!C:E,3,0),0)","v":0},{"v":565.29,"d":"€565.29"}]
["Auto",22080,34260,1,"Normal",{"v":249.59,"d":"€249.59"},"LUXE",{"$f":"IFERROR(VLOOKUP(G578,Discounts!C:E,3,0),0)","v":0},{"v":249.59,"d":"€249.59"}]
["Auto",22090,21510,1,"Normal",{"v":785.12,"d":"€785.12"},"C010",{"$f":"IFERROR(VLOOKUP(G579,Discounts!C:E,3,0),0)","v":0},{"$f":"IF(E579=\"Normal\",F579*(1-H579),SUMIF(B:B,C579,I:I)*D579)","v":{"v":785.12,"d":"€785.12"}}]
["Auto",22090,34260,1,"Normal",{"v":249.59,"d":"€249.59"},"LUXE",{"$f":"IFERROR(VLOOKUP(G580,Discounts!C:E,3,0),0)","v":0},{"v":249.59,"d":"€249.59"}]
["Auto",22100,21520,1,"Normal",{"v":851.24,"d":"€851.24"},"C010",{"$f":"IFERROR(VLOOKUP(G581,Discounts!C:E,3,0),0)","v":0},{"v":851.24,"d":"€851.24"}]
["Auto",22100,34260,1,"Normal",{"v":249.59,"d":"€249.59"},"LUXE",{"$f":"IFERROR(VLOOKUP(G582,Discounts!C:E,3,0),0)","v":0},{"v":249.59,"d":"€249.59"}]
["Auto",22110,21530,1,"Normal",{"v":592.56,"d":"€592.56"},"C010",{"$f":"IFERROR(VLOOKUP(G583,Discounts!C:E,3,0),0)","v":0},{"v":592.56,"d":"€592.56"}]
["Auto",22110,34260,1,"Normal",{"v":249.59,"d":"€249.59"},"LUXE",{"$f":"IFERROR(VLOOKUP(G584,Discounts!C:E,3,0),0)","v":0},{"v":249.59,"d":"€249.59"}]
["Auto",22120,21540,1,"Normal",{"v":811.57,"d":"€811.57"},"C010",{"$f":"IFERROR(VLOOKUP(G585,Discounts!C:E,3,0),0)","v":0},{"v":811.57,"d":"€811.57"}]
["Auto",22120,34260,1,"Normal",{"v":249.59,"d":"€249.59"},"LUXE",{"$f":"IFERROR(VLOOKUP(G586,Discounts!C:E,3,0),0)","v":0},{"v":249.59,"d":"€249.59"}]
["Auto",22130,21550,1,"Normal",{"v":617.36,"d":"€617.36"},"C010",{"$f":"IFERROR(VLOOKUP(G587,Discounts!C:E,3,0),0)","v":0},{"v":617.36,"d":"€617.36"}]
["Auto",22130,34260,1,"Normal",{"v":249.59,"d":"€249.59"},"LUXE",{"$f":"IFERROR(VLOOKUP(G588,Discounts!C:E,3,0),0)","v":0},{"v":249.59,"d":"€249.59"}]
["Auto",22140,21560,1,"Normal",{"v":839.67,"d":"€839.67"},"C010",{"$f":"IFERROR(VLOOKUP(G589,Discounts!C:E,3,0),0)","v":0},{"v":839.67,"d":"€839.67"}]
["Auto",22140,34260,1,"Normal",{"v":249.59,"d":"€249.59"},"LUXE",{"$f":"IFERROR(VLOOKUP(G590,Discounts!C:E,3,0),0)","v":0},{"v":249.59,"d":"€249.59"}]
["Auto",22150,21570,1,"Normal",{"v":643.8,"d":"€643.80"},"C010",{"$f":"IFERROR(VLOOKUP(G591,Discounts!C:E,3,0),0)","v":0},{"v":643.8,"d":"€643.80"}]
["Auto",22150,34260,1,"Normal",{"v":249.59,"d":"€249.59"},"LUXE",{"$f":"IFERROR(VLOOKUP(G592,Discounts!C:E,3,0),0)","v":0},{"v":249.59,"d":"€249.59"}]
["Auto",22160,21580,1,"Normal",{"v":865.29,"d":"€865.29"},"C010",{"$f":"IFERROR(VLOOKUP(G593,Discounts!C:E,3,0),0)","v":0},{"v":865.29,"d":"€865.29"}]
["Auto",22160,34260,1,"Normal",{"v":249.59,"d":"€249.59"},"LUXE",{"$f":"IFERROR(VLOOKUP(G594,Discounts!C:E,3,0),0)","v":0},{"v":249.59,"d":"€249.59"}]
["Auto",22410,22170,1,"Normal",{"v":671.9,"d":"€671.90"},"C010",{"$f":"IFERROR(VLOOKUP(G595,Discounts!C:E,3,0),0)","v":0},{"v":671.9,"d":"€671.90"}]
["Auto",22410,34260,1,"Normal",{"v":249.59,"d":"€249.59"},"LUXE",{"$f":"IFERROR(VLOOKUP(G596,Discounts!C:E,3,0),0)","v":0},{"v":249.59,"d":"€249.59"}]
["Auto",22420,22180,1,"Normal",{"v":890.91,"d":"€890.91"},"C010",{"$f":"IFERROR(VLOOKUP(G597,Discounts!C:E,3,0),0)","v":0},{"v":890.91,"d":"€890.91"}]
["Auto",22420,34260,1,"Normal",{"v":249.59,"d":"€249.59"},"LUXE",{"$f":"IFERROR(VLOOKUP(G598,Discounts!C:E,3,0),0)","v":0},{"v":249.59,"d":"€249.59"}]
["Auto",22430,22190,1,"Normal",{"v":829.75,"d":"€829.75"},"C010",{"$f":"IFERROR(VLOOKUP(G599,Discounts!C:E,3,0),0)","v":0},{"v":829.75,"d":"€829.75"}]
["Auto",22430,34260,1,"Normal",{"v":249.59,"d":"€249.59"},"LUXE",{"$f":"IFERROR(VLOOKUP(G600,Discounts!C:E,3,0),0)","v":0},{"v":249.59,"d":"€249.59"}]
["Auto",22440,22200,1,"Normal",{"v":896.69,"d":"€896.69"},"C010",{"$f":"IFERROR(VLOOKUP(G601,Discounts!C:E,3,0),0)","v":0},{"v":896.69,"d":"€896.69"}]
["Auto",22440,34260,1,"Normal",{"v":249.59,"d":"€249.59"},"LUXE",{"$f":"IFERROR(VLOOKUP(G602,Discounts!C:E,3,0),0)","v":0},{"v":249.59,"d":"€249.59"}]
["Auto",22450,22210,1,"Normal",{"v":954.55,"d":"€954.55"},"C010",{"$f":"IFERROR(VLOOKUP(G603,Discounts!C:E,3,0),0)","v":0},{"v":954.55,"d":"€954.55"}]
["Auto",22450,34260,1,"Normal",{"v":249.59,"d":"€249.59"},"LUXE",{"$f":"IFERROR(VLOOKUP(G604,Discounts!C:E,3,0),0)","v":0},{"v":249.59,"d":"€249.59"}]
["Auto",22460,22220,1,"Normal",{"v":976.03,"d":"€976.03"},"C010",{"$f":"IFERROR(VLOOKUP(G605,Discounts!C:E,3,0),0)","v":0},{"v":976.03,"d":"€976.03"}]
["Auto",22460,34260,1,"Normal",{"v":249.59,"d":"€249.59"},"LUXE",{"$f":"IFERROR(VLOOKUP(G606,Discounts!C:E,3,0),0)","v":0},{"v":249.59,"d":"€249.59"}]
["Auto",22470,22230,1,"Normal",{"v":965.29,"d":"€965.29"},"C010",{"$f":"IFERROR(VLOOKUP(G607,Discounts!C:E,3,0),0)","v":0},{"v":965.29,"d":"€965.29"}]
["Auto",22470,34260,1,"Normal",{"v":249.59,"d":"€249.59"},"LUXE",{"$f":"IFERROR(VLOOKUP(G608,Discounts!C:E,3,0),0)","v":0},{"v":249.59,"d":"€249.59"}]
["Auto",22480,22240,1,"Normal",{"v":829.75,"d":"€829.75"},"C010",{"$f":"IFERROR(VLOOKUP(G609,Discounts!C:E,3,0),0)","v":0},{"v":829.75,"d":"€829.75"}]
["Auto",22480,34260,1,"Normal",{"v":249.59,"d":"€249.59"},"LUXE",{"$f":"IFERROR(VLOOKUP(G610,Discounts!C:E,3,0),0)","v":0},{"v":249.59,"d":"€249.59"}]
["Auto",22490,22250,1,"Normal",{"v":896.69,"d":"€896.69"},"C010",{"$f":"IFERROR(VLOOKUP(G611,Discounts!C:E,3,0),0)","v":0},{"v":896.69,"d":"€896.69"}]
["Auto",22490,34260,1,"Normal",{"v":249.59,"d":"€249.59"},"LUXE",{"$f":"IFERROR(VLOOKUP(G612,Discounts!C:E,3,0),0)","v":0},{"v":249.59,"d":"€249.59"}]
["Auto",22500,22260,1,"Normal",{"v":954.55,"d":"€954.55"},"C010",{"$f":"IFERROR(VLOOKUP(G613,Discounts!C:E,3,0),0)","v":0},{"v":954.55,"d":"€954.55"}]
["Auto",22500,34260,1,"Normal",{"v":249.59,"d":"€249.59"},"LUXE",{"$f":"IFERROR(VLOOKUP(G614,Discounts!C:E,3,0),0)","v":0},{"v":249.59,"d":"€249.59"}]
["Auto",22510,22270,1,"Normal",{"v":976.03,"d":"€976.03"},"C010",{"$f":"IFERROR(VLOOKUP(G615,Discounts!C:E,3,0),0)","v":0},{"v":976.03,"d":"€976.03"}]
["Auto",22510,34260,1,"Normal",{"v":249.59,"d":"€249.59"},"LUXE",{"$f":"IFERROR(VLOOKUP(G616,Discounts!C:E,3,0),0)","v":0},{"v":249.59,"d":"€249.59"}]
["Auto",22520,22280,1,"Normal",{"v":965.29,"d":"€965.29"},"C010",{"$f":"IFERROR(VLOOKUP(G617,Discounts!C:E,3,0),0)","v":0},{"v":965.29,"d":"€965.29"}]
["Auto",22520,34260,1,"Normal",{"v":249.59,"d":"€249.59"},"LUXE",{"$f":"IFERROR(VLOOKUP(G618,Discounts!C:E,3,0),0)","v":0},{"v":249.59,"d":"€249.59"}]
["Auto",22530,22290,1,"Normal",{"v":671.9,"d":"€671.90"},"C010",{"$f":"IFERROR(VLOOKUP(G619,Discounts!C:E,3,0),0)","v":0},{"v":671.9,"d":"€671.90"}]
["Auto",22530,34260,1,"Normal",{"v":249.59,"d":"€249.59"},"LUXE",{"$f":"IFERROR(VLOOKUP(G620,Discounts!C:E,3,0),0)","v":0},{"v":249.59,"d":"€249.59"}]
["Auto",22540,22300,1,"Normal",{"v":890.91,"d":"€890.91"},"C010",{"$f":"IFERROR(VLOOKUP(G621,Discounts!C:E,3,0),0)","v":0},{"v":890.91,"d":"€890.91"}]
["Auto",22540,34260,1,"Normal",{"v":249.59,"d":"€249.59"},"LUXE",{"$f":"IFERROR(VLOOKUP(G622,Discounts!C:E,3,0),0)","v":0},{"v":249.59,"d":"€249.59"}]
["Auto",22550,22310,1,"Normal",{"v":829.75,"d":"€829.75"},"C010",{"$f":"IFERROR(VLOOKUP(G623,Discounts!C:E,3,0),0)","v":0},{"v":829.75,"d":"€829.75"}]
["Auto",22550,34260,1,"Normal",{"v":249.59,"d":"€249.59"},"LUXE",{"$f":"IFERROR(VLOOKUP(G624,Discounts!C:E,3,0),0)","v":0},{"v":249.59,"d":"€249.59"}]
["Auto",22560,22320,1,"Normal",{"v":896.69,"d":"€896.69"},"C010",{"$f":"IFERROR(VLOOKUP(G625,Discounts!C:E,3,0),0)","v":0},{"v":896.69,"d":"€896.69"}]
["Auto",22560,34260,1,"Normal",{"v":249.59,"d":"€249.59"},"LUXE",{"$f":"IFERROR(VLOOKUP(G626,Discounts!C:E,3,0),0)","v":0},{"v":249.59,"d":"€249.59"}]
["Auto",22570,22330,1,"Normal",{"v":954.55,"d":"€954.55"},"C010",{"$f":"IFERROR(VLOOKUP(G627,Discounts!C:E,3,0),0)","v":0},{"v":954.55,"d":"€954.55"}]
["Auto",22570,34260,1,"Normal",{"v":249.59,"d":"€249.59"},"LUXE",{"$f":"IFERROR(VLOOKUP(G628,Discounts!C:E,3,0),0)","v":0},{"v":249.59,"d":"€249.59"}]
["Auto",22580,22340,1,"Normal",{"v":976.03,"d":"€976.03"},"C010",{"$f":"IFERROR(VLOOKUP(G629,Discounts!C:E,3,0),0)","v":0},{"v":976.03,"d":"€976.03"}]
["Auto",22580,34260,1,"Normal",{"v":249.59,"d":"€249.59"},"LUXE",{"$f":"IFERROR(VLOOKUP(G630,Discounts!C:E,3,0),0)","v":0},{"v":249.59,"d":"€249.59"}]
["Auto",22590,22350,1,"Normal",{"v":965.29,"d":"€965.29"},"C010",{"$f":"IFERROR(VLOOKUP(G631,Discounts!C:E,3,0),0)","v":0},{"v":965.29,"d":"€965.29"}]
["Auto",22590,34260,1,"Normal",{"v":249.59,"d":"€249.59"},"LUXE",{"$f":"IFERROR(VLOOKUP(G632,Discounts!C:E,3,0),0)","v":0},{"v":249.59,"d":"€249.59"}]
["Auto",22600,22360,1,"Normal",{"v":829.75,"d":"€829.75"},"C010",{"$f":"IFERROR(VLOOKUP(G633,Discounts!C:E,3,0),0)","v":0},{"v":829.75,"d":"€829.75"}]
["Auto",22600,34260,1,"Normal",{"v":249.59,"d":"€249.59"},"LUXE",{"$f":"IFERROR(VLOOKUP(G634,Discounts!C:E,3,0),0)","v":0},{"v":249.59,"d":"€249.59"}]
["Auto",22610,22370,1,"Normal",{"v":896.69,"d":"€896.69"},"C010",{"$f":"IFERROR(VLOOKUP(G635,Discounts!C:E,3,0),0)","v":0},{"v":896.69,"d":"€896.69"}]
["Auto",22610,34260,1,"Normal",{"v":249.59,"d":"€249.59"},"LUXE",{"$f":"IFERROR(VLOOKUP(G636,Discounts!C:E,3,0),0)","v":0},{"v":249.59,"d":"€249.59"}]
["Auto",22620,22380,1,"Normal",{"v":954.55,"d":"€954.55"},"C010",{"$f":"IFERROR(VLOOKUP(G637,Discounts!C:E,3,0),0)","v":0},{"v":954.55,"d":"€954.55"}]
["Auto",22620,34260,1,"Normal",{"v":249.59,"d":"€249.59"},"LUXE",{"$f":"IFERROR(VLOOKUP(G638,Discounts!C:E,3,0),0)","v":0},{"v":249.59,"d":"€249.59"}]
["Auto",22630,22390,1,"Normal",{"v":976.03,"d":"€976.03"},"C010",{"$f":"IFERROR(VLOOKUP(G639,Discounts!C:E,3,0),0)","v":0},{"v":976.03,"d":"€976.03"}]
["Auto",22630,34260,1,"Normal",{"v":249.59,"d":"€249.59"},"LUXE",{"$f":"IFERROR(VLOOKUP(G640,Discounts!C:E,3,0),0)","v":0},{"v":249.59,"d":"€249.59"}]
["Auto",22640,22400,1,"Normal",{"v":965.29,"d":"€965.29"},"C010",{"$f":"IFERROR(VLOOKUP(G641,Discounts!C:E,3,0),0)","v":0},{"v":965.29,"d":"€965.29"}]
["Auto",22640,34260,1,"Normal",{"v":249.59,"d":"€249.59"},"LUXE",{"$f":"IFERROR(VLOOKUP(G642,Discounts!C:E,3,0),0)","v":0},{"v":249.59,"d":"€249.59"}]
["Auto",23090,22750,1,"Normal",{"v":1263.64,"d":"€1,263.64"},"C010",{"$f":"IFERROR(VLOOKUP(G643,Discounts!C:E,3,0),0)","v":0},{"$f":"IF(E643=\"Normal\",F643*(1-H643),SUMIF(B:B,C643,I:I)*D643)","v":{"v":1263.64,"d":"€1,263.64"}}]
["Auto",23090,34260,2,"Normal",{"v":499.18,"d":"€499.18"},"LUXE",{"$f":"IFERROR(VLOOKUP(G644,Discounts!C:E,3,0),0)","v":0},{"v":499.18,"d":"€499.18"}]
["Auto",23100,22760,1,"Normal",{"v":1723.97,"d":"€1,723.97"},"C010",{"$f":"IFERROR(VLOOKUP(G645,Discounts!C:E,3,0),0)","v":0},{"v":1723.97,"d":"€1,723.97"}]
["Auto",23100,34260,2,"Normal",{"v":499.18,"d":"€499.18"},"LUXE",{"$f":"IFERROR(VLOOKUP(G646,Discounts!C:E,3,0),0)","v":0},{"v":499.18,"d":"€499.18"}]
["Auto",23110,22770,1,"Normal",{"v":1861.16,"d":"€1,861.16"},"C010",{"$f":"IFERROR(VLOOKUP(G647,Discounts!C:E,3,0),0)","v":0},{"v":1861.16,"d":"€1,861.16"}]
["Auto",23110,34260,2,"Normal",{"v":499.18,"d":"€499.18"},"LUXE",{"$f":"IFERROR(VLOOKUP(G648,Discounts!C:E,3,0),0)","v":0},{"v":499.18,"d":"€499.18"}]
["Auto",23120,22780,1,"Normal",{"v":1433.06,"d":"€1,433.06"},"C010",{"$f":"IFERROR(VLOOKUP(G649,Discounts!C:E,3,0),0)","v":0},{"v":1433.06,"d":"€1,433.06"}]
["Auto",23120,34260,2,"Normal",{"v":499.18,"d":"€499.18"},"LUXE",{"$f":"IFERROR(VLOOKUP(G650,Discounts!C:E,3,0),0)","v":0},{"v":499.18,"d":"€499.18"}]
["Auto",23130,22790,1,"Normal",{"v":2026.45,"d":"€2,026.45"},"C010",{"$f":"IFERROR(VLOOKUP(G651,Discounts!C:E,3,0),0)","v":0},{"v":2026.45,"d":"€2,026.45"}]
["Auto",23130,34260,2,"Normal",{"v":499.18,"d":"€499.18"},"LUXE",{"$f":"IFERROR(VLOOKUP(G652,Discounts!C:E,3,0),0)","v":0},{"v":499.18,"d":"€499.18"}]
["Auto",23140,22800,1,"Normal",{"v":1488.43,"d":"€1,488.43"},"C010",{"$f":"IFERROR(VLOOKUP(G653,Discounts!C:E,3,0),0)","v":0},{"v":1488.43,"d":"€1,488.43"}]
["Auto",23140,34260,2,"Normal",{"v":499.18,"d":"€499.18"},"LUXE",{"$f":"IFERROR(VLOOKUP(G654,Discounts!C:E,3,0),0)","v":0},{"v":499.18,"d":"€499.18"}]
["Auto",23150,22810,1,"Normal",{"v":1946.28,"d":"€1,946.28"},"C010",{"$f":"IFERROR(VLOOKUP(G655,Discounts!C:E,3,0),0)","v":0},{"v":1946.28,"d":"€1,946.28"}]
["Auto",23150,34260,2,"Normal",{"v":499.18,"d":"€499.18"},"LUXE",{"$f":"IFERROR(VLOOKUP(G656,Discounts!C:E,3,0),0)","v":0},{"v":499.18,"d":"€499.18"}]
["Auto",23260,22920,1,"Normal",{"v":1263.64,"d":"€1,263.64"},"C010",{"$f":"IFERROR(VLOOKUP(G657,Discounts!C:E,3,0),0)","v":0},{"v":1263.64,"d":"€1,263.64"}]
["Auto",23260,34260,2,"Normal",{"v":499.18,"d":"€499.18"},"LUXE",{"$f":"IFERROR(VLOOKUP(G658,Discounts!C:E,3,0),0)","v":0},{"v":499.18,"d":"€499.18"}]
["Auto",23270,22930,1,"Normal",{"v":1723.97,"d":"€1,723.97"},"C010",{"$f":"IFERROR(VLOOKUP(G659,Discounts!C:E,3,0),0)","v":0},{"v":1723.97,"d":"€1,723.97"}]
["Auto",23270,34260,2,"Normal",{"v":499.18,"d":"€499.18"},"LUXE",{"$f":"IFERROR(VLOOKUP(G660,Discounts!C:E,3,0),0)","v":0},{"v":499.18,"d":"€499.18"}]
["Auto",23280,22940,1,"Normal",{"v":1861.16,"d":"€1,861.16"},"C010",{"$f":"IFERROR(VLOOKUP(G661,Discounts!C:E,3,0),0)","v":0},{"v":1861.16,"d":"€1,861.16"}]
["Auto",23280,34260,2,"Normal",{"v":499.18,"d":"€499.18"},"LUXE",{"$f":"IFERROR(VLOOKUP(G662,Discounts!C:E,3,0),0)","v":0},{"v":499.18,"d":"€499.18"}]
["Auto",23290,22950,1,"Normal",{"v":1433.06,"d":"€1,433.06"},"C010",{"$f":"IFERROR(VLOOKUP(G663,Discounts!C:E,3,0),0)","v":0},{"v":1433.06,"d":"€1,433.06"}]
["Auto",23290,34260,2,"Normal",{"v":499.18,"d":"€499.18"},"LUXE",{"$f":"IFERROR(VLOOKUP(G664,Discounts!C:E,3,0),0)","v":0},{"v":499.18,"d":"€499.18"}]
["Auto",23300,22960,1,"Normal",{"v":2026.45,"d":"€2,026.45"},"C010",{"$f":"IFERROR(VLOOKUP(G665,Discounts!C:E,3,0),0)","v":0},{"v":2026.45,"d":"€2,026.45"}]
["Auto",23300,34260,2,"Normal",{"v":499.18,"d":"€499.18"},"LUXE",{"$f":"IFERROR(VLOOKUP(G666,Discounts!C:E,3,0),0)","v":0},{"v":499.18,"d":"€499.18"}]
["Auto",23310,22970,1,"Normal",{"v":1488.43,"d":"€1,488.43"},"C010",{"$f":"IFERROR(VLOOKUP(G667,Discounts!C:E,3,0),0)","v":0},{"v":1488.43,"d":"€1,488.43"}]
["Auto",23310,34260,2,"Normal",{"v":499.18,"d":"€499.18"},"LUXE",{"$f":"IFERROR(VLOOKUP(G668,Discounts!C:E,3,0),0)","v":0},{"v":499.18,"d":"€499.18"}]
["Auto",23320,22980,1,"Normal",{"v":1946.28,"d":"€1,946.28"},"C010",{"$f":"IFERROR(VLOOKUP(G669,Discounts!C:E,3,0),0)","v":0},{"v":1946.28,"d":"€1,946.28"}]
["Auto",23320,34260,2,"Normal",{"v":499.18,"d":"€499.18"},"LUXE",{"$f":"IFERROR(VLOOKUP(G670,Discounts!C:E,3,0),0)","v":0},{"v":499.18,"d":"€499.18"}]
["Auto",25300,340,1,"Normal",{"v":1641.32,"d":"€1,641.32"},"A015",{"$f":"IFERROR(VLOOKUP(G671,Discounts!C:E,3,0),0)","v":0},{"v":1641.32,"d":"€1,641.32"}]
["Auto",25300,34260,1,"Normal",{"v":249.59,"d":"€249.59"},"LUXE",{"$f":"IFERROR(VLOOKUP(G672,Discounts!C:E,3,0),0)","v":0},{"v":249.59,"d":"€249.59"}]
["Auto",25310,121420,1,"Combination",{"v":1890.91,"d":"€1,890.91"},"A015",{"$f":"IFERROR(VLOOKUP(G673,Discounts!C:E,3,0),0)","v":0},{"v":1890.9099999999999,"d":"€1,890.91"}]
["Auto",25310,134070,1,"Normal",0,"LUXE",{"$f":"IFERROR(VLOOKUP(G674,Discounts!C:E,3,0),0)","v":0},0]
["Auto",25320,360,1,"Normal",0,"A015",{"$f":"IFERROR(VLOOKUP(G675,Discounts!C:E,3,0),0)","v":0},0]
["Auto",25320,34260,1,"Normal",{"v":249.59,"d":"€249.59"},"LUXE",{"$f":"IFERROR(VLOOKUP(G676,Discounts!C:E,3,0),0)","v":0},{"v":249.59,"d":"€249.59"}]
["Auto",25330,121430,1,"Combination",{"v":249.59,"d":"€249.59"},"A015",{"$f":"IFERROR(VLOOKUP(G677,Discounts!C:E,3,0),0)","v":0},{"v":249.59,"d":"€249.59"}]
["Auto",25330,134070,1,"Normal",0,"LUXE",{"$f":"IFERROR(VLOOKUP(G678,Discounts!C:E,3,0),0)","v":0},0]
["Auto",25340,380,1,"Normal",{"v":1641.32,"d":"€1,641.32"},"A015",{"$f":"IFERROR(VLOOKUP(G679,Discounts!C:E,3,0),0)","v":0},{"v":1641.32,"d":"€1,641.32"}]
["Auto",25340,34260,1,"Normal",{"v":249.59,"d":"€249.59"},"LUXE",{"$f":"IFERROR(VLOOKUP(G680,Discounts!C:E,3,0),0)","v":0},{"v":249.59,"d":"€249.59"}]
["Auto",25350,121440,1,"Combination",{"v":1890.91,"d":"€1,890.91"},"A015",{"$f":"IFERROR(VLOOKUP(G681,Discounts!C:E,3,0),0)","v":0},{"v":1890.9099999999999,"d":"€1,890.91"}]
["Auto",25350,134070,1,"Normal",0,"LUXE",{"$f":"IFERROR(VLOOKUP(G682,Discounts!C:E,3,0),0)","v":0},0]
["Auto",25360,400,1,"Normal",{"v":1641.32,"d":"€1,641.32"},"A015",{"$f":"IFERROR(VLOOKUP(G683,Discounts!C:E,3,0),0)","v":0},{"v":1641.32,"d":"€1,641.32"}]
["Auto",25360,34260,1,"Normal",{"v":249.59,"d":"€249.59"},"LUXE",{"$f":"IFERROR(VLOOKUP(G684,Discounts!C:E,3,0),0)","v":0},{"v":249.59,"d":"€249.59"}]
["Auto",25370,121450,1,"Combination",{"v":1890.91,"d":"€1,890.91"},"A015",{"$f":"IFERROR(VLOOKUP(G685,Discounts!C:E,3,0),0)","v":0},{"v":1890.9099999999999,"d":"€1,890.91"}]
["Auto",25370,134070,1,"Normal",0,"LUXE",{"$f":"IFERROR(VLOOKUP(G686,Discounts!C:E,3,0),0)","v":0},0]
["Auto",25380,420,1,"Normal",{"v":1641.32,"d":"€1,641.32"},"A015",{"$f":"IFERROR(VLOOKUP(G687,Discounts!C:E,3,0),0)","v":0},{"v":1641.32,"d":"€1,641.32"}]
["Auto",25380,34260,1,"Normal",{"v":249.59,"d":"€249.59"},"LUXE",{"$f":"IFERROR(VLOOKUP(G688,Discounts!C:E,3,0),0)","v":0},{"v":249.59,"d":"€249.59"}]
["Auto",25390,121460,1,"Combination",{"v":1890.91,"d":"€1,890.91"},"A015",{"$f":"IFERROR(VLOOKUP(G689,Discounts!C:E,3,0),0)","v":0},{"v":1890.9099999999999,"d":"€1,890.91"}]
["Auto",25390,134070,1,"Normal",0,"LUXE",{"$f":"IFERROR(VLOOKUP(G690,Discounts!C:E,3,0),0)","v":0},0]
["Auto",25400,440,1,"Normal",{"v":1641.32,"d":"€1,641.32"},"A015",{"$f":"IFERROR(VLOOKUP(G691,Discounts!C:E,3,0),0)","v":0},{"v":1641.32,"d":"€1,641.32"}]
["Auto",25400,34260,1,"Normal",{"v":249.59,"d":"€249.59"},"LUXE",{"$f":"IFERROR(VLOOKUP(G692,Discounts!C:E,3,0),0)","v":0},{"v":249.59,"d":"€249.59"}]
["Auto",25410,121470,1,"Combination",{"v":1890.91,"d":"€1,890.91"},"A015",{"$f":"IFERROR(VLOOKUP(G693,Discounts!C:E,3,0),0)","v":0},{"v":1890.9099999999999,"d":"€1,890.91"}]
["Auto",25410,134070,1,"Normal",0,"LUXE",{"$f":"IFERROR(VLOOKUP(G694,Discounts!C:E,3,0),0)","v":0},0]
["Auto",25420,460,1,"Normal",0,"A015",{"$f":"IFERROR(VLOOKUP(G695,Discounts!C:E,3,0),0)","v":0},0]
["Auto",25420,34260,1,"Normal",{"v":249.59,"d":"€249.59"},"LUXE",{"$f":"IFERROR(VLOOKUP(G696,Discounts!C:E,3,0),0)","v":0},{"v":249.59,"d":"€249.59"}]
["Auto",25430,121480,1,"Combination",{"v":249.59,"d":"€249.59"},"A015",{"$f":"IFERROR(VLOOKUP(G697,Discounts!C:E,3,0),0)","v":0},{"v":249.59,"d":"€249.59"}]
["Auto",25430,134070,1,"Normal",0,"LUXE",{"$f":"IFERROR(VLOOKUP(G698,Discounts!C:E,3,0),0)","v":0},0]
["Auto",25440,480,1,"Normal",0,"A015",{"$f":"IFERROR(VLOOKUP(G699,Discounts!C:E,3,0),0)","v":0},0]
["Auto",25440,34260,1,"Normal",{"v":249.59,"d":"€249.59"},"LUXE",{"$f":"IFERROR(VLOOKUP(G700,Discounts!C:E,3,0),0)","v":0},{"v":249.59,"d":"€249.59"}]
["Auto",25450,121490,1,"Combination",{"v":249.59,"d":"€249.59"},"A015",{"$f":"IFERROR(VLOOKUP(G701,Discounts!C:E,3,0),0)","v":0},{"v":249.59,"d":"€249.59"}]
["Auto",25450,134070,1,"Normal",0,"LUXE",{"$f":"IFERROR(VLOOKUP(G702,Discounts!C:E,3,0),0)","v":0},0]
["Auto",25460,500,1,"Normal",0,"A015",{"$f":"IFERROR(VLOOKUP(G703,Discounts!C:E,3,0),0)","v":0},0]
["Auto",25460,34260,1,"Normal",{"v":249.59,"d":"€249.59"},"LUXE",{"$f":"IFERROR(VLOOKUP(G704,Discounts!C:E,3,0),0)","v":0},{"v":249.59,"d":"€249.59"}]
["Auto",25470,121500,1,"Combination",{"v":249.59,"d":"€249.59"},"A015",{"$f":"IFERROR(VLOOKUP(G705,Discounts!C:E,3,0),0)","v":0},{"v":249.59,"d":"€249.59"}]
["Auto",25470,134070,1,"Normal",0,"LUXE",{"$f":"IFERROR(VLOOKUP(G706,Discounts!C:E,3,0),0)","v":0},0]
["Auto",25480,520,1,"Normal",{"v":2237.19,"d":"€2,237.19"},"A015",{"$f":"IFERROR(VLOOKUP(G707,Discounts!C:E,3,0),0)","v":0},{"$f":"IF(E707=\"Normal\",F707*(1-H707),SUMIF(B:B,C707,I:I)*D707)","v":{"v":2237.19,"d":"€2,237.19"}}]
["Auto",25480,34260,1,"Normal",{"v":249.59,"d":"€249.59"},"LUXE",{"$f":"IFERROR(VLOOKUP(G708,Discounts!C:E,3,0),0)","v":0},{"v":249.59,"d":"€249.59"}]
["Auto",25490,121510,1,"Combination",{"v":2486.78,"d":"€2,486.78"},"A015",{"$f":"IFERROR(VLOOKUP(G709,Discounts!C:E,3,0),0)","v":0},{"v":2486.78,"d":"€2,486.78"}]
["Auto",25490,134070,1,"Normal",0,"LUXE",{"$f":"IFERROR(VLOOKUP(G710,Discounts!C:E,3,0),0)","v":0},0]
["Auto",25500,540,1,"Normal",{"v":2124.79,"d":"€2,124.79"},"A015",{"$f":"IFERROR(VLOOKUP(G711,Discounts!C:E,3,0),0)","v":0},{"v":2124.79,"d":"€2,124.79"}]
["Auto",25500,34260,1,"Normal",{"v":249.59,"d":"€249.59"},"LUXE",{"$f":"IFERROR(VLOOKUP(G712,Discounts!C:E,3,0),0)","v":0},{"v":249.59,"d":"€249.59"}]
["Auto",25510,121520,1,"Combination",{"v":2374.38,"d":"€2,374.38"},"A015",{"$f":"IFERROR(VLOOKUP(G713,Discounts!C:E,3,0),0)","v":0},{"v":2374.38,"d":"€2,374.38"}]
["Auto",25510,134070,1,"Normal",0,"LUXE",{"$f":"IFERROR(VLOOKUP(G714,Discounts!C:E,3,0),0)","v":0},0]
["Auto",25520,560,1,"Normal",{"v":2220.66,"d":"€2,220.66"},"A015",{"$f":"IFERROR(VLOOKUP(G715,Discounts!C:E,3,0),0)","v":0},{"v":2220.66,"d":"€2,220.66"}]
["Auto",25520,34260,1,"Normal",{"v":249.59,"d":"€249.59"},"LUXE",{"$f":"IFERROR(VLOOKUP(G716,Discounts!C:E,3,0),0)","v":0},{"v":249.59,"d":"€249.59"}]
["Auto",25530,121530,1,"Combination",{"v":2470.25,"d":"€2,470.25"},"A015",{"$f":"IFERROR(VLOOKUP(G717,Discounts!C:E,3,0),0)","v":0},{"v":2470.25,"d":"€2,470.25"}]
["Auto",25530,134070,1,"Normal",0,"LUXE",{"$f":"IFERROR(VLOOKUP(G718,Discounts!C:E,3,0),0)","v":0},0]
["Auto",25540,580,1,"Normal",{"v":1674.38,"d":"€1,674.38"},"A015",{"$f":"IFERROR(VLOOKUP(G719,Discounts!C:E,3,0),0)","v":0},{"v":1674.38,"d":"€1,674.38"}]
["Auto",25540,34260,1,"Normal",{"v":249.59,"d":"€249.59"},"LUXE",{"$f":"IFERROR(VLOOKUP(G720,Discounts!C:E,3,0),0)","v":0},{"v":249.59,"d":"€249.59"}]
["Auto",25550,121540,1,"Combination",{"v":1923.97,"d":"€1,923.97"},"A015",{"$f":"IFERROR(VLOOKUP(G721,Discounts!C:E,3,0),0)","v":0},{"v":1923.97,"d":"€1,923.97"}]
["Auto",25550,134070,1,"Normal",0,"LUXE",{"$f":"IFERROR(VLOOKUP(G722,Discounts!C:E,3,0),0)","v":0},0]
["Auto",25560,600,1,"Normal",{"v":1674.38,"d":"€1,674.38"},"A015",{"$f":"IFERROR(VLOOKUP(G723,Discounts!C:E,3,0),0)","v":0},{"v":1674.38,"d":"€1,674.38"}]
["Auto",25560,34260,1,"Normal",{"v":249.59,"d":"€249.59"},"LUXE",{"$f":"IFERROR(VLOOKUP(G724,Discounts!C:E,3,0),0)","v":0},{"v":249.59,"d":"€249.59"}]
["Auto",25570,121550,1,"Combination",{"v":1923.97,"d":"€1,923.97"},"A015",{"$f":"IFERROR(VLOOKUP(G725,Discounts!C:E,3,0),0)","v":0},{"v":1923.97,"d":"€1,923.97"}]
["Auto",25570,134070,1,"Normal",0,"LUXE",{"$f":"IFERROR(VLOOKUP(G726,Discounts!C:E,3,0),0)","v":0},0]
["Auto",25580,620,1,"Normal",{"v":1674.38,"d":"€1,674.38"},"A015",{"$f":"IFERROR(VLOOKUP(G727,Discounts!C:E,3,0),0)","v":0},{"v":1674.38,"d":"€1,674.38"}]
["Auto",25580,34260,1,"Normal",{"v":249.59,"d":"€249.59"},"LUXE",{"$f":"IFERROR(VLOOKUP(G728,Discounts!C:E,3,0),0)","v":0},{"v":249.59,"d":"€249.59"}]
["Auto",25590,121560,1,"Combination",{"v":1923.97,"d":"€1,923.97"},"A015",{"$f":"IFERROR(VLOOKUP(G729,Discounts!C:E,3,0),0)","v":0},{"v":1923.97,"d":"€1,923.97"}]
["Auto",25590,134070,1,"Normal",0,"LUXE",{"$f":"IFERROR(VLOOKUP(G730,Discounts!C:E,3,0),0)","v":0},0]
["Auto",25600,640,1,"Normal",{"v":1980.99,"d":"€1,980.99"},"A015",{"$f":"IFERROR(VLOOKUP(G731,Discounts!C:E,3,0),0)","v":0},{"v":1980.99,"d":"€1,980.99"}]
["Auto",25600,34260,1,"Normal",{"v":249.59,"d":"€249.59"},"LUXE",{"$f":"IFERROR(VLOOKUP(G732,Discounts!C:E,3,0),0)","v":0},{"v":249.59,"d":"€249.59"}]
["Auto",25610,121570,1,"Combination",{"v":2230.58,"d":"€2,230.58"},"A015",{"$f":"IFERROR(VLOOKUP(G733,Discounts!C:E,3,0),0)","v":0},{"v":2230.58,"d":"€2,230.58"}]
["Auto",25610,134070,1,"Normal",0,"LUXE",{"$f":"IFERROR(VLOOKUP(G734,Discounts!C:E,3,0),0)","v":0},0]
["Auto",25620,660,1,"Normal",{"v":2090.08,"d":"€2,090.08"},"A015",{"$f":"IFERROR(VLOOKUP(G735,Discounts!C:E,3,0),0)","v":0},{"v":2090.08,"d":"€2,090.08"}]
["Auto",25620,34260,1,"Normal",{"v":249.59,"d":"€249.59"},"LUXE",{"$f":"IFERROR(VLOOKUP(G736,Discounts!C:E,3,0),0)","v":0},{"v":249.59,"d":"€249.59"}]
["Auto",25630,121580,1,"Combination",{"v":2339.67,"d":"€2,339.67"},"A015",{"$f":"IFERROR(VLOOKUP(G737,Discounts!C:E,3,0),0)","v":0},{"v":2339.67,"d":"€2,339.67"}]
["Auto",25630,134070,1,"Normal",0,"LUXE",{"$f":"IFERROR(VLOOKUP(G738,Discounts!C:E,3,0),0)","v":0},0]
["Auto",25640,680,1,"Normal",0,"A015",{"$f":"IFERROR(VLOOKUP(G739,Discounts!C:E,3,0),0)","v":0},0]
["Auto",25640,34260,1,"Normal",{"v":249.59,"d":"€249.59"},"LUXE",{"$f":"IFERROR(VLOOKUP(G740,Discounts!C:E,3,0),0)","v":0},{"v":249.59,"d":"€249.59"}]
["Auto",25650,121590,1,"Combination",{"v":249.59,"d":"€249.59"},"A015",{"$f":"IFERROR(VLOOKUP(G741,Discounts!C:E,3,0),0)","v":0},{"v":249.59,"d":"€249.59"}]
["Auto",25650,134070,1,"Normal",0,"LUXE",{"$f":"IFERROR(VLOOKUP(G742,Discounts!C:E,3,0),0)","v":0},0]
["Auto",25660,700,1,"Normal",0,"A015",{"$f":"IFERROR(VLOOKUP(G743,Discounts!C:E,3,0),0)","v":0},0]
["Auto",25660,34260,1,"Normal",{"v":249.59,"d":"€249.59"},"LUXE",{"$f":"IFERROR(VLOOKUP(G744,Discounts!C:E,3,0),0)","v":0},{"v":249.59,"d":"€249.59"}]
["Auto",25670,121600,1,"Combination",{"v":249.59,"d":"€249.59"},"A015",{"$f":"IFERROR(VLOOKUP(G745,Discounts!C:E,3,0),0)","v":0},{"v":249.59,"d":"€249.59"}]
["Auto",25670,134070,1,"Normal",0,"LUXE",{"$f":"IFERROR(VLOOKUP(G746,Discounts!C:E,3,0),0)","v":0},0]
["Auto",25740,780,1,"Normal",{"v":2007.44,"d":"€2,007.44"},"A010",{"$f":"IFERROR(VLOOKUP(G747,Discounts!C:E,3,0),0)","v":0},{"v":2007.44,"d":"€2,007.44"}]
["Auto",25740,34260,1,"Normal",{"v":249.59,"d":"€249.59"},"LUXE",{"$f":"IFERROR(VLOOKUP(G748,Discounts!C:E,3,0),0)","v":0},{"v":249.59,"d":"€249.59"}]
["Auto",25750,121610,1,"Combination",{"v":2257.03,"d":"€2,257.03"},"A010",{"$f":"IFERROR(VLOOKUP(G749,Discounts!C:E,3,0),0)","v":0},{"v":2257.03,"d":"€2,257.03"}]
["Auto",25750,134070,1,"Normal",0,"LUXE",{"$f":"IFERROR(VLOOKUP(G750,Discounts!C:E,3,0),0)","v":0},0]
["Auto",25760,800,1,"Normal",0,"A010",{"$f":"IFERROR(VLOOKUP(G751,Discounts!C:E,3,0),0)","v":0},0]
["Auto",25760,34260,1,"Normal",{"v":249.59,"d":"€249.59"},"LUXE",{"$f":"IFERROR(VLOOKUP(G752,Discounts!C:E,3,0),0)","v":0},{"v":249.59,"d":"€249.59"}]
["Auto",25770,121620,1,"Combination",{"v":249.59,"d":"€249.59"},"A010",{"$f":"IFERROR(VLOOKUP(G753,Discounts!C:E,3,0),0)","v":0},{"v":249.59,"d":"€249.59"}]
["Auto",25770,134070,1,"Normal",0,"LUXE",{"$f":"IFERROR(VLOOKUP(G754,Discounts!C:E,3,0),0)","v":0},0]
["Auto",25780,820,1,"Normal",{"v":1934.71,"d":"€1,934.71"},"A010",{"$f":"IFERROR(VLOOKUP(G755,Discounts!C:E,3,0),0)","v":0},{"v":1934.71,"d":"€1,934.71"}]
["Auto",25780,34260,1,"Normal",{"v":249.59,"d":"€249.59"},"LUXE",{"$f":"IFERROR(VLOOKUP(G756,Discounts!C:E,3,0),0)","v":0},{"v":249.59,"d":"€249.59"}]
["Auto",25790,121630,1,"Combination",{"v":2184.3,"d":"€2,184.30"},"A010",{"$f":"IFERROR(VLOOKUP(G757,Discounts!C:E,3,0),0)","v":0},{"v":2184.3,"d":"€2,184.30"}]
["Auto",25790,134070,1,"Normal",0,"LUXE",{"$f":"IFERROR(VLOOKUP(G758,Discounts!C:E,3,0),0)","v":0},0]
["Auto",25800,840,1,"Normal",{"v":1838.02,"d":"€1,838.02"},"A010",{"$f":"IFERROR(VLOOKUP(G759,Discounts!C:E,3,0),0)","v":0},{"v":1838.02,"d":"€1,838.02"}]
["Auto",25800,34260,1,"Normal",{"v":249.59,"d":"€249.59"},"LUXE",{"$f":"IFERROR(VLOOKUP(G760,Discounts!C:E,3,0),0)","v":0},{"v":249.59,"d":"€249.59"}]
["Auto",25810,121640,1,"Combination",{"v":2087.61,"d":"€2,087.61"},"A010",{"$f":"IFERROR(VLOOKUP(G761,Discounts!C:E,3,0),0)","v":0},{"v":2087.61,"d":"€2,087.61"}]
["Auto",25810,134070,1,"Normal",0,"LUXE",{"$f":"IFERROR(VLOOKUP(G762,Discounts!C:E,3,0),0)","v":0},0]
["Auto",25820,860,1,"Normal",{"v":2071.07,"d":"€2,071.07"},"A010",{"$f":"IFERROR(VLOOKUP(G763,Discounts!C:E,3,0),0)","v":0},{"v":2071.07,"d":"€2,071.07"}]
["Auto",25820,34260,1,"Normal",{"v":249.59,"d":"€249.59"},"LUXE",{"$f":"IFERROR(VLOOKUP(G764,Discounts!C:E,3,0),0)","v":0},{"v":249.59,"d":"€249.59"}]
["Auto",25830,121650,1,"Combination",{"v":2320.66,"d":"€2,320.66"},"A010",{"$f":"IFERROR(VLOOKUP(G765,Discounts!C:E,3,0),0)","v":0},{"v":2320.6600000000003,"d":"€2,320.66"}]
["Auto",25830,134070,1,"Normal",0,"LUXE",{"$f":"IFERROR(VLOOKUP(G766,Discounts!C:E,3,0),0)","v":0},0]
["Auto",25840,880,1,"Normal",{"v":1742.98,"d":"€1,742.98"},"A010",{"$f":"IFERROR(VLOOKUP(G767,Discounts!C:E,3,0),0)","v":0},{"v":1742.98,"d":"€1,742.98"}]
["Auto",25840,34260,1,"Normal",{"v":249.59,"d":"€249.59"},"LUXE",{"$f":"IFERROR(VLOOKUP(G768,Discounts!C:E,3,0),0)","v":0},{"v":249.59,"d":"€249.59"}]
["Auto",25850,121660,1,"Combination",{"v":1992.57,"d":"€1,992.57"},"A010",{"$f":"IFERROR(VLOOKUP(G769,Discounts!C:E,3,0),0)","v":0},{"v":1992.57,"d":"€1,992.57"}]
["Auto",25850,134070,1,"Normal",0,"LUXE",{"$f":"IFERROR(VLOOKUP(G770,Discounts!C:E,3,0),0)","v":0},0]
["Auto",25860,900,1,"Normal",{"v":1838.02,"d":"€1,838.02"},"A010",{"$f":"IFERROR(VLOOKUP(G771,Discounts!C:E,3,0),0)","v":0},{"$f":"IF(E771=\"Normal\",F771*(1-H771),SUMIF(B:B,C771,I:I)*D771)","v":{"v":1838.02,"d":"€1,838.02"}}]
["Auto",25860,34260,1,"Normal",{"v":249.59,"d":"€249.59"},"LUXE",{"$f":"IFERROR(VLOOKUP(G772,Discounts!C:E,3,0),0)","v":0},{"v":249.59,"d":"€249.59"}]
["Auto",25870,121670,1,"Combination",{"v":2087.61,"d":"€2,087.61"},"A010",{"$f":"IFERROR(VLOOKUP(G773,Discounts!C:E,3,0),0)","v":0},{"v":2087.61,"d":"€2,087.61"}]
["Auto",25870,134070,1,"Normal",0,"LUXE",{"$f":"IFERROR(VLOOKUP(G774,Discounts!C:E,3,0),0)","v":0},0]
["Auto",25940,980,1,"Normal",{"v":3233.06,"d":"€3,233.06"},"A010",{"$f":"IFERROR(VLOOKUP(G775,Discounts!C:E,3,0),0)","v":0},{"v":3233.06,"d":"€3,233.06"}]
["Auto",25940,34260,1,"Normal",{"v":249.59,"d":"€249.59"},"LUXE",{"$f":"IFERROR(VLOOKUP(G776,Discounts!C:E,3,0),0)","v":0},{"v":249.59,"d":"€249.59"}]
["Auto",25950,121680,1,"Combination",{"v":3482.65,"d":"€3,482.65"},"A010",{"$f":"IFERROR(VLOOKUP(G777,Discounts!C:E,3,0),0)","v":0},{"v":3482.65,"d":"€3,482.65"}]
["Auto",25950,134070,1,"Normal",0,"LUXE",{"$f":"IFERROR(VLOOKUP(G778,Discounts!C:E,3,0),0)","v":0},0]
["Auto",25960,1000,1,"Normal",{"v":2932.23,"d":"€2,932.23"},"A010",{"$f":"IFERROR(VLOOKUP(G779,Discounts!C:E,3,0),0)","v":0},{"v":2932.23,"d":"€2,932.23"}]
["Auto",25960,34260,1,"Normal",{"v":249.59,"d":"€249.59"},"LUXE",{"$f":"IFERROR(VLOOKUP(G780,Discounts!C:E,3,0),0)","v":0},{"v":249.59,"d":"€249.59"}]
["Auto",25970,121690,1,"Combination",{"v":3181.82,"d":"€3,181.82"},"A010",{"$f":"IFERROR(VLOOKUP(G781,Discounts!C:E,3,0),0)","v":0},{"v":3181.82,"d":"€3,181.82"}]
["Auto",25970,134070,1,"Normal",0,"LUXE",{"$f":"IFERROR(VLOOKUP(G782,Discounts!C:E,3,0),0)","v":0},0]
["Auto",25980,1020,1,"Normal",0,"A010",{"$f":"IFERROR(VLOOKUP(G783,Discounts!C:E,3,0),0)","v":0},0]
["Auto",25980,34260,1,"Normal",{"v":249.59,"d":"€249.59"},"LUXE",{"$f":"IFERROR(VLOOKUP(G784,Discounts!C:E,3,0),0)","v":0},{"v":249.59,"d":"€249.59"}]
["Auto",25990,121700,1,"Combination",{"v":249.59,"d":"€249.59"},"A010",{"$f":"IFERROR(VLOOKUP(G785,Discounts!C:E,3,0),0)","v":0},{"v":249.59,"d":"€249.59"}]
["Auto",25990,134070,1,"Normal",0,"LUXE",{"$f":"IFERROR(VLOOKUP(G786,Discounts!C:E,3,0),0)","v":0},0]
["Auto",26000,1040,1,"Normal",0,"A010",{"$f":"IFERROR(VLOOKUP(G787,Discounts!C:E,3,0),0)","v":0},0]
["Auto",26000,34260,1,"Normal",{"v":249.59,"d":"€249.59"},"LUXE",{"$f":"IFERROR(VLOOKUP(G788,Discounts!C:E,3,0),0)","v":0},{"v":249.59,"d":"€249.59"}]
["Auto",26010,121710,1,"Combination",{"v":249.59,"d":"€249.59"},"A010",{"$f":"IFERROR(VLOOKUP(G789,Discounts!C:E,3,0),0)","v":0},{"v":249.59,"d":"€249.59"}]
["Auto",26010,134070,1,"Normal",0,"LUXE",{"$f":"IFERROR(VLOOKUP(G790,Discounts!C:E,3,0),0)","v":0},0]
["Auto",26020,1060,1,"Normal",0,"A010",{"$f":"IFERROR(VLOOKUP(G791,Discounts!C:E,3,0),0)","v":0},0]
["Auto",26020,34260,1,"Normal",{"v":249.59,"d":"€249.59"},"LUXE",{"$f":"IFERROR(VLOOKUP(G792,Discounts!C:E,3,0),0)","v":0},{"v":249.59,"d":"€249.59"}]
["Auto",26030,121720,1,"Combination",{"v":249.59,"d":"€249.59"},"A010",{"$f":"IFERROR(VLOOKUP(G793,Discounts!C:E,3,0),0)","v":0},{"v":249.59,"d":"€249.59"}]
["Auto",26030,134070,1,"Normal",0,"LUXE",{"$f":"IFERROR(VLOOKUP(G794,Discounts!C:E,3,0),0)","v":0},0]
["Auto",26040,1080,1,"Normal",0,"A010",{"$f":"IFERROR(VLOOKUP(G795,Discounts!C:E,3,0),0)","v":0},0]
["Auto",26040,34260,1,"Normal",{"v":249.59,"d":"€249.59"},"LUXE",{"$f":"IFERROR(VLOOKUP(G796,Discounts!C:E,3,0),0)","v":0},{"v":249.59,"d":"€249.59"}]
["Auto",26050,121730,1,"Combination",{"v":249.59,"d":"€249.59"},"A010",{"$f":"IFERROR(VLOOKUP(G797,Discounts!C:E,3,0),0)","v":0},{"v":249.59,"d":"€249.59"}]
["Auto",26050,134070,1,"Normal",0,"LUXE",{"$f":"IFERROR(VLOOKUP(G798,Discounts!C:E,3,0),0)","v":0},0]
["Auto",26060,1100,1,"Normal",{"v":2376.86,"d":"€2,376.86"},"A010",{"$f":"IFERROR(VLOOKUP(G799,Discounts!C:E,3,0),0)","v":0},{"v":2376.86,"d":"€2,376.86"}]
["Auto",26060,34260,1,"Normal",{"v":249.59,"d":"€249.59"},"LUXE",{"$f":"IFERROR(VLOOKUP(G800,Discounts!C:E,3,0),0)","v":0},{"v":249.59,"d":"€249.59"}]
["Auto",26070,121740,1,"Combination",{"v":2626.45,"d":"€2,626.45"},"A010",{"$f":"IFERROR(VLOOKUP(G801,Discounts!C:E,3,0),0)","v":0},{"v":2626.4500000000003,"d":"€2,626.45"}]
["Auto",26070,134070,1,"Normal",0,"LUXE",{"$f":"IFERROR(VLOOKUP(G802,Discounts!C:E,3,0),0)","v":0},0]
["Auto",26080,1120,1,"Normal",{"v":2241.32,"d":"€2,241.32"},"A010",{"$f":"IFERROR(VLOOKUP(G803,Discounts!C:E,3,0),0)","v":0},{"v":2241.32,"d":"€2,241.32"}]
["Auto",26080,34260,1,"Normal",{"v":249.59,"d":"€249.59"},"LUXE",{"$f":"IFERROR(VLOOKUP(G804,Discounts!C:E,3,0),0)","v":0},{"v":249.59,"d":"€249.59"}]
["Auto",26090,121750,1,"Combination",{"v":2490.91,"d":"€2,490.91"},"A010",{"$f":"IFERROR(VLOOKUP(G805,Discounts!C:E,3,0),0)","v":0},{"v":2490.9100000000003,"d":"€2,490.91"}]
["Auto",26090,134070,1,"Normal",0,"LUXE",{"$f":"IFERROR(VLOOKUP(G806,Discounts!C:E,3,0),0)","v":0},0]
["Auto",26100,1140,1,"Normal",{"v":2264.46,"d":"€2,264.46"},"A010",{"$f":"IFERROR(VLOOKUP(G807,Discounts!C:E,3,0),0)","v":0},{"v":2264.46,"d":"€2,264.46"}]
["Auto",26100,34260,1,"Normal",{"v":249.59,"d":"€249.59"},"LUXE",{"$f":"IFERROR(VLOOKUP(G808,Discounts!C:E,3,0),0)","v":0},{"v":249.59,"d":"€249.59"}]
["Auto",26110,121760,1,"Combination",{"v":2514.05,"d":"€2,514.05"},"A010",{"$f":"IFERROR(VLOOKUP(G809,Discounts!C:E,3,0),0)","v":0},{"v":2514.05,"d":"€2,514.05"}]
["Auto",26110,134070,1,"Normal",0,"LUXE",{"$f":"IFERROR(VLOOKUP(G810,Discounts!C:E,3,0),0)","v":0},0]
["Auto",26160,1200,1,"Normal",{"v":2474.38,"d":"€2,474.38"},"A010",{"$f":"IFERROR(VLOOKUP(G811,Discounts!C:E,3,0),0)","v":0},{"v":2474.38,"d":"€2,474.38"}]
["Auto",26160,34260,1,"Normal",{"v":249.59,"d":"€249.59"},"LUXE",{"$f":"IFERROR(VLOOKUP(G812,Discounts!C:E,3,0),0)","v":0},{"v":249.59,"d":"€249.59"}]
["Auto",26170,121770,1,"Combination",{"v":2723.97,"d":"€2,723.97"},"A010",{"$f":"IFERROR(VLOOKUP(G813,Discounts!C:E,3,0),0)","v":0},{"v":2723.9700000000003,"d":"€2,723.97"}]
["Auto",26170,134070,1,"Normal",0,"LUXE",{"$f":"IFERROR(VLOOKUP(G814,Discounts!C:E,3,0),0)","v":0},0]
["Auto",26180,1220,1,"Normal",0,"A010",{"$f":"IFERROR(VLOOKUP(G815,Discounts!C:E,3,0),0)","v":0},0]
["Auto",26180,34260,1,"Normal",{"v":249.59,"d":"€249.59"},"LUXE",{"$f":"IFERROR(VLOOKUP(G816,Discounts!C:E,3,0),0)","v":0},{"v":249.59,"d":"€249.59"}]
["Auto",26190,121780,1,"Combination",{"v":249.59,"d":"€249.59"},"A010",{"$f":"IFERROR(VLOOKUP(G817,Discounts!C:E,3,0),0)","v":0},{"v":249.59,"d":"€249.59"}]
["Auto",26190,134070,1,"Normal",0,"LUXE",{"$f":"IFERROR(VLOOKUP(G818,Discounts!C:E,3,0),0)","v":0},0]
["Auto",26220,1260,1,"Normal",{"v":2597.52,"d":"€2,597.52"},"A010",{"$f":"IFERROR(VLOOKUP(G819,Discounts!C:E,3,0),0)","v":0},{"v":2597.52,"d":"€2,597.52"}]
["Auto",26220,34260,1,"Normal",{"v":249.59,"d":"€249.59"},"LUXE",{"$f":"IFERROR(VLOOKUP(G820,Discounts!C:E,3,0),0)","v":0},{"v":249.59,"d":"€249.59"}]
["Auto",26230,121790,1,"Combination",{"v":2847.11,"d":"€2,847.11"},"A010",{"$f":"IFERROR(VLOOKUP(G821,Discounts!C:E,3,0),0)","v":0},{"v":2847.11,"d":"€2,847.11"}]
["Auto",26230,134070,1,"Normal",0,"LUXE",{"$f":"IFERROR(VLOOKUP(G822,Discounts!C:E,3,0),0)","v":0},0]
["Auto",26240,1280,1,"Normal",0,"A010",{"$f":"IFERROR(VLOOKUP(G823,Discounts!C:E,3,0),0)","v":0},0]
["Auto",26240,34260,1,"Normal",{"v":249.59,"d":"€249.59"},"LUXE",{"$f":"IFERROR(VLOOKUP(G824,Discounts!C:E,3,0),0)","v":0},{"v":249.59,"d":"€249.59"}]
["Auto",26250,121800,1,"Combination",{"v":249.59,"d":"€249.59"},"A010",{"$f":"IFERROR(VLOOKUP(G825,Discounts!C:E,3,0),0)","v":0},{"v":249.59,"d":"€249.59"}]
["Auto",26250,134070,1,"Normal",0,"LUXE",{"$f":"IFERROR(VLOOKUP(G826,Discounts!C:E,3,0),0)","v":0},0]
["Auto",26280,1320,1,"Normal",{"v":2474.38,"d":"€2,474.38"},"A010",{"$f":"IFERROR(VLOOKUP(G827,Discounts!C:E,3,0),0)","v":0},{"v":2474.38,"d":"€2,474.38"}]
["Auto",26280,34260,1,"Normal",{"v":249.59,"d":"€249.59"},"LUXE",{"$f":"IFERROR(VLOOKUP(G828,Discounts!C:E,3,0),0)","v":0},{"v":249.59,"d":"€249.59"}]
["Auto",26290,121810,1,"Combination",{"v":2723.97,"d":"€2,723.97"},"A010",{"$f":"IFERROR(VLOOKUP(G829,Discounts!C:E,3,0),0)","v":0},{"v":2723.9700000000003,"d":"€2,723.97"}]
["Auto",26290,134070,1,"Normal",0,"LUXE",{"$f":"IFERROR(VLOOKUP(G830,Discounts!C:E,3,0),0)","v":0},0]
["Auto",26300,1340,1,"Normal",0,"A010",{"$f":"IFERROR(VLOOKUP(G831,Discounts!C:E,3,0),0)","v":0},0]
["Auto",26300,34260,1,"Normal",{"v":249.59,"d":"€249.59"},"LUXE",{"$f":"IFERROR(VLOOKUP(G832,Discounts!C:E,3,0),0)","v":0},{"v":249.59,"d":"€249.59"}]
["Auto",26310,121820,1,"Combination",{"v":249.59,"d":"€249.59"},"A010",{"$f":"IFERROR(VLOOKUP(G833,Discounts!C:E,3,0),0)","v":0},{"v":249.59,"d":"€249.59"}]
["Auto",26310,134070,1,"Normal",0,"LUXE",{"$f":"IFERROR(VLOOKUP(G834,Discounts!C:E,3,0),0)","v":0},0]
["Auto",26340,1380,1,"Normal",{"v":2101.65,"d":"€2,101.65"},"A010",{"$f":"IFERROR(VLOOKUP(G835,Discounts!C:E,3,0),0)","v":0},{"$f":"IF(E835=\"Normal\",F835*(1-H835),SUMIF(B:B,C835,I:I)*D835)","v":{"v":2101.65,"d":"€2,101.65"}}]
["Auto",26340,34260,1,"Normal",{"v":249.59,"d":"€249.59"},"LUXE",{"$f":"IFERROR(VLOOKUP(G836,Discounts!C:E,3,0),0)","v":0},{"v":249.59,"d":"€249.59"}]
["Auto",26350,121830,1,"Combination",{"v":2351.24,"d":"€2,351.24"},"A010",{"$f":"IFERROR(VLOOKUP(G837,Discounts!C:E,3,0),0)","v":0},{"v":2351.2400000000002,"d":"€2,351.24"}]
["Auto",26350,134070,1,"Normal",0,"LUXE",{"$f":"IFERROR(VLOOKUP(G838,Discounts!C:E,3,0),0)","v":0},0]
["Auto",26360,1400,1,"Normal",0,"A010",{"$f":"IFERROR(VLOOKUP(G839,Discounts!C:E,3,0),0)","v":0},0]
["Auto",26360,34260,1,"Normal",{"v":249.59,"d":"€249.59"},"LUXE",{"$f":"IFERROR(VLOOKUP(G840,Discounts!C:E,3,0),0)","v":0},{"v":249.59,"d":"€249.59"}]
["Auto",26370,121840,1,"Combination",{"v":249.59,"d":"€249.59"},"A010",{"$f":"IFERROR(VLOOKUP(G841,Discounts!C:E,3,0),0)","v":0},{"v":249.59,"d":"€249.59"}]
["Auto",26370,134070,1,"Normal",0,"LUXE",{"$f":"IFERROR(VLOOKUP(G842,Discounts!C:E,3,0),0)","v":0},0]
["Auto",26480,1520,1,"Normal",{"v":1885.95,"d":"€1,885.95"},"A010",{"$f":"IFERROR(VLOOKUP(G843,Discounts!C:E,3,0),0)","v":0},{"v":1885.95,"d":"€1,885.95"}]
["Auto",26480,34260,1,"Normal",{"v":249.59,"d":"€249.59"},"LUXE",{"$f":"IFERROR(VLOOKUP(G844,Discounts!C:E,3,0),0)","v":0},{"v":249.59,"d":"€249.59"}]
["Auto",26490,121850,1,"Combination",{"v":2135.54,"d":"€2,135.54"},"A010",{"$f":"IFERROR(VLOOKUP(G845,Discounts!C:E,3,0),0)","v":0},{"v":2135.54,"d":"€2,135.54"}]
["Auto",26490,134070,1,"Normal",0,"LUXE",{"$f":"IFERROR(VLOOKUP(G846,Discounts!C:E,3,0),0)","v":0},0]
["Auto",26500,1540,1,"Normal",{"v":1825.62,"d":"€1,825.62"},"A010",{"$f":"IFERROR(VLOOKUP(G847,Discounts!C:E,3,0),0)","v":0},{"v":1825.62,"d":"€1,825.62"}]
["Auto",26500,34260,1,"Normal",{"v":249.59,"d":"€249.59"},"LUXE",{"$f":"IFERROR(VLOOKUP(G848,Discounts!C:E,3,0),0)","v":0},{"v":249.59,"d":"€249.59"}]
["Auto",26510,121860,1,"Combination",{"v":2075.21,"d":"€2,075.21"},"A010",{"$f":"IFERROR(VLOOKUP(G849,Discounts!C:E,3,0),0)","v":0},{"v":2075.21,"d":"€2,075.21"}]
["Auto",26510,134070,1,"Normal",0,"LUXE",{"$f":"IFERROR(VLOOKUP(G850,Discounts!C:E,3,0),0)","v":0},0]
["Auto",26520,1560,1,"Normal",{"v":1923.97,"d":"€1,923.97"},"A010",{"$f":"IFERROR(VLOOKUP(G851,Discounts!C:E,3,0),0)","v":0},{"v":1923.97,"d":"€1,923.97"}]
["Auto",26520,34260,1,"Normal",{"v":249.59,"d":"€249.59"},"LUXE",{"$f":"IFERROR(VLOOKUP(G852,Discounts!C:E,3,0),0)","v":0},{"v":249.59,"d":"€249.59"}]
["Auto",26530,121870,1,"Combination",{"v":2173.56,"d":"€2,173.56"},"A010",{"$f":"IFERROR(VLOOKUP(G853,Discounts!C:E,3,0),0)","v":0},{"v":2173.56,"d":"€2,173.56"}]
["Auto",26530,134070,1,"Normal",0,"LUXE",{"$f":"IFERROR(VLOOKUP(G854,Discounts!C:E,3,0),0)","v":0},0]
["Auto",26540,1580,1,"Normal",0,"A010",{"$f":"IFERROR(VLOOKUP(G855,Discounts!C:E,3,0),0)","v":0},0]
["Auto",26540,34260,1,"Normal",{"v":249.59,"d":"€249.59"},"LUXE",{"$f":"IFERROR(VLOOKUP(G856,Discounts!C:E,3,0),0)","v":0},{"v":249.59,"d":"€249.59"}]
["Auto",26550,121880,1,"Combination",{"v":249.59,"d":"€249.59"},"A010",{"$f":"IFERROR(VLOOKUP(G857,Discounts!C:E,3,0),0)","v":0},{"v":249.59,"d":"€249.59"}]
["Auto",26550,134070,1,"Normal",0,"LUXE",{"$f":"IFERROR(VLOOKUP(G858,Discounts!C:E,3,0),0)","v":0},0]
["Auto",26560,1600,1,"Normal",0,"A010",{"$f":"IFERROR(VLOOKUP(G859,Discounts!C:E,3,0),0)","v":0},0]
["Auto",26560,34260,1,"Normal",{"v":249.59,"d":"€249.59"},"LUXE",{"$f":"IFERROR(VLOOKUP(G860,Discounts!C:E,3,0),0)","v":0},{"v":249.59,"d":"€249.59"}]
["Auto",26570,121890,1,"Combination",{"v":249.59,"d":"€249.59"},"A010",{"$f":"IFERROR(VLOOKUP(G861,Discounts!C:E,3,0),0)","v":0},{"v":249.59,"d":"€249.59"}]
["Auto",26570,134070,1,"Normal",0,"LUXE",{"$f":"IFERROR(VLOOKUP(G862,Discounts!C:E,3,0),0)","v":0},0]
["Auto",26580,1620,1,"Normal",0,"A010",{"$f":"IFERROR(VLOOKUP(G863,Discounts!C:E,3,0),0)","v":0},0]
["Auto",26580,34260,1,"Normal",{"v":249.59,"d":"€249.59"},"LUXE",{"$f":"IFERROR(VLOOKUP(G864,Discounts!C:E,3,0),0)","v":0},{"v":249.59,"d":"€249.59"}]
["Auto",26590,121900,1,"Combination",{"v":249.59,"d":"€249.59"},"A010",{"$f":"IFERROR(VLOOKUP(G865,Discounts!C:E,3,0),0)","v":0},{"v":249.59,"d":"€249.59"}]
["Auto",26590,134070,1,"Normal",0,"LUXE",{"$f":"IFERROR(VLOOKUP(G866,Discounts!C:E,3,0),0)","v":0},0]
["Auto",26680,1720,1,"Normal",{"v":2702.48,"d":"€2,702.48"},"A010",{"$f":"IFERROR(VLOOKUP(G867,Discounts!C:E,3,0),0)","v":0},{"v":2702.48,"d":"€2,702.48"}]
["Auto",26680,34260,1,"Normal",{"v":249.59,"d":"€249.59"},"LUXE",{"$f":"IFERROR(VLOOKUP(G868,Discounts!C:E,3,0),0)","v":0},{"v":249.59,"d":"€249.59"}]
["Auto",26690,121910,1,"Combination",{"v":2952.07,"d":"€2,952.07"},"A010",{"$f":"IFERROR(VLOOKUP(G869,Discounts!C:E,3,0),0)","v":0},{"v":2952.07,"d":"€2,952.07"}]
["Auto",26690,134070,1,"Normal",0,"LUXE",{"$f":"IFERROR(VLOOKUP(G870,Discounts!C:E,3,0),0)","v":0},0]
["Auto",26700,1740,1,"Normal",{"v":1301.65,"d":"€1,301.65"},"A010",{"$f":"IFERROR(VLOOKUP(G871,Discounts!C:E,3,0),0)","v":0},{"v":1301.65,"d":"€1,301.65"}]
["Auto",26700,34260,1,"Normal",{"v":249.59,"d":"€249.59"},"LUXE",{"$f":"IFERROR(VLOOKUP(G872,Discounts!C:E,3,0),0)","v":0},{"v":249.59,"d":"€249.59"}]
["Auto",26710,121920,1,"Combination",{"v":1551.24,"d":"€1,551.24"},"A010",{"$f":"IFERROR(VLOOKUP(G873,Discounts!C:E,3,0),0)","v":0},{"v":1551.24,"d":"€1,551.24"}]
["Auto",26710,134070,1,"Normal",0,"LUXE",{"$f":"IFERROR(VLOOKUP(G874,Discounts!C:E,3,0),0)","v":0},0]
["Auto",26720,1760,1,"Normal",{"v":1332.23,"d":"€1,332.23"},"A010",{"$f":"IFERROR(VLOOKUP(G875,Discounts!C:E,3,0),0)","v":0},{"v":1332.23,"d":"€1,332.23"}]
["Auto",26720,34260,1,"Normal",{"v":249.59,"d":"€249.59"},"LUXE",{"$f":"IFERROR(VLOOKUP(G876,Discounts!C:E,3,0),0)","v":0},{"v":249.59,"d":"€249.59"}]
["Auto",26730,121930,1,"Combination",{"v":1581.82,"d":"€1,581.82"},"A010",{"$f":"IFERROR(VLOOKUP(G877,Discounts!C:E,3,0),0)","v":0},{"v":1581.82,"d":"€1,581.82"}]
["Auto",26730,134070,1,"Normal",0,"LUXE",{"$f":"IFERROR(VLOOKUP(G878,Discounts!C:E,3,0),0)","v":0},0]
["Auto",26740,1780,1,"Normal",0,"A010",{"$f":"IFERROR(VLOOKUP(G879,Discounts!C:E,3,0),0)","v":0},0]
["Auto",26740,34260,1,"Normal",{"v":249.59,"d":"€249.59"},"LUXE",{"$f":"IFERROR(VLOOKUP(G880,Discounts!C:E,3,0),0)","v":0},{"v":249.59,"d":"€249.59"}]
["Auto",26750,121940,1,"Combination",{"v":249.59,"d":"€249.59"},"A010",{"$f":"IFERROR(VLOOKUP(G881,Discounts!C:E,3,0),0)","v":0},{"v":249.59,"d":"€249.59"}]
["Auto",26750,134070,1,"Normal",0,"LUXE",{"$f":"IFERROR(VLOOKUP(G882,Discounts!C:E,3,0),0)","v":0},0]
["Auto",26760,1800,1,"Normal",{"v":1472.73,"d":"€1,472.73"},"A010",{"$f":"IFERROR(VLOOKUP(G883,Discounts!C:E,3,0),0)","v":0},{"v":1472.73,"d":"€1,472.73"}]
["Auto",26760,34260,1,"Normal",{"v":249.59,"d":"€249.59"},"LUXE",{"$f":"IFERROR(VLOOKUP(G884,Discounts!C:E,3,0),0)","v":0},{"v":249.59,"d":"€249.59"}]
["Auto",26770,121950,1,"Combination",{"v":1722.32,"d":"€1,722.32"},"A010",{"$f":"IFERROR(VLOOKUP(G885,Discounts!C:E,3,0),0)","v":0},{"v":1722.32,"d":"€1,722.32"}]
["Auto",26770,134070,1,"Normal",0,"LUXE",{"$f":"IFERROR(VLOOKUP(G886,Discounts!C:E,3,0),0)","v":0},0]
["Auto",26780,1820,1,"Normal",{"v":1428.93,"d":"€1,428.93"},"A010",{"$f":"IFERROR(VLOOKUP(G887,Discounts!C:E,3,0),0)","v":0},{"v":1428.93,"d":"€1,428.93"}]
["Auto",26780,34260,1,"Normal",{"v":249.59,"d":"€249.59"},"LUXE",{"$f":"IFERROR(VLOOKUP(G888,Discounts!C:E,3,0),0)","v":0},{"v":249.59,"d":"€249.59"}]
["Auto",26790,121960,1,"Combination",{"v":1678.52,"d":"€1,678.52"},"A010",{"$f":"IFERROR(VLOOKUP(G889,Discounts!C:E,3,0),0)","v":0},{"v":1678.52,"d":"€1,678.52"}]
["Auto",26790,134070,1,"Normal",0,"LUXE",{"$f":"IFERROR(VLOOKUP(G890,Discounts!C:E,3,0),0)","v":0},0]
["Auto",26800,1840,1,"Normal",0,"A010",{"$f":"IFERROR(VLOOKUP(G891,Discounts!C:E,3,0),0)","v":0},0]
["Auto",26800,34260,1,"Normal",{"v":249.59,"d":"€249.59"},"LUXE",{"$f":"IFERROR(VLOOKUP(G892,Discounts!C:E,3,0),0)","v":0},{"v":249.59,"d":"€249.59"}]
["Auto",26810,121970,1,"Combination",{"v":249.59,"d":"€249.59"},"A010",{"$f":"IFERROR(VLOOKUP(G893,Discounts!C:E,3,0),0)","v":0},{"v":249.59,"d":"€249.59"}]
["Auto",26810,134070,1,"Normal",0,"LUXE",{"$f":"IFERROR(VLOOKUP(G894,Discounts!C:E,3,0),0)","v":0},0]
["Auto",26820,1860,1,"Normal",0,"A010",{"$f":"IFERROR(VLOOKUP(G895,Discounts!C:E,3,0),0)","v":0},0]
["Auto",26820,34260,1,"Normal",{"v":249.59,"d":"€249.59"},"LUXE",{"$f":"IFERROR(VLOOKUP(G896,Discounts!C:E,3,0),0)","v":0},{"v":249.59,"d":"€249.59"}]
["Auto",26830,121980,1,"Combination",{"v":249.59,"d":"€249.59"},"A010",{"$f":"IFERROR(VLOOKUP(G897,Discounts!C:E,3,0),0)","v":0},{"v":249.59,"d":"€249.59"}]
["Auto",26830,134070,1,"Normal",0,"LUXE",{"$f":"IFERROR(VLOOKUP(G898,Discounts!C:E,3,0),0)","v":0},0]
["Auto",26840,1880,1,"Normal",0,"A010",{"$f":"IFERROR(VLOOKUP(G899,Discounts!C:E,3,0),0)","v":0},{"$f":"IF(E899=\"Normal\",F899*(1-H899),SUMIF(B:B,C899,I:I)*D899)","v":0}]
["Auto",26840,34260,1,"Normal",{"v":249.59,"d":"€249.59"},"LUXE",{"$f":"IFERROR(VLOOKUP(G900,Discounts!C:E,3,0),0)","v":0},{"v":249.59,"d":"€249.59"}]
["Auto",26850,121990,1,"Combination",{"v":249.59,"d":"€249.59"},"A010",{"$f":"IFERROR(VLOOKUP(G901,Discounts!C:E,3,0),0)","v":0},{"v":249.59,"d":"€249.59"}]
["Auto",26850,134070,1,"Normal",0,"LUXE",{"$f":"IFERROR(VLOOKUP(G902,Discounts!C:E,3,0),0)","v":0},0]
["Auto",26860,34260,1,"Normal",{"v":249.59,"d":"€249.59"},"LUXE",{"$f":"IFERROR(VLOOKUP(G903,Discounts!C:E,3,0),0)","v":0},{"v":249.59,"d":"€249.59"}]
["Auto",26860,118960,1,"Normal",{"v":2060.33,"d":"€2,060.33"},"A010",{"$f":"IFERROR(VLOOKUP(G904,Discounts!C:E,3,0),0)","v":0},{"v":2060.33,"d":"€2,060.33"}]
["Auto",26870,122000,1,"Combination",{"v":2309.92,"d":"€2,309.92"},"A010",{"$f":"IFERROR(VLOOKUP(G905,Discounts!C:E,3,0),0)","v":0},{"v":2309.92,"d":"€2,309.92"}]
["Auto",26870,134070,1,"Normal",0,"LUXE",{"$f":"IFERROR(VLOOKUP(G906,Discounts!C:E,3,0),0)","v":0},0]
["Auto",26880,1920,1,"Normal",{"v":1867.77,"d":"€1,867.77"},"A010",{"$f":"IFERROR(VLOOKUP(G907,Discounts!C:E,3,0),0)","v":0},{"v":1867.77,"d":"€1,867.77"}]
["Auto",26880,34260,1,"Normal",{"v":249.59,"d":"€249.59"},"LUXE",{"$f":"IFERROR(VLOOKUP(G908,Discounts!C:E,3,0),0)","v":0},{"v":249.59,"d":"€249.59"}]
["Auto",26890,122010,1,"Combination",{"v":2117.36,"d":"€2,117.36"},"A010",{"$f":"IFERROR(VLOOKUP(G909,Discounts!C:E,3,0),0)","v":0},{"v":2117.36,"d":"€2,117.36"}]
["Auto",26890,134070,1,"Normal",0,"LUXE",{"$f":"IFERROR(VLOOKUP(G910,Discounts!C:E,3,0),0)","v":0},0]
["Auto",26900,1940,1,"Normal",0,"A010",{"$f":"IFERROR(VLOOKUP(G911,Discounts!C:E,3,0),0)","v":0},0]
["Auto",26900,34260,1,"Normal",{"v":249.59,"d":"€249.59"},"LUXE",{"$f":"IFERROR(VLOOKUP(G912,Discounts!C:E,3,0),0)","v":0},{"v":249.59,"d":"€249.59"}]
["Auto",26910,122020,1,"Combination",{"v":249.59,"d":"€249.59"},"A010",{"$f":"IFERROR(VLOOKUP(G913,Discounts!C:E,3,0),0)","v":0},{"v":249.59,"d":"€249.59"}]
["Auto",26910,134070,1,"Normal",0,"LUXE",{"$f":"IFERROR(VLOOKUP(G914,Discounts!C:E,3,0),0)","v":0},0]
["Auto",26920,1960,1,"Normal",0,"A010",{"$f":"IFERROR(VLOOKUP(G915,Discounts!C:E,3,0),0)","v":0},0]
["Auto",26920,34260,1,"Normal",{"v":249.59,"d":"€249.59"},"LUXE",{"$f":"IFERROR(VLOOKUP(G916,Discounts!C:E,3,0),0)","v":0},{"v":249.59,"d":"€249.59"}]
["Auto",26930,122030,1,"Combination",{"v":249.59,"d":"€249.59"},"A010",{"$f":"IFERROR(VLOOKUP(G917,Discounts!C:E,3,0),0)","v":0},{"v":249.59,"d":"€249.59"}]
["Auto",26930,134070,1,"Normal",0,"LUXE",{"$f":"IFERROR(VLOOKUP(G918,Discounts!C:E,3,0),0)","v":0},0]
["Auto",26940,1980,1,"Normal",0,"A010",{"$f":"IFERROR(VLOOKUP(G919,Discounts!C:E,3,0),0)","v":0},0]
["Auto",26940,34260,1,"Normal",{"v":249.59,"d":"€249.59"},"LUXE",{"$f":"IFERROR(VLOOKUP(G920,Discounts!C:E,3,0),0)","v":0},{"v":249.59,"d":"€249.59"}]
["Auto",26950,122040,1,"Combination",{"v":249.59,"d":"€249.59"},"A010",{"$f":"IFERROR(VLOOKUP(G921,Discounts!C:E,3,0),0)","v":0},{"v":249.59,"d":"€249.59"}]
["Auto",26950,134070,1,"Normal",0,"LUXE",{"$f":"IFERROR(VLOOKUP(G922,Discounts!C:E,3,0),0)","v":0},0]
["Auto",26960,2000,1,"Normal",{"v":2185.12,"d":"€2,185.12"},"A010",{"$f":"IFERROR(VLOOKUP(G923,Discounts!C:E,3,0),0)","v":0},{"v":2185.12,"d":"€2,185.12"}]
["Auto",26960,34260,1,"Normal",{"v":249.59,"d":"€249.59"},"LUXE",{"$f":"IFERROR(VLOOKUP(G924,Discounts!C:E,3,0),0)","v":0},{"v":249.59,"d":"€249.59"}]
["Auto",26970,122050,1,"Combination",{"v":2434.71,"d":"€2,434.71"},"A010",{"$f":"IFERROR(VLOOKUP(G925,Discounts!C:E,3,0),0)","v":0},{"v":2434.71,"d":"€2,434.71"}]
["Auto",26970,134070,1,"Normal",0,"LUXE",{"$f":"IFERROR(VLOOKUP(G926,Discounts!C:E,3,0),0)","v":0},0]
["Auto",26980,2020,1,"Normal",{"v":1990.91,"d":"€1,990.91"},"A010",{"$f":"IFERROR(VLOOKUP(G927,Discounts!C:E,3,0),0)","v":0},{"v":1990.91,"d":"€1,990.91"}]
["Auto",26980,34260,1,"Normal",{"v":249.59,"d":"€249.59"},"LUXE",{"$f":"IFERROR(VLOOKUP(G928,Discounts!C:E,3,0),0)","v":0},{"v":249.59,"d":"€249.59"}]
["Auto",26990,122060,1,"Combination",{"v":2240.5,"d":"€2,240.50"},"A010",{"$f":"IFERROR(VLOOKUP(G929,Discounts!C:E,3,0),0)","v":0},{"v":2240.5,"d":"€2,240.50"}]
["Auto",26990,134070,1,"Normal",0,"LUXE",{"$f":"IFERROR(VLOOKUP(G930,Discounts!C:E,3,0),0)","v":0},0]
["Auto",27040,2080,1,"Normal",{"v":1536.36,"d":"€1,536.36"},"A010",{"$f":"IFERROR(VLOOKUP(G931,Discounts!C:E,3,0),0)","v":0},{"v":1536.36,"d":"€1,536.36"}]
["Auto",27040,34260,1,"Normal",{"v":249.59,"d":"€249.59"},"LUXE",{"$f":"IFERROR(VLOOKUP(G932,Discounts!C:E,3,0),0)","v":0},{"v":249.59,"d":"€249.59"}]
["Auto",27050,122070,1,"Combination",{"v":1785.95,"d":"€1,785.95"},"A010",{"$f":"IFERROR(VLOOKUP(G933,Discounts!C:E,3,0),0)","v":0},{"v":1785.9499999999998,"d":"€1,785.95"}]
["Auto",27050,134070,1,"Normal",0,"LUXE",{"$f":"IFERROR(VLOOKUP(G934,Discounts!C:E,3,0),0)","v":0},0]
["Auto",27060,2100,1,"Normal",{"v":1314.05,"d":"€1,314.05"},"A010",{"$f":"IFERROR(VLOOKUP(G935,Discounts!C:E,3,0),0)","v":0},{"v":1314.05,"d":"€1,314.05"}]
["Auto",27060,34260,1,"Normal",{"v":249.59,"d":"€249.59"},"LUXE",{"$f":"IFERROR(VLOOKUP(G936,Discounts!C:E,3,0),0)","v":0},{"v":249.59,"d":"€249.59"}]
["Auto",27070,122080,1,"Combination",{"v":1563.64,"d":"€1,563.64"},"A010",{"$f":"IFERROR(VLOOKUP(G937,Discounts!C:E,3,0),0)","v":0},{"v":1563.6399999999999,"d":"€1,563.64"}]
["Auto",27070,134070,1,"Normal",0,"LUXE",{"$f":"IFERROR(VLOOKUP(G938,Discounts!C:E,3,0),0)","v":0},0]
["Auto",27220,2260,1,"Normal",{"v":1276.03,"d":"€1,276.03"},"A010",{"$f":"IFERROR(VLOOKUP(G939,Discounts!C:E,3,0),0)","v":0},{"v":1276.03,"d":"€1,276.03"}]
["Auto",27220,34260,1,"Normal",{"v":249.59,"d":"€249.59"},"LUXE",{"$f":"IFERROR(VLOOKUP(G940,Discounts!C:E,3,0),0)","v":0},{"v":249.59,"d":"€249.59"}]
["Auto",27230,122090,1,"Combination",{"v":1525.62,"d":"€1,525.62"},"A010",{"$f":"IFERROR(VLOOKUP(G941,Discounts!C:E,3,0),0)","v":0},{"v":1525.62,"d":"€1,525.62"}]
["Auto",27230,134070,1,"Normal",0,"LUXE",{"$f":"IFERROR(VLOOKUP(G942,Discounts!C:E,3,0),0)","v":0},0]
["Auto",27240,2280,1,"Normal",{"v":1276.03,"d":"€1,276.03"},"A010",{"$f":"IFERROR(VLOOKUP(G943,Discounts!C:E,3,0),0)","v":0},{"v":1276.03,"d":"€1,276.03"}]
["Auto",27240,34260,1,"Normal",{"v":249.59,"d":"€249.59"},"LUXE",{"$f":"IFERROR(VLOOKUP(G944,Discounts!C:E,3,0),0)","v":0},{"v":249.59,"d":"€249.59"}]
["Auto",27250,122100,1,"Combination",{"v":1525.62,"d":"€1,525.62"},"A010",{"$f":"IFERROR(VLOOKUP(G945,Discounts!C:E,3,0),0)","v":0},{"v":1525.62,"d":"€1,525.62"}]
["Auto",27250,134070,1,"Normal",0,"LUXE",{"$f":"IFERROR(VLOOKUP(G946,Discounts!C:E,3,0),0)","v":0},0]
["Auto",27260,2300,1,"Normal",0,"A010",{"$f":"IFERROR(VLOOKUP(G947,Discounts!C:E,3,0),0)","v":0},0]
["Auto",27260,34260,1,"Normal",{"v":249.59,"d":"€249.59"},"LUXE",{"$f":"IFERROR(VLOOKUP(G948,Discounts!C:E,3,0),0)","v":0},{"v":249.59,"d":"€249.59"}]
["Auto",27270,122110,1,"Combination",{"v":249.59,"d":"€249.59"},"A010",{"$f":"IFERROR(VLOOKUP(G949,Discounts!C:E,3,0),0)","v":0},{"v":249.59,"d":"€249.59"}]
["Auto",27270,134070,1,"Normal",0,"LUXE",{"$f":"IFERROR(VLOOKUP(G950,Discounts!C:E,3,0),0)","v":0},0]
["Auto",27280,2320,1,"Normal",{"v":1746.28,"d":"€1,746.28"},"A010",{"$f":"IFERROR(VLOOKUP(G951,Discounts!C:E,3,0),0)","v":0},{"v":1746.28,"d":"€1,746.28"}]
["Auto",27280,34260,1,"Normal",{"v":249.59,"d":"€249.59"},"LUXE",{"$f":"IFERROR(VLOOKUP(G952,Discounts!C:E,3,0),0)","v":0},{"v":249.59,"d":"€249.59"}]
["Auto",27290,122120,1,"Combination",{"v":1995.87,"d":"€1,995.87"},"A010",{"$f":"IFERROR(VLOOKUP(G953,Discounts!C:E,3,0),0)","v":0},{"v":1995.87,"d":"€1,995.87"}]
["Auto",27290,134070,1,"Normal",0,"LUXE",{"$f":"IFERROR(VLOOKUP(G954,Discounts!C:E,3,0),0)","v":0},0]
["Auto",27300,2340,1,"Normal",{"v":1178.51,"d":"€1,178.51"},"A010",{"$f":"IFERROR(VLOOKUP(G955,Discounts!C:E,3,0),0)","v":0},{"v":1178.51,"d":"€1,178.51"}]
["Auto",27300,34260,1,"Normal",{"v":249.59,"d":"€249.59"},"LUXE",{"$f":"IFERROR(VLOOKUP(G956,Discounts!C:E,3,0),0)","v":0},{"v":249.59,"d":"€249.59"}]
["Auto",27310,122130,1,"Combination",{"v":1428.1,"d":"€1,428.10"},"A010",{"$f":"IFERROR(VLOOKUP(G957,Discounts!C:E,3,0),0)","v":0},{"v":1428.1,"d":"€1,428.10"}]
["Auto",27310,134070,1,"Normal",0,"LUXE",{"$f":"IFERROR(VLOOKUP(G958,Discounts!C:E,3,0),0)","v":0},0]
["Auto",27320,2360,1,"Normal",{"v":1592.56,"d":"€1,592.56"},"A010",{"$f":"IFERROR(VLOOKUP(G959,Discounts!C:E,3,0),0)","v":0},{"v":1592.56,"d":"€1,592.56"}]
["Auto",27320,34260,1,"Normal",{"v":249.59,"d":"€249.59"},"LUXE",{"$f":"IFERROR(VLOOKUP(G960,Discounts!C:E,3,0),0)","v":0},{"v":249.59,"d":"€249.59"}]
["Auto",27330,122140,1,"Combination",{"v":1842.15,"d":"€1,842.15"},"A010",{"$f":"IFERROR(VLOOKUP(G961,Discounts!C:E,3,0),0)","v":0},{"v":1842.1499999999999,"d":"€1,842.15"}]
["Auto",27330,134070,1,"Normal",0,"LUXE",{"$f":"IFERROR(VLOOKUP(G962,Discounts!C:E,3,0),0)","v":0},0]
["Auto",27340,2380,1,"Normal",0,"A010",{"$f":"IFERROR(VLOOKUP(G963,Discounts!C:E,3,0),0)","v":0},{"$f":"IF(E963=\"Normal\",F963*(1-H963),SUMIF(B:B,C963,I:I)*D963)","v":0}]
["Auto",27340,34260,1,"Normal",{"v":249.59,"d":"€249.59"},"LUXE",{"$f":"IFERROR(VLOOKUP(G964,Discounts!C:E,3,0),0)","v":0},{"v":249.59,"d":"€249.59"}]
["Auto",27350,122150,1,"Combination",{"v":249.59,"d":"€249.59"},"A010",{"$f":"IFERROR(VLOOKUP(G965,Discounts!C:E,3,0),0)","v":0},{"v":249.59,"d":"€249.59"}]
["Auto",27350,134070,1,"Normal",0,"LUXE",{"$f":"IFERROR(VLOOKUP(G966,Discounts!C:E,3,0),0)","v":0},0]
["Auto",27360,2400,1,"Normal",0,"A010",{"$f":"IFERROR(VLOOKUP(G967,Discounts!C:E,3,0),0)","v":0},0]
["Auto",27360,34260,1,"Normal",{"v":249.59,"d":"€249.59"},"LUXE",{"$f":"IFERROR(VLOOKUP(G968,Discounts!C:E,3,0),0)","v":0},{"v":249.59,"d":"€249.59"}]
["Auto",27370,122160,1,"Combination",{"v":249.59,"d":"€249.59"},"A010",{"$f":"IFERROR(VLOOKUP(G969,Discounts!C:E,3,0),0)","v":0},{"v":249.59,"d":"€249.59"}]
["Auto",27370,134070,1,"Normal",0,"LUXE",{"$f":"IFERROR(VLOOKUP(G970,Discounts!C:E,3,0),0)","v":0},0]
["Auto",27380,2420,1,"Normal",{"v":2185.12,"d":"€2,185.12"},"A010",{"$f":"IFERROR(VLOOKUP(G971,Discounts!C:E,3,0),0)","v":0},{"v":2185.12,"d":"€2,185.12"}]
["Auto",27380,34260,1,"Normal",{"v":249.59,"d":"€249.59"},"LUXE",{"$f":"IFERROR(VLOOKUP(G972,Discounts!C:E,3,0),0)","v":0},{"v":249.59,"d":"€249.59"}]
["Auto",27390,122170,1,"Combination",{"v":2434.71,"d":"€2,434.71"},"A010",{"$f":"IFERROR(VLOOKUP(G973,Discounts!C:E,3,0),0)","v":0},{"v":2434.71,"d":"€2,434.71"}]
["Auto",27390,134070,1,"Normal",0,"LUXE",{"$f":"IFERROR(VLOOKUP(G974,Discounts!C:E,3,0),0)","v":0},0]
["Auto",27400,2440,1,"Normal",0,"A010",{"$f":"IFERROR(VLOOKUP(G975,Discounts!C:E,3,0),0)","v":0},0]
["Auto",27400,34260,1,"Normal",{"v":249.59,"d":"€249.59"},"LUXE",{"$f":"IFERROR(VLOOKUP(G976,Discounts!C:E,3,0),0)","v":0},{"v":249.59,"d":"€249.59"}]
["Auto",27410,122180,1,"Combination",{"v":249.59,"d":"€249.59"},"A010",{"$f":"IFERROR(VLOOKUP(G977,Discounts!C:E,3,0),0)","v":0},{"v":249.59,"d":"€249.59"}]
["Auto",27410,134070,1,"Normal",0,"LUXE",{"$f":"IFERROR(VLOOKUP(G978,Discounts!C:E,3,0),0)","v":0},0]
["Auto",27420,2460,1,"Normal",0,"A010",{"$f":"IFERROR(VLOOKUP(G979,Discounts!C:E,3,0),0)","v":0},0]
["Auto",27420,34260,1,"Normal",{"v":249.59,"d":"€249.59"},"LUXE",{"$f":"IFERROR(VLOOKUP(G980,Discounts!C:E,3,0),0)","v":0},{"v":249.59,"d":"€249.59"}]
["Auto",27430,122190,1,"Combination",{"v":249.59,"d":"€249.59"},"A010",{"$f":"IFERROR(VLOOKUP(G981,Discounts!C:E,3,0),0)","v":0},{"v":249.59,"d":"€249.59"}]
["Auto",27430,134070,1,"Normal",0,"LUXE",{"$f":"IFERROR(VLOOKUP(G982,Discounts!C:E,3,0),0)","v":0},0]
["Auto",27440,2480,1,"Normal",{"v":2406.61,"d":"€2,406.61"},"A010",{"$f":"IFERROR(VLOOKUP(G983,Discounts!C:E,3,0),0)","v":0},{"v":2406.61,"d":"€2,406.61"}]
["Auto",27440,34260,1,"Normal",{"v":249.59,"d":"€249.59"},"LUXE",{"$f":"IFERROR(VLOOKUP(G984,Discounts!C:E,3,0),0)","v":0},{"v":249.59,"d":"€249.59"}]
["Auto",27450,122200,1,"Combination",{"v":2656.2,"d":"€2,656.20"},"A010",{"$f":"IFERROR(VLOOKUP(G985,Discounts!C:E,3,0),0)","v":0},{"v":2656.2000000000003,"d":"€2,656.20"}]
["Auto",27450,134070,1,"Normal",0,"LUXE",{"$f":"IFERROR(VLOOKUP(G986,Discounts!C:E,3,0),0)","v":0},0]
["Auto",27460,2500,1,"Normal",{"v":2555.37,"d":"€2,555.37"},"A010",{"$f":"IFERROR(VLOOKUP(G987,Discounts!C:E,3,0),0)","v":0},{"v":2555.37,"d":"€2,555.37"}]
["Auto",27460,34260,1,"Normal",{"v":249.59,"d":"€249.59"},"LUXE",{"$f":"IFERROR(VLOOKUP(G988,Discounts!C:E,3,0),0)","v":0},{"v":249.59,"d":"€249.59"}]
["Auto",27470,122210,1,"Combination",{"v":2804.96,"d":"€2,804.96"},"A010",{"$f":"IFERROR(VLOOKUP(G989,Discounts!C:E,3,0),0)","v":0},{"v":2804.96,"d":"€2,804.96"}]
["Auto",27470,134070,1,"Normal",0,"LUXE",{"$f":"IFERROR(VLOOKUP(G990,Discounts!C:E,3,0),0)","v":0},0]
["Auto",27480,2520,1,"Normal",{"v":1253.72,"d":"€1,253.72"},"A010",{"$f":"IFERROR(VLOOKUP(G991,Discounts!C:E,3,0),0)","v":0},{"v":1253.72,"d":"€1,253.72"}]
["Auto",27480,34260,1,"Normal",{"v":249.59,"d":"€249.59"},"LUXE",{"$f":"IFERROR(VLOOKUP(G992,Discounts!C:E,3,0),0)","v":0},{"v":249.59,"d":"€249.59"}]
["Auto",27490,122220,1,"Combination",{"v":1503.31,"d":"€1,503.31"},"A010",{"$f":"IFERROR(VLOOKUP(G993,Discounts!C:E,3,0),0)","v":0},{"v":1503.31,"d":"€1,503.31"}]
["Auto",27490,134070,1,"Normal",0,"LUXE",{"$f":"IFERROR(VLOOKUP(G994,Discounts!C:E,3,0),0)","v":0},0]
["Auto",27500,2540,1,"Normal",0,"A010",{"$f":"IFERROR(VLOOKUP(G995,Discounts!C:E,3,0),0)","v":0},0]
["Auto",27500,34260,1,"Normal",{"v":249.59,"d":"€249.59"},"LUXE",{"$f":"IFERROR(VLOOKUP(G996,Discounts!C:E,3,0),0)","v":0},{"v":249.59,"d":"€249.59"}]
["Auto",27510,122230,1,"Combination",{"v":249.59,"d":"€249.59"},"A010",{"$f":"IFERROR(VLOOKUP(G997,Discounts!C:E,3,0),0)","v":0},{"v":249.59,"d":"€249.59"}]
["Auto",27510,134070,1,"Normal",0,"LUXE",{"$f":"IFERROR(VLOOKUP(G998,Discounts!C:E,3,0),0)","v":0},0]
["Auto",27520,2560,1,"Normal",0,"A010",{"$f":"IFERROR(VLOOKUP(G999,Discounts!C:E,3,0),0)","v":0},0]
["Auto",27520,34260,1,"Normal",{"v":249.59,"d":"€249.59"},"LUXE",{"$f":"IFERROR(VLOOKUP(G1000,Discounts!C:E,3,0),0)","v":0},{"v":249.59,"d":"€249.59"}]
["Auto",27530,122240,1,"Combination",{"v":249.59,"d":"€249.59"},"A010",{"$f":"IFERROR(VLOOKUP(G1001,Discounts!C:E,3,0),0)","v":0},{"v":249.59,"d":"€249.59"}]
["Auto",27530,134070,1,"Normal",0,"LUXE",{"$f":"IFERROR(VLOOKUP(G1002,Discounts!C:E,3,0),0)","v":0},0]
["Auto",27540,2580,1,"Normal",0,"A010",{"$f":"IFERROR(VLOOKUP(G1003,Discounts!C:E,3,0),0)","v":0},0]
["Auto",27540,34260,1,"Normal",{"v":249.59,"d":"€249.59"},"LUXE",{"$f":"IFERROR(VLOOKUP(G1004,Discounts!C:E,3,0),0)","v":0},{"v":249.59,"d":"€249.59"}]
["Auto",27550,122250,1,"Combination",{"v":249.59,"d":"€249.59"},"A010",{"$f":"IFERROR(VLOOKUP(G1005,Discounts!C:E,3,0),0)","v":0},{"v":249.59,"d":"€249.59"}]
["Auto",27550,134070,1,"Normal",0,"LUXE",{"$f":"IFERROR(VLOOKUP(G1006,Discounts!C:E,3,0),0)","v":0},0]
["Auto",27560,2600,1,"Normal",{"v":2124.79,"d":"€2,124.79"},"A010",{"$f":"IFERROR(VLOOKUP(G1007,Discounts!C:E,3,0),0)","v":0},{"v":2124.79,"d":"€2,124.79"}]
["Auto",27560,34260,1,"Normal",{"v":249.59,"d":"€249.59"},"LUXE",{"$f":"IFERROR(VLOOKUP(G1008,Discounts!C:E,3,0),0)","v":0},{"v":249.59,"d":"€249.59"}]
["Auto",27570,122260,1,"Combination",{"v":2374.38,"d":"€2,374.38"},"A010",{"$f":"IFERROR(VLOOKUP(G1009,Discounts!C:E,3,0),0)","v":0},{"v":2374.38,"d":"€2,374.38"}]
["Auto",27570,134070,1,"Normal",0,"LUXE",{"$f":"IFERROR(VLOOKUP(G1010,Discounts!C:E,3,0),0)","v":0},0]
["Auto",27580,2620,1,"Normal",{"v":1790.08,"d":"€1,790.08"},"A010",{"$f":"IFERROR(VLOOKUP(G1011,Discounts!C:E,3,0),0)","v":0},{"v":1790.08,"d":"€1,790.08"}]
["Auto",27580,34260,1,"Normal",{"v":249.59,"d":"€249.59"},"LUXE",{"$f":"IFERROR(VLOOKUP(G1012,Discounts!C:E,3,0),0)","v":0},{"v":249.59,"d":"€249.59"}]
["Auto",27590,122270,1,"Combination",{"v":2039.67,"d":"€2,039.67"},"A010",{"$f":"IFERROR(VLOOKUP(G1013,Discounts!C:E,3,0),0)","v":0},{"v":2039.6699999999998,"d":"€2,039.67"}]
["Auto",27590,134070,1,"Normal",0,"LUXE",{"$f":"IFERROR(VLOOKUP(G1014,Discounts!C:E,3,0),0)","v":0},0]
["Auto",27600,2640,1,"Normal",0,"A010",{"$f":"IFERROR(VLOOKUP(G1015,Discounts!C:E,3,0),0)","v":0},0]
["Auto",27600,34260,1,"Normal",{"v":249.59,"d":"€249.59"},"LUXE",{"$f":"IFERROR(VLOOKUP(G1016,Discounts!C:E,3,0),0)","v":0},{"v":249.59,"d":"€249.59"}]
["Auto",27610,122280,1,"Combination",{"v":249.59,"d":"€249.59"},"A010",{"$f":"IFERROR(VLOOKUP(G1017,Discounts!C:E,3,0),0)","v":0},{"v":249.59,"d":"€249.59"}]
["Auto",27610,134070,1,"Normal",0,"LUXE",{"$f":"IFERROR(VLOOKUP(G1018,Discounts!C:E,3,0),0)","v":0},0]
["Auto",27620,2660,1,"Normal",{"v":1580.99,"d":"€1,580.99"},"A010",{"$f":"IFERROR(VLOOKUP(G1019,Discounts!C:E,3,0),0)","v":0},{"v":1580.99,"d":"€1,580.99"}]
["Auto",27620,34260,1,"Normal",{"v":249.59,"d":"€249.59"},"LUXE",{"$f":"IFERROR(VLOOKUP(G1020,Discounts!C:E,3,0),0)","v":0},{"v":249.59,"d":"€249.59"}]
["Auto",27630,122290,1,"Combination",{"v":1830.58,"d":"€1,830.58"},"A010",{"$f":"IFERROR(VLOOKUP(G1021,Discounts!C:E,3,0),0)","v":0},{"v":1830.58,"d":"€1,830.58"}]
["Auto",27630,134070,1,"Normal",0,"LUXE",{"$f":"IFERROR(VLOOKUP(G1022,Discounts!C:E,3,0),0)","v":0},0]
["Auto",27640,2680,1,"Normal",{"v":1326.45,"d":"€1,326.45"},"A010",{"$f":"IFERROR(VLOOKUP(G1023,Discounts!C:E,3,0),0)","v":0},{"v":1326.45,"d":"€1,326.45"}]
["Auto",27640,34260,1,"Normal",{"v":249.59,"d":"€249.59"},"LUXE",{"$f":"IFERROR(VLOOKUP(G1024,Discounts!C:E,3,0),0)","v":0},{"v":249.59,"d":"€249.59"}]
["Auto",27650,122300,1,"Combination",{"v":1576.04,"d":"€1,576.04"},"A010",{"$f":"IFERROR(VLOOKUP(G1025,Discounts!C:E,3,0),0)","v":0},{"v":1576.04,"d":"€1,576.04"}]
["Auto",27650,134070,1,"Normal",0,"LUXE",{"$f":"IFERROR(VLOOKUP(G1026,Discounts!C:E,3,0),0)","v":0},0]
["Auto",27660,2700,1,"Normal",{"v":1546.28,"d":"€1,546.28"},"A010",{"$f":"IFERROR(VLOOKUP(G1027,Discounts!C:E,3,0),0)","v":0},{"$f":"IF(E1027=\"Normal\",F1027*(1-H1027),SUMIF(B:B,C1027,I:I)*D1027)","v":{"v":1546.28,"d":"€1,546.28"}}]
["Auto",27660,34260,1,"Normal",{"v":249.59,"d":"€249.59"},"LUXE",{"$f":"IFERROR(VLOOKUP(G1028,Discounts!C:E,3,0),0)","v":0},{"v":249.59,"d":"€249.59"}]
["Auto",27670,122310,1,"Combination",{"v":1795.87,"d":"€1,795.87"},"A010",{"$f":"IFERROR(VLOOKUP(G1029,Discounts!C:E,3,0),0)","v":0},{"v":1795.87,"d":"€1,795.87"}]
["Auto",27670,134070,1,"Normal",0,"LUXE",{"$f":"IFERROR(VLOOKUP(G1030,Discounts!C:E,3,0),0)","v":0},0]
["Auto",27680,2720,1,"Normal",{"v":1519.01,"d":"€1,519.01"},"A010",{"$f":"IFERROR(VLOOKUP(G1031,Discounts!C:E,3,0),0)","v":0},{"v":1519.01,"d":"€1,519.01"}]
["Auto",27680,34260,1,"Normal",{"v":249.59,"d":"€249.59"},"LUXE",{"$f":"IFERROR(VLOOKUP(G1032,Discounts!C:E,3,0),0)","v":0},{"v":249.59,"d":"€249.59"}]
["Auto",27690,122320,1,"Combination",{"v":1768.6,"d":"€1,768.60"},"A010",{"$f":"IFERROR(VLOOKUP(G1033,Discounts!C:E,3,0),0)","v":0},{"v":1768.6,"d":"€1,768.60"}]
["Auto",27690,134070,1,"Normal",0,"LUXE",{"$f":"IFERROR(VLOOKUP(G1034,Discounts!C:E,3,0),0)","v":0},0]
["Auto",27700,2740,1,"Normal",{"v":1652.89,"d":"€1,652.89"},"A010",{"$f":"IFERROR(VLOOKUP(G1035,Discounts!C:E,3,0),0)","v":0},{"v":1652.89,"d":"€1,652.89"}]
["Auto",27700,34260,1,"Normal",{"v":249.59,"d":"€249.59"},"LUXE",{"$f":"IFERROR(VLOOKUP(G1036,Discounts!C:E,3,0),0)","v":0},{"v":249.59,"d":"€249.59"}]
["Auto",27710,122330,1,"Combination",{"v":1902.48,"d":"€1,902.48"},"A010",{"$f":"IFERROR(VLOOKUP(G1037,Discounts!C:E,3,0),0)","v":0},{"v":1902.48,"d":"€1,902.48"}]
["Auto",27710,134070,1,"Normal",0,"LUXE",{"$f":"IFERROR(VLOOKUP(G1038,Discounts!C:E,3,0),0)","v":0},0]
["Auto",27720,2760,1,"Normal",{"v":1580.17,"d":"€1,580.17"},"A010",{"$f":"IFERROR(VLOOKUP(G1039,Discounts!C:E,3,0),0)","v":0},{"v":1580.17,"d":"€1,580.17"}]
["Auto",27720,34260,1,"Normal",{"v":249.59,"d":"€249.59"},"LUXE",{"$f":"IFERROR(VLOOKUP(G1040,Discounts!C:E,3,0),0)","v":0},{"v":249.59,"d":"€249.59"}]
["Auto",27730,122340,1,"Combination",{"v":249.59,"d":"€249.59"},"A010",{"$f":"IFERROR(VLOOKUP(G1041,Discounts!C:E,3,0),0)","v":0},{"v":249.59,"d":"€249.59"}]
["Auto",27730,134070,1,"Normal",0,"LUXE",{"$f":"IFERROR(VLOOKUP(G1042,Discounts!C:E,3,0),0)","v":0},0]
["Auto",27740,2780,1,"Normal",{"v":1652.89,"d":"€1,652.89"},"A010",{"$f":"IFERROR(VLOOKUP(G1043,Discounts!C:E,3,0),0)","v":0},{"v":1652.89,"d":"€1,652.89"}]
["Auto",27740,34260,1,"Normal",{"v":249.59,"d":"€249.59"},"LUXE",{"$f":"IFERROR(VLOOKUP(G1044,Discounts!C:E,3,0),0)","v":0},{"v":249.59,"d":"€249.59"}]
["Auto",27750,122350,1,"Combination",{"v":1902.48,"d":"€1,902.48"},"A010",{"$f":"IFERROR(VLOOKUP(G1045,Discounts!C:E,3,0),0)","v":0},{"v":1902.48,"d":"€1,902.48"}]
["Auto",27750,134070,1,"Normal",0,"LUXE",{"$f":"IFERROR(VLOOKUP(G1046,Discounts!C:E,3,0),0)","v":0},0]
["Auto",27760,2800,1,"Normal",0,"A010",{"$f":"IFERROR(VLOOKUP(G1047,Discounts!C:E,3,0),0)","v":0},0]
["Auto",27760,34260,1,"Normal",{"v":249.59,"d":"€249.59"},"LUXE",{"$f":"IFERROR(VLOOKUP(G1048,Discounts!C:E,3,0),0)","v":0},{"v":249.59,"d":"€249.59"}]
["Auto",27770,122360,1,"Combination",{"v":249.59,"d":"€249.59"},"A010",{"$f":"IFERROR(VLOOKUP(G1049,Discounts!C:E,3,0),0)","v":0},{"v":249.59,"d":"€249.59"}]
["Auto",27770,134070,1,"Normal",0,"LUXE",{"$f":"IFERROR(VLOOKUP(G1050,Discounts!C:E,3,0),0)","v":0},0]
["Auto",27780,2820,1,"Normal",{"v":1667.77,"d":"€1,667.77"},"A010",{"$f":"IFERROR(VLOOKUP(G1051,Discounts!C:E,3,0),0)","v":0},{"v":1667.77,"d":"€1,667.77"}]
["Auto",27780,34260,1,"Normal",{"v":249.59,"d":"€249.59"},"LUXE",{"$f":"IFERROR(VLOOKUP(G1052,Discounts!C:E,3,0),0)","v":0},{"v":249.59,"d":"€249.59"}]
["Auto",27790,122370,1,"Combination",{"v":1917.36,"d":"€1,917.36"},"A010",{"$f":"IFERROR(VLOOKUP(G1053,Discounts!C:E,3,0),0)","v":0},{"v":1917.36,"d":"€1,917.36"}]
["Auto",27790,134070,1,"Normal",0,"LUXE",{"$f":"IFERROR(VLOOKUP(G1054,Discounts!C:E,3,0),0)","v":0},0]
["Auto",27800,2840,1,"Normal",0,"A010",{"$f":"IFERROR(VLOOKUP(G1055,Discounts!C:E,3,0),0)","v":0},0]
["Auto",27800,34260,1,"Normal",{"v":249.59,"d":"€249.59"},"LUXE",{"$f":"IFERROR(VLOOKUP(G1056,Discounts!C:E,3,0),0)","v":0},{"v":249.59,"d":"€249.59"}]
["Auto",27810,122380,1,"Combination",{"v":249.59,"d":"€249.59"},"A010",{"$f":"IFERROR(VLOOKUP(G1057,Discounts!C:E,3,0),0)","v":0},{"v":249.59,"d":"€249.59"}]
["Auto",27810,134070,1,"Normal",0,"LUXE",{"$f":"IFERROR(VLOOKUP(G1058,Discounts!C:E,3,0),0)","v":0},0]
["Auto",27820,2860,1,"Normal",0,"A010",{"$f":"IFERROR(VLOOKUP(G1059,Discounts!C:E,3,0),0)","v":0},0]
["Auto",27820,34260,1,"Normal",{"v":249.59,"d":"€249.59"},"LUXE",{"$f":"IFERROR(VLOOKUP(G1060,Discounts!C:E,3,0),0)","v":0},{"v":249.59,"d":"€249.59"}]
["Auto",27830,122390,1,"Combination",{"v":249.59,"d":"€249.59"},"A010",{"$f":"IFERROR(VLOOKUP(G1061,Discounts!C:E,3,0),0)","v":0},{"v":249.59,"d":"€249.59"}]
["Auto",27830,134070,1,"Normal",0,"LUXE",{"$f":"IFERROR(VLOOKUP(G1062,Discounts!C:E,3,0),0)","v":0},0]
["Auto",27840,2880,1,"Normal",0,"A010",{"$f":"IFERROR(VLOOKUP(G1063,Discounts!C:E,3,0),0)","v":0},0]
["Auto",27840,34260,1,"Normal",{"v":249.59,"d":"€249.59"},"LUXE",{"$f":"IFERROR(VLOOKUP(G1064,Discounts!C:E,3,0),0)","v":0},{"v":249.59,"d":"€249.59"}]
["Auto",27850,122400,1,"Combination",{"v":249.59,"d":"€249.59"},"A010",{"$f":"IFERROR(VLOOKUP(G1065,Discounts!C:E,3,0),0)","v":0},{"v":249.59,"d":"€249.59"}]
["Auto",27850,134070,1,"Normal",0,"LUXE",{"$f":"IFERROR(VLOOKUP(G1066,Discounts!C:E,3,0),0)","v":0},0]
["Auto",27860,2900,1,"Normal",{"v":1667.77,"d":"€1,667.77"},"A010",{"$f":"IFERROR(VLOOKUP(G1067,Discounts!C:E,3,0),0)","v":0},{"v":1667.77,"d":"€1,667.77"}]
["Auto",27860,34260,1,"Normal",{"v":249.59,"d":"€249.59"},"LUXE",{"$f":"IFERROR(VLOOKUP(G1068,Discounts!C:E,3,0),0)","v":0},{"v":249.59,"d":"€249.59"}]
["Auto",27870,122410,1,"Combination",{"v":1917.36,"d":"€1,917.36"},"A010",{"$f":"IFERROR(VLOOKUP(G1069,Discounts!C:E,3,0),0)","v":0},{"v":1917.36,"d":"€1,917.36"}]
["Auto",27870,134070,1,"Normal",0,"LUXE",{"$f":"IFERROR(VLOOKUP(G1070,Discounts!C:E,3,0),0)","v":0},0]
["Auto",27880,2920,1,"Normal",0,"A010",{"$f":"IFERROR(VLOOKUP(G1071,Discounts!C:E,3,0),0)","v":0},0]
["Auto",27880,34260,1,"Normal",{"v":249.59,"d":"€249.59"},"LUXE",{"$f":"IFERROR(VLOOKUP(G1072,Discounts!C:E,3,0),0)","v":0},{"v":249.59,"d":"€249.59"}]
["Auto",27890,122420,1,"Combination",{"v":249.59,"d":"€249.59"},"A010",{"$f":"IFERROR(VLOOKUP(G1073,Discounts!C:E,3,0),0)","v":0},{"v":249.59,"d":"€249.59"}]
["Auto",27890,134070,1,"Normal",0,"LUXE",{"$f":"IFERROR(VLOOKUP(G1074,Discounts!C:E,3,0),0)","v":0},0]
["Auto",27900,2940,1,"Normal",{"v":1800,"d":"€1,800.00"},"A010",{"$f":"IFERROR(VLOOKUP(G1075,Discounts!C:E,3,0),0)","v":0},{"v":1800,"d":"€1,800.00"}]
["Auto",27900,34260,1,"Normal",{"v":249.59,"d":"€249.59"},"LUXE",{"$f":"IFERROR(VLOOKUP(G1076,Discounts!C:E,3,0),0)","v":0},{"v":249.59,"d":"€249.59"}]
["Auto",27910,122430,1,"Combination",{"v":2049.59,"d":"€2,049.59"},"A010",{"$f":"IFERROR(VLOOKUP(G1077,Discounts!C:E,3,0),0)","v":0},{"v":2049.59,"d":"€2,049.59"}]
["Auto",27910,134070,1,"Normal",0,"LUXE",{"$f":"IFERROR(VLOOKUP(G1078,Discounts!C:E,3,0),0)","v":0},0]
["Auto",27920,2960,1,"Normal",0,"A010",{"$f":"IFERROR(VLOOKUP(G1079,Discounts!C:E,3,0),0)","v":0},0]
["Auto",27920,34260,1,"Normal",{"v":249.59,"d":"€249.59"},"LUXE",{"$f":"IFERROR(VLOOKUP(G1080,Discounts!C:E,3,0),0)","v":0},{"v":249.59,"d":"€249.59"}]
["Auto",27930,122440,1,"Combination",{"v":249.59,"d":"€249.59"},"A010",{"$f":"IFERROR(VLOOKUP(G1081,Discounts!C:E,3,0),0)","v":0},{"v":249.59,"d":"€249.59"}]
["Auto",27930,134070,1,"Normal",0,"LUXE",{"$f":"IFERROR(VLOOKUP(G1082,Discounts!C:E,3,0),0)","v":0},0]
["Auto",27940,2980,1,"Normal",0,"A010",{"$f":"IFERROR(VLOOKUP(G1083,Discounts!C:E,3,0),0)","v":0},0]
["Auto",27940,34260,1,"Normal",{"v":249.59,"d":"€249.59"},"LUXE",{"$f":"IFERROR(VLOOKUP(G1084,Discounts!C:E,3,0),0)","v":0},{"v":249.59,"d":"€249.59"}]
["Auto",27950,122450,1,"Combination",{"v":249.59,"d":"€249.59"},"A010",{"$f":"IFERROR(VLOOKUP(G1085,Discounts!C:E,3,0),0)","v":0},{"v":249.59,"d":"€249.59"}]
["Auto",27950,134070,1,"Normal",0,"LUXE",{"$f":"IFERROR(VLOOKUP(G1086,Discounts!C:E,3,0),0)","v":0},0]
["Auto",27960,3000,1,"Normal",{"v":1730.58,"d":"€1,730.58"},"A010",{"$f":"IFERROR(VLOOKUP(G1087,Discounts!C:E,3,0),0)","v":0},{"v":1730.58,"d":"€1,730.58"}]
["Auto",27960,34260,1,"Normal",{"v":249.59,"d":"€249.59"},"LUXE",{"$f":"IFERROR(VLOOKUP(G1088,Discounts!C:E,3,0),0)","v":0},{"v":249.59,"d":"€249.59"}]
["Auto",27970,122460,1,"Combination",{"v":1980.17,"d":"€1,980.17"},"A010",{"$f":"IFERROR(VLOOKUP(G1089,Discounts!C:E,3,0),0)","v":0},{"v":1980.1699999999998,"d":"€1,980.17"}]
["Auto",27970,134070,1,"Normal",0,"LUXE",{"$f":"IFERROR(VLOOKUP(G1090,Discounts!C:E,3,0),0)","v":0},0]
["Auto",27980,3020,1,"Normal",0,"A010",{"$f":"IFERROR(VLOOKUP(G1091,Discounts!C:E,3,0),0)","v":0},{"$f":"IF(E1091=\"Normal\",F1091*(1-H1091),SUMIF(B:B,C1091,I:I)*D1091)","v":0}]
["Auto",27980,34260,1,"Normal",{"v":249.59,"d":"€249.59"},"LUXE",{"$f":"IFERROR(VLOOKUP(G1092,Discounts!C:E,3,0),0)","v":0},{"v":249.59,"d":"€249.59"}]
["Auto",27990,122470,1,"Combination",{"v":249.59,"d":"€249.59"},"A010",{"$f":"IFERROR(VLOOKUP(G1093,Discounts!C:E,3,0),0)","v":0},{"v":249.59,"d":"€249.59"}]
["Auto",27990,134070,1,"Normal",0,"LUXE",{"$f":"IFERROR(VLOOKUP(G1094,Discounts!C:E,3,0),0)","v":0},0]
["Auto",28000,3040,1,"Normal",0,"A010",{"$f":"IFERROR(VLOOKUP(G1095,Discounts!C:E,3,0),0)","v":0},0]
["Auto",28000,34260,1,"Normal",{"v":249.59,"d":"€249.59"},"LUXE",{"$f":"IFERROR(VLOOKUP(G1096,Discounts!C:E,3,0),0)","v":0},{"v":249.59,"d":"€249.59"}]
["Auto",28010,122480,1,"Combination",{"v":249.59,"d":"€249.59"},"A010",{"$f":"IFERROR(VLOOKUP(G1097,Discounts!C:E,3,0),0)","v":0},{"v":249.59,"d":"€249.59"}]
["Auto",28010,134070,1,"Normal",0,"LUXE",{"$f":"IFERROR(VLOOKUP(G1098,Discounts!C:E,3,0),0)","v":0},0]
["Auto",28020,3060,1,"Normal",0,"A010",{"$f":"IFERROR(VLOOKUP(G1099,Discounts!C:E,3,0),0)","v":0},0]
["Auto",28020,34260,1,"Normal",{"v":249.59,"d":"€249.59"},"LUXE",{"$f":"IFERROR(VLOOKUP(G1100,Discounts!C:E,3,0),0)","v":0},{"v":249.59,"d":"€249.59"}]
["Auto",28030,122490,1,"Combination",{"v":249.59,"d":"€249.59"},"A010",{"$f":"IFERROR(VLOOKUP(G1101,Discounts!C:E,3,0),0)","v":0},{"v":249.59,"d":"€249.59"}]
["Auto",28030,134070,1,"Normal",0,"LUXE",{"$f":"IFERROR(VLOOKUP(G1102,Discounts!C:E,3,0),0)","v":0},0]
["Auto",28040,3080,1,"Normal",0,"A010",{"$f":"IFERROR(VLOOKUP(G1103,Discounts!C:E,3,0),0)","v":0},0]
["Auto",28040,34260,1,"Normal",{"v":249.59,"d":"€249.59"},"LUXE",{"$f":"IFERROR(VLOOKUP(G1104,Discounts!C:E,3,0),0)","v":0},{"v":249.59,"d":"€249.59"}]
["Auto",28050,122500,1,"Combination",{"v":249.59,"d":"€249.59"},"A010",{"$f":"IFERROR(VLOOKUP(G1105,Discounts!C:E,3,0),0)","v":0},{"v":249.59,"d":"€249.59"}]
["Auto",28050,134070,1,"Normal",0,"LUXE",{"$f":"IFERROR(VLOOKUP(G1106,Discounts!C:E,3,0),0)","v":0},0]
["Auto",28060,3100,1,"Normal",0,"A010",{"$f":"IFERROR(VLOOKUP(G1107,Discounts!C:E,3,0),0)","v":0},0]
["Auto",28060,34260,1,"Normal",{"v":249.59,"d":"€249.59"},"LUXE",{"$f":"IFERROR(VLOOKUP(G1108,Discounts!C:E,3,0),0)","v":0},{"v":249.59,"d":"€249.59"}]
["Auto",28070,122510,1,"Combination",{"v":249.59,"d":"€249.59"},"A010",{"$f":"IFERROR(VLOOKUP(G1109,Discounts!C:E,3,0),0)","v":0},{"v":249.59,"d":"€249.59"}]
["Auto",28070,134070,1,"Normal",0,"LUXE",{"$f":"IFERROR(VLOOKUP(G1110,Discounts!C:E,3,0),0)","v":0},0]
["Auto",28080,3120,1,"Normal",{"v":2051.24,"d":"€2,051.24"},"A010",{"$f":"IFERROR(VLOOKUP(G1111,Discounts!C:E,3,0),0)","v":0},{"v":2051.24,"d":"€2,051.24"}]
["Auto",28080,34260,1,"Normal",{"v":249.59,"d":"€249.59"},"LUXE",{"$f":"IFERROR(VLOOKUP(G1112,Discounts!C:E,3,0),0)","v":0},{"v":249.59,"d":"€249.59"}]
["Auto",28090,122520,1,"Combination",{"v":2300.83,"d":"€2,300.83"},"A010",{"$f":"IFERROR(VLOOKUP(G1113,Discounts!C:E,3,0),0)","v":0},{"v":2300.83,"d":"€2,300.83"}]
["Auto",28090,134070,1,"Normal",0,"LUXE",{"$f":"IFERROR(VLOOKUP(G1114,Discounts!C:E,3,0),0)","v":0},0]
["Auto",28100,3140,1,"Normal",0,"A010",{"$f":"IFERROR(VLOOKUP(G1115,Discounts!C:E,3,0),0)","v":0},0]
["Auto",28100,34260,1,"Normal",{"v":249.59,"d":"€249.59"},"LUXE",{"$f":"IFERROR(VLOOKUP(G1116,Discounts!C:E,3,0),0)","v":0},{"v":249.59,"d":"€249.59"}]
["Auto",28110,122530,1,"Combination",{"v":249.59,"d":"€249.59"},"A010",{"$f":"IFERROR(VLOOKUP(G1117,Discounts!C:E,3,0),0)","v":0},{"v":249.59,"d":"€249.59"}]
["Auto",28110,134070,1,"Normal",0,"LUXE",{"$f":"IFERROR(VLOOKUP(G1118,Discounts!C:E,3,0),0)","v":0},0]
["Auto",28120,3160,1,"Normal",0,"A010",{"$f":"IFERROR(VLOOKUP(G1119,Discounts!C:E,3,0),0)","v":0},0]
["Auto",28120,34260,1,"Normal",{"v":249.59,"d":"€249.59"},"LUXE",{"$f":"IFERROR(VLOOKUP(G1120,Discounts!C:E,3,0),0)","v":0},{"v":249.59,"d":"€249.59"}]
["Auto",28130,122540,1,"Combination",{"v":249.59,"d":"€249.59"},"A010",{"$f":"IFERROR(VLOOKUP(G1121,Discounts!C:E,3,0),0)","v":0},{"v":249.59,"d":"€249.59"}]
["Auto",28130,134070,1,"Normal",0,"LUXE",{"$f":"IFERROR(VLOOKUP(G1122,Discounts!C:E,3,0),0)","v":0},0]
["Auto",28140,3180,1,"Normal",{"v":1682.64,"d":"€1,682.64"},"A010",{"$f":"IFERROR(VLOOKUP(G1123,Discounts!C:E,3,0),0)","v":0},{"v":1682.64,"d":"€1,682.64"}]
["Auto",28140,34260,1,"Normal",{"v":249.59,"d":"€249.59"},"LUXE",{"$f":"IFERROR(VLOOKUP(G1124,Discounts!C:E,3,0),0)","v":0},{"v":249.59,"d":"€249.59"}]
["Auto",28150,122550,1,"Combination",{"v":1932.23,"d":"€1,932.23"},"A010",{"$f":"IFERROR(VLOOKUP(G1125,Discounts!C:E,3,0),0)","v":0},{"v":1932.23,"d":"€1,932.23"}]
["Auto",28150,134070,1,"Normal",0,"LUXE",{"$f":"IFERROR(VLOOKUP(G1126,Discounts!C:E,3,0),0)","v":0},0]
["Auto",28160,3200,1,"Normal",{"v":2247.11,"d":"€2,247.11"},"A010",{"$f":"IFERROR(VLOOKUP(G1127,Discounts!C:E,3,0),0)","v":0},{"v":2247.11,"d":"€2,247.11"}]
["Auto",28160,34260,1,"Normal",{"v":249.59,"d":"€249.59"},"LUXE",{"$f":"IFERROR(VLOOKUP(G1128,Discounts!C:E,3,0),0)","v":0},{"v":249.59,"d":"€249.59"}]
["Auto",28170,122560,1,"Combination",{"v":2496.7,"d":"€2,496.70"},"A010",{"$f":"IFERROR(VLOOKUP(G1129,Discounts!C:E,3,0),0)","v":0},{"v":2496.7000000000003,"d":"€2,496.70"}]
["Auto",28170,134070,1,"Normal",0,"LUXE",{"$f":"IFERROR(VLOOKUP(G1130,Discounts!C:E,3,0),0)","v":0},0]
["Auto",28180,3220,1,"Normal",0,"A010",{"$f":"IFERROR(VLOOKUP(G1131,Discounts!C:E,3,0),0)","v":0},0]
["Auto",28180,34260,1,"Normal",{"v":249.59,"d":"€249.59"},"LUXE",{"$f":"IFERROR(VLOOKUP(G1132,Discounts!C:E,3,0),0)","v":0},{"v":249.59,"d":"€249.59"}]
["Auto",28190,122570,1,"Combination",{"v":249.59,"d":"€249.59"},"A010",{"$f":"IFERROR(VLOOKUP(G1133,Discounts!C:E,3,0),0)","v":0},{"v":249.59,"d":"€249.59"}]
["Auto",28190,134070,1,"Normal",0,"LUXE",{"$f":"IFERROR(VLOOKUP(G1134,Discounts!C:E,3,0),0)","v":0},0]
["Auto",28200,3240,1,"Normal",{"v":2702.48,"d":"€2,702.48"},"A010",{"$f":"IFERROR(VLOOKUP(G1135,Discounts!C:E,3,0),0)","v":0},{"v":2702.48,"d":"€2,702.48"}]
["Auto",28200,34260,1,"Normal",{"v":249.59,"d":"€249.59"},"LUXE",{"$f":"IFERROR(VLOOKUP(G1136,Discounts!C:E,3,0),0)","v":0},{"v":249.59,"d":"€249.59"}]
["Auto",28210,122580,1,"Combination",{"v":2952.07,"d":"€2,952.07"},"A010",{"$f":"IFERROR(VLOOKUP(G1137,Discounts!C:E,3,0),0)","v":0},{"v":2952.07,"d":"€2,952.07"}]
["Auto",28210,134070,1,"Normal",0,"LUXE",{"$f":"IFERROR(VLOOKUP(G1138,Discounts!C:E,3,0),0)","v":0},0]
["Auto",28220,3260,1,"Normal",{"v":1452.07,"d":"€1,452.07"},"A010",{"$f":"IFERROR(VLOOKUP(G1139,Discounts!C:E,3,0),0)","v":0},{"v":1452.07,"d":"€1,452.07"}]
["Auto",28220,34260,1,"Normal",{"v":249.59,"d":"€249.59"},"LUXE",{"$f":"IFERROR(VLOOKUP(G1140,Discounts!C:E,3,0),0)","v":0},{"v":249.59,"d":"€249.59"}]
["Auto",28230,122590,1,"Combination",{"v":1701.66,"d":"€1,701.66"},"A010",{"$f":"IFERROR(VLOOKUP(G1141,Discounts!C:E,3,0),0)","v":0},{"v":1701.6599999999999,"d":"€1,701.66"}]
["Auto",28230,134070,1,"Normal",0,"LUXE",{"$f":"IFERROR(VLOOKUP(G1142,Discounts!C:E,3,0),0)","v":0},0]
["Auto",28240,3280,1,"Normal",{"v":1703.31,"d":"€1,703.31"},"A010",{"$f":"IFERROR(VLOOKUP(G1143,Discounts!C:E,3,0),0)","v":0},{"v":1703.31,"d":"€1,703.31"}]
["Auto",28240,34260,1,"Normal",{"v":249.59,"d":"€249.59"},"LUXE",{"$f":"IFERROR(VLOOKUP(G1144,Discounts!C:E,3,0),0)","v":0},{"v":249.59,"d":"€249.59"}]
["Auto",28250,122600,1,"Combination",{"v":1952.9,"d":"€1,952.90"},"A010",{"$f":"IFERROR(VLOOKUP(G1145,Discounts!C:E,3,0),0)","v":0},{"v":1952.8999999999999,"d":"€1,952.90"}]
["Auto",28250,134070,1,"Normal",0,"LUXE",{"$f":"IFERROR(VLOOKUP(G1146,Discounts!C:E,3,0),0)","v":0},0]
["Auto",28260,3300,1,"Normal",0,"A010",{"$f":"IFERROR(VLOOKUP(G1147,Discounts!C:E,3,0),0)","v":0},0]
["Auto",28260,34260,1,"Normal",{"v":249.59,"d":"€249.59"},"LUXE",{"$f":"IFERROR(VLOOKUP(G1148,Discounts!C:E,3,0),0)","v":0},{"v":249.59,"d":"€249.59"}]
["Auto",28270,122610,1,"Combination",{"v":249.59,"d":"€249.59"},"A010",{"$f":"IFERROR(VLOOKUP(G1149,Discounts!C:E,3,0),0)","v":0},{"v":249.59,"d":"€249.59"}]
["Auto",28270,134070,1,"Normal",0,"LUXE",{"$f":"IFERROR(VLOOKUP(G1150,Discounts!C:E,3,0),0)","v":0},0]
["Auto",28280,3320,1,"Normal",0,"A010",{"$f":"IFERROR(VLOOKUP(G1151,Discounts!C:E,3,0),0)","v":0},0]
["Auto",28280,34260,1,"Normal",{"v":249.59,"d":"€249.59"},"LUXE",{"$f":"IFERROR(VLOOKUP(G1152,Discounts!C:E,3,0),0)","v":0},{"v":249.59,"d":"€249.59"}]
["Auto",28290,122620,1,"Combination",{"v":249.59,"d":"€249.59"},"A010",{"$f":"IFERROR(VLOOKUP(G1153,Discounts!C:E,3,0),0)","v":0},{"v":249.59,"d":"€249.59"}]
["Auto",28290,134070,1,"Normal",0,"LUXE",{"$f":"IFERROR(VLOOKUP(G1154,Discounts!C:E,3,0),0)","v":0},0]
["Auto",28300,3340,1,"Normal",0,"A010",{"$f":"IFERROR(VLOOKUP(G1155,Discounts!C:E,3,0),0)","v":0},{"$f":"IF(E1155=\"Normal\",F1155*(1-H1155),SUMIF(B:B,C1155,I:I)*D1155)","v":0}]
["Auto",28300,34260,1,"Normal",{"v":249.59,"d":"€249.59"},"LUXE",{"$f":"IFERROR(VLOOKUP(G1156,Discounts!C:E,3,0),0)","v":0},{"v":249.59,"d":"€249.59"}]
["Auto",28310,122630,1,"Combination",{"v":249.59,"d":"€249.59"},"A010",{"$f":"IFERROR(VLOOKUP(G1157,Discounts!C:E,3,0),0)","v":0},{"v":249.59,"d":"€249.59"}]
["Auto",28310,134070,1,"Normal",0,"LUXE",{"$f":"IFERROR(VLOOKUP(G1158,Discounts!C:E,3,0),0)","v":0},0]
["Auto",28320,3360,1,"Normal",{"v":1339.67,"d":"€1,339.67"},"A010",{"$f":"IFERROR(VLOOKUP(G1159,Discounts!C:E,3,0),0)","v":0},{"v":1339.67,"d":"€1,339.67"}]
["Auto",28320,34260,1,"Normal",{"v":249.59,"d":"€249.59"},"LUXE",{"$f":"IFERROR(VLOOKUP(G1160,Discounts!C:E,3,0),0)","v":0},{"v":249.59,"d":"€249.59"}]
["Auto",28330,122640,1,"Combination",{"v":1589.26,"d":"€1,589.26"},"A010",{"$f":"IFERROR(VLOOKUP(G1161,Discounts!C:E,3,0),0)","v":0},{"v":1589.26,"d":"€1,589.26"}]
["Auto",28330,134070,1,"Normal",0,"LUXE",{"$f":"IFERROR(VLOOKUP(G1162,Discounts!C:E,3,0),0)","v":0},0]
["Auto",28340,3380,1,"Normal",0,"A010",{"$f":"IFERROR(VLOOKUP(G1163,Discounts!C:E,3,0),0)","v":0},0]
["Auto",28340,34260,1,"Normal",{"v":249.59,"d":"€249.59"},"LUXE",{"$f":"IFERROR(VLOOKUP(G1164,Discounts!C:E,3,0),0)","v":0},{"v":249.59,"d":"€249.59"}]
["Auto",28350,122650,1,"Combination",{"v":249.59,"d":"€249.59"},"A010",{"$f":"IFERROR(VLOOKUP(G1165,Discounts!C:E,3,0),0)","v":0},{"v":249.59,"d":"€249.59"}]
["Auto",28350,134070,1,"Normal",0,"LUXE",{"$f":"IFERROR(VLOOKUP(G1166,Discounts!C:E,3,0),0)","v":0},0]
["Auto",28360,3400,1,"Normal",0,"A010",{"$f":"IFERROR(VLOOKUP(G1167,Discounts!C:E,3,0),0)","v":0},0]
["Auto",28360,34260,1,"Normal",{"v":249.59,"d":"€249.59"},"LUXE",{"$f":"IFERROR(VLOOKUP(G1168,Discounts!C:E,3,0),0)","v":0},{"v":249.59,"d":"€249.59"}]
["Auto",28370,122660,1,"Combination",{"v":249.59,"d":"€249.59"},"A010",{"$f":"IFERROR(VLOOKUP(G1169,Discounts!C:E,3,0),0)","v":0},{"v":249.59,"d":"€249.59"}]
["Auto",28370,134070,1,"Normal",0,"LUXE",{"$f":"IFERROR(VLOOKUP(G1170,Discounts!C:E,3,0),0)","v":0},0]
["Auto",28480,3520,1,"Normal",0,"A010",{"$f":"IFERROR(VLOOKUP(G1171,Discounts!C:E,3,0),0)","v":0},0]
["Auto",28480,34260,1,"Normal",{"v":249.59,"d":"€249.59"},"LUXE",{"$f":"IFERROR(VLOOKUP(G1172,Discounts!C:E,3,0),0)","v":0},{"v":249.59,"d":"€249.59"}]
["Auto",28490,122670,1,"Combination",{"v":249.59,"d":"€249.59"},"A010",{"$f":"IFERROR(VLOOKUP(G1173,Discounts!C:E,3,0),0)","v":0},{"v":249.59,"d":"€249.59"}]
["Auto",28490,134070,1,"Normal",0,"LUXE",{"$f":"IFERROR(VLOOKUP(G1174,Discounts!C:E,3,0),0)","v":0},0]
["Auto",28500,3540,1,"Normal",{"v":1906.61,"d":"€1,906.61"},"A010",{"$f":"IFERROR(VLOOKUP(G1175,Discounts!C:E,3,0),0)","v":0},{"v":1906.61,"d":"€1,906.61"}]
["Auto",28500,34260,1,"Normal",{"v":249.59,"d":"€249.59"},"LUXE",{"$f":"IFERROR(VLOOKUP(G1176,Discounts!C:E,3,0),0)","v":0},{"v":249.59,"d":"€249.59"}]
["Auto",28510,122680,1,"Combination",{"v":2156.2,"d":"€2,156.20"},"A010",{"$f":"IFERROR(VLOOKUP(G1177,Discounts!C:E,3,0),0)","v":0},{"v":2156.2,"d":"€2,156.20"}]
["Auto",28510,134070,1,"Normal",0,"LUXE",{"$f":"IFERROR(VLOOKUP(G1178,Discounts!C:E,3,0),0)","v":0},0]
["Auto",28520,3560,1,"Normal",0,"A010",{"$f":"IFERROR(VLOOKUP(G1179,Discounts!C:E,3,0),0)","v":0},0]
["Auto",28520,34260,1,"Normal",{"v":249.59,"d":"€249.59"},"LUXE",{"$f":"IFERROR(VLOOKUP(G1180,Discounts!C:E,3,0),0)","v":0},{"v":249.59,"d":"€249.59"}]
["Auto",28530,122690,1,"Combination",{"v":249.59,"d":"€249.59"},"A010",{"$f":"IFERROR(VLOOKUP(G1181,Discounts!C:E,3,0),0)","v":0},{"v":249.59,"d":"€249.59"}]
["Auto",28530,134070,1,"Normal",0,"LUXE",{"$f":"IFERROR(VLOOKUP(G1182,Discounts!C:E,3,0),0)","v":0},0]
["Auto",28540,3580,1,"Normal",0,"A010",{"$f":"IFERROR(VLOOKUP(G1183,Discounts!C:E,3,0),0)","v":0},0]
["Auto",28540,34260,1,"Normal",{"v":249.59,"d":"€249.59"},"LUXE",{"$f":"IFERROR(VLOOKUP(G1184,Discounts!C:E,3,0),0)","v":0},{"v":249.59,"d":"€249.59"}]
["Auto",28550,122700,1,"Combination",{"v":249.59,"d":"€249.59"},"A010",{"$f":"IFERROR(VLOOKUP(G1185,Discounts!C:E,3,0),0)","v":0},{"v":249.59,"d":"€249.59"}]
["Auto",28550,134070,1,"Normal",0,"LUXE",{"$f":"IFERROR(VLOOKUP(G1186,Discounts!C:E,3,0),0)","v":0},0]
["Auto",28560,3600,1,"Normal",0,"A010",{"$f":"IFERROR(VLOOKUP(G1187,Discounts!C:E,3,0),0)","v":0},0]
["Auto",28560,34260,1,"Normal",{"v":249.59,"d":"€249.59"},"LUXE",{"$f":"IFERROR(VLOOKUP(G1188,Discounts!C:E,3,0),0)","v":0},{"v":249.59,"d":"€249.59"}]
["Auto",28570,122710,1,"Combination",{"v":249.59,"d":"€249.59"},"A010",{"$f":"IFERROR(VLOOKUP(G1189,Discounts!C:E,3,0),0)","v":0},{"v":249.59,"d":"€249.59"}]
["Auto",28570,134070,1,"Normal",0,"LUXE",{"$f":"IFERROR(VLOOKUP(G1190,Discounts!C:E,3,0),0)","v":0},0]
["Auto",28580,3620,1,"Normal",0,"A010",{"$f":"IFERROR(VLOOKUP(G1191,Discounts!C:E,3,0),0)","v":0},0]
["Auto",28580,34260,1,"Normal",{"v":249.59,"d":"€249.59"},"LUXE",{"$f":"IFERROR(VLOOKUP(G1192,Discounts!C:E,3,0),0)","v":0},{"v":249.59,"d":"€249.59"}]
["Auto",28590,122720,1,"Combination",{"v":249.59,"d":"€249.59"},"A010",{"$f":"IFERROR(VLOOKUP(G1193,Discounts!C:E,3,0),0)","v":0},{"v":249.59,"d":"€249.59"}]
["Auto",28590,134070,1,"Normal",0,"LUXE",{"$f":"IFERROR(VLOOKUP(G1194,Discounts!C:E,3,0),0)","v":0},0]
["Auto",28600,3640,1,"Normal",0,"A010",{"$f":"IFERROR(VLOOKUP(G1195,Discounts!C:E,3,0),0)","v":0},0]
["Auto",28600,34260,1,"Normal",{"v":249.59,"d":"€249.59"},"LUXE",{"$f":"IFERROR(VLOOKUP(G1196,Discounts!C:E,3,0),0)","v":0},{"v":249.59,"d":"€249.59"}]
["Auto",28610,122730,1,"Combination",{"v":249.59,"d":"€249.59"},"A010",{"$f":"IFERROR(VLOOKUP(G1197,Discounts!C:E,3,0),0)","v":0},{"v":249.59,"d":"€249.59"}]
["Auto",28610,134070,1,"Normal",0,"LUXE",{"$f":"IFERROR(VLOOKUP(G1198,Discounts!C:E,3,0),0)","v":0},0]
["Auto",28620,3660,1,"Normal",0,"A010",{"$f":"IFERROR(VLOOKUP(G1199,Discounts!C:E,3,0),0)","v":0},0]
["Auto",28620,34260,1,"Normal",{"v":249.59,"d":"€249.59"},"LUXE",{"$f":"IFERROR(VLOOKUP(G1200,Discounts!C:E,3,0),0)","v":0},{"v":249.59,"d":"€249.59"}]
["Auto",28630,122740,1,"Combination",{"v":249.59,"d":"€249.59"},"A010",{"$f":"IFERROR(VLOOKUP(G1201,Discounts!C:E,3,0),0)","v":0},{"v":249.59,"d":"€249.59"}]
["Auto",28630,134070,1,"Normal",0,"LUXE",{"$f":"IFERROR(VLOOKUP(G1202,Discounts!C:E,3,0),0)","v":0},0]
["Auto",28640,3680,1,"Normal",0,"A010",{"$f":"IFERROR(VLOOKUP(G1203,Discounts!C:E,3,0),0)","v":0},0]
["Auto",28640,34260,1,"Normal",{"v":249.59,"d":"€249.59"},"LUXE",{"$f":"IFERROR(VLOOKUP(G1204,Discounts!C:E,3,0),0)","v":0},{"v":249.59,"d":"€249.59"}]
["Auto",28650,122750,1,"Combination",{"v":249.59,"d":"€249.59"},"A010",{"$f":"IFERROR(VLOOKUP(G1205,Discounts!C:E,3,0),0)","v":0},{"v":249.59,"d":"€249.59"}]
["Auto",28650,134070,1,"Normal",0,"LUXE",{"$f":"IFERROR(VLOOKUP(G1206,Discounts!C:E,3,0),0)","v":0},0]
["Auto",28660,3700,1,"Normal",0,"A010",{"$f":"IFERROR(VLOOKUP(G1207,Discounts!C:E,3,0),0)","v":0},0]
["Auto",28660,34260,1,"Normal",{"v":249.59,"d":"€249.59"},"LUXE",{"$f":"IFERROR(VLOOKUP(G1208,Discounts!C:E,3,0),0)","v":0},{"v":249.59,"d":"€249.59"}]
["Auto",28670,122760,1,"Combination",{"v":249.59,"d":"€249.59"},"A010",{"$f":"IFERROR(VLOOKUP(G1209,Discounts!C:E,3,0),0)","v":0},{"v":249.59,"d":"€249.59"}]
["Auto",28670,134070,1,"Normal",0,"LUXE",{"$f":"IFERROR(VLOOKUP(G1210,Discounts!C:E,3,0),0)","v":0},0]
["Auto",28680,3720,1,"Normal",0,"A010",{"$f":"IFERROR(VLOOKUP(G1211,Discounts!C:E,3,0),0)","v":0},0]
["Auto",28680,34260,1,"Normal",{"v":249.59,"d":"€249.59"},"LUXE",{"$f":"IFERROR(VLOOKUP(G1212,Discounts!C:E,3,0),0)","v":0},{"v":249.59,"d":"€249.59"}]
["Auto",28690,122770,1,"Combination",{"v":249.59,"d":"€249.59"},"A010",{"$f":"IFERROR(VLOOKUP(G1213,Discounts!C:E,3,0),0)","v":0},{"v":249.59,"d":"€249.59"}]
["Auto",28690,134070,1,"Normal",0,"LUXE",{"$f":"IFERROR(VLOOKUP(G1214,Discounts!C:E,3,0),0)","v":0},0]
["Auto",28700,3740,1,"Normal",0,"A010",{"$f":"IFERROR(VLOOKUP(G1215,Discounts!C:E,3,0),0)","v":0},0]
["Auto",28700,34260,1,"Normal",{"v":249.59,"d":"€249.59"},"LUXE",{"$f":"IFERROR(VLOOKUP(G1216,Discounts!C:E,3,0),0)","v":0},{"v":249.59,"d":"€249.59"}]
["Auto",28710,122780,1,"Combination",{"v":249.59,"d":"€249.59"},"A010",{"$f":"IFERROR(VLOOKUP(G1217,Discounts!C:E,3,0),0)","v":0},{"v":249.59,"d":"€249.59"}]
["Auto",28710,134070,1,"Normal",0,"LUXE",{"$f":"IFERROR(VLOOKUP(G1218,Discounts!C:E,3,0),0)","v":0},0]
["Auto",28720,3760,1,"Normal",0,"A010",{"$f":"IFERROR(VLOOKUP(G1219,Discounts!C:E,3,0),0)","v":0},{"$f":"IF(E1219=\"Normal\",F1219*(1-H1219),SUMIF(B:B,C1219,I:I)*D1219)","v":0}]
["Auto",28720,34260,1,"Normal",{"v":249.59,"d":"€249.59"},"LUXE",{"$f":"IFERROR(VLOOKUP(G1220,Discounts!C:E,3,0),0)","v":0},{"v":249.59,"d":"€249.59"}]
["Auto",28730,122790,1,"Combination",{"v":249.59,"d":"€249.59"},"A010",{"$f":"IFERROR(VLOOKUP(G1221,Discounts!C:E,3,0),0)","v":0},{"v":249.59,"d":"€249.59"}]
["Auto",28730,134070,1,"Normal",0,"LUXE",{"$f":"IFERROR(VLOOKUP(G1222,Discounts!C:E,3,0),0)","v":0},0]
["Auto",28740,3780,1,"Normal",0,"A010",{"$f":"IFERROR(VLOOKUP(G1223,Discounts!C:E,3,0),0)","v":0},0]
["Auto",28740,34260,1,"Normal",{"v":249.59,"d":"€249.59"},"LUXE",{"$f":"IFERROR(VLOOKUP(G1224,Discounts!C:E,3,0),0)","v":0},{"v":249.59,"d":"€249.59"}]
["Auto",28750,122800,1,"Combination",{"v":249.59,"d":"€249.59"},"A010",{"$f":"IFERROR(VLOOKUP(G1225,Discounts!C:E,3,0),0)","v":0},{"v":249.59,"d":"€249.59"}]
["Auto",28750,134070,1,"Normal",0,"LUXE",{"$f":"IFERROR(VLOOKUP(G1226,Discounts!C:E,3,0),0)","v":0},0]
["Auto",28760,3800,1,"Normal",0,"A010",{"$f":"IFERROR(VLOOKUP(G1227,Discounts!C:E,3,0),0)","v":0},0]
["Auto",28760,34260,1,"Normal",{"v":249.59,"d":"€249.59"},"LUXE",{"$f":"IFERROR(VLOOKUP(G1228,Discounts!C:E,3,0),0)","v":0},{"v":249.59,"d":"€249.59"}]
["Auto",28770,122810,1,"Combination",{"v":249.59,"d":"€249.59"},"A010",{"$f":"IFERROR(VLOOKUP(G1229,Discounts!C:E,3,0),0)","v":0},{"v":249.59,"d":"€249.59"}]
["Auto",28770,134070,1,"Normal",0,"LUXE",{"$f":"IFERROR(VLOOKUP(G1230,Discounts!C:E,3,0),0)","v":0},0]
["Auto",28780,3820,1,"Normal",0,"A010",{"$f":"IFERROR(VLOOKUP(G1231,Discounts!C:E,3,0),0)","v":0},0]
["Auto",28780,34260,1,"Normal",{"v":249.59,"d":"€249.59"},"LUXE",{"$f":"IFERROR(VLOOKUP(G1232,Discounts!C:E,3,0),0)","v":0},{"v":249.59,"d":"€249.59"}]
["Auto",28790,122820,1,"Combination",{"v":249.59,"d":"€249.59"},"A010",{"$f":"IFERROR(VLOOKUP(G1233,Discounts!C:E,3,0),0)","v":0},{"v":249.59,"d":"€249.59"}]
["Auto",28790,134070,1,"Normal",0,"LUXE",{"$f":"IFERROR(VLOOKUP(G1234,Discounts!C:E,3,0),0)","v":0},0]
["Auto",28800,3840,1,"Normal",0,"A010",{"$f":"IFERROR(VLOOKUP(G1235,Discounts!C:E,3,0),0)","v":0},0]
["Auto",28800,34260,1,"Normal",{"v":249.59,"d":"€249.59"},"LUXE",{"$f":"IFERROR(VLOOKUP(G1236,Discounts!C:E,3,0),0)","v":0},{"v":249.59,"d":"€249.59"}]
["Auto",28810,122830,1,"Combination",{"v":249.59,"d":"€249.59"},"A010",{"$f":"IFERROR(VLOOKUP(G1237,Discounts!C:E,3,0),0)","v":0},{"v":249.59,"d":"€249.59"}]
["Auto",28810,134070,1,"Normal",0,"LUXE",{"$f":"IFERROR(VLOOKUP(G1238,Discounts!C:E,3,0),0)","v":0},0]
["Auto",28820,3860,1,"Normal",0,"A010",{"$f":"IFERROR(VLOOKUP(G1239,Discounts!C:E,3,0),0)","v":0},0]
["Auto",28820,34260,1,"Normal",{"v":249.59,"d":"€249.59"},"LUXE",{"$f":"IFERROR(VLOOKUP(G1240,Discounts!C:E,3,0),0)","v":0},{"v":249.59,"d":"€249.59"}]
["Auto",28830,122840,1,"Combination",{"v":249.59,"d":"€249.59"},"A010",{"$f":"IFERROR(VLOOKUP(G1241,Discounts!C:E,3,0),0)","v":0},{"v":249.59,"d":"€249.59"}]
["Auto",28830,134070,1,"Normal",0,"LUXE",{"$f":"IFERROR(VLOOKUP(G1242,Discounts!C:E,3,0),0)","v":0},0]
["Auto",28840,3880,1,"Normal",{"v":1463.64,"d":"€1,463.64"},"A010",{"$f":"IFERROR(VLOOKUP(G1243,Discounts!C:E,3,0),0)","v":0},{"v":1463.64,"d":"€1,463.64"}]
["Auto",28840,34260,1,"Normal",{"v":249.59,"d":"€249.59"},"LUXE",{"$f":"IFERROR(VLOOKUP(G1244,Discounts!C:E,3,0),0)","v":0},{"v":249.59,"d":"€249.59"}]
["Auto",28850,122850,1,"Combination",{"v":1713.23,"d":"€1,713.23"},"A010",{"$f":"IFERROR(VLOOKUP(G1245,Discounts!C:E,3,0),0)","v":0},{"v":1713.23,"d":"€1,713.23"}]
["Auto",28850,134070,1,"Normal",0,"LUXE",{"$f":"IFERROR(VLOOKUP(G1246,Discounts!C:E,3,0),0)","v":0},0]
["Auto",28860,3900,1,"Normal",{"v":1422.31,"d":"€1,422.31"},"A010",{"$f":"IFERROR(VLOOKUP(G1247,Discounts!C:E,3,0),0)","v":0},{"v":1422.31,"d":"€1,422.31"}]
["Auto",28860,34260,1,"Normal",{"v":249.59,"d":"€249.59"},"LUXE",{"$f":"IFERROR(VLOOKUP(G1248,Discounts!C:E,3,0),0)","v":0},{"v":249.59,"d":"€249.59"}]
["Auto",28870,122860,1,"Combination",{"v":1671.9,"d":"€1,671.90"},"A010",{"$f":"IFERROR(VLOOKUP(G1249,Discounts!C:E,3,0),0)","v":0},{"v":1671.8999999999999,"d":"€1,671.90"}]
["Auto",28870,134070,1,"Normal",0,"LUXE",{"$f":"IFERROR(VLOOKUP(G1250,Discounts!C:E,3,0),0)","v":0},0]
["Auto",28880,3920,1,"Normal",{"v":1655.37,"d":"€1,655.37"},"A010",{"$f":"IFERROR(VLOOKUP(G1251,Discounts!C:E,3,0),0)","v":0},{"v":1655.37,"d":"€1,655.37"}]
["Auto",28880,34260,1,"Normal",{"v":249.59,"d":"€249.59"},"LUXE",{"$f":"IFERROR(VLOOKUP(G1252,Discounts!C:E,3,0),0)","v":0},{"v":249.59,"d":"€249.59"}]
["Auto",28890,122870,1,"Combination",{"v":1904.96,"d":"€1,904.96"},"A010",{"$f":"IFERROR(VLOOKUP(G1253,Discounts!C:E,3,0),0)","v":0},{"v":1904.9599999999998,"d":"€1,904.96"}]
["Auto",28890,134070,1,"Normal",0,"LUXE",{"$f":"IFERROR(VLOOKUP(G1254,Discounts!C:E,3,0),0)","v":0},0]
["Auto",28900,3940,1,"Normal",{"v":1468.6,"d":"€1,468.60"},"A010",{"$f":"IFERROR(VLOOKUP(G1255,Discounts!C:E,3,0),0)","v":0},{"v":1468.6,"d":"€1,468.60"}]
["Auto",28900,34260,1,"Normal",{"v":249.59,"d":"€249.59"},"LUXE",{"$f":"IFERROR(VLOOKUP(G1256,Discounts!C:E,3,0),0)","v":0},{"v":249.59,"d":"€249.59"}]
["Auto",28910,122880,1,"Combination",{"v":1718.19,"d":"€1,718.19"},"A010",{"$f":"IFERROR(VLOOKUP(G1257,Discounts!C:E,3,0),0)","v":0},{"v":1718.1899999999998,"d":"€1,718.19"}]
["Auto",28910,134070,1,"Normal",0,"LUXE",{"$f":"IFERROR(VLOOKUP(G1258,Discounts!C:E,3,0),0)","v":0},0]
["Auto",28920,3960,1,"Normal",{"v":1655.37,"d":"€1,655.37"},"A010",{"$f":"IFERROR(VLOOKUP(G1259,Discounts!C:E,3,0),0)","v":0},{"v":1655.37,"d":"€1,655.37"}]
["Auto",28920,34260,1,"Normal",{"v":249.59,"d":"€249.59"},"LUXE",{"$f":"IFERROR(VLOOKUP(G1260,Discounts!C:E,3,0),0)","v":0},{"v":249.59,"d":"€249.59"}]
["Auto",28930,122890,1,"Combination",{"v":1904.96,"d":"€1,904.96"},"A010",{"$f":"IFERROR(VLOOKUP(G1261,Discounts!C:E,3,0),0)","v":0},{"v":1904.9599999999998,"d":"€1,904.96"}]
["Auto",28930,134070,1,"Normal",0,"LUXE",{"$f":"IFERROR(VLOOKUP(G1262,Discounts!C:E,3,0),0)","v":0},0]
["Auto",28940,3980,1,"Normal",0,"A010",{"$f":"IFERROR(VLOOKUP(G1263,Discounts!C:E,3,0),0)","v":0},0]
["Auto",28940,34260,1,"Normal",{"v":249.59,"d":"€249.59"},"LUXE",{"$f":"IFERROR(VLOOKUP(G1264,Discounts!C:E,3,0),0)","v":0},{"v":249.59,"d":"€249.59"}]
["Auto",28950,122900,1,"Combination",{"v":249.59,"d":"€249.59"},"A010",{"$f":"IFERROR(VLOOKUP(G1265,Discounts!C:E,3,0),0)","v":0},{"v":249.59,"d":"€249.59"}]
["Auto",28950,134070,1,"Normal",0,"LUXE",{"$f":"IFERROR(VLOOKUP(G1266,Discounts!C:E,3,0),0)","v":0},0]
["Auto",28960,4000,1,"Normal",{"v":1730.58,"d":"€1,730.58"},"A010",{"$f":"IFERROR(VLOOKUP(G1267,Discounts!C:E,3,0),0)","v":0},{"v":1730.58,"d":"€1,730.58"}]
["Auto",28960,34260,1,"Normal",{"v":249.59,"d":"€249.59"},"LUXE",{"$f":"IFERROR(VLOOKUP(G1268,Discounts!C:E,3,0),0)","v":0},{"v":249.59,"d":"€249.59"}]
["Auto",28970,122910,1,"Combination",{"v":1980.17,"d":"€1,980.17"},"A010",{"$f":"IFERROR(VLOOKUP(G1269,Discounts!C:E,3,0),0)","v":0},{"v":1980.1699999999998,"d":"€1,980.17"}]
["Auto",28970,134070,1,"Normal",0,"LUXE",{"$f":"IFERROR(VLOOKUP(G1270,Discounts!C:E,3,0),0)","v":0},0]
["Auto",28980,4020,1,"Normal",0,"A010",{"$f":"IFERROR(VLOOKUP(G1271,Discounts!C:E,3,0),0)","v":0},0]
["Auto",28980,34260,1,"Normal",{"v":249.59,"d":"€249.59"},"LUXE",{"$f":"IFERROR(VLOOKUP(G1272,Discounts!C:E,3,0),0)","v":0},{"v":249.59,"d":"€249.59"}]
["Auto",28990,122920,1,"Combination",{"v":249.59,"d":"€249.59"},"A010",{"$f":"IFERROR(VLOOKUP(G1273,Discounts!C:E,3,0),0)","v":0},{"v":249.59,"d":"€249.59"}]
["Auto",28990,134070,1,"Normal",0,"LUXE",{"$f":"IFERROR(VLOOKUP(G1274,Discounts!C:E,3,0),0)","v":0},0]
["Auto",29000,4040,1,"Normal",{"v":1730.58,"d":"€1,730.58"},"A010",{"$f":"IFERROR(VLOOKUP(G1275,Discounts!C:E,3,0),0)","v":0},{"v":1730.58,"d":"€1,730.58"}]
["Auto",29000,34260,1,"Normal",{"v":249.59,"d":"€249.59"},"LUXE",{"$f":"IFERROR(VLOOKUP(G1276,Discounts!C:E,3,0),0)","v":0},{"v":249.59,"d":"€249.59"}]
["Auto",29010,122930,1,"Combination",{"v":1980.17,"d":"€1,980.17"},"A010",{"$f":"IFERROR(VLOOKUP(G1277,Discounts!C:E,3,0),0)","v":0},{"v":1980.1699999999998,"d":"€1,980.17"}]
["Auto",29010,134070,1,"Normal",0,"LUXE",{"$f":"IFERROR(VLOOKUP(G1278,Discounts!C:E,3,0),0)","v":0},0]
["Auto",29020,4060,1,"Normal",0,"A010",{"$f":"IFERROR(VLOOKUP(G1279,Discounts!C:E,3,0),0)","v":0},0]
["Auto",29020,34260,1,"Normal",{"v":249.59,"d":"€249.59"},"LUXE",{"$f":"IFERROR(VLOOKUP(G1280,Discounts!C:E,3,0),0)","v":0},{"v":249.59,"d":"€249.59"}]
["Auto",29030,122940,1,"Combination",{"v":249.59,"d":"€249.59"},"A010",{"$f":"IFERROR(VLOOKUP(G1281,Discounts!C:E,3,0),0)","v":0},{"v":249.59,"d":"€249.59"}]
["Auto",29030,134070,1,"Normal",0,"LUXE",{"$f":"IFERROR(VLOOKUP(G1282,Discounts!C:E,3,0),0)","v":0},0]
["Auto",29040,4080,1,"Normal",{"v":1884.3,"d":"€1,884.30"},"A010",{"$f":"IFERROR(VLOOKUP(G1283,Discounts!C:E,3,0),0)","v":0},{"$f":"IF(E1283=\"Normal\",F1283*(1-H1283),SUMIF(B:B,C1283,I:I)*D1283)","v":{"v":1884.3,"d":"€1,884.30"}}]
["Auto",29040,34260,1,"Normal",{"v":249.59,"d":"€249.59"},"LUXE",{"$f":"IFERROR(VLOOKUP(G1284,Discounts!C:E,3,0),0)","v":0},{"v":249.59,"d":"€249.59"}]
["Auto",29050,122950,1,"Combination",{"v":2133.89,"d":"€2,133.89"},"A010",{"$f":"IFERROR(VLOOKUP(G1285,Discounts!C:E,3,0),0)","v":0},{"v":2133.89,"d":"€2,133.89"}]
["Auto",29050,134070,1,"Normal",0,"LUXE",{"$f":"IFERROR(VLOOKUP(G1286,Discounts!C:E,3,0),0)","v":0},0]
["Auto",29060,4100,1,"Normal",0,"A010",{"$f":"IFERROR(VLOOKUP(G1287,Discounts!C:E,3,0),0)","v":0},0]
["Auto",29060,34260,1,"Normal",{"v":249.59,"d":"€249.59"},"LUXE",{"$f":"IFERROR(VLOOKUP(G1288,Discounts!C:E,3,0),0)","v":0},{"v":249.59,"d":"€249.59"}]
["Auto",29070,122960,1,"Combination",{"v":249.59,"d":"€249.59"},"A010",{"$f":"IFERROR(VLOOKUP(G1289,Discounts!C:E,3,0),0)","v":0},{"v":249.59,"d":"€249.59"}]
["Auto",29070,134070,1,"Normal",0,"LUXE",{"$f":"IFERROR(VLOOKUP(G1290,Discounts!C:E,3,0),0)","v":0},0]
["Auto",29080,4120,1,"Normal",{"v":1730.58,"d":"€1,730.58"},"A010",{"$f":"IFERROR(VLOOKUP(G1291,Discounts!C:E,3,0),0)","v":0},{"v":1730.58,"d":"€1,730.58"}]
["Auto",29080,34260,1,"Normal",{"v":249.59,"d":"€249.59"},"LUXE",{"$f":"IFERROR(VLOOKUP(G1292,Discounts!C:E,3,0),0)","v":0},{"v":249.59,"d":"€249.59"}]
["Auto",29090,122970,1,"Combination",{"v":1980.17,"d":"€1,980.17"},"A010",{"$f":"IFERROR(VLOOKUP(G1293,Discounts!C:E,3,0),0)","v":0},{"v":1980.1699999999998,"d":"€1,980.17"}]
["Auto",29090,134070,1,"Normal",0,"LUXE",{"$f":"IFERROR(VLOOKUP(G1294,Discounts!C:E,3,0),0)","v":0},0]
["Auto",29100,4140,1,"Normal",0,"A010",{"$f":"IFERROR(VLOOKUP(G1295,Discounts!C:E,3,0),0)","v":0},0]
["Auto",29100,34260,1,"Normal",{"v":249.59,"d":"€249.59"},"LUXE",{"$f":"IFERROR(VLOOKUP(G1296,Discounts!C:E,3,0),0)","v":0},{"v":249.59,"d":"€249.59"}]
["Auto",29110,122980,1,"Combination",{"v":249.59,"d":"€249.59"},"A010",{"$f":"IFERROR(VLOOKUP(G1297,Discounts!C:E,3,0),0)","v":0},{"v":249.59,"d":"€249.59"}]
["Auto",29110,134070,1,"Normal",0,"LUXE",{"$f":"IFERROR(VLOOKUP(G1298,Discounts!C:E,3,0),0)","v":0},0]
["Auto",29120,4160,1,"Normal",{"v":1884.3,"d":"€1,884.30"},"A010",{"$f":"IFERROR(VLOOKUP(G1299,Discounts!C:E,3,0),0)","v":0},{"v":1884.3,"d":"€1,884.30"}]
["Auto",29120,34260,1,"Normal",{"v":249.59,"d":"€249.59"},"LUXE",{"$f":"IFERROR(VLOOKUP(G1300,Discounts!C:E,3,0),0)","v":0},{"v":249.59,"d":"€249.59"}]
["Auto",29130,122990,1,"Combination",{"v":2133.89,"d":"€2,133.89"},"A010",{"$f":"IFERROR(VLOOKUP(G1301,Discounts!C:E,3,0),0)","v":0},{"v":2133.89,"d":"€2,133.89"}]
["Auto",29130,134070,1,"Normal",0,"LUXE",{"$f":"IFERROR(VLOOKUP(G1302,Discounts!C:E,3,0),0)","v":0},0]
["Auto",29140,4180,1,"Normal",0,"A010",{"$f":"IFERROR(VLOOKUP(G1303,Discounts!C:E,3,0),0)","v":0},0]
["Auto",29140,34260,1,"Normal",{"v":249.59,"d":"€249.59"},"LUXE",{"$f":"IFERROR(VLOOKUP(G1304,Discounts!C:E,3,0),0)","v":0},{"v":249.59,"d":"€249.59"}]
["Auto",29150,123000,1,"Combination",{"v":249.59,"d":"€249.59"},"A010",{"$f":"IFERROR(VLOOKUP(G1305,Discounts!C:E,3,0),0)","v":0},{"v":249.59,"d":"€249.59"}]
["Auto",29150,134070,1,"Normal",0,"LUXE",{"$f":"IFERROR(VLOOKUP(G1306,Discounts!C:E,3,0),0)","v":0},0]
["Auto",29160,4200,1,"Normal",0,"A010",{"$f":"IFERROR(VLOOKUP(G1307,Discounts!C:E,3,0),0)","v":0},0]
["Auto",29160,34260,1,"Normal",{"v":249.59,"d":"€249.59"},"LUXE",{"$f":"IFERROR(VLOOKUP(G1308,Discounts!C:E,3,0),0)","v":0},{"v":249.59,"d":"€249.59"}]
["Auto",29170,123010,1,"Combination",{"v":249.59,"d":"€249.59"},"A010",{"$f":"IFERROR(VLOOKUP(G1309,Discounts!C:E,3,0),0)","v":0},{"v":249.59,"d":"€249.59"}]
["Auto",29170,134070,1,"Normal",0,"LUXE",{"$f":"IFERROR(VLOOKUP(G1310,Discounts!C:E,3,0),0)","v":0},0]
["Auto",29180,4220,1,"Normal",0,"A010",{"$f":"IFERROR(VLOOKUP(G1311,Discounts!C:E,3,0),0)","v":0},0]
["Auto",29180,34260,1,"Normal",{"v":249.59,"d":"€249.59"},"LUXE",{"$f":"IFERROR(VLOOKUP(G1312,Discounts!C:E,3,0),0)","v":0},{"v":249.59,"d":"€249.59"}]
["Auto",29190,123020,1,"Combination",{"v":249.59,"d":"€249.59"},"A010",{"$f":"IFERROR(VLOOKUP(G1313,Discounts!C:E,3,0),0)","v":0},{"v":249.59,"d":"€249.59"}]
["Auto",29190,134070,1,"Normal",0,"LUXE",{"$f":"IFERROR(VLOOKUP(G1314,Discounts!C:E,3,0),0)","v":0},0]
["Auto",29200,4240,1,"Normal",0,"A010",{"$f":"IFERROR(VLOOKUP(G1315,Discounts!C:E,3,0),0)","v":0},0]
["Auto",29200,34260,1,"Normal",{"v":249.59,"d":"€249.59"},"LUXE",{"$f":"IFERROR(VLOOKUP(G1316,Discounts!C:E,3,0),0)","v":0},{"v":249.59,"d":"€249.59"}]
["Auto",29210,123030,1,"Combination",{"v":249.59,"d":"€249.59"},"A010",{"$f":"IFERROR(VLOOKUP(G1317,Discounts!C:E,3,0),0)","v":0},{"v":249.59,"d":"€249.59"}]
["Auto",29210,134070,1,"Normal",0,"LUXE",{"$f":"IFERROR(VLOOKUP(G1318,Discounts!C:E,3,0),0)","v":0},0]
["Auto",29220,4260,1,"Normal",0,"A010",{"$f":"IFERROR(VLOOKUP(G1319,Discounts!C:E,3,0),0)","v":0},0]
["Auto",29220,34260,1,"Normal",{"v":249.59,"d":"€249.59"},"LUXE",{"$f":"IFERROR(VLOOKUP(G1320,Discounts!C:E,3,0),0)","v":0},{"v":249.59,"d":"€249.59"}]
["Auto",29230,123040,1,"Combination",{"v":249.59,"d":"€249.59"},"A010",{"$f":"IFERROR(VLOOKUP(G1321,Discounts!C:E,3,0),0)","v":0},{"v":249.59,"d":"€249.59"}]
["Auto",29230,134070,1,"Normal",0,"LUXE",{"$f":"IFERROR(VLOOKUP(G1322,Discounts!C:E,3,0),0)","v":0},0]
["Auto",29240,4280,1,"Normal",0,"A010",{"$f":"IFERROR(VLOOKUP(G1323,Discounts!C:E,3,0),0)","v":0},0]
["Auto",29240,34260,1,"Normal",{"v":249.59,"d":"€249.59"},"LUXE",{"$f":"IFERROR(VLOOKUP(G1324,Discounts!C:E,3,0),0)","v":0},{"v":249.59,"d":"€249.59"}]
["Auto",29250,123050,1,"Combination",{"v":249.59,"d":"€249.59"},"A010",{"$f":"IFERROR(VLOOKUP(G1325,Discounts!C:E,3,0),0)","v":0},{"v":249.59,"d":"€249.59"}]
["Auto",29250,134070,1,"Normal",0,"LUXE",{"$f":"IFERROR(VLOOKUP(G1326,Discounts!C:E,3,0),0)","v":0},0]
["Auto",29260,4300,1,"Normal",0,"A010",{"$f":"IFERROR(VLOOKUP(G1327,Discounts!C:E,3,0),0)","v":0},0]
["Auto",29260,34260,1,"Normal",{"v":249.59,"d":"€249.59"},"LUXE",{"$f":"IFERROR(VLOOKUP(G1328,Discounts!C:E,3,0),0)","v":0},{"v":249.59,"d":"€249.59"}]
["Auto",29270,123060,1,"Combination",{"v":249.59,"d":"€249.59"},"A010",{"$f":"IFERROR(VLOOKUP(G1329,Discounts!C:E,3,0),0)","v":0},{"v":249.59,"d":"€249.59"}]
["Auto",29270,134070,1,"Normal",0,"LUXE",{"$f":"IFERROR(VLOOKUP(G1330,Discounts!C:E,3,0),0)","v":0},0]
["Auto",29280,4320,1,"Normal",0,"A010",{"$f":"IFERROR(VLOOKUP(G1331,Discounts!C:E,3,0),0)","v":0},0]
["Auto",29280,34260,1,"Normal",{"v":249.59,"d":"€249.59"},"LUXE",{"$f":"IFERROR(VLOOKUP(G1332,Discounts!C:E,3,0),0)","v":0},{"v":249.59,"d":"€249.59"}]
["Auto",29290,123070,1,"Combination",{"v":249.59,"d":"€249.59"},"A010",{"$f":"IFERROR(VLOOKUP(G1333,Discounts!C:E,3,0),0)","v":0},{"v":249.59,"d":"€249.59"}]
["Auto",29290,134070,1,"Normal",0,"LUXE",{"$f":"IFERROR(VLOOKUP(G1334,Discounts!C:E,3,0),0)","v":0},0]
["Auto",29300,4340,1,"Normal",0,"A010",{"$f":"IFERROR(VLOOKUP(G1335,Discounts!C:E,3,0),0)","v":0},0]
["Auto",29300,34260,1,"Normal",{"v":249.59,"d":"€249.59"},"LUXE",{"$f":"IFERROR(VLOOKUP(G1336,Discounts!C:E,3,0),0)","v":0},{"v":249.59,"d":"€249.59"}]
["Auto",29310,123080,1,"Combination",{"v":249.59,"d":"€249.59"},"A010",{"$f":"IFERROR(VLOOKUP(G1337,Discounts!C:E,3,0),0)","v":0},{"v":249.59,"d":"€249.59"}]
["Auto",29310,134070,1,"Normal",0,"LUXE",{"$f":"IFERROR(VLOOKUP(G1338,Discounts!C:E,3,0),0)","v":0},0]
["Auto",29320,4360,1,"Normal",0,"A010",{"$f":"IFERROR(VLOOKUP(G1339,Discounts!C:E,3,0),0)","v":0},0]
["Auto",29320,34260,1,"Normal",{"v":249.59,"d":"€249.59"},"LUXE",{"$f":"IFERROR(VLOOKUP(G1340,Discounts!C:E,3,0),0)","v":0},{"v":249.59,"d":"€249.59"}]
["Auto",29330,123090,1,"Combination",{"v":249.59,"d":"€249.59"},"A010",{"$f":"IFERROR(VLOOKUP(G1341,Discounts!C:E,3,0),0)","v":0},{"v":249.59,"d":"€249.59"}]
["Auto",29330,134070,1,"Normal",0,"LUXE",{"$f":"IFERROR(VLOOKUP(G1342,Discounts!C:E,3,0),0)","v":0},0]
["Auto",29340,4380,1,"Normal",0,"A010",{"$f":"IFERROR(VLOOKUP(G1343,Discounts!C:E,3,0),0)","v":0},0]
["Auto",29340,34260,1,"Normal",{"v":249.59,"d":"€249.59"},"LUXE",{"$f":"IFERROR(VLOOKUP(G1344,Discounts!C:E,3,0),0)","v":0},{"v":249.59,"d":"€249.59"}]
["Auto",29350,123100,1,"Combination",{"v":249.59,"d":"€249.59"},"A010",{"$f":"IFERROR(VLOOKUP(G1345,Discounts!C:E,3,0),0)","v":0},{"v":249.59,"d":"€249.59"}]
["Auto",29350,134070,1,"Normal",0,"LUXE",{"$f":"IFERROR(VLOOKUP(G1346,Discounts!C:E,3,0),0)","v":0},0]
["Auto",29360,4400,1,"Normal",0,"A010",{"$f":"IFERROR(VLOOKUP(G1347,Discounts!C:E,3,0),0)","v":0},{"$f":"IF(E1347=\"Normal\",F1347*(1-H1347),SUMIF(B:B,C1347,I:I)*D1347)","v":0}]
["Auto",29360,34260,1,"Normal",{"v":249.59,"d":"€249.59"},"LUXE",{"$f":"IFERROR(VLOOKUP(G1348,Discounts!C:E,3,0),0)","v":0},{"v":249.59,"d":"€249.59"}]
["Auto",29370,123110,1,"Combination",{"v":249.59,"d":"€249.59"},"A010",{"$f":"IFERROR(VLOOKUP(G1349,Discounts!C:E,3,0),0)","v":0},{"v":249.59,"d":"€249.59"}]
["Auto",29370,134070,1,"Normal",0,"LUXE",{"$f":"IFERROR(VLOOKUP(G1350,Discounts!C:E,3,0),0)","v":0},0]
["Auto",29380,4420,1,"Normal",0,"A010",{"$f":"IFERROR(VLOOKUP(G1351,Discounts!C:E,3,0),0)","v":0},0]
["Auto",29380,34260,1,"Normal",{"v":249.59,"d":"€249.59"},"LUXE",{"$f":"IFERROR(VLOOKUP(G1352,Discounts!C:E,3,0),0)","v":0},{"v":249.59,"d":"€249.59"}]
["Auto",29390,123120,1,"Combination",{"v":249.59,"d":"€249.59"},"A010",{"$f":"IFERROR(VLOOKUP(G1353,Discounts!C:E,3,0),0)","v":0},{"v":249.59,"d":"€249.59"}]
["Auto",29390,134070,1,"Normal",0,"LUXE",{"$f":"IFERROR(VLOOKUP(G1354,Discounts!C:E,3,0),0)","v":0},0]
["Auto",29400,4440,1,"Normal",0,"A010",{"$f":"IFERROR(VLOOKUP(G1355,Discounts!C:E,3,0),0)","v":0},0]
["Auto",29400,34260,1,"Normal",{"v":249.59,"d":"€249.59"},"LUXE",{"$f":"IFERROR(VLOOKUP(G1356,Discounts!C:E,3,0),0)","v":0},{"v":249.59,"d":"€249.59"}]
["Auto",29410,123130,1,"Combination",{"v":249.59,"d":"€249.59"},"A010",{"$f":"IFERROR(VLOOKUP(G1357,Discounts!C:E,3,0),0)","v":0},{"v":249.59,"d":"€249.59"}]
["Auto",29410,134070,1,"Normal",0,"LUXE",{"$f":"IFERROR(VLOOKUP(G1358,Discounts!C:E,3,0),0)","v":0},0]
["Auto",29420,4460,1,"Normal",0,"A010",{"$f":"IFERROR(VLOOKUP(G1359,Discounts!C:E,3,0),0)","v":0},0]
["Auto",29420,34260,1,"Normal",{"v":249.59,"d":"€249.59"},"LUXE",{"$f":"IFERROR(VLOOKUP(G1360,Discounts!C:E,3,0),0)","v":0},{"v":249.59,"d":"€249.59"}]
["Auto",29430,123140,1,"Combination",{"v":249.59,"d":"€249.59"},"A010",{"$f":"IFERROR(VLOOKUP(G1361,Discounts!C:E,3,0),0)","v":0},{"v":249.59,"d":"€249.59"}]
["Auto",29430,134070,1,"Normal",0,"LUXE",{"$f":"IFERROR(VLOOKUP(G1362,Discounts!C:E,3,0),0)","v":0},0]
["Auto",29440,14500,1,"Normal",0,"A015",{"$f":"IFERROR(VLOOKUP(G1363,Discounts!C:E,3,0),0)","v":0},0]
["Auto",29440,34260,1,"Normal",{"v":249.59,"d":"€249.59"},"LUXE",{"$f":"IFERROR(VLOOKUP(G1364,Discounts!C:E,3,0),0)","v":0},{"v":249.59,"d":"€249.59"}]
["Auto",29450,123150,1,"Combination",{"v":249.59,"d":"€249.59"},"A015",{"$f":"IFERROR(VLOOKUP(G1365,Discounts!C:E,3,0),0)","v":0},{"v":249.59,"d":"€249.59"}]
["Auto",29450,134070,1,"Normal",0,"LUXE",{"$f":"IFERROR(VLOOKUP(G1366,Discounts!C:E,3,0),0)","v":0},0]
["Auto",29560,123160,1,"Normal",0,"A010",{"$f":"IFERROR(VLOOKUP(G1367,Discounts!C:E,3,0),0)","v":0},0]
["Auto",29560,134070,1,"Normal",0,"LUXE",{"$f":"IFERROR(VLOOKUP(G1368,Discounts!C:E,3,0),0)","v":0},0]
["Auto",29580,123170,1,"Normal",0,"A010",{"$f":"IFERROR(VLOOKUP(G1369,Discounts!C:E,3,0),0)","v":0},0]
["Auto",29580,134070,1,"Normal",0,"LUXE",{"$f":"IFERROR(VLOOKUP(G1370,Discounts!C:E,3,0),0)","v":0},0]
["Auto",29600,123180,1,"Normal",0,"A010",{"$f":"IFERROR(VLOOKUP(G1371,Discounts!C:E,3,0),0)","v":0},0]
["Auto",29600,134070,1,"Normal",0,"LUXE",{"$f":"IFERROR(VLOOKUP(G1372,Discounts!C:E,3,0),0)","v":0},0]
["Auto",29620,123190,1,"Normal",0,"A010",{"$f":"IFERROR(VLOOKUP(G1373,Discounts!C:E,3,0),0)","v":0},0]
["Auto",29620,134070,1,"Normal",0,"LUXE",{"$f":"IFERROR(VLOOKUP(G1374,Discounts!C:E,3,0),0)","v":0},0]
["Auto",29630,29550,1,"Normal",0,"A010",{"$f":"IFERROR(VLOOKUP(G1375,Discounts!C:E,3,0),0)","v":0},0]
["Auto",29630,34260,1,"Normal",{"v":249.59,"d":"€249.59"},"LUXE",{"$f":"IFERROR(VLOOKUP(G1376,Discounts!C:E,3,0),0)","v":0},{"v":249.59,"d":"€249.59"}]
["Auto",29640,123200,1,"Combination",{"v":249.59,"d":"€249.59"},"A010",{"$f":"IFERROR(VLOOKUP(G1377,Discounts!C:E,3,0),0)","v":0},{"v":249.59,"d":"€249.59"}]
["Auto",29640,134070,1,"Normal",0,"LUXE",{"$f":"IFERROR(VLOOKUP(G1378,Discounts!C:E,3,0),0)","v":0},0]
["Auto",29650,29570,1,"Normal",0,"A010",{"$f":"IFERROR(VLOOKUP(G1379,Discounts!C:E,3,0),0)","v":0},0]
["Auto",29650,34260,1,"Normal",{"v":249.59,"d":"€249.59"},"LUXE",{"$f":"IFERROR(VLOOKUP(G1380,Discounts!C:E,3,0),0)","v":0},{"v":249.59,"d":"€249.59"}]
["Auto",29660,123210,1,"Combination",{"v":249.59,"d":"€249.59"},"A010",{"$f":"IFERROR(VLOOKUP(G1381,Discounts!C:E,3,0),0)","v":0},{"v":249.59,"d":"€249.59"}]
["Auto",29660,134070,1,"Normal",0,"LUXE",{"$f":"IFERROR(VLOOKUP(G1382,Discounts!C:E,3,0),0)","v":0},0]
["Auto",29670,29590,1,"Normal",0,"A010",{"$f":"IFERROR(VLOOKUP(G1383,Discounts!C:E,3,0),0)","v":0},0]
["Auto",29670,34260,1,"Normal",{"v":249.59,"d":"€249.59"},"LUXE",{"$f":"IFERROR(VLOOKUP(G1384,Discounts!C:E,3,0),0)","v":0},{"v":249.59,"d":"€249.59"}]
["Auto",29680,123220,1,"Combination",{"v":249.59,"d":"€249.59"},"A010",{"$f":"IFERROR(VLOOKUP(G1385,Discounts!C:E,3,0),0)","v":0},{"v":249.59,"d":"€249.59"}]
["Auto",29680,134070,1,"Normal",0,"LUXE",{"$f":"IFERROR(VLOOKUP(G1386,Discounts!C:E,3,0),0)","v":0},0]
["Auto",29690,29610,1,"Normal",0,"A010",{"$f":"IFERROR(VLOOKUP(G1387,Discounts!C:E,3,0),0)","v":0},0]
["Auto",29690,34260,1,"Normal",{"v":249.59,"d":"€249.59"},"LUXE",{"$f":"IFERROR(VLOOKUP(G1388,Discounts!C:E,3,0),0)","v":0},{"v":249.59,"d":"€249.59"}]
["Auto",29700,123230,1,"Combination",{"v":249.59,"d":"€249.59"},"A010",{"$f":"IFERROR(VLOOKUP(G1389,Discounts!C:E,3,0),0)","v":0},{"v":249.59,"d":"€249.59"}]
["Auto",29700,134070,1,"Normal",0,"LUXE",{"$f":"IFERROR(VLOOKUP(G1390,Discounts!C:E,3,0),0)","v":0},0]
["Auto",29950,123240,1,"Normal",{"v":2149.59,"d":"€2,149.59"},"A015",{"$f":"IFERROR(VLOOKUP(G1391,Discounts!C:E,3,0),0)","v":0},{"v":2149.59,"d":"€2,149.59"}]
["Auto",29950,134070,1,"Normal",0,"LUXE",{"$f":"IFERROR(VLOOKUP(G1392,Discounts!C:E,3,0),0)","v":0},0]
["Auto",29970,123250,1,"Normal",{"v":1706.61,"d":"€1,706.61"},"A015",{"$f":"IFERROR(VLOOKUP(G1393,Discounts!C:E,3,0),0)","v":0},{"v":1706.61,"d":"€1,706.61"}]
["Auto",29970,134070,1,"Normal",0,"LUXE",{"$f":"IFERROR(VLOOKUP(G1394,Discounts!C:E,3,0),0)","v":0},0]
["Auto",30000,123260,1,"Normal",0,"A010",{"$f":"IFERROR(VLOOKUP(G1395,Discounts!C:E,3,0),0)","v":0},0]
["Auto",30000,134070,1,"Normal",0,"LUXE",{"$f":"IFERROR(VLOOKUP(G1396,Discounts!C:E,3,0),0)","v":0},0]
["Auto",30020,123270,1,"Normal",{"v":1955.37,"d":"€1,955.37"},"A010",{"$f":"IFERROR(VLOOKUP(G1397,Discounts!C:E,3,0),0)","v":0},{"v":1955.37,"d":"€1,955.37"}]
["Auto",30020,134070,1,"Normal",0,"LUXE",{"$f":"IFERROR(VLOOKUP(G1398,Discounts!C:E,3,0),0)","v":0},0]
["Auto",30040,123280,1,"Normal",{"v":3249.59,"d":"€3,249.59"},"A010",{"$f":"IFERROR(VLOOKUP(G1399,Discounts!C:E,3,0),0)","v":0},{"v":3249.59,"d":"€3,249.59"}]
["Auto",30040,134070,1,"Normal",0,"LUXE",{"$f":"IFERROR(VLOOKUP(G1400,Discounts!C:E,3,0),0)","v":0},0]
["Auto",30060,123290,1,"Normal",{"v":2389.26,"d":"€2,389.26"},"A010",{"$f":"IFERROR(VLOOKUP(G1401,Discounts!C:E,3,0),0)","v":0},{"v":2389.26,"d":"€2,389.26"}]
["Auto",30060,134070,1,"Normal",0,"LUXE",{"$f":"IFERROR(VLOOKUP(G1402,Discounts!C:E,3,0),0)","v":0},0]
["Auto",30080,123300,1,"Normal",{"v":2714.88,"d":"€2,714.88"},"A010",{"$f":"IFERROR(VLOOKUP(G1403,Discounts!C:E,3,0),0)","v":0},{"v":2714.88,"d":"€2,714.88"}]
["Auto",30080,134070,1,"Normal",0,"LUXE",{"$f":"IFERROR(VLOOKUP(G1404,Discounts!C:E,3,0),0)","v":0},0]
["Auto",30120,123310,1,"Normal",{"v":2478.51,"d":"€2,478.51"},"A010",{"$f":"IFERROR(VLOOKUP(G1405,Discounts!C:E,3,0),0)","v":0},{"v":2478.51,"d":"€2,478.51"}]
["Auto",30120,134070,1,"Normal",0,"LUXE",{"$f":"IFERROR(VLOOKUP(G1406,Discounts!C:E,3,0),0)","v":0},0]
["Auto",30160,123320,1,"Normal",{"v":2615.7,"d":"€2,615.70"},"A010",{"$f":"IFERROR(VLOOKUP(G1407,Discounts!C:E,3,0),0)","v":0},{"v":2615.7,"d":"€2,615.70"}]
["Auto",30160,134070,1,"Normal",0,"LUXE",{"$f":"IFERROR(VLOOKUP(G1408,Discounts!C:E,3,0),0)","v":0},0]
["Auto",30170,123320,1,"Normal",{"v":2615.7,"d":"€2,615.70"},"A010",{"$f":"IFERROR(VLOOKUP(G1409,Discounts!C:E,3,0),0)","v":0},{"v":2615.7,"d":"€2,615.70"}]
["Auto",30170,134070,1,"Normal",0,"LUXE",{"$f":"IFERROR(VLOOKUP(G1410,Discounts!C:E,3,0),0)","v":0},0]
["Auto",30200,123330,1,"Normal",{"v":2474.38,"d":"€2,474.38"},"A010",{"$f":"IFERROR(VLOOKUP(G1411,Discounts!C:E,3,0),0)","v":0},{"$f":"IF(E1411=\"Normal\",F1411*(1-H1411),SUMIF(B:B,C1411,I:I)*D1411)","v":{"v":2474.38,"d":"€2,474.38"}}]
["Auto",30200,134070,1,"Normal",0,"LUXE",{"$f":"IFERROR(VLOOKUP(G1412,Discounts!C:E,3,0),0)","v":0},0]
["Auto",30210,123330,1,"Normal",{"v":2474.38,"d":"€2,474.38"},"A010",{"$f":"IFERROR(VLOOKUP(G1413,Discounts!C:E,3,0),0)","v":0},{"v":2474.38,"d":"€2,474.38"}]
["Auto",30210,134070,1,"Normal",0,"LUXE",{"$f":"IFERROR(VLOOKUP(G1414,Discounts!C:E,3,0),0)","v":0},0]
["Auto",30240,123340,1,"Normal",{"v":3482.64,"d":"€3,482.64"},"A010",{"$f":"IFERROR(VLOOKUP(G1415,Discounts!C:E,3,0),0)","v":0},{"v":3482.64,"d":"€3,482.64"}]
["Auto",30240,134070,1,"Normal",0,"LUXE",{"$f":"IFERROR(VLOOKUP(G1416,Discounts!C:E,3,0),0)","v":0},0]
["Auto",30260,123350,1,"Normal",{"v":3612.4,"d":"€3,612.40"},"A010",{"$f":"IFERROR(VLOOKUP(G1417,Discounts!C:E,3,0),0)","v":0},{"v":3612.4,"d":"€3,612.40"}]
["Auto",30260,134070,1,"Normal",0,"LUXE",{"$f":"IFERROR(VLOOKUP(G1418,Discounts!C:E,3,0),0)","v":0},0]
["Auto",30280,123360,1,"Normal",{"v":2113.22,"d":"€2,113.22"},"A010",{"$f":"IFERROR(VLOOKUP(G1419,Discounts!C:E,3,0),0)","v":0},{"v":2113.22,"d":"€2,113.22"}]
["Auto",30280,134070,1,"Normal",0,"LUXE",{"$f":"IFERROR(VLOOKUP(G1420,Discounts!C:E,3,0),0)","v":0},0]
["Auto",30300,123370,1,"Normal",{"v":2117.36,"d":"€2,117.36"},"A010",{"$f":"IFERROR(VLOOKUP(G1421,Discounts!C:E,3,0),0)","v":0},{"v":2117.36,"d":"€2,117.36"}]
["Auto",30300,134070,1,"Normal",0,"LUXE",{"$f":"IFERROR(VLOOKUP(G1422,Discounts!C:E,3,0),0)","v":0},0]
["Auto",30320,123380,1,"Normal",{"v":2117.36,"d":"€2,117.36"},"A010",{"$f":"IFERROR(VLOOKUP(G1423,Discounts!C:E,3,0),0)","v":0},{"v":2117.36,"d":"€2,117.36"}]
["Auto",30320,134070,1,"Normal",0,"LUXE",{"$f":"IFERROR(VLOOKUP(G1424,Discounts!C:E,3,0),0)","v":0},0]
["Auto",30340,123390,1,"Normal",{"v":2117.36,"d":"€2,117.36"},"A010",{"$f":"IFERROR(VLOOKUP(G1425,Discounts!C:E,3,0),0)","v":0},{"v":2117.36,"d":"€2,117.36"}]
["Auto",30340,134070,1,"Normal",0,"LUXE",{"$f":"IFERROR(VLOOKUP(G1426,Discounts!C:E,3,0),0)","v":0},0]
["Auto",30360,123400,1,"Normal",{"v":2117.36,"d":"€2,117.36"},"A010",{"$f":"IFERROR(VLOOKUP(G1427,Discounts!C:E,3,0),0)","v":0},{"v":2117.36,"d":"€2,117.36"}]
["Auto",30360,134070,1,"Normal",0,"LUXE",{"$f":"IFERROR(VLOOKUP(G1428,Discounts!C:E,3,0),0)","v":0},0]
["Auto",30430,123410,1,"Normal",{"v":2028.1,"d":"€2,028.10"},"A010",{"$f":"IFERROR(VLOOKUP(G1429,Discounts!C:E,3,0),0)","v":0},{"v":2028.1,"d":"€2,028.10"}]
["Auto",30430,134070,1,"Normal",0,"LUXE",{"$f":"IFERROR(VLOOKUP(G1430,Discounts!C:E,3,0),0)","v":0},0]
["Auto",30450,123420,1,"Normal",0,"A010",{"$f":"IFERROR(VLOOKUP(G1431,Discounts!C:E,3,0),0)","v":0},0]
["Auto",30450,134070,1,"Normal",0,"LUXE",{"$f":"IFERROR(VLOOKUP(G1432,Discounts!C:E,3,0),0)","v":0},0]
["Auto",30520,29940,1,"Normal",{"v":2149.59,"d":"€2,149.59"},"A015",{"$f":"IFERROR(VLOOKUP(G1433,Discounts!C:E,3,0),0)","v":0},{"v":2149.59,"d":"€2,149.59"}]
["Auto",30520,34260,1,"Normal",{"v":249.59,"d":"€249.59"},"LUXE",{"$f":"IFERROR(VLOOKUP(G1434,Discounts!C:E,3,0),0)","v":0},{"v":249.59,"d":"€249.59"}]
["Auto",30530,123430,1,"Combination",{"v":2399.18,"d":"€2,399.18"},"A015",{"$f":"IFERROR(VLOOKUP(G1435,Discounts!C:E,3,0),0)","v":0},{"v":2399.1800000000003,"d":"€2,399.18"}]
["Auto",30530,134070,1,"Normal",0,"LUXE",{"$f":"IFERROR(VLOOKUP(G1436,Discounts!C:E,3,0),0)","v":0},0]
["Auto",30540,29960,1,"Normal",{"v":2006.61,"d":"€2,006.61"},"A015",{"$f":"IFERROR(VLOOKUP(G1437,Discounts!C:E,3,0),0)","v":0},{"v":2006.61,"d":"€2,006.61"}]
["Auto",30540,34260,1,"Normal",{"v":249.59,"d":"€249.59"},"LUXE",{"$f":"IFERROR(VLOOKUP(G1438,Discounts!C:E,3,0),0)","v":0},{"v":249.59,"d":"€249.59"}]
["Auto",30550,123440,1,"Combination",{"v":1956.2,"d":"€1,956.20"},"A015",{"$f":"IFERROR(VLOOKUP(G1439,Discounts!C:E,3,0),0)","v":0},{"v":1956.1999999999998,"d":"€1,956.20"}]
["Auto",30550,134070,1,"Normal",0,"LUXE",{"$f":"IFERROR(VLOOKUP(G1440,Discounts!C:E,3,0),0)","v":0},0]
["Auto",30560,29990,1,"Normal",0,"A010",{"$f":"IFERROR(VLOOKUP(G1441,Discounts!C:E,3,0),0)","v":0},0]
["Auto",30560,34260,1,"Normal",{"v":249.59,"d":"€249.59"},"LUXE",{"$f":"IFERROR(VLOOKUP(G1442,Discounts!C:E,3,0),0)","v":0},{"v":249.59,"d":"€249.59"}]
["Auto",30570,123450,1,"Combination",{"v":249.59,"d":"€249.59"},"A010",{"$f":"IFERROR(VLOOKUP(G1443,Discounts!C:E,3,0),0)","v":0},{"v":249.59,"d":"€249.59"}]
["Auto",30570,134070,1,"Normal",0,"LUXE",{"$f":"IFERROR(VLOOKUP(G1444,Discounts!C:E,3,0),0)","v":0},0]
["Auto",30580,30010,1,"Normal",{"v":1955.37,"d":"€1,955.37"},"A010",{"$f":"IFERROR(VLOOKUP(G1445,Discounts!C:E,3,0),0)","v":0},{"v":1955.37,"d":"€1,955.37"}]
["Auto",30580,34260,1,"Normal",{"v":249.59,"d":"€249.59"},"LUXE",{"$f":"IFERROR(VLOOKUP(G1446,Discounts!C:E,3,0),0)","v":0},{"v":249.59,"d":"€249.59"}]
["Auto",30590,123460,1,"Combination",{"v":2204.96,"d":"€2,204.96"},"A010",{"$f":"IFERROR(VLOOKUP(G1447,Discounts!C:E,3,0),0)","v":0},{"v":2204.96,"d":"€2,204.96"}]
["Auto",30590,134070,1,"Normal",0,"LUXE",{"$f":"IFERROR(VLOOKUP(G1448,Discounts!C:E,3,0),0)","v":0},0]
["Auto",30600,30030,1,"Normal",{"v":3249.59,"d":"€3,249.59"},"A010",{"$f":"IFERROR(VLOOKUP(G1449,Discounts!C:E,3,0),0)","v":0},{"v":3249.59,"d":"€3,249.59"}]
["Auto",30600,34260,1,"Normal",{"v":249.59,"d":"€249.59"},"LUXE",{"$f":"IFERROR(VLOOKUP(G1450,Discounts!C:E,3,0),0)","v":0},{"v":249.59,"d":"€249.59"}]
["Auto",30610,123470,1,"Combination",{"v":3499.18,"d":"€3,499.18"},"A010",{"$f":"IFERROR(VLOOKUP(G1451,Discounts!C:E,3,0),0)","v":0},{"v":3499.1800000000003,"d":"€3,499.18"}]
["Auto",30610,134070,1,"Normal",0,"LUXE",{"$f":"IFERROR(VLOOKUP(G1452,Discounts!C:E,3,0),0)","v":0},0]
["Auto",30620,30050,1,"Normal",{"v":2389.26,"d":"€2,389.26"},"A010",{"$f":"IFERROR(VLOOKUP(G1453,Discounts!C:E,3,0),0)","v":0},{"v":2389.26,"d":"€2,389.26"}]
["Auto",30620,34260,1,"Normal",{"v":249.59,"d":"€249.59"},"LUXE",{"$f":"IFERROR(VLOOKUP(G1454,Discounts!C:E,3,0),0)","v":0},{"v":249.59,"d":"€249.59"}]
["Auto",30630,123480,1,"Combination",{"v":2638.85,"d":"€2,638.85"},"A010",{"$f":"IFERROR(VLOOKUP(G1455,Discounts!C:E,3,0),0)","v":0},{"v":2638.8500000000004,"d":"€2,638.85"}]
["Auto",30630,134070,1,"Normal",0,"LUXE",{"$f":"IFERROR(VLOOKUP(G1456,Discounts!C:E,3,0),0)","v":0},0]
["Auto",30680,30110,1,"Normal",{"v":2478.51,"d":"€2,478.51"},"A010",{"$f":"IFERROR(VLOOKUP(G1457,Discounts!C:E,3,0),0)","v":0},{"v":2478.51,"d":"€2,478.51"}]
["Auto",30680,34260,1,"Normal",{"v":249.59,"d":"€249.59"},"LUXE",{"$f":"IFERROR(VLOOKUP(G1458,Discounts!C:E,3,0),0)","v":0},{"v":249.59,"d":"€249.59"}]
["Auto",30690,123490,1,"Combination",{"v":2728.1,"d":"€2,728.10"},"A010",{"$f":"IFERROR(VLOOKUP(G1459,Discounts!C:E,3,0),0)","v":0},{"v":2728.1000000000004,"d":"€2,728.10"}]
["Auto",30690,134070,1,"Normal",0,"LUXE",{"$f":"IFERROR(VLOOKUP(G1460,Discounts!C:E,3,0),0)","v":0},0]
["Auto",30720,30150,1,"Normal",{"v":2615.7,"d":"€2,615.70"},"A010",{"$f":"IFERROR(VLOOKUP(G1461,Discounts!C:E,3,0),0)","v":0},{"v":2615.7,"d":"€2,615.70"}]
["Auto",30720,34260,1,"Normal",{"v":249.59,"d":"€249.59"},"LUXE",{"$f":"IFERROR(VLOOKUP(G1462,Discounts!C:E,3,0),0)","v":0},{"v":249.59,"d":"€249.59"}]
["Auto",30730,30160,1,"Combination",{"v":2615.7,"d":"€2,615.70"},"",{"$f":"IFERROR(VLOOKUP(G1463,Discounts!C:E,3,0),0)","v":0},{"v":2615.7,"d":"€2,615.70"}]
["Auto",30730,34260,1,"Normal",{"v":249.59,"d":"€249.59"},"LUXE",{"$f":"IFERROR(VLOOKUP(G1464,Discounts!C:E,3,0),0)","v":0},{"v":249.59,"d":"€249.59"}]
["Auto",30740,30170,1,"Combination",{"v":2615.7,"d":"€2,615.70"},"",{"$f":"IFERROR(VLOOKUP(G1465,Discounts!C:E,3,0),0)","v":0},{"v":2615.7,"d":"€2,615.70"}]
["Auto",30740,34260,1,"Normal",{"v":249.59,"d":"€249.59"},"LUXE",{"$f":"IFERROR(VLOOKUP(G1466,Discounts!C:E,3,0),0)","v":0},{"v":249.59,"d":"€249.59"}]
["Auto",30760,30190,1,"Normal",{"v":2474.38,"d":"€2,474.38"},"A010",{"$f":"IFERROR(VLOOKUP(G1467,Discounts!C:E,3,0),0)","v":0},{"v":2474.38,"d":"€2,474.38"}]
["Auto",30760,34260,1,"Normal",{"v":249.59,"d":"€249.59"},"LUXE",{"$f":"IFERROR(VLOOKUP(G1468,Discounts!C:E,3,0),0)","v":0},{"v":249.59,"d":"€249.59"}]
["Auto",30770,30200,1,"Combination",{"v":2474.38,"d":"€2,474.38"},"",{"$f":"IFERROR(VLOOKUP(G1469,Discounts!C:E,3,0),0)","v":0},{"v":2474.38,"d":"€2,474.38"}]
["Auto",30770,34260,1,"Normal",{"v":249.59,"d":"€249.59"},"LUXE",{"$f":"IFERROR(VLOOKUP(G1470,Discounts!C:E,3,0),0)","v":0},{"v":249.59,"d":"€249.59"}]
["Auto",30780,30210,1,"Combination",{"v":2474.38,"d":"€2,474.38"},"",{"$f":"IFERROR(VLOOKUP(G1471,Discounts!C:E,3,0),0)","v":0},{"v":2474.38,"d":"€2,474.38"}]
["Auto",30780,34260,1,"Normal",{"v":249.59,"d":"€249.59"},"LUXE",{"$f":"IFERROR(VLOOKUP(G1472,Discounts!C:E,3,0),0)","v":0},{"v":249.59,"d":"€249.59"}]
["Auto",30840,30270,1,"Normal",{"v":2113.22,"d":"€2,113.22"},"A010",{"$f":"IFERROR(VLOOKUP(G1473,Discounts!C:E,3,0),0)","v":0},{"v":2113.22,"d":"€2,113.22"}]
["Auto",30840,34260,1,"Normal",{"v":249.59,"d":"€249.59"},"LUXE",{"$f":"IFERROR(VLOOKUP(G1474,Discounts!C:E,3,0),0)","v":0},{"v":249.59,"d":"€249.59"}]
["Auto",30850,123520,1,"Combination",{"v":2362.81,"d":"€2,362.81"},"A010",{"$f":"IFERROR(VLOOKUP(G1475,Discounts!C:E,3,0),0)","v":0},{"$f":"IF(E1475=\"Normal\",F1475*(1-H1475),SUMIF(B:B,C1475,I:I)*D1475)","v":{"v":2362.81,"d":"€2,362.81"}}]
["Auto",30850,134070,1,"Normal",0,"LUXE",{"$f":"IFERROR(VLOOKUP(G1476,Discounts!C:E,3,0),0)","v":0},0]
["Auto",30860,30290,1,"Normal",{"v":2117.36,"d":"€2,117.36"},"A010",{"$f":"IFERROR(VLOOKUP(G1477,Discounts!C:E,3,0),0)","v":0},{"v":2117.36,"d":"€2,117.36"}]
["Auto",30860,34260,1,"Normal",{"v":249.59,"d":"€249.59"},"LUXE",{"$f":"IFERROR(VLOOKUP(G1478,Discounts!C:E,3,0),0)","v":0},{"v":249.59,"d":"€249.59"}]
["Auto",30870,123530,1,"Combination",{"v":2366.95,"d":"€2,366.95"},"A010",{"$f":"IFERROR(VLOOKUP(G1479,Discounts!C:E,3,0),0)","v":0},{"v":2366.9500000000003,"d":"€2,366.95"}]
["Auto",30870,134070,1,"Normal",0,"LUXE",{"$f":"IFERROR(VLOOKUP(G1480,Discounts!C:E,3,0),0)","v":0},0]
["Auto",30880,30310,1,"Normal",{"v":2117.36,"d":"€2,117.36"},"A010",{"$f":"IFERROR(VLOOKUP(G1481,Discounts!C:E,3,0),0)","v":0},{"v":2117.36,"d":"€2,117.36"}]
["Auto",30880,34260,1,"Normal",{"v":249.59,"d":"€249.59"},"LUXE",{"$f":"IFERROR(VLOOKUP(G1482,Discounts!C:E,3,0),0)","v":0},{"v":249.59,"d":"€249.59"}]
["Auto",30890,123540,1,"Combination",{"v":2366.95,"d":"€2,366.95"},"A010",{"$f":"IFERROR(VLOOKUP(G1483,Discounts!C:E,3,0),0)","v":0},{"v":2366.9500000000003,"d":"€2,366.95"}]
["Auto",30890,134070,1,"Normal",0,"LUXE",{"$f":"IFERROR(VLOOKUP(G1484,Discounts!C:E,3,0),0)","v":0},0]
["Auto",30900,30330,1,"Normal",{"v":2117.36,"d":"€2,117.36"},"A010",{"$f":"IFERROR(VLOOKUP(G1485,Discounts!C:E,3,0),0)","v":0},{"v":2117.36,"d":"€2,117.36"}]
["Auto",30900,34260,1,"Normal",{"v":249.59,"d":"€249.59"},"LUXE",{"$f":"IFERROR(VLOOKUP(G1486,Discounts!C:E,3,0),0)","v":0},{"v":249.59,"d":"€249.59"}]
["Auto",30910,123550,1,"Combination",{"v":2366.95,"d":"€2,366.95"},"A010",{"$f":"IFERROR(VLOOKUP(G1487,Discounts!C:E,3,0),0)","v":0},{"v":2366.9500000000003,"d":"€2,366.95"}]
["Auto",30910,134070,1,"Normal",0,"LUXE",{"$f":"IFERROR(VLOOKUP(G1488,Discounts!C:E,3,0),0)","v":0},0]
["Auto",30920,30350,1,"Normal",{"v":2117.36,"d":"€2,117.36"},"A010",{"$f":"IFERROR(VLOOKUP(G1489,Discounts!C:E,3,0),0)","v":0},{"v":2117.36,"d":"€2,117.36"}]
["Auto",30920,34260,1,"Normal",{"v":249.59,"d":"€249.59"},"LUXE",{"$f":"IFERROR(VLOOKUP(G1490,Discounts!C:E,3,0),0)","v":0},{"v":249.59,"d":"€249.59"}]
["Auto",30930,123560,1,"Combination",{"v":2366.95,"d":"€2,366.95"},"A010",{"$f":"IFERROR(VLOOKUP(G1491,Discounts!C:E,3,0),0)","v":0},{"v":2366.9500000000003,"d":"€2,366.95"}]
["Auto",30930,134070,1,"Normal",0,"LUXE",{"$f":"IFERROR(VLOOKUP(G1492,Discounts!C:E,3,0),0)","v":0},0]
["Auto",30940,30420,1,"Normal",{"v":2028.1,"d":"€2,028.10"},"A010",{"$f":"IFERROR(VLOOKUP(G1493,Discounts!C:E,3,0),0)","v":0},{"v":2028.1,"d":"€2,028.10"}]
["Auto",30940,34260,1,"Normal",{"v":249.59,"d":"€249.59"},"LUXE",{"$f":"IFERROR(VLOOKUP(G1494,Discounts!C:E,3,0),0)","v":0},{"v":249.59,"d":"€249.59"}]
["Auto",30950,123570,1,"Combination",{"v":2277.69,"d":"€2,277.69"},"A010",{"$f":"IFERROR(VLOOKUP(G1495,Discounts!C:E,3,0),0)","v":0},{"v":2277.69,"d":"€2,277.69"}]
["Auto",30950,134070,1,"Normal",0,"LUXE",{"$f":"IFERROR(VLOOKUP(G1496,Discounts!C:E,3,0),0)","v":0},0]
["Auto",35170,15920,1,"Normal",{"v":416.53,"d":"€416.53"},"E015",{"$f":"IFERROR(VLOOKUP(G1497,Discounts!C:E,3,0),0)","v":0},{"v":416.53,"d":"€416.53"}]
["Auto",35180,16640,1,"Normal",{"v":615.7,"d":"€615.70"},"E012",{"$f":"IFERROR(VLOOKUP(G1498,Discounts!C:E,3,0),0)","v":0},{"v":615.7,"d":"€615.70"}]
["Auto",35190,15920,1,"Normal",{"v":416.53,"d":"€416.53"},"E015",{"$f":"IFERROR(VLOOKUP(G1499,Discounts!C:E,3,0),0)","v":0},{"v":416.53,"d":"€416.53"}]
["Auto",35190,48550,1,"Normal",{"v":19.01,"d":"€19.01"},"SD/SG",{"$f":"IFERROR(VLOOKUP(G1500,Discounts!C:E,3,0),0)","v":0},{"v":19.01,"d":"€19.01"}]
["Auto",35200,16640,1,"Normal",{"v":615.7,"d":"€615.70"},"E012",{"$f":"IFERROR(VLOOKUP(G1501,Discounts!C:E,3,0),0)","v":0},{"v":615.7,"d":"€615.70"}]
["Auto",35200,48550,1,"Normal",{"v":19.01,"d":"€19.01"},"SD/SG",{"$f":"IFERROR(VLOOKUP(G1502,Discounts!C:E,3,0),0)","v":0},{"v":19.01,"d":"€19.01"}]
["Auto",35210,15920,1,"Normal",{"v":416.53,"d":"€416.53"},"E015",{"$f":"IFERROR(VLOOKUP(G1503,Discounts!C:E,3,0),0)","v":0},{"v":416.53,"d":"€416.53"}]
["Auto",35210,48550,1,"Normal",{"v":19.01,"d":"€19.01"},"SD/SG",{"$f":"IFERROR(VLOOKUP(G1504,Discounts!C:E,3,0),0)","v":0},{"v":19.01,"d":"€19.01"}]
["Auto",35220,16640,1,"Normal",{"v":615.7,"d":"€615.70"},"E012",{"$f":"IFERROR(VLOOKUP(G1505,Discounts!C:E,3,0),0)","v":0},{"v":615.7,"d":"€615.70"}]
["Auto",35220,48550,1,"Normal",{"v":19.01,"d":"€19.01"},"SD/SG",{"$f":"IFERROR(VLOOKUP(G1506,Discounts!C:E,3,0),0)","v":0},{"v":19.01,"d":"€19.01"}]
["Auto",35230,15910,1,"Normal",{"v":357.02,"d":"€357.02"},"E016",{"$f":"IFERROR(VLOOKUP(G1507,Discounts!C:E,3,0),0)","v":0},{"v":357.02,"d":"€357.02"}]
["Auto",35240,16630,1,"Normal",{"v":547.11,"d":"€547.11"},"E013",{"$f":"IFERROR(VLOOKUP(G1508,Discounts!C:E,3,0),0)","v":0},{"v":547.11,"d":"€547.11"}]
["Auto",35250,15910,1,"Normal",{"v":357.02,"d":"€357.02"},"E016",{"$f":"IFERROR(VLOOKUP(G1509,Discounts!C:E,3,0),0)","v":0},{"v":357.02,"d":"€357.02"}]
["Auto",35250,48550,1,"Normal",{"v":19.01,"d":"€19.01"},"SD/SG",{"$f":"IFERROR(VLOOKUP(G1510,Discounts!C:E,3,0),0)","v":0},{"v":19.01,"d":"€19.01"}]
["Auto",35260,16630,1,"Normal",{"v":547.11,"d":"€547.11"},"E013",{"$f":"IFERROR(VLOOKUP(G1511,Discounts!C:E,3,0),0)","v":0},{"v":547.11,"d":"€547.11"}]
["Auto",35260,48550,1,"Normal",{"v":19.01,"d":"€19.01"},"SD/SG",{"$f":"IFERROR(VLOOKUP(G1512,Discounts!C:E,3,0),0)","v":0},{"v":19.01,"d":"€19.01"}]
["Auto",35270,15910,1,"Normal",{"v":357.02,"d":"€357.02"},"E016",{"$f":"IFERROR(VLOOKUP(G1513,Discounts!C:E,3,0),0)","v":0},{"v":357.02,"d":"€357.02"}]
["Auto",35270,48550,1,"Normal",{"v":19.01,"d":"€19.01"},"SD/SG",{"$f":"IFERROR(VLOOKUP(G1514,Discounts!C:E,3,0),0)","v":0},{"v":19.01,"d":"€19.01"}]
["Auto",35280,16630,1,"Normal",{"v":547.11,"d":"€547.11"},"E013",{"$f":"IFERROR(VLOOKUP(G1515,Discounts!C:E,3,0),0)","v":0},{"v":547.11,"d":"€547.11"}]
["Auto",35280,48550,1,"Normal",{"v":19.01,"d":"€19.01"},"SD/SG",{"$f":"IFERROR(VLOOKUP(G1516,Discounts!C:E,3,0),0)","v":0},{"v":19.01,"d":"€19.01"}]
["Auto",35290,15960,1,"Normal",{"v":504.96,"d":"€504.96"},"E015",{"$f":"IFERROR(VLOOKUP(G1517,Discounts!C:E,3,0),0)","v":0},{"v":504.96,"d":"€504.96"}]
["Auto",35300,16680,1,"Normal",{"v":714.88,"d":"€714.88"},"E012",{"$f":"IFERROR(VLOOKUP(G1518,Discounts!C:E,3,0),0)","v":0},{"v":714.88,"d":"€714.88"}]
["Auto",35310,15960,1,"Normal",{"v":504.96,"d":"€504.96"},"E015",{"$f":"IFERROR(VLOOKUP(G1519,Discounts!C:E,3,0),0)","v":0},{"v":504.96,"d":"€504.96"}]
["Auto",35310,48550,1,"Normal",{"v":19.01,"d":"€19.01"},"SD/SG",{"$f":"IFERROR(VLOOKUP(G1520,Discounts!C:E,3,0),0)","v":0},{"v":19.01,"d":"€19.01"}]
["Auto",35320,16680,1,"Normal",{"v":714.88,"d":"€714.88"},"E012",{"$f":"IFERROR(VLOOKUP(G1521,Discounts!C:E,3,0),0)","v":0},{"v":714.88,"d":"€714.88"}]
["Auto",35320,48550,1,"Normal",{"v":19.01,"d":"€19.01"},"SD/SG",{"$f":"IFERROR(VLOOKUP(G1522,Discounts!C:E,3,0),0)","v":0},{"v":19.01,"d":"€19.01"}]
["Auto",35330,15960,1,"Normal",{"v":504.96,"d":"€504.96"},"E015",{"$f":"IFERROR(VLOOKUP(G1523,Discounts!C:E,3,0),0)","v":0},{"v":504.96,"d":"€504.96"}]
["Auto",35330,48550,1,"Normal",{"v":19.01,"d":"€19.01"},"SD/SG",{"$f":"IFERROR(VLOOKUP(G1524,Discounts!C:E,3,0),0)","v":0},{"v":19.01,"d":"€19.01"}]
["Auto",35340,16680,1,"Normal",{"v":714.88,"d":"€714.88"},"E012",{"$f":"IFERROR(VLOOKUP(G1525,Discounts!C:E,3,0),0)","v":0},{"v":714.88,"d":"€714.88"}]
["Auto",35340,48550,1,"Normal",{"v":19.01,"d":"€19.01"},"SD/SG",{"$f":"IFERROR(VLOOKUP(G1526,Discounts!C:E,3,0),0)","v":0},{"v":19.01,"d":"€19.01"}]
["Auto",35350,15950,1,"Normal",{"v":428.1,"d":"€428.10"},"E016",{"$f":"IFERROR(VLOOKUP(G1527,Discounts!C:E,3,0),0)","v":0},{"v":428.1,"d":"€428.10"}]
["Auto",35360,16670,1,"Normal",{"v":630.58,"d":"€630.58"},"E013",{"$f":"IFERROR(VLOOKUP(G1528,Discounts!C:E,3,0),0)","v":0},{"v":630.58,"d":"€630.58"}]
["Auto",35370,15950,1,"Normal",{"v":428.1,"d":"€428.10"},"E016",{"$f":"IFERROR(VLOOKUP(G1529,Discounts!C:E,3,0),0)","v":0},{"v":428.1,"d":"€428.10"}]
["Auto",35370,48550,1,"Normal",{"v":19.01,"d":"€19.01"},"SD/SG",{"$f":"IFERROR(VLOOKUP(G1530,Discounts!C:E,3,0),0)","v":0},{"v":19.01,"d":"€19.01"}]
["Auto",35380,16670,1,"Normal",{"v":630.58,"d":"€630.58"},"E013",{"$f":"IFERROR(VLOOKUP(G1531,Discounts!C:E,3,0),0)","v":0},{"v":630.58,"d":"€630.58"}]
["Auto",35380,48550,1,"Normal",{"v":19.01,"d":"€19.01"},"SD/SG",{"$f":"IFERROR(VLOOKUP(G1532,Discounts!C:E,3,0),0)","v":0},{"v":19.01,"d":"€19.01"}]
["Auto",35390,15950,1,"Normal",{"v":428.1,"d":"€428.10"},"E016",{"$f":"IFERROR(VLOOKUP(G1533,Discounts!C:E,3,0),0)","v":0},{"v":428.1,"d":"€428.10"}]
["Auto",35390,48550,1,"Normal",{"v":19.01,"d":"€19.01"},"SD/SG",{"$f":"IFERROR(VLOOKUP(G1534,Discounts!C:E,3,0),0)","v":0},{"v":19.01,"d":"€19.01"}]
["Auto",35400,16670,1,"Normal",{"v":630.58,"d":"€630.58"},"E013",{"$f":"IFERROR(VLOOKUP(G1535,Discounts!C:E,3,0),0)","v":0},{"v":630.58,"d":"€630.58"}]
["Auto",35400,48550,1,"Normal",{"v":19.01,"d":"€19.01"},"SD/SG",{"$f":"IFERROR(VLOOKUP(G1536,Discounts!C:E,3,0),0)","v":0},{"v":19.01,"d":"€19.01"}]
["Auto",36610,35690,1,"Normal",{"v":558.68,"d":"€558.68"},"E016",{"$f":"IFERROR(VLOOKUP(G1537,Discounts!C:E,3,0),0)","v":0},{"v":558.68,"d":"€558.68"}]
["Auto",36620,35690,1,"Normal",{"v":558.68,"d":"€558.68"},"E016",{"$f":"IFERROR(VLOOKUP(G1538,Discounts!C:E,3,0),0)","v":0},{"v":558.68,"d":"€558.68"}]
["Auto",36620,48550,1,"Normal",{"v":19.01,"d":"€19.01"},"SD/SG",{"$f":"IFERROR(VLOOKUP(G1539,Discounts!C:E,3,0),0)","v":0},{"$f":"IF(E1539=\"Normal\",F1539*(1-H1539),SUMIF(B:B,C1539,I:I)*D1539)","v":{"v":19.01,"d":"€19.01"}}]
["Auto",36630,36040,1,"Normal",{"v":749.59,"d":"€749.59"},"E013",{"$f":"IFERROR(VLOOKUP(G1540,Discounts!C:E,3,0),0)","v":0},{"v":749.59,"d":"€749.59"}]
["Auto",36630,48550,1,"Normal",{"v":19.01,"d":"€19.01"},"SD/SG",{"$f":"IFERROR(VLOOKUP(G1541,Discounts!C:E,3,0),0)","v":0},{"v":19.01,"d":"€19.01"}]
["Auto",36640,35690,1,"Normal",{"v":558.68,"d":"€558.68"},"E016",{"$f":"IFERROR(VLOOKUP(G1542,Discounts!C:E,3,0),0)","v":0},{"v":558.68,"d":"€558.68"}]
["Auto",36640,48550,1,"Normal",{"v":19.01,"d":"€19.01"},"SD/SG",{"$f":"IFERROR(VLOOKUP(G1543,Discounts!C:E,3,0),0)","v":0},{"v":19.01,"d":"€19.01"}]
["Auto",36650,35700,1,"Normal",{"v":600.83,"d":"€600.83"},"E016",{"$f":"IFERROR(VLOOKUP(G1544,Discounts!C:E,3,0),0)","v":0},{"v":600.83,"d":"€600.83"}]
["Auto",36660,35700,1,"Normal",{"v":600.83,"d":"€600.83"},"E016",{"$f":"IFERROR(VLOOKUP(G1545,Discounts!C:E,3,0),0)","v":0},{"v":600.83,"d":"€600.83"}]
["Auto",36660,48550,1,"Normal",{"v":19.01,"d":"€19.01"},"SD/SG",{"$f":"IFERROR(VLOOKUP(G1546,Discounts!C:E,3,0),0)","v":0},{"v":19.01,"d":"€19.01"}]
["Auto",36670,35700,1,"Normal",{"v":600.83,"d":"€600.83"},"E016",{"$f":"IFERROR(VLOOKUP(G1547,Discounts!C:E,3,0),0)","v":0},{"v":600.83,"d":"€600.83"}]
["Auto",36670,48550,1,"Normal",{"v":19.01,"d":"€19.01"},"SD/SG",{"$f":"IFERROR(VLOOKUP(G1548,Discounts!C:E,3,0),0)","v":0},{"v":19.01,"d":"€19.01"}]
["Auto",37000,15940,1,"Normal",{"v":387.6,"d":"€387.60"},"E016",{"$f":"IFERROR(VLOOKUP(G1549,Discounts!C:E,3,0),0)","v":0},{"v":387.6,"d":"€387.60"}]
["Auto",37010,15940,1,"Normal",{"v":387.6,"d":"€387.60"},"E016",{"$f":"IFERROR(VLOOKUP(G1550,Discounts!C:E,3,0),0)","v":0},{"v":387.6,"d":"€387.60"}]
["Auto",37010,48550,1,"Normal",{"v":19.01,"d":"€19.01"},"SD/SG",{"$f":"IFERROR(VLOOKUP(G1551,Discounts!C:E,3,0),0)","v":0},{"v":19.01,"d":"€19.01"}]
["Auto",37020,16660,1,"Normal",{"v":586.78,"d":"€586.78"},"E013",{"$f":"IFERROR(VLOOKUP(G1552,Discounts!C:E,3,0),0)","v":0},{"v":586.78,"d":"€586.78"}]
["Auto",37020,48550,1,"Normal",{"v":19.01,"d":"€19.01"},"SD/SG",{"$f":"IFERROR(VLOOKUP(G1553,Discounts!C:E,3,0),0)","v":0},{"v":19.01,"d":"€19.01"}]
["Auto",37030,15940,1,"Normal",{"v":387.6,"d":"€387.60"},"E016",{"$f":"IFERROR(VLOOKUP(G1554,Discounts!C:E,3,0),0)","v":0},{"v":387.6,"d":"€387.60"}]
["Auto",37030,48550,1,"Normal",{"v":19.01,"d":"€19.01"},"SD/SG",{"$f":"IFERROR(VLOOKUP(G1555,Discounts!C:E,3,0),0)","v":0},{"v":19.01,"d":"€19.01"}]
["Auto",37040,15980,1,"Normal",{"v":465.29,"d":"€465.29"},"E016",{"$f":"IFERROR(VLOOKUP(G1556,Discounts!C:E,3,0),0)","v":0},{"v":465.29,"d":"€465.29"}]
["Auto",37050,15980,1,"Normal",{"v":465.29,"d":"€465.29"},"E016",{"$f":"IFERROR(VLOOKUP(G1557,Discounts!C:E,3,0),0)","v":0},{"v":465.29,"d":"€465.29"}]
["Auto",37050,48550,1,"Normal",{"v":19.01,"d":"€19.01"},"SD/SG",{"$f":"IFERROR(VLOOKUP(G1558,Discounts!C:E,3,0),0)","v":0},{"v":19.01,"d":"€19.01"}]
["Auto",37060,16700,1,"Normal",{"v":637.19,"d":"€637.19"},"E013",{"$f":"IFERROR(VLOOKUP(G1559,Discounts!C:E,3,0),0)","v":0},{"v":637.19,"d":"€637.19"}]
["Auto",37060,48550,1,"Normal",{"v":19.01,"d":"€19.01"},"SD/SG",{"$f":"IFERROR(VLOOKUP(G1560,Discounts!C:E,3,0),0)","v":0},{"v":19.01,"d":"€19.01"}]
["Auto",37070,15980,1,"Normal",{"v":465.29,"d":"€465.29"},"E016",{"$f":"IFERROR(VLOOKUP(G1561,Discounts!C:E,3,0),0)","v":0},{"v":465.29,"d":"€465.29"}]
["Auto",37070,48550,1,"Normal",{"v":19.01,"d":"€19.01"},"SD/SG",{"$f":"IFERROR(VLOOKUP(G1562,Discounts!C:E,3,0),0)","v":0},{"v":19.01,"d":"€19.01"}]
["Auto",37400,15930,1,"Normal",{"v":454.55,"d":"€454.55"},"E016",{"$f":"IFERROR(VLOOKUP(G1563,Discounts!C:E,3,0),0)","v":0},{"v":454.55,"d":"€454.55"}]
["Auto",37410,16650,1,"Normal",{"v":666.94,"d":"€666.94"},"E013",{"$f":"IFERROR(VLOOKUP(G1564,Discounts!C:E,3,0),0)","v":0},{"v":666.94,"d":"€666.94"}]
["Auto",37420,15930,1,"Normal",{"v":454.55,"d":"€454.55"},"E016",{"$f":"IFERROR(VLOOKUP(G1565,Discounts!C:E,3,0),0)","v":0},{"v":454.55,"d":"€454.55"}]
["Auto",37420,48550,1,"Normal",{"v":19.01,"d":"€19.01"},"SD/SG",{"$f":"IFERROR(VLOOKUP(G1566,Discounts!C:E,3,0),0)","v":0},{"v":19.01,"d":"€19.01"}]
["Auto",37430,16650,1,"Normal",{"v":666.94,"d":"€666.94"},"E013",{"$f":"IFERROR(VLOOKUP(G1567,Discounts!C:E,3,0),0)","v":0},{"v":666.94,"d":"€666.94"}]
["Auto",37430,48550,1,"Normal",{"v":19.01,"d":"€19.01"},"SD/SG",{"$f":"IFERROR(VLOOKUP(G1568,Discounts!C:E,3,0),0)","v":0},{"v":19.01,"d":"€19.01"}]
["Auto",37440,15930,1,"Normal",{"v":454.55,"d":"€454.55"},"E016",{"$f":"IFERROR(VLOOKUP(G1569,Discounts!C:E,3,0),0)","v":0},{"v":454.55,"d":"€454.55"}]
["Auto",37440,48550,1,"Normal",{"v":19.01,"d":"€19.01"},"SD/SG",{"$f":"IFERROR(VLOOKUP(G1570,Discounts!C:E,3,0),0)","v":0},{"v":19.01,"d":"€19.01"}]
["Auto",37450,16650,1,"Normal",{"v":666.94,"d":"€666.94"},"E013",{"$f":"IFERROR(VLOOKUP(G1571,Discounts!C:E,3,0),0)","v":0},{"v":666.94,"d":"€666.94"}]
["Auto",37450,48550,1,"Normal",{"v":19.01,"d":"€19.01"},"SD/SG",{"$f":"IFERROR(VLOOKUP(G1572,Discounts!C:E,3,0),0)","v":0},{"v":19.01,"d":"€19.01"}]
["Auto",37460,15970,1,"Normal",{"v":550.41,"d":"€550.41"},"E016",{"$f":"IFERROR(VLOOKUP(G1573,Discounts!C:E,3,0),0)","v":0},{"v":550.41,"d":"€550.41"}]
["Auto",37470,16690,1,"Normal",{"v":778.51,"d":"€778.51"},"E013",{"$f":"IFERROR(VLOOKUP(G1574,Discounts!C:E,3,0),0)","v":0},{"v":778.51,"d":"€778.51"}]
["Auto",37480,15970,1,"Normal",{"v":550.41,"d":"€550.41"},"E016",{"$f":"IFERROR(VLOOKUP(G1575,Discounts!C:E,3,0),0)","v":0},{"v":550.41,"d":"€550.41"}]
["Auto",37480,48550,1,"Normal",{"v":19.01,"d":"€19.01"},"SD/SG",{"$f":"IFERROR(VLOOKUP(G1576,Discounts!C:E,3,0),0)","v":0},{"v":19.01,"d":"€19.01"}]
["Auto",37490,16690,1,"Normal",{"v":778.51,"d":"€778.51"},"E013",{"$f":"IFERROR(VLOOKUP(G1577,Discounts!C:E,3,0),0)","v":0},{"v":778.51,"d":"€778.51"}]
["Auto",37490,48550,1,"Normal",{"v":19.01,"d":"€19.01"},"SD/SG",{"$f":"IFERROR(VLOOKUP(G1578,Discounts!C:E,3,0),0)","v":0},{"v":19.01,"d":"€19.01"}]
["Auto",37500,15970,1,"Normal",{"v":550.41,"d":"€550.41"},"E016",{"$f":"IFERROR(VLOOKUP(G1579,Discounts!C:E,3,0),0)","v":0},{"v":550.41,"d":"€550.41"}]
["Auto",37500,48550,1,"Normal",{"v":19.01,"d":"€19.01"},"SD/SG",{"$f":"IFERROR(VLOOKUP(G1580,Discounts!C:E,3,0),0)","v":0},{"v":19.01,"d":"€19.01"}]
["Auto",37510,16690,1,"Normal",{"v":778.51,"d":"€778.51"},"E013",{"$f":"IFERROR(VLOOKUP(G1581,Discounts!C:E,3,0),0)","v":0},{"v":778.51,"d":"€778.51"}]
["Auto",37510,48550,1,"Normal",{"v":19.01,"d":"€19.01"},"SD/SG",{"$f":"IFERROR(VLOOKUP(G1582,Discounts!C:E,3,0),0)","v":0},{"v":19.01,"d":"€19.01"}]
["Auto",41680,123880,1,"Normal",0,"A015",{"$f":"IFERROR(VLOOKUP(G1583,Discounts!C:E,3,0),0)","v":0},0]
["Auto",41680,134070,1,"Normal",0,"LUXE",{"$f":"IFERROR(VLOOKUP(G1584,Discounts!C:E,3,0),0)","v":0},0]
["Auto",41690,34260,1,"Normal",{"v":249.59,"d":"€249.59"},"LUXE",{"$f":"IFERROR(VLOOKUP(G1585,Discounts!C:E,3,0),0)","v":0},{"v":249.59,"d":"€249.59"}]
["Auto",41690,41670,1,"Normal",0,"A015",{"$f":"IFERROR(VLOOKUP(G1586,Discounts!C:E,3,0),0)","v":0},0]
["Auto",41700,123890,1,"Combination",{"v":249.59,"d":"€249.59"},"A015",{"$f":"IFERROR(VLOOKUP(G1587,Discounts!C:E,3,0),0)","v":0},{"v":249.59,"d":"€249.59"}]
["Auto",41700,134070,1,"Normal",0,"LUXE",{"$f":"IFERROR(VLOOKUP(G1588,Discounts!C:E,3,0),0)","v":0},0]
["Auto",41720,123900,1,"Normal",{"v":2022.31,"d":"€2,022.31"},"A015",{"$f":"IFERROR(VLOOKUP(G1589,Discounts!C:E,3,0),0)","v":0},{"v":2022.31,"d":"€2,022.31"}]
["Auto",41720,134070,1,"Normal",0,"LUXE",{"$f":"IFERROR(VLOOKUP(G1590,Discounts!C:E,3,0),0)","v":0},0]
["Auto",41730,34260,1,"Normal",{"v":249.59,"d":"€249.59"},"LUXE",{"$f":"IFERROR(VLOOKUP(G1591,Discounts!C:E,3,0),0)","v":0},{"v":249.59,"d":"€249.59"}]
["Auto",41730,41710,1,"Normal",{"v":2022.31,"d":"€2,022.31"},"A015",{"$f":"IFERROR(VLOOKUP(G1592,Discounts!C:E,3,0),0)","v":0},{"v":2022.31,"d":"€2,022.31"}]
["Auto",41740,123910,1,"Combination",{"v":2271.9,"d":"€2,271.90"},"A015",{"$f":"IFERROR(VLOOKUP(G1593,Discounts!C:E,3,0),0)","v":0},{"v":2271.9,"d":"€2,271.90"}]
["Auto",41740,134070,1,"Normal",0,"LUXE",{"$f":"IFERROR(VLOOKUP(G1594,Discounts!C:E,3,0),0)","v":0},0]
["Auto",41760,123920,1,"Normal",{"v":2266.94,"d":"€2,266.94"},"A015",{"$f":"IFERROR(VLOOKUP(G1595,Discounts!C:E,3,0),0)","v":0},{"v":2266.94,"d":"€2,266.94"}]
["Auto",41760,134070,1,"Normal",0,"LUXE",{"$f":"IFERROR(VLOOKUP(G1596,Discounts!C:E,3,0),0)","v":0},0]
["Auto",41770,34260,1,"Normal",{"v":249.59,"d":"€249.59"},"LUXE",{"$f":"IFERROR(VLOOKUP(G1597,Discounts!C:E,3,0),0)","v":0},{"v":249.59,"d":"€249.59"}]
["Auto",41770,41750,1,"Normal",{"v":2266.94,"d":"€2,266.94"},"A015",{"$f":"IFERROR(VLOOKUP(G1598,Discounts!C:E,3,0),0)","v":0},{"v":2266.94,"d":"€2,266.94"}]
["Auto",41780,123930,1,"Combination",{"v":2516.53,"d":"€2,516.53"},"A015",{"$f":"IFERROR(VLOOKUP(G1599,Discounts!C:E,3,0),0)","v":0},{"v":2516.53,"d":"€2,516.53"}]
["Auto",41780,134070,1,"Normal",0,"LUXE",{"$f":"IFERROR(VLOOKUP(G1600,Discounts!C:E,3,0),0)","v":0},0]
["Auto",41800,123940,1,"Normal",{"v":1426.45,"d":"€1,426.45"},"A015",{"$f":"IFERROR(VLOOKUP(G1601,Discounts!C:E,3,0),0)","v":0},{"v":1426.45,"d":"€1,426.45"}]
["Auto",41800,134070,1,"Normal",0,"LUXE",{"$f":"IFERROR(VLOOKUP(G1602,Discounts!C:E,3,0),0)","v":0},0]
["Auto",41810,34260,1,"Normal",{"v":249.59,"d":"€249.59"},"LUXE",{"$f":"IFERROR(VLOOKUP(G1603,Discounts!C:E,3,0),0)","v":0},{"$f":"IF(E1603=\"Normal\",F1603*(1-H1603),SUMIF(B:B,C1603,I:I)*D1603)","v":{"v":249.59,"d":"€249.59"}}]
["Auto",41810,41790,1,"Normal",{"v":1426.45,"d":"€1,426.45"},"A015",{"$f":"IFERROR(VLOOKUP(G1604,Discounts!C:E,3,0),0)","v":0},{"v":1426.45,"d":"€1,426.45"}]
["Auto",41820,123950,1,"Combination",{"v":1676.04,"d":"€1,676.04"},"A015",{"$f":"IFERROR(VLOOKUP(G1605,Discounts!C:E,3,0),0)","v":0},{"v":1676.04,"d":"€1,676.04"}]
["Auto",41820,134070,1,"Normal",0,"LUXE",{"$f":"IFERROR(VLOOKUP(G1606,Discounts!C:E,3,0),0)","v":0},0]
["Auto",41840,123960,1,"Normal",{"v":1426.45,"d":"€1,426.45"},"A015",{"$f":"IFERROR(VLOOKUP(G1607,Discounts!C:E,3,0),0)","v":0},{"v":1426.45,"d":"€1,426.45"}]
["Auto",41840,134070,1,"Normal",0,"LUXE",{"$f":"IFERROR(VLOOKUP(G1608,Discounts!C:E,3,0),0)","v":0},0]
["Auto",41850,34260,1,"Normal",{"v":249.59,"d":"€249.59"},"LUXE",{"$f":"IFERROR(VLOOKUP(G1609,Discounts!C:E,3,0),0)","v":0},{"v":249.59,"d":"€249.59"}]
["Auto",41850,41830,1,"Normal",{"v":1426.45,"d":"€1,426.45"},"A015",{"$f":"IFERROR(VLOOKUP(G1610,Discounts!C:E,3,0),0)","v":0},{"v":1426.45,"d":"€1,426.45"}]
["Auto",41860,123970,1,"Combination",{"v":1676.04,"d":"€1,676.04"},"A015",{"$f":"IFERROR(VLOOKUP(G1611,Discounts!C:E,3,0),0)","v":0},{"v":1676.04,"d":"€1,676.04"}]
["Auto",41860,134070,1,"Normal",0,"LUXE",{"$f":"IFERROR(VLOOKUP(G1612,Discounts!C:E,3,0),0)","v":0},0]
["Auto",41880,123980,1,"Normal",{"v":1318.18,"d":"€1,318.18"},"A010",{"$f":"IFERROR(VLOOKUP(G1613,Discounts!C:E,3,0),0)","v":0},{"v":1318.18,"d":"€1,318.18"}]
["Auto",41880,134070,1,"Normal",0,"LUXE",{"$f":"IFERROR(VLOOKUP(G1614,Discounts!C:E,3,0),0)","v":0},0]
["Auto",41890,34260,1,"Normal",{"v":249.59,"d":"€249.59"},"LUXE",{"$f":"IFERROR(VLOOKUP(G1615,Discounts!C:E,3,0),0)","v":0},{"v":249.59,"d":"€249.59"}]
["Auto",41890,41870,1,"Normal",{"v":1318.18,"d":"€1,318.18"},"A010",{"$f":"IFERROR(VLOOKUP(G1616,Discounts!C:E,3,0),0)","v":0},{"v":1318.18,"d":"€1,318.18"}]
["Auto",41900,123990,1,"Combination",{"v":1567.77,"d":"€1,567.77"},"A010",{"$f":"IFERROR(VLOOKUP(G1617,Discounts!C:E,3,0),0)","v":0},{"v":1567.77,"d":"€1,567.77"}]
["Auto",41900,134070,1,"Normal",0,"LUXE",{"$f":"IFERROR(VLOOKUP(G1618,Discounts!C:E,3,0),0)","v":0},0]
["Auto",41920,124000,1,"Normal",{"v":1195.04,"d":"€1,195.04"},"A010",{"$f":"IFERROR(VLOOKUP(G1619,Discounts!C:E,3,0),0)","v":0},{"v":1195.04,"d":"€1,195.04"}]
["Auto",41920,134070,1,"Normal",0,"LUXE",{"$f":"IFERROR(VLOOKUP(G1620,Discounts!C:E,3,0),0)","v":0},0]
["Auto",41930,34260,1,"Normal",{"v":249.59,"d":"€249.59"},"LUXE",{"$f":"IFERROR(VLOOKUP(G1621,Discounts!C:E,3,0),0)","v":0},{"v":249.59,"d":"€249.59"}]
["Auto",41930,41910,1,"Normal",{"v":1195.04,"d":"€1,195.04"},"A010",{"$f":"IFERROR(VLOOKUP(G1622,Discounts!C:E,3,0),0)","v":0},{"v":1195.04,"d":"€1,195.04"}]
["Auto",41940,124010,1,"Combination",{"v":1444.63,"d":"€1,444.63"},"A010",{"$f":"IFERROR(VLOOKUP(G1623,Discounts!C:E,3,0),0)","v":0},{"v":1444.6299999999999,"d":"€1,444.63"}]
["Auto",41940,134070,1,"Normal",0,"LUXE",{"$f":"IFERROR(VLOOKUP(G1624,Discounts!C:E,3,0),0)","v":0},0]
["Auto",41960,124020,1,"Normal",{"v":1280.99,"d":"€1,280.99"},"A010",{"$f":"IFERROR(VLOOKUP(G1625,Discounts!C:E,3,0),0)","v":0},{"v":1280.99,"d":"€1,280.99"}]
["Auto",41960,134070,1,"Normal",0,"LUXE",{"$f":"IFERROR(VLOOKUP(G1626,Discounts!C:E,3,0),0)","v":0},0]
["Auto",41970,34260,1,"Normal",{"v":249.59,"d":"€249.59"},"LUXE",{"$f":"IFERROR(VLOOKUP(G1627,Discounts!C:E,3,0),0)","v":0},{"v":249.59,"d":"€249.59"}]
["Auto",41970,41950,1,"Normal",{"v":1280.99,"d":"€1,280.99"},"A010",{"$f":"IFERROR(VLOOKUP(G1628,Discounts!C:E,3,0),0)","v":0},{"v":1280.99,"d":"€1,280.99"}]
["Auto",41980,124030,1,"Combination",{"v":1530.58,"d":"€1,530.58"},"A010",{"$f":"IFERROR(VLOOKUP(G1629,Discounts!C:E,3,0),0)","v":0},{"v":1530.58,"d":"€1,530.58"}]
["Auto",41980,134070,1,"Normal",0,"LUXE",{"$f":"IFERROR(VLOOKUP(G1630,Discounts!C:E,3,0),0)","v":0},0]
["Auto",42000,124040,1,"Normal",{"v":1360.33,"d":"€1,360.33"},"A010",{"$f":"IFERROR(VLOOKUP(G1631,Discounts!C:E,3,0),0)","v":0},{"v":1360.33,"d":"€1,360.33"}]
["Auto",42000,134070,1,"Normal",0,"LUXE",{"$f":"IFERROR(VLOOKUP(G1632,Discounts!C:E,3,0),0)","v":0},0]
["Auto",42040,124050,1,"Normal",{"v":1376.86,"d":"€1,376.86"},"A010",{"$f":"IFERROR(VLOOKUP(G1633,Discounts!C:E,3,0),0)","v":0},{"v":1376.86,"d":"€1,376.86"}]
["Auto",42040,134070,1,"Normal",0,"LUXE",{"$f":"IFERROR(VLOOKUP(G1634,Discounts!C:E,3,0),0)","v":0},0]
["Auto",42050,34260,1,"Normal",{"v":249.59,"d":"€249.59"},"LUXE",{"$f":"IFERROR(VLOOKUP(G1635,Discounts!C:E,3,0),0)","v":0},{"v":249.59,"d":"€249.59"}]
["Auto",42050,42030,1,"Normal",{"v":1376.86,"d":"€1,376.86"},"A010",{"$f":"IFERROR(VLOOKUP(G1636,Discounts!C:E,3,0),0)","v":0},{"v":1376.86,"d":"€1,376.86"}]
["Auto",42060,124060,1,"Combination",{"v":1626.45,"d":"€1,626.45"},"A010",{"$f":"IFERROR(VLOOKUP(G1637,Discounts!C:E,3,0),0)","v":0},{"v":1626.4499999999998,"d":"€1,626.45"}]
["Auto",42060,134070,1,"Normal",0,"LUXE",{"$f":"IFERROR(VLOOKUP(G1638,Discounts!C:E,3,0),0)","v":0},0]
["Auto",44680,44480,1,"Normal",{"v":1118.18,"d":"€1,118.18"},"A010",{"$f":"IFERROR(VLOOKUP(G1639,Discounts!C:E,3,0),0)","v":0},{"v":1118.18,"d":"€1,118.18"}]
["Auto",44680,53080,1,"Normal",{"v":132.23,"d":"€132.23"},"LUXE",{"$f":"IFERROR(VLOOKUP(G1640,Discounts!C:E,3,0),0)","v":0},{"v":132.23,"d":"€132.23"}]
["Auto",44690,44490,1,"Normal",{"v":1104.96,"d":"€1,104.96"},"A010",{"$f":"IFERROR(VLOOKUP(G1641,Discounts!C:E,3,0),0)","v":0},{"v":1104.96,"d":"€1,104.96"}]
["Auto",44690,53080,1,"Normal",{"v":132.23,"d":"€132.23"},"LUXE",{"$f":"IFERROR(VLOOKUP(G1642,Discounts!C:E,3,0),0)","v":0},{"v":132.23,"d":"€132.23"}]
["Auto",44700,44500,1,"Normal",{"v":1149.59,"d":"€1,149.59"},"A010",{"$f":"IFERROR(VLOOKUP(G1643,Discounts!C:E,3,0),0)","v":0},{"v":1149.59,"d":"€1,149.59"}]
["Auto",44700,53080,1,"Normal",{"v":132.23,"d":"€132.23"},"LUXE",{"$f":"IFERROR(VLOOKUP(G1644,Discounts!C:E,3,0),0)","v":0},{"v":132.23,"d":"€132.23"}]
["Auto",44710,44510,1,"Normal",{"v":1237.19,"d":"€1,237.19"},"A010",{"$f":"IFERROR(VLOOKUP(G1645,Discounts!C:E,3,0),0)","v":0},{"v":1237.19,"d":"€1,237.19"}]
["Auto",44710,53080,1,"Normal",{"v":132.23,"d":"€132.23"},"LUXE",{"$f":"IFERROR(VLOOKUP(G1646,Discounts!C:E,3,0),0)","v":0},{"v":132.23,"d":"€132.23"}]
["Auto",44720,44520,1,"Normal",{"v":1057.02,"d":"€1,057.02"},"A010",{"$f":"IFERROR(VLOOKUP(G1647,Discounts!C:E,3,0),0)","v":0},{"v":1057.02,"d":"€1,057.02"}]
["Auto",44720,53080,1,"Normal",{"v":132.23,"d":"€132.23"},"LUXE",{"$f":"IFERROR(VLOOKUP(G1648,Discounts!C:E,3,0),0)","v":0},{"v":132.23,"d":"€132.23"}]
["Auto",44730,44530,1,"Normal",{"v":1216.53,"d":"€1,216.53"},"A010",{"$f":"IFERROR(VLOOKUP(G1649,Discounts!C:E,3,0),0)","v":0},{"v":1216.53,"d":"€1,216.53"}]
["Auto",44730,53080,1,"Normal",{"v":132.23,"d":"€132.23"},"LUXE",{"$f":"IFERROR(VLOOKUP(G1650,Discounts!C:E,3,0),0)","v":0},{"v":132.23,"d":"€132.23"}]
["Auto",44740,44540,1,"Normal",{"v":1254.55,"d":"€1,254.55"},"A010",{"$f":"IFERROR(VLOOKUP(G1651,Discounts!C:E,3,0),0)","v":0},{"v":1254.55,"d":"€1,254.55"}]
["Auto",44740,53080,1,"Normal",{"v":132.23,"d":"€132.23"},"LUXE",{"$f":"IFERROR(VLOOKUP(G1652,Discounts!C:E,3,0),0)","v":0},{"v":132.23,"d":"€132.23"}]
["Auto",44750,44550,1,"Normal",{"v":1370.25,"d":"€1,370.25"},"A010",{"$f":"IFERROR(VLOOKUP(G1653,Discounts!C:E,3,0),0)","v":0},{"v":1370.25,"d":"€1,370.25"}]
["Auto",44750,53080,1,"Normal",{"v":132.23,"d":"€132.23"},"LUXE",{"$f":"IFERROR(VLOOKUP(G1654,Discounts!C:E,3,0),0)","v":0},{"v":132.23,"d":"€132.23"}]
["Auto",44760,44560,1,"Normal",{"v":981.82,"d":"€981.82"},"A010",{"$f":"IFERROR(VLOOKUP(G1655,Discounts!C:E,3,0),0)","v":0},{"v":981.82,"d":"€981.82"}]
["Auto",44760,53080,1,"Normal",{"v":132.23,"d":"€132.23"},"LUXE",{"$f":"IFERROR(VLOOKUP(G1656,Discounts!C:E,3,0),0)","v":0},{"v":132.23,"d":"€132.23"}]
["Auto",44770,44570,1,"Normal",{"v":1216.53,"d":"€1,216.53"},"A010",{"$f":"IFERROR(VLOOKUP(G1657,Discounts!C:E,3,0),0)","v":0},{"v":1216.53,"d":"€1,216.53"}]
["Auto",44770,53080,1,"Normal",{"v":132.23,"d":"€132.23"},"LUXE",{"$f":"IFERROR(VLOOKUP(G1658,Discounts!C:E,3,0),0)","v":0},{"v":132.23,"d":"€132.23"}]
["Auto",44780,44580,1,"Normal",{"v":1067.77,"d":"€1,067.77"},"A010",{"$f":"IFERROR(VLOOKUP(G1659,Discounts!C:E,3,0),0)","v":0},{"v":1067.77,"d":"€1,067.77"}]
["Auto",44780,53080,1,"Normal",{"v":132.23,"d":"€132.23"},"LUXE",{"$f":"IFERROR(VLOOKUP(G1660,Discounts!C:E,3,0),0)","v":0},{"v":132.23,"d":"€132.23"}]
["Auto",44790,44590,1,"Normal",{"v":1138.02,"d":"€1,138.02"},"A010",{"$f":"IFERROR(VLOOKUP(G1661,Discounts!C:E,3,0),0)","v":0},{"v":1138.02,"d":"€1,138.02"}]
["Auto",44790,53080,1,"Normal",{"v":132.23,"d":"€132.23"},"LUXE",{"$f":"IFERROR(VLOOKUP(G1662,Discounts!C:E,3,0),0)","v":0},{"v":132.23,"d":"€132.23"}]
["Auto",44800,44600,1,"Normal",{"v":1219.01,"d":"€1,219.01"},"A010",{"$f":"IFERROR(VLOOKUP(G1663,Discounts!C:E,3,0),0)","v":0},{"v":1219.01,"d":"€1,219.01"}]
["Auto",44800,53080,1,"Normal",{"v":132.23,"d":"€132.23"},"LUXE",{"$f":"IFERROR(VLOOKUP(G1664,Discounts!C:E,3,0),0)","v":0},{"v":132.23,"d":"€132.23"}]
["Auto",44810,44610,1,"Normal",{"v":1185.95,"d":"€1,185.95"},"A010",{"$f":"IFERROR(VLOOKUP(G1665,Discounts!C:E,3,0),0)","v":0},{"v":1185.95,"d":"€1,185.95"}]
["Auto",44810,53080,1,"Normal",{"v":132.23,"d":"€132.23"},"LUXE",{"$f":"IFERROR(VLOOKUP(G1666,Discounts!C:E,3,0),0)","v":0},{"v":132.23,"d":"€132.23"}]
["Auto",44820,44620,1,"Normal",{"v":1540.5,"d":"€1,540.50"},"A010",{"$f":"IFERROR(VLOOKUP(G1667,Discounts!C:E,3,0),0)","v":0},{"$f":"IF(E1667=\"Normal\",F1667*(1-H1667),SUMIF(B:B,C1667,I:I)*D1667)","v":{"v":1540.5,"d":"€1,540.50"}}]
["Auto",44820,53080,1,"Normal",{"v":132.23,"d":"€132.23"},"LUXE",{"$f":"IFERROR(VLOOKUP(G1668,Discounts!C:E,3,0),0)","v":0},{"v":132.23,"d":"€132.23"}]
["Auto",44830,44630,1,"Normal",{"v":1420.66,"d":"€1,420.66"},"A010",{"$f":"IFERROR(VLOOKUP(G1669,Discounts!C:E,3,0),0)","v":0},{"v":1420.66,"d":"€1,420.66"}]
["Auto",44830,53080,1,"Normal",{"v":132.23,"d":"€132.23"},"LUXE",{"$f":"IFERROR(VLOOKUP(G1670,Discounts!C:E,3,0),0)","v":0},{"v":132.23,"d":"€132.23"}]
["Auto",44840,44640,1,"Normal",{"v":1500.83,"d":"€1,500.83"},"A010",{"$f":"IFERROR(VLOOKUP(G1671,Discounts!C:E,3,0),0)","v":0},{"v":1500.83,"d":"€1,500.83"}]
["Auto",44840,53080,1,"Normal",{"v":132.23,"d":"€132.23"},"LUXE",{"$f":"IFERROR(VLOOKUP(G1672,Discounts!C:E,3,0),0)","v":0},{"v":132.23,"d":"€132.23"}]
["Auto",44850,44650,1,"Normal",{"v":1613.22,"d":"€1,613.22"},"A010",{"$f":"IFERROR(VLOOKUP(G1673,Discounts!C:E,3,0),0)","v":0},{"v":1613.22,"d":"€1,613.22"}]
["Auto",44850,53080,1,"Normal",{"v":132.23,"d":"€132.23"},"LUXE",{"$f":"IFERROR(VLOOKUP(G1674,Discounts!C:E,3,0),0)","v":0},{"v":132.23,"d":"€132.23"}]
["Auto",44860,44660,1,"Normal",{"v":1662.81,"d":"€1,662.81"},"A010",{"$f":"IFERROR(VLOOKUP(G1675,Discounts!C:E,3,0),0)","v":0},{"v":1662.81,"d":"€1,662.81"}]
["Auto",44860,53080,1,"Normal",{"v":132.23,"d":"€132.23"},"LUXE",{"$f":"IFERROR(VLOOKUP(G1676,Discounts!C:E,3,0),0)","v":0},{"v":132.23,"d":"€132.23"}]
["Auto",44870,44670,1,"Normal",{"v":1774.38,"d":"€1,774.38"},"A010",{"$f":"IFERROR(VLOOKUP(G1677,Discounts!C:E,3,0),0)","v":0},{"v":1774.38,"d":"€1,774.38"}]
["Auto",44870,53080,1,"Normal",{"v":132.23,"d":"€132.23"},"LUXE",{"$f":"IFERROR(VLOOKUP(G1678,Discounts!C:E,3,0),0)","v":0},{"v":132.23,"d":"€132.23"}]
["Auto",44970,29740,1,"Normal",{"v":913.22,"d":"€913.22"},"LUXE",{"$f":"IFERROR(VLOOKUP(G1679,Discounts!C:E,3,0),0)","v":0},{"v":913.22,"d":"€913.22"}]
["Auto",44970,54020,1,"Normal",{"v":105.79,"d":"€105.79"},"LUXE",{"$f":"IFERROR(VLOOKUP(G1680,Discounts!C:E,3,0),0)","v":0},{"v":105.79,"d":"€105.79"}]
["Auto",44980,29760,1,"Normal",{"v":913.22,"d":"€913.22"},"LUXE",{"$f":"IFERROR(VLOOKUP(G1681,Discounts!C:E,3,0),0)","v":0},{"v":913.22,"d":"€913.22"}]
["Auto",44980,54020,1,"Normal",{"v":105.79,"d":"€105.79"},"LUXE",{"$f":"IFERROR(VLOOKUP(G1682,Discounts!C:E,3,0),0)","v":0},{"v":105.79,"d":"€105.79"}]
["Auto",44990,29780,1,"Normal",{"v":913.22,"d":"€913.22"},"LUXE",{"$f":"IFERROR(VLOOKUP(G1683,Discounts!C:E,3,0),0)","v":0},{"v":913.22,"d":"€913.22"}]
["Auto",44990,54020,1,"Normal",{"v":105.79,"d":"€105.79"},"LUXE",{"$f":"IFERROR(VLOOKUP(G1684,Discounts!C:E,3,0),0)","v":0},{"v":105.79,"d":"€105.79"}]
["Auto",45000,29800,1,"Normal",{"v":913.22,"d":"€913.22"},"LUXE",{"$f":"IFERROR(VLOOKUP(G1685,Discounts!C:E,3,0),0)","v":0},{"v":913.22,"d":"€913.22"}]
["Auto",45000,54020,1,"Normal",{"v":105.79,"d":"€105.79"},"LUXE",{"$f":"IFERROR(VLOOKUP(G1686,Discounts!C:E,3,0),0)","v":0},{"v":105.79,"d":"€105.79"}]
["Auto",45010,29930,1,"Normal",{"v":595.87,"d":"€595.87"},"LUXE",{"$f":"IFERROR(VLOOKUP(G1687,Discounts!C:E,3,0),0)","v":0},{"v":595.87,"d":"€595.87"}]
["Auto",45010,54020,1,"Normal",{"v":105.79,"d":"€105.79"},"LUXE",{"$f":"IFERROR(VLOOKUP(G1688,Discounts!C:E,3,0),0)","v":0},{"v":105.79,"d":"€105.79"}]
["Auto",45220,44890,1,"Normal",{"v":40.5,"d":"€40.50"},"SD/SG",{"$f":"IFERROR(VLOOKUP(G1689,Discounts!C:E,3,0),0)","v":0},{"v":40.5,"d":"€40.50"}]
["Auto",45220,45210,1,"Normal",{"v":557.85,"d":"€557.85"},"D050",{"$f":"IFERROR(VLOOKUP(G1690,Discounts!C:E,3,0),0)","v":0},{"v":557.85,"d":"€557.85"}]
["Auto",45940,124070,1,"Normal",{"v":1426.45,"d":"€1,426.45"},"A015",{"$f":"IFERROR(VLOOKUP(G1691,Discounts!C:E,3,0),0)","v":0},{"v":1426.45,"d":"€1,426.45"}]
["Auto",45940,134070,1,"Normal",0,"LUXE",{"$f":"IFERROR(VLOOKUP(G1692,Discounts!C:E,3,0),0)","v":0},0]
["Auto",45950,34260,1,"Normal",{"v":249.59,"d":"€249.59"},"LUXE",{"$f":"IFERROR(VLOOKUP(G1693,Discounts!C:E,3,0),0)","v":0},{"v":249.59,"d":"€249.59"}]
["Auto",45950,45930,1,"Normal",{"v":1426.45,"d":"€1,426.45"},"A015",{"$f":"IFERROR(VLOOKUP(G1694,Discounts!C:E,3,0),0)","v":0},{"v":1426.45,"d":"€1,426.45"}]
["Auto",45960,124080,1,"Combination",{"v":1676.04,"d":"€1,676.04"},"A015",{"$f":"IFERROR(VLOOKUP(G1695,Discounts!C:E,3,0),0)","v":0},{"v":1676.04,"d":"€1,676.04"}]
["Auto",45960,134070,1,"Normal",0,"LUXE",{"$f":"IFERROR(VLOOKUP(G1696,Discounts!C:E,3,0),0)","v":0},0]
["Auto",46050,124090,1,"Normal",{"v":1426.45,"d":"€1,426.45"},"A015",{"$f":"IFERROR(VLOOKUP(G1697,Discounts!C:E,3,0),0)","v":0},{"v":1426.45,"d":"€1,426.45"}]
["Auto",46050,134070,1,"Normal",0,"LUXE",{"$f":"IFERROR(VLOOKUP(G1698,Discounts!C:E,3,0),0)","v":0},0]
["Auto",46060,34260,1,"Normal",{"v":249.59,"d":"€249.59"},"LUXE",{"$f":"IFERROR(VLOOKUP(G1699,Discounts!C:E,3,0),0)","v":0},{"v":249.59,"d":"€249.59"}]
["Auto",46060,46040,1,"Normal",{"v":1426.45,"d":"€1,426.45"},"A015",{"$f":"IFERROR(VLOOKUP(G1700,Discounts!C:E,3,0),0)","v":0},{"v":1426.45,"d":"€1,426.45"}]
["Auto",46070,124100,1,"Combination",{"v":1676.04,"d":"€1,676.04"},"A015",{"$f":"IFERROR(VLOOKUP(G1701,Discounts!C:E,3,0),0)","v":0},{"v":1676.04,"d":"€1,676.04"}]
["Auto",46070,134070,1,"Normal",0,"LUXE",{"$f":"IFERROR(VLOOKUP(G1702,Discounts!C:E,3,0),0)","v":0},0]
["Auto",48460,44890,1,"Normal",{"v":40.5,"d":"€40.50"},"SD/SG",{"$f":"IFERROR(VLOOKUP(G1703,Discounts!C:E,3,0),0)","v":0},{"v":40.5,"d":"€40.50"}]
["Auto",48460,78040,1,"Combination",{"v":631.4,"d":"€631.40"},"",{"$f":"IFERROR(VLOOKUP(G1704,Discounts!C:E,3,0),0)","v":0},{"v":631.4,"d":"€631.40"}]
["Auto",48480,44940,5,"Normal",{"v":396.7,"d":"€396.70"},"LUXE",{"$f":"IFERROR(VLOOKUP(G1705,Discounts!C:E,3,0),0)","v":0},{"v":396.7,"d":"€396.70"}]
["Auto",48480,44950,1,"Normal",{"v":142.98,"d":"€142.98"},"O115",{"$f":"IFERROR(VLOOKUP(G1706,Discounts!C:E,3,0),0)","v":0},{"v":142.98,"d":"€142.98"}]
["Auto",49020,78170,1,"Combination",{"v":137.19,"d":"€137.19"},"SD/SG",{"$f":"IFERROR(VLOOKUP(G1707,Discounts!C:E,3,0),0)","v":0},{"v":137.19,"d":"€137.19"}]
["Auto",49030,78170,1,"Combination",{"v":137.19,"d":"€137.19"},"SD/SG",{"$f":"IFERROR(VLOOKUP(G1708,Discounts!C:E,3,0),0)","v":0},{"v":137.19,"d":"€137.19"}]
["Auto",49210,49200,1,"Normal",{"v":19.83,"d":"€19.83"},"O505",{"$f":"IFERROR(VLOOKUP(G1709,Discounts!C:E,3,0),0)","v":0},{"v":19.83,"d":"€19.83"}]
["Auto",49210,156790,1,"Normal",{"v":17.36,"d":"€17.36"},"O505",{"$f":"IFERROR(VLOOKUP(G1710,Discounts!C:E,3,0),0)","v":0},{"v":17.36,"d":"€17.36"}]
["Auto",49400,160400,1,"Normal",{"v":7.44,"d":"€7.44"},"O505",{"$f":"IFERROR(VLOOKUP(G1711,Discounts!C:E,3,0),0)","v":0},{"v":7.44,"d":"€7.44"}]
["Auto",49400,160410,1,"Normal",{"v":5.79,"d":"€5.79"},"O505",{"$f":"IFERROR(VLOOKUP(G1712,Discounts!C:E,3,0),0)","v":0},{"v":5.79,"d":"€5.79"}]
["Auto",49400,160420,2,"Normal",{"v":19.84,"d":"€19.84"},"O505",{"$f":"IFERROR(VLOOKUP(G1713,Discounts!C:E,3,0),0)","v":0},{"v":19.84,"d":"€19.84"}]
["Auto",49400,160430,2,"Normal",{"v":11.58,"d":"€11.58"},"O505",{"$f":"IFERROR(VLOOKUP(G1714,Discounts!C:E,3,0),0)","v":0},{"v":11.58,"d":"€11.58"}]
["Auto",49400,160440,1,"Normal",{"v":7.44,"d":"€7.44"},"O505",{"$f":"IFERROR(VLOOKUP(G1715,Discounts!C:E,3,0),0)","v":0},{"v":7.44,"d":"€7.44"}]
["Auto",49490,148380,1,"Normal",{"v":28.93,"d":"€28.93"},"SD/SG",{"$f":"IFERROR(VLOOKUP(G1716,Discounts!C:E,3,0),0)","v":0},{"v":28.93,"d":"€28.93"}]
["Auto",49490,148420,1,"Normal",{"v":50.41,"d":"€50.41"},"LUXE",{"$f":"IFERROR(VLOOKUP(G1717,Discounts!C:E,3,0),0)","v":0},{"v":50.41,"d":"€50.41"}]
["Auto",50000,124110,1,"Normal",{"v":2411.57,"d":"€2,411.57"},"A010",{"$f":"IFERROR(VLOOKUP(G1718,Discounts!C:E,3,0),0)","v":0},{"v":2411.57,"d":"€2,411.57"}]
["Auto",50000,134070,1,"Normal",0,"LUXE",{"$f":"IFERROR(VLOOKUP(G1719,Discounts!C:E,3,0),0)","v":0},0]
["Auto",50020,124120,1,"Normal",{"v":2132.23,"d":"€2,132.23"},"A010",{"$f":"IFERROR(VLOOKUP(G1720,Discounts!C:E,3,0),0)","v":0},{"v":2132.23,"d":"€2,132.23"}]
["Auto",50020,134070,1,"Normal",0,"LUXE",{"$f":"IFERROR(VLOOKUP(G1721,Discounts!C:E,3,0),0)","v":0},0]
["Auto",50040,124130,1,"Normal",{"v":2509.92,"d":"€2,509.92"},"A010",{"$f":"IFERROR(VLOOKUP(G1722,Discounts!C:E,3,0),0)","v":0},{"v":2509.92,"d":"€2,509.92"}]
["Auto",50040,134070,1,"Normal",0,"LUXE",{"$f":"IFERROR(VLOOKUP(G1723,Discounts!C:E,3,0),0)","v":0},0]
["Auto",50060,124140,1,"Normal",{"v":2124.79,"d":"€2,124.79"},"A010",{"$f":"IFERROR(VLOOKUP(G1724,Discounts!C:E,3,0),0)","v":0},{"v":2124.79,"d":"€2,124.79"}]
["Auto",50060,134070,1,"Normal",0,"LUXE",{"$f":"IFERROR(VLOOKUP(G1725,Discounts!C:E,3,0),0)","v":0},0]
["Auto",50080,124150,1,"Normal",{"v":1547.11,"d":"€1,547.11"},"A010",{"$f":"IFERROR(VLOOKUP(G1726,Discounts!C:E,3,0),0)","v":0},{"v":1547.11,"d":"€1,547.11"}]
["Auto",50080,134070,1,"Normal",0,"LUXE",{"$f":"IFERROR(VLOOKUP(G1727,Discounts!C:E,3,0),0)","v":0},0]
["Auto",50090,34260,1,"Normal",{"v":249.59,"d":"€249.59"},"LUXE",{"$f":"IFERROR(VLOOKUP(G1728,Discounts!C:E,3,0),0)","v":0},{"v":249.59,"d":"€249.59"}]
["Auto",50090,50070,1,"Normal",{"v":1547.11,"d":"€1,547.11"},"A010",{"$f":"IFERROR(VLOOKUP(G1729,Discounts!C:E,3,0),0)","v":0},{"v":1547.11,"d":"€1,547.11"}]
["Auto",50100,124160,1,"Combination",{"v":1796.7,"d":"€1,796.70"},"A010",{"$f":"IFERROR(VLOOKUP(G1730,Discounts!C:E,3,0),0)","v":0},{"v":1796.6999999999998,"d":"€1,796.70"}]
["Auto",50100,134070,1,"Normal",0,"LUXE",{"$f":"IFERROR(VLOOKUP(G1731,Discounts!C:E,3,0),0)","v":0},{"$f":"IF(E1731=\"Normal\",F1731*(1-H1731),SUMIF(B:B,C1731,I:I)*D1731)","v":0}]
["Auto",50120,124170,1,"Normal",{"v":1733.06,"d":"€1,733.06"},"A010",{"$f":"IFERROR(VLOOKUP(G1732,Discounts!C:E,3,0),0)","v":0},{"v":1733.06,"d":"€1,733.06"}]
["Auto",50120,134070,1,"Normal",0,"LUXE",{"$f":"IFERROR(VLOOKUP(G1733,Discounts!C:E,3,0),0)","v":0},0]
["Auto",50130,34260,1,"Normal",{"v":249.59,"d":"€249.59"},"LUXE",{"$f":"IFERROR(VLOOKUP(G1734,Discounts!C:E,3,0),0)","v":0},{"v":249.59,"d":"€249.59"}]
["Auto",50130,50110,1,"Normal",{"v":1733.06,"d":"€1,733.06"},"A010",{"$f":"IFERROR(VLOOKUP(G1735,Discounts!C:E,3,0),0)","v":0},{"v":1733.06,"d":"€1,733.06"}]
["Auto",50140,124180,1,"Combination",{"v":1982.65,"d":"€1,982.65"},"A010",{"$f":"IFERROR(VLOOKUP(G1736,Discounts!C:E,3,0),0)","v":0},{"v":1982.6499999999999,"d":"€1,982.65"}]
["Auto",50140,134070,1,"Normal",0,"LUXE",{"$f":"IFERROR(VLOOKUP(G1737,Discounts!C:E,3,0),0)","v":0},0]
["Auto",50160,124190,1,"Normal",{"v":2653.72,"d":"€2,653.72"},"A010",{"$f":"IFERROR(VLOOKUP(G1738,Discounts!C:E,3,0),0)","v":0},{"v":2653.72,"d":"€2,653.72"}]
["Auto",50160,134070,1,"Normal",0,"LUXE",{"$f":"IFERROR(VLOOKUP(G1739,Discounts!C:E,3,0),0)","v":0},0]
["Auto",50180,124200,1,"Normal",{"v":3860.33,"d":"€3,860.33"},"A010",{"$f":"IFERROR(VLOOKUP(G1740,Discounts!C:E,3,0),0)","v":0},{"v":3860.33,"d":"€3,860.33"}]
["Auto",50180,134070,1,"Normal",0,"LUXE",{"$f":"IFERROR(VLOOKUP(G1741,Discounts!C:E,3,0),0)","v":0},0]
["Auto",50200,124210,1,"Normal",{"v":1325.62,"d":"€1,325.62"},"A010",{"$f":"IFERROR(VLOOKUP(G1742,Discounts!C:E,3,0),0)","v":0},{"v":1325.62,"d":"€1,325.62"}]
["Auto",50200,134070,1,"Normal",0,"LUXE",{"$f":"IFERROR(VLOOKUP(G1743,Discounts!C:E,3,0),0)","v":0},0]
["Auto",50210,34260,1,"Normal",{"v":249.59,"d":"€249.59"},"LUXE",{"$f":"IFERROR(VLOOKUP(G1744,Discounts!C:E,3,0),0)","v":0},{"v":249.59,"d":"€249.59"}]
["Auto",50210,50190,1,"Normal",{"v":1325.62,"d":"€1,325.62"},"A010",{"$f":"IFERROR(VLOOKUP(G1745,Discounts!C:E,3,0),0)","v":0},{"v":1325.62,"d":"€1,325.62"}]
["Auto",50220,124220,1,"Combination",{"v":1575.21,"d":"€1,575.21"},"A010",{"$f":"IFERROR(VLOOKUP(G1746,Discounts!C:E,3,0),0)","v":0},{"v":1575.2099999999998,"d":"€1,575.21"}]
["Auto",50220,134070,1,"Normal",0,"LUXE",{"$f":"IFERROR(VLOOKUP(G1747,Discounts!C:E,3,0),0)","v":0},0]
["Auto",50240,124230,1,"Normal",{"v":1278.51,"d":"€1,278.51"},"A010",{"$f":"IFERROR(VLOOKUP(G1748,Discounts!C:E,3,0),0)","v":0},{"v":1278.51,"d":"€1,278.51"}]
["Auto",50240,134070,1,"Normal",0,"LUXE",{"$f":"IFERROR(VLOOKUP(G1749,Discounts!C:E,3,0),0)","v":0},0]
["Auto",50250,34260,1,"Normal",{"v":249.59,"d":"€249.59"},"LUXE",{"$f":"IFERROR(VLOOKUP(G1750,Discounts!C:E,3,0),0)","v":0},{"v":249.59,"d":"€249.59"}]
["Auto",50250,50230,1,"Normal",{"v":1278.51,"d":"€1,278.51"},"A010",{"$f":"IFERROR(VLOOKUP(G1751,Discounts!C:E,3,0),0)","v":0},{"v":1278.51,"d":"€1,278.51"}]
["Auto",50260,124240,1,"Combination",{"v":1528.1,"d":"€1,528.10"},"A010",{"$f":"IFERROR(VLOOKUP(G1752,Discounts!C:E,3,0),0)","v":0},{"v":1528.1,"d":"€1,528.10"}]
["Auto",50260,134070,1,"Normal",0,"LUXE",{"$f":"IFERROR(VLOOKUP(G1753,Discounts!C:E,3,0),0)","v":0},0]
["Auto",50280,124250,1,"Normal",{"v":1179.34,"d":"€1,179.34"},"A010",{"$f":"IFERROR(VLOOKUP(G1754,Discounts!C:E,3,0),0)","v":0},{"v":1179.34,"d":"€1,179.34"}]
["Auto",50280,134070,1,"Normal",0,"LUXE",{"$f":"IFERROR(VLOOKUP(G1755,Discounts!C:E,3,0),0)","v":0},0]
["Auto",50290,34260,1,"Normal",{"v":249.59,"d":"€249.59"},"LUXE",{"$f":"IFERROR(VLOOKUP(G1756,Discounts!C:E,3,0),0)","v":0},{"v":249.59,"d":"€249.59"}]
["Auto",50290,50270,1,"Normal",{"v":1179.34,"d":"€1,179.34"},"A010",{"$f":"IFERROR(VLOOKUP(G1757,Discounts!C:E,3,0),0)","v":0},{"v":1179.34,"d":"€1,179.34"}]
["Auto",50300,124260,1,"Combination",{"v":1428.93,"d":"€1,428.93"},"A010",{"$f":"IFERROR(VLOOKUP(G1758,Discounts!C:E,3,0),0)","v":0},{"v":1428.9299999999998,"d":"€1,428.93"}]
["Auto",50300,134070,1,"Normal",0,"LUXE",{"$f":"IFERROR(VLOOKUP(G1759,Discounts!C:E,3,0),0)","v":0},0]
["Auto",50320,124270,1,"Normal",{"v":1325.62,"d":"€1,325.62"},"A010",{"$f":"IFERROR(VLOOKUP(G1760,Discounts!C:E,3,0),0)","v":0},{"v":1325.62,"d":"€1,325.62"}]
["Auto",50320,134070,1,"Normal",0,"LUXE",{"$f":"IFERROR(VLOOKUP(G1761,Discounts!C:E,3,0),0)","v":0},0]
["Auto",50330,34260,1,"Normal",{"v":249.59,"d":"€249.59"},"LUXE",{"$f":"IFERROR(VLOOKUP(G1762,Discounts!C:E,3,0),0)","v":0},{"v":249.59,"d":"€249.59"}]
["Auto",50330,50310,1,"Normal",{"v":1325.62,"d":"€1,325.62"},"A010",{"$f":"IFERROR(VLOOKUP(G1763,Discounts!C:E,3,0),0)","v":0},{"v":1325.62,"d":"€1,325.62"}]
["Auto",50340,124280,1,"Combination",{"v":1575.21,"d":"€1,575.21"},"A010",{"$f":"IFERROR(VLOOKUP(G1764,Discounts!C:E,3,0),0)","v":0},{"v":1575.2099999999998,"d":"€1,575.21"}]
["Auto",50340,134070,1,"Normal",0,"LUXE",{"$f":"IFERROR(VLOOKUP(G1765,Discounts!C:E,3,0),0)","v":0},0]
["Auto",50360,124290,1,"Normal",{"v":1411.57,"d":"€1,411.57"},"A010",{"$f":"IFERROR(VLOOKUP(G1766,Discounts!C:E,3,0),0)","v":0},{"v":1411.57,"d":"€1,411.57"}]
["Auto",50360,134070,1,"Normal",0,"LUXE",{"$f":"IFERROR(VLOOKUP(G1767,Discounts!C:E,3,0),0)","v":0},0]
["Auto",50370,34260,1,"Normal",{"v":249.59,"d":"€249.59"},"LUXE",{"$f":"IFERROR(VLOOKUP(G1768,Discounts!C:E,3,0),0)","v":0},{"v":249.59,"d":"€249.59"}]
["Auto",50370,50350,1,"Normal",{"v":1411.57,"d":"€1,411.57"},"A010",{"$f":"IFERROR(VLOOKUP(G1769,Discounts!C:E,3,0),0)","v":0},{"v":1411.57,"d":"€1,411.57"}]
["Auto",50380,124300,1,"Combination",{"v":1661.16,"d":"€1,661.16"},"A010",{"$f":"IFERROR(VLOOKUP(G1770,Discounts!C:E,3,0),0)","v":0},{"v":1661.1599999999999,"d":"€1,661.16"}]
["Auto",50380,134070,1,"Normal",0,"LUXE",{"$f":"IFERROR(VLOOKUP(G1771,Discounts!C:E,3,0),0)","v":0},0]
["Auto",50400,124310,1,"Normal",{"v":1687.6,"d":"€1,687.60"},"A010",{"$f":"IFERROR(VLOOKUP(G1772,Discounts!C:E,3,0),0)","v":0},{"v":1687.6,"d":"€1,687.60"}]
["Auto",50400,134070,1,"Normal",0,"LUXE",{"$f":"IFERROR(VLOOKUP(G1773,Discounts!C:E,3,0),0)","v":0},0]
["Auto",50420,124320,1,"Normal",{"v":1447.93,"d":"€1,447.93"},"A010",{"$f":"IFERROR(VLOOKUP(G1774,Discounts!C:E,3,0),0)","v":0},{"v":1447.93,"d":"€1,447.93"}]
["Auto",50420,134070,1,"Normal",0,"LUXE",{"$f":"IFERROR(VLOOKUP(G1775,Discounts!C:E,3,0),0)","v":0},0]
["Auto",50440,124330,1,"Normal",{"v":2075.21,"d":"€2,075.21"},"A010",{"$f":"IFERROR(VLOOKUP(G1776,Discounts!C:E,3,0),0)","v":0},{"v":2075.21,"d":"€2,075.21"}]
["Auto",50440,134070,1,"Normal",0,"LUXE",{"$f":"IFERROR(VLOOKUP(G1777,Discounts!C:E,3,0),0)","v":0},0]
["Auto",50450,34260,1,"Normal",{"v":249.59,"d":"€249.59"},"LUXE",{"$f":"IFERROR(VLOOKUP(G1778,Discounts!C:E,3,0),0)","v":0},{"v":249.59,"d":"€249.59"}]
["Auto",50450,50430,1,"Normal",{"v":2075.21,"d":"€2,075.21"},"A010",{"$f":"IFERROR(VLOOKUP(G1779,Discounts!C:E,3,0),0)","v":0},{"v":2075.21,"d":"€2,075.21"}]
["Auto",50460,124340,1,"Combination",{"v":2324.8,"d":"€2,324.80"},"A010",{"$f":"IFERROR(VLOOKUP(G1780,Discounts!C:E,3,0),0)","v":0},{"v":2324.8,"d":"€2,324.80"}]
["Auto",50460,134070,1,"Normal",0,"LUXE",{"$f":"IFERROR(VLOOKUP(G1781,Discounts!C:E,3,0),0)","v":0},0]
["Auto",50480,124350,1,"Normal",{"v":2173.55,"d":"€2,173.55"},"A010",{"$f":"IFERROR(VLOOKUP(G1782,Discounts!C:E,3,0),0)","v":0},{"v":2173.55,"d":"€2,173.55"}]
["Auto",50480,134070,1,"Normal",0,"LUXE",{"$f":"IFERROR(VLOOKUP(G1783,Discounts!C:E,3,0),0)","v":0},0]
["Auto",50490,34260,1,"Normal",{"v":249.59,"d":"€249.59"},"LUXE",{"$f":"IFERROR(VLOOKUP(G1784,Discounts!C:E,3,0),0)","v":0},{"v":249.59,"d":"€249.59"}]
["Auto",50490,50470,1,"Normal",{"v":2173.55,"d":"€2,173.55"},"A010",{"$f":"IFERROR(VLOOKUP(G1785,Discounts!C:E,3,0),0)","v":0},{"v":2173.55,"d":"€2,173.55"}]
["Auto",50500,124360,1,"Combination",{"v":2423.14,"d":"€2,423.14"},"A010",{"$f":"IFERROR(VLOOKUP(G1786,Discounts!C:E,3,0),0)","v":0},{"v":2423.1400000000003,"d":"€2,423.14"}]
["Auto",50500,134070,1,"Normal",0,"LUXE",{"$f":"IFERROR(VLOOKUP(G1787,Discounts!C:E,3,0),0)","v":0},0]
["Auto",51570,124370,1,"Normal",{"v":1090.91,"d":"€1,090.91"},"A010",{"$f":"IFERROR(VLOOKUP(G1788,Discounts!C:E,3,0),0)","v":0},{"v":1090.91,"d":"€1,090.91"}]
["Auto",51570,134070,1,"Normal",0,"LUXE",{"$f":"IFERROR(VLOOKUP(G1789,Discounts!C:E,3,0),0)","v":0},0]
["Auto",51580,34260,1,"Normal",{"v":249.59,"d":"€249.59"},"LUXE",{"$f":"IFERROR(VLOOKUP(G1790,Discounts!C:E,3,0),0)","v":0},{"v":249.59,"d":"€249.59"}]
["Auto",51580,51560,1,"Normal",{"v":1090.91,"d":"€1,090.91"},"A010",{"$f":"IFERROR(VLOOKUP(G1791,Discounts!C:E,3,0),0)","v":0},{"v":1090.91,"d":"€1,090.91"}]
["Auto",51590,124380,1,"Combination",{"v":1340.5,"d":"€1,340.50"},"A010",{"$f":"IFERROR(VLOOKUP(G1792,Discounts!C:E,3,0),0)","v":0},{"v":1340.5,"d":"€1,340.50"}]
["Auto",51590,134070,1,"Normal",0,"LUXE",{"$f":"IFERROR(VLOOKUP(G1793,Discounts!C:E,3,0),0)","v":0},0]
["Auto",51610,124390,1,"Normal",{"v":1228.1,"d":"€1,228.10"},"A010",{"$f":"IFERROR(VLOOKUP(G1794,Discounts!C:E,3,0),0)","v":0},{"v":1228.1,"d":"€1,228.10"}]
["Auto",51610,134070,1,"Normal",0,"LUXE",{"$f":"IFERROR(VLOOKUP(G1795,Discounts!C:E,3,0),0)","v":0},{"$f":"IF(E1795=\"Normal\",F1795*(1-H1795),SUMIF(B:B,C1795,I:I)*D1795)","v":0}]
["Auto",51620,34260,1,"Normal",{"v":249.59,"d":"€249.59"},"LUXE",{"$f":"IFERROR(VLOOKUP(G1796,Discounts!C:E,3,0),0)","v":0},{"v":249.59,"d":"€249.59"}]
["Auto",51620,51600,1,"Normal",{"v":1228.1,"d":"€1,228.10"},"A010",{"$f":"IFERROR(VLOOKUP(G1797,Discounts!C:E,3,0),0)","v":0},{"v":1228.1,"d":"€1,228.10"}]
["Auto",51630,124400,1,"Combination",{"v":1477.69,"d":"€1,477.69"},"A010",{"$f":"IFERROR(VLOOKUP(G1798,Discounts!C:E,3,0),0)","v":0},{"v":1477.6899999999998,"d":"€1,477.69"}]
["Auto",51630,134070,1,"Normal",0,"LUXE",{"$f":"IFERROR(VLOOKUP(G1799,Discounts!C:E,3,0),0)","v":0},0]
["Auto",51650,124410,1,"Normal",{"v":1352.89,"d":"€1,352.89"},"A010",{"$f":"IFERROR(VLOOKUP(G1800,Discounts!C:E,3,0),0)","v":0},{"v":1352.89,"d":"€1,352.89"}]
["Auto",51650,134070,1,"Normal",0,"LUXE",{"$f":"IFERROR(VLOOKUP(G1801,Discounts!C:E,3,0),0)","v":0},0]
["Auto",51660,34260,1,"Normal",{"v":249.59,"d":"€249.59"},"LUXE",{"$f":"IFERROR(VLOOKUP(G1802,Discounts!C:E,3,0),0)","v":0},{"v":249.59,"d":"€249.59"}]
["Auto",51660,51640,1,"Normal",{"v":1352.89,"d":"€1,352.89"},"A010",{"$f":"IFERROR(VLOOKUP(G1803,Discounts!C:E,3,0),0)","v":0},{"v":1352.89,"d":"€1,352.89"}]
["Auto",51670,124420,1,"Combination",{"v":1602.48,"d":"€1,602.48"},"A010",{"$f":"IFERROR(VLOOKUP(G1804,Discounts!C:E,3,0),0)","v":0},{"v":1602.48,"d":"€1,602.48"}]
["Auto",51670,134070,1,"Normal",0,"LUXE",{"$f":"IFERROR(VLOOKUP(G1805,Discounts!C:E,3,0),0)","v":0},0]
["Auto",51690,124430,1,"Normal",{"v":1486.78,"d":"€1,486.78"},"A010",{"$f":"IFERROR(VLOOKUP(G1806,Discounts!C:E,3,0),0)","v":0},{"v":1486.78,"d":"€1,486.78"}]
["Auto",51690,134070,1,"Normal",0,"LUXE",{"$f":"IFERROR(VLOOKUP(G1807,Discounts!C:E,3,0),0)","v":0},0]
["Auto",51700,34260,1,"Normal",{"v":249.59,"d":"€249.59"},"LUXE",{"$f":"IFERROR(VLOOKUP(G1808,Discounts!C:E,3,0),0)","v":0},{"v":249.59,"d":"€249.59"}]
["Auto",51700,51680,1,"Normal",{"v":1486.78,"d":"€1,486.78"},"A010",{"$f":"IFERROR(VLOOKUP(G1809,Discounts!C:E,3,0),0)","v":0},{"v":1486.78,"d":"€1,486.78"}]
["Auto",51710,124440,1,"Combination",{"v":1736.37,"d":"€1,736.37"},"A010",{"$f":"IFERROR(VLOOKUP(G1810,Discounts!C:E,3,0),0)","v":0},{"v":1736.37,"d":"€1,736.37"}]
["Auto",51710,134070,1,"Normal",0,"LUXE",{"$f":"IFERROR(VLOOKUP(G1811,Discounts!C:E,3,0),0)","v":0},0]
["Auto",51730,124450,1,"Normal",{"v":1209.09,"d":"€1,209.09"},"A010",{"$f":"IFERROR(VLOOKUP(G1812,Discounts!C:E,3,0),0)","v":0},{"v":1209.09,"d":"€1,209.09"}]
["Auto",51730,134070,1,"Normal",0,"LUXE",{"$f":"IFERROR(VLOOKUP(G1813,Discounts!C:E,3,0),0)","v":0},0]
["Auto",51740,34260,1,"Normal",{"v":249.59,"d":"€249.59"},"LUXE",{"$f":"IFERROR(VLOOKUP(G1814,Discounts!C:E,3,0),0)","v":0},{"v":249.59,"d":"€249.59"}]
["Auto",51740,51720,1,"Normal",{"v":1209.09,"d":"€1,209.09"},"A010",{"$f":"IFERROR(VLOOKUP(G1815,Discounts!C:E,3,0),0)","v":0},{"v":1209.09,"d":"€1,209.09"}]
["Auto",51750,124460,1,"Combination",{"v":1458.68,"d":"€1,458.68"},"A010",{"$f":"IFERROR(VLOOKUP(G1816,Discounts!C:E,3,0),0)","v":0},{"v":1458.6799999999998,"d":"€1,458.68"}]
["Auto",51750,134070,1,"Normal",0,"LUXE",{"$f":"IFERROR(VLOOKUP(G1817,Discounts!C:E,3,0),0)","v":0},0]
["Auto",51770,124470,1,"Normal",{"v":1438.02,"d":"€1,438.02"},"A010",{"$f":"IFERROR(VLOOKUP(G1818,Discounts!C:E,3,0),0)","v":0},{"v":1438.02,"d":"€1,438.02"}]
["Auto",51770,134070,1,"Normal",0,"LUXE",{"$f":"IFERROR(VLOOKUP(G1819,Discounts!C:E,3,0),0)","v":0},0]
["Auto",51780,34260,1,"Normal",{"v":249.59,"d":"€249.59"},"LUXE",{"$f":"IFERROR(VLOOKUP(G1820,Discounts!C:E,3,0),0)","v":0},{"v":249.59,"d":"€249.59"}]
["Auto",51780,51760,1,"Normal",{"v":1438.02,"d":"€1,438.02"},"A010",{"$f":"IFERROR(VLOOKUP(G1821,Discounts!C:E,3,0),0)","v":0},{"v":1438.02,"d":"€1,438.02"}]
["Auto",51790,124480,1,"Combination",{"v":1687.61,"d":"€1,687.61"},"A010",{"$f":"IFERROR(VLOOKUP(G1822,Discounts!C:E,3,0),0)","v":0},{"v":1687.61,"d":"€1,687.61"}]
["Auto",51790,134070,1,"Normal",0,"LUXE",{"$f":"IFERROR(VLOOKUP(G1823,Discounts!C:E,3,0),0)","v":0},0]
["Auto",51810,124490,1,"Normal",{"v":1668.6,"d":"€1,668.60"},"A010",{"$f":"IFERROR(VLOOKUP(G1824,Discounts!C:E,3,0),0)","v":0},{"v":1668.6,"d":"€1,668.60"}]
["Auto",51810,134070,1,"Normal",0,"LUXE",{"$f":"IFERROR(VLOOKUP(G1825,Discounts!C:E,3,0),0)","v":0},0]
["Auto",51820,34260,1,"Normal",{"v":249.59,"d":"€249.59"},"LUXE",{"$f":"IFERROR(VLOOKUP(G1826,Discounts!C:E,3,0),0)","v":0},{"v":249.59,"d":"€249.59"}]
["Auto",51820,51800,1,"Normal",{"v":1668.6,"d":"€1,668.60"},"A010",{"$f":"IFERROR(VLOOKUP(G1827,Discounts!C:E,3,0),0)","v":0},{"v":1668.6,"d":"€1,668.60"}]
["Auto",51830,124500,1,"Combination",{"v":1918.19,"d":"€1,918.19"},"A010",{"$f":"IFERROR(VLOOKUP(G1828,Discounts!C:E,3,0),0)","v":0},{"v":1918.1899999999998,"d":"€1,918.19"}]
["Auto",51830,134070,1,"Normal",0,"LUXE",{"$f":"IFERROR(VLOOKUP(G1829,Discounts!C:E,3,0),0)","v":0},0]
["Auto",51850,124510,1,"Normal",{"v":1910.74,"d":"€1,910.74"},"A010",{"$f":"IFERROR(VLOOKUP(G1830,Discounts!C:E,3,0),0)","v":0},{"v":1910.74,"d":"€1,910.74"}]
["Auto",51850,134070,1,"Normal",0,"LUXE",{"$f":"IFERROR(VLOOKUP(G1831,Discounts!C:E,3,0),0)","v":0},0]
["Auto",51860,34260,1,"Normal",{"v":249.59,"d":"€249.59"},"LUXE",{"$f":"IFERROR(VLOOKUP(G1832,Discounts!C:E,3,0),0)","v":0},{"v":249.59,"d":"€249.59"}]
["Auto",51860,51840,1,"Normal",{"v":1910.74,"d":"€1,910.74"},"A010",{"$f":"IFERROR(VLOOKUP(G1833,Discounts!C:E,3,0),0)","v":0},{"v":1910.74,"d":"€1,910.74"}]
["Auto",51870,124520,1,"Combination",{"v":2160.33,"d":"€2,160.33"},"A010",{"$f":"IFERROR(VLOOKUP(G1834,Discounts!C:E,3,0),0)","v":0},{"v":2160.33,"d":"€2,160.33"}]
["Auto",51870,134070,1,"Normal",0,"LUXE",{"$f":"IFERROR(VLOOKUP(G1835,Discounts!C:E,3,0),0)","v":0},0]
["Auto",51890,124530,1,"Normal",{"v":1673.55,"d":"€1,673.55"},"A015",{"$f":"IFERROR(VLOOKUP(G1836,Discounts!C:E,3,0),0)","v":0},{"v":1673.55,"d":"€1,673.55"}]
["Auto",51890,134070,1,"Normal",0,"LUXE",{"$f":"IFERROR(VLOOKUP(G1837,Discounts!C:E,3,0),0)","v":0},0]
["Auto",51900,34260,1,"Normal",{"v":249.59,"d":"€249.59"},"LUXE",{"$f":"IFERROR(VLOOKUP(G1838,Discounts!C:E,3,0),0)","v":0},{"v":249.59,"d":"€249.59"}]
["Auto",51900,51880,1,"Normal",{"v":1673.55,"d":"€1,673.55"},"A015",{"$f":"IFERROR(VLOOKUP(G1839,Discounts!C:E,3,0),0)","v":0},{"v":1673.55,"d":"€1,673.55"}]
["Auto",51910,124540,1,"Combination",{"v":1923.14,"d":"€1,923.14"},"A015",{"$f":"IFERROR(VLOOKUP(G1840,Discounts!C:E,3,0),0)","v":0},{"v":1923.1399999999999,"d":"€1,923.14"}]
["Auto",51910,134070,1,"Normal",0,"LUXE",{"$f":"IFERROR(VLOOKUP(G1841,Discounts!C:E,3,0),0)","v":0},0]
["Auto",51930,124550,1,"Normal",{"v":2156.2,"d":"€2,156.20"},"A015",{"$f":"IFERROR(VLOOKUP(G1842,Discounts!C:E,3,0),0)","v":0},{"v":2156.2,"d":"€2,156.20"}]
["Auto",51930,134070,1,"Normal",0,"LUXE",{"$f":"IFERROR(VLOOKUP(G1843,Discounts!C:E,3,0),0)","v":0},0]
["Auto",51940,34260,1,"Normal",{"v":249.59,"d":"€249.59"},"LUXE",{"$f":"IFERROR(VLOOKUP(G1844,Discounts!C:E,3,0),0)","v":0},{"v":249.59,"d":"€249.59"}]
["Auto",51940,51920,1,"Normal",{"v":2156.2,"d":"€2,156.20"},"A015",{"$f":"IFERROR(VLOOKUP(G1845,Discounts!C:E,3,0),0)","v":0},{"v":2156.2,"d":"€2,156.20"}]
["Auto",51950,124560,1,"Combination",{"v":2405.79,"d":"€2,405.79"},"A015",{"$f":"IFERROR(VLOOKUP(G1846,Discounts!C:E,3,0),0)","v":0},{"v":2405.79,"d":"€2,405.79"}]
["Auto",51950,134070,1,"Normal",0,"LUXE",{"$f":"IFERROR(VLOOKUP(G1847,Discounts!C:E,3,0),0)","v":0},0]
["Auto",51970,124570,1,"Normal",{"v":2638.84,"d":"€2,638.84"},"A015",{"$f":"IFERROR(VLOOKUP(G1848,Discounts!C:E,3,0),0)","v":0},{"v":2638.84,"d":"€2,638.84"}]
["Auto",51970,134070,1,"Normal",0,"LUXE",{"$f":"IFERROR(VLOOKUP(G1849,Discounts!C:E,3,0),0)","v":0},0]
["Auto",51980,34260,1,"Normal",{"v":249.59,"d":"€249.59"},"LUXE",{"$f":"IFERROR(VLOOKUP(G1850,Discounts!C:E,3,0),0)","v":0},{"v":249.59,"d":"€249.59"}]
["Auto",51980,51960,1,"Normal",{"v":2638.84,"d":"€2,638.84"},"A015",{"$f":"IFERROR(VLOOKUP(G1851,Discounts!C:E,3,0),0)","v":0},{"v":2638.84,"d":"€2,638.84"}]
["Auto",51990,124580,1,"Combination",{"v":2888.43,"d":"€2,888.43"},"A015",{"$f":"IFERROR(VLOOKUP(G1852,Discounts!C:E,3,0),0)","v":0},{"v":2888.4300000000003,"d":"€2,888.43"}]
["Auto",51990,134070,1,"Normal",0,"LUXE",{"$f":"IFERROR(VLOOKUP(G1853,Discounts!C:E,3,0),0)","v":0},0]
["Auto",52010,124590,1,"Normal",{"v":1259.5,"d":"€1,259.50"},"A010",{"$f":"IFERROR(VLOOKUP(G1854,Discounts!C:E,3,0),0)","v":0},{"v":1259.5,"d":"€1,259.50"}]
["Auto",52010,134070,1,"Normal",0,"LUXE",{"$f":"IFERROR(VLOOKUP(G1855,Discounts!C:E,3,0),0)","v":0},0]
["Auto",52020,34260,1,"Normal",{"v":249.59,"d":"€249.59"},"LUXE",{"$f":"IFERROR(VLOOKUP(G1856,Discounts!C:E,3,0),0)","v":0},{"v":249.59,"d":"€249.59"}]
["Auto",52020,52000,1,"Normal",{"v":1259.5,"d":"€1,259.50"},"A010",{"$f":"IFERROR(VLOOKUP(G1857,Discounts!C:E,3,0),0)","v":0},{"v":1259.5,"d":"€1,259.50"}]
["Auto",52030,124600,1,"Combination",{"v":1509.09,"d":"€1,509.09"},"A010",{"$f":"IFERROR(VLOOKUP(G1858,Discounts!C:E,3,0),0)","v":0},{"v":1509.09,"d":"€1,509.09"}]
["Auto",52030,134070,1,"Normal",0,"LUXE",{"$f":"IFERROR(VLOOKUP(G1859,Discounts!C:E,3,0),0)","v":0},{"$f":"IF(E1859=\"Normal\",F1859*(1-H1859),SUMIF(B:B,C1859,I:I)*D1859)","v":0}]
["Auto",52050,124610,1,"Normal",{"v":1563.64,"d":"€1,563.64"},"A010",{"$f":"IFERROR(VLOOKUP(G1860,Discounts!C:E,3,0),0)","v":0},{"v":1563.64,"d":"€1,563.64"}]
["Auto",52050,134070,1,"Normal",0,"LUXE",{"$f":"IFERROR(VLOOKUP(G1861,Discounts!C:E,3,0),0)","v":0},0]
["Auto",52060,34260,1,"Normal",{"v":249.59,"d":"€249.59"},"LUXE",{"$f":"IFERROR(VLOOKUP(G1862,Discounts!C:E,3,0),0)","v":0},{"v":249.59,"d":"€249.59"}]
["Auto",52060,52040,1,"Normal",{"v":1563.64,"d":"€1,563.64"},"A010",{"$f":"IFERROR(VLOOKUP(G1863,Discounts!C:E,3,0),0)","v":0},{"v":1563.64,"d":"€1,563.64"}]
["Auto",52070,124620,1,"Combination",{"v":1813.23,"d":"€1,813.23"},"A010",{"$f":"IFERROR(VLOOKUP(G1864,Discounts!C:E,3,0),0)","v":0},{"v":1813.23,"d":"€1,813.23"}]
["Auto",52070,134070,1,"Normal",0,"LUXE",{"$f":"IFERROR(VLOOKUP(G1865,Discounts!C:E,3,0),0)","v":0},0]
["Auto",52090,124630,1,"Normal",{"v":1328.1,"d":"€1,328.10"},"A010",{"$f":"IFERROR(VLOOKUP(G1866,Discounts!C:E,3,0),0)","v":0},{"v":1328.1,"d":"€1,328.10"}]
["Auto",52090,134070,1,"Normal",0,"LUXE",{"$f":"IFERROR(VLOOKUP(G1867,Discounts!C:E,3,0),0)","v":0},0]
["Auto",52100,34260,1,"Normal",{"v":249.59,"d":"€249.59"},"LUXE",{"$f":"IFERROR(VLOOKUP(G1868,Discounts!C:E,3,0),0)","v":0},{"v":249.59,"d":"€249.59"}]
["Auto",52100,52080,1,"Normal",{"v":1328.1,"d":"€1,328.10"},"A010",{"$f":"IFERROR(VLOOKUP(G1869,Discounts!C:E,3,0),0)","v":0},{"v":1328.1,"d":"€1,328.10"}]
["Auto",52110,124640,1,"Combination",{"v":1577.69,"d":"€1,577.69"},"A010",{"$f":"IFERROR(VLOOKUP(G1870,Discounts!C:E,3,0),0)","v":0},{"v":1577.6899999999998,"d":"€1,577.69"}]
["Auto",52110,134070,1,"Normal",0,"LUXE",{"$f":"IFERROR(VLOOKUP(G1871,Discounts!C:E,3,0),0)","v":0},0]
["Auto",52130,124650,1,"Normal",{"v":1662.81,"d":"€1,662.81"},"A010",{"$f":"IFERROR(VLOOKUP(G1872,Discounts!C:E,3,0),0)","v":0},{"v":1662.81,"d":"€1,662.81"}]
["Auto",52130,134070,1,"Normal",0,"LUXE",{"$f":"IFERROR(VLOOKUP(G1873,Discounts!C:E,3,0),0)","v":0},0]
["Auto",52140,34260,1,"Normal",{"v":249.59,"d":"€249.59"},"LUXE",{"$f":"IFERROR(VLOOKUP(G1874,Discounts!C:E,3,0),0)","v":0},{"v":249.59,"d":"€249.59"}]
["Auto",52140,52120,1,"Normal",{"v":1662.81,"d":"€1,662.81"},"A010",{"$f":"IFERROR(VLOOKUP(G1875,Discounts!C:E,3,0),0)","v":0},{"v":1662.81,"d":"€1,662.81"}]
["Auto",52150,124660,1,"Combination",{"v":1912.4,"d":"€1,912.40"},"A010",{"$f":"IFERROR(VLOOKUP(G1876,Discounts!C:E,3,0),0)","v":0},{"v":1912.3999999999999,"d":"€1,912.40"}]
["Auto",52150,134070,1,"Normal",0,"LUXE",{"$f":"IFERROR(VLOOKUP(G1877,Discounts!C:E,3,0),0)","v":0},0]
["Auto",52170,124670,1,"Normal",{"v":1768.6,"d":"€1,768.60"},"A010",{"$f":"IFERROR(VLOOKUP(G1878,Discounts!C:E,3,0),0)","v":0},{"v":1768.6,"d":"€1,768.60"}]
["Auto",52170,134070,1,"Normal",0,"LUXE",{"$f":"IFERROR(VLOOKUP(G1879,Discounts!C:E,3,0),0)","v":0},0]
["Auto",52180,34260,1,"Normal",{"v":249.59,"d":"€249.59"},"LUXE",{"$f":"IFERROR(VLOOKUP(G1880,Discounts!C:E,3,0),0)","v":0},{"v":249.59,"d":"€249.59"}]
["Auto",52180,52160,1,"Normal",{"v":1768.6,"d":"€1,768.60"},"A010",{"$f":"IFERROR(VLOOKUP(G1881,Discounts!C:E,3,0),0)","v":0},{"v":1768.6,"d":"€1,768.60"}]
["Auto",52190,124680,1,"Combination",{"v":2018.19,"d":"€2,018.19"},"A010",{"$f":"IFERROR(VLOOKUP(G1882,Discounts!C:E,3,0),0)","v":0},{"v":2018.1899999999998,"d":"€2,018.19"}]
["Auto",52190,134070,1,"Normal",0,"LUXE",{"$f":"IFERROR(VLOOKUP(G1883,Discounts!C:E,3,0),0)","v":0},0]
["Auto",52210,124690,1,"Normal",{"v":1636.36,"d":"€1,636.36"},"A010",{"$f":"IFERROR(VLOOKUP(G1884,Discounts!C:E,3,0),0)","v":0},{"v":1636.36,"d":"€1,636.36"}]
["Auto",52210,134070,1,"Normal",0,"LUXE",{"$f":"IFERROR(VLOOKUP(G1885,Discounts!C:E,3,0),0)","v":0},0]
["Auto",52220,34260,1,"Normal",{"v":249.59,"d":"€249.59"},"LUXE",{"$f":"IFERROR(VLOOKUP(G1886,Discounts!C:E,3,0),0)","v":0},{"v":249.59,"d":"€249.59"}]
["Auto",52220,52200,1,"Normal",{"v":1636.36,"d":"€1,636.36"},"A010",{"$f":"IFERROR(VLOOKUP(G1887,Discounts!C:E,3,0),0)","v":0},{"v":1636.36,"d":"€1,636.36"}]
["Auto",52230,124700,1,"Combination",{"v":1885.95,"d":"€1,885.95"},"A010",{"$f":"IFERROR(VLOOKUP(G1888,Discounts!C:E,3,0),0)","v":0},{"v":1885.9499999999998,"d":"€1,885.95"}]
["Auto",52230,134070,1,"Normal",0,"LUXE",{"$f":"IFERROR(VLOOKUP(G1889,Discounts!C:E,3,0),0)","v":0},0]
["Auto",52260,34260,1,"Normal",{"v":249.59,"d":"€249.59"},"LUXE",{"$f":"IFERROR(VLOOKUP(G1890,Discounts!C:E,3,0),0)","v":0},{"v":249.59,"d":"€249.59"}]
["Auto",52260,52240,1,"Normal",{"v":744.63,"d":"€744.63"},"C010",{"$f":"IFERROR(VLOOKUP(G1891,Discounts!C:E,3,0),0)","v":0},{"v":744.63,"d":"€744.63"}]
["Auto",52270,34260,1,"Normal",{"v":249.59,"d":"€249.59"},"LUXE",{"$f":"IFERROR(VLOOKUP(G1892,Discounts!C:E,3,0),0)","v":0},{"v":249.59,"d":"€249.59"}]
["Auto",52270,52250,1,"Normal",{"v":744.63,"d":"€744.63"},"A010",{"$f":"IFERROR(VLOOKUP(G1893,Discounts!C:E,3,0),0)","v":0},{"v":744.63,"d":"€744.63"}]
["Auto",52420,34260,2,"Normal",{"v":499.18,"d":"€499.18"},"LUXE",{"$f":"IFERROR(VLOOKUP(G1894,Discounts!C:E,3,0),0)","v":0},{"v":499.18,"d":"€499.18"}]
["Auto",52420,52400,1,"Normal",{"v":1960.33,"d":"€1,960.33"},"C010",{"$f":"IFERROR(VLOOKUP(G1895,Discounts!C:E,3,0),0)","v":0},{"v":1960.33,"d":"€1,960.33"}]
["Auto",52430,34260,2,"Normal",{"v":499.18,"d":"€499.18"},"LUXE",{"$f":"IFERROR(VLOOKUP(G1896,Discounts!C:E,3,0),0)","v":0},{"v":499.18,"d":"€499.18"}]
["Auto",52430,52410,1,"Normal",{"v":1960.33,"d":"€1,960.33"},"C010",{"$f":"IFERROR(VLOOKUP(G1897,Discounts!C:E,3,0),0)","v":0},{"v":1960.33,"d":"€1,960.33"}]
["Auto",52950,34260,1,"Normal",{"v":249.59,"d":"€249.59"},"LUXE",{"$f":"IFERROR(VLOOKUP(G1898,Discounts!C:E,3,0),0)","v":0},{"v":249.59,"d":"€249.59"}]
["Auto",52950,41990,1,"Normal",{"v":1360.33,"d":"€1,360.33"},"A010",{"$f":"IFERROR(VLOOKUP(G1899,Discounts!C:E,3,0),0)","v":0},{"v":1360.33,"d":"€1,360.33"}]
["Auto",52960,124810,1,"Combination",{"v":1609.92,"d":"€1,609.92"},"A010",{"$f":"IFERROR(VLOOKUP(G1900,Discounts!C:E,3,0),0)","v":0},{"v":1609.9199999999998,"d":"€1,609.92"}]
["Auto",52960,134070,1,"Normal",0,"LUXE",{"$f":"IFERROR(VLOOKUP(G1901,Discounts!C:E,3,0),0)","v":0},0]
["Auto",53510,18720,-1,"Normal",{"v":-585.12,"d":"€(585.12)"},"D060",{"$f":"IFERROR(VLOOKUP(G1902,Discounts!C:E,3,0),0)","v":0},{"v":-585.12,"d":"€(585.12)"}]
["Auto",53510,18740,1,"Normal",{"v":631.4,"d":"€631.40"},"D060",{"$f":"IFERROR(VLOOKUP(G1903,Discounts!C:E,3,0),0)","v":0},{"v":631.4,"d":"€631.40"}]
["Auto",53520,18720,-1,"Normal",{"v":-585.12,"d":"€(585.12)"},"D060",{"$f":"IFERROR(VLOOKUP(G1904,Discounts!C:E,3,0),0)","v":0},{"v":-585.12,"d":"€(585.12)"}]
["Auto",53520,18770,1,"Normal",{"v":707.44,"d":"€707.44"},"D060",{"$f":"IFERROR(VLOOKUP(G1905,Discounts!C:E,3,0),0)","v":0},{"v":707.44,"d":"€707.44"}]
["Auto",53530,18720,-1,"Normal",{"v":-585.12,"d":"€(585.12)"},"D060",{"$f":"IFERROR(VLOOKUP(G1906,Discounts!C:E,3,0),0)","v":0},{"v":-585.12,"d":"€(585.12)"}]
["Auto",53530,18800,1,"Normal",{"v":831.4,"d":"€831.40"},"D060",{"$f":"IFERROR(VLOOKUP(G1907,Discounts!C:E,3,0),0)","v":0},{"v":831.4,"d":"€831.40"}]
["Auto",53540,18730,-1,"Normal",{"v":-710.74,"d":"€(710.74)"},"D060",{"$f":"IFERROR(VLOOKUP(G1908,Discounts!C:E,3,0),0)","v":0},{"v":-710.74,"d":"€(710.74)"}]
["Auto",53540,18750,1,"Normal",{"v":814.05,"d":"€814.05"},"D060",{"$f":"IFERROR(VLOOKUP(G1909,Discounts!C:E,3,0),0)","v":0},{"v":814.05,"d":"€814.05"}]
["Auto",53550,18730,-1,"Normal",{"v":-710.74,"d":"€(710.74)"},"D060",{"$f":"IFERROR(VLOOKUP(G1910,Discounts!C:E,3,0),0)","v":0},{"v":-710.74,"d":"€(710.74)"}]
["Auto",53550,18780,1,"Normal",{"v":943.8,"d":"€943.80"},"D060",{"$f":"IFERROR(VLOOKUP(G1911,Discounts!C:E,3,0),0)","v":0},{"v":943.8,"d":"€943.80"}]
["Auto",53560,18730,-1,"Normal",{"v":-710.74,"d":"€(710.74)"},"D060",{"$f":"IFERROR(VLOOKUP(G1912,Discounts!C:E,3,0),0)","v":0},{"v":-710.74,"d":"€(710.74)"}]
["Auto",53560,18810,1,"Normal",{"v":1091.74,"d":"€1,091.74"},"D060",{"$f":"IFERROR(VLOOKUP(G1913,Discounts!C:E,3,0),0)","v":0},{"v":1091.74,"d":"€1,091.74"}]
["Auto",54170,124820,1,"Normal",{"v":1419.01,"d":"€1,419.01"},"A010",{"$f":"IFERROR(VLOOKUP(G1914,Discounts!C:E,3,0),0)","v":0},{"v":1419.01,"d":"€1,419.01"}]
["Auto",54170,134070,1,"Normal",0,"LUXE",{"$f":"IFERROR(VLOOKUP(G1915,Discounts!C:E,3,0),0)","v":0},0]
["Auto",54210,134070,1,"Normal",0,"LUXE",{"$f":"IFERROR(VLOOKUP(G1916,Discounts!C:E,3,0),0)","v":0},0]
["Auto",54210,134120,1,"Normal",0,"A015",{"$f":"IFERROR(VLOOKUP(G1917,Discounts!C:E,3,0),0)","v":0},0]
["Auto",54720,54640,2,"Normal",{"v":251.24,"d":"€251.24"},"SERVICE",{"$f":"IFERROR(VLOOKUP(G1918,Discounts!C:E,3,0),0)","v":0},{"v":251.24,"d":"€251.24"}]
["Auto",54730,54650,2,"Normal",{"v":148.76,"d":"€148.76"},"SERVICE",{"$f":"IFERROR(VLOOKUP(G1919,Discounts!C:E,3,0),0)","v":0},{"v":148.76,"d":"€148.76"}]
["Auto",54780,54770,2,"Normal",{"v":147.1,"d":"€147.10"},"SERVICE",{"$f":"IFERROR(VLOOKUP(G1920,Discounts!C:E,3,0),0)","v":0},{"v":147.1,"d":"€147.10"}]
["Auto",54790,54740,2,"Normal",{"v":145.46,"d":"€145.46"},"SERVICE",{"$f":"IFERROR(VLOOKUP(G1921,Discounts!C:E,3,0),0)","v":0},{"v":145.46,"d":"€145.46"}]
["Auto",56570,55710,1,"Normal",{"v":416.53,"d":"€416.53"},"E015",{"$f":"IFERROR(VLOOKUP(G1922,Discounts!C:E,3,0),0)","v":0},{"v":416.53,"d":"€416.53"}]
["Auto",56580,55890,1,"Normal",{"v":615.7,"d":"€615.70"},"E012",{"$f":"IFERROR(VLOOKUP(G1923,Discounts!C:E,3,0),0)","v":0},{"$f":"IF(E1923=\"Normal\",F1923*(1-H1923),SUMIF(B:B,C1923,I:I)*D1923)","v":{"v":615.7,"d":"€615.70"}}]
["Auto",56590,48550,1,"Normal",{"v":19.01,"d":"€19.01"},"SD/SG",{"$f":"IFERROR(VLOOKUP(G1924,Discounts!C:E,3,0),0)","v":0},{"v":19.01,"d":"€19.01"}]
["Auto",56590,55710,1,"Normal",{"v":416.53,"d":"€416.53"},"E015",{"$f":"IFERROR(VLOOKUP(G1925,Discounts!C:E,3,0),0)","v":0},{"v":416.53,"d":"€416.53"}]
["Auto",56600,48550,1,"Normal",{"v":19.01,"d":"€19.01"},"SD/SG",{"$f":"IFERROR(VLOOKUP(G1926,Discounts!C:E,3,0),0)","v":0},{"v":19.01,"d":"€19.01"}]
["Auto",56600,55890,1,"Normal",{"v":615.7,"d":"€615.70"},"E012",{"$f":"IFERROR(VLOOKUP(G1927,Discounts!C:E,3,0),0)","v":0},{"v":615.7,"d":"€615.70"}]
["Auto",56610,48550,1,"Normal",{"v":19.01,"d":"€19.01"},"SD/SG",{"$f":"IFERROR(VLOOKUP(G1928,Discounts!C:E,3,0),0)","v":0},{"v":19.01,"d":"€19.01"}]
["Auto",56610,55710,1,"Normal",{"v":416.53,"d":"€416.53"},"E015",{"$f":"IFERROR(VLOOKUP(G1929,Discounts!C:E,3,0),0)","v":0},{"v":416.53,"d":"€416.53"}]
["Auto",56620,48550,1,"Normal",{"v":19.01,"d":"€19.01"},"SD/SG",{"$f":"IFERROR(VLOOKUP(G1930,Discounts!C:E,3,0),0)","v":0},{"v":19.01,"d":"€19.01"}]
["Auto",56620,55890,1,"Normal",{"v":615.7,"d":"€615.70"},"E012",{"$f":"IFERROR(VLOOKUP(G1931,Discounts!C:E,3,0),0)","v":0},{"v":615.7,"d":"€615.70"}]
["Auto",56630,55720,1,"Normal",{"v":504.96,"d":"€504.96"},"E015",{"$f":"IFERROR(VLOOKUP(G1932,Discounts!C:E,3,0),0)","v":0},{"v":504.96,"d":"€504.96"}]
["Auto",56640,55900,1,"Normal",{"v":714.88,"d":"€714.88"},"E012",{"$f":"IFERROR(VLOOKUP(G1933,Discounts!C:E,3,0),0)","v":0},{"v":714.88,"d":"€714.88"}]
["Auto",56650,48550,1,"Normal",{"v":19.01,"d":"€19.01"},"SD/SG",{"$f":"IFERROR(VLOOKUP(G1934,Discounts!C:E,3,0),0)","v":0},{"v":19.01,"d":"€19.01"}]
["Auto",56650,55720,1,"Normal",{"v":504.96,"d":"€504.96"},"E015",{"$f":"IFERROR(VLOOKUP(G1935,Discounts!C:E,3,0),0)","v":0},{"v":504.96,"d":"€504.96"}]
["Auto",56660,48550,1,"Normal",{"v":19.01,"d":"€19.01"},"SD/SG",{"$f":"IFERROR(VLOOKUP(G1936,Discounts!C:E,3,0),0)","v":0},{"v":19.01,"d":"€19.01"}]
["Auto",56660,55900,1,"Normal",{"v":714.88,"d":"€714.88"},"E012",{"$f":"IFERROR(VLOOKUP(G1937,Discounts!C:E,3,0),0)","v":0},{"v":714.88,"d":"€714.88"}]
["Auto",56670,48550,1,"Normal",{"v":19.01,"d":"€19.01"},"SD/SG",{"$f":"IFERROR(VLOOKUP(G1938,Discounts!C:E,3,0),0)","v":0},{"v":19.01,"d":"€19.01"}]
["Auto",56670,55720,1,"Normal",{"v":504.96,"d":"€504.96"},"E015",{"$f":"IFERROR(VLOOKUP(G1939,Discounts!C:E,3,0),0)","v":0},{"v":504.96,"d":"€504.96"}]
["Auto",56680,48550,1,"Normal",{"v":19.01,"d":"€19.01"},"SD/SG",{"$f":"IFERROR(VLOOKUP(G1940,Discounts!C:E,3,0),0)","v":0},{"v":19.01,"d":"€19.01"}]
["Auto",56680,55900,1,"Normal",{"v":714.88,"d":"€714.88"},"E012",{"$f":"IFERROR(VLOOKUP(G1941,Discounts!C:E,3,0),0)","v":0},{"v":714.88,"d":"€714.88"}]
["Auto",57470,31920,1,"Normal",{"v":121.49,"d":"€121.49"},"SD/SG",{"$f":"IFERROR(VLOOKUP(G1942,Discounts!C:E,3,0),0)","v":0},{"v":121.49,"d":"€121.49"}]
["Auto",57470,148170,1,"Normal",{"v":223.14,"d":"€223.14"},"E056",{"$f":"IFERROR(VLOOKUP(G1943,Discounts!C:E,3,0),0)","v":0},{"v":223.14,"d":"€223.14"}]
["Auto",57480,31920,1,"Normal",{"v":121.49,"d":"€121.49"},"SD/SG",{"$f":"IFERROR(VLOOKUP(G1944,Discounts!C:E,3,0),0)","v":0},{"v":121.49,"d":"€121.49"}]
["Auto",57480,148180,1,"Normal",{"v":260.33,"d":"€260.33"},"E056",{"$f":"IFERROR(VLOOKUP(G1945,Discounts!C:E,3,0),0)","v":0},{"v":260.33,"d":"€260.33"}]
["Auto",57490,31920,1,"Normal",{"v":121.49,"d":"€121.49"},"SD/SG",{"$f":"IFERROR(VLOOKUP(G1946,Discounts!C:E,3,0),0)","v":0},{"v":121.49,"d":"€121.49"}]
["Auto",57490,148230,1,"Normal",{"v":290.91,"d":"€290.91"},"E056",{"$f":"IFERROR(VLOOKUP(G1947,Discounts!C:E,3,0),0)","v":0},{"v":290.91,"d":"€290.91"}]
["Auto",57500,31920,1,"Normal",{"v":121.49,"d":"€121.49"},"SD/SG",{"$f":"IFERROR(VLOOKUP(G1948,Discounts!C:E,3,0),0)","v":0},{"v":121.49,"d":"€121.49"}]
["Auto",57500,148240,1,"Normal",{"v":327.27,"d":"€327.27"},"E056",{"$f":"IFERROR(VLOOKUP(G1949,Discounts!C:E,3,0),0)","v":0},{"v":327.27,"d":"€327.27"}]
["Auto",57510,31920,1,"Normal",{"v":121.49,"d":"€121.49"},"SD/SG",{"$f":"IFERROR(VLOOKUP(G1950,Discounts!C:E,3,0),0)","v":0},{"v":121.49,"d":"€121.49"}]
["Auto",57510,148250,1,"Normal",{"v":321.49,"d":"€321.49"},"E056",{"$f":"IFERROR(VLOOKUP(G1951,Discounts!C:E,3,0),0)","v":0},{"v":321.49,"d":"€321.49"}]
["Auto",57520,31920,1,"Normal",{"v":121.49,"d":"€121.49"},"SD/SG",{"$f":"IFERROR(VLOOKUP(G1952,Discounts!C:E,3,0),0)","v":0},{"v":121.49,"d":"€121.49"}]
["Auto",57520,148260,1,"Normal",{"v":361.98,"d":"€361.98"},"E056",{"$f":"IFERROR(VLOOKUP(G1953,Discounts!C:E,3,0),0)","v":0},{"v":361.98,"d":"€361.98"}]
["Auto",57760,340,1,"Normal",{"v":1641.32,"d":"€1,641.32"},"A015",{"$f":"IFERROR(VLOOKUP(G1954,Discounts!C:E,3,0),0)","v":0},{"v":1641.32,"d":"€1,641.32"}]
["Auto",57760,29720,1,"Normal",{"v":91.74,"d":"€91.74"},"LUXE",{"$f":"IFERROR(VLOOKUP(G1955,Discounts!C:E,3,0),0)","v":0},{"v":91.74,"d":"€91.74"}]
["Auto",57760,29760,1,"Normal",{"v":913.22,"d":"€913.22"},"LUXE",{"$f":"IFERROR(VLOOKUP(G1956,Discounts!C:E,3,0),0)","v":0},{"v":913.22,"d":"€913.22"}]
["Auto",57760,31640,1,"Normal",{"v":141.32,"d":"€141.32"},"LUXE",{"$f":"IFERROR(VLOOKUP(G1957,Discounts!C:E,3,0),0)","v":0},{"v":141.32,"d":"€141.32"}]
["Auto",57770,430,1,"Combination",{"v":1641.32,"d":"€1,641.32"},"",{"$f":"IFERROR(VLOOKUP(G1958,Discounts!C:E,3,0),0)","v":0},{"v":1641.32,"d":"€1,641.32"}]
["Auto",57770,29720,1,"Normal",{"v":91.74,"d":"€91.74"},"LUXE",{"$f":"IFERROR(VLOOKUP(G1959,Discounts!C:E,3,0),0)","v":0},{"v":91.74,"d":"€91.74"}]
["Auto",57770,29780,1,"Normal",{"v":913.22,"d":"€913.22"},"LUXE",{"$f":"IFERROR(VLOOKUP(G1960,Discounts!C:E,3,0),0)","v":0},{"v":913.22,"d":"€913.22"}]
["Auto",57770,31640,1,"Normal",{"v":141.32,"d":"€141.32"},"LUXE",{"$f":"IFERROR(VLOOKUP(G1961,Discounts!C:E,3,0),0)","v":0},{"v":141.32,"d":"€141.32"}]
["Auto",57780,1190,1,"Combination",{"v":2677.69,"d":"€2,677.69"},"",{"$f":"IFERROR(VLOOKUP(G1962,Discounts!C:E,3,0),0)","v":0},{"v":2677.69,"d":"€2,677.69"}]
["Auto",57780,29720,1,"Normal",{"v":91.74,"d":"€91.74"},"LUXE",{"$f":"IFERROR(VLOOKUP(G1963,Discounts!C:E,3,0),0)","v":0},{"v":91.74,"d":"€91.74"}]
["Auto",57780,31470,1,"Normal",{"v":141.32,"d":"€141.32"},"LUXE",{"$f":"IFERROR(VLOOKUP(G1964,Discounts!C:E,3,0),0)","v":0},{"v":141.32,"d":"€141.32"}]
["Auto",57790,29670,1,"Combination",{"v":249.59,"d":"€249.59"},"",{"$f":"IFERROR(VLOOKUP(G1965,Discounts!C:E,3,0),0)","v":0},{"v":249.59,"d":"€249.59"}]
["Auto",57790,29710,1,"Normal",{"v":42.98,"d":"€42.98"},"LUXE",{"$f":"IFERROR(VLOOKUP(G1966,Discounts!C:E,3,0),0)","v":0},{"v":42.98,"d":"€42.98"}]
["Auto",57790,31470,1,"Normal",{"v":141.32,"d":"€141.32"},"LUXE",{"$f":"IFERROR(VLOOKUP(G1967,Discounts!C:E,3,0),0)","v":0},{"v":141.32,"d":"€141.32"}]
["Auto",57790,45730,1,"Normal",{"v":42.98,"d":"€42.98"},"LUXE",{"$f":"IFERROR(VLOOKUP(G1968,Discounts!C:E,3,0),0)","v":0},{"v":42.98,"d":"€42.98"}]
["Auto",57800,29600,1,"Combination",0,"",{"$f":"IFERROR(VLOOKUP(G1969,Discounts!C:E,3,0),0)","v":0},0]
["Auto",57800,29710,1,"Normal",{"v":42.98,"d":"€42.98"},"LUXE",{"$f":"IFERROR(VLOOKUP(G1970,Discounts!C:E,3,0),0)","v":0},{"v":42.98,"d":"€42.98"}]
["Auto",57800,31470,1,"Normal",{"v":141.32,"d":"€141.32"},"LUXE",{"$f":"IFERROR(VLOOKUP(G1971,Discounts!C:E,3,0),0)","v":0},{"v":141.32,"d":"€141.32"}]
["Auto",57800,45730,1,"Normal",{"v":42.98,"d":"€42.98"},"LUXE",{"$f":"IFERROR(VLOOKUP(G1972,Discounts!C:E,3,0),0)","v":0},{"v":42.98,"d":"€42.98"}]
["Auto",57810,29680,1,"Combination",{"v":249.59,"d":"€249.59"},"",{"$f":"IFERROR(VLOOKUP(G1973,Discounts!C:E,3,0),0)","v":0},{"v":249.59,"d":"€249.59"}]
["Auto",57810,29710,1,"Normal",{"v":42.98,"d":"€42.98"},"LUXE",{"$f":"IFERROR(VLOOKUP(G1974,Discounts!C:E,3,0),0)","v":0},{"v":42.98,"d":"€42.98"}]
["Auto",57810,31470,1,"Normal",{"v":141.32,"d":"€141.32"},"LUXE",{"$f":"IFERROR(VLOOKUP(G1975,Discounts!C:E,3,0),0)","v":0},{"v":141.32,"d":"€141.32"}]
["Auto",57810,45730,1,"Normal",{"v":42.98,"d":"€42.98"},"LUXE",{"$f":"IFERROR(VLOOKUP(G1976,Discounts!C:E,3,0),0)","v":0},{"v":42.98,"d":"€42.98"}]
["Auto",57820,29610,1,"Normal",0,"A010",{"$f":"IFERROR(VLOOKUP(G1977,Discounts!C:E,3,0),0)","v":0},0]
["Auto",57820,29710,1,"Normal",{"v":42.98,"d":"€42.98"},"LUXE",{"$f":"IFERROR(VLOOKUP(G1978,Discounts!C:E,3,0),0)","v":0},{"v":42.98,"d":"€42.98"}]
["Auto",57820,31470,1,"Normal",{"v":141.32,"d":"€141.32"},"LUXE",{"$f":"IFERROR(VLOOKUP(G1979,Discounts!C:E,3,0),0)","v":0},{"v":141.32,"d":"€141.32"}]
["Auto",57820,45730,1,"Normal",{"v":42.98,"d":"€42.98"},"LUXE",{"$f":"IFERROR(VLOOKUP(G1980,Discounts!C:E,3,0),0)","v":0},{"v":42.98,"d":"€42.98"}]
["Auto",57830,29690,1,"Combination",{"v":249.59,"d":"€249.59"},"",{"$f":"IFERROR(VLOOKUP(G1981,Discounts!C:E,3,0),0)","v":0},{"v":249.59,"d":"€249.59"}]
["Auto",57830,29710,1,"Normal",{"v":42.98,"d":"€42.98"},"LUXE",{"$f":"IFERROR(VLOOKUP(G1982,Discounts!C:E,3,0),0)","v":0},{"v":42.98,"d":"€42.98"}]
["Auto",57830,31470,1,"Normal",{"v":141.32,"d":"€141.32"},"LUXE",{"$f":"IFERROR(VLOOKUP(G1983,Discounts!C:E,3,0),0)","v":0},{"v":141.32,"d":"€141.32"}]
["Auto",57830,45730,1,"Normal",{"v":42.98,"d":"€42.98"},"LUXE",{"$f":"IFERROR(VLOOKUP(G1984,Discounts!C:E,3,0),0)","v":0},{"v":42.98,"d":"€42.98"}]
["Auto",57840,29620,1,"Combination",0,"",{"$f":"IFERROR(VLOOKUP(G1985,Discounts!C:E,3,0),0)","v":0},0]
["Auto",57840,29710,1,"Normal",{"v":42.98,"d":"€42.98"},"LUXE",{"$f":"IFERROR(VLOOKUP(G1986,Discounts!C:E,3,0),0)","v":0},{"v":42.98,"d":"€42.98"}]
["Auto",57840,31470,1,"Normal",{"v":141.32,"d":"€141.32"},"LUXE",{"$f":"IFERROR(VLOOKUP(G1987,Discounts!C:E,3,0),0)","v":0},{"$f":"IF(E1987=\"Normal\",F1987*(1-H1987),SUMIF(B:B,C1987,I:I)*D1987)","v":{"v":141.32,"d":"€141.32"}}]
["Auto",57840,45730,1,"Normal",{"v":42.98,"d":"€42.98"},"LUXE",{"$f":"IFERROR(VLOOKUP(G1988,Discounts!C:E,3,0),0)","v":0},{"v":42.98,"d":"€42.98"}]
["Auto",57850,29700,1,"Combination",{"v":249.59,"d":"€249.59"},"",{"$f":"IFERROR(VLOOKUP(G1989,Discounts!C:E,3,0),0)","v":0},{"v":249.59,"d":"€249.59"}]
["Auto",57850,29710,1,"Normal",{"v":42.98,"d":"€42.98"},"LUXE",{"$f":"IFERROR(VLOOKUP(G1990,Discounts!C:E,3,0),0)","v":0},{"v":42.98,"d":"€42.98"}]
["Auto",57850,31470,1,"Normal",{"v":141.32,"d":"€141.32"},"LUXE",{"$f":"IFERROR(VLOOKUP(G1991,Discounts!C:E,3,0),0)","v":0},{"v":141.32,"d":"€141.32"}]
["Auto",57850,45730,1,"Normal",{"v":42.98,"d":"€42.98"},"LUXE",{"$f":"IFERROR(VLOOKUP(G1992,Discounts!C:E,3,0),0)","v":0},{"v":42.98,"d":"€42.98"}]
["Auto",57860,14850,1,"Normal",{"v":345.45,"d":"€345.45"},"E016",{"$f":"IFERROR(VLOOKUP(G1993,Discounts!C:E,3,0),0)","v":0},{"v":345.45,"d":"€345.45"}]
["Auto",57860,31920,1,"Normal",{"v":121.49,"d":"€121.49"},"SD/SG",{"$f":"IFERROR(VLOOKUP(G1994,Discounts!C:E,3,0),0)","v":0},{"v":121.49,"d":"€121.49"}]
["Auto",57860,34010,1,"Normal",{"v":160.33,"d":"€160.33"},"SD/SG",{"$f":"IFERROR(VLOOKUP(G1995,Discounts!C:E,3,0),0)","v":0},{"v":160.33,"d":"€160.33"}]
["Auto",57860,40450,1,"Normal",{"v":13.22,"d":"€13.22"},"SD/SG",{"$f":"IFERROR(VLOOKUP(G1996,Discounts!C:E,3,0),0)","v":0},{"v":13.22,"d":"€13.22"}]
["Auto",57860,40520,1,"Normal",{"v":67.77,"d":"€67.77"},"SD/SG",{"$f":"IFERROR(VLOOKUP(G1997,Discounts!C:E,3,0),0)","v":0},{"v":67.77,"d":"€67.77"}]
["Auto",57870,14860,1,"Normal",{"v":396.69,"d":"€396.69"},"E015",{"$f":"IFERROR(VLOOKUP(G1998,Discounts!C:E,3,0),0)","v":0},{"v":396.69,"d":"€396.69"}]
["Auto",57870,31920,1,"Normal",{"v":121.49,"d":"€121.49"},"SD/SG",{"$f":"IFERROR(VLOOKUP(G1999,Discounts!C:E,3,0),0)","v":0},{"v":121.49,"d":"€121.49"}]
["Auto",57870,34010,1,"Normal",{"v":160.33,"d":"€160.33"},"SD/SG",{"$f":"IFERROR(VLOOKUP(G2000,Discounts!C:E,3,0),0)","v":0},{"v":160.33,"d":"€160.33"}]
["Auto",57890,30070,1,"Normal",{"v":2714.88,"d":"€2,714.88"},"A010",{"$f":"IFERROR(VLOOKUP(G2010,Discounts!C:E,3,0),0)","v":0},{"v":2714.88,"d":"€2,714.88"}]
["Auto",57920,31920,1,"Normal",{"v":121.49,"d":"€121.49"},"SD/SG",{"$f":"IFERROR(VLOOKUP(G2023,Discounts!C:E,3,0),0)","v":0},{"v":121.49,"d":"€121.49"}]
["Auto",57940,15560,1,"Normal",{"v":517.36,"d":"€517.36"},"E013",{"$f":"IFERROR(VLOOKUP(G2032,Discounts!C:E,3,0),0)","v":0},{"v":517.36,"d":"€517.36"}]
["Auto",57960,40450,1,"Normal",{"v":13.22,"d":"€13.22"},"SD/SG",{"$f":"IFERROR(VLOOKUP(G2045,Discounts!C:E,3,0),0)","v":0},{"v":13.22,"d":"€13.22"}]
["Auto",57970,40520,1,"Normal",{"v":67.77,"d":"€67.77"},"SD/SG",{"$f":"IFERROR(VLOOKUP(G2051,Discounts!C:E,3,0),0)","v":0},{"$f":"IF(E2051=\"Normal\",F2051*(1-H2051),SUMIF(B:B,C2051,I:I)*D2051)","v":{"v":67.77,"d":"€67.77"}}]
["Auto",58000,30080,1,"Combination",{"v":2714.88,"d":"€2,714.88"},"",{"$f":"IFERROR(VLOOKUP(G2064,Discounts!C:E,3,0),0)","v":0},{"v":2714.88,"d":"€2,714.88"}]
["Auto",58030,31920,1,"Normal",{"v":121.49,"d":"€121.49"},"SD/SG",{"$f":"IFERROR(VLOOKUP(G2077,Discounts!C:E,3,0),0)","v":0},{"v":121.49,"d":"€121.49"}]
["Auto",58050,15140,1,"Normal",{"v":577.69,"d":"€577.69"},"E015",{"$f":"IFERROR(VLOOKUP(G2086,Discounts!C:E,3,0),0)","v":0},{"v":577.69,"d":"€577.69"}]
["Auto",58090,31920,1,"Normal",{"v":121.49,"d":"€121.49"},"SD/SG",{"$f":"IFERROR(VLOOKUP(G2107,Discounts!C:E,3,0),0)","v":0},{"v":121.49,"d":"€121.49"}]
["Auto",58120,31920,1,"Normal",{"v":121.49,"d":"€121.49"},"SD/SG",{"$f":"IFERROR(VLOOKUP(G2121,Discounts!C:E,3,0),0)","v":0},{"v":121.49,"d":"€121.49"}]
["Auto",58140,18420,1,"Normal",{"v":860.33,"d":"€860.33"},"E015",{"$f":"IFERROR(VLOOKUP(G2130,Discounts!C:E,3,0),0)","v":0},{"v":860.33,"d":"€860.33"}]
["Auto",58160,40450,1,"Normal",{"v":13.22,"d":"€13.22"},"SD/SG",{"$f":"IFERROR(VLOOKUP(G2143,Discounts!C:E,3,0),0)","v":0},{"v":13.22,"d":"€13.22"}]
["Auto",58180,40450,1,"Normal",{"v":13.22,"d":"€13.22"},"SD/SG",{"$f":"IFERROR(VLOOKUP(G2152,Discounts!C:E,3,0),0)","v":0},{"v":13.22,"d":"€13.22"}]
["Auto",58200,40450,1,"Normal",{"v":13.22,"d":"€13.22"},"SD/SG",{"$f":"IFERROR(VLOOKUP(G2160,Discounts!C:E,3,0),0)","v":0},{"v":13.22,"d":"€13.22"}]
["Auto",58240,18460,1,"Normal",{"v":984.3,"d":"€984.30"},"E016",{"$f":"IFERROR(VLOOKUP(G2175,Discounts!C:E,3,0),0)","v":0},{"v":984.3,"d":"€984.30"}]
["Auto",58250,40520,1,"Normal",{"v":67.77,"d":"€67.77"},"SD/SG",{"$f":"IFERROR(VLOOKUP(G2184,Discounts!C:E,3,0),0)","v":0},{"v":67.77,"d":"€67.77"}]
["Auto",58290,18610,1,"Normal",{"v":1297.52,"d":"€1,297.52"},"E013",{"$f":"IFERROR(VLOOKUP(G2197,Discounts!C:E,3,0),0)","v":0},{"v":1297.52,"d":"€1,297.52"}]
["Auto",58330,1200,1,"Normal",{"v":2474.38,"d":"€2,474.38"},"A010",{"$f":"IFERROR(VLOOKUP(G2216,Discounts!C:E,3,0),0)","v":0},{"v":2474.38,"d":"€2,474.38"}]
["Auto",58360,18560,1,"Normal",{"v":1414.05,"d":"€1,414.05"},"E012",{"$f":"IFERROR(VLOOKUP(G2228,Discounts!C:E,3,0),0)","v":0},{"v":1414.05,"d":"€1,414.05"}]
["Auto",58390,40650,1,"Normal",{"v":269.42,"d":"€269.42"},"O505",{"$f":"IFERROR(VLOOKUP(G2241,Discounts!C:E,3,0),0)","v":0},{"v":269.42,"d":"€269.42"}]
["Auto",58400,40180,1,"Normal",{"v":233.06,"d":"€233.06"},"O505",{"$f":"IFERROR(VLOOKUP(G2250,Discounts!C:E,3,0),0)","v":0},{"v":233.06,"d":"€233.06"}]
["Auto",58430,40480,1,"Normal",{"v":32.23,"d":"€32.23"},"SD/SG",{"$f":"IFERROR(VLOOKUP(G2263,Discounts!C:E,3,0),0)","v":0},{"v":32.23,"d":"€32.23"}]
["Auto",58490,40830,1,"Normal",{"v":38.84,"d":"€38.84"},"O505",{"$f":"IFERROR(VLOOKUP(G2278,Discounts!C:E,3,0),0)","v":0},{"v":38.84,"d":"€38.84"}]
["Auto",58530,40740,1,"Normal",{"v":11.57,"d":"€11.57"},"LUXE",{"$f":"IFERROR(VLOOKUP(G2282,Discounts!C:E,3,0),0)","v":0},{"v":11.57,"d":"€11.57"}]
["Auto",58560,18940,1,"Normal",{"v":505.79,"d":"€505.79"},"D010",{"$f":"IFERROR(VLOOKUP(G2295,Discounts!C:E,3,0),0)","v":0},{"v":505.79,"d":"€505.79"}]
["Auto",58620,29720,1,"Normal",{"v":91.74,"d":"€91.74"},"LUXE",{"$f":"IFERROR(VLOOKUP(G2316,Discounts!C:E,3,0),0)","v":0},{"v":91.74,"d":"€91.74"}]
["Auto",58640,31470,1,"Normal",{"v":141.32,"d":"€141.32"},"LUXE",{"$f":"IFERROR(VLOOKUP(G2325,Discounts!C:E,3,0),0)","v":0},{"v":141.32,"d":"€141.32"}]
["Auto",58690,29720,1,"Normal",{"v":91.74,"d":"€91.74"},"LUXE",{"$f":"IFERROR(VLOOKUP(G2339,Discounts!C:E,3,0),0)","v":0},{"v":91.74,"d":"€91.74"}]
["Auto",58710,31470,1,"Normal",{"v":141.32,"d":"€141.32"},"LUXE",{"$f":"IFERROR(VLOOKUP(G2348,Discounts!C:E,3,0),0)","v":0},{"v":141.32,"d":"€141.32"}]
["Auto",58750,1280,1,"Normal",0,"A010",{"$f":"IFERROR(VLOOKUP(G2361,Discounts!C:E,3,0),0)","v":0},0]
["Auto",58770,31470,1,"Normal",{"v":141.32,"d":"€141.32"},"LUXE",{"$f":"IFERROR(VLOOKUP(G2370,Discounts!C:E,3,0),0)","v":0},{"v":141.32,"d":"€141.32"}]
["Auto",58820,29720,1,"Normal",{"v":91.74,"d":"€91.74"},"LUXE",{"$f":"IFERROR(VLOOKUP(G2387,Discounts!C:E,3,0),0)","v":0},{"v":91.74,"d":"€91.74"}]
["Auto",58840,29720,1,"Normal",{"v":91.74,"d":"€91.74"},"LUXE",{"$f":"IFERROR(VLOOKUP(G2393,Discounts!C:E,3,0),0)","v":0},{"v":91.74,"d":"€91.74"}]
["Auto",58910,30260,1,"Combination",{"v":3612.4,"d":"€3,612.40"},"",{"$f":"IFERROR(VLOOKUP(G2414,Discounts!C:E,3,0),0)","v":0},{"v":3612.4,"d":"€3,612.40"}]
["Auto",58940,29720,1,"Normal",{"v":91.74,"d":"€91.74"},"LUXE",{"$f":"IFERROR(VLOOKUP(G2423,Discounts!C:E,3,0),0)","v":0},{"v":91.74,"d":"€91.74"}]
["Auto",58960,31470,1,"Normal",{"v":141.32,"d":"€141.32"},"LUXE",{"$f":"IFERROR(VLOOKUP(G2430,Discounts!C:E,3,0),0)","v":0},{"v":141.32,"d":"€141.32"}]
["Auto",59000,31470,1,"Normal",{"v":141.32,"d":"€141.32"},"LUXE",{"$f":"IFERROR(VLOOKUP(G2446,Discounts!C:E,3,0),0)","v":0},{"v":141.32,"d":"€141.32"}]
["Auto",59040,29720,1,"Normal",{"v":91.74,"d":"€91.74"},"LUXE",{"$f":"IFERROR(VLOOKUP(G2459,Discounts!C:E,3,0),0)","v":0},{"v":91.74,"d":"€91.74"}]
["Auto",59060,29720,1,"Normal",{"v":91.74,"d":"€91.74"},"LUXE",{"$f":"IFERROR(VLOOKUP(G2468,Discounts!C:E,3,0),0)","v":0},{"v":91.74,"d":"€91.74"}]
["Auto",59090,1410,1,"Combination",0,"",{"$f":"IFERROR(VLOOKUP(G2477,Discounts!C:E,3,0),0)","v":0},0]
["Auto",59140,1460,1,"Normal",0,"A010",{"$f":"IFERROR(VLOOKUP(G2492,Discounts!C:E,3,0),0)","v":0},0]
["Auto",59200,31470,1,"Normal",{"v":141.32,"d":"€141.32"},"LUXE",{"$f":"IFERROR(VLOOKUP(G2512,Discounts!C:E,3,0),0)","v":0},{"v":141.32,"d":"€141.32"}]
["Auto",59240,1550,1,"Combination",{"v":1825.62,"d":"€1,825.62"},"",{"$f":"IFERROR(VLOOKUP(G2525,Discounts!C:E,3,0),0)","v":0},{"v":1825.62,"d":"€1,825.62"}]
["Auto",59260,29710,1,"Normal",{"v":42.98,"d":"€42.98"},"LUXE",{"$f":"IFERROR(VLOOKUP(G2534,Discounts!C:E,3,0),0)","v":0},{"v":42.98,"d":"€42.98"}]
["Auto",59270,31470,1,"Normal",{"v":141.32,"d":"€141.32"},"LUXE",{"$f":"IFERROR(VLOOKUP(G2539,Discounts!C:E,3,0),0)","v":0},{"v":141.32,"d":"€141.32"}]
["Auto",59330,29710,1,"Normal",{"v":42.98,"d":"€42.98"},"LUXE",{"$f":"IFERROR(VLOOKUP(G2557,Discounts!C:E,3,0),0)","v":0},{"v":42.98,"d":"€42.98"}]
["Auto",59360,29710,1,"Normal",{"v":42.98,"d":"€42.98"},"LUXE",{"$f":"IFERROR(VLOOKUP(G2566,Discounts!C:E,3,0),0)","v":0},{"v":42.98,"d":"€42.98"}]
["Auto",59390,29720,1,"Normal",{"v":91.74,"d":"€91.74"},"LUXE",{"$f":"IFERROR(VLOOKUP(G2575,Discounts!C:E,3,0),0)","v":0},{"v":91.74,"d":"€91.74"}]
["Auto",59430,29710,1,"Normal",{"v":42.98,"d":"€42.98"},"LUXE",{"$f":"IFERROR(VLOOKUP(G2588,Discounts!C:E,3,0),0)","v":0},{"v":42.98,"d":"€42.98"}]
["Auto",59470,31470,1,"Normal",{"v":141.32,"d":"€141.32"},"LUXE",{"$f":"IFERROR(VLOOKUP(G2601,Discounts!C:E,3,0),0)","v":0},{"v":141.32,"d":"€141.32"}]
["Auto",59540,31470,1,"Normal",{"v":141.32,"d":"€141.32"},"LUXE",{"$f":"IFERROR(VLOOKUP(G2623,Discounts!C:E,3,0),0)","v":0},{"v":141.32,"d":"€141.32"}]
["Auto",59560,53350,1,"Normal",{"v":199.17,"d":"€199.17"},"LUXE",{"$f":"IFERROR(VLOOKUP(G2632,Discounts!C:E,3,0),0)","v":0},{"v":199.17,"d":"€199.17"}]
["Auto",59590,1870,1,"Combination",0,"",{"$f":"IFERROR(VLOOKUP(G2641,Discounts!C:E,3,0),0)","v":0},0]
["Auto",59630,1890,1,"Combination",0,"",{"$f":"IFERROR(VLOOKUP(G2657,Discounts!C:E,3,0),0)","v":0},0]
["Auto",59640,53350,1,"Normal",{"v":199.17,"d":"€199.17"},"LUXE",{"$f":"IFERROR(VLOOKUP(G2664,Discounts!C:E,3,0),0)","v":0},{"v":199.17,"d":"€199.17"}]
["Auto",59680,31470,1,"Normal",{"v":141.32,"d":"€141.32"},"LUXE",{"$f":"IFERROR(VLOOKUP(G2677,Discounts!C:E,3,0),0)","v":0},{"v":141.32,"d":"€141.32"}]
["Auto",59710,31470,1,"Normal",{"v":141.32,"d":"€141.32"},"LUXE",{"$f":"IFERROR(VLOOKUP(G2686,Discounts!C:E,3,0),0)","v":0},{"v":141.32,"d":"€141.32"}]
["Auto",59780,31470,1,"Normal",{"v":141.32,"d":"€141.32"},"LUXE",{"$f":"IFERROR(VLOOKUP(G2707,Discounts!C:E,3,0),0)","v":0},{"v":141.32,"d":"€141.32"}]
["Auto",59820,2050,1,"Combination",0,"",{"$f":"IFERROR(VLOOKUP(G2719,Discounts!C:E,3,0),0)","v":0},0]
["Auto",59850,31470,1,"Normal",{"v":141.32,"d":"€141.32"},"LUXE",{"$f":"IFERROR(VLOOKUP(G2730,Discounts!C:E,3,0),0)","v":0},{"v":141.32,"d":"€141.32"}]
["Auto",59880,31470,1,"Normal",{"v":141.32,"d":"€141.32"},"LUXE",{"$f":"IFERROR(VLOOKUP(G2739,Discounts!C:E,3,0),0)","v":0},{"v":141.32,"d":"€141.32"}]
["Auto",59930,2150,1,"Combination",0,"",{"$f":"IFERROR(VLOOKUP(G2752,Discounts!C:E,3,0),0)","v":0},0]
["Auto",59970,2160,1,"Normal",{"v":3056.2,"d":"€3,056.20"},"A010",{"$f":"IFERROR(VLOOKUP(G2766,Discounts!C:E,3,0),0)","v":0},{"v":3056.2,"d":"€3,056.20"}]
["Auto",60000,2190,1,"Combination",0,"",{"$f":"IFERROR(VLOOKUP(G2775,Discounts!C:E,3,0),0)","v":0},0]
["Auto",60030,2220,1,"Normal",0,"A010",{"$f":"IFERROR(VLOOKUP(G2784,Discounts!C:E,3,0),0)","v":0},0]
["Auto",60100,2280,1,"Normal",{"v":1276.03,"d":"€1,276.03"},"A010",{"$f":"IFERROR(VLOOKUP(G2805,Discounts!C:E,3,0),0)","v":0},{"v":1276.03,"d":"€1,276.03"}]
["Auto",60140,29710,1,"Normal",{"v":42.98,"d":"€42.98"},"LUXE",{"$f":"IFERROR(VLOOKUP(G2818,Discounts!C:E,3,0),0)","v":0},{"v":42.98,"d":"€42.98"}]
["Auto",60170,29940,1,"Normal",{"v":2149.59,"d":"€2,149.59"},"A015",{"$f":"IFERROR(VLOOKUP(G2828,Discounts!C:E,3,0),0)","v":0},{"v":2149.59,"d":"€2,149.59"}]
["Auto",60200,29710,1,"Normal",{"v":42.98,"d":"€42.98"},"LUXE",{"$f":"IFERROR(VLOOKUP(G2837,Discounts!C:E,3,0),0)","v":0},{"v":42.98,"d":"€42.98"}]
["Auto",60240,31470,1,"Normal",{"v":141.32,"d":"€141.32"},"LUXE",{"$f":"IFERROR(VLOOKUP(G2850,Discounts!C:E,3,0),0)","v":0},{"v":141.32,"d":"€141.32"}]
["Auto",60270,31470,1,"Normal",{"v":141.32,"d":"€141.32"},"LUXE",{"$f":"IFERROR(VLOOKUP(G2859,Discounts!C:E,3,0),0)","v":0},{"v":141.32,"d":"€141.32"}]
["Auto",60310,29710,1,"Normal",{"v":42.98,"d":"€42.98"},"LUXE",{"$f":"IFERROR(VLOOKUP(G2871,Discounts!C:E,3,0),0)","v":0},{"v":42.98,"d":"€42.98"}]
["Auto",60350,2470,1,"Combination",0,"",{"$f":"IFERROR(VLOOKUP(G2882,Discounts!C:E,3,0),0)","v":0},0]
["Auto",60410,31470,1,"Normal",{"v":141.32,"d":"€141.32"},"LUXE",{"$f":"IFERROR(VLOOKUP(G2903,Discounts!C:E,3,0),0)","v":0},{"v":141.32,"d":"€141.32"}]
["Auto",60460,2570,1,"Combination",0,"",{"$f":"IFERROR(VLOOKUP(G2916,Discounts!C:E,3,0),0)","v":0},0]
["Auto",60490,2600,1,"Normal",{"v":2124.79,"d":"€2,124.79"},"A010",{"$f":"IFERROR(VLOOKUP(G2925,Discounts!C:E,3,0),0)","v":0},{"v":2124.79,"d":"€2,124.79"}]
["Auto",60510,29710,1,"Normal",{"v":42.98,"d":"€42.98"},"LUXE",{"$f":"IFERROR(VLOOKUP(G2933,Discounts!C:E,3,0),0)","v":0},{"v":42.98,"d":"€42.98"}]
["Auto",60560,29710,1,"Normal",{"v":42.98,"d":"€42.98"},"LUXE",{"$f":"IFERROR(VLOOKUP(G2948,Discounts!C:E,3,0),0)","v":0},{"v":42.98,"d":"€42.98"}]
["Auto",60590,29710,1,"Normal",{"v":42.98,"d":"€42.98"},"LUXE",{"$f":"IFERROR(VLOOKUP(G2957,Discounts!C:E,3,0),0)","v":0},{"v":42.98,"d":"€42.98"}]
["Auto",60630,31470,1,"Normal",{"v":141.32,"d":"€141.32"},"LUXE",{"$f":"IFERROR(VLOOKUP(G2970,Discounts!C:E,3,0),0)","v":0},{"v":141.32,"d":"€141.32"}]
["Auto",60670,3280,1,"Normal",{"v":1703.31,"d":"€1,703.31"},"A010",{"$f":"IFERROR(VLOOKUP(G2980,Discounts!C:E,3,0),0)","v":0},{"v":1703.31,"d":"€1,703.31"}]
["Auto",60730,590,1,"Combination",{"v":1674.38,"d":"€1,674.38"},"",{"$f":"IFERROR(VLOOKUP(G3001,Discounts!C:E,3,0),0)","v":0},{"v":1674.38,"d":"€1,674.38"}]
["Auto",60760,31470,1,"Normal",{"v":141.32,"d":"€141.32"},"LUXE",{"$f":"IFERROR(VLOOKUP(G3014,Discounts!C:E,3,0),0)","v":0},{"v":141.32,"d":"€141.32"}]
["Auto",60790,31470,1,"Normal",{"v":141.32,"d":"€141.32"},"LUXE",{"$f":"IFERROR(VLOOKUP(G3023,Discounts!C:E,3,0),0)","v":0},{"v":141.32,"d":"€141.32"}]
["Auto",60830,31470,1,"Normal",{"v":141.32,"d":"€141.32"},"LUXE",{"$f":"IFERROR(VLOOKUP(G3036,Discounts!C:E,3,0),0)","v":0},{"v":141.32,"d":"€141.32"}]
["Auto",60850,30490,2,"Normal",{"v":433.06,"d":"€433.06"},"O115",{"$f":"IFERROR(VLOOKUP(G3042,Discounts!C:E,3,0),0)","v":0},{"v":433.06,"d":"€433.06"}]
["Auto",60880,31470,1,"Normal",{"v":141.32,"d":"€141.32"},"LUXE",{"$f":"IFERROR(VLOOKUP(G3055,Discounts!C:E,3,0),0)","v":0},{"v":141.32,"d":"€141.32"}]
["Auto",60920,3500,1,"Normal",0,"A010",{"$f":"IFERROR(VLOOKUP(G3068,Discounts!C:E,3,0),0)","v":0},0]
["Auto",60940,29710,1,"Normal",{"v":42.98,"d":"€42.98"},"LUXE",{"$f":"IFERROR(VLOOKUP(G3077,Discounts!C:E,3,0),0)","v":0},{"v":42.98,"d":"€42.98"}]
["Auto",60970,31470,1,"Normal",{"v":141.32,"d":"€141.32"},"LUXE",{"$f":"IFERROR(VLOOKUP(G3089,Discounts!C:E,3,0),0)","v":0},{"v":141.32,"d":"€141.32"}]
["Auto",61030,29710,1,"Normal",{"v":42.98,"d":"€42.98"},"LUXE",{"$f":"IFERROR(VLOOKUP(G3112,Discounts!C:E,3,0),0)","v":0},{"v":42.98,"d":"€42.98"}]
["Auto",61050,31470,1,"Normal",{"v":141.32,"d":"€141.32"},"LUXE",{"$f":"IFERROR(VLOOKUP(G3121,Discounts!C:E,3,0),0)","v":0},{"v":141.32,"d":"€141.32"}]
["Auto",61090,2790,1,"Combination",{"v":1652.89,"d":"€1,652.89"},"",{"$f":"IFERROR(VLOOKUP(G3134,Discounts!C:E,3,0),0)","v":0},{"v":1652.89,"d":"€1,652.89"}]
["Auto",61110,29710,1,"Normal",{"v":42.98,"d":"€42.98"},"LUXE",{"$f":"IFERROR(VLOOKUP(G3143,Discounts!C:E,3,0),0)","v":0},{"v":42.98,"d":"€42.98"}]
["Auto",61130,29710,1,"Normal",{"v":42.98,"d":"€42.98"},"LUXE",{"$f":"IFERROR(VLOOKUP(G3151,Discounts!C:E,3,0),0)","v":0},{"v":42.98,"d":"€42.98"}]
["Auto",61170,630,1,"Combination",{"v":1674.38,"d":"€1,674.38"},"",{"$f":"IFERROR(VLOOKUP(G3166,Discounts!C:E,3,0),0)","v":0},{"v":1674.38,"d":"€1,674.38"}]
["Auto",61190,31470,1,"Normal",{"v":141.32,"d":"€141.32"},"LUXE",{"$f":"IFERROR(VLOOKUP(G3175,Discounts!C:E,3,0),0)","v":0},{"v":141.32,"d":"€141.32"}]
["Auto",61220,45730,1,"Normal",{"v":42.98,"d":"€42.98"},"LUXE",{"$f":"IFERROR(VLOOKUP(G3188,Discounts!C:E,3,0),0)","v":0},{"v":42.98,"d":"€42.98"}]
["Auto",61270,31470,1,"Normal",{"v":141.32,"d":"€141.32"},"LUXE",{"$f":"IFERROR(VLOOKUP(G3207,Discounts!C:E,3,0),0)","v":0},{"v":141.32,"d":"€141.32"}]
["Auto",61300,31470,1,"Normal",{"v":141.32,"d":"€141.32"},"LUXE",{"$f":"IFERROR(VLOOKUP(G3219,Discounts!C:E,3,0),0)","v":0},{"v":141.32,"d":"€141.32"}]
["Auto",61330,45730,1,"Normal",{"v":42.98,"d":"€42.98"},"LUXE",{"$f":"IFERROR(VLOOKUP(G3232,Discounts!C:E,3,0),0)","v":0},{"v":42.98,"d":"€42.98"}]
["Auto",61360,3040,1,"Normal",0,"A010",{"$f":"IFERROR(VLOOKUP(G3241,Discounts!C:E,3,0),0)","v":0},0]
["Auto",61380,29710,1,"Normal",{"v":42.98,"d":"€42.98"},"LUXE",{"$f":"IFERROR(VLOOKUP(G3250,Discounts!C:E,3,0),0)","v":0},{"v":42.98,"d":"€42.98"}]
["Auto",61430,3100,1,"Normal",0,"A010",{"$f":"IFERROR(VLOOKUP(G3269,Discounts!C:E,3,0),0)","v":0},0]
["Auto",61440,3110,1,"Combination",0,"",{"$f":"IFERROR(VLOOKUP(G3273,Discounts!C:E,3,0),0)","v":0},0]
["Auto",61470,29710,1,"Normal",{"v":42.98,"d":"€42.98"},"LUXE",{"$f":"IFERROR(VLOOKUP(G3286,Discounts!C:E,3,0),0)","v":0},{"v":42.98,"d":"€42.98"}]
["Auto",61520,45730,1,"Normal",{"v":42.98,"d":"€42.98"},"LUXE",{"$f":"IFERROR(VLOOKUP(G3307,Discounts!C:E,3,0),0)","v":0},{"v":42.98,"d":"€42.98"}]
["Auto",61550,3610,1,"Combination",0,"",{"$f":"IFERROR(VLOOKUP(G3316,Discounts!C:E,3,0),0)","v":0},0]
["Auto",61580,31470,1,"Normal",{"v":141.32,"d":"€141.32"},"LUXE",{"$f":"IFERROR(VLOOKUP(G3330,Discounts!C:E,3,0),0)","v":0},{"v":141.32,"d":"€141.32"}]
["Auto",61600,45730,1,"Normal",{"v":42.98,"d":"€42.98"},"LUXE",{"$f":"IFERROR(VLOOKUP(G3339,Discounts!C:E,3,0),0)","v":0},{"v":42.98,"d":"€42.98"}]
["Auto",61640,29710,1,"Normal",{"v":42.98,"d":"€42.98"},"LUXE",{"$f":"IFERROR(VLOOKUP(G3352,Discounts!C:E,3,0),0)","v":0},{"v":42.98,"d":"€42.98"}]
["Auto",61660,31470,1,"Normal",{"v":141.32,"d":"€141.32"},"LUXE",{"$f":"IFERROR(VLOOKUP(G3361,Discounts!C:E,3,0),0)","v":0},{"v":141.32,"d":"€141.32"}]
["Auto",61700,45730,1,"Normal",{"v":42.98,"d":"€42.98"},"LUXE",{"$f":"IFERROR(VLOOKUP(G3378,Discounts!C:E,3,0),0)","v":0},{"v":42.98,"d":"€42.98"}]
["Auto",61720,29720,1,"Normal",{"v":91.74,"d":"€91.74"},"LUXE",{"$f":"IFERROR(VLOOKUP(G3384,Discounts!C:E,3,0),0)","v":0},{"v":91.74,"d":"€91.74"}]
["Auto",61770,31470,1,"Normal",{"v":141.32,"d":"€141.32"},"LUXE",{"$f":"IFERROR(VLOOKUP(G3405,Discounts!C:E,3,0),0)","v":0},{"v":141.32,"d":"€141.32"}]
["Auto",61790,45730,1,"Normal",{"v":42.98,"d":"€42.98"},"LUXE",{"$f":"IFERROR(VLOOKUP(G3414,Discounts!C:E,3,0),0)","v":0},{"v":42.98,"d":"€42.98"}]
["Auto",61810,31470,1,"Normal",{"v":141.32,"d":"€141.32"},"LUXE",{"$f":"IFERROR(VLOOKUP(G3421,Discounts!C:E,3,0),0)","v":0},{"v":141.32,"d":"€141.32"}]
["Auto",61850,31470,1,"Normal",{"v":141.32,"d":"€141.32"},"LUXE",{"$f":"IFERROR(VLOOKUP(G3437,Discounts!C:E,3,0),0)","v":0},{"v":141.32,"d":"€141.32"}]
["Auto",61880,45730,1,"Normal",{"v":42.98,"d":"€42.98"},"LUXE",{"$f":"IFERROR(VLOOKUP(G3450,Discounts!C:E,3,0),0)","v":0},{"v":42.98,"d":"€42.98"}]
["Auto",61910,3930,1,"Combination",{"v":1655.37,"d":"€1,655.37"},"",{"$f":"IFERROR(VLOOKUP(G3459,Discounts!C:E,3,0),0)","v":0},{"$f":"IF(E3459=\"Normal\",F3459*(1-H3459),SUMIF(B:B,C3459,I:I)*D3459)","v":{"v":1655.37,"d":"€1,655.37"}}]
["Auto",61930,29710,1,"Normal",{"v":42.98,"d":"€42.98"},"LUXE",{"$f":"IFERROR(VLOOKUP(G3468,Discounts!C:E,3,0),0)","v":0},{"v":42.98,"d":"€42.98"}]
["Auto",61970,29710,1,"Normal",{"v":42.98,"d":"€42.98"},"LUXE",{"$f":"IFERROR(VLOOKUP(G3483,Discounts!C:E,3,0),0)","v":0},{"v":42.98,"d":"€42.98"}]
["Auto",62020,29710,1,"Normal",{"v":42.98,"d":"€42.98"},"LUXE",{"$f":"IFERROR(VLOOKUP(G3503,Discounts!C:E,3,0),0)","v":0},{"v":42.98,"d":"€42.98"}]
["Auto",62040,31470,1,"Normal",{"v":141.32,"d":"€141.32"},"LUXE",{"$f":"IFERROR(VLOOKUP(G3512,Discounts!C:E,3,0),0)","v":0},{"v":141.32,"d":"€141.32"}]
["Auto",62080,4080,1,"Normal",{"v":1884.3,"d":"€1,884.30"},"A010",{"$f":"IFERROR(VLOOKUP(G3525,Discounts!C:E,3,0),0)","v":0},{"v":1884.3,"d":"€1,884.30"}]
["Auto",62090,29710,1,"Normal",{"v":42.98,"d":"€42.98"},"LUXE",{"$f":"IFERROR(VLOOKUP(G3530,Discounts!C:E,3,0),0)","v":0},{"v":42.98,"d":"€42.98"}]
["Auto",62130,45730,1,"Normal",{"v":42.98,"d":"€42.98"},"LUXE",{"$f":"IFERROR(VLOOKUP(G3548,Discounts!C:E,3,0),0)","v":0},{"v":42.98,"d":"€42.98"}]
["Auto",62160,4160,1,"Normal",{"v":1884.3,"d":"€1,884.30"},"A010",{"$f":"IFERROR(VLOOKUP(G3557,Discounts!C:E,3,0),0)","v":0},{"v":1884.3,"d":"€1,884.30"}]
["Auto",62180,29710,1,"Normal",{"v":42.98,"d":"€42.98"},"LUXE",{"$f":"IFERROR(VLOOKUP(G3566,Discounts!C:E,3,0),0)","v":0},{"v":42.98,"d":"€42.98"}]
["Auto",62210,31470,1,"Normal",{"v":141.32,"d":"€141.32"},"LUXE",{"$f":"IFERROR(VLOOKUP(G3579,Discounts!C:E,3,0),0)","v":0},{"v":141.32,"d":"€141.32"}]
["Auto",62240,45730,1,"Normal",{"v":42.98,"d":"€42.98"},"LUXE",{"$f":"IFERROR(VLOOKUP(G3592,Discounts!C:E,3,0),0)","v":0},{"v":42.98,"d":"€42.98"}]
["Auto",62270,29710,1,"Normal",{"v":42.98,"d":"€42.98"},"LUXE",{"$f":"IFERROR(VLOOKUP(G3602,Discounts!C:E,3,0),0)","v":0},{"v":42.98,"d":"€42.98"}]
["Auto",62320,31470,1,"Normal",{"v":141.32,"d":"€141.32"},"LUXE",{"$f":"IFERROR(VLOOKUP(G3623,Discounts!C:E,3,0),0)","v":0},{"v":141.32,"d":"€141.32"}]
["Auto",62340,45730,1,"Normal",{"v":42.98,"d":"€42.98"},"LUXE",{"$f":"IFERROR(VLOOKUP(G3632,Discounts!C:E,3,0),0)","v":0},{"v":42.98,"d":"€42.98"}]
["Auto",62380,45730,1,"Normal",{"v":42.98,"d":"€42.98"},"LUXE",{"$f":"IFERROR(VLOOKUP(G3648,Discounts!C:E,3,0),0)","v":0},{"v":42.98,"d":"€42.98"}]
["Auto",62400,45730,1,"Normal",{"v":42.98,"d":"€42.98"},"LUXE",{"$f":"IFERROR(VLOOKUP(G3655,Discounts!C:E,3,0),0)","v":0},{"v":42.98,"d":"€42.98"}]
["Auto",62430,4400,1,"Normal",0,"A010",{"$f":"IFERROR(VLOOKUP(G3664,Discounts!C:E,3,0),0)","v":0},0]
["Auto",62460,29710,1,"Normal",{"v":42.98,"d":"€42.98"},"LUXE",{"$f":"IFERROR(VLOOKUP(G3677,Discounts!C:E,3,0),0)","v":0},{"v":42.98,"d":"€42.98"}]
["Auto",62510,45730,1,"Normal",{"v":42.98,"d":"€42.98"},"LUXE",{"$f":"IFERROR(VLOOKUP(G3698,Discounts!C:E,3,0),0)","v":0},{"v":42.98,"d":"€42.98"}]
["Auto",62540,31640,1,"Normal",{"v":141.32,"d":"€141.32"},"LUXE",{"$f":"IFERROR(VLOOKUP(G3710,Discounts!C:E,3,0),0)","v":0},{"v":141.32,"d":"€141.32"}]
["Auto",62570,29780,1,"Normal",{"v":913.22,"d":"€913.22"},"LUXE",{"$f":"IFERROR(VLOOKUP(G3721,Discounts!C:E,3,0),0)","v":0},{"v":913.22,"d":"€913.22"}]
["Auto",62590,31640,1,"Normal",{"v":141.32,"d":"€141.32"},"LUXE",{"$f":"IFERROR(VLOOKUP(G3730,Discounts!C:E,3,0),0)","v":0},{"v":141.32,"d":"€141.32"}]
["Auto",62630,29720,1,"Normal",{"v":91.74,"d":"€91.74"},"LUXE",{"$f":"IFERROR(VLOOKUP(G3743,Discounts!C:E,3,0),0)","v":0},{"v":91.74,"d":"€91.74"}]
["Auto",62670,29720,1,"Normal",{"v":91.74,"d":"€91.74"},"LUXE",{"$f":"IFERROR(VLOOKUP(G3757,Discounts!C:E,3,0),0)","v":0},{"v":91.74,"d":"€91.74"}]
["Auto",62700,29450,1,"Combination",{"v":249.59,"d":"€249.59"},"",{"$f":"IFERROR(VLOOKUP(G3766,Discounts!C:E,3,0),0)","v":0},{"v":249.59,"d":"€249.59"}]
["Auto",62720,29710,1,"Normal",{"v":42.98,"d":"€42.98"},"LUXE",{"$f":"IFERROR(VLOOKUP(G3775,Discounts!C:E,3,0),0)","v":0},{"v":42.98,"d":"€42.98"}]
["Auto",62780,31640,1,"Normal",{"v":141.32,"d":"€141.32"},"LUXE",{"$f":"IFERROR(VLOOKUP(G3796,Discounts!C:E,3,0),0)","v":0},{"v":141.32,"d":"€141.32"}]
["Auto",62790,31640,1,"Normal",{"v":141.32,"d":"€141.32"},"LUXE",{"$f":"IFERROR(VLOOKUP(G3800,Discounts!C:E,3,0),0)","v":0},{"v":141.32,"d":"€141.32"}]
["Auto",62850,29720,1,"Normal",{"v":91.74,"d":"€91.74"},"LUXE",{"$f":"IFERROR(VLOOKUP(G3819,Discounts!C:E,3,0),0)","v":0},{"v":91.74,"d":"€91.74"}]
["Auto",62880,29720,1,"Normal",{"v":91.74,"d":"€91.74"},"LUXE",{"$f":"IFERROR(VLOOKUP(G3828,Discounts!C:E,3,0),0)","v":0},{"v":91.74,"d":"€91.74"}]
["Auto",62920,25610,1,"Combination",{"v":2230.58,"d":"€2,230.58"},"",{"$f":"IFERROR(VLOOKUP(G3841,Discounts!C:E,3,0),0)","v":0},{"v":2230.58,"d":"€2,230.58"}]
["Auto",62940,29780,1,"Normal",{"v":913.22,"d":"€913.22"},"LUXE",{"$f":"IFERROR(VLOOKUP(G3850,Discounts!C:E,3,0),0)","v":0},{"v":913.22,"d":"€913.22"}]
["Auto",62980,25650,1,"Combination",{"v":249.59,"d":"€249.59"},"",{"$f":"IFERROR(VLOOKUP(G3862,Discounts!C:E,3,0),0)","v":0},{"v":249.59,"d":"€249.59"}]
["Auto",63060,780,1,"Normal",{"v":2007.44,"d":"€2,007.44"},"A010",{"$f":"IFERROR(VLOOKUP(G3873,Discounts!C:E,3,0),0)","v":0},{"v":2007.44,"d":"€2,007.44"}]
["Auto",63130,30570,1,"Combination",{"v":249.59,"d":"€249.59"},"",{"$f":"IFERROR(VLOOKUP(G3894,Discounts!C:E,3,0),0)","v":0},{"v":249.59,"d":"€249.59"}]
["Auto",63130,31470,1,"Normal",{"v":141.32,"d":"€141.32"},"LUXE",{"$f":"IFERROR(VLOOKUP(G3895,Discounts!C:E,3,0),0)","v":0},{"v":141.32,"d":"€141.32"}]
["Auto",63180,29710,1,"Normal",{"v":42.98,"d":"€42.98"},"LUXE",{"$f":"IFERROR(VLOOKUP(G3909,Discounts!C:E,3,0),0)","v":0},{"v":42.98,"d":"€42.98"}]
["Auto",63230,29710,1,"Normal",{"v":42.98,"d":"€42.98"},"LUXE",{"$f":"IFERROR(VLOOKUP(G3926,Discounts!C:E,3,0),0)","v":0},{"v":42.98,"d":"€42.98"}]
["Auto",63280,31470,1,"Normal",{"v":141.32,"d":"€141.32"},"LUXE",{"$f":"IFERROR(VLOOKUP(G3939,Discounts!C:E,3,0),0)","v":0},{"v":141.32,"d":"€141.32"}]
["Auto",63360,30600,1,"Combination",{"v":3499.18,"d":"€3,499.18"},"",{"$f":"IFERROR(VLOOKUP(G3948,Discounts!C:E,3,0),0)","v":0},{"v":3499.1800000000003,"d":"€3,499.18"}]
["Auto",63400,29710,1,"Normal",{"v":42.98,"d":"€42.98"},"LUXE",{"$f":"IFERROR(VLOOKUP(G3961,Discounts!C:E,3,0),0)","v":0},{"v":42.98,"d":"€42.98"}]
["Auto",63430,31470,1,"Normal",{"v":141.32,"d":"€141.32"},"LUXE",{"$f":"IFERROR(VLOOKUP(G3971,Discounts!C:E,3,0),0)","v":0},{"$f":"IF(E3971=\"Normal\",F3971*(1-H3971),SUMIF(B:B,C3971,I:I)*D3971)","v":{"v":141.32,"d":"€141.32"}}]
["Auto",63500,29990,1,"Normal",0,"A010",{"$f":"IFERROR(VLOOKUP(G3992,Discounts!C:E,3,0),0)","v":0},0]
["Auto",63500,31470,1,"Normal",{"v":141.32,"d":"€141.32"},"LUXE",{"$f":"IFERROR(VLOOKUP(G3993,Discounts!C:E,3,0),0)","v":0},{"v":141.32,"d":"€141.32"}]
["Auto",63570,26110,1,"Combination",{"v":2514.05,"d":"€2,514.05"},"",{"$f":"IFERROR(VLOOKUP(G4014,Discounts!C:E,3,0),0)","v":0},{"v":2514.05,"d":"€2,514.05"}]
["Auto",63690,29720,1,"Normal",{"v":91.74,"d":"€91.74"},"LUXE",{"$f":"IFERROR(VLOOKUP(G4027,Discounts!C:E,3,0),0)","v":0},{"v":91.74,"d":"€91.74"}]
["Auto",63710,30680,1,"Combination",{"v":2728.1,"d":"€2,728.10"},"",{"$f":"IFERROR(VLOOKUP(G4037,Discounts!C:E,3,0),0)","v":0},{"v":2728.1000000000004,"d":"€2,728.10"}]
["Auto",63740,26180,1,"Combination",{"v":249.59,"d":"€249.59"},"",{"$f":"IFERROR(VLOOKUP(G4046,Discounts!C:E,3,0),0)","v":0},{"v":249.59,"d":"€249.59"}]
["Auto",63800,29910,1,"Normal",{"v":627.27,"d":"€627.27"},"P105",{"$f":"IFERROR(VLOOKUP(G4059,Discounts!C:E,3,0),0)","v":0},{"v":627.27,"d":"€627.27"}]
["Auto",63820,30720,1,"Combination",{"v":2865.29,"d":"€2,865.29"},"",{"$f":"IFERROR(VLOOKUP(G4068,Discounts!C:E,3,0),0)","v":0},{"v":2865.29,"d":"€2,865.29"}]
["Auto",63860,26250,1,"Combination",{"v":249.59,"d":"€249.59"},"",{"$f":"IFERROR(VLOOKUP(G4080,Discounts!C:E,3,0),0)","v":0},{"v":249.59,"d":"€249.59"}]
["Auto",63890,29720,1,"Normal",{"v":91.74,"d":"€91.74"},"LUXE",{"$f":"IFERROR(VLOOKUP(G4091,Discounts!C:E,3,0),0)","v":0},{"v":91.74,"d":"€91.74"}]
["Auto",63970,26310,1,"Combination",{"v":249.59,"d":"€249.59"},"",{"$f":"IFERROR(VLOOKUP(G4112,Discounts!C:E,3,0),0)","v":0},{"v":249.59,"d":"€249.59"}]
["Auto",64060,31470,1,"Normal",{"v":141.32,"d":"€141.32"},"LUXE",{"$f":"IFERROR(VLOOKUP(G4125,Discounts!C:E,3,0),0)","v":0},{"v":141.32,"d":"€141.32"}]
["Auto",64090,31470,1,"Normal",{"v":141.32,"d":"€141.32"},"LUXE",{"$f":"IFERROR(VLOOKUP(G4136,Discounts!C:E,3,0),0)","v":0},{"v":141.32,"d":"€141.32"}]
["Auto",64110,31470,1,"Normal",{"v":141.32,"d":"€141.32"},"LUXE",{"$f":"IFERROR(VLOOKUP(G4144,Discounts!C:E,3,0),0)","v":0},{"v":141.32,"d":"€141.32"}]
["Auto",64150,29720,1,"Normal",{"v":91.74,"d":"€91.74"},"LUXE",{"$f":"IFERROR(VLOOKUP(G4157,Discounts!C:E,3,0),0)","v":0},{"v":91.74,"d":"€91.74"}]
["Auto",64170,29710,1,"Normal",{"v":42.98,"d":"€42.98"},"LUXE",{"$f":"IFERROR(VLOOKUP(G4166,Discounts!C:E,3,0),0)","v":0},{"v":42.98,"d":"€42.98"}]
["Auto",64330,31470,1,"Normal",{"v":141.32,"d":"€141.32"},"LUXE",{"$f":"IFERROR(VLOOKUP(G4187,Discounts!C:E,3,0),0)","v":0},{"v":141.32,"d":"€141.32"}]
["Auto",64360,29710,1,"Normal",{"v":42.98,"d":"€42.98"},"LUXE",{"$f":"IFERROR(VLOOKUP(G4198,Discounts!C:E,3,0),0)","v":0},{"v":42.98,"d":"€42.98"}]
["Auto",64390,31470,1,"Normal",{"v":141.32,"d":"€141.32"},"LUXE",{"$f":"IFERROR(VLOOKUP(G4210,Discounts!C:E,3,0),0)","v":0},{"v":141.32,"d":"€141.32"}]
["Auto",64440,26590,1,"Combination",{"v":249.59,"d":"€249.59"},"",{"$f":"IFERROR(VLOOKUP(G4223,Discounts!C:E,3,0),0)","v":0},{"v":249.59,"d":"€249.59"}]
["Auto",64550,26690,1,"Combination",{"v":2952.07,"d":"€2,952.07"},"",{"$f":"IFERROR(VLOOKUP(G4232,Discounts!C:E,3,0),0)","v":0},{"v":2952.07,"d":"€2,952.07"}]
["Auto",64590,29710,1,"Normal",{"v":42.98,"d":"€42.98"},"LUXE",{"$f":"IFERROR(VLOOKUP(G4245,Discounts!C:E,3,0),0)","v":0},{"v":42.98,"d":"€42.98"}]
["Auto",64620,31470,1,"Normal",{"v":141.32,"d":"€141.32"},"LUXE",{"$f":"IFERROR(VLOOKUP(G4255,Discounts!C:E,3,0),0)","v":0},{"v":141.32,"d":"€141.32"}]
["Auto",64650,31470,1,"Normal",{"v":141.32,"d":"€141.32"},"LUXE",{"$f":"IFERROR(VLOOKUP(G4264,Discounts!C:E,3,0),0)","v":0},{"v":141.32,"d":"€141.32"}]
["Auto",64680,53350,1,"Normal",{"v":199.17,"d":"€199.17"},"LUXE",{"$f":"IFERROR(VLOOKUP(G4277,Discounts!C:E,3,0),0)","v":0},{"v":199.17,"d":"€199.17"}]
["Auto",64710,26840,1,"Combination",{"v":249.59,"d":"€249.59"},"",{"$f":"IFERROR(VLOOKUP(G4286,Discounts!C:E,3,0),0)","v":0},{"v":249.59,"d":"€249.59"}]
["Auto",64760,31470,1,"Normal",{"v":141.32,"d":"€141.32"},"LUXE",{"$f":"IFERROR(VLOOKUP(G4307,Discounts!C:E,3,0),0)","v":0},{"v":141.32,"d":"€141.32"}]
["Auto",64810,29710,1,"Normal",{"v":42.98,"d":"€42.98"},"LUXE",{"$f":"IFERROR(VLOOKUP(G4321,Discounts!C:E,3,0),0)","v":0},{"v":42.98,"d":"€42.98"}]
["Auto",64840,29710,1,"Normal",{"v":42.98,"d":"€42.98"},"LUXE",{"$f":"IFERROR(VLOOKUP(G4330,Discounts!C:E,3,0),0)","v":0},{"v":42.98,"d":"€42.98"}]
["Auto",64870,29710,1,"Normal",{"v":42.98,"d":"€42.98"},"LUXE",{"$f":"IFERROR(VLOOKUP(G4339,Discounts!C:E,3,0),0)","v":0},{"v":42.98,"d":"€42.98"}]
["Auto",64900,30950,1,"Combination",{"v":2277.69,"d":"€2,277.69"},"",{"$f":"IFERROR(VLOOKUP(G4350,Discounts!C:E,3,0),0)","v":0},{"v":2277.69,"d":"€2,277.69"}]
["Auto",64980,29710,1,"Normal",{"v":42.98,"d":"€42.98"},"LUXE",{"$f":"IFERROR(VLOOKUP(G4362,Discounts!C:E,3,0),0)","v":0},{"v":42.98,"d":"€42.98"}]
["Auto",65170,29710,1,"Normal",{"v":42.98,"d":"€42.98"},"LUXE",{"$f":"IFERROR(VLOOKUP(G4375,Discounts!C:E,3,0),0)","v":0},{"v":42.98,"d":"€42.98"}]
["Auto",65210,29710,1,"Normal",{"v":42.98,"d":"€42.98"},"LUXE",{"$f":"IFERROR(VLOOKUP(G4384,Discounts!C:E,3,0),0)","v":0},{"v":42.98,"d":"€42.98"}]
["Auto",65280,29710,1,"Normal",{"v":42.98,"d":"€42.98"},"LUXE",{"$f":"IFERROR(VLOOKUP(G4405,Discounts!C:E,3,0),0)","v":0},{"v":42.98,"d":"€42.98"}]
["Auto",65300,31470,1,"Normal",{"v":141.32,"d":"€141.32"},"LUXE",{"$f":"IFERROR(VLOOKUP(G4412,Discounts!C:E,3,0),0)","v":0},{"v":141.32,"d":"€141.32"}]
["Auto",65360,27580,1,"Combination",{"v":2039.67,"d":"€2,039.67"},"",{"$f":"IFERROR(VLOOKUP(G4428,Discounts!C:E,3,0),0)","v":0},{"v":2039.6699999999998,"d":"€2,039.67"}]
["Auto",65400,29710,1,"Normal",{"v":42.98,"d":"€42.98"},"LUXE",{"$f":"IFERROR(VLOOKUP(G4441,Discounts!C:E,3,0),0)","v":0},{"v":42.98,"d":"€42.98"}]
["Auto",65430,29710,1,"Normal",{"v":42.98,"d":"€42.98"},"LUXE",{"$f":"IFERROR(VLOOKUP(G4450,Discounts!C:E,3,0),0)","v":0},{"v":42.98,"d":"€42.98"}]
["Auto",65460,29710,1,"Normal",{"v":42.98,"d":"€42.98"},"LUXE",{"$f":"IFERROR(VLOOKUP(G4459,Discounts!C:E,3,0),0)","v":0},{"v":42.98,"d":"€42.98"}]
["Auto",65510,27470,1,"Combination",{"v":2804.96,"d":"€2,804.96"},"",{"$f":"IFERROR(VLOOKUP(G4473,Discounts!C:E,3,0),0)","v":0},{"v":2804.96,"d":"€2,804.96"}]
["Auto",65540,27500,1,"Combination",{"v":249.59,"d":"€249.59"},"",{"$f":"IFERROR(VLOOKUP(G4482,Discounts!C:E,3,0),0)","v":0},{"v":249.59,"d":"€249.59"}]
["Auto",65610,970,1,"Combination",0,"",{"$f":"IFERROR(VLOOKUP(G4503,Discounts!C:E,3,0),0)","v":0},0]
["Auto",65650,29710,1,"Normal",{"v":42.98,"d":"€42.98"},"LUXE",{"$f":"IFERROR(VLOOKUP(G4516,Discounts!C:E,3,0),0)","v":0},{"v":42.98,"d":"€42.98"}]
["Auto",65670,28120,1,"Combination",{"v":249.59,"d":"€249.59"},"",{"$f":"IFERROR(VLOOKUP(G4521,Discounts!C:E,3,0),0)","v":0},{"v":249.59,"d":"€249.59"}]
["Auto",65730,28170,1,"Combination",{"v":2496.7,"d":"€2,496.70"},"",{"$f":"IFERROR(VLOOKUP(G4539,Discounts!C:E,3,0),0)","v":0},{"v":2496.7000000000003,"d":"€2,496.70"}]
["Auto",65760,28200,1,"Combination",{"v":2952.07,"d":"€2,952.07"},"",{"$f":"IFERROR(VLOOKUP(G4548,Discounts!C:E,3,0),0)","v":0},{"v":2952.07,"d":"€2,952.07"}]
["Auto",65790,28250,1,"Combination",{"v":1952.9,"d":"€1,952.90"},"",{"$f":"IFERROR(VLOOKUP(G4557,Discounts!C:E,3,0),0)","v":0},{"v":1952.8999999999999,"d":"€1,952.90"}]
["Auto",65850,28300,1,"Combination",{"v":249.59,"d":"€249.59"},"",{"$f":"IFERROR(VLOOKUP(G4577,Discounts!C:E,3,0),0)","v":0},{"v":249.59,"d":"€249.59"}]
["Auto",65850,31470,1,"Normal",{"v":141.32,"d":"€141.32"},"LUXE",{"$f":"IFERROR(VLOOKUP(G4580,Discounts!C:E,3,0),0)","v":0},{"v":141.32,"d":"€141.32"}]
["Auto",65920,29710,1,"Normal",{"v":42.98,"d":"€42.98"},"LUXE",{"$f":"IFERROR(VLOOKUP(G4601,Discounts!C:E,3,0),0)","v":0},{"v":42.98,"d":"€42.98"}]
["Auto",66050,31470,1,"Normal",{"v":141.32,"d":"€141.32"},"LUXE",{"$f":"IFERROR(VLOOKUP(G4614,Discounts!C:E,3,0),0)","v":0},{"v":141.32,"d":"€141.32"}]
["Auto",66080,27650,1,"Combination",{"v":1576.04,"d":"€1,576.04"},"",{"$f":"IFERROR(VLOOKUP(G4623,Discounts!C:E,3,0),0)","v":0},{"v":1576.04,"d":"€1,576.04"}]
["Auto",66120,27690,1,"Combination",{"v":1768.6,"d":"€1,768.60"},"",{"$f":"IFERROR(VLOOKUP(G4639,Discounts!C:E,3,0),0)","v":0},{"v":1768.6,"d":"€1,768.60"}]
["Auto",66130,45730,1,"Normal",{"v":42.98,"d":"€42.98"},"LUXE",{"$f":"IFERROR(VLOOKUP(G4646,Discounts!C:E,3,0),0)","v":0},{"v":42.98,"d":"€42.98"}]
["Auto",66160,1000,1,"Normal",{"v":2932.23,"d":"€2,932.23"},"A010",{"$f":"IFERROR(VLOOKUP(G4655,Discounts!C:E,3,0),0)","v":0},{"v":2932.23,"d":"€2,932.23"}]
["Auto",66190,31470,1,"Normal",{"v":141.32,"d":"€141.32"},"LUXE",{"$f":"IFERROR(VLOOKUP(G4668,Discounts!C:E,3,0),0)","v":0},{"v":141.32,"d":"€141.32"}]
["Auto",66240,27800,1,"Combination",{"v":249.59,"d":"€249.59"},"",{"$f":"IFERROR(VLOOKUP(G4686,Discounts!C:E,3,0),0)","v":0},{"v":249.59,"d":"€249.59"}]
["Auto",66250,29710,1,"Normal",{"v":42.98,"d":"€42.98"},"LUXE",{"$f":"IFERROR(VLOOKUP(G4691,Discounts!C:E,3,0),0)","v":0},{"v":42.98,"d":"€42.98"}]
["Auto",66300,45730,1,"Normal",{"v":42.98,"d":"€42.98"},"LUXE",{"$f":"IFERROR(VLOOKUP(G4712,Discounts!C:E,3,0),0)","v":0},{"v":42.98,"d":"€42.98"}]
["Auto",66330,27870,1,"Combination",{"v":1917.36,"d":"€1,917.36"},"",{"$f":"IFERROR(VLOOKUP(G4721,Discounts!C:E,3,0),0)","v":0},{"v":1917.36,"d":"€1,917.36"}]
["Auto",66360,29710,1,"Normal",{"v":42.98,"d":"€42.98"},"LUXE",{"$f":"IFERROR(VLOOKUP(G4734,Discounts!C:E,3,0),0)","v":0},{"v":42.98,"d":"€42.98"}]
["Auto",66400,27930,1,"Combination",{"v":249.59,"d":"€249.59"},"",{"$f":"IFERROR(VLOOKUP(G4748,Discounts!C:E,3,0),0)","v":0},{"v":249.59,"d":"€249.59"}]
["Auto",66410,29710,1,"Normal",{"v":42.98,"d":"€42.98"},"LUXE",{"$f":"IFERROR(VLOOKUP(G4753,Discounts!C:E,3,0),0)","v":0},{"v":42.98,"d":"€42.98"}]
["Auto",66440,31470,1,"Normal",{"v":141.32,"d":"€141.32"},"LUXE",{"$f":"IFERROR(VLOOKUP(G4766,Discounts!C:E,3,0),0)","v":0},{"v":141.32,"d":"€141.32"}]
["Auto",66460,45730,1,"Normal",{"v":42.98,"d":"€42.98"},"LUXE",{"$f":"IFERROR(VLOOKUP(G4775,Discounts!C:E,3,0),0)","v":0},{"v":42.98,"d":"€42.98"}]
["Auto",66510,28030,1,"Combination",{"v":249.59,"d":"€249.59"},"",{"$f":"IFERROR(VLOOKUP(G4791,Discounts!C:E,3,0),0)","v":0},{"v":249.59,"d":"€249.59"}]
["Auto",66550,45730,1,"Normal",{"v":42.98,"d":"€42.98"},"LUXE",{"$f":"IFERROR(VLOOKUP(G4810,Discounts!C:E,3,0),0)","v":0},{"v":42.98,"d":"€42.98"}]
["Auto",66580,28500,1,"Combination",{"v":2156.2,"d":"€2,156.20"},"",{"$f":"IFERROR(VLOOKUP(G4819,Discounts!C:E,3,0),0)","v":0},{"v":2156.2,"d":"€2,156.20"}]
["Auto",66610,29710,1,"Normal",{"v":42.98,"d":"€42.98"},"LUXE",{"$f":"IFERROR(VLOOKUP(G4832,Discounts!C:E,3,0),0)","v":0},{"v":42.98,"d":"€42.98"}]
["Auto",66630,45730,1,"Normal",{"v":42.98,"d":"€42.98"},"LUXE",{"$f":"IFERROR(VLOOKUP(G4841,Discounts!C:E,3,0),0)","v":0},{"v":42.98,"d":"€42.98"}]
["Auto",66670,45730,1,"Normal",{"v":42.98,"d":"€42.98"},"LUXE",{"$f":"IFERROR(VLOOKUP(G4857,Discounts!C:E,3,0),0)","v":0},{"v":42.98,"d":"€42.98"}]
["Auto",66690,31470,1,"Normal",{"v":141.32,"d":"€141.32"},"LUXE",{"$f":"IFERROR(VLOOKUP(G4864,Discounts!C:E,3,0),0)","v":0},{"v":141.32,"d":"€141.32"}]
["Auto",66710,45730,1,"Normal",{"v":42.98,"d":"€42.98"},"LUXE",{"$f":"IFERROR(VLOOKUP(G4873,Discounts!C:E,3,0),0)","v":0},{"v":42.98,"d":"€42.98"}]
["Auto",66750,29710,1,"Normal",{"v":42.98,"d":"€42.98"},"LUXE",{"$f":"IFERROR(VLOOKUP(G4886,Discounts!C:E,3,0),0)","v":0},{"v":42.98,"d":"€42.98"}]
["Auto",66780,45730,1,"Normal",{"v":42.98,"d":"€42.98"},"LUXE",{"$f":"IFERROR(VLOOKUP(G4900,Discounts!C:E,3,0),0)","v":0},{"v":42.98,"d":"€42.98"}]
["Auto",66830,1060,1,"Normal",0,"A010",{"$f":"IFERROR(VLOOKUP(G4917,Discounts!C:E,3,0),0)","v":0},0]
["Auto",66860,31470,1,"Normal",{"v":141.32,"d":"€141.32"},"LUXE",{"$f":"IFERROR(VLOOKUP(G4930,Discounts!C:E,3,0),0)","v":0},{"v":141.32,"d":"€141.32"}]
["Auto",66880,45730,1,"Normal",{"v":42.98,"d":"€42.98"},"LUXE",{"$f":"IFERROR(VLOOKUP(G4939,Discounts!C:E,3,0),0)","v":0},{"v":42.98,"d":"€42.98"}]
["Auto",66920,28810,1,"Combination",{"v":249.59,"d":"€249.59"},"",{"$f":"IFERROR(VLOOKUP(G4952,Discounts!C:E,3,0),0)","v":0},{"v":249.59,"d":"€249.59"}]
["Auto",66940,31470,1,"Normal",{"v":141.32,"d":"€141.32"},"LUXE",{"$f":"IFERROR(VLOOKUP(G4962,Discounts!C:E,3,0),0)","v":0},{"v":141.32,"d":"€141.32"}]
["Auto",66970,28850,1,"Combination",{"v":1713.23,"d":"€1,713.23"},"",{"$f":"IFERROR(VLOOKUP(G4971,Discounts!C:E,3,0),0)","v":0},{"v":1713.23,"d":"€1,713.23"}]
["Auto",67000,29710,1,"Normal",{"v":42.98,"d":"€42.98"},"LUXE",{"$f":"IFERROR(VLOOKUP(G4984,Discounts!C:E,3,0),0)","v":0},{"v":42.98,"d":"€42.98"}]
["Auto",67050,31470,1,"Normal",{"v":141.32,"d":"€141.32"},"LUXE",{"$f":"IFERROR(VLOOKUP(G5005,Discounts!C:E,3,0),0)","v":0},{"v":141.32,"d":"€141.32"}]
["Auto",67060,45730,1,"Normal",{"v":42.98,"d":"€42.98"},"LUXE",{"$f":"IFERROR(VLOOKUP(G5009,Discounts!C:E,3,0),0)","v":0},{"v":42.98,"d":"€42.98"}]
["Auto",67110,31470,1,"Normal",{"v":141.32,"d":"€141.32"},"LUXE",{"$f":"IFERROR(VLOOKUP(G5028,Discounts!C:E,3,0),0)","v":0},{"v":141.32,"d":"€141.32"}]
["Auto",67130,45730,1,"Normal",{"v":42.98,"d":"€42.98"},"LUXE",{"$f":"IFERROR(VLOOKUP(G5037,Discounts!C:E,3,0),0)","v":0},{"v":42.98,"d":"€42.98"}]
["Auto",67170,29710,1,"Normal",{"v":42.98,"d":"€42.98"},"LUXE",{"$f":"IFERROR(VLOOKUP(G5050,Discounts!C:E,3,0),0)","v":0},{"v":42.98,"d":"€42.98"}]
["Auto",67190,31470,1,"Normal",{"v":141.32,"d":"€141.32"},"LUXE",{"$f":"IFERROR(VLOOKUP(G5059,Discounts!C:E,3,0),0)","v":0},{"$f":"IF(E5059=\"Normal\",F5059*(1-H5059),SUMIF(B:B,C5059,I:I)*D5059)","v":{"v":141.32,"d":"€141.32"}}]
["Auto",67220,31470,1,"Normal",{"v":141.32,"d":"€141.32"},"LUXE",{"$f":"IFERROR(VLOOKUP(G5071,Discounts!C:E,3,0),0)","v":0},{"v":141.32,"d":"€141.32"}]
["Auto",67250,29710,1,"Normal",{"v":42.98,"d":"€42.98"},"LUXE",{"$f":"IFERROR(VLOOKUP(G5082,Discounts!C:E,3,0),0)","v":0},{"v":42.98,"d":"€42.98"}]
["Auto",67300,45730,1,"Normal",{"v":42.98,"d":"€42.98"},"LUXE",{"$f":"IFERROR(VLOOKUP(G5103,Discounts!C:E,3,0),0)","v":0},{"v":42.98,"d":"€42.98"}]
["Auto",67340,29190,1,"Combination",{"v":249.59,"d":"€249.59"},"",{"$f":"IFERROR(VLOOKUP(G5116,Discounts!C:E,3,0),0)","v":0},{"v":249.59,"d":"€249.59"}]
["Auto",67360,45730,1,"Normal",{"v":42.98,"d":"€42.98"},"LUXE",{"$f":"IFERROR(VLOOKUP(G5127,Discounts!C:E,3,0),0)","v":0},{"v":42.98,"d":"€42.98"}]
["Auto",67380,31640,1,"Normal",{"v":141.32,"d":"€141.32"},"LUXE",{"$f":"IFERROR(VLOOKUP(G5135,Discounts!C:E,3,0),0)","v":0},{"v":141.32,"d":"€141.32"}]
["Auto",67420,29710,1,"Normal",{"v":42.98,"d":"€42.98"},"LUXE",{"$f":"IFERROR(VLOOKUP(G5148,Discounts!C:E,3,0),0)","v":0},{"v":42.98,"d":"€42.98"}]
["Auto",67440,31470,1,"Normal",{"v":141.32,"d":"€141.32"},"LUXE",{"$f":"IFERROR(VLOOKUP(G5157,Discounts!C:E,3,0),0)","v":0},{"v":141.32,"d":"€141.32"}]
["Auto",67460,45730,1,"Normal",{"v":42.98,"d":"€42.98"},"LUXE",{"$f":"IFERROR(VLOOKUP(G5166,Discounts!C:E,3,0),0)","v":0},{"v":42.98,"d":"€42.98"}]
["Auto",67520,31470,1,"Normal",{"v":141.32,"d":"€141.32"},"LUXE",{"$f":"IFERROR(VLOOKUP(G5189,Discounts!C:E,3,0),0)","v":0},{"v":141.32,"d":"€141.32"}]
["Auto",67550,31470,1,"Normal",{"v":141.32,"d":"€141.32"},"LUXE",{"$f":"IFERROR(VLOOKUP(G5201,Discounts!C:E,3,0),0)","v":0},{"v":141.32,"d":"€141.32"}]
["Auto",67580,45730,1,"Normal",{"v":42.98,"d":"€42.98"},"LUXE",{"$f":"IFERROR(VLOOKUP(G5214,Discounts!C:E,3,0),0)","v":0},{"v":42.98,"d":"€42.98"}]
["Auto",67610,29710,1,"Normal",{"v":42.98,"d":"€42.98"},"LUXE",{"$f":"IFERROR(VLOOKUP(G5223,Discounts!C:E,3,0),0)","v":0},{"v":42.98,"d":"€42.98"}]
["Auto",67640,30990,1,"Normal",{"v":110.74,"d":"€110.74"},"SD/SG",{"$f":"IFERROR(VLOOKUP(G5236,Discounts!C:E,3,0),0)","v":0},{"v":110.74,"d":"€110.74"}]
["Auto",67660,44920,2,"Normal",{"v":400,"d":"€400.00"},"SD/SG",{"$f":"IFERROR(VLOOKUP(G5246,Discounts!C:E,3,0),0)","v":0},{"v":400,"d":"€400.00"}]
["Auto",67690,1120,1,"Normal",{"v":2241.32,"d":"€2,241.32"},"A010",{"$f":"IFERROR(VLOOKUP(G5255,Discounts!C:E,3,0),0)","v":0},{"v":2241.32,"d":"€2,241.32"}]
["Auto",67710,32060,2,"Normal",{"v":242.98,"d":"€242.98"},"SD/SG",{"$f":"IFERROR(VLOOKUP(G5264,Discounts!C:E,3,0),0)","v":0},{"v":242.98,"d":"€242.98"}]
["Auto",67740,44920,2,"Normal",{"v":400,"d":"€400.00"},"SD/SG",{"$f":"IFERROR(VLOOKUP(G5277,Discounts!C:E,3,0),0)","v":0},{"v":400,"d":"€400.00"}]
["Auto",67800,30980,1,"Normal",{"v":271.9,"d":"€271.90"},"SD/SG",{"$f":"IFERROR(VLOOKUP(G5298,Discounts!C:E,3,0),0)","v":0},{"v":271.9,"d":"€271.90"}]
["Auto",67830,44920,2,"Normal",{"v":400,"d":"€400.00"},"SD/SG",{"$f":"IFERROR(VLOOKUP(G5312,Discounts!C:E,3,0),0)","v":0},{"v":400,"d":"€400.00"}]
["Auto",67860,1140,1,"Normal",{"v":2264.46,"d":"€2,264.46"},"A010",{"$f":"IFERROR(VLOOKUP(G5321,Discounts!C:E,3,0),0)","v":0},{"v":2264.46,"d":"€2,264.46"}]
["Auto",67880,32060,2,"Normal",{"v":242.98,"d":"€242.98"},"SD/SG",{"$f":"IFERROR(VLOOKUP(G5330,Discounts!C:E,3,0),0)","v":0},{"v":242.98,"d":"€242.98"}]
["Auto",67910,30980,1,"Normal",{"v":271.9,"d":"€271.90"},"SD/SG",{"$f":"IFERROR(VLOOKUP(G5341,Discounts!C:E,3,0),0)","v":0},{"v":271.9,"d":"€271.90"}]
["Auto",67940,32060,2,"Normal",{"v":242.98,"d":"€242.98"},"SD/SG",{"$f":"IFERROR(VLOOKUP(G5353,Discounts!C:E,3,0),0)","v":0},{"v":242.98,"d":"€242.98"}]
["Auto",67970,53530,2,"Combination",{"v":492.56,"d":"€492.56"},"SD/SG",{"$f":"IFERROR(VLOOKUP(G5366,Discounts!C:E,3,0),0)","v":0},{"v":492.55999999999995,"d":"€492.56"}]
["Auto",68000,18730,2,"Normal",{"v":1421.48,"d":"€1,421.48"},"D060",{"$f":"IFERROR(VLOOKUP(G5375,Discounts!C:E,3,0),0)","v":0},{"v":1421.48,"d":"€1,421.48"}]
["Auto",68070,29800,1,"Normal",{"v":913.22,"d":"€913.22"},"LUXE",{"$f":"IFERROR(VLOOKUP(G5396,Discounts!C:E,3,0),0)","v":0},{"v":913.22,"d":"€913.22"}]
["Auto",68090,29720,1,"Normal",{"v":91.74,"d":"€91.74"},"LUXE",{"$f":"IFERROR(VLOOKUP(G5403,Discounts!C:E,3,0),0)","v":0},{"v":91.74,"d":"€91.74"}]
["Auto",68190,29630,1,"Combination",{"v":249.59,"d":"€249.59"},"",{"$f":"IFERROR(VLOOKUP(G5419,Discounts!C:E,3,0),0)","v":0},{"v":249.59,"d":"€249.59"}]
["Auto",68210,29710,1,"Normal",{"v":42.98,"d":"€42.98"},"LUXE",{"$f":"IFERROR(VLOOKUP(G5428,Discounts!C:E,3,0),0)","v":0},{"v":42.98,"d":"€42.98"}]
["Auto",68240,31470,1,"Normal",{"v":141.32,"d":"€141.32"},"LUXE",{"$f":"IFERROR(VLOOKUP(G5441,Discounts!C:E,3,0),0)","v":0},{"v":141.32,"d":"€141.32"}]
["Auto",68270,31920,1,"Normal",{"v":121.49,"d":"€121.49"},"SD/SG",{"$f":"IFERROR(VLOOKUP(G5450,Discounts!C:E,3,0),0)","v":0},{"v":121.49,"d":"€121.49"}]
["Auto",68300,40520,1,"Normal",{"v":67.77,"d":"€67.77"},"SD/SG",{"$f":"IFERROR(VLOOKUP(G5464,Discounts!C:E,3,0),0)","v":0},{"v":67.77,"d":"€67.77"}]
["Auto",68330,14590,1,"Normal",{"v":412.4,"d":"€412.40"},"E011",{"$f":"IFERROR(VLOOKUP(G5473,Discounts!C:E,3,0),0)","v":0},{"v":412.4,"d":"€412.40"}]
["Auto",68380,31920,1,"Normal",{"v":121.49,"d":"€121.49"},"SD/SG",{"$f":"IFERROR(VLOOKUP(G5494,Discounts!C:E,3,0),0)","v":0},{"v":121.49,"d":"€121.49"}]
["Auto",68410,31920,1,"Normal",{"v":121.49,"d":"€121.49"},"SD/SG",{"$f":"IFERROR(VLOOKUP(G5506,Discounts!C:E,3,0),0)","v":0},{"v":121.49,"d":"€121.49"}]
["Auto",68440,14700,1,"Normal",{"v":461.98,"d":"€461.98"},"E010",{"$f":"IFERROR(VLOOKUP(G5517,Discounts!C:E,3,0),0)","v":0},{"v":461.98,"d":"€461.98"}]
["Auto",68470,31920,1,"Normal",{"v":121.49,"d":"€121.49"},"SD/SG",{"$f":"IFERROR(VLOOKUP(G5530,Discounts!C:E,3,0),0)","v":0},{"v":121.49,"d":"€121.49"}]
["Auto",68490,40450,1,"Normal",{"v":13.22,"d":"€13.22"},"SD/SG",{"$f":"IFERROR(VLOOKUP(G5539,Discounts!C:E,3,0),0)","v":0},{"v":13.22,"d":"€13.22"}]
["Auto",68510,40520,1,"Normal",{"v":67.77,"d":"€67.77"},"SD/SG",{"$f":"IFERROR(VLOOKUP(G5548,Discounts!C:E,3,0),0)","v":0},{"v":67.77,"d":"€67.77"}]
["Auto",68560,40520,1,"Normal",{"v":67.77,"d":"€67.77"},"SD/SG",{"$f":"IFERROR(VLOOKUP(G5568,Discounts!C:E,3,0),0)","v":0},{"v":67.77,"d":"€67.77"}]
["Auto",68570,40450,1,"Normal",{"v":13.22,"d":"€13.22"},"SD/SG",{"$f":"IFERROR(VLOOKUP(G5571,Discounts!C:E,3,0),0)","v":0},{"$f":"IF(E5571=\"Normal\",F5571*(1-H5571),SUMIF(B:B,C5571,I:I)*D5571)","v":{"v":13.22,"d":"€13.22"}}]
["Auto",68620,40520,1,"Normal",{"v":67.77,"d":"€67.77"},"SD/SG",{"$f":"IFERROR(VLOOKUP(G5592,Discounts!C:E,3,0),0)","v":0},{"v":67.77,"d":"€67.77"}]
["Auto",68660,14920,1,"Normal",{"v":395.87,"d":"€395.87"},"E016",{"$f":"IFERROR(VLOOKUP(G5605,Discounts!C:E,3,0),0)","v":0},{"v":395.87,"d":"€395.87"}]
["Auto",68680,40450,1,"Normal",{"v":13.22,"d":"€13.22"},"SD/SG",{"$f":"IFERROR(VLOOKUP(G5615,Discounts!C:E,3,0),0)","v":0},{"v":13.22,"d":"€13.22"}]
["Auto",68710,40520,1,"Normal",{"v":67.77,"d":"€67.77"},"SD/SG",{"$f":"IFERROR(VLOOKUP(G5628,Discounts!C:E,3,0),0)","v":0},{"v":67.77,"d":"€67.77"}]
["Auto",68740,15000,1,"Normal",{"v":445.45,"d":"€445.45"},"E016",{"$f":"IFERROR(VLOOKUP(G5637,Discounts!C:E,3,0),0)","v":0},{"v":445.45,"d":"€445.45"}]
["Auto",68760,31920,1,"Normal",{"v":121.49,"d":"€121.49"},"SD/SG",{"$f":"IFERROR(VLOOKUP(G5646,Discounts!C:E,3,0),0)","v":0},{"v":121.49,"d":"€121.49"}]
["Auto",68790,40450,1,"Normal",{"v":13.22,"d":"€13.22"},"SD/SG",{"$f":"IFERROR(VLOOKUP(G5659,Discounts!C:E,3,0),0)","v":0},{"v":13.22,"d":"€13.22"}]
["Auto",68840,15100,1,"Normal",{"v":552.07,"d":"€552.07"},"E015",{"$f":"IFERROR(VLOOKUP(G5677,Discounts!C:E,3,0),0)","v":0},{"v":552.07,"d":"€552.07"}]
["Auto",68870,31920,1,"Normal",{"v":121.49,"d":"€121.49"},"SD/SG",{"$f":"IFERROR(VLOOKUP(G5690,Discounts!C:E,3,0),0)","v":0},{"v":121.49,"d":"€121.49"}]
["Auto",68900,40450,1,"Normal",{"v":13.22,"d":"€13.22"},"SD/SG",{"$f":"IFERROR(VLOOKUP(G5703,Discounts!C:E,3,0),0)","v":0},{"v":13.22,"d":"€13.22"}]
["Auto",68930,31920,1,"Normal",{"v":121.49,"d":"€121.49"},"SD/SG",{"$f":"IFERROR(VLOOKUP(G5712,Discounts!C:E,3,0),0)","v":0},{"v":121.49,"d":"€121.49"}]
["Auto",68960,15260,1,"Normal",{"v":552.07,"d":"€552.07"},"E012",{"$f":"IFERROR(VLOOKUP(G5720,Discounts!C:E,3,0),0)","v":0},{"v":552.07,"d":"€552.07"}]
["Auto",69010,15310,1,"Normal",{"v":642.15,"d":"€642.15"},"E013",{"$f":"IFERROR(VLOOKUP(G5735,Discounts!C:E,3,0),0)","v":0},{"v":642.15,"d":"€642.15"}]
["Auto",69040,15340,1,"Normal",{"v":628.93,"d":"€628.93"},"E012",{"$f":"IFERROR(VLOOKUP(G5744,Discounts!C:E,3,0),0)","v":0},{"v":628.93,"d":"€628.93"}]
["Auto",69080,31920,1,"Normal",{"v":121.49,"d":"€121.49"},"SD/SG",{"$f":"IFERROR(VLOOKUP(G5757,Discounts!C:E,3,0),0)","v":0},{"v":121.49,"d":"€121.49"}]
["Auto",69110,31920,1,"Normal",{"v":121.49,"d":"€121.49"},"SD/SG",{"$f":"IFERROR(VLOOKUP(G5766,Discounts!C:E,3,0),0)","v":0},{"v":121.49,"d":"€121.49"}]
["Auto",69160,40450,1,"Normal",{"v":13.22,"d":"€13.22"},"SD/SG",{"$f":"IFERROR(VLOOKUP(G5782,Discounts!C:E,3,0),0)","v":0},{"v":13.22,"d":"€13.22"}]
["Auto",69230,15530,1,"Normal",{"v":483.47,"d":"€483.47"},"E013",{"$f":"IFERROR(VLOOKUP(G5801,Discounts!C:E,3,0),0)","v":0},{"v":483.47,"d":"€483.47"}]
["Auto",69250,31920,1,"Normal",{"v":121.49,"d":"€121.49"},"SD/SG",{"$f":"IFERROR(VLOOKUP(G5810,Discounts!C:E,3,0),0)","v":0},{"v":121.49,"d":"€121.49"}]
["Auto",69280,40450,1,"Normal",{"v":13.22,"d":"€13.22"},"SD/SG",{"$f":"IFERROR(VLOOKUP(G5823,Discounts!C:E,3,0),0)","v":0},{"v":13.22,"d":"€13.22"}]
["Auto",69300,15600,1,"Normal",{"v":549.59,"d":"€549.59"},"E013",{"$f":"IFERROR(VLOOKUP(G5829,Discounts!C:E,3,0),0)","v":0},{"v":549.59,"d":"€549.59"}]
["Auto",69330,31920,1,"Normal",{"v":121.49,"d":"€121.49"},"SD/SG",{"$f":"IFERROR(VLOOKUP(G5842,Discounts!C:E,3,0),0)","v":0},{"v":121.49,"d":"€121.49"}]
["Auto",69360,40450,1,"Normal",{"v":13.22,"d":"€13.22"},"SD/SG",{"$f":"IFERROR(VLOOKUP(G5855,Discounts!C:E,3,0),0)","v":0},{"v":13.22,"d":"€13.22"}]
["Auto",69380,48600,1,"Normal",{"v":20.66,"d":"€20.66"},"SD/SG",{"$f":"IFERROR(VLOOKUP(G5864,Discounts!C:E,3,0),0)","v":0},{"v":20.66,"d":"€20.66"}]
["Auto",69420,15720,1,"Normal",{"v":661.16,"d":"€661.16"},"E013",{"$f":"IFERROR(VLOOKUP(G5877,Discounts!C:E,3,0),0)","v":0},{"v":661.16,"d":"€661.16"}]
["Auto",69450,48600,1,"Normal",{"v":20.66,"d":"€20.66"},"SD/SG",{"$f":"IFERROR(VLOOKUP(G5891,Discounts!C:E,3,0),0)","v":0},{"$f":"IF(E5891=\"Normal\",F5891*(1-H5891),SUMIF(B:B,C5891,I:I)*D5891)","v":{"v":20.66,"d":"€20.66"}}]
["Auto",69500,15800,1,"Normal",{"v":731.4,"d":"€731.40"},"E013",{"$f":"IFERROR(VLOOKUP(G5908,Discounts!C:E,3,0),0)","v":0},{"v":731.4,"d":"€731.40"}]
["Auto",69530,31920,1,"Normal",{"v":121.49,"d":"€121.49"},"SD/SG",{"$f":"IFERROR(VLOOKUP(G5921,Discounts!C:E,3,0),0)","v":0},{"v":121.49,"d":"€121.49"}]
["Auto",69550,40450,1,"Normal",{"v":13.22,"d":"€13.22"},"SD/SG",{"$f":"IFERROR(VLOOKUP(G5930,Discounts!C:E,3,0),0)","v":0},{"v":13.22,"d":"€13.22"}]
["Auto",69580,15920,1,"Normal",{"v":416.53,"d":"€416.53"},"E015",{"$f":"IFERROR(VLOOKUP(G5938,Discounts!C:E,3,0),0)","v":0},{"v":416.53,"d":"€416.53"}]
["Auto",69610,31920,1,"Normal",{"v":121.49,"d":"€121.49"},"SD/SG",{"$f":"IFERROR(VLOOKUP(G5953,Discounts!C:E,3,0),0)","v":0},{"v":121.49,"d":"€121.49"}]
["Auto",69630,40450,2,"Normal",{"v":26.44,"d":"€26.44"},"SD/SG",{"$f":"IFERROR(VLOOKUP(G5962,Discounts!C:E,3,0),0)","v":0},{"v":26.44,"d":"€26.44"}]
["Auto",69660,31920,1,"Normal",{"v":121.49,"d":"€121.49"},"SD/SG",{"$f":"IFERROR(VLOOKUP(G5975,Discounts!C:E,3,0),0)","v":0},{"v":121.49,"d":"€121.49"}]
["Auto",69710,40450,3,"Normal",{"v":39.66,"d":"€39.66"},"SD/SG",{"$f":"IFERROR(VLOOKUP(G5996,Discounts!C:E,3,0),0)","v":0},{"v":39.66,"d":"€39.66"}]
["Auto",69720,40450,3,"Normal",{"v":39.66,"d":"€39.66"},"SD/SG",{"$f":"IFERROR(VLOOKUP(G6000,Discounts!C:E,3,0),0)","v":0},{"v":39.66,"d":"€39.66"}]
["Auto",69770,31920,1,"Normal",{"v":121.49,"d":"€121.49"},"SD/SG",{"$f":"IFERROR(VLOOKUP(G6019,Discounts!C:E,3,0),0)","v":0},{"$f":"IF(E6019=\"Normal\",F6019*(1-H6019),SUMIF(B:B,C6019,I:I)*D6019)","v":{"v":121.49,"d":"€121.49"}}]
["Auto",69790,40450,5,"Normal",{"v":66.1,"d":"€66.10"},"SD/SG",{"$f":"IFERROR(VLOOKUP(G6028,Discounts!C:E,3,0),0)","v":0},{"v":66.1,"d":"€66.10"}]
["Auto",69820,40530,1,"Normal",{"v":92.56,"d":"€92.56"},"SD/SG",{"$f":"IFERROR(VLOOKUP(G6041,Discounts!C:E,3,0),0)","v":0},{"v":92.56,"d":"€92.56"}]
["Auto",69860,40450,3,"Normal",{"v":39.66,"d":"€39.66"},"SD/SG",{"$f":"IFERROR(VLOOKUP(G6056,Discounts!C:E,3,0),0)","v":0},{"v":39.66,"d":"€39.66"}]
["Auto",69870,40450,3,"Normal",{"v":39.66,"d":"€39.66"},"SD/SG",{"$f":"IFERROR(VLOOKUP(G6060,Discounts!C:E,3,0),0)","v":0},{"v":39.66,"d":"€39.66"}]
["Auto",69900,40530,1,"Normal",{"v":92.56,"d":"€92.56"},"SD/SG",{"$f":"IFERROR(VLOOKUP(G6073,Discounts!C:E,3,0),0)","v":0},{"v":92.56,"d":"€92.56"}]
["Auto",69960,16300,1,"Normal",{"v":741.32,"d":"€741.32"},"E016",{"$f":"IFERROR(VLOOKUP(G6094,Discounts!C:E,3,0),0)","v":0},{"v":741.32,"d":"€741.32"}]
["Auto",69980,31920,1,"Normal",{"v":121.49,"d":"€121.49"},"SD/SG",{"$f":"IFERROR(VLOOKUP(G6103,Discounts!C:E,3,0),0)","v":0},{"v":121.49,"d":"€121.49"}]
["Auto",70020,16400,1,"Normal",{"v":937.19,"d":"€937.19"},"E015",{"$f":"IFERROR(VLOOKUP(G6118,Discounts!C:E,3,0),0)","v":0},{"v":937.19,"d":"€937.19"}]
["Auto",70040,16420,1,"Normal",{"v":904.96,"d":"€904.96"},"E016",{"$f":"IFERROR(VLOOKUP(G6126,Discounts!C:E,3,0),0)","v":0},{"v":904.96,"d":"€904.96"}]
["Auto",70070,31920,1,"Normal",{"v":121.49,"d":"€121.49"},"SD/SG",{"$f":"IFERROR(VLOOKUP(G6139,Discounts!C:E,3,0),0)","v":0},{"v":121.49,"d":"€121.49"}]
["Auto",70090,40450,1,"Normal",{"v":13.22,"d":"€13.22"},"SD/SG",{"$f":"IFERROR(VLOOKUP(G6148,Discounts!C:E,3,0),0)","v":0},{"v":13.22,"d":"€13.22"}]
["Auto",70130,40520,1,"Normal",{"v":67.77,"d":"€67.77"},"SD/SG",{"$f":"IFERROR(VLOOKUP(G6165,Discounts!C:E,3,0),0)","v":0},{"v":67.77,"d":"€67.77"}]
["Auto",70140,40450,1,"Normal",{"v":13.22,"d":"€13.22"},"SD/SG",{"$f":"IFERROR(VLOOKUP(G6171,Discounts!C:E,3,0),0)","v":0},{"v":13.22,"d":"€13.22"}]
["Auto",70190,16650,1,"Normal",{"v":666.94,"d":"€666.94"},"E013",{"$f":"IFERROR(VLOOKUP(G6192,Discounts!C:E,3,0),0)","v":0},{"v":666.94,"d":"€666.94"}]
["Auto",70190,31920,1,"Normal",{"v":121.49,"d":"€121.49"},"SD/SG",{"$f":"IFERROR(VLOOKUP(G6193,Discounts!C:E,3,0),0)","v":0},{"v":121.49,"d":"€121.49"}]
["Auto",70240,48610,1,"Normal",{"v":38.84,"d":"€38.84"},"SD/SG",{"$f":"IFERROR(VLOOKUP(G6214,Discounts!C:E,3,0),0)","v":0},{"v":38.84,"d":"€38.84"}]
["Auto",70290,16750,1,"Normal",{"v":771.9,"d":"€771.90"},"E013",{"$f":"IFERROR(VLOOKUP(G6227,Discounts!C:E,3,0),0)","v":0},{"v":771.9,"d":"€771.90"}]
["Auto",70320,31920,1,"Normal",{"v":121.49,"d":"€121.49"},"SD/SG",{"$f":"IFERROR(VLOOKUP(G6237,Discounts!C:E,3,0),0)","v":0},{"v":121.49,"d":"€121.49"}]
["Auto",70350,31920,1,"Normal",{"v":121.49,"d":"€121.49"},"SD/SG",{"$f":"IFERROR(VLOOKUP(G6246,Discounts!C:E,3,0),0)","v":0},{"v":121.49,"d":"€121.49"}]
["Auto",70380,31920,1,"Normal",{"v":121.49,"d":"€121.49"},"SD/SG",{"$f":"IFERROR(VLOOKUP(G6255,Discounts!C:E,3,0),0)","v":0},{"v":121.49,"d":"€121.49"}]
["Auto",70430,31920,1,"Normal",{"v":121.49,"d":"€121.49"},"SD/SG",{"$f":"IFERROR(VLOOKUP(G6270,Discounts!C:E,3,0),0)","v":0},{"v":121.49,"d":"€121.49"}]
["Auto",70500,16960,1,"Normal",{"v":848.76,"d":"€848.76"},"E012",{"$f":"IFERROR(VLOOKUP(G6290,Discounts!C:E,3,0),0)","v":0},{"v":848.76,"d":"€848.76"}]
["Auto",70500,31920,1,"Normal",{"v":121.49,"d":"€121.49"},"SD/SG",{"$f":"IFERROR(VLOOKUP(G6291,Discounts!C:E,3,0),0)","v":0},{"v":121.49,"d":"€121.49"}]
["Auto",70570,31920,1,"Normal",{"v":121.49,"d":"€121.49"},"SD/SG",{"$f":"IFERROR(VLOOKUP(G6312,Discounts!C:E,3,0),0)","v":0},{"v":121.49,"d":"€121.49"}]
["Auto",70600,31920,1,"Normal",{"v":121.49,"d":"€121.49"},"SD/SG",{"$f":"IFERROR(VLOOKUP(G6321,Discounts!C:E,3,0),0)","v":0},{"v":121.49,"d":"€121.49"}]
["Auto",70640,17140,1,"Normal",{"v":1361.98,"d":"€1,361.98"},"E013",{"$f":"IFERROR(VLOOKUP(G6332,Discounts!C:E,3,0),0)","v":0},{"v":1361.98,"d":"€1,361.98"}]
["Auto",70680,17220,1,"Normal",{"v":1205.79,"d":"€1,205.79"},"E013",{"$f":"IFERROR(VLOOKUP(G6344,Discounts!C:E,3,0),0)","v":0},{"v":1205.79,"d":"€1,205.79"}]
["Auto",70710,17290,1,"Normal",{"v":1831.4,"d":"€1,831.40"},"E013",{"$f":"IFERROR(VLOOKUP(G6353,Discounts!C:E,3,0),0)","v":0},{"v":1831.4,"d":"€1,831.40"}]
["Auto",70740,40450,1,"Normal",{"v":13.22,"d":"€13.22"},"SD/SG",{"$f":"IFERROR(VLOOKUP(G6366,Discounts!C:E,3,0),0)","v":0},{"v":13.22,"d":"€13.22"}]
["Auto",70760,40450,1,"Normal",{"v":13.22,"d":"€13.22"},"SD/SG",{"$f":"IFERROR(VLOOKUP(G6379,Discounts!C:E,3,0),0)","v":0},{"v":13.22,"d":"€13.22"}]
["Auto",70780,40520,1,"Normal",{"v":67.77,"d":"€67.77"},"SD/SG",{"$f":"IFERROR(VLOOKUP(G6389,Discounts!C:E,3,0),0)","v":0},{"v":67.77,"d":"€67.77"}]
["Auto",70840,18460,1,"Normal",{"v":984.3,"d":"€984.30"},"E016",{"$f":"IFERROR(VLOOKUP(G6410,Discounts!C:E,3,0),0)","v":0},{"v":984.3,"d":"€984.30"}]
["Auto",70860,31920,1,"Normal",{"v":121.49,"d":"€121.49"},"SD/SG",{"$f":"IFERROR(VLOOKUP(G6419,Discounts!C:E,3,0),0)","v":0},{"v":121.49,"d":"€121.49"}]
["Auto",70890,40450,1,"Normal",{"v":13.22,"d":"€13.22"},"SD/SG",{"$f":"IFERROR(VLOOKUP(G6432,Discounts!C:E,3,0),0)","v":0},{"v":13.22,"d":"€13.22"}]
["Auto",70920,40450,1,"Normal",{"v":13.22,"d":"€13.22"},"SD/SG",{"$f":"IFERROR(VLOOKUP(G6441,Discounts!C:E,3,0),0)","v":0},{"v":13.22,"d":"€13.22"}]
["Auto",70970,31920,1,"Normal",{"v":121.49,"d":"€121.49"},"SD/SG",{"$f":"IFERROR(VLOOKUP(G6455,Discounts!C:E,3,0),0)","v":0},{"v":121.49,"d":"€121.49"}]
["Auto",71000,31920,1,"Normal",{"v":121.49,"d":"€121.49"},"SD/SG",{"$f":"IFERROR(VLOOKUP(G6464,Discounts!C:E,3,0),0)","v":0},{"v":121.49,"d":"€121.49"}]
["Auto",71060,34580,1,"Normal",{"v":970.25,"d":"€970.25"},"E012",{"$f":"IFERROR(VLOOKUP(G6485,Discounts!C:E,3,0),0)","v":0},{"v":970.25,"d":"€970.25"}]
["Auto",71090,40530,1,"Normal",{"v":92.56,"d":"€92.56"},"SD/SG",{"$f":"IFERROR(VLOOKUP(G6497,Discounts!C:E,3,0),0)","v":0},{"v":92.56,"d":"€92.56"}]
["Auto",71130,31920,1,"Normal",{"v":121.49,"d":"€121.49"},"SD/SG",{"$f":"IFERROR(VLOOKUP(G6508,Discounts!C:E,3,0),0)","v":0},{"v":121.49,"d":"€121.49"}]
["Auto",71150,40450,2,"Normal",{"v":26.44,"d":"€26.44"},"SD/SG",{"$f":"IFERROR(VLOOKUP(G6517,Discounts!C:E,3,0),0)","v":0},{"v":26.44,"d":"€26.44"}]
["Auto",71190,34710,1,"Normal",{"v":479.34,"d":"€479.34"},"E011",{"$f":"IFERROR(VLOOKUP(G6530,Discounts!C:E,3,0),0)","v":0},{"v":479.34,"d":"€479.34"}]
["Auto",71210,42290,1,"Normal",{"v":116.53,"d":"€116.53"},"SD/SG",{"$f":"IFERROR(VLOOKUP(G6539,Discounts!C:E,3,0),0)","v":0},{"v":116.53,"d":"€116.53"}]
["Auto",71270,40450,4,"Normal",{"v":52.88,"d":"€52.88"},"SD/SG",{"$f":"IFERROR(VLOOKUP(G6559,Discounts!C:E,3,0),0)","v":0},{"v":52.88,"d":"€52.88"}]
["Auto",71280,34800,1,"Normal",{"v":763.64,"d":"€763.64"},"E013",{"$f":"IFERROR(VLOOKUP(G6562,Discounts!C:E,3,0),0)","v":0},{"v":763.64,"d":"€763.64"}]
["Auto",71340,34860,1,"Normal",{"v":531.4,"d":"€531.40"},"E012",{"$f":"IFERROR(VLOOKUP(G6583,Discounts!C:E,3,0),0)","v":0},{"v":531.4,"d":"€531.40"}]
["Auto",71340,40450,1,"Normal",{"v":13.22,"d":"€13.22"},"SD/SG",{"$f":"IFERROR(VLOOKUP(G6584,Discounts!C:E,3,0),0)","v":0},{"v":13.22,"d":"€13.22"}]
["Auto",71410,31920,1,"Normal",{"v":121.49,"d":"€121.49"},"SD/SG",{"$f":"IFERROR(VLOOKUP(G6606,Discounts!C:E,3,0),0)","v":0},{"v":121.49,"d":"€121.49"}]
["Auto",71440,40450,1,"Normal",{"v":13.22,"d":"€13.22"},"SD/SG",{"$f":"IFERROR(VLOOKUP(G6619,Discounts!C:E,3,0),0)","v":0},{"v":13.22,"d":"€13.22"}]
["Auto",71470,34990,1,"Normal",{"v":518.18,"d":"€518.18"},"E016",{"$f":"IFERROR(VLOOKUP(G6628,Discounts!C:E,3,0),0)","v":0},{"v":518.18,"d":"€518.18"}]
["Auto",71490,42290,1,"Normal",{"v":116.53,"d":"€116.53"},"SD/SG",{"$f":"IFERROR(VLOOKUP(G6637,Discounts!C:E,3,0),0)","v":0},{"v":116.53,"d":"€116.53"}]
["Auto",71530,40450,3,"Normal",{"v":39.66,"d":"€39.66"},"SD/SG",{"$f":"IFERROR(VLOOKUP(G6650,Discounts!C:E,3,0),0)","v":0},{"v":39.66,"d":"€39.66"}]
["Auto",71580,40450,4,"Normal",{"v":52.88,"d":"€52.88"},"SD/SG",{"$f":"IFERROR(VLOOKUP(G6668,Discounts!C:E,3,0),0)","v":0},{"v":52.88,"d":"€52.88"}]
["Auto",71620,35140,1,"Normal",{"v":943.8,"d":"€943.80"},"E012",{"$f":"IFERROR(VLOOKUP(G6681,Discounts!C:E,3,0),0)","v":0},{"v":943.8,"d":"€943.80"}]
["Auto",71620,40450,4,"Normal",{"v":52.88,"d":"€52.88"},"SD/SG",{"$f":"IFERROR(VLOOKUP(G6682,Discounts!C:E,3,0),0)","v":0},{"v":52.88,"d":"€52.88"}]
["Auto",71680,40450,2,"Normal",{"v":26.44,"d":"€26.44"},"SD/SG",{"$f":"IFERROR(VLOOKUP(G6703,Discounts!C:E,3,0),0)","v":0},{"v":26.44,"d":"€26.44"}]
["Auto",71710,31920,1,"Normal",{"v":121.49,"d":"€121.49"},"SD/SG",{"$f":"IFERROR(VLOOKUP(G6711,Discounts!C:E,3,0),0)","v":0},{"v":121.49,"d":"€121.49"}]
["Auto",71750,35270,1,"Combination",{"v":376.03,"d":"€376.03"},"E016",{"$f":"IFERROR(VLOOKUP(G6726,Discounts!C:E,3,0),0)","v":0},{"v":376.03,"d":"€376.03"}]
["Auto",71770,40530,1,"Normal",{"v":92.56,"d":"€92.56"},"SD/SG",{"$f":"IFERROR(VLOOKUP(G6735,Discounts!C:E,3,0),0)","v":0},{"v":92.56,"d":"€92.56"}]
["Auto",71810,40450,2,"Normal",{"v":26.44,"d":"€26.44"},"SD/SG",{"$f":"IFERROR(VLOOKUP(G6748,Discounts!C:E,3,0),0)","v":0},{"v":26.44,"d":"€26.44"}]
["Auto",71840,31920,1,"Normal",{"v":121.49,"d":"€121.49"},"SD/SG",{"$f":"IFERROR(VLOOKUP(G6757,Discounts!C:E,3,0),0)","v":0},{"v":121.49,"d":"€121.49"}]
["Auto",71890,40520,1,"Normal",{"v":67.77,"d":"€67.77"},"SD/SG",{"$f":"IFERROR(VLOOKUP(G6777,Discounts!C:E,3,0),0)","v":0},{"v":67.77,"d":"€67.77"}]
["Auto",71900,40450,1,"Normal",{"v":13.22,"d":"€13.22"},"SD/SG",{"$f":"IFERROR(VLOOKUP(G6780,Discounts!C:E,3,0),0)","v":0},{"v":13.22,"d":"€13.22"}]
["Auto",71950,40520,1,"Normal",{"v":67.77,"d":"€67.77"},"SD/SG",{"$f":"IFERROR(VLOOKUP(G6801,Discounts!C:E,3,0),0)","v":0},{"v":67.77,"d":"€67.77"}]
["Auto",71990,31920,1,"Normal",{"v":121.49,"d":"€121.49"},"SD/SG",{"$f":"IFERROR(VLOOKUP(G6814,Discounts!C:E,3,0),0)","v":0},{"v":121.49,"d":"€121.49"}]
["Auto",72000,40450,2,"Normal",{"v":26.44,"d":"€26.44"},"SD/SG",{"$f":"IFERROR(VLOOKUP(G6820,Discounts!C:E,3,0),0)","v":0},{"v":26.44,"d":"€26.44"}]
["Auto",72030,42300,1,"Normal",{"v":140.5,"d":"€140.50"},"SD/SG",{"$f":"IFERROR(VLOOKUP(G6833,Discounts!C:E,3,0),0)","v":0},{"v":140.5,"d":"€140.50"}]
["Auto",72070,31920,1,"Normal",{"v":121.49,"d":"€121.49"},"SD/SG",{"$f":"IFERROR(VLOOKUP(G6846,Discounts!C:E,3,0),0)","v":0},{"v":121.49,"d":"€121.49"}]
["Auto",72090,35610,1,"Normal",{"v":616.53,"d":"€616.53"},"E016",{"$f":"IFERROR(VLOOKUP(G6855,Discounts!C:E,3,0),0)","v":0},{"v":616.53,"d":"€616.53"}]
["Auto",72120,40450,1,"Normal",{"v":13.22,"d":"€13.22"},"SD/SG",{"$f":"IFERROR(VLOOKUP(G6868,Discounts!C:E,3,0),0)","v":0},{"v":13.22,"d":"€13.22"}]
["Auto",72160,31920,1,"Normal",{"v":121.49,"d":"€121.49"},"SD/SG",{"$f":"IFERROR(VLOOKUP(G6882,Discounts!C:E,3,0),0)","v":0},{"v":121.49,"d":"€121.49"}]
["Auto",72200,35730,1,"Normal",{"v":692.56,"d":"€692.56"},"E016",{"$f":"IFERROR(VLOOKUP(G6899,Discounts!C:E,3,0),0)","v":0},{"v":692.56,"d":"€692.56"}]
["Auto",72230,40450,1,"Normal",{"v":13.22,"d":"€13.22"},"SD/SG",{"$f":"IFERROR(VLOOKUP(G6912,Discounts!C:E,3,0),0)","v":0},{"v":13.22,"d":"€13.22"}]
["Auto",72260,40450,1,"Normal",{"v":13.22,"d":"€13.22"},"SD/SG",{"$f":"IFERROR(VLOOKUP(G6921,Discounts!C:E,3,0),0)","v":0},{"v":13.22,"d":"€13.22"}]
["Auto",72290,35820,1,"Normal",{"v":974.38,"d":"€974.38"},"E013",{"$f":"IFERROR(VLOOKUP(G6929,Discounts!C:E,3,0),0)","v":0},{"v":974.38,"d":"€974.38"}]
["Auto",72340,35870,1,"Normal",{"v":783.47,"d":"€783.47"},"E013",{"$f":"IFERROR(VLOOKUP(G6944,Discounts!C:E,3,0),0)","v":0},{"v":783.47,"d":"€783.47"}]
["Auto",72370,35900,1,"Normal",{"v":935.54,"d":"€935.54"},"E013",{"$f":"IFERROR(VLOOKUP(G6953,Discounts!C:E,3,0),0)","v":0},{"v":935.54,"d":"€935.54"}]
["Auto",72410,35940,1,"Normal",{"v":725.62,"d":"€725.62"},"E013",{"$f":"IFERROR(VLOOKUP(G6966,Discounts!C:E,3,0),0)","v":0},{"v":725.62,"d":"€725.62"}]
["Auto",72430,40450,1,"Normal",{"v":13.22,"d":"€13.22"},"SD/SG",{"$f":"IFERROR(VLOOKUP(G6975,Discounts!C:E,3,0),0)","v":0},{"v":13.22,"d":"€13.22"}]
["Auto",72470,40450,1,"Normal",{"v":13.22,"d":"€13.22"},"SD/SG",{"$f":"IFERROR(VLOOKUP(G6991,Discounts!C:E,3,0),0)","v":0},{"v":13.22,"d":"€13.22"}]
["Auto",72530,40450,3,"Normal",{"v":39.66,"d":"€39.66"},"SD/SG",{"$f":"IFERROR(VLOOKUP(G7010,Discounts!C:E,3,0),0)","v":0},{"v":39.66,"d":"€39.66"}]
["Auto",72560,40450,4,"Normal",{"v":52.88,"d":"€52.88"},"SD/SG",{"$f":"IFERROR(VLOOKUP(G7019,Discounts!C:E,3,0),0)","v":0},{"v":52.88,"d":"€52.88"}]
["Auto",72590,31920,1,"Normal",{"v":121.49,"d":"€121.49"},"SD/SG",{"$f":"IFERROR(VLOOKUP(G7028,Discounts!C:E,3,0),0)","v":0},{"v":121.49,"d":"€121.49"}]
["Auto",72630,40530,1,"Normal",{"v":92.56,"d":"€92.56"},"SD/SG",{"$f":"IFERROR(VLOOKUP(G7047,Discounts!C:E,3,0),0)","v":0},{"v":92.56,"d":"€92.56"}]
["Auto",72640,42300,1,"Normal",{"v":140.5,"d":"€140.50"},"SD/SG",{"$f":"IFERROR(VLOOKUP(G7051,Discounts!C:E,3,0),0)","v":0},{"v":140.5,"d":"€140.50"}]
["Auto",72680,31920,1,"Normal",{"v":121.49,"d":"€121.49"},"SD/SG",{"$f":"IFERROR(VLOOKUP(G7064,Discounts!C:E,3,0),0)","v":0},{"v":121.49,"d":"€121.49"}]
["Auto",72690,55000,1,"Normal",{"v":895.87,"d":"€895.87"},"E016",{"$f":"IFERROR(VLOOKUP(G7073,Discounts!C:E,3,0),0)","v":0},{"v":895.87,"d":"€895.87"}]
["Auto",72760,40450,2,"Normal",{"v":26.44,"d":"€26.44"},"SD/SG",{"$f":"IFERROR(VLOOKUP(G7094,Discounts!C:E,3,0),0)","v":0},{"v":26.44,"d":"€26.44"}]
["Auto",72810,40450,1,"Normal",{"v":13.22,"d":"€13.22"},"SD/SG",{"$f":"IFERROR(VLOOKUP(G7109,Discounts!C:E,3,0),0)","v":0},{"v":13.22,"d":"€13.22"}]
["Auto",72830,36550,1,"Normal",{"v":753.72,"d":"€753.72"},"E016",{"$f":"IFERROR(VLOOKUP(G7117,Discounts!C:E,3,0),0)","v":0},{"v":753.72,"d":"€753.72"}]
["Auto",72860,40450,1,"Normal",{"v":13.22,"d":"€13.22"},"SD/SG",{"$f":"IFERROR(VLOOKUP(G7130,Discounts!C:E,3,0),0)","v":0},{"v":13.22,"d":"€13.22"}]
["Auto",72890,40450,2,"Normal",{"v":26.44,"d":"€26.44"},"SD/SG",{"$f":"IFERROR(VLOOKUP(G7139,Discounts!C:E,3,0),0)","v":0},{"v":26.44,"d":"€26.44"}]
["Auto",72940,31920,1,"Normal",{"v":121.49,"d":"€121.49"},"SD/SG",{"$f":"IFERROR(VLOOKUP(G7156,Discounts!C:E,3,0),0)","v":0},{"v":121.49,"d":"€121.49"}]
["Auto",72950,40450,2,"Normal",{"v":26.44,"d":"€26.44"},"SD/SG",{"$f":"IFERROR(VLOOKUP(G7162,Discounts!C:E,3,0),0)","v":0},{"v":26.44,"d":"€26.44"}]
["Auto",72980,31920,1,"Normal",{"v":121.49,"d":"€121.49"},"SD/SG",{"$f":"IFERROR(VLOOKUP(G7171,Discounts!C:E,3,0),0)","v":0},{"$f":"IF(E7171=\"Normal\",F7171*(1-H7171),SUMIF(B:B,C7171,I:I)*D7171)","v":{"v":121.49,"d":"€121.49"}}]
["Auto",73040,31920,1,"Normal",{"v":121.49,"d":"€121.49"},"SD/SG",{"$f":"IFERROR(VLOOKUP(G7192,Discounts!C:E,3,0),0)","v":0},{"v":121.49,"d":"€121.49"}]
["Auto",73070,40450,3,"Normal",{"v":39.66,"d":"€39.66"},"SD/SG",{"$f":"IFERROR(VLOOKUP(G7205,Discounts!C:E,3,0),0)","v":0},{"v":39.66,"d":"€39.66"}]
["Auto",73110,36830,1,"Normal",{"v":852.07,"d":"€852.07"},"E013",{"$f":"IFERROR(VLOOKUP(G7218,Discounts!C:E,3,0),0)","v":0},{"v":852.07,"d":"€852.07"}]
["Auto",73140,36860,1,"Normal",{"v":636.36,"d":"€636.36"},"E016",{"$f":"IFERROR(VLOOKUP(G7228,Discounts!C:E,3,0),0)","v":0},{"v":636.36,"d":"€636.36"}]
["Auto",73160,40520,1,"Normal",{"v":67.77,"d":"€67.77"},"SD/SG",{"$f":"IFERROR(VLOOKUP(G7237,Discounts!C:E,3,0),0)","v":0},{"v":67.77,"d":"€67.77"}]
["Auto",73190,36910,1,"Normal",{"v":742.98,"d":"€742.98"},"E013",{"$f":"IFERROR(VLOOKUP(G7246,Discounts!C:E,3,0),0)","v":0},{"v":742.98,"d":"€742.98"}]
["Auto",73230,40450,3,"Normal",{"v":39.66,"d":"€39.66"},"SD/SG",{"$f":"IFERROR(VLOOKUP(G7261,Discounts!C:E,3,0),0)","v":0},{"v":39.66,"d":"€39.66"}]
["Auto",73260,31920,1,"Normal",{"v":121.49,"d":"€121.49"},"SD/SG",{"$f":"IFERROR(VLOOKUP(G7269,Discounts!C:E,3,0),0)","v":0},{"v":121.49,"d":"€121.49"}]
["Auto",73290,40450,2,"Normal",{"v":26.44,"d":"€26.44"},"SD/SG",{"$f":"IFERROR(VLOOKUP(G7282,Discounts!C:E,3,0),0)","v":0},{"v":26.44,"d":"€26.44"}]
["Auto",73350,37070,1,"Combination",{"v":484.3,"d":"€484.30"},"E016",{"$f":"IFERROR(VLOOKUP(G7303,Discounts!C:E,3,0),0)","v":0},{"v":484.3,"d":"€484.30"}]
["Auto",73360,40450,1,"Normal",{"v":13.22,"d":"€13.22"},"SD/SG",{"$f":"IFERROR(VLOOKUP(G7308,Discounts!C:E,3,0),0)","v":0},{"v":13.22,"d":"€13.22"}]
["Auto",73410,40450,2,"Normal",{"v":26.44,"d":"€26.44"},"SD/SG",{"$f":"IFERROR(VLOOKUP(G7326,Discounts!C:E,3,0),0)","v":0},{"v":26.44,"d":"€26.44"}]
["Auto",73440,37160,1,"Normal",{"v":556.2,"d":"€556.20"},"E011",{"$f":"IFERROR(VLOOKUP(G7335,Discounts!C:E,3,0),0)","v":0},{"v":556.2,"d":"€556.20"}]
["Auto",73460,42290,1,"Normal",{"v":116.53,"d":"€116.53"},"SD/SG",{"$f":"IFERROR(VLOOKUP(G7344,Discounts!C:E,3,0),0)","v":0},{"v":116.53,"d":"€116.53"}]
["Auto",73500,40450,4,"Normal",{"v":52.88,"d":"€52.88"},"SD/SG",{"$f":"IFERROR(VLOOKUP(G7357,Discounts!C:E,3,0),0)","v":0},{"v":52.88,"d":"€52.88"}]
["Auto",73540,37260,1,"Normal",{"v":733.88,"d":"€733.88"},"E016",{"$f":"IFERROR(VLOOKUP(G7370,Discounts!C:E,3,0),0)","v":0},{"v":733.88,"d":"€733.88"}]
["Auto",73570,31920,1,"Normal",{"v":121.49,"d":"€121.49"},"SD/SG",{"$f":"IFERROR(VLOOKUP(G7380,Discounts!C:E,3,0),0)","v":0},{"v":121.49,"d":"€121.49"}]
["Auto",73630,31920,1,"Normal",{"v":121.49,"d":"€121.49"},"SD/SG",{"$f":"IFERROR(VLOOKUP(G7401,Discounts!C:E,3,0),0)","v":0},{"v":121.49,"d":"€121.49"}]
["Auto",73650,40450,4,"Normal",{"v":52.88,"d":"€52.88"},"SD/SG",{"$f":"IFERROR(VLOOKUP(G7410,Discounts!C:E,3,0),0)","v":0},{"v":52.88,"d":"€52.88"}]
["Auto",73700,37420,1,"Combination",{"v":473.56,"d":"€473.56"},"E016",{"$f":"IFERROR(VLOOKUP(G7426,Discounts!C:E,3,0),0)","v":0},{"v":473.56,"d":"€473.56"}]
["Auto",73720,37440,1,"Combination",{"v":473.56,"d":"€473.56"},"E016",{"$f":"IFERROR(VLOOKUP(G7433,Discounts!C:E,3,0),0)","v":0},{"v":473.56,"d":"€473.56"}]
["Auto",73740,40530,1,"Normal",{"v":92.56,"d":"€92.56"},"SD/SG",{"$f":"IFERROR(VLOOKUP(G7442,Discounts!C:E,3,0),0)","v":0},{"v":92.56,"d":"€92.56"}]
["Auto",73780,40450,2,"Normal",{"v":26.44,"d":"€26.44"},"SD/SG",{"$f":"IFERROR(VLOOKUP(G7455,Discounts!C:E,3,0),0)","v":0},{"v":26.44,"d":"€26.44"}]
["Auto",73810,31920,1,"Normal",{"v":121.49,"d":"€121.49"},"SD/SG",{"$f":"IFERROR(VLOOKUP(G7464,Discounts!C:E,3,0),0)","v":0},{"v":121.49,"d":"€121.49"}]
["Auto",73870,31920,1,"Normal",{"v":121.49,"d":"€121.49"},"SD/SG",{"$f":"IFERROR(VLOOKUP(G7488,Discounts!C:E,3,0),0)","v":0},{"v":121.49,"d":"€121.49"}]
["Auto",73890,40520,1,"Normal",{"v":67.77,"d":"€67.77"},"SD/SG",{"$f":"IFERROR(VLOOKUP(G7499,Discounts!C:E,3,0),0)","v":0},{"v":67.77,"d":"€67.77"}]
["Auto",73920,40450,1,"Normal",{"v":13.22,"d":"€13.22"},"SD/SG",{"$f":"IFERROR(VLOOKUP(G7508,Discounts!C:E,3,0),0)","v":0},{"v":13.22,"d":"€13.22"}]
["Auto",73970,31920,1,"Normal",{"v":121.49,"d":"€121.49"},"SD/SG",{"$f":"IFERROR(VLOOKUP(G7521,Discounts!C:E,3,0),0)","v":0},{"v":121.49,"d":"€121.49"}]
["Auto",74000,40530,1,"Normal",{"v":92.56,"d":"€92.56"},"SD/SG",{"$f":"IFERROR(VLOOKUP(G7535,Discounts!C:E,3,0),0)","v":0},{"v":92.56,"d":"€92.56"}]
["Auto",74030,31920,1,"Normal",{"v":121.49,"d":"€121.49"},"SD/SG",{"$f":"IFERROR(VLOOKUP(G7544,Discounts!C:E,3,0),0)","v":0},{"v":121.49,"d":"€121.49"}]
["Auto",74050,37770,1,"Normal",{"v":713.22,"d":"€713.22"},"E015",{"$f":"IFERROR(VLOOKUP(G7553,Discounts!C:E,3,0),0)","v":0},{"v":713.22,"d":"€713.22"}]
["Auto",74070,40450,2,"Normal",{"v":26.44,"d":"€26.44"},"SD/SG",{"$f":"IFERROR(VLOOKUP(G7562,Discounts!C:E,3,0),0)","v":0},{"v":26.44,"d":"€26.44"}]
["Auto",74110,40450,3,"Normal",{"v":39.66,"d":"€39.66"},"SD/SG",{"$f":"IFERROR(VLOOKUP(G7575,Discounts!C:E,3,0),0)","v":0},{"v":39.66,"d":"€39.66"}]
["Auto",74180,40530,1,"Normal",{"v":92.56,"d":"€92.56"},"SD/SG",{"$f":"IFERROR(VLOOKUP(G7597,Discounts!C:E,3,0),0)","v":0},{"v":92.56,"d":"€92.56"}]
["Auto",74210,37930,1,"Normal",{"v":647.93,"d":"€647.93"},"E012",{"$f":"IFERROR(VLOOKUP(G7606,Discounts!C:E,3,0),0)","v":0},{"v":647.93,"d":"€647.93"}]
["Auto",74250,31920,1,"Normal",{"v":121.49,"d":"€121.49"},"SD/SG",{"$f":"IFERROR(VLOOKUP(G7619,Discounts!C:E,3,0),0)","v":0},{"$f":"IF(E7619=\"Normal\",F7619*(1-H7619),SUMIF(B:B,C7619,I:I)*D7619)","v":{"v":121.49,"d":"€121.49"}}]
["Auto",74270,40450,4,"Normal",{"v":52.88,"d":"€52.88"},"SD/SG",{"$f":"IFERROR(VLOOKUP(G7628,Discounts!C:E,3,0),0)","v":0},{"v":52.88,"d":"€52.88"}]
["Auto",74310,31920,1,"Normal",{"v":121.49,"d":"€121.49"},"SD/SG",{"$f":"IFERROR(VLOOKUP(G7640,Discounts!C:E,3,0),0)","v":0},{"v":121.49,"d":"€121.49"}]
["Auto",74340,38060,1,"Normal",{"v":603.31,"d":"€603.31"},"E015",{"$f":"IFERROR(VLOOKUP(G7651,Discounts!C:E,3,0),0)","v":0},{"v":603.31,"d":"€603.31"}]
["Auto",74360,42300,1,"Normal",{"v":140.5,"d":"€140.50"},"SD/SG",{"$f":"IFERROR(VLOOKUP(G7660,Discounts!C:E,3,0),0)","v":0},{"v":140.5,"d":"€140.50"}]
["Auto",74400,40450,1,"Normal",{"v":13.22,"d":"€13.22"},"SD/SG",{"$f":"IFERROR(VLOOKUP(G7673,Discounts!C:E,3,0),0)","v":0},{"v":13.22,"d":"€13.22"}]
["Auto",74450,40520,1,"Normal",{"v":67.77,"d":"€67.77"},"SD/SG",{"$f":"IFERROR(VLOOKUP(G7694,Discounts!C:E,3,0),0)","v":0},{"v":67.77,"d":"€67.77"}]
["Auto",74480,40520,1,"Normal",{"v":67.77,"d":"€67.77"},"SD/SG",{"$f":"IFERROR(VLOOKUP(G7706,Discounts!C:E,3,0),0)","v":0},{"v":67.77,"d":"€67.77"}]
["Auto",74520,31920,1,"Normal",{"v":121.49,"d":"€121.49"},"SD/SG",{"$f":"IFERROR(VLOOKUP(G7717,Discounts!C:E,3,0),0)","v":0},{"v":121.49,"d":"€121.49"}]
["Auto",74550,31920,1,"Normal",{"v":121.49,"d":"€121.49"},"SD/SG",{"$f":"IFERROR(VLOOKUP(G7726,Discounts!C:E,3,0),0)","v":0},{"v":121.49,"d":"€121.49"}]
["Auto",74590,31920,1,"Normal",{"v":121.49,"d":"€121.49"},"SD/SG",{"$f":"IFERROR(VLOOKUP(G7739,Discounts!C:E,3,0),0)","v":0},{"v":121.49,"d":"€121.49"}]
["Auto",74610,40450,3,"Normal",{"v":39.66,"d":"€39.66"},"SD/SG",{"$f":"IFERROR(VLOOKUP(G7749,Discounts!C:E,3,0),0)","v":0},{"v":39.66,"d":"€39.66"}]
["Auto",74630,42310,1,"Normal",{"v":162.81,"d":"€162.81"},"SD/SG",{"$f":"IFERROR(VLOOKUP(G7758,Discounts!C:E,3,0),0)","v":0},{"v":162.81,"d":"€162.81"}]
["Auto",74670,31920,1,"Normal",{"v":121.49,"d":"€121.49"},"SD/SG",{"$f":"IFERROR(VLOOKUP(G7771,Discounts!C:E,3,0),0)","v":0},{"v":121.49,"d":"€121.49"}]
["Auto",74730,40450,5,"Normal",{"v":66.1,"d":"€66.10"},"SD/SG",{"$f":"IFERROR(VLOOKUP(G7792,Discounts!C:E,3,0),0)","v":0},{"v":66.1,"d":"€66.10"}]
["Auto",74780,31920,1,"Normal",{"v":121.49,"d":"€121.49"},"SD/SG",{"$f":"IFERROR(VLOOKUP(G7805,Discounts!C:E,3,0),0)","v":0},{"v":121.49,"d":"€121.49"}]
["Auto",74790,40450,2,"Normal",{"v":26.44,"d":"€26.44"},"SD/SG",{"$f":"IFERROR(VLOOKUP(G7811,Discounts!C:E,3,0),0)","v":0},{"$f":"IF(E7811=\"Normal\",F7811*(1-H7811),SUMIF(B:B,C7811,I:I)*D7811)","v":{"v":26.44,"d":"€26.44"}}]
["Auto",74830,38550,1,"Normal",{"v":823.14,"d":"€823.14"},"E013",{"$f":"IFERROR(VLOOKUP(G7824,Discounts!C:E,3,0),0)","v":0},{"v":823.14,"d":"€823.14"}]
["Auto",74870,31920,1,"Normal",{"v":121.49,"d":"€121.49"},"SD/SG",{"$f":"IFERROR(VLOOKUP(G7837,Discounts!C:E,3,0),0)","v":0},{"v":121.49,"d":"€121.49"}]
["Auto",74890,40450,4,"Normal",{"v":52.88,"d":"€52.88"},"SD/SG",{"$f":"IFERROR(VLOOKUP(G7846,Discounts!C:E,3,0),0)","v":0},{"v":52.88,"d":"€52.88"}]
["Auto",74930,31920,1,"Normal",{"v":121.49,"d":"€121.49"},"SD/SG",{"$f":"IFERROR(VLOOKUP(G7858,Discounts!C:E,3,0),0)","v":0},{"v":121.49,"d":"€121.49"}]
["Auto",74960,38680,1,"Normal",{"v":691.74,"d":"€691.74"},"E016",{"$f":"IFERROR(VLOOKUP(G7869,Discounts!C:E,3,0),0)","v":0},{"v":691.74,"d":"€691.74"}]
["Auto",75020,31920,1,"Normal",{"v":121.49,"d":"€121.49"},"SD/SG",{"$f":"IFERROR(VLOOKUP(G7890,Discounts!C:E,3,0),0)","v":0},{"v":121.49,"d":"€121.49"}]
["Auto",75050,38770,1,"Normal",{"v":895.04,"d":"€895.04"},"E013",{"$f":"IFERROR(VLOOKUP(G7903,Discounts!C:E,3,0),0)","v":0},{"v":895.04,"d":"€895.04"}]
["Auto",75070,40450,1,"Normal",{"v":13.22,"d":"€13.22"},"SD/SG",{"$f":"IFERROR(VLOOKUP(G7912,Discounts!C:E,3,0),0)","v":0},{"v":13.22,"d":"€13.22"}]
["Auto",75090,40450,1,"Normal",{"v":13.22,"d":"€13.22"},"SD/SG",{"$f":"IFERROR(VLOOKUP(G7920,Discounts!C:E,3,0),0)","v":0},{"v":13.22,"d":"€13.22"}]
["Auto",75130,38850,1,"Normal",{"v":819.01,"d":"€819.01"},"E013",{"$f":"IFERROR(VLOOKUP(G7935,Discounts!C:E,3,0),0)","v":0},{"v":819.01,"d":"€819.01"}]
["Auto",75150,40450,1,"Normal",{"v":13.22,"d":"€13.22"},"SD/SG",{"$f":"IFERROR(VLOOKUP(G7944,Discounts!C:E,3,0),0)","v":0},{"v":13.22,"d":"€13.22"}]
["Auto",75180,40520,1,"Normal",{"v":67.77,"d":"€67.77"},"SD/SG",{"$f":"IFERROR(VLOOKUP(G7957,Discounts!C:E,3,0),0)","v":0},{"v":67.77,"d":"€67.77"}]
["Auto",75230,40450,2,"Normal",{"v":26.44,"d":"€26.44"},"SD/SG",{"$f":"IFERROR(VLOOKUP(G7976,Discounts!C:E,3,0),0)","v":0},{"v":26.44,"d":"€26.44"}]
["Auto",75260,40450,3,"Normal",{"v":39.66,"d":"€39.66"},"SD/SG",{"$f":"IFERROR(VLOOKUP(G7988,Discounts!C:E,3,0),0)","v":0},{"v":39.66,"d":"€39.66"}]
["Auto",75290,42300,1,"Normal",{"v":140.5,"d":"€140.50"},"SD/SG",{"$f":"IFERROR(VLOOKUP(G8001,Discounts!C:E,3,0),0)","v":0},{"v":140.5,"d":"€140.50"}]
["Auto",75320,31920,1,"Normal",{"v":121.49,"d":"€121.49"},"SD/SG",{"$f":"IFERROR(VLOOKUP(G8010,Discounts!C:E,3,0),0)","v":0},{"v":121.49,"d":"€121.49"}]
["Auto",75340,39070,1,"Normal",{"v":1581.82,"d":"€1,581.82"},"E013",{"$f":"IFERROR(VLOOKUP(G8019,Discounts!C:E,3,0),0)","v":0},{"v":1581.82,"d":"€1,581.82"}]
["Auto",75390,31920,1,"Normal",{"v":121.49,"d":"€121.49"},"SD/SG",{"$f":"IFERROR(VLOOKUP(G8038,Discounts!C:E,3,0),0)","v":0},{"v":121.49,"d":"€121.49"}]
["Auto",75400,31920,1,"Normal",{"v":121.49,"d":"€121.49"},"SD/SG",{"$f":"IFERROR(VLOOKUP(G8042,Discounts!C:E,3,0),0)","v":0},{"v":121.49,"d":"€121.49"}]
["Auto",75430,39160,1,"Normal",{"v":1180.17,"d":"€1,180.17"},"E013",{"$f":"IFERROR(VLOOKUP(G8055,Discounts!C:E,3,0),0)","v":0},{"v":1180.17,"d":"€1,180.17"}]
["Auto",75450,40450,1,"Normal",{"v":13.22,"d":"€13.22"},"SD/SG",{"$f":"IFERROR(VLOOKUP(G8064,Discounts!C:E,3,0),0)","v":0},{"v":13.22,"d":"€13.22"}]
["Auto",75500,40520,1,"Normal",{"v":67.77,"d":"€67.77"},"SD/SG",{"$f":"IFERROR(VLOOKUP(G8085,Discounts!C:E,3,0),0)","v":0},{"v":67.77,"d":"€67.77"}]
["Auto",75540,39270,1,"Normal",{"v":1703.31,"d":"€1,703.31"},"E013",{"$f":"IFERROR(VLOOKUP(G8099,Discounts!C:E,3,0),0)","v":0},{"v":1703.31,"d":"€1,703.31"}]
["Auto",75560,40450,1,"Normal",{"v":13.22,"d":"€13.22"},"SD/SG",{"$f":"IFERROR(VLOOKUP(G8108,Discounts!C:E,3,0),0)","v":0},{"v":13.22,"d":"€13.22"}]
["Auto",75580,40530,1,"Normal",{"v":92.56,"d":"€92.56"},"SD/SG",{"$f":"IFERROR(VLOOKUP(G8117,Discounts!C:E,3,0),0)","v":0},{"v":92.56,"d":"€92.56"}]
["Auto",75620,31920,1,"Normal",{"v":121.49,"d":"€121.49"},"SD/SG",{"$f":"IFERROR(VLOOKUP(G8130,Discounts!C:E,3,0),0)","v":0},{"v":121.49,"d":"€121.49"}]
["Auto",75660,39400,1,"Normal",{"v":1515.7,"d":"€1,515.70"},"E013",{"$f":"IFERROR(VLOOKUP(G8147,Discounts!C:E,3,0),0)","v":0},{"v":1515.7,"d":"€1,515.70"}]
["Auto",75670,42300,1,"Normal",{"v":140.5,"d":"€140.50"},"SD/SG",{"$f":"IFERROR(VLOOKUP(G8153,Discounts!C:E,3,0),0)","v":0},{"v":140.5,"d":"€140.50"}]
["Auto",75700,31920,1,"Normal",{"v":121.49,"d":"€121.49"},"SD/SG",{"$f":"IFERROR(VLOOKUP(G8162,Discounts!C:E,3,0),0)","v":0},{"v":121.49,"d":"€121.49"}]
["Auto",75750,31640,1,"Normal",{"v":141.32,"d":"€141.32"},"LUXE",{"$f":"IFERROR(VLOOKUP(G8183,Discounts!C:E,3,0),0)","v":0},{"v":141.32,"d":"€141.32"}]
["Auto",75770,29760,1,"Normal",{"v":913.22,"d":"€913.22"},"LUXE",{"$f":"IFERROR(VLOOKUP(G8190,Discounts!C:E,3,0),0)","v":0},{"v":913.22,"d":"€913.22"}]
["Auto",75810,29930,2,"Normal",{"v":1191.74,"d":"€1,191.74"},"LUXE",{"$f":"IFERROR(VLOOKUP(G8206,Discounts!C:E,3,0),0)","v":0},{"v":1191.74,"d":"€1,191.74"}]
["Auto",75840,41600,1,"Normal",{"v":91.74,"d":"€91.74"},"LUXE",{"$f":"IFERROR(VLOOKUP(G8219,Discounts!C:E,3,0),0)","v":0},{"v":91.74,"d":"€91.74"}]
["Auto",75860,41810,1,"Combination",{"v":1676.04,"d":"€1,676.04"},"",{"$f":"IFERROR(VLOOKUP(G8228,Discounts!C:E,3,0),0)","v":0},{"v":1676.04,"d":"€1,676.04"}]
["Auto",75880,44940,5,"Normal",{"v":396.7,"d":"€396.70"},"LUXE",{"$f":"IFERROR(VLOOKUP(G8237,Discounts!C:E,3,0),0)","v":0},{"v":396.7,"d":"€396.70"}]
["Auto",75910,44940,5,"Normal",{"v":396.7,"d":"€396.70"},"LUXE",{"$f":"IFERROR(VLOOKUP(G8252,Discounts!C:E,3,0),0)","v":0},{"v":396.7,"d":"€396.70"}]
["Auto",75930,41650,1,"Normal",{"v":42.98,"d":"€42.98"},"LUXE",{"$f":"IFERROR(VLOOKUP(G8260,Discounts!C:E,3,0),0)","v":0},{"v":42.98,"d":"€42.98"}]
["Auto",75990,41940,1,"Combination",{"v":1444.63,"d":"€1,444.63"},"",{"$f":"IFERROR(VLOOKUP(G8281,Discounts!C:E,3,0),0)","v":0},{"v":1444.6299999999999,"d":"€1,444.63"}]
["Auto",76040,31470,1,"Normal",{"v":141.32,"d":"€141.32"},"LUXE",{"$f":"IFERROR(VLOOKUP(G8294,Discounts!C:E,3,0),0)","v":0},{"v":141.32,"d":"€141.32"}]
["Auto",76050,42000,1,"Combination",{"v":1360.33,"d":"€1,360.33"},"",{"$f":"IFERROR(VLOOKUP(G8299,Discounts!C:E,3,0),0)","v":0},{"v":1360.33,"d":"€1,360.33"}]
["Auto",76110,42060,1,"Combination",{"v":1626.45,"d":"€1,626.45"},"",{"$f":"IFERROR(VLOOKUP(G8317,Discounts!C:E,3,0),0)","v":0},{"v":1626.4499999999998,"d":"€1,626.45"}]
["Auto",76140,31920,1,"Normal",{"v":121.49,"d":"€121.49"},"SD/SG",{"$f":"IFERROR(VLOOKUP(G8326,Discounts!C:E,3,0),0)","v":0},{"v":121.49,"d":"€121.49"}]
["Auto",76160,40450,1,"Normal",{"v":13.22,"d":"€13.22"},"SD/SG",{"$f":"IFERROR(VLOOKUP(G8335,Discounts!C:E,3,0),0)","v":0},{"v":13.22,"d":"€13.22"}]
["Auto",76190,40520,1,"Normal",{"v":67.77,"d":"€67.77"},"SD/SG",{"$f":"IFERROR(VLOOKUP(G8348,Discounts!C:E,3,0),0)","v":0},{"v":67.77,"d":"€67.77"}]
["Auto",76220,44100,1,"Normal",{"v":517.36,"d":"€517.36"},"E016",{"$f":"IFERROR(VLOOKUP(G8361,Discounts!C:E,3,0),0)","v":0},{"v":517.36,"d":"€517.36"}]
["Auto",76250,44130,1,"Normal",{"v":642.15,"d":"€642.15"},"E013",{"$f":"IFERROR(VLOOKUP(G8371,Discounts!C:E,3,0),0)","v":0},{"v":642.15,"d":"€642.15"}]
["Auto",76320,44200,1,"Normal",{"v":899.17,"d":"€899.17"},"E013",{"$f":"IFERROR(VLOOKUP(G8392,Discounts!C:E,3,0),0)","v":0},{"v":899.17,"d":"€899.17"}]
["Auto",76350,44230,1,"Normal",{"v":804.96,"d":"€804.96"},"E013",{"$f":"IFERROR(VLOOKUP(G8401,Discounts!C:E,3,0),0)","v":0},{"v":804.96,"d":"€804.96"}]
["Auto",76390,44940,5,"Normal",{"v":396.7,"d":"€396.70"},"LUXE",{"$f":"IFERROR(VLOOKUP(G8417,Discounts!C:E,3,0),0)","v":0},{"v":396.7,"d":"€396.70"}]
["Auto",76410,41530,1,"Normal",{"v":1200.83,"d":"€1,200.83"},"A050",{"$f":"IFERROR(VLOOKUP(G8424,Discounts!C:E,3,0),0)","v":0},{"v":1200.83,"d":"€1,200.83"}]
["Auto",76440,31470,1,"Normal",{"v":141.32,"d":"€141.32"},"LUXE",{"$f":"IFERROR(VLOOKUP(G8433,Discounts!C:E,3,0),0)","v":0},{"v":141.32,"d":"€141.32"}]
["Auto",76470,40450,1,"Normal",{"v":13.22,"d":"€13.22"},"SD/SG",{"$f":"IFERROR(VLOOKUP(G8446,Discounts!C:E,3,0),0)","v":0},{"v":13.22,"d":"€13.22"}]
["Auto",76490,34000,1,"Normal",{"v":131.4,"d":"€131.40"},"SD/SG",{"$f":"IFERROR(VLOOKUP(G8455,Discounts!C:E,3,0),0)","v":0},{"v":131.4,"d":"€131.40"}]
["Auto",76510,40450,1,"Normal",{"v":13.22,"d":"€13.22"},"SD/SG",{"$f":"IFERROR(VLOOKUP(G8466,Discounts!C:E,3,0),0)","v":0},{"v":13.22,"d":"€13.22"}]
["Auto",76560,33990,1,"Normal",{"v":106.61,"d":"€106.61"},"SD/SG",{"$f":"IFERROR(VLOOKUP(G8490,Discounts!C:E,3,0),0)","v":0},{"v":106.61,"d":"€106.61"}]
["Auto",76580,31920,1,"Normal",{"v":121.49,"d":"€121.49"},"SD/SG",{"$f":"IFERROR(VLOOKUP(G8499,Discounts!C:E,3,0),0)","v":0},{"v":121.49,"d":"€121.49"}]
["Auto",76610,34000,1,"Normal",{"v":131.4,"d":"€131.40"},"SD/SG",{"$f":"IFERROR(VLOOKUP(G8512,Discounts!C:E,3,0),0)","v":0},{"v":131.4,"d":"€131.40"}]
["Auto",76640,44180,1,"Normal",{"v":657.85,"d":"€657.85"},"E013",{"$f":"IFERROR(VLOOKUP(G8526,Discounts!C:E,3,0),0)","v":0},{"v":657.85,"d":"€657.85"}]
["Auto",76660,31920,1,"Normal",{"v":121.49,"d":"€121.49"},"SD/SG",{"$f":"IFERROR(VLOOKUP(G8531,Discounts!C:E,3,0),0)","v":0},{"v":121.49,"d":"€121.49"}]
["Auto",76690,33990,1,"Normal",{"v":106.61,"d":"€106.61"},"SD/SG",{"$f":"IFERROR(VLOOKUP(G8544,Discounts!C:E,3,0),0)","v":0},{"v":106.61,"d":"€106.61"}]
["Auto",76730,31470,1,"Normal",{"v":141.32,"d":"€141.32"},"LUXE",{"$f":"IFERROR(VLOOKUP(G8553,Discounts!C:E,3,0),0)","v":0},{"v":141.32,"d":"€141.32"}]
["Auto",76770,44690,1,"Combination",{"v":1237.19,"d":"€1,237.19"},"A010",{"$f":"IFERROR(VLOOKUP(G8566,Discounts!C:E,3,0),0)","v":0},{"v":1237.19,"d":"€1,237.19"}]
["Auto",76850,44710,1,"Combination",{"v":1369.42,"d":"€1,369.42"},"A010",{"$f":"IFERROR(VLOOKUP(G8588,Discounts!C:E,3,0),0)","v":0},{"v":1369.42,"d":"€1,369.42"}]
["Auto",76890,44720,1,"Combination",{"v":1189.25,"d":"€1,189.25"},"A010",{"$f":"IFERROR(VLOOKUP(G8597,Discounts!C:E,3,0),0)","v":0},{"v":1189.25,"d":"€1,189.25"}]
["Auto",76960,31470,1,"Normal",{"v":141.32,"d":"€141.32"},"LUXE",{"$f":"IFERROR(VLOOKUP(G8610,Discounts!C:E,3,0),0)","v":0},{"v":141.32,"d":"€141.32"}]
["Auto",77000,31470,1,"Normal",{"v":141.32,"d":"€141.32"},"LUXE",{"$f":"IFERROR(VLOOKUP(G8619,Discounts!C:E,3,0),0)","v":0},{"v":141.32,"d":"€141.32"}]
["Auto",77050,31470,1,"Normal",{"v":141.32,"d":"€141.32"},"LUXE",{"$f":"IFERROR(VLOOKUP(G8631,Discounts!C:E,3,0),0)","v":0},{"v":141.32,"d":"€141.32"}]
["Auto",77090,44770,1,"Combination",{"v":1348.76,"d":"€1,348.76"},"A010",{"$f":"IFERROR(VLOOKUP(G8642,Discounts!C:E,3,0),0)","v":0},{"v":1348.76,"d":"€1,348.76"}]
["Auto",77130,44780,1,"Combination",{"v":1200,"d":"€1,200.00"},"A010",{"$f":"IFERROR(VLOOKUP(G8651,Discounts!C:E,3,0),0)","v":0},{"v":1200,"d":"€1,200.00"}]
["Auto",77200,31470,1,"Normal",{"v":141.32,"d":"€141.32"},"LUXE",{"$f":"IFERROR(VLOOKUP(G8664,Discounts!C:E,3,0),0)","v":0},{"v":141.32,"d":"€141.32"}]
["Auto",77290,31470,1,"Normal",{"v":141.32,"d":"€141.32"},"LUXE",{"$f":"IFERROR(VLOOKUP(G8685,Discounts!C:E,3,0),0)","v":0},{"v":141.32,"d":"€141.32"}]
["Auto",77340,31470,1,"Normal",{"v":141.32,"d":"€141.32"},"LUXE",{"$f":"IFERROR(VLOOKUP(G8697,Discounts!C:E,3,0),0)","v":0},{"v":141.32,"d":"€141.32"}]
["Auto",77380,42900,1,"Normal",{"v":1496.69,"d":"€1,496.69"},"A050",{"$f":"IFERROR(VLOOKUP(G8708,Discounts!C:E,3,0),0)","v":0},{"v":1496.69,"d":"€1,496.69"}]
["Auto",77420,42910,1,"Normal",{"v":1541.32,"d":"€1,541.32"},"A050",{"$f":"IFERROR(VLOOKUP(G8717,Discounts!C:E,3,0),0)","v":0},{"v":1541.32,"d":"€1,541.32"}]
["Auto",77490,31470,1,"Normal",{"v":141.32,"d":"€141.32"},"LUXE",{"$f":"IFERROR(VLOOKUP(G8730,Discounts!C:E,3,0),0)","v":0},{"v":141.32,"d":"€141.32"}]
["Auto",77510,45930,1,"Normal",{"v":1426.45,"d":"€1,426.45"},"A015",{"$f":"IFERROR(VLOOKUP(G8740,Discounts!C:E,3,0),0)","v":0},{"v":1426.45,"d":"€1,426.45"}]
["Auto",77530,45510,1,"Normal",{"v":309.09,"d":"€309.09"},"LUXE",{"$f":"IFERROR(VLOOKUP(G8749,Discounts!C:E,3,0),0)","v":0},{"v":309.09,"d":"€309.09"}]
["Auto",77560,31640,1,"Normal",{"v":141.32,"d":"€141.32"},"LUXE",{"$f":"IFERROR(VLOOKUP(G8762,Discounts!C:E,3,0),0)","v":0},{"v":141.32,"d":"€141.32"}]
["Auto",77590,45730,1,"Normal",{"v":42.98,"d":"€42.98"},"LUXE",{"$f":"IFERROR(VLOOKUP(G8783,Discounts!C:E,3,0),0)","v":0},{"v":42.98,"d":"€42.98"}]
["Auto",77610,40520,1,"Normal",{"v":67.77,"d":"€67.77"},"SD/SG",{"$f":"IFERROR(VLOOKUP(G8792,Discounts!C:E,3,0),0)","v":0},{"v":67.77,"d":"€67.77"}]
["Auto",77630,40520,1,"Normal",{"v":67.77,"d":"€67.77"},"SD/SG",{"$f":"IFERROR(VLOOKUP(G8802,Discounts!C:E,3,0),0)","v":0},{"v":67.77,"d":"€67.77"}]
["Auto",77660,31920,1,"Normal",{"v":121.49,"d":"€121.49"},"SD/SG",{"$f":"IFERROR(VLOOKUP(G8815,Discounts!C:E,3,0),0)","v":0},{"v":121.49,"d":"€121.49"}]
["Auto",77690,32060,2,"Normal",{"v":242.98,"d":"€242.98"},"SD/SG",{"$f":"IFERROR(VLOOKUP(G8828,Discounts!C:E,3,0),0)","v":0},{"v":242.98,"d":"€242.98"}]
["Auto",77710,41440,2,"Normal",{"v":1119,"d":"€1,119.00"},"D010",{"$f":"IFERROR(VLOOKUP(G8837,Discounts!C:E,3,0),0)","v":0},{"v":1119,"d":"€1,119.00"}]
["Auto",77740,41450,2,"Normal",{"v":1262.8,"d":"€1,262.80"},"D010",{"$f":"IFERROR(VLOOKUP(G8849,Discounts!C:E,3,0),0)","v":0},{"v":1262.8,"d":"€1,262.80"}]
["Auto",77750,54300,1,"Normal",{"v":63.64,"d":"€63.64"},"LUXE",{"$f":"IFERROR(VLOOKUP(G8860,Discounts!C:E,3,0),0)","v":0},{"v":63.64,"d":"€63.64"}]
["Auto",77780,40410,1,"Normal",{"v":123.97,"d":"€123.97"},"O500",{"$f":"IFERROR(VLOOKUP(G8881,Discounts!C:E,3,0),0)","v":0},{"v":123.97,"d":"€123.97"}]
["Auto",77780,40740,1,"Normal",{"v":11.57,"d":"€11.57"},"LUXE",{"$f":"IFERROR(VLOOKUP(G8882,Discounts!C:E,3,0),0)","v":0},{"v":11.57,"d":"€11.57"}]
["Auto",77810,53400,1,"Normal",0,"LUXE",{"$f":"IFERROR(VLOOKUP(G8903,Discounts!C:E,3,0),0)","v":0},0]
["Auto",77890,53570,2,"Normal",{"v":77.68,"d":"€77.68"},"O505",{"$f":"IFERROR(VLOOKUP(G8911,Discounts!C:E,3,0),0)","v":0},{"v":77.68,"d":"€77.68"}]
["Auto",77970,40290,1,"Normal",{"v":22.31,"d":"€22.31"},"LUXE",{"$f":"IFERROR(VLOOKUP(G8926,Discounts!C:E,3,0),0)","v":0},{"v":22.31,"d":"€22.31"}]
["Auto",78010,44910,1,"Normal",{"v":100,"d":"€100.00"},"SD/SG",{"$f":"IFERROR(VLOOKUP(G8935,Discounts!C:E,3,0),0)","v":0},{"v":100,"d":"€100.00"}]
["Auto",78060,41450,1,"Normal",{"v":631.4,"d":"€631.40"},"D010",{"$f":"IFERROR(VLOOKUP(G8944,Discounts!C:E,3,0),0)","v":0},{"v":631.4,"d":"€631.40"}]
["Auto",78110,31470,1,"Normal",{"v":141.32,"d":"€141.32"},"LUXE",{"$f":"IFERROR(VLOOKUP(G8967,Discounts!C:E,3,0),0)","v":0},{"v":141.32,"d":"€141.32"}]
["Auto",78140,41600,1,"Normal",{"v":91.74,"d":"€91.74"},"LUXE",{"$f":"IFERROR(VLOOKUP(G8979,Discounts!C:E,3,0),0)","v":0},{"v":91.74,"d":"€91.74"}]
["Auto",78140,54210,1,"Combination",0,"",{"$f":"IFERROR(VLOOKUP(G8980,Discounts!C:E,3,0),0)","v":0},0]
["Auto",78230,31920,1,"Normal",{"v":121.49,"d":"€121.49"},"SD/SG",{"$f":"IFERROR(VLOOKUP(G9001,Discounts!C:E,3,0),0)","v":0},{"v":121.49,"d":"€121.49"}]
["Auto",78260,40450,1,"Normal",{"v":13.22,"d":"€13.22"},"SD/SG",{"$f":"IFERROR(VLOOKUP(G9014,Discounts!C:E,3,0),0)","v":0},{"v":13.22,"d":"€13.22"}]
["Auto",78290,40450,1,"Normal",{"v":13.22,"d":"€13.22"},"SD/SG",{"$f":"IFERROR(VLOOKUP(G9024,Discounts!C:E,3,0),0)","v":0},{"v":13.22,"d":"€13.22"}]
["Auto",78320,40450,1,"Normal",{"v":13.22,"d":"€13.22"},"SD/SG",{"$f":"IFERROR(VLOOKUP(G9033,Discounts!C:E,3,0),0)","v":0},{"v":13.22,"d":"€13.22"}]
["Auto",78360,40450,1,"Normal",{"v":13.22,"d":"€13.22"},"SD/SG",{"$f":"IFERROR(VLOOKUP(G9046,Discounts!C:E,3,0),0)","v":0},{"v":13.22,"d":"€13.22"}]
["Auto",78390,31920,1,"Normal",{"v":121.49,"d":"€121.49"},"SD/SG",{"$f":"IFERROR(VLOOKUP(G9055,Discounts!C:E,3,0),0)","v":0},{"v":121.49,"d":"€121.49"}]
["Auto",78440,40450,1,"Normal",{"v":13.22,"d":"€13.22"},"SD/SG",{"$f":"IFERROR(VLOOKUP(G9076,Discounts!C:E,3,0),0)","v":0},{"v":13.22,"d":"€13.22"}]
["Auto",78440,54970,1,"Normal",{"v":922.31,"d":"€922.31"},"E012",{"$f":"IFERROR(VLOOKUP(G9078,Discounts!C:E,3,0),0)","v":0},{"v":922.31,"d":"€922.31"}]
["Auto",78500,53570,2,"Normal",{"v":77.68,"d":"€77.68"},"O505",{"$f":"IFERROR(VLOOKUP(G9099,Discounts!C:E,3,0),0)","v":0},{"v":77.68,"d":"€77.68"}]
["Auto",78530,31920,1,"Normal",{"v":121.49,"d":"€121.49"},"SD/SG",{"$f":"IFERROR(VLOOKUP(G9108,Discounts!C:E,3,0),0)","v":0},{"v":121.49,"d":"€121.49"}]
["Auto",78550,55240,1,"Normal",{"v":470.25,"d":"€470.25"},"E016",{"$f":"IFERROR(VLOOKUP(G9119,Discounts!C:E,3,0),0)","v":0},{"v":470.25,"d":"€470.25"}]
["Auto",78590,55280,1,"Normal",{"v":619.83,"d":"€619.83"},"E013",{"$f":"IFERROR(VLOOKUP(G9131,Discounts!C:E,3,0),0)","v":0},{"v":619.83,"d":"€619.83"}]
["Auto",78920,24650,2,"Normal",{"v":1137.2,"d":"€1,137.20"},"P106",{"$f":"IFERROR(VLOOKUP(G9144,Discounts!C:E,3,0),0)","v":0},{"v":1137.2,"d":"€1,137.20"}]
["Auto",88730,32060,2,"Normal",{"v":242.98,"d":"€242.98"},"SD/SG",{"$f":"IFERROR(VLOOKUP(G9153,Discounts!C:E,3,0),0)","v":0},{"v":242.98,"d":"€242.98"}]
["Auto",89030,32060,2,"Normal",{"v":242.98,"d":"€242.98"},"SD/SG",{"$f":"IFERROR(VLOOKUP(G9174,Discounts!C:E,3,0),0)","v":0},{"v":242.98,"d":"€242.98"}]
["Auto",89050,53560,2,"Combination",{"v":762,"d":"€762.00"},"SD/SG",{"$f":"IFERROR(VLOOKUP(G9181,Discounts!C:E,3,0),0)","v":0},{"v":762,"d":"€762.00"}]
["Auto",100440,29720,2,"Normal",{"v":183.48,"d":"€183.48"},"LUXE",{"$f":"IFERROR(VLOOKUP(G9197,Discounts!C:E,3,0),0)","v":0},{"v":183.48,"d":"€183.48"}]
["Auto",100460,29720,2,"Normal",{"v":183.48,"d":"€183.48"},"LUXE",{"$f":"IFERROR(VLOOKUP(G9206,Discounts!C:E,3,0),0)","v":0},{"v":183.48,"d":"€183.48"}]
["Auto",100490,30110,2,"Normal",{"v":4957.02,"d":"€4,957.02"},"A010",{"$f":"IFERROR(VLOOKUP(G9219,Discounts!C:E,3,0),0)","v":0},{"$f":"IF(E9219=\"Normal\",F9219*(1-H9219),SUMIF(B:B,C9219,I:I)*D9219)","v":{"v":4957.02,"d":"€4,957.02"}}]
["Auto",100520,29720,2,"Normal",{"v":183.48,"d":"€183.48"},"LUXE",{"$f":"IFERROR(VLOOKUP(G9228,Discounts!C:E,3,0),0)","v":0},{"v":183.48,"d":"€183.48"}]
["Auto",100560,29910,2,"Normal",{"v":1254.54,"d":"€1,254.54"},"P105",{"$f":"IFERROR(VLOOKUP(G9242,Discounts!C:E,3,0),0)","v":0},{"v":1254.54,"d":"€1,254.54"}]
["Auto",100580,31470,2,"Normal",{"v":282.64,"d":"€282.64"},"LUXE",{"$f":"IFERROR(VLOOKUP(G9251,Discounts!C:E,3,0),0)","v":0},{"v":282.64,"d":"€282.64"}]
["Auto",100650,30370,2,"Normal",{"v":864.46,"d":"€864.46"},"O505",{"$f":"IFERROR(VLOOKUP(G9272,Discounts!C:E,3,0),0)","v":0},{"v":864.46,"d":"€864.46"}]
["Auto",100650,31470,2,"Normal",{"v":282.64,"d":"€282.64"},"LUXE",{"$f":"IFERROR(VLOOKUP(G9273,Discounts!C:E,3,0),0)","v":0},{"v":282.64,"d":"€282.64"}]
["Auto",100700,29710,2,"Normal",{"v":85.96,"d":"€85.96"},"LUXE",{"$f":"IFERROR(VLOOKUP(G9290,Discounts!C:E,3,0),0)","v":0},{"v":85.96,"d":"€85.96"}]
["Auto",100760,1540,2,"Normal",{"v":3651.24,"d":"€3,651.24"},"A010",{"$f":"IFERROR(VLOOKUP(G9308,Discounts!C:E,3,0),0)","v":0},{"v":3651.24,"d":"€3,651.24"}]
["Auto",100780,29710,2,"Normal",{"v":85.96,"d":"€85.96"},"LUXE",{"$f":"IFERROR(VLOOKUP(G9317,Discounts!C:E,3,0),0)","v":0},{"v":85.96,"d":"€85.96"}]
["Auto",100810,29710,2,"Normal",{"v":85.96,"d":"€85.96"},"LUXE",{"$f":"IFERROR(VLOOKUP(G9326,Discounts!C:E,3,0),0)","v":0},{"v":85.96,"d":"€85.96"}]
["Auto",100880,1780,2,"Normal",0,"A010",{"$f":"IFERROR(VLOOKUP(G9346,Discounts!C:E,3,0),0)","v":0},0]
["Auto",100890,1800,2,"Normal",{"v":2945.46,"d":"€2,945.46"},"A010",{"$f":"IFERROR(VLOOKUP(G9349,Discounts!C:E,3,0),0)","v":0},{"v":2945.46,"d":"€2,945.46"}]
["Auto",100940,31470,2,"Normal",{"v":282.64,"d":"€282.64"},"LUXE",{"$f":"IFERROR(VLOOKUP(G9370,Discounts!C:E,3,0),0)","v":0},{"v":282.64,"d":"€282.64"}]
["Auto",100940,53350,2,"Normal",{"v":398.34,"d":"€398.34"},"LUXE",{"$f":"IFERROR(VLOOKUP(G9371,Discounts!C:E,3,0),0)","v":0},{"v":398.34,"d":"€398.34"}]
["Auto",101010,31470,2,"Normal",{"v":282.64,"d":"€282.64"},"LUXE",{"$f":"IFERROR(VLOOKUP(G9392,Discounts!C:E,3,0),0)","v":0},{"v":282.64,"d":"€282.64"}]
["Auto",101020,30460,2,"Normal",{"v":2677.68,"d":"€2,677.68"},"P106",{"$f":"IFERROR(VLOOKUP(G9395,Discounts!C:E,3,0),0)","v":0},{"v":2677.68,"d":"€2,677.68"}]
["Auto",101090,29710,2,"Normal",{"v":85.96,"d":"€85.96"},"LUXE",{"$f":"IFERROR(VLOOKUP(G9415,Discounts!C:E,3,0),0)","v":0},{"v":85.96,"d":"€85.96"}]
["Auto",101110,31470,2,"Normal",{"v":282.64,"d":"€282.64"},"LUXE",{"$f":"IFERROR(VLOOKUP(G9424,Discounts!C:E,3,0),0)","v":0},{"v":282.64,"d":"€282.64"}]
["Auto",101160,2280,2,"Normal",{"v":2552.06,"d":"€2,552.06"},"A010",{"$f":"IFERROR(VLOOKUP(G9437,Discounts!C:E,3,0),0)","v":0},{"v":2552.06,"d":"€2,552.06"}]
["Auto",101220,2380,2,"Normal",0,"A010",{"$f":"IFERROR(VLOOKUP(G9455,Discounts!C:E,3,0),0)","v":0},0]
["Auto",101260,29710,2,"Normal",{"v":85.96,"d":"€85.96"},"LUXE",{"$f":"IFERROR(VLOOKUP(G9468,Discounts!C:E,3,0),0)","v":0},{"v":85.96,"d":"€85.96"}]
["Auto",101260,31470,2,"Normal",{"v":282.64,"d":"€282.64"},"LUXE",{"$f":"IFERROR(VLOOKUP(G9469,Discounts!C:E,3,0),0)","v":0},{"v":282.64,"d":"€282.64"}]
["Auto",101330,31470,2,"Normal",{"v":282.64,"d":"€282.64"},"LUXE",{"$f":"IFERROR(VLOOKUP(G9490,Discounts!C:E,3,0),0)","v":0},{"v":282.64,"d":"€282.64"}]
["Auto",101380,3180,2,"Normal",{"v":3365.28,"d":"€3,365.28"},"A010",{"$f":"IFERROR(VLOOKUP(G9503,Discounts!C:E,3,0),0)","v":0},{"v":3365.28,"d":"€3,365.28"}]
["Auto",101420,31470,2,"Normal",{"v":282.64,"d":"€282.64"},"LUXE",{"$f":"IFERROR(VLOOKUP(G9517,Discounts!C:E,3,0),0)","v":0},{"v":282.64,"d":"€282.64"}]
["Auto",101440,3320,2,"Normal",0,"A010",{"$f":"IFERROR(VLOOKUP(G9522,Discounts!C:E,3,0),0)","v":0},0]
["Auto",101480,3400,2,"Normal",0,"A010",{"$f":"IFERROR(VLOOKUP(G9535,Discounts!C:E,3,0),0)","v":0},0]
["Auto",101500,30500,10,"Normal",{"v":1115.7,"d":"€1,115.70"},"O115",{"$f":"IFERROR(VLOOKUP(G9544,Discounts!C:E,3,0),0)","v":0},{"v":1115.7,"d":"€1,115.70"}]
["Auto",101540,31470,2,"Normal",{"v":282.64,"d":"€282.64"},"LUXE",{"$f":"IFERROR(VLOOKUP(G9560,Discounts!C:E,3,0),0)","v":0},{"v":282.64,"d":"€282.64"}]
["Auto",101560,29710,2,"Normal",{"v":85.96,"d":"€85.96"},"LUXE",{"$f":"IFERROR(VLOOKUP(G9567,Discounts!C:E,3,0),0)","v":0},{"v":85.96,"d":"€85.96"}]
["Auto",101610,31470,2,"Normal",{"v":282.64,"d":"€282.64"},"LUXE",{"$f":"IFERROR(VLOOKUP(G9588,Discounts!C:E,3,0),0)","v":0},{"v":282.64,"d":"€282.64"}]
["Auto",101640,45730,2,"Normal",{"v":85.96,"d":"€85.96"},"LUXE",{"$f":"IFERROR(VLOOKUP(G9601,Discounts!C:E,3,0),0)","v":0},{"v":85.96,"d":"€85.96"}]
["Auto",101670,2920,2,"Normal",0,"A010",{"$f":"IFERROR(VLOOKUP(G9610,Discounts!C:E,3,0),0)","v":0},0]
["Auto",101710,3000,2,"Normal",{"v":3461.16,"d":"€3,461.16"},"A010",{"$f":"IFERROR(VLOOKUP(G9626,Discounts!C:E,3,0),0)","v":0},{"v":3461.16,"d":"€3,461.16"}]
["Auto",101720,45730,2,"Normal",{"v":85.96,"d":"€85.96"},"LUXE",{"$f":"IFERROR(VLOOKUP(G9633,Discounts!C:E,3,0),0)","v":0},{"v":85.96,"d":"€85.96"}]
["Auto",101750,3080,2,"Normal",0,"A010",{"$f":"IFERROR(VLOOKUP(G9642,Discounts!C:E,3,0),0)","v":0},0]
["Auto",101780,29710,2,"Normal",{"v":85.96,"d":"€85.96"},"LUXE",{"$f":"IFERROR(VLOOKUP(G9655,Discounts!C:E,3,0),0)","v":0},{"v":85.96,"d":"€85.96"}]
["Auto",101820,3600,2,"Normal",0,"A010",{"$f":"IFERROR(VLOOKUP(G9669,Discounts!C:E,3,0),0)","v":0},0]
["Auto",101860,29710,2,"Normal",{"v":85.96,"d":"€85.96"},"LUXE",{"$f":"IFERROR(VLOOKUP(G9686,Discounts!C:E,3,0),0)","v":0},{"v":85.96,"d":"€85.96"}]
["Auto",101890,31470,2,"Normal",{"v":282.64,"d":"€282.64"},"LUXE",{"$f":"IFERROR(VLOOKUP(G9699,Discounts!C:E,3,0),0)","v":0},{"v":282.64,"d":"€282.64"}]
["Auto",101910,31640,2,"Normal",{"v":282.64,"d":"€282.64"},"LUXE",{"$f":"IFERROR(VLOOKUP(G9708,Discounts!C:E,3,0),0)","v":0},{"v":282.64,"d":"€282.64"}]
["Auto",101950,3840,2,"Normal",0,"A010",{"$f":"IFERROR(VLOOKUP(G9721,Discounts!C:E,3,0),0)","v":0},0]
["Auto",101970,31470,2,"Normal",{"v":282.64,"d":"€282.64"},"LUXE",{"$f":"IFERROR(VLOOKUP(G9731,Discounts!C:E,3,0),0)","v":0},{"$f":"IF(E9731=\"Normal\",F9731*(1-H9731),SUMIF(B:B,C9731,I:I)*D9731)","v":{"v":282.64,"d":"€282.64"}}]
["Auto",101990,45730,2,"Normal",{"v":85.96,"d":"€85.96"},"LUXE",{"$f":"IFERROR(VLOOKUP(G9740,Discounts!C:E,3,0),0)","v":0},{"v":85.96,"d":"€85.96"}]
["Auto",102030,29710,2,"Normal",{"v":85.96,"d":"€85.96"},"LUXE",{"$f":"IFERROR(VLOOKUP(G9753,Discounts!C:E,3,0),0)","v":0},{"v":85.96,"d":"€85.96"}]
["Auto",102050,31470,2,"Normal",{"v":282.64,"d":"€282.64"},"LUXE",{"$f":"IFERROR(VLOOKUP(G9762,Discounts!C:E,3,0),0)","v":0},{"v":282.64,"d":"€282.64"}]
["Auto",102090,31470,2,"Normal",{"v":282.64,"d":"€282.64"},"LUXE",{"$f":"IFERROR(VLOOKUP(G9778,Discounts!C:E,3,0),0)","v":0},{"v":282.64,"d":"€282.64"}]
["Auto",102140,29710,2,"Normal",{"v":85.96,"d":"€85.96"},"LUXE",{"$f":"IFERROR(VLOOKUP(G9797,Discounts!C:E,3,0),0)","v":0},{"v":85.96,"d":"€85.96"}]
["Auto",102160,31470,2,"Normal",{"v":282.64,"d":"€282.64"},"LUXE",{"$f":"IFERROR(VLOOKUP(G9806,Discounts!C:E,3,0),0)","v":0},{"v":282.64,"d":"€282.64"}]
["Auto",102190,45730,2,"Normal",{"v":85.96,"d":"€85.96"},"LUXE",{"$f":"IFERROR(VLOOKUP(G9819,Discounts!C:E,3,0),0)","v":0},{"v":85.96,"d":"€85.96"}]
["Auto",102220,4360,2,"Normal",0,"A010",{"$f":"IFERROR(VLOOKUP(G9828,Discounts!C:E,3,0),0)","v":0},0]
["Auto",102250,29710,2,"Normal",{"v":85.96,"d":"€85.96"},"LUXE",{"$f":"IFERROR(VLOOKUP(G9840,Discounts!C:E,3,0),0)","v":0},{"v":85.96,"d":"€85.96"}]
["Auto",102280,4460,2,"Normal",0,"A010",{"$f":"IFERROR(VLOOKUP(G9851,Discounts!C:E,3,0),0)","v":0},0]
["Auto",102300,31470,2,"Normal",{"v":282.64,"d":"€282.64"},"LUXE",{"$f":"IFERROR(VLOOKUP(G9860,Discounts!C:E,3,0),0)","v":0},{"v":282.64,"d":"€282.64"}]
["Auto",102370,29710,2,"Normal",{"v":85.96,"d":"€85.96"},"LUXE",{"$f":"IFERROR(VLOOKUP(G9881,Discounts!C:E,3,0),0)","v":0},{"v":85.96,"d":"€85.96"}]
["Auto",102420,1040,2,"Normal",0,"A010",{"$f":"IFERROR(VLOOKUP(G9896,Discounts!C:E,3,0),0)","v":0},0]
["Auto",102440,31470,2,"Normal",{"v":282.64,"d":"€282.64"},"LUXE",{"$f":"IFERROR(VLOOKUP(G9904,Discounts!C:E,3,0),0)","v":0},{"v":282.64,"d":"€282.64"}]
["Auto",102510,31470,2,"Normal",{"v":282.64,"d":"€282.64"},"LUXE",{"$f":"IFERROR(VLOOKUP(G9917,Discounts!C:E,3,0),0)","v":0},{"v":282.64,"d":"€282.64"}]
["Auto",102540,29740,2,"Normal",{"v":1826.44,"d":"€1,826.44"},"LUXE",{"$f":"IFERROR(VLOOKUP(G9926,Discounts!C:E,3,0),0)","v":0},{"v":1826.44,"d":"€1,826.44"}]
["Auto",102570,25010,2,"Normal",{"v":2634.72,"d":"€2,634.72"},"A055",{"$f":"IFERROR(VLOOKUP(G9935,Discounts!C:E,3,0),0)","v":0},{"v":2634.72,"d":"€2,634.72"}]
["Auto",102590,31640,2,"Normal",{"v":282.64,"d":"€282.64"},"LUXE",{"$f":"IFERROR(VLOOKUP(G9945,Discounts!C:E,3,0),0)","v":0},{"v":282.64,"d":"€282.64"}]
["Auto",102650,29710,2,"Normal",{"v":85.96,"d":"€85.96"},"LUXE",{"$f":"IFERROR(VLOOKUP(G9958,Discounts!C:E,3,0),0)","v":0},{"v":85.96,"d":"€85.96"}]
["Auto",102680,29740,2,"Normal",{"v":1826.44,"d":"€1,826.44"},"LUXE",{"$f":"IFERROR(VLOOKUP(G9971,Discounts!C:E,3,0),0)","v":0},{"v":1826.44,"d":"€1,826.44"}]
["Auto",102730,31470,2,"Normal",{"v":282.64,"d":"€282.64"},"LUXE",{"$f":"IFERROR(VLOOKUP(G9992,Discounts!C:E,3,0),0)","v":0},{"v":282.64,"d":"€282.64"}]
["Auto",102770,31470,2,"Normal",{"v":282.64,"d":"€282.64"},"LUXE",{"$f":"IFERROR(VLOOKUP(G10005,Discounts!C:E,3,0),0)","v":0},{"v":282.64,"d":"€282.64"}]
["Auto",102800,31470,2,"Normal",{"v":282.64,"d":"€282.64"},"LUXE",{"$f":"IFERROR(VLOOKUP(G10015,Discounts!C:E,3,0),0)","v":0},{"v":282.64,"d":"€282.64"}]
["Auto",102820,42770,2,"Normal",{"v":1938.84,"d":"€1,938.84"},"A050",{"$f":"IFERROR(VLOOKUP(G10024,Discounts!C:E,3,0),0)","v":0},{"v":1938.84,"d":"€1,938.84"}]
["Auto",102850,42800,2,"Normal",{"v":2571.9,"d":"€2,571.90"},"A050",{"$f":"IFERROR(VLOOKUP(G10033,Discounts!C:E,3,0),0)","v":0},{"v":2571.9,"d":"€2,571.90"}]
["Auto",102900,31470,2,"Normal",{"v":282.64,"d":"€282.64"},"LUXE",{"$f":"IFERROR(VLOOKUP(G10046,Discounts!C:E,3,0),0)","v":0},{"v":282.64,"d":"€282.64"}]
["Auto",102970,29590,2,"Normal",0,"A010",{"$f":"IFERROR(VLOOKUP(G10067,Discounts!C:E,3,0),0)","v":0},0]
["Auto",102970,31470,2,"Normal",{"v":282.64,"d":"€282.64"},"LUXE",{"$f":"IFERROR(VLOOKUP(G10069,Discounts!C:E,3,0),0)","v":0},{"v":282.64,"d":"€282.64"}]
["Auto",103020,54920,2,"Normal",{"v":1343.8,"d":"€1,343.80"},"E016",{"$f":"IFERROR(VLOOKUP(G10090,Discounts!C:E,3,0),0)","v":0},{"v":1343.8,"d":"€1,343.80"}]
["Auto",103120,31920,1,"Normal",{"v":121.49,"d":"€121.49"},"SD/SG",{"$f":"IFERROR(VLOOKUP(G10099,Discounts!C:E,3,0),0)","v":0},{"v":121.49,"d":"€121.49"}]
["Auto",103140,34010,1,"Normal",{"v":160.33,"d":"€160.33"},"SD/SG",{"$f":"IFERROR(VLOOKUP(G10110,Discounts!C:E,3,0),0)","v":0},{"v":160.33,"d":"€160.33"}]
["Auto",103160,40520,1,"Normal",{"v":67.77,"d":"€67.77"},"SD/SG",{"$f":"IFERROR(VLOOKUP(G10122,Discounts!C:E,3,0),0)","v":0},{"v":67.77,"d":"€67.77"}]
["Auto",103190,33990,1,"Normal",{"v":106.61,"d":"€106.61"},"SD/SG",{"$f":"IFERROR(VLOOKUP(G10135,Discounts!C:E,3,0),0)","v":0},{"v":106.61,"d":"€106.61"}]
["Auto",103210,31920,2,"Normal",{"v":242.98,"d":"€242.98"},"SD/SG",{"$f":"IFERROR(VLOOKUP(G10144,Discounts!C:E,3,0),0)","v":0},{"v":242.98,"d":"€242.98"}]
["Auto",103240,31640,2,"Normal",{"v":282.64,"d":"€282.64"},"LUXE",{"$f":"IFERROR(VLOOKUP(G10153,Discounts!C:E,3,0),0)","v":0},{"v":282.64,"d":"€282.64"}]
["Auto",103290,40520,2,"Normal",{"v":135.54,"d":"€135.54"},"SD/SG",{"$f":"IFERROR(VLOOKUP(G10172,Discounts!C:E,3,0),0)","v":0},{"v":135.54,"d":"€135.54"}]
["Auto",103360,18070,2,"Combination",{"v":1062.82,"d":"€1,062.82"},"E055",{"$f":"IFERROR(VLOOKUP(G10188,Discounts!C:E,3,0),0)","v":0},{"v":1062.82,"d":"€1,062.82"}]
["Auto",103380,40520,2,"Normal",{"v":135.54,"d":"€135.54"},"SD/SG",{"$f":"IFERROR(VLOOKUP(G10197,Discounts!C:E,3,0),0)","v":0},{"v":135.54,"d":"€135.54"}]
["Auto",103410,34010,2,"Normal",{"v":320.66,"d":"€320.66"},"SD/SG",{"$f":"IFERROR(VLOOKUP(G10210,Discounts!C:E,3,0),0)","v":0},{"v":320.66,"d":"€320.66"}]
["Auto",103430,31920,2,"Normal",{"v":242.98,"d":"€242.98"},"SD/SG",{"$f":"IFERROR(VLOOKUP(G10219,Discounts!C:E,3,0),0)","v":0},{"v":242.98,"d":"€242.98"}]
["Auto",103450,114630,1,"Normal",{"v":482.64,"d":"€482.64"},"E016",{"$f":"IFERROR(VLOOKUP(G10233,Discounts!C:E,3,0),0)","v":0},{"v":482.64,"d":"€482.64"}]
["Auto",103500,21240,2,"Normal",{"v":1185.12,"d":"€1,185.12"},"C010",{"$f":"IFERROR(VLOOKUP(G10242,Discounts!C:E,3,0),0)","v":0},{"v":1185.12,"d":"€1,185.12"}]
["Auto",103540,137810,2,"Normal",{"v":242.98,"d":"€242.98"},"LUXE",{"$f":"IFERROR(VLOOKUP(G10251,Discounts!C:E,3,0),0)","v":0},{"v":242.98,"d":"€242.98"}]
["Auto",104750,161860,0.2,"Normal",{"v":38.512,"d":"€38.51"},"P109",{"$f":"IFERROR(VLOOKUP(G10264,Discounts!C:E,3,0),0)","v":0},{"v":38.512,"d":"€38.51"}]
["Auto",106410,103670,1,"Normal",{"v":406.61,"d":"€406.61"},"B055",{"$f":"IFERROR(VLOOKUP(G10281,Discounts!C:E,3,0),0)","v":0},{"v":406.61,"d":"€406.61"}]
["Auto",106480,103740,1,"Normal",{"v":441.32,"d":"€441.32"},"B055",{"$f":"IFERROR(VLOOKUP(G10295,Discounts!C:E,3,0),0)","v":0},{"v":441.32,"d":"€441.32"}]
["Auto",106540,106730,1,"Normal",{"v":12.4,"d":"€12.40"},"LUXE",{"$f":"IFERROR(VLOOKUP(G10308,Discounts!C:E,3,0),0)","v":0},{"v":12.4,"d":"€12.40"}]
["Auto",106590,106300,1,"Normal",{"v":844.63,"d":"€844.63"},"B055",{"$f":"IFERROR(VLOOKUP(G10317,Discounts!C:E,3,0),0)","v":0},{"v":844.63,"d":"€844.63"}]
["Auto",107200,161910,0.2,"Normal",{"v":61.818,"d":"€61.82"},"P109",{"$f":"IFERROR(VLOOKUP(G10324,Discounts!C:E,3,0),0)","v":0},{"v":61.818,"d":"€61.82"}]
["Auto",107460,103880,1,"Normal",{"v":627.27,"d":"€627.27"},"B015",{"$f":"IFERROR(VLOOKUP(G10340,Discounts!C:E,3,0),0)","v":0},{"v":627.27,"d":"€627.27"}]
["Auto",107500,106730,1,"Normal",{"v":12.4,"d":"€12.40"},"LUXE",{"$f":"IFERROR(VLOOKUP(G10349,Discounts!C:E,3,0),0)","v":0},{"v":12.4,"d":"€12.40"}]
["Auto",107570,103990,1,"Normal",{"v":419.83,"d":"€419.83"},"B015",{"$f":"IFERROR(VLOOKUP(G10362,Discounts!C:E,3,0),0)","v":0},{"v":419.83,"d":"€419.83"}]
["Auto",107670,106730,1,"Normal",{"v":12.4,"d":"€12.40"},"LUXE",{"$f":"IFERROR(VLOOKUP(G10383,Discounts!C:E,3,0),0)","v":0},{"v":12.4,"d":"€12.40"}]
["Auto",107690,104110,1,"Normal",{"v":489.26,"d":"€489.26"},"B015",{"$f":"IFERROR(VLOOKUP(G10386,Discounts!C:E,3,0),0)","v":0},{"v":489.26,"d":"€489.26"}]
["Auto",107790,104210,1,"Normal",{"v":419.83,"d":"€419.83"},"B015",{"$f":"IFERROR(VLOOKUP(G10406,Discounts!C:E,3,0),0)","v":0},{"v":419.83,"d":"€419.83"}]
["Auto",107830,106730,1,"Normal",{"v":12.4,"d":"€12.40"},"LUXE",{"$f":"IFERROR(VLOOKUP(G10415,Discounts!C:E,3,0),0)","v":0},{"v":12.4,"d":"€12.40"}]
["Auto",107900,106730,1,"Normal",{"v":12.4,"d":"€12.40"},"LUXE",{"$f":"IFERROR(VLOOKUP(G10428,Discounts!C:E,3,0),0)","v":0},{"v":12.4,"d":"€12.40"}]
["Auto",107990,106730,1,"Normal",{"v":12.4,"d":"€12.40"},"LUXE",{"$f":"IFERROR(VLOOKUP(G10446,Discounts!C:E,3,0),0)","v":0},{"v":12.4,"d":"€12.40"}]
["Auto",107990,106990,1,"Normal",{"v":604.96,"d":"€604.96"},"B015",{"$f":"IFERROR(VLOOKUP(G10447,Discounts!C:E,3,0),0)","v":0},{"v":604.96,"d":"€604.96"}]
["Auto",108440,104860,0.25,"Normal",{"v":98.14,"d":"€98.14"},"P109",{"$f":"IFERROR(VLOOKUP(G10460,Discounts!C:E,3,0),0)","v":0},{"v":98.14,"d":"€98.14"}]
["Auto",109510,106730,1,"Normal",{"v":12.4,"d":"€12.40"},"LUXE",{"$f":"IFERROR(VLOOKUP(G10481,Discounts!C:E,3,0),0)","v":0},{"v":12.4,"d":"€12.40"}]
["Auto",109630,109620,1,"Normal",{"v":479.34,"d":"€479.34"},"B015",{"$f":"IFERROR(VLOOKUP(G10494,Discounts!C:E,3,0),0)","v":0},{"v":479.34,"d":"€479.34"}]
["Auto",109650,106730,1,"Normal",{"v":12.4,"d":"€12.40"},"LUXE",{"$f":"IFERROR(VLOOKUP(G10495,Discounts!C:E,3,0),0)","v":0},{"v":12.4,"d":"€12.40"}]
["Auto",110860,104630,1,"Normal",{"v":192.56,"d":"€192.56"},"P109",{"$f":"IFERROR(VLOOKUP(G10513,Discounts!C:E,3,0),0)","v":0},{"v":192.56,"d":"€192.56"}]
["Auto",110920,105740,1,"Normal",{"v":95.93,"d":"€95.93"},"LUXE",{"$f":"IFERROR(VLOOKUP(G10526,Discounts!C:E,3,0),0)","v":0},{"v":95.93,"d":"€95.93"}]
["Auto",110970,104640,1,"Normal",{"v":309.09,"d":"€309.09"},"P109",{"$f":"IFERROR(VLOOKUP(G10535,Discounts!C:E,3,0),0)","v":0},{"v":309.09,"d":"€309.09"}]
["Auto",111070,105120,1,"Normal",{"v":103.31,"d":"€103.31"},"P109",{"$f":"IFERROR(VLOOKUP(G10555,Discounts!C:E,3,0),0)","v":0},{"v":103.31,"d":"€103.31"}]
["Auto",111080,105680,1,"Normal",{"v":56.8,"d":"€56.80"},"LUXE",{"$f":"IFERROR(VLOOKUP(G10558,Discounts!C:E,3,0),0)","v":0},{"v":56.8,"d":"€56.80"}]
["Auto",111190,104610,1,"Normal",{"v":309.09,"d":"€309.09"},"P109",{"$f":"IFERROR(VLOOKUP(G10579,Discounts!C:E,3,0),0)","v":0},{"v":309.09,"d":"€309.09"}]
["Auto",111250,105680,1,"Normal",{"v":56.8,"d":"€56.80"},"LUXE",{"$f":"IFERROR(VLOOKUP(G10592,Discounts!C:E,3,0),0)","v":0},{"v":56.8,"d":"€56.80"}]
["Auto",111300,104620,1,"Normal",{"v":392.56,"d":"€392.56"},"P109",{"$f":"IFERROR(VLOOKUP(G10601,Discounts!C:E,3,0),0)","v":0},{"v":392.56,"d":"€392.56"}]
["Auto",111380,104840,0.25,"Normal",{"v":48.14,"d":"€48.14"},"P109",{"$f":"IFERROR(VLOOKUP(G10617,Discounts!C:E,3,0),0)","v":0},{"v":48.14,"d":"€48.14"}]
["Auto",111410,105700,1,"Normal",{"v":67.98,"d":"€67.98"},"LUXE",{"$f":"IFERROR(VLOOKUP(G10624,Discounts!C:E,3,0),0)","v":0},{"v":67.98,"d":"€67.98"}]
["Auto",111460,105750,1,"Normal",{"v":101.52,"d":"€101.52"},"LUXE",{"$f":"IFERROR(VLOOKUP(G10633,Discounts!C:E,3,0),0)","v":0},{"v":101.52,"d":"€101.52"}]
["Auto",111520,105680,1,"Normal",{"v":56.8,"d":"€56.80"},"LUXE",{"$f":"IFERROR(VLOOKUP(G10646,Discounts!C:E,3,0),0)","v":0},{"v":56.8,"d":"€56.80"}]
["Auto",111570,104640,1,"Normal",{"v":309.09,"d":"€309.09"},"P109",{"$f":"IFERROR(VLOOKUP(G10660,Discounts!C:E,3,0),0)","v":0},{"v":309.09,"d":"€309.09"}]
["Auto",111630,104630,1,"Normal",{"v":192.56,"d":"€192.56"},"P109",{"$f":"IFERROR(VLOOKUP(G10677,Discounts!C:E,3,0),0)","v":0},{"v":192.56,"d":"€192.56"}]
["Auto",111670,105680,1,"Normal",{"v":56.8,"d":"€56.80"},"LUXE",{"$f":"IFERROR(VLOOKUP(G10690,Discounts!C:E,3,0),0)","v":0},{"v":56.8,"d":"€56.80"}]
["Auto",111700,104710,1,"Normal",{"v":192.56,"d":"€192.56"},"P109",{"$f":"IFERROR(VLOOKUP(G10699,Discounts!C:E,3,0),0)","v":0},{"v":192.56,"d":"€192.56"}]
["Auto",111730,105690,1,"Normal",{"v":62.39,"d":"€62.39"},"LUXE",{"$f":"IFERROR(VLOOKUP(G10708,Discounts!C:E,3,0),0)","v":0},{"v":62.39,"d":"€62.39"}]
["Auto",111780,105710,1,"Normal",{"v":73.57,"d":"€73.57"},"LUXE",{"$f":"IFERROR(VLOOKUP(G10722,Discounts!C:E,3,0),0)","v":0},{"v":73.57,"d":"€73.57"}]
["Auto",111810,105720,1,"Normal",{"v":79.16,"d":"€79.16"},"LUXE",{"$f":"IFERROR(VLOOKUP(G10731,Discounts!C:E,3,0),0)","v":0},{"v":79.16,"d":"€79.16"}]
["Auto",111850,107880,1,"Combination",{"v":557.85,"d":"€557.85"},"B015",{"$f":"IFERROR(VLOOKUP(G10744,Discounts!C:E,3,0),0)","v":0},{"v":557.85,"d":"€557.85"}]
["Auto",111880,106890,1,"Normal",{"v":598.35,"d":"€598.35"},"B015",{"$f":"IFERROR(VLOOKUP(G10753,Discounts!C:E,3,0),0)","v":0},{"v":598.35,"d":"€598.35"}]
["Auto",111930,107440,1,"Combination",{"v":559.51,"d":"€559.51"},"B015",{"$f":"IFERROR(VLOOKUP(G10769,Discounts!C:E,3,0),0)","v":0},{"v":559.51,"d":"€559.51"}]
["Auto",112000,103880,1,"Normal",{"v":627.27,"d":"€627.27"},"B015",{"$f":"IFERROR(VLOOKUP(G10788,Discounts!C:E,3,0),0)","v":0},{"v":627.27,"d":"€627.27"}]
["Auto",112030,105700,1,"Normal",{"v":67.98,"d":"€67.98"},"LUXE",{"$f":"IFERROR(VLOOKUP(G10797,Discounts!C:E,3,0),0)","v":0},{"v":67.98,"d":"€67.98"}]
["Auto",112070,105730,1,"Normal",{"v":84.75,"d":"€84.75"},"LUXE",{"$f":"IFERROR(VLOOKUP(G10810,Discounts!C:E,3,0),0)","v":0},{"v":84.75,"d":"€84.75"}]
["Auto",112120,105720,1,"Normal",{"v":79.16,"d":"€79.16"},"LUXE",{"$f":"IFERROR(VLOOKUP(G10825,Discounts!C:E,3,0),0)","v":0},{"v":79.16,"d":"€79.16"}]
["Auto",112130,161870,1,"Normal",{"v":309.09,"d":"€309.09"},"P109",{"$f":"IFERROR(VLOOKUP(G10829,Discounts!C:E,3,0),0)","v":0},{"v":309.09,"d":"€309.09"}]
["Auto",112180,103920,1,"Normal",{"v":402.48,"d":"€402.48"},"B015",{"$f":"IFERROR(VLOOKUP(G10842,Discounts!C:E,3,0),0)","v":0},{"v":402.48,"d":"€402.48"}]
["Auto",112210,105720,1,"Normal",{"v":79.16,"d":"€79.16"},"LUXE",{"$f":"IFERROR(VLOOKUP(G10851,Discounts!C:E,3,0),0)","v":0},{"v":79.16,"d":"€79.16"}]
["Auto",112280,103950,1,"Normal",{"v":417.36,"d":"€417.36"},"B015",{"$f":"IFERROR(VLOOKUP(G10872,Discounts!C:E,3,0),0)","v":0},{"v":417.36,"d":"€417.36"}]
["Auto",112280,132820,1,"Normal",{"v":309.09,"d":"€309.09"},"P109",{"$f":"IFERROR(VLOOKUP(G10874,Discounts!C:E,3,0),0)","v":0},{"v":309.09,"d":"€309.09"}]
["Auto",112350,107530,1,"Combination",{"v":429.76,"d":"€429.76"},"B015",{"$f":"IFERROR(VLOOKUP(G10895,Discounts!C:E,3,0),0)","v":0},{"v":429.76,"d":"€429.76"}]
["Auto",112400,105700,1,"Normal",{"v":67.98,"d":"€67.98"},"LUXE",{"$f":"IFERROR(VLOOKUP(G10908,Discounts!C:E,3,0),0)","v":0},{"v":67.98,"d":"€67.98"}]
["Auto",112430,105700,1,"Normal",{"v":67.98,"d":"€67.98"},"LUXE",{"$f":"IFERROR(VLOOKUP(G10917,Discounts!C:E,3,0),0)","v":0},{"v":67.98,"d":"€67.98"}]
["Auto",112480,107090,1,"Normal",{"v":309.09,"d":"€309.09"},"P109",{"$f":"IFERROR(VLOOKUP(G10934,Discounts!C:E,3,0),0)","v":0},{"v":309.09,"d":"€309.09"}]
["Auto",112500,107100,1,"Normal",{"v":96.69,"d":"€96.69"},"P109",{"$f":"IFERROR(VLOOKUP(G10940,Discounts!C:E,3,0),0)","v":0},{"v":96.69,"d":"€96.69"}]
["Auto",112530,107950,1,"Combination",{"v":574.38,"d":"€574.38"},"B015",{"$f":"IFERROR(VLOOKUP(G10949,Discounts!C:E,3,0),0)","v":0},{"v":574.38,"d":"€574.38"}]
["Auto",112600,107270,1,"Normal",{"v":309.09,"d":"€309.09"},"P109",{"$f":"IFERROR(VLOOKUP(G10970,Discounts!C:E,3,0),0)","v":0},{"v":309.09,"d":"€309.09"}]
["Auto",112650,105700,1,"Normal",{"v":67.98,"d":"€67.98"},"LUXE",{"$f":"IFERROR(VLOOKUP(G10983,Discounts!C:E,3,0),0)","v":0},{"v":67.98,"d":"€67.98"}]
["Auto",112690,107310,1,"Normal",{"v":192.56,"d":"€192.56"},"P109",{"$f":"IFERROR(VLOOKUP(G10996,Discounts!C:E,3,0),0)","v":0},{"v":192.56,"d":"€192.56"}]
["Auto",112720,107330,1,"Normal",{"v":309.92,"d":"€309.92"},"P109",{"$f":"IFERROR(VLOOKUP(G11006,Discounts!C:E,3,0),0)","v":0},{"v":309.92,"d":"€309.92"}]
["Auto",112750,108030,1,"Combination",{"v":590.91,"d":"€590.91"},"B015",{"$f":"IFERROR(VLOOKUP(G11015,Discounts!C:E,3,0),0)","v":0},{"v":590.91,"d":"€590.91"}]
["Auto",112780,107360,1,"Normal",{"v":309.09,"d":"€309.09"},"P109",{"$f":"IFERROR(VLOOKUP(G11024,Discounts!C:E,3,0),0)","v":0},{"v":309.09,"d":"€309.09"}]
["Auto",112900,105500,1,"Normal",{"v":422.31,"d":"€422.31"},"P107",{"$f":"IFERROR(VLOOKUP(G11039,Discounts!C:E,3,0),0)","v":0},{"v":422.31,"d":"€422.31"}]
["Auto",112940,105540,1,"Normal",{"v":302.48,"d":"€302.48"},"P107",{"$f":"IFERROR(VLOOKUP(G11047,Discounts!C:E,3,0),0)","v":0},{"v":302.48,"d":"€302.48"}]
["Auto",113010,103770,1,"Normal",{"v":374.38,"d":"€374.38"},"B055",{"$f":"IFERROR(VLOOKUP(G11060,Discounts!C:E,3,0),0)","v":0},{"v":374.38,"d":"€374.38"}]
["Auto",113110,110120,1,"Normal",{"v":661.98,"d":"€661.98"},"P109",{"$f":"IFERROR(VLOOKUP(G11081,Discounts!C:E,3,0),0)","v":0},{"v":661.98,"d":"€661.98"}]
["Auto",113160,104070,1,"Normal",{"v":447.93,"d":"€447.93"},"B015",{"$f":"IFERROR(VLOOKUP(G11090,Discounts!C:E,3,0),0)","v":0},{"v":447.93,"d":"€447.93"}]
["Auto",113260,103720,2,"Normal",{"v":823.14,"d":"€823.14"},"B055",{"$f":"IFERROR(VLOOKUP(G11101,Discounts!C:E,3,0),0)","v":0},{"v":823.14,"d":"€823.14"}]
["Auto",113380,103870,2,"Normal",{"v":1297.52,"d":"€1,297.52"},"B015",{"$f":"IFERROR(VLOOKUP(G11113,Discounts!C:E,3,0),0)","v":0},{"v":1297.52,"d":"€1,297.52"}]
["Auto",113470,103980,2,"Normal",{"v":783.48,"d":"€783.48"},"B015",{"$f":"IFERROR(VLOOKUP(G11122,Discounts!C:E,3,0),0)","v":0},{"v":783.48,"d":"€783.48"}]
["Auto",113600,104160,2,"Normal",{"v":971.9,"d":"€971.90"},"B015",{"$f":"IFERROR(VLOOKUP(G11135,Discounts!C:E,3,0),0)","v":0},{"v":971.9,"d":"€971.90"}]
["Auto",113730,106290,2,"Normal",{"v":988.42,"d":"€988.42"},"B055",{"$f":"IFERROR(VLOOKUP(G11148,Discounts!C:E,3,0),0)","v":0},{"v":988.42,"d":"€988.42"}]
["Auto",113830,106940,2,"Normal",{"v":1140.5,"d":"€1,140.50"},"B015",{"$f":"IFERROR(VLOOKUP(G11158,Discounts!C:E,3,0),0)","v":0},{"v":1140.5,"d":"€1,140.50"}]
["Auto",114040,109640,2,"Normal",{"v":1031.4,"d":"€1,031.40"},"B015",{"$f":"IFERROR(VLOOKUP(G11179,Discounts!C:E,3,0),0)","v":0},{"v":1031.4,"d":"€1,031.40"}]
["Auto",114120,103730,2,"Normal",{"v":776.86,"d":"€776.86"},"B055",{"$f":"IFERROR(VLOOKUP(G11188,Discounts!C:E,3,0),0)","v":0},{"v":776.86,"d":"€776.86"}]
["Auto",114180,105520,2,"Normal",{"v":844.62,"d":"€844.62"},"P107",{"$f":"IFERROR(VLOOKUP(G11201,Discounts!C:E,3,0),0)","v":0},{"v":844.62,"d":"€844.62"}]
["Auto",114230,104110,2,"Normal",{"v":978.52,"d":"€978.52"},"B015",{"$f":"IFERROR(VLOOKUP(G11210,Discounts!C:E,3,0),0)","v":0},{"v":978.52,"d":"€978.52"}]
["Auto",114300,103770,2,"Normal",{"v":748.76,"d":"€748.76"},"B055",{"$f":"IFERROR(VLOOKUP(G11224,Discounts!C:E,3,0),0)","v":0},{"v":748.76,"d":"€748.76"}]
["Auto",114340,110310,2,"Normal",{"v":1044.62,"d":"€1,044.62"},"P109",{"$f":"IFERROR(VLOOKUP(G11233,Discounts!C:E,3,0),0)","v":0},{"v":1044.62,"d":"€1,044.62"}]
["Auto",114390,104180,2,"Normal",{"v":864.46,"d":"€864.46"},"B015",{"$f":"IFERROR(VLOOKUP(G11242,Discounts!C:E,3,0),0)","v":0},{"v":864.46,"d":"€864.46"}]
["Auto",114470,105710,2,"Normal",{"v":147.14,"d":"€147.14"},"LUXE",{"$f":"IFERROR(VLOOKUP(G11253,Discounts!C:E,3,0),0)","v":0},{"v":147.14,"d":"€147.14"}]
["Auto",116390,31920,1,"Normal",{"v":121.49,"d":"€121.49"},"SD/SG",{"$f":"IFERROR(VLOOKUP(G11277,Discounts!C:E,3,0),0)","v":0},{"v":121.49,"d":"€121.49"}]
["Auto",116410,31920,1,"Normal",{"v":121.49,"d":"€121.49"},"SD/SG",{"$f":"IFERROR(VLOOKUP(G11286,Discounts!C:E,3,0),0)","v":0},{"v":121.49,"d":"€121.49"}]
["Auto",116430,48600,1,"Normal",{"v":20.66,"d":"€20.66"},"SD/SG",{"$f":"IFERROR(VLOOKUP(G11299,Discounts!C:E,3,0),0)","v":0},{"v":20.66,"d":"€20.66"}]
["Auto",116450,40450,1,"Normal",{"v":13.22,"d":"€13.22"},"SD/SG",{"$f":"IFERROR(VLOOKUP(G11308,Discounts!C:E,3,0),0)","v":0},{"v":13.22,"d":"€13.22"}]
["Auto",116460,115310,1,"Normal",{"v":774.38,"d":"€774.38"},"E016",{"$f":"IFERROR(VLOOKUP(G11315,Discounts!C:E,3,0),0)","v":0},{"v":774.38,"d":"€774.38"}]
["Auto",116500,40450,1,"Normal",{"v":13.22,"d":"€13.22"},"SD/SG",{"$f":"IFERROR(VLOOKUP(G11331,Discounts!C:E,3,0),0)","v":0},{"$f":"IF(E11331=\"Normal\",F11331*(1-H11331),SUMIF(B:B,C11331,I:I)*D11331)","v":{"v":13.22,"d":"€13.22"}}]
["Auto",116520,40520,1,"Normal",{"v":67.77,"d":"€67.77"},"SD/SG",{"$f":"IFERROR(VLOOKUP(G11340,Discounts!C:E,3,0),0)","v":0},{"v":67.77,"d":"€67.77"}]
["Auto",116550,114530,1,"Normal",{"v":404.96,"d":"€404.96"},"E011",{"$f":"IFERROR(VLOOKUP(G11353,Discounts!C:E,3,0),0)","v":0},{"v":404.96,"d":"€404.96"}]
["Auto",116610,40450,1,"Normal",{"v":13.22,"d":"€13.22"},"SD/SG",{"$f":"IFERROR(VLOOKUP(G11375,Discounts!C:E,3,0),0)","v":0},{"v":13.22,"d":"€13.22"}]
["Auto",116630,40520,1,"Normal",{"v":67.77,"d":"€67.77"},"SD/SG",{"$f":"IFERROR(VLOOKUP(G11384,Discounts!C:E,3,0),0)","v":0},{"v":67.77,"d":"€67.77"}]
["Auto",116660,114640,1,"Normal",{"v":506.61,"d":"€506.61"},"E016",{"$f":"IFERROR(VLOOKUP(G11397,Discounts!C:E,3,0),0)","v":0},{"v":506.61,"d":"€506.61"}]
["Auto",116690,114680,1,"Normal",{"v":534.71,"d":"€534.71"},"E013",{"$f":"IFERROR(VLOOKUP(G11406,Discounts!C:E,3,0),0)","v":0},{"v":534.71,"d":"€534.71"}]
["Auto",116730,114720,1,"Normal",{"v":672.73,"d":"€672.73"},"E013",{"$f":"IFERROR(VLOOKUP(G11419,Discounts!C:E,3,0),0)","v":0},{"v":672.73,"d":"€672.73"}]
["Auto",116750,40450,1,"Normal",{"v":13.22,"d":"€13.22"},"SD/SG",{"$f":"IFERROR(VLOOKUP(G11424,Discounts!C:E,3,0),0)","v":0},{"v":13.22,"d":"€13.22"}]
["Auto",116780,114770,1,"Normal",{"v":584.3,"d":"€584.30"},"E013",{"$f":"IFERROR(VLOOKUP(G11438,Discounts!C:E,3,0),0)","v":0},{"v":584.3,"d":"€584.30"}]
["Auto",116820,31920,1,"Normal",{"v":121.49,"d":"€121.49"},"SD/SG",{"$f":"IFERROR(VLOOKUP(G11451,Discounts!C:E,3,0),0)","v":0},{"v":121.49,"d":"€121.49"}]
["Auto",116860,114860,1,"Normal",{"v":557.85,"d":"€557.85"},"E016",{"$f":"IFERROR(VLOOKUP(G11472,Discounts!C:E,3,0),0)","v":0},{"v":557.85,"d":"€557.85"}]
["Auto",116880,114880,1,"Normal",{"v":670.25,"d":"€670.25"},"E016",{"$f":"IFERROR(VLOOKUP(G11480,Discounts!C:E,3,0),0)","v":0},{"v":670.25,"d":"€670.25"}]
["Auto",116920,42300,1,"Normal",{"v":140.5,"d":"€140.50"},"SD/SG",{"$f":"IFERROR(VLOOKUP(G11495,Discounts!C:E,3,0),0)","v":0},{"v":140.5,"d":"€140.50"}]
["Auto",116940,114950,1,"Normal",{"v":838.84,"d":"€838.84"},"E016",{"$f":"IFERROR(VLOOKUP(G11504,Discounts!C:E,3,0),0)","v":0},{"v":838.84,"d":"€838.84"}]
["Auto",116970,53460,1,"Normal",{"v":60.33,"d":"€60.33"},"SD/SG",{"$f":"IFERROR(VLOOKUP(G11517,Discounts!C:E,3,0),0)","v":0},{"v":60.33,"d":"€60.33"}]
["Auto",116990,115020,1,"Normal",{"v":630.58,"d":"€630.58"},"E013",{"$f":"IFERROR(VLOOKUP(G11526,Discounts!C:E,3,0),0)","v":0},{"v":630.58,"d":"€630.58"}]
["Auto",117060,40450,2,"Normal",{"v":26.44,"d":"€26.44"},"SD/SG",{"$f":"IFERROR(VLOOKUP(G11546,Discounts!C:E,3,0),0)","v":0},{"v":26.44,"d":"€26.44"}]
["Auto",117070,40450,2,"Normal",{"v":26.44,"d":"€26.44"},"SD/SG",{"$f":"IFERROR(VLOOKUP(G11549,Discounts!C:E,3,0),0)","v":0},{"v":26.44,"d":"€26.44"}]
["Auto",117130,40450,1,"Normal",{"v":13.22,"d":"€13.22"},"SD/SG",{"$f":"IFERROR(VLOOKUP(G11570,Discounts!C:E,3,0),0)","v":0},{"v":13.22,"d":"€13.22"}]
["Auto",117130,40520,1,"Normal",{"v":67.77,"d":"€67.77"},"SD/SG",{"$f":"IFERROR(VLOOKUP(G11571,Discounts!C:E,3,0),0)","v":0},{"v":67.77,"d":"€67.77"}]
["Auto",117180,115360,1,"Normal",{"v":1272.73,"d":"€1,272.73"},"E013",{"$f":"IFERROR(VLOOKUP(G11589,Discounts!C:E,3,0),0)","v":0},{"v":1272.73,"d":"€1,272.73"}]
["Auto",117220,40450,1,"Normal",{"v":13.22,"d":"€13.22"},"SD/SG",{"$f":"IFERROR(VLOOKUP(G11602,Discounts!C:E,3,0),0)","v":0},{"v":13.22,"d":"€13.22"}]
["Auto",117260,31920,1,"Normal",{"v":121.49,"d":"€121.49"},"SD/SG",{"$f":"IFERROR(VLOOKUP(G11615,Discounts!C:E,3,0),0)","v":0},{"v":121.49,"d":"€121.49"}]
["Auto",117280,115460,1,"Normal",{"v":665.29,"d":"€665.29"},"E013",{"$f":"IFERROR(VLOOKUP(G11624,Discounts!C:E,3,0),0)","v":0},{"v":665.29,"d":"€665.29"}]
["Auto",117310,40450,4,"Normal",{"v":52.88,"d":"€52.88"},"SD/SG",{"$f":"IFERROR(VLOOKUP(G11633,Discounts!C:E,3,0),0)","v":0},{"v":52.88,"d":"€52.88"}]
["Auto",117360,40450,1,"Normal",{"v":13.22,"d":"€13.22"},"SD/SG",{"$f":"IFERROR(VLOOKUP(G11651,Discounts!C:E,3,0),0)","v":0},{"$f":"IF(E11651=\"Normal\",F11651*(1-H11651),SUMIF(B:B,C11651,I:I)*D11651)","v":{"v":13.22,"d":"€13.22"}}]
["Auto",117410,40450,2,"Normal",{"v":26.44,"d":"€26.44"},"SD/SG",{"$f":"IFERROR(VLOOKUP(G11668,Discounts!C:E,3,0),0)","v":0},{"v":26.44,"d":"€26.44"}]
["Auto",117410,40530,1,"Normal",{"v":92.56,"d":"€92.56"},"SD/SG",{"$f":"IFERROR(VLOOKUP(G11669,Discounts!C:E,3,0),0)","v":0},{"v":92.56,"d":"€92.56"}]
["Auto",117470,42300,1,"Normal",{"v":140.5,"d":"€140.50"},"SD/SG",{"$f":"IFERROR(VLOOKUP(G11690,Discounts!C:E,3,0),0)","v":0},{"v":140.5,"d":"€140.50"}]
["Auto",117490,115670,1,"Normal",{"v":586.78,"d":"€586.78"},"E016",{"$f":"IFERROR(VLOOKUP(G11698,Discounts!C:E,3,0),0)","v":0},{"v":586.78,"d":"€586.78"}]
["Auto",117530,115830,1,"Normal",{"v":728.1,"d":"€728.10"},"E013",{"$f":"IFERROR(VLOOKUP(G11713,Discounts!C:E,3,0),0)","v":0},{"v":728.1,"d":"€728.10"}]
["Auto",117560,31920,1,"Normal",{"v":121.49,"d":"€121.49"},"SD/SG",{"$f":"IFERROR(VLOOKUP(G11722,Discounts!C:E,3,0),0)","v":0},{"v":121.49,"d":"€121.49"}]
["Auto",117590,40450,1,"Normal",{"v":13.22,"d":"€13.22"},"SD/SG",{"$f":"IFERROR(VLOOKUP(G11735,Discounts!C:E,3,0),0)","v":0},{"v":13.22,"d":"€13.22"}]
["Auto",117610,40520,1,"Normal",{"v":67.77,"d":"€67.77"},"SD/SG",{"$f":"IFERROR(VLOOKUP(G11744,Discounts!C:E,3,0),0)","v":0},{"v":67.77,"d":"€67.77"}]
["Auto",117650,40520,1,"Normal",{"v":67.77,"d":"€67.77"},"SD/SG",{"$f":"IFERROR(VLOOKUP(G11760,Discounts!C:E,3,0),0)","v":0},{"v":67.77,"d":"€67.77"}]
["Auto",117670,40450,1,"Normal",{"v":13.22,"d":"€13.22"},"SD/SG",{"$f":"IFERROR(VLOOKUP(G11767,Discounts!C:E,3,0),0)","v":0},{"v":13.22,"d":"€13.22"}]
["Auto",117720,40530,1,"Normal",{"v":92.56,"d":"€92.56"},"SD/SG",{"$f":"IFERROR(VLOOKUP(G11788,Discounts!C:E,3,0),0)","v":0},{"v":92.56,"d":"€92.56"}]
["Auto",117740,40530,1,"Normal",{"v":92.56,"d":"€92.56"},"SD/SG",{"$f":"IFERROR(VLOOKUP(G11797,Discounts!C:E,3,0),0)","v":0},{"v":92.56,"d":"€92.56"}]
["Auto",117760,31920,1,"Normal",{"v":121.49,"d":"€121.49"},"SD/SG",{"$f":"IFERROR(VLOOKUP(G11803,Discounts!C:E,3,0),0)","v":0},{"v":121.49,"d":"€121.49"}]
["Auto",117800,40450,4,"Normal",{"v":52.88,"d":"€52.88"},"SD/SG",{"$f":"IFERROR(VLOOKUP(G11820,Discounts!C:E,3,0),0)","v":0},{"v":52.88,"d":"€52.88"}]
["Auto",117830,42300,1,"Normal",{"v":140.5,"d":"€140.50"},"SD/SG",{"$f":"IFERROR(VLOOKUP(G11833,Discounts!C:E,3,0),0)","v":0},{"v":140.5,"d":"€140.50"}]
["Auto",117850,116160,1,"Normal",{"v":1581.82,"d":"€1,581.82"},"E013",{"$f":"IFERROR(VLOOKUP(G11842,Discounts!C:E,3,0),0)","v":0},{"v":1581.82,"d":"€1,581.82"}]
["Auto",117910,31920,1,"Normal",{"v":121.49,"d":"€121.49"},"SD/SG",{"$f":"IFERROR(VLOOKUP(G11863,Discounts!C:E,3,0),0)","v":0},{"v":121.49,"d":"€121.49"}]
["Auto",117910,40520,1,"Normal",{"v":67.77,"d":"€67.77"},"SD/SG",{"$f":"IFERROR(VLOOKUP(G11865,Discounts!C:E,3,0),0)","v":0},{"v":67.77,"d":"€67.77"}]
["Auto",117970,31920,1,"Normal",{"v":121.49,"d":"€121.49"},"SD/SG",{"$f":"IFERROR(VLOOKUP(G11886,Discounts!C:E,3,0),0)","v":0},{"v":121.49,"d":"€121.49"}]
["Auto",118000,31920,1,"Normal",{"v":121.49,"d":"€121.49"},"SD/SG",{"$f":"IFERROR(VLOOKUP(G11899,Discounts!C:E,3,0),0)","v":0},{"v":121.49,"d":"€121.49"}]
["Auto",118020,31920,1,"Normal",{"v":121.49,"d":"€121.49"},"SD/SG",{"$f":"IFERROR(VLOOKUP(G11908,Discounts!C:E,3,0),0)","v":0},{"v":121.49,"d":"€121.49"}]
["Auto",118060,40450,1,"Normal",{"v":13.22,"d":"€13.22"},"SD/SG",{"$f":"IFERROR(VLOOKUP(G11925,Discounts!C:E,3,0),0)","v":0},{"v":13.22,"d":"€13.22"}]
["Auto",118080,31920,1,"Normal",{"v":121.49,"d":"€121.49"},"SD/SG",{"$f":"IFERROR(VLOOKUP(G11931,Discounts!C:E,3,0),0)","v":0},{"v":121.49,"d":"€121.49"}]
["Auto",118100,40450,1,"Normal",{"v":13.22,"d":"€13.22"},"SD/SG",{"$f":"IFERROR(VLOOKUP(G11940,Discounts!C:E,3,0),0)","v":0},{"v":13.22,"d":"€13.22"}]
["Auto",118140,44360,2,"Normal",{"v":198.34,"d":"€198.34"},"SD/SG",{"$f":"IFERROR(VLOOKUP(G11961,Discounts!C:E,3,0),0)","v":0},{"v":198.34,"d":"€198.34"}]
["Auto",118140,114570,2,"Normal",{"v":690.9,"d":"€690.90"},"E016",{"$f":"IFERROR(VLOOKUP(G11962,Discounts!C:E,3,0),0)","v":0},{"v":690.9,"d":"€690.90"}]
["Auto",118170,57390,2,"Normal",{"v":1482.64,"d":"€1,482.64"},"E015",{"$f":"IFERROR(VLOOKUP(G11974,Discounts!C:E,3,0),0)","v":0},{"v":1482.64,"d":"€1,482.64"}]
["Auto",120620,34260,1,"Normal",{"v":249.59,"d":"€249.59"},"LUXE",{"$f":"IFERROR(VLOOKUP(G11997,Discounts!C:E,3,0),0)","v":0},{"v":249.59,"d":"€249.59"}]
["Auto",120660,120370,1,"Normal",{"v":565.29,"d":"€565.29"},"C010",{"$f":"IFERROR(VLOOKUP(G12006,Discounts!C:E,3,0),0)","v":0},{"v":565.29,"d":"€565.29"}]
["Auto",120710,34260,1,"Normal",{"v":249.59,"d":"€249.59"},"LUXE",{"$f":"IFERROR(VLOOKUP(G12015,Discounts!C:E,3,0),0)","v":0},{"v":249.59,"d":"€249.59"}]
["Auto",120780,120490,1,"Normal",{"v":592.56,"d":"€592.56"},"C010",{"$f":"IFERROR(VLOOKUP(G12030,Discounts!C:E,3,0),0)","v":0},{"v":592.56,"d":"€592.56"}]
["Auto",120820,120530,1,"Normal",{"v":643.8,"d":"€643.80"},"C010",{"$f":"IFERROR(VLOOKUP(G12038,Discounts!C:E,3,0),0)","v":0},{"v":643.8,"d":"€643.80"}]
["Auto",121050,34260,1,"Normal",{"v":249.59,"d":"€249.59"},"LUXE",{"$f":"IFERROR(VLOOKUP(G12059,Discounts!C:E,3,0),0)","v":0},{"v":249.59,"d":"€249.59"}]
["Auto",121050,120930,1,"Normal",{"v":954.55,"d":"€954.55"},"C010",{"$f":"IFERROR(VLOOKUP(G12060,Discounts!C:E,3,0),0)","v":0},{"v":954.55,"d":"€954.55"}]
["Auto",121160,120510,2,"Normal",{"v":1234.72,"d":"€1,234.72"},"C010",{"$f":"IFERROR(VLOOKUP(G12081,Discounts!C:E,3,0),0)","v":0},{"v":1234.72,"d":"€1,234.72"}]
["Auto",121280,137810,2,"Normal",{"v":242.98,"d":"€242.98"},"LUXE",{"$f":"IFERROR(VLOOKUP(G12092,Discounts!C:E,3,0),0)","v":0},{"v":242.98,"d":"€242.98"}]
["Auto",121340,137810,2,"Normal",{"v":242.98,"d":"€242.98"},"LUXE",{"$f":"IFERROR(VLOOKUP(G12104,Discounts!C:E,3,0),0)","v":0},{"v":242.98,"d":"€242.98"}]
["Auto",121390,34260,2,"Normal",{"v":499.18,"d":"€499.18"},"LUXE",{"$f":"IFERROR(VLOOKUP(G12113,Discounts!C:E,3,0),0)","v":0},{"v":499.18,"d":"€499.18"}]
["Auto",121450,118240,1,"Normal",{"v":1641.32,"d":"€1,641.32"},"A015",{"$f":"IFERROR(VLOOKUP(G12126,Discounts!C:E,3,0),0)","v":0},{"v":1641.32,"d":"€1,641.32"}]
["Auto",121520,34260,1,"Normal",{"v":249.59,"d":"€249.59"},"LUXE",{"$f":"IFERROR(VLOOKUP(G12139,Discounts!C:E,3,0),0)","v":0},{"v":249.59,"d":"€249.59"}]
["Auto",121570,34260,1,"Normal",{"v":249.59,"d":"€249.59"},"LUXE",{"$f":"IFERROR(VLOOKUP(G12149,Discounts!C:E,3,0),0)","v":0},{"v":249.59,"d":"€249.59"}]
["Auto",121610,118400,1,"Normal",{"v":2007.44,"d":"€2,007.44"},"A010",{"$f":"IFERROR(VLOOKUP(G12158,Discounts!C:E,3,0),0)","v":0},{"v":2007.44,"d":"€2,007.44"}]
["Auto",121720,34260,1,"Normal",{"v":249.59,"d":"€249.59"},"LUXE",{"$f":"IFERROR(VLOOKUP(G12179,Discounts!C:E,3,0),0)","v":0},{"v":249.59,"d":"€249.59"}]
["Auto",121780,118620,1,"Normal",0,"A010",{"$f":"IFERROR(VLOOKUP(G12192,Discounts!C:E,3,0),0)","v":0},0]
["Auto",121830,34260,1,"Normal",{"v":249.59,"d":"€249.59"},"LUXE",{"$f":"IFERROR(VLOOKUP(G12201,Discounts!C:E,3,0),0)","v":0},{"v":249.59,"d":"€249.59"}]
["Auto",121880,34260,1,"Normal",{"v":249.59,"d":"€249.59"},"LUXE",{"$f":"IFERROR(VLOOKUP(G12211,Discounts!C:E,3,0),0)","v":0},{"v":249.59,"d":"€249.59"}]
["Auto",121940,118900,1,"Normal",0,"A010",{"$f":"IFERROR(VLOOKUP(G12224,Discounts!C:E,3,0),0)","v":0},0]
["Auto",121990,34260,1,"Normal",{"v":249.59,"d":"€249.59"},"LUXE",{"$f":"IFERROR(VLOOKUP(G12233,Discounts!C:E,3,0),0)","v":0},{"v":249.59,"d":"€249.59"}]
["Auto",122040,119000,1,"Normal",0,"A010",{"$f":"IFERROR(VLOOKUP(G12244,Discounts!C:E,3,0),0)","v":0},0]
["Auto",122100,119150,1,"Normal",{"v":1276.03,"d":"€1,276.03"},"A010",{"$f":"IFERROR(VLOOKUP(G12256,Discounts!C:E,3,0),0)","v":0},{"v":1276.03,"d":"€1,276.03"}]
["Auto",122210,34260,1,"Normal",{"v":249.59,"d":"€249.59"},"LUXE",{"$f":"IFERROR(VLOOKUP(G12277,Discounts!C:E,3,0),0)","v":0},{"v":249.59,"d":"€249.59"}]
["Auto",122270,119320,1,"Normal",{"v":1790.08,"d":"€1,790.08"},"A010",{"$f":"IFERROR(VLOOKUP(G12290,Discounts!C:E,3,0),0)","v":0},{"v":1790.08,"d":"€1,790.08"}]
["Auto",122320,34260,1,"Normal",{"v":249.59,"d":"€249.59"},"LUXE",{"$f":"IFERROR(VLOOKUP(G12299,Discounts!C:E,3,0),0)","v":0},{"v":249.59,"d":"€249.59"}]
["Auto",122370,119420,1,"Normal",{"v":1667.77,"d":"€1,667.77"},"A010",{"$f":"IFERROR(VLOOKUP(G12310,Discounts!C:E,3,0),0)","v":0},{"v":1667.77,"d":"€1,667.77"}]
["Auto",122430,119480,1,"Normal",{"v":1800,"d":"€1,800.00"},"A010",{"$f":"IFERROR(VLOOKUP(G12322,Discounts!C:E,3,0),0)","v":0},{"v":1800,"d":"€1,800.00"}]
["Auto",122480,34260,1,"Normal",{"v":249.59,"d":"€249.59"},"LUXE",{"$f":"IFERROR(VLOOKUP(G12331,Discounts!C:E,3,0),0)","v":0},{"v":249.59,"d":"€249.59"}]
["Auto",122540,119590,1,"Normal",0,"A010",{"$f":"IFERROR(VLOOKUP(G12344,Discounts!C:E,3,0),0)","v":0},0]
["Auto",122590,34260,1,"Normal",{"v":249.59,"d":"€249.59"},"LUXE",{"$f":"IFERROR(VLOOKUP(G12353,Discounts!C:E,3,0),0)","v":0},{"v":249.59,"d":"€249.59"}]
["Auto",122700,34260,1,"Normal",{"v":249.59,"d":"€249.59"},"LUXE",{"$f":"IFERROR(VLOOKUP(G12375,Discounts!C:E,3,0),0)","v":0},{"v":249.59,"d":"€249.59"}]
["Auto",122760,119860,1,"Normal",0,"A010",{"$f":"IFERROR(VLOOKUP(G12388,Discounts!C:E,3,0),0)","v":0},0]
["Auto",122810,34260,1,"Normal",{"v":249.59,"d":"€249.59"},"LUXE",{"$f":"IFERROR(VLOOKUP(G12397,Discounts!C:E,3,0),0)","v":0},{"v":249.59,"d":"€249.59"}]
["Auto",122870,119970,1,"Normal",{"v":1655.37,"d":"€1,655.37"},"A010",{"$f":"IFERROR(VLOOKUP(G12410,Discounts!C:E,3,0),0)","v":0},{"v":1655.37,"d":"€1,655.37"}]
["Auto",122900,34260,1,"Normal",{"v":249.59,"d":"€249.59"},"LUXE",{"$f":"IFERROR(VLOOKUP(G12415,Discounts!C:E,3,0),0)","v":0},{"v":249.59,"d":"€249.59"}]
["Auto",122970,34260,1,"Normal",{"v":249.59,"d":"€249.59"},"LUXE",{"$f":"IFERROR(VLOOKUP(G12429,Discounts!C:E,3,0),0)","v":0},{"v":249.59,"d":"€249.59"}]
["Auto",123030,120130,1,"Normal",0,"A010",{"$f":"IFERROR(VLOOKUP(G12442,Discounts!C:E,3,0),0)","v":0},0]
["Auto",123080,34260,1,"Normal",{"v":249.59,"d":"€249.59"},"LUXE",{"$f":"IFERROR(VLOOKUP(G12451,Discounts!C:E,3,0),0)","v":0},{"v":249.59,"d":"€249.59"}]
["Auto",123430,34260,1,"Normal",{"v":249.59,"d":"€249.59"},"LUXE",{"$f":"IFERROR(VLOOKUP(G12475,Discounts!C:E,3,0),0)","v":0},{"v":249.59,"d":"€249.59"}]
["Auto",123480,123290,1,"Normal",{"v":2389.26,"d":"€2,389.26"},"A010",{"$f":"IFERROR(VLOOKUP(G12486,Discounts!C:E,3,0),0)","v":0},{"v":2389.26,"d":"€2,389.26"}]
["Auto",123530,34260,1,"Normal",{"v":249.59,"d":"€249.59"},"LUXE",{"$f":"IFERROR(VLOOKUP(G12495,Discounts!C:E,3,0),0)","v":0},{"v":249.59,"d":"€249.59"}]
["Auto",123910,123900,1,"Normal",{"v":2022.31,"d":"€2,022.31"},"A015",{"$f":"IFERROR(VLOOKUP(G12508,Discounts!C:E,3,0),0)","v":0},{"v":2022.31,"d":"€2,022.31"}]
["Auto",124010,124000,1,"Normal",{"v":1195.04,"d":"€1,195.04"},"A010",{"$f":"IFERROR(VLOOKUP(G12518,Discounts!C:E,3,0),0)","v":0},{"v":1195.04,"d":"€1,195.04"}]
["Auto",124160,34260,1,"Normal",{"v":249.59,"d":"€249.59"},"LUXE",{"$f":"IFERROR(VLOOKUP(G12527,Discounts!C:E,3,0),0)","v":0},{"v":249.59,"d":"€249.59"}]
["Auto",124300,124290,1,"Normal",{"v":1411.57,"d":"€1,411.57"},"A010",{"$f":"IFERROR(VLOOKUP(G12540,Discounts!C:E,3,0),0)","v":0},{"v":1411.57,"d":"€1,411.57"}]
["Auto",124420,34260,1,"Normal",{"v":249.59,"d":"€249.59"},"LUXE",{"$f":"IFERROR(VLOOKUP(G12549,Discounts!C:E,3,0),0)","v":0},{"v":249.59,"d":"€249.59"}]
["Auto",124540,124530,1,"Normal",{"v":1673.55,"d":"€1,673.55"},"A015",{"$f":"IFERROR(VLOOKUP(G12562,Discounts!C:E,3,0),0)","v":0},{"v":1673.55,"d":"€1,673.55"}]
["Auto",124720,124710,1,"Normal",{"v":744.63,"d":"€744.63"},"C010",{"$f":"IFERROR(VLOOKUP(G12580,Discounts!C:E,3,0),0)","v":0},{"v":744.63,"d":"€744.63"}]
["Auto",125000,118210,1,"Normal",{"v":1641.32,"d":"€1,641.32"},"A015",{"$f":"IFERROR(VLOOKUP(G12593,Discounts!C:E,3,0),0)","v":0},{"v":1641.32,"d":"€1,641.32"}]
["Auto",125040,29720,1,"Normal",{"v":91.74,"d":"€91.74"},"LUXE",{"$f":"IFERROR(VLOOKUP(G12606,Discounts!C:E,3,0),0)","v":0},{"v":91.74,"d":"€91.74"}]
["Auto",125060,31470,1,"Normal",{"v":141.32,"d":"€141.32"},"LUXE",{"$f":"IFERROR(VLOOKUP(G12615,Discounts!C:E,3,0),0)","v":0},{"v":141.32,"d":"€141.32"}]
["Auto",125090,31640,1,"Normal",{"v":141.32,"d":"€141.32"},"LUXE",{"$f":"IFERROR(VLOOKUP(G12627,Discounts!C:E,3,0),0)","v":0},{"v":141.32,"d":"€141.32"}]
["Auto",125130,29720,1,"Normal",{"v":91.74,"d":"€91.74"},"LUXE",{"$f":"IFERROR(VLOOKUP(G12638,Discounts!C:E,3,0),0)","v":0},{"v":91.74,"d":"€91.74"}]
["Auto",125150,31470,1,"Normal",{"v":141.32,"d":"€141.32"},"LUXE",{"$f":"IFERROR(VLOOKUP(G12647,Discounts!C:E,3,0),0)","v":0},{"v":141.32,"d":"€141.32"}]
["Auto",125190,29720,1,"Normal",{"v":91.74,"d":"€91.74"},"LUXE",{"$f":"IFERROR(VLOOKUP(G12660,Discounts!C:E,3,0),0)","v":0},{"v":91.74,"d":"€91.74"}]
["Auto",125260,29720,1,"Normal",{"v":91.74,"d":"€91.74"},"LUXE",{"$f":"IFERROR(VLOOKUP(G12681,Discounts!C:E,3,0),0)","v":0},{"v":91.74,"d":"€91.74"}]
["Auto",125280,29720,1,"Normal",{"v":91.74,"d":"€91.74"},"LUXE",{"$f":"IFERROR(VLOOKUP(G12689,Discounts!C:E,3,0),0)","v":0},{"v":91.74,"d":"€91.74"}]
["Auto",125320,29720,1,"Normal",{"v":91.74,"d":"€91.74"},"LUXE",{"$f":"IFERROR(VLOOKUP(G12704,Discounts!C:E,3,0),0)","v":0},{"v":91.74,"d":"€91.74"}]
["Auto",125350,29710,1,"Normal",{"v":42.98,"d":"€42.98"},"LUXE",{"$f":"IFERROR(VLOOKUP(G12713,Discounts!C:E,3,0),0)","v":0},{"v":42.98,"d":"€42.98"}]
["Auto",125380,29710,1,"Normal",{"v":42.98,"d":"€42.98"},"LUXE",{"$f":"IFERROR(VLOOKUP(G12722,Discounts!C:E,3,0),0)","v":0},{"v":42.98,"d":"€42.98"}]
["Auto",125400,45730,1,"Normal",{"v":42.98,"d":"€42.98"},"LUXE",{"$f":"IFERROR(VLOOKUP(G12732,Discounts!C:E,3,0),0)","v":0},{"v":42.98,"d":"€42.98"}]
["Auto",125440,31470,1,"Normal",{"v":141.32,"d":"€141.32"},"LUXE",{"$f":"IFERROR(VLOOKUP(G12745,Discounts!C:E,3,0),0)","v":0},{"v":141.32,"d":"€141.32"}]
["Auto",125480,118860,1,"Normal",{"v":2507.44,"d":"€2,507.44"},"A010",{"$f":"IFERROR(VLOOKUP(G12758,Discounts!C:E,3,0),0)","v":0},{"v":2507.44,"d":"€2,507.44"}]
["Auto",125550,31470,1,"Normal",{"v":141.32,"d":"€141.32"},"LUXE",{"$f":"IFERROR(VLOOKUP(G12779,Discounts!C:E,3,0),0)","v":0},{"v":141.32,"d":"€141.32"}]
["Auto",125570,53350,1,"Normal",{"v":199.17,"d":"€199.17"},"LUXE",{"$f":"IFERROR(VLOOKUP(G12788,Discounts!C:E,3,0),0)","v":0},{"v":199.17,"d":"€199.17"}]
["Auto",125590,29710,1,"Normal",{"v":42.98,"d":"€42.98"},"LUXE",{"$f":"IFERROR(VLOOKUP(G12794,Discounts!C:E,3,0),0)","v":0},{"v":42.98,"d":"€42.98"}]
["Auto",125640,31640,1,"Normal",{"v":141.32,"d":"€141.32"},"LUXE",{"$f":"IFERROR(VLOOKUP(G12811,Discounts!C:E,3,0),0)","v":0},{"v":141.32,"d":"€141.32"}]
["Auto",125680,31470,1,"Normal",{"v":141.32,"d":"€141.32"},"LUXE",{"$f":"IFERROR(VLOOKUP(G12824,Discounts!C:E,3,0),0)","v":0},{"v":141.32,"d":"€141.32"}]
["Auto",125710,31470,1,"Normal",{"v":141.32,"d":"€141.32"},"LUXE",{"$f":"IFERROR(VLOOKUP(G12833,Discounts!C:E,3,0),0)","v":0},{"v":141.32,"d":"€141.32"}]
["Auto",125780,29710,1,"Normal",{"v":42.98,"d":"€42.98"},"LUXE",{"$f":"IFERROR(VLOOKUP(G12854,Discounts!C:E,3,0),0)","v":0},{"v":42.98,"d":"€42.98"}]
["Auto",125780,119110,1,"Normal",0,"A010",{"$f":"IFERROR(VLOOKUP(G12856,Discounts!C:E,3,0),0)","v":0},0]
["Auto",125850,119170,1,"Normal",{"v":1746.28,"d":"€1,746.28"},"A010",{"$f":"IFERROR(VLOOKUP(G12877,Discounts!C:E,3,0),0)","v":0},{"v":1746.28,"d":"€1,746.28"}]
["Auto",125880,31470,1,"Normal",{"v":141.32,"d":"€141.32"},"LUXE",{"$f":"IFERROR(VLOOKUP(G12886,Discounts!C:E,3,0),0)","v":0},{"v":141.32,"d":"€141.32"}]
["Auto",125920,119220,1,"Normal",{"v":2185.12,"d":"€2,185.12"},"A010",{"$f":"IFERROR(VLOOKUP(G12899,Discounts!C:E,3,0),0)","v":0},{"v":2185.12,"d":"€2,185.12"}]
["Auto",125940,29710,1,"Normal",{"v":42.98,"d":"€42.98"},"LUXE",{"$f":"IFERROR(VLOOKUP(G12903,Discounts!C:E,3,0),0)","v":0},{"v":42.98,"d":"€42.98"}]
["Auto",126000,29710,1,"Normal",{"v":42.98,"d":"€42.98"},"LUXE",{"$f":"IFERROR(VLOOKUP(G12922,Discounts!C:E,3,0),0)","v":0},{"v":42.98,"d":"€42.98"}]
["Auto",126030,29710,1,"Normal",{"v":42.98,"d":"€42.98"},"LUXE",{"$f":"IFERROR(VLOOKUP(G12931,Discounts!C:E,3,0),0)","v":0},{"$f":"IF(E12931=\"Normal\",F12931*(1-H12931),SUMIF(B:B,C12931,I:I)*D12931)","v":{"v":42.98,"d":"€42.98"}}]
["Auto",126060,29710,1,"Normal",{"v":42.98,"d":"€42.98"},"LUXE",{"$f":"IFERROR(VLOOKUP(G12940,Discounts!C:E,3,0),0)","v":0},{"v":42.98,"d":"€42.98"}]
["Auto",126120,30480,7,"Normal",{"v":931.42,"d":"€931.42"},"O115",{"$f":"IFERROR(VLOOKUP(G12959,Discounts!C:E,3,0),0)","v":0},{"v":931.42,"d":"€931.42"}]
["Auto",126160,119690,1,"Normal",{"v":1339.67,"d":"€1,339.67"},"A010",{"$f":"IFERROR(VLOOKUP(G12975,Discounts!C:E,3,0),0)","v":0},{"v":1339.67,"d":"€1,339.67"}]
["Auto",126200,118340,1,"Normal",{"v":1674.38,"d":"€1,674.38"},"A015",{"$f":"IFERROR(VLOOKUP(G12988,Discounts!C:E,3,0),0)","v":0},{"v":1674.38,"d":"€1,674.38"}]
["Auto",126230,29710,1,"Normal",{"v":42.98,"d":"€42.98"},"LUXE",{"$f":"IFERROR(VLOOKUP(G12997,Discounts!C:E,3,0),0)","v":0},{"v":42.98,"d":"€42.98"}]
["Auto",126250,31470,1,"Normal",{"v":141.32,"d":"€141.32"},"LUXE",{"$f":"IFERROR(VLOOKUP(G13006,Discounts!C:E,3,0),0)","v":0},{"v":141.32,"d":"€141.32"}]
["Auto",126290,29710,1,"Normal",{"v":42.98,"d":"€42.98"},"LUXE",{"$f":"IFERROR(VLOOKUP(G13021,Discounts!C:E,3,0),0)","v":0},{"v":42.98,"d":"€42.98"}]
["Auto",126310,29720,1,"Normal",{"v":91.74,"d":"€91.74"},"LUXE",{"$f":"IFERROR(VLOOKUP(G13029,Discounts!C:E,3,0),0)","v":0},{"v":91.74,"d":"€91.74"}]
["Auto",126330,45730,1,"Normal",{"v":42.98,"d":"€42.98"},"LUXE",{"$f":"IFERROR(VLOOKUP(G13038,Discounts!C:E,3,0),0)","v":0},{"v":42.98,"d":"€42.98"}]
["Auto",126360,119440,1,"Normal",0,"A010",{"$f":"IFERROR(VLOOKUP(G13051,Discounts!C:E,3,0),0)","v":0},0]
["Auto",126410,29710,1,"Normal",{"v":42.98,"d":"€42.98"},"LUXE",{"$f":"IFERROR(VLOOKUP(G13068,Discounts!C:E,3,0),0)","v":0},{"v":42.98,"d":"€42.98"}]
["Auto",126450,45730,1,"Normal",{"v":42.98,"d":"€42.98"},"LUXE",{"$f":"IFERROR(VLOOKUP(G13086,Discounts!C:E,3,0),0)","v":0},{"v":42.98,"d":"€42.98"}]
["Auto",126470,119540,1,"Normal",0,"A010",{"$f":"IFERROR(VLOOKUP(G13095,Discounts!C:E,3,0),0)","v":0},0]
["Auto",126500,29710,1,"Normal",{"v":42.98,"d":"€42.98"},"LUXE",{"$f":"IFERROR(VLOOKUP(G13104,Discounts!C:E,3,0),0)","v":0},{"v":42.98,"d":"€42.98"}]
["Auto",126530,31640,1,"Normal",{"v":141.32,"d":"€141.32"},"LUXE",{"$f":"IFERROR(VLOOKUP(G13117,Discounts!C:E,3,0),0)","v":0},{"v":141.32,"d":"€141.32"}]
["Auto",126560,119820,1,"Normal",0,"A010",{"$f":"IFERROR(VLOOKUP(G13130,Discounts!C:E,3,0),0)","v":0},0]
["Auto",126580,31470,1,"Normal",{"v":141.32,"d":"€141.32"},"LUXE",{"$f":"IFERROR(VLOOKUP(G13136,Discounts!C:E,3,0),0)","v":0},{"v":141.32,"d":"€141.32"}]
["Auto",126610,45730,1,"Normal",{"v":42.98,"d":"€42.98"},"LUXE",{"$f":"IFERROR(VLOOKUP(G13149,Discounts!C:E,3,0),0)","v":0},{"v":42.98,"d":"€42.98"}]
["Auto",126660,119910,1,"Normal",0,"A010",{"$f":"IFERROR(VLOOKUP(G13170,Discounts!C:E,3,0),0)","v":0},0]
["Auto",126670,45730,1,"Normal",{"v":42.98,"d":"€42.98"},"LUXE",{"$f":"IFERROR(VLOOKUP(G13173,Discounts!C:E,3,0),0)","v":0},{"v":42.98,"d":"€42.98"}]
["Auto",126720,45730,1,"Normal",{"v":42.98,"d":"€42.98"},"LUXE",{"$f":"IFERROR(VLOOKUP(G13193,Discounts!C:E,3,0),0)","v":0},{"v":42.98,"d":"€42.98"}]
["Auto",126740,119990,1,"Normal",{"v":1655.37,"d":"€1,655.37"},"A010",{"$f":"IFERROR(VLOOKUP(G13202,Discounts!C:E,3,0),0)","v":0},{"v":1655.37,"d":"€1,655.37"}]
["Auto",126780,31470,1,"Normal",{"v":141.32,"d":"€141.32"},"LUXE",{"$f":"IFERROR(VLOOKUP(G13215,Discounts!C:E,3,0),0)","v":0},{"v":141.32,"d":"€141.32"}]
["Auto",126800,45730,1,"Normal",{"v":42.98,"d":"€42.98"},"LUXE",{"$f":"IFERROR(VLOOKUP(G13224,Discounts!C:E,3,0),0)","v":0},{"v":42.98,"d":"€42.98"}]
["Auto",126830,31470,1,"Normal",{"v":141.32,"d":"€141.32"},"LUXE",{"$f":"IFERROR(VLOOKUP(G13235,Discounts!C:E,3,0),0)","v":0},{"v":141.32,"d":"€141.32"}]
["Auto",126860,29930,1,"Normal",{"v":595.87,"d":"€595.87"},"LUXE",{"$f":"IFERROR(VLOOKUP(G13247,Discounts!C:E,3,0),0)","v":0},{"v":595.87,"d":"€595.87"}]
["Auto",126910,45730,1,"Normal",{"v":42.98,"d":"€42.98"},"LUXE",{"$f":"IFERROR(VLOOKUP(G13268,Discounts!C:E,3,0),0)","v":0},{"v":42.98,"d":"€42.98"}]
["Auto",126940,120170,1,"Normal",0,"A010",{"$f":"IFERROR(VLOOKUP(G13281,Discounts!C:E,3,0),0)","v":0},0]
["Auto",126950,29710,1,"Normal",{"v":42.98,"d":"€42.98"},"LUXE",{"$f":"IFERROR(VLOOKUP(G13282,Discounts!C:E,3,0),0)","v":0},{"v":42.98,"d":"€42.98"}]
["Auto",126990,45730,1,"Normal",{"v":42.98,"d":"€42.98"},"LUXE",{"$f":"IFERROR(VLOOKUP(G13300,Discounts!C:E,3,0),0)","v":0},{"v":42.98,"d":"€42.98"}]
["Auto",127020,121420,1,"Combination",{"v":1890.91,"d":"€1,890.91"},"A015",{"$f":"IFERROR(VLOOKUP(G13313,Discounts!C:E,3,0),0)","v":0},{"v":1890.9099999999999,"d":"€1,890.91"}]
["Auto",127050,29720,1,"Normal",{"v":91.74,"d":"€91.74"},"LUXE",{"$f":"IFERROR(VLOOKUP(G13322,Discounts!C:E,3,0),0)","v":0},{"v":91.74,"d":"€91.74"}]
["Auto",127080,31640,1,"Normal",{"v":141.32,"d":"€141.32"},"LUXE",{"$f":"IFERROR(VLOOKUP(G13335,Discounts!C:E,3,0),0)","v":0},{"v":141.32,"d":"€141.32"}]
["Auto",127110,29720,1,"Normal",{"v":91.74,"d":"€91.74"},"LUXE",{"$f":"IFERROR(VLOOKUP(G13344,Discounts!C:E,3,0),0)","v":0},{"v":91.74,"d":"€91.74"}]
["Auto",127170,31640,1,"Normal",{"v":141.32,"d":"€141.32"},"LUXE",{"$f":"IFERROR(VLOOKUP(G13366,Discounts!C:E,3,0),0)","v":0},{"v":141.32,"d":"€141.32"}]
["Auto",127210,29930,1,"Normal",{"v":595.87,"d":"€595.87"},"LUXE",{"$f":"IFERROR(VLOOKUP(G13379,Discounts!C:E,3,0),0)","v":0},{"$f":"IF(E13379=\"Normal\",F13379*(1-H13379),SUMIF(B:B,C13379,I:I)*D13379)","v":{"v":595.87,"d":"€595.87"}}]
["Auto",127230,121590,1,"Combination",{"v":249.59,"d":"€249.59"},"A015",{"$f":"IFERROR(VLOOKUP(G13388,Discounts!C:E,3,0),0)","v":0},{"v":249.59,"d":"€249.59"}]
["Auto",127280,31470,1,"Normal",{"v":141.32,"d":"€141.32"},"LUXE",{"$f":"IFERROR(VLOOKUP(G13404,Discounts!C:E,3,0),0)","v":0},{"v":141.32,"d":"€141.32"}]
["Auto",127300,31470,1,"Normal",{"v":141.32,"d":"€141.32"},"LUXE",{"$f":"IFERROR(VLOOKUP(G13411,Discounts!C:E,3,0),0)","v":0},{"v":141.32,"d":"€141.32"}]
["Auto",127330,31470,1,"Normal",{"v":141.32,"d":"€141.32"},"LUXE",{"$f":"IFERROR(VLOOKUP(G13420,Discounts!C:E,3,0),0)","v":0},{"v":141.32,"d":"€141.32"}]
["Auto",127400,31470,1,"Normal",{"v":141.32,"d":"€141.32"},"LUXE",{"$f":"IFERROR(VLOOKUP(G13433,Discounts!C:E,3,0),0)","v":0},{"v":141.32,"d":"€141.32"}]
["Auto",127430,31470,1,"Normal",{"v":141.32,"d":"€141.32"},"LUXE",{"$f":"IFERROR(VLOOKUP(G13442,Discounts!C:E,3,0),0)","v":0},{"v":141.32,"d":"€141.32"}]
["Auto",127470,29710,1,"Normal",{"v":42.98,"d":"€42.98"},"LUXE",{"$f":"IFERROR(VLOOKUP(G13453,Discounts!C:E,3,0),0)","v":0},{"v":42.98,"d":"€42.98"}]
["Auto",127570,123490,1,"Combination",{"v":2728.1,"d":"€2,728.10"},"A010",{"$f":"IFERROR(VLOOKUP(G13477,Discounts!C:E,3,0),0)","v":0},{"v":2728.1000000000004,"d":"€2,728.10"}]
["Auto",127610,121790,1,"Combination",{"v":2847.11,"d":"€2,847.11"},"A010",{"$f":"IFERROR(VLOOKUP(G13486,Discounts!C:E,3,0),0)","v":0},{"v":2847.11,"d":"€2,847.11"}]
["Auto",127650,29910,1,"Normal",{"v":627.27,"d":"€627.27"},"P105",{"$f":"IFERROR(VLOOKUP(G13499,Discounts!C:E,3,0),0)","v":0},{"v":627.27,"d":"€627.27"}]
["Auto",127690,29710,1,"Normal",{"v":42.98,"d":"€42.98"},"LUXE",{"$f":"IFERROR(VLOOKUP(G13509,Discounts!C:E,3,0),0)","v":0},{"v":42.98,"d":"€42.98"}]
["Auto",127740,121830,1,"Combination",{"v":2351.24,"d":"€2,351.24"},"A010",{"$f":"IFERROR(VLOOKUP(G13518,Discounts!C:E,3,0),0)","v":0},{"v":2351.2400000000002,"d":"€2,351.24"}]
["Auto",127780,29720,1,"Normal",{"v":91.74,"d":"€91.74"},"LUXE",{"$f":"IFERROR(VLOOKUP(G13531,Discounts!C:E,3,0),0)","v":0},{"v":91.74,"d":"€91.74"}]
["Auto",127800,31470,1,"Normal",{"v":141.32,"d":"€141.32"},"LUXE",{"$f":"IFERROR(VLOOKUP(G13540,Discounts!C:E,3,0),0)","v":0},{"v":141.32,"d":"€141.32"}]
["Auto",127910,31470,1,"Normal",{"v":141.32,"d":"€141.32"},"LUXE",{"$f":"IFERROR(VLOOKUP(G13561,Discounts!C:E,3,0),0)","v":0},{"v":141.32,"d":"€141.32"}]
["Auto",127980,121910,1,"Combination",{"v":2952.07,"d":"€2,952.07"},"A010",{"$f":"IFERROR(VLOOKUP(G13571,Discounts!C:E,3,0),0)","v":0},{"$f":"IF(E13571=\"Normal\",F13571*(1-H13571),SUMIF(B:B,C13571,I:I)*D13571)","v":{"v":2952.07,"d":"€2,952.07"}}]
["Auto",128030,29710,1,"Normal",{"v":42.98,"d":"€42.98"},"LUXE",{"$f":"IFERROR(VLOOKUP(G13584,Discounts!C:E,3,0),0)","v":0},{"v":42.98,"d":"€42.98"}]
["Auto",128060,53350,1,"Normal",{"v":199.17,"d":"€199.17"},"LUXE",{"$f":"IFERROR(VLOOKUP(G13597,Discounts!C:E,3,0),0)","v":0},{"v":199.17,"d":"€199.17"}]
["Auto",128080,122000,1,"Combination",{"v":2309.92,"d":"€2,309.92"},"A010",{"$f":"IFERROR(VLOOKUP(G13606,Discounts!C:E,3,0),0)","v":0},{"v":2309.92,"d":"€2,309.92"}]
["Auto",128120,122040,1,"Combination",{"v":249.59,"d":"€249.59"},"A010",{"$f":"IFERROR(VLOOKUP(G13618,Discounts!C:E,3,0),0)","v":0},{"v":249.59,"d":"€249.59"}]
["Auto",128160,30460,1,"Normal",{"v":1338.84,"d":"€1,338.84"},"P106",{"$f":"IFERROR(VLOOKUP(G13629,Discounts!C:E,3,0),0)","v":0},{"v":1338.84,"d":"€1,338.84"}]
["Auto",128240,29710,1,"Normal",{"v":42.98,"d":"€42.98"},"LUXE",{"$f":"IFERROR(VLOOKUP(G13638,Discounts!C:E,3,0),0)","v":0},{"v":42.98,"d":"€42.98"}]
["Auto",128330,29710,1,"Normal",{"v":42.98,"d":"€42.98"},"LUXE",{"$f":"IFERROR(VLOOKUP(G13651,Discounts!C:E,3,0),0)","v":0},{"v":42.98,"d":"€42.98"}]
["Auto",128400,29710,1,"Normal",{"v":42.98,"d":"€42.98"},"LUXE",{"$f":"IFERROR(VLOOKUP(G13672,Discounts!C:E,3,0),0)","v":0},{"v":42.98,"d":"€42.98"}]
["Auto",128420,122170,1,"Combination",{"v":2434.71,"d":"€2,434.71"},"A010",{"$f":"IFERROR(VLOOKUP(G13680,Discounts!C:E,3,0),0)","v":0},{"v":2434.71,"d":"€2,434.71"}]
["Auto",128470,118490,1,"Normal",0,"A010",{"$f":"IFERROR(VLOOKUP(G13695,Discounts!C:E,3,0),0)","v":0},0]
["Auto",128500,122240,1,"Combination",{"v":249.59,"d":"€249.59"},"A010",{"$f":"IFERROR(VLOOKUP(G13704,Discounts!C:E,3,0),0)","v":0},{"v":249.59,"d":"€249.59"}]
["Auto",128530,122520,1,"Combination",{"v":2300.83,"d":"€2,300.83"},"A010",{"$f":"IFERROR(VLOOKUP(G13713,Discounts!C:E,3,0),0)","v":0},{"v":2300.83,"d":"€2,300.83"}]
["Auto",128570,29710,1,"Normal",{"v":42.98,"d":"€42.98"},"LUXE",{"$f":"IFERROR(VLOOKUP(G13723,Discounts!C:E,3,0),0)","v":0},{"v":42.98,"d":"€42.98"}]
["Auto",128610,31470,1,"Normal",{"v":141.32,"d":"€141.32"},"LUXE",{"$f":"IFERROR(VLOOKUP(G13736,Discounts!C:E,3,0),0)","v":0},{"v":141.32,"d":"€141.32"}]
["Auto",128650,29710,1,"Normal",{"v":42.98,"d":"€42.98"},"LUXE",{"$f":"IFERROR(VLOOKUP(G13749,Discounts!C:E,3,0),0)","v":0},{"v":42.98,"d":"€42.98"}]
["Auto",128760,29710,1,"Normal",{"v":42.98,"d":"€42.98"},"LUXE",{"$f":"IFERROR(VLOOKUP(G13770,Discounts!C:E,3,0),0)","v":0},{"v":42.98,"d":"€42.98"}]
["Auto",128780,31470,1,"Normal",{"v":141.32,"d":"€141.32"},"LUXE",{"$f":"IFERROR(VLOOKUP(G13779,Discounts!C:E,3,0),0)","v":0},{"v":141.32,"d":"€141.32"}]
["Auto",128790,122340,1,"Combination",{"v":249.59,"d":"€249.59"},"A010",{"$f":"IFERROR(VLOOKUP(G13785,Discounts!C:E,3,0),0)","v":0},{"v":249.59,"d":"€249.59"}]
["Auto",128840,31470,1,"Normal",{"v":141.32,"d":"€141.32"},"LUXE",{"$f":"IFERROR(VLOOKUP(G13802,Discounts!C:E,3,0),0)","v":0},{"v":141.32,"d":"€141.32"}]
["Auto",128860,45730,1,"Normal",{"v":42.98,"d":"€42.98"},"LUXE",{"$f":"IFERROR(VLOOKUP(G13811,Discounts!C:E,3,0),0)","v":0},{"v":42.98,"d":"€42.98"}]
["Auto",128890,122430,1,"Combination",{"v":2049.59,"d":"€2,049.59"},"A010",{"$f":"IFERROR(VLOOKUP(G13824,Discounts!C:E,3,0),0)","v":0},{"v":2049.59,"d":"€2,049.59"}]
["Auto",128920,29710,1,"Normal",{"v":42.98,"d":"€42.98"},"LUXE",{"$f":"IFERROR(VLOOKUP(G13832,Discounts!C:E,3,0),0)","v":0},{"v":42.98,"d":"€42.98"}]
["Auto",128950,122480,1,"Combination",{"v":249.59,"d":"€249.59"},"A010",{"$f":"IFERROR(VLOOKUP(G13847,Discounts!C:E,3,0),0)","v":0},{"v":249.59,"d":"€249.59"}]
["Auto",129010,29710,1,"Normal",{"v":42.98,"d":"€42.98"},"LUXE",{"$f":"IFERROR(VLOOKUP(G13868,Discounts!C:E,3,0),0)","v":0},{"v":42.98,"d":"€42.98"}]
["Auto",129030,45730,1,"Normal",{"v":42.98,"d":"€42.98"},"LUXE",{"$f":"IFERROR(VLOOKUP(G13877,Discounts!C:E,3,0),0)","v":0},{"v":42.98,"d":"€42.98"}]
["Auto",129060,122730,1,"Combination",{"v":249.59,"d":"€249.59"},"A010",{"$f":"IFERROR(VLOOKUP(G13890,Discounts!C:E,3,0),0)","v":0},{"v":249.59,"d":"€249.59"}]
["Auto",129070,122740,1,"Combination",{"v":249.59,"d":"€249.59"},"A010",{"$f":"IFERROR(VLOOKUP(G13894,Discounts!C:E,3,0),0)","v":0},{"v":249.59,"d":"€249.59"}]
["Auto",129120,45730,1,"Normal",{"v":42.98,"d":"€42.98"},"LUXE",{"$f":"IFERROR(VLOOKUP(G13913,Discounts!C:E,3,0),0)","v":0},{"v":42.98,"d":"€42.98"}]
["Auto",129150,29710,1,"Normal",{"v":42.98,"d":"€42.98"},"LUXE",{"$f":"IFERROR(VLOOKUP(G13922,Discounts!C:E,3,0),0)","v":0},{"v":42.98,"d":"€42.98"}]
["Auto",129170,31470,1,"Normal",{"v":141.32,"d":"€141.32"},"LUXE",{"$f":"IFERROR(VLOOKUP(G13931,Discounts!C:E,3,0),0)","v":0},{"v":141.32,"d":"€141.32"}]
["Auto",129220,29710,1,"Normal",{"v":42.98,"d":"€42.98"},"LUXE",{"$f":"IFERROR(VLOOKUP(G13950,Discounts!C:E,3,0),0)","v":0},{"v":42.98,"d":"€42.98"}]
["Auto",129260,31470,1,"Normal",{"v":141.32,"d":"€141.32"},"LUXE",{"$f":"IFERROR(VLOOKUP(G13966,Discounts!C:E,3,0),0)","v":0},{"v":141.32,"d":"€141.32"}]
["Auto",129280,45730,1,"Normal",{"v":42.98,"d":"€42.98"},"LUXE",{"$f":"IFERROR(VLOOKUP(G13975,Discounts!C:E,3,0),0)","v":0},{"v":42.98,"d":"€42.98"}]
["Auto",129310,122960,1,"Combination",{"v":249.59,"d":"€249.59"},"A010",{"$f":"IFERROR(VLOOKUP(G13988,Discounts!C:E,3,0),0)","v":0},{"v":249.59,"d":"€249.59"}]
["Auto",129340,29710,1,"Normal",{"v":42.98,"d":"€42.98"},"LUXE",{"$f":"IFERROR(VLOOKUP(G13997,Discounts!C:E,3,0),0)","v":0},{"v":42.98,"d":"€42.98"}]
["Auto",129380,29710,1,"Normal",{"v":42.98,"d":"€42.98"},"LUXE",{"$f":"IFERROR(VLOOKUP(G14012,Discounts!C:E,3,0),0)","v":0},{"v":42.98,"d":"€42.98"}]
["Auto",129400,29710,1,"Normal",{"v":42.98,"d":"€42.98"},"LUXE",{"$f":"IFERROR(VLOOKUP(G14020,Discounts!C:E,3,0),0)","v":0},{"v":42.98,"d":"€42.98"}]
["Auto",129420,31470,1,"Normal",{"v":141.32,"d":"€141.32"},"LUXE",{"$f":"IFERROR(VLOOKUP(G14029,Discounts!C:E,3,0),0)","v":0},{"v":141.32,"d":"€141.32"}]
["Auto",129450,45730,1,"Normal",{"v":42.98,"d":"€42.98"},"LUXE",{"$f":"IFERROR(VLOOKUP(G14042,Discounts!C:E,3,0),0)","v":0},{"v":42.98,"d":"€42.98"}]
["Auto",129490,123110,1,"Combination",{"v":249.59,"d":"€249.59"},"A010",{"$f":"IFERROR(VLOOKUP(G14059,Discounts!C:E,3,0),0)","v":0},{"v":249.59,"d":"€249.59"}]
["Auto",129510,31470,1,"Normal",{"v":141.32,"d":"€141.32"},"LUXE",{"$f":"IFERROR(VLOOKUP(G14065,Discounts!C:E,3,0),0)","v":0},{"v":141.32,"d":"€141.32"}]
["Auto",129570,45730,1,"Normal",{"v":42.98,"d":"€42.98"},"LUXE",{"$f":"IFERROR(VLOOKUP(G14086,Discounts!C:E,3,0),0)","v":0},{"v":42.98,"d":"€42.98"}]
["Auto",129590,123170,1,"Normal",0,"A010",{"$f":"IFERROR(VLOOKUP(G14095,Discounts!C:E,3,0),0)","v":0},0]
["Auto",129630,29760,1,"Normal",{"v":913.22,"d":"€913.22"},"LUXE",{"$f":"IFERROR(VLOOKUP(G14108,Discounts!C:E,3,0),0)","v":0},{"v":913.22,"d":"€913.22"}]
["Auto",129660,31640,1,"Normal",{"v":141.32,"d":"€141.32"},"LUXE",{"$f":"IFERROR(VLOOKUP(G14121,Discounts!C:E,3,0),0)","v":0},{"v":141.32,"d":"€141.32"}]
["Auto",129670,123940,1,"Normal",{"v":1426.45,"d":"€1,426.45"},"A015",{"$f":"IFERROR(VLOOKUP(G14127,Discounts!C:E,3,0),0)","v":0},{"v":1426.45,"d":"€1,426.45"}]
["Auto",129700,44950,1,"Normal",{"v":142.98,"d":"€142.98"},"O115",{"$f":"IFERROR(VLOOKUP(G14140,Discounts!C:E,3,0),0)","v":0},{"v":142.98,"d":"€142.98"}]
["Auto",129760,124030,1,"Combination",{"v":1530.58,"d":"€1,530.58"},"A010",{"$f":"IFERROR(VLOOKUP(G14161,Discounts!C:E,3,0),0)","v":0},{"v":1530.58,"d":"€1,530.58"}]
["Auto",129770,124040,1,"Normal",{"v":1360.33,"d":"€1,360.33"},"A010",{"$f":"IFERROR(VLOOKUP(G14164,Discounts!C:E,3,0),0)","v":0},{"v":1360.33,"d":"€1,360.33"}]
["Auto",129830,31640,1,"Normal",{"v":141.32,"d":"€141.32"},"LUXE",{"$f":"IFERROR(VLOOKUP(G14184,Discounts!C:E,3,0),0)","v":0},{"v":141.32,"d":"€141.32"}]
["Auto",129840,44950,1,"Normal",{"v":142.98,"d":"€142.98"},"O115",{"$f":"IFERROR(VLOOKUP(G14193,Discounts!C:E,3,0),0)","v":0},{"v":142.98,"d":"€142.98"}]
["Auto",129870,45730,2,"Normal",{"v":85.96,"d":"€85.96"},"LUXE",{"$f":"IFERROR(VLOOKUP(G14206,Discounts!C:E,3,0),0)","v":0},{"v":85.96,"d":"€85.96"}]
["Auto",129880,123300,2,"Normal",{"v":5429.76,"d":"€5,429.76"},"A010",{"$f":"IFERROR(VLOOKUP(G14211,Discounts!C:E,3,0),0)","v":0},{"$f":"IF(E14211=\"Normal\",F14211*(1-H14211),SUMIF(B:B,C14211,I:I)*D14211)","v":{"v":5429.76,"d":"€5,429.76"}}]
["Auto",129920,31470,2,"Normal",{"v":282.64,"d":"€282.64"},"LUXE",{"$f":"IFERROR(VLOOKUP(G14225,Discounts!C:E,3,0),0)","v":0},{"v":282.64,"d":"€282.64"}]
["Auto",129960,31470,2,"Normal",{"v":282.64,"d":"€282.64"},"LUXE",{"$f":"IFERROR(VLOOKUP(G14238,Discounts!C:E,3,0),0)","v":0},{"v":282.64,"d":"€282.64"}]
["Auto",130020,31470,2,"Normal",{"v":282.64,"d":"€282.64"},"LUXE",{"$f":"IFERROR(VLOOKUP(G14259,Discounts!C:E,3,0),0)","v":0},{"v":282.64,"d":"€282.64"}]
["Auto",130020,118670,2,"Normal",{"v":4948.76,"d":"€4,948.76"},"A010",{"$f":"IFERROR(VLOOKUP(G14260,Discounts!C:E,3,0),0)","v":0},{"v":4948.76,"d":"€4,948.76"}]
["Auto",130070,29720,2,"Normal",{"v":183.48,"d":"€183.48"},"LUXE",{"$f":"IFERROR(VLOOKUP(G14273,Discounts!C:E,3,0),0)","v":0},{"v":183.48,"d":"€183.48"}]
["Auto",130110,123400,2,"Normal",{"v":4234.72,"d":"€4,234.72"},"A010",{"$f":"IFERROR(VLOOKUP(G14291,Discounts!C:E,3,0),0)","v":0},{"v":4234.72,"d":"€4,234.72"}]
["Auto",130160,29710,2,"Normal",{"v":85.96,"d":"€85.96"},"LUXE",{"$f":"IFERROR(VLOOKUP(G14304,Discounts!C:E,3,0),0)","v":0},{"v":85.96,"d":"€85.96"}]
["Auto",130180,118770,2,"Normal",{"v":3771.9,"d":"€3,771.90"},"A010",{"$f":"IFERROR(VLOOKUP(G14313,Discounts!C:E,3,0),0)","v":0},{"v":3771.9,"d":"€3,771.90"}]
["Auto",130230,31470,2,"Normal",{"v":282.64,"d":"€282.64"},"LUXE",{"$f":"IFERROR(VLOOKUP(G14329,Discounts!C:E,3,0),0)","v":0},{"v":282.64,"d":"€282.64"}]
["Auto",130250,118840,2,"Normal",0,"A010",{"$f":"IFERROR(VLOOKUP(G14336,Discounts!C:E,3,0),0)","v":0},0]
["Auto",130320,118910,2,"Normal",{"v":2945.46,"d":"€2,945.46"},"A010",{"$f":"IFERROR(VLOOKUP(G14357,Discounts!C:E,3,0),0)","v":0},{"v":2945.46,"d":"€2,945.46"}]
["Auto",130330,29710,2,"Normal",{"v":85.96,"d":"€85.96"},"LUXE",{"$f":"IFERROR(VLOOKUP(G14358,Discounts!C:E,3,0),0)","v":0},{"v":85.96,"d":"€85.96"}]
["Auto",130380,31470,2,"Normal",{"v":282.64,"d":"€282.64"},"LUXE",{"$f":"IFERROR(VLOOKUP(G14379,Discounts!C:E,3,0),0)","v":0},{"v":282.64,"d":"€282.64"}]
["Auto",130390,31470,2,"Normal",{"v":282.64,"d":"€282.64"},"LUXE",{"$f":"IFERROR(VLOOKUP(G14382,Discounts!C:E,3,0),0)","v":0},{"v":282.64,"d":"€282.64"}]
["Auto",130450,123410,2,"Normal",{"v":4056.2,"d":"€4,056.20"},"A010",{"$f":"IFERROR(VLOOKUP(G14402,Discounts!C:E,3,0),0)","v":0},{"v":4056.2,"d":"€4,056.20"}]
["Auto",130480,119050,2,"Normal",{"v":3072.72,"d":"€3,072.72"},"A010",{"$f":"IFERROR(VLOOKUP(G14411,Discounts!C:E,3,0),0)","v":0},{"v":3072.72,"d":"€3,072.72"}]
["Auto",130520,123420,2,"Normal",0,"A010",{"$f":"IFERROR(VLOOKUP(G14424,Discounts!C:E,3,0),0)","v":0},0]
["Auto",130570,119130,2,"Normal",0,"A010",{"$f":"IFERROR(VLOOKUP(G14438,Discounts!C:E,3,0),0)","v":0},0]
["Auto",130630,31470,2,"Normal",{"v":282.64,"d":"€282.64"},"LUXE",{"$f":"IFERROR(VLOOKUP(G14455,Discounts!C:E,3,0),0)","v":0},{"v":282.64,"d":"€282.64"}]
["Auto",130630,119180,2,"Normal",{"v":2357.02,"d":"€2,357.02"},"A010",{"$f":"IFERROR(VLOOKUP(G14456,Discounts!C:E,3,0),0)","v":0},{"v":2357.02,"d":"€2,357.02"}]
["Auto",130700,119240,2,"Normal",0,"A010",{"$f":"IFERROR(VLOOKUP(G14477,Discounts!C:E,3,0),0)","v":0},0]
["Auto",130730,119270,2,"Normal",{"v":2507.44,"d":"€2,507.44"},"A010",{"$f":"IFERROR(VLOOKUP(G14486,Discounts!C:E,3,0),0)","v":0},{"v":2507.44,"d":"€2,507.44"}]
["Auto",130780,31470,2,"Normal",{"v":282.64,"d":"€282.64"},"LUXE",{"$f":"IFERROR(VLOOKUP(G14500,Discounts!C:E,3,0),0)","v":0},{"v":282.64,"d":"€282.64"}]
["Auto",130810,31470,2,"Normal",{"v":282.64,"d":"€282.64"},"LUXE",{"$f":"IFERROR(VLOOKUP(G14509,Discounts!C:E,3,0),0)","v":0},{"v":282.64,"d":"€282.64"}]
["Auto",130850,119650,2,"Normal",{"v":3406.62,"d":"€3,406.62"},"A010",{"$f":"IFERROR(VLOOKUP(G14522,Discounts!C:E,3,0),0)","v":0},{"v":3406.62,"d":"€3,406.62"}]
["Auto",130880,30480,12,"Normal",{"v":1596.72,"d":"€1,596.72"},"O115",{"$f":"IFERROR(VLOOKUP(G14531,Discounts!C:E,3,0),0)","v":0},{"$f":"IF(E14531=\"Normal\",F14531*(1-H14531),SUMIF(B:B,C14531,I:I)*D14531)","v":{"v":1596.72,"d":"€1,596.72"}}]
["Auto",130930,29710,2,"Normal",{"v":85.96,"d":"€85.96"},"LUXE",{"$f":"IFERROR(VLOOKUP(G14547,Discounts!C:E,3,0),0)","v":0},{"v":85.96,"d":"€85.96"}]
["Auto",130940,119740,2,"Normal",0,"A010",{"$f":"IFERROR(VLOOKUP(G14554,Discounts!C:E,3,0),0)","v":0},0]
["Auto",131000,29710,2,"Normal",{"v":85.96,"d":"€85.96"},"LUXE",{"$f":"IFERROR(VLOOKUP(G14575,Discounts!C:E,3,0),0)","v":0},{"v":85.96,"d":"€85.96"}]
["Auto",131030,31470,2,"Normal",{"v":282.64,"d":"€282.64"},"LUXE",{"$f":"IFERROR(VLOOKUP(G14588,Discounts!C:E,3,0),0)","v":0},{"v":282.64,"d":"€282.64"}]
["Auto",131050,45730,2,"Normal",{"v":85.96,"d":"€85.96"},"LUXE",{"$f":"IFERROR(VLOOKUP(G14597,Discounts!C:E,3,0),0)","v":0},{"v":85.96,"d":"€85.96"}]
["Auto",131080,45730,2,"Normal",{"v":85.96,"d":"€85.96"},"LUXE",{"$f":"IFERROR(VLOOKUP(G14609,Discounts!C:E,3,0),0)","v":0},{"v":85.96,"d":"€85.96"}]
["Auto",131110,31470,2,"Normal",{"v":282.64,"d":"€282.64"},"LUXE",{"$f":"IFERROR(VLOOKUP(G14620,Discounts!C:E,3,0),0)","v":0},{"v":282.64,"d":"€282.64"}]
["Auto",131130,45730,2,"Normal",{"v":85.96,"d":"€85.96"},"LUXE",{"$f":"IFERROR(VLOOKUP(G14629,Discounts!C:E,3,0),0)","v":0},{"v":85.96,"d":"€85.96"}]
["Auto",131180,119550,2,"Normal",0,"A010",{"$f":"IFERROR(VLOOKUP(G14650,Discounts!C:E,3,0),0)","v":0},0]
["Auto",131190,31470,2,"Normal",{"v":282.64,"d":"€282.64"},"LUXE",{"$f":"IFERROR(VLOOKUP(G14652,Discounts!C:E,3,0),0)","v":0},{"v":282.64,"d":"€282.64"}]
["Auto",131240,119800,2,"Normal",0,"A010",{"$f":"IFERROR(VLOOKUP(G14673,Discounts!C:E,3,0),0)","v":0},0]
["Auto",131280,29710,2,"Normal",{"v":85.96,"d":"€85.96"},"LUXE",{"$f":"IFERROR(VLOOKUP(G14686,Discounts!C:E,3,0),0)","v":0},{"v":85.96,"d":"€85.96"}]
["Auto",131300,31470,2,"Normal",{"v":282.64,"d":"€282.64"},"LUXE",{"$f":"IFERROR(VLOOKUP(G14695,Discounts!C:E,3,0),0)","v":0},{"v":282.64,"d":"€282.64"}]
["Auto",131320,45730,2,"Normal",{"v":85.96,"d":"€85.96"},"LUXE",{"$f":"IFERROR(VLOOKUP(G14704,Discounts!C:E,3,0),0)","v":0},{"v":85.96,"d":"€85.96"}]
["Auto",131350,29710,2,"Normal",{"v":85.96,"d":"€85.96"},"LUXE",{"$f":"IFERROR(VLOOKUP(G14714,Discounts!C:E,3,0),0)","v":0},{"v":85.96,"d":"€85.96"}]
["Auto",131380,31470,2,"Normal",{"v":282.64,"d":"€282.64"},"LUXE",{"$f":"IFERROR(VLOOKUP(G14727,Discounts!C:E,3,0),0)","v":0},{"v":282.64,"d":"€282.64"}]
["Auto",131410,45730,2,"Normal",{"v":85.96,"d":"€85.96"},"LUXE",{"$f":"IFERROR(VLOOKUP(G14740,Discounts!C:E,3,0),0)","v":0},{"v":85.96,"d":"€85.96"}]
["Auto",131430,119980,2,"Normal",{"v":2937.2,"d":"€2,937.20"},"A010",{"$f":"IFERROR(VLOOKUP(G14749,Discounts!C:E,3,0),0)","v":0},{"v":2937.2,"d":"€2,937.20"}]
["Auto",131470,29710,2,"Normal",{"v":85.96,"d":"€85.96"},"LUXE",{"$f":"IFERROR(VLOOKUP(G14761,Discounts!C:E,3,0),0)","v":0},{"v":85.96,"d":"€85.96"}]
["Auto",131530,29710,2,"Normal",{"v":85.96,"d":"€85.96"},"LUXE",{"$f":"IFERROR(VLOOKUP(G14784,Discounts!C:E,3,0),0)","v":0},{"v":85.96,"d":"€85.96"}]
["Auto",131550,29930,2,"Normal",{"v":1191.74,"d":"€1,191.74"},"LUXE",{"$f":"IFERROR(VLOOKUP(G14793,Discounts!C:E,3,0),0)","v":0},{"v":1191.74,"d":"€1,191.74"}]
["Auto",131570,45730,2,"Normal",{"v":85.96,"d":"€85.96"},"LUXE",{"$f":"IFERROR(VLOOKUP(G14802,Discounts!C:E,3,0),0)","v":0},{"v":85.96,"d":"€85.96"}]
["Auto",131600,120140,2,"Normal",0,"A010",{"$f":"IFERROR(VLOOKUP(G14815,Discounts!C:E,3,0),0)","v":0},0]
["Auto",131620,120160,2,"Normal",0,"A010",{"$f":"IFERROR(VLOOKUP(G14823,Discounts!C:E,3,0),0)","v":0},0]
["Auto",131660,45730,2,"Normal",{"v":85.96,"d":"€85.96"},"LUXE",{"$f":"IFERROR(VLOOKUP(G14838,Discounts!C:E,3,0),0)","v":0},{"v":85.96,"d":"€85.96"}]
["Auto",131680,120220,2,"Normal",0,"A010",{"$f":"IFERROR(VLOOKUP(G14847,Discounts!C:E,3,0),0)","v":0},0]
["Auto",131740,31470,2,"Normal",{"v":282.64,"d":"€282.64"},"LUXE",{"$f":"IFERROR(VLOOKUP(G14868,Discounts!C:E,3,0),0)","v":0},{"v":282.64,"d":"€282.64"}]
["Auto",131780,31470,2,"Normal",{"v":282.64,"d":"€282.64"},"LUXE",{"$f":"IFERROR(VLOOKUP(G14879,Discounts!C:E,3,0),0)","v":0},{"v":282.64,"d":"€282.64"}]
["Auto",131820,29710,2,"Normal",{"v":85.96,"d":"€85.96"},"LUXE",{"$f":"IFERROR(VLOOKUP(G14891,Discounts!C:E,3,0),0)","v":0},{"v":85.96,"d":"€85.96"}]
["Auto",131850,29710,2,"Normal",{"v":85.96,"d":"€85.96"},"LUXE",{"$f":"IFERROR(VLOOKUP(G14900,Discounts!C:E,3,0),0)","v":0},{"v":85.96,"d":"€85.96"}]
["Auto",131890,29720,2,"Normal",{"v":183.48,"d":"€183.48"},"LUXE",{"$f":"IFERROR(VLOOKUP(G14913,Discounts!C:E,3,0),0)","v":0},{"v":183.48,"d":"€183.48"}]
["Auto",131920,29720,2,"Normal",{"v":183.48,"d":"€183.48"},"LUXE",{"$f":"IFERROR(VLOOKUP(G14922,Discounts!C:E,3,0),0)","v":0},{"v":183.48,"d":"€183.48"}]
["Auto",131970,29930,4,"Normal",{"v":2383.48,"d":"€2,383.48"},"LUXE",{"$f":"IFERROR(VLOOKUP(G14941,Discounts!C:E,3,0),0)","v":0},{"v":2383.48,"d":"€2,383.48"}]
["Auto",131980,31640,2,"Normal",{"v":282.64,"d":"€282.64"},"LUXE",{"$f":"IFERROR(VLOOKUP(G14945,Discounts!C:E,3,0),0)","v":0},{"v":282.64,"d":"€282.64"}]
["Auto",132140,43810,1,"Normal",{"v":286.78,"d":"€286.78"},"P106",{"$f":"IFERROR(VLOOKUP(G14966,Discounts!C:E,3,0),0)","v":0},{"v":286.78,"d":"€286.78"}]
["Auto",132330,31920,1,"Normal",{"v":121.49,"d":"€121.49"},"SD/SG",{"$f":"IFERROR(VLOOKUP(G14979,Discounts!C:E,3,0),0)","v":0},{"$f":"IF(E14979=\"Normal\",F14979*(1-H14979),SUMIF(B:B,C14979,I:I)*D14979)","v":{"v":121.49,"d":"€121.49"}}]
["Auto",132350,40450,1,"Normal",{"v":13.22,"d":"€13.22"},"SD/SG",{"$f":"IFERROR(VLOOKUP(G14988,Discounts!C:E,3,0),0)","v":0},{"v":13.22,"d":"€13.22"}]
["Auto",132390,34000,1,"Normal",{"v":131.4,"d":"€131.40"},"SD/SG",{"$f":"IFERROR(VLOOKUP(G15002,Discounts!C:E,3,0),0)","v":0},{"v":131.4,"d":"€131.40"}]
["Auto",132410,31920,1,"Normal",{"v":121.49,"d":"€121.49"},"SD/SG",{"$f":"IFERROR(VLOOKUP(G15011,Discounts!C:E,3,0),0)","v":0},{"v":121.49,"d":"€121.49"}]
["Auto",132420,57320,1,"Normal",{"v":556.2,"d":"€556.20"},"E012",{"$f":"IFERROR(VLOOKUP(G15020,Discounts!C:E,3,0),0)","v":0},{"v":556.2,"d":"€556.20"}]
["Auto",132460,31920,1,"Normal",{"v":121.49,"d":"€121.49"},"SD/SG",{"$f":"IFERROR(VLOOKUP(G15033,Discounts!C:E,3,0),0)","v":0},{"v":121.49,"d":"€121.49"}]
["Auto",132500,57400,1,"Normal",{"v":922.31,"d":"€922.31"},"E012",{"$f":"IFERROR(VLOOKUP(G15050,Discounts!C:E,3,0),0)","v":0},{"v":922.31,"d":"€922.31"}]
["Auto",132560,34000,2,"Normal",{"v":262.8,"d":"€262.80"},"SD/SG",{"$f":"IFERROR(VLOOKUP(G15064,Discounts!C:E,3,0),0)","v":0},{"v":262.8,"d":"€262.80"}]
["Auto",132630,137810,2,"Normal",{"v":242.98,"d":"€242.98"},"LUXE",{"$f":"IFERROR(VLOOKUP(G15077,Discounts!C:E,3,0),0)","v":0},{"v":242.98,"d":"€242.98"}]
["Auto",132680,120410,2,"Normal",{"v":1234.72,"d":"€1,234.72"},"C010",{"$f":"IFERROR(VLOOKUP(G15086,Discounts!C:E,3,0),0)","v":0},{"v":1234.72,"d":"€1,234.72"}]
["Auto",132710,137810,2,"Normal",{"v":242.98,"d":"€242.98"},"LUXE",{"$f":"IFERROR(VLOOKUP(G15093,Discounts!C:E,3,0),0)","v":0},{"v":242.98,"d":"€242.98"}]
["Auto",132790,137810,1,"Normal",{"v":121.49,"d":"€121.49"},"LUXE",{"$f":"IFERROR(VLOOKUP(G15109,Discounts!C:E,3,0),0)","v":0},{"v":121.49,"d":"€121.49"}]
["Auto",132830,45930,2,"Normal",{"v":2852.9,"d":"€2,852.90"},"A015",{"$f":"IFERROR(VLOOKUP(G15118,Discounts!C:E,3,0),0)","v":0},{"v":2852.9,"d":"€2,852.90"}]
["Auto",132880,31920,2,"Normal",{"v":242.98,"d":"€242.98"},"SD/SG",{"$f":"IFERROR(VLOOKUP(G15131,Discounts!C:E,3,0),0)","v":0},{"v":242.98,"d":"€242.98"}]
["Auto",132980,103880,2,"Normal",{"v":1254.54,"d":"€1,254.54"},"B015",{"$f":"IFERROR(VLOOKUP(G15140,Discounts!C:E,3,0),0)","v":0},{"v":1254.54,"d":"€1,254.54"}]
["Auto",133040,106930,2,"Normal",{"v":1069.42,"d":"€1,069.42"},"B015",{"$f":"IFERROR(VLOOKUP(G15159,Discounts!C:E,3,0),0)","v":0},{"v":1069.42,"d":"€1,069.42"}]
["Auto",133090,107340,2,"Normal",{"v":385.12,"d":"€385.12"},"P109",{"$f":"IFERROR(VLOOKUP(G15175,Discounts!C:E,3,0),0)","v":0},{"v":385.12,"d":"€385.12"}]
["Auto",133140,104220,1,"Normal",{"v":415.7,"d":"€415.70"},"B015",{"$f":"IFERROR(VLOOKUP(G15184,Discounts!C:E,3,0),0)","v":0},{"v":415.7,"d":"€415.70"}]
["Auto",133200,105560,1,"Normal",{"v":281.82,"d":"€281.82"},"P109",{"$f":"IFERROR(VLOOKUP(G15197,Discounts!C:E,3,0),0)","v":0},{"v":281.82,"d":"€281.82"}]
["Auto",133230,104220,2,"Normal",{"v":831.4,"d":"€831.40"},"B015",{"$f":"IFERROR(VLOOKUP(G15202,Discounts!C:E,3,0),0)","v":0},{"v":831.4,"d":"€831.40"}]
["Auto",133820,106730,1,"Normal",{"v":12.4,"d":"€12.40"},"LUXE",{"$f":"IFERROR(VLOOKUP(G15216,Discounts!C:E,3,0),0)","v":0},{"v":12.4,"d":"€12.40"}]
["Auto",134260,115250,1,"Normal",0,"E023",{"$f":"IFERROR(VLOOKUP(G15229,Discounts!C:E,3,0),0)","v":0},0]
["Auto",134290,44440,2,"Normal",{"v":190.08,"d":"€190.08"},"SD/SG",{"$f":"IFERROR(VLOOKUP(G15238,Discounts!C:E,3,0),0)","v":0},{"v":190.08,"d":"€190.08"}]
["Auto",134340,31920,2,"Normal",{"v":242.98,"d":"€242.98"},"SD/SG",{"$f":"IFERROR(VLOOKUP(G15251,Discounts!C:E,3,0),0)","v":0},{"v":242.98,"d":"€242.98"}]
["Auto",134380,31920,2,"Normal",{"v":242.98,"d":"€242.98"},"SD/SG",{"$f":"IFERROR(VLOOKUP(G15264,Discounts!C:E,3,0),0)","v":0},{"v":242.98,"d":"€242.98"}]
["Auto",134440,44440,2,"Normal",{"v":190.08,"d":"€190.08"},"SD/SG",{"$f":"IFERROR(VLOOKUP(G15282,Discounts!C:E,3,0),0)","v":0},{"v":190.08,"d":"€190.08"}]
["Auto",134480,44440,2,"Normal",{"v":190.08,"d":"€190.08"},"SD/SG",{"$f":"IFERROR(VLOOKUP(G15295,Discounts!C:E,3,0),0)","v":0},{"v":190.08,"d":"€190.08"}]
["Auto",134510,56100,1,"Normal",{"v":1307.44,"d":"€1,307.44"},"E020",{"$f":"IFERROR(VLOOKUP(G15304,Discounts!C:E,3,0),0)","v":0},{"v":1307.44,"d":"€1,307.44"}]
["Auto",134540,17740,1,"Normal",{"v":1737.19,"d":"€1,737.19"},"E023",{"$f":"IFERROR(VLOOKUP(G15311,Discounts!C:E,3,0),0)","v":0},{"v":1737.19,"d":"€1,737.19"}]
["Auto",134590,44440,2,"Normal",{"v":190.08,"d":"€190.08"},"SD/SG",{"$f":"IFERROR(VLOOKUP(G15327,Discounts!C:E,3,0),0)","v":0},{"v":190.08,"d":"€190.08"}]
["Auto",134620,31920,2,"Normal",{"v":242.98,"d":"€242.98"},"SD/SG",{"$f":"IFERROR(VLOOKUP(G15336,Discounts!C:E,3,0),0)","v":0},{"v":242.98,"d":"€242.98"}]
["Auto",134660,115300,1,"Normal",0,"E023",{"$f":"IFERROR(VLOOKUP(G15349,Discounts!C:E,3,0),0)","v":0},0]
["Auto",134730,40520,1,"Normal",{"v":67.77,"d":"€67.77"},"SD/SG",{"$f":"IFERROR(VLOOKUP(G15370,Discounts!C:E,3,0),0)","v":0},{"v":67.77,"d":"€67.77"}]
["Auto",134840,41440,2,"Normal",{"v":1119,"d":"€1,119.00"},"D010",{"$f":"IFERROR(VLOOKUP(G15373,Discounts!C:E,3,0),0)","v":0},{"v":1119,"d":"€1,119.00"}]
["Auto",134890,41450,2,"Normal",{"v":1262.8,"d":"€1,262.80"},"D010",{"$f":"IFERROR(VLOOKUP(G15393,Discounts!C:E,3,0),0)","v":0},{"v":1262.8,"d":"€1,262.80"}]
["Auto",134910,53560,2,"Combination",{"v":762,"d":"€762.00"},"SD/SG",{"$f":"IFERROR(VLOOKUP(G15402,Discounts!C:E,3,0),0)","v":0},{"v":762,"d":"€762.00"}]
["Auto",135100,135040,1,"Normal",{"v":450.41,"d":"€450.41"},"E055",{"$f":"IFERROR(VLOOKUP(G15415,Discounts!C:E,3,0),0)","v":0},{"v":450.41,"d":"€450.41"}]
["Auto",135270,137810,1,"Normal",{"v":121.49,"d":"€121.49"},"LUXE",{"$f":"IFERROR(VLOOKUP(G15429,Discounts!C:E,3,0),0)","v":0},{"v":121.49,"d":"€121.49"}]
["Auto",135300,21370,1,"Normal",{"v":795.04,"d":"€795.04"},"A010",{"$f":"IFERROR(VLOOKUP(G15434,Discounts!C:E,3,0),0)","v":0},{"v":795.04,"d":"€795.04"}]
["Auto",135360,137810,1,"Normal",{"v":121.49,"d":"€121.49"},"LUXE",{"$f":"IFERROR(VLOOKUP(G15447,Discounts!C:E,3,0),0)","v":0},{"v":121.49,"d":"€121.49"}]
["Auto",135470,21540,1,"Normal",{"v":811.57,"d":"€811.57"},"C010",{"$f":"IFERROR(VLOOKUP(G15468,Discounts!C:E,3,0),0)","v":0},{"v":811.57,"d":"€811.57"}]
["Auto",135510,137810,1,"Normal",{"v":121.49,"d":"€121.49"},"LUXE",{"$f":"IFERROR(VLOOKUP(G15477,Discounts!C:E,3,0),0)","v":0},{"v":121.49,"d":"€121.49"}]
["Auto",135580,137810,1,"Normal",{"v":121.49,"d":"€121.49"},"LUXE",{"$f":"IFERROR(VLOOKUP(G15491,Discounts!C:E,3,0),0)","v":0},{"$f":"IF(E15491=\"Normal\",F15491*(1-H15491),SUMIF(B:B,C15491,I:I)*D15491)","v":{"v":121.49,"d":"€121.49"}}]
["Auto",135630,22400,1,"Normal",{"v":965.29,"d":"€965.29"},"C010",{"$f":"IFERROR(VLOOKUP(G15500,Discounts!C:E,3,0),0)","v":0},{"v":965.29,"d":"€965.29"}]
["Auto",135690,137810,1,"Normal",{"v":121.49,"d":"€121.49"},"LUXE",{"$f":"IFERROR(VLOOKUP(G15513,Discounts!C:E,3,0),0)","v":0},{"v":121.49,"d":"€121.49"}]
["Auto",135740,120360,1,"Normal",{"v":822.31,"d":"€822.31"},"C010",{"$f":"IFERROR(VLOOKUP(G15522,Discounts!C:E,3,0),0)","v":0},{"v":822.31,"d":"€822.31"}]
["Auto",135820,120440,1,"Normal",{"v":865.29,"d":"€865.29"},"C010",{"$f":"IFERROR(VLOOKUP(G15538,Discounts!C:E,3,0),0)","v":0},{"v":865.29,"d":"€865.29"}]
["Auto",135850,137810,1,"Normal",{"v":121.49,"d":"€121.49"},"LUXE",{"$f":"IFERROR(VLOOKUP(G15545,Discounts!C:E,3,0),0)","v":0},{"v":121.49,"d":"€121.49"}]
["Auto",135960,120870,1,"Normal",{"v":896.69,"d":"€896.69"},"C010",{"$f":"IFERROR(VLOOKUP(G15566,Discounts!C:E,3,0),0)","v":0},{"v":896.69,"d":"€896.69"}]
["Auto",136000,137810,1,"Normal",{"v":121.49,"d":"€121.49"},"LUXE",{"$f":"IFERROR(VLOOKUP(G15575,Discounts!C:E,3,0),0)","v":0},{"v":121.49,"d":"€121.49"}]
["Auto",136130,136060,1,"Normal",0,"A010",{"$f":"IFERROR(VLOOKUP(G15588,Discounts!C:E,3,0),0)","v":0},0]
["Auto",136210,53080,1,"Normal",{"v":132.23,"d":"€132.23"},"LUXE",{"$f":"IFERROR(VLOOKUP(G15600,Discounts!C:E,3,0),0)","v":0},{"v":132.23,"d":"€132.23"}]
["Auto",136280,29710,1,"Normal",{"v":42.98,"d":"€42.98"},"LUXE",{"$f":"IFERROR(VLOOKUP(G15611,Discounts!C:E,3,0),0)","v":0},{"v":42.98,"d":"€42.98"}]
["Auto",136340,21880,1,"Combination",{"v":1058.68,"d":"€1,058.68"},"",{"$f":"IFERROR(VLOOKUP(G15620,Discounts!C:E,3,0),0)","v":0},{"v":1058.68,"d":"€1,058.68"}]
["Auto",136380,137810,1,"Normal",{"v":121.49,"d":"€121.49"},"LUXE",{"$f":"IFERROR(VLOOKUP(G15629,Discounts!C:E,3,0),0)","v":0},{"v":121.49,"d":"€121.49"}]
["Auto",136450,137810,1,"Normal",{"v":121.49,"d":"€121.49"},"LUXE",{"$f":"IFERROR(VLOOKUP(G15643,Discounts!C:E,3,0),0)","v":0},{"v":121.49,"d":"€121.49"}]
["Auto",136560,21990,1,"Combination",{"v":814.88,"d":"€814.88"},"",{"$f":"IFERROR(VLOOKUP(G15664,Discounts!C:E,3,0),0)","v":0},{"v":814.88,"d":"€814.88"}]
["Auto",136620,137810,1,"Normal",{"v":121.49,"d":"€121.49"},"LUXE",{"$f":"IFERROR(VLOOKUP(G15677,Discounts!C:E,3,0),0)","v":0},{"v":121.49,"d":"€121.49"}]
["Auto",136670,120710,1,"Combination",{"v":1089.26,"d":"€1,089.26"},"C010",{"$f":"IFERROR(VLOOKUP(G15686,Discounts!C:E,3,0),0)","v":0},{"v":1089.26,"d":"€1,089.26"}]
["Auto",136710,137810,1,"Normal",{"v":121.49,"d":"€121.49"},"LUXE",{"$f":"IFERROR(VLOOKUP(G15695,Discounts!C:E,3,0),0)","v":0},{"v":121.49,"d":"€121.49"}]
["Auto",136760,137810,1,"Normal",{"v":121.49,"d":"€121.49"},"LUXE",{"$f":"IFERROR(VLOOKUP(G15705,Discounts!C:E,3,0),0)","v":0},{"v":121.49,"d":"€121.49"}]
["Auto",136830,120790,1,"Combination",{"v":1061.16,"d":"€1,061.16"},"C010",{"$f":"IFERROR(VLOOKUP(G15718,Discounts!C:E,3,0),0)","v":0},{"v":1061.16,"d":"€1,061.16"}]
["Auto",136870,137810,1,"Normal",{"v":121.49,"d":"€121.49"},"LUXE",{"$f":"IFERROR(VLOOKUP(G15727,Discounts!C:E,3,0),0)","v":0},{"v":121.49,"d":"€121.49"}]
["Auto",136940,22540,1,"Combination",{"v":1140.5,"d":"€1,140.50"},"",{"$f":"IFERROR(VLOOKUP(G15740,Discounts!C:E,3,0),0)","v":0},{"v":1140.5,"d":"€1,140.50"}]
["Auto",137000,22570,1,"Combination",{"v":1204.14,"d":"€1,204.14"},"",{"$f":"IFERROR(VLOOKUP(G15752,Discounts!C:E,3,0),0)","v":0},{"v":1204.1399999999999,"d":"€1,204.14"}]
["Auto",137110,137810,1,"Normal",{"v":121.49,"d":"€121.49"},"LUXE",{"$f":"IFERROR(VLOOKUP(G15775,Discounts!C:E,3,0),0)","v":0},{"v":121.49,"d":"€121.49"}]
["Auto",137160,21330,2,"Normal",{"v":966.94,"d":"€966.94"},"C010",{"$f":"IFERROR(VLOOKUP(G15784,Discounts!C:E,3,0),0)","v":0},{"v":966.94,"d":"€966.94"}]
["Auto",137200,137810,2,"Normal",{"v":242.98,"d":"€242.98"},"LUXE",{"$f":"IFERROR(VLOOKUP(G15793,Discounts!C:E,3,0),0)","v":0},{"v":242.98,"d":"€242.98"}]
["Auto",137270,22020,2,"Combination",{"v":2122.32,"d":"€2,122.32"},"",{"$f":"IFERROR(VLOOKUP(G15806,Discounts!C:E,3,0),0)","v":0},{"v":2122.32,"d":"€2,122.32"}]
["Auto",137310,22090,2,"Combination",{"v":2069.42,"d":"€2,069.42"},"",{"$f":"IFERROR(VLOOKUP(G15814,Discounts!C:E,3,0),0)","v":0},{"v":2069.42,"d":"€2,069.42"}]
["Auto",137380,137810,2,"Normal",{"v":242.98,"d":"€242.98"},"LUXE",{"$f":"IFERROR(VLOOKUP(G15829,Discounts!C:E,3,0),0)","v":0},{"v":242.98,"d":"€242.98"}]
["Auto",137430,121360,1,"Combination",{"v":2223.15,"d":"€2,223.15"},"C010",{"$f":"IFERROR(VLOOKUP(G15838,Discounts!C:E,3,0),0)","v":0},{"v":2223.15,"d":"€2,223.15"}]
["Auto",137530,137810,2,"Normal",{"v":242.98,"d":"€242.98"},"LUXE",{"$f":"IFERROR(VLOOKUP(G15859,Discounts!C:E,3,0),0)","v":0},{"v":242.98,"d":"€242.98"}]
["Auto",137590,121400,1,"Combination",{"v":1987.61,"d":"€1,987.61"},"C010",{"$f":"IFERROR(VLOOKUP(G15870,Discounts!C:E,3,0),0)","v":0},{"v":1987.6100000000001,"d":"€1,987.61"}]
["Auto",137650,28230,1,"Combination",{"v":1701.66,"d":"€1,701.66"},"",{"$f":"IFERROR(VLOOKUP(G15882,Discounts!C:E,3,0),0)","v":0},{"v":1701.6599999999999,"d":"€1,701.66"}]
["Auto",137980,137930,1,"Normal",{"v":1360.33,"d":"€1,360.33"},"A010",{"$f":"IFERROR(VLOOKUP(G15891,Discounts!C:E,3,0),0)","v":0},{"v":1360.33,"d":"€1,360.33"}]
["Auto",138050,34260,1,"Normal",{"v":249.59,"d":"€249.59"},"LUXE",{"$f":"IFERROR(VLOOKUP(G15904,Discounts!C:E,3,0),0)","v":0},{"v":249.59,"d":"€249.59"}]
["Auto",138080,41620,1,"Normal",{"v":42.98,"d":"€42.98"},"LUXE",{"$f":"IFERROR(VLOOKUP(G15913,Discounts!C:E,3,0),0)","v":0},{"v":42.98,"d":"€42.98"}]
["Auto",138140,41620,1,"Normal",{"v":42.98,"d":"€42.98"},"LUXE",{"$f":"IFERROR(VLOOKUP(G15932,Discounts!C:E,3,0),0)","v":0},{"v":42.98,"d":"€42.98"}]
["Auto",138150,137950,1,"Normal",{"v":1280.99,"d":"€1,280.99"},"A010",{"$f":"IFERROR(VLOOKUP(G15936,Discounts!C:E,3,0),0)","v":0},{"v":1280.99,"d":"€1,280.99"}]
["Auto",138240,31470,1,"Normal",{"v":141.32,"d":"€141.32"},"LUXE",{"$f":"IFERROR(VLOOKUP(G15957,Discounts!C:E,3,0),0)","v":0},{"v":141.32,"d":"€141.32"}]
["Auto",138280,41620,1,"Normal",{"v":42.98,"d":"€42.98"},"LUXE",{"$f":"IFERROR(VLOOKUP(G15970,Discounts!C:E,3,0),0)","v":0},{"v":42.98,"d":"€42.98"}]
["Auto",138310,41620,1,"Normal",{"v":42.98,"d":"€42.98"},"LUXE",{"$f":"IFERROR(VLOOKUP(G15979,Discounts!C:E,3,0),0)","v":0},{"v":42.98,"d":"€42.98"}]
["Auto",138340,31920,1,"Normal",{"v":121.49,"d":"€121.49"},"SD/SG",{"$f":"IFERROR(VLOOKUP(G15989,Discounts!C:E,3,0),0)","v":0},{"v":121.49,"d":"€121.49"}]
["Auto",138370,55540,1,"Normal",{"v":552.07,"d":"€552.07"},"E012",{"$f":"IFERROR(VLOOKUP(G16002,Discounts!C:E,3,0),0)","v":0},{"v":552.07,"d":"€552.07"}]
["Auto",138400,31920,1,"Normal",{"v":121.49,"d":"€121.49"},"SD/SG",{"$f":"IFERROR(VLOOKUP(G16011,Discounts!C:E,3,0),0)","v":0},{"v":121.49,"d":"€121.49"}]
["Auto",138430,31920,1,"Normal",{"v":121.49,"d":"€121.49"},"SD/SG",{"$f":"IFERROR(VLOOKUP(G16022,Discounts!C:E,3,0),0)","v":0},{"v":121.49,"d":"€121.49"}]
["Auto",138460,40450,1,"Normal",{"v":13.22,"d":"€13.22"},"SD/SG",{"$f":"IFERROR(VLOOKUP(G16034,Discounts!C:E,3,0),0)","v":0},{"v":13.22,"d":"€13.22"}]
["Auto",138520,40450,1,"Normal",{"v":13.22,"d":"€13.22"},"SD/SG",{"$f":"IFERROR(VLOOKUP(G16055,Discounts!C:E,3,0),0)","v":0},{"v":13.22,"d":"€13.22"}]
["Auto",138560,31920,1,"Normal",{"v":121.49,"d":"€121.49"},"SD/SG",{"$f":"IFERROR(VLOOKUP(G16068,Discounts!C:E,3,0),0)","v":0},{"v":121.49,"d":"€121.49"}]
["Auto",138580,40520,1,"Normal",{"v":67.77,"d":"€67.77"},"SD/SG",{"$f":"IFERROR(VLOOKUP(G16077,Discounts!C:E,3,0),0)","v":0},{"v":67.77,"d":"€67.77"}]
["Auto",138600,40450,1,"Normal",{"v":13.22,"d":"€13.22"},"SD/SG",{"$f":"IFERROR(VLOOKUP(G16084,Discounts!C:E,3,0),0)","v":0},{"v":13.22,"d":"€13.22"}]
["Auto",138640,31920,1,"Normal",{"v":121.49,"d":"€121.49"},"SD/SG",{"$f":"IFERROR(VLOOKUP(G16100,Discounts!C:E,3,0),0)","v":0},{"v":121.49,"d":"€121.49"}]
["Auto",138660,40450,1,"Normal",{"v":13.22,"d":"€13.22"},"SD/SG",{"$f":"IFERROR(VLOOKUP(G16109,Discounts!C:E,3,0),0)","v":0},{"v":13.22,"d":"€13.22"}]
["Auto",138690,40450,1,"Normal",{"v":13.22,"d":"€13.22"},"SD/SG",{"$f":"IFERROR(VLOOKUP(G16122,Discounts!C:E,3,0),0)","v":0},{"v":13.22,"d":"€13.22"}]
["Auto",138710,55460,1,"Normal",{"v":447.11,"d":"€447.11"},"E015",{"$f":"IFERROR(VLOOKUP(G16131,Discounts!C:E,3,0),0)","v":0},{"$f":"IF(E16131=\"Normal\",F16131*(1-H16131),SUMIF(B:B,C16131,I:I)*D16131)","v":{"v":447.11,"d":"€447.11"}}]
["Auto",138770,40520,1,"Normal",{"v":67.77,"d":"€67.77"},"SD/SG",{"$f":"IFERROR(VLOOKUP(G16153,Discounts!C:E,3,0),0)","v":0},{"v":67.77,"d":"€67.77"}]
["Auto",138800,48600,1,"Normal",{"v":20.66,"d":"€20.66"},"SD/SG",{"$f":"IFERROR(VLOOKUP(G16166,Discounts!C:E,3,0),0)","v":0},{"v":20.66,"d":"€20.66"}]
["Auto",138820,55650,1,"Normal",{"v":688.43,"d":"€688.43"},"E012",{"$f":"IFERROR(VLOOKUP(G16175,Discounts!C:E,3,0),0)","v":0},{"v":688.43,"d":"€688.43"}]
["Auto",138860,40450,1,"Normal",{"v":13.22,"d":"€13.22"},"SD/SG",{"$f":"IFERROR(VLOOKUP(G16188,Discounts!C:E,3,0),0)","v":0},{"v":13.22,"d":"€13.22"}]
["Auto",138870,56840,1,"Normal",{"v":838.02,"d":"€838.02"},"E012",{"$f":"IFERROR(VLOOKUP(G16193,Discounts!C:E,3,0),0)","v":0},{"v":838.02,"d":"€838.02"}]
["Auto",138910,40450,1,"Normal",{"v":13.22,"d":"€13.22"},"SD/SG",{"$f":"IFERROR(VLOOKUP(G16207,Discounts!C:E,3,0),0)","v":0},{"v":13.22,"d":"€13.22"}]
["Auto",138940,40450,1,"Normal",{"v":13.22,"d":"€13.22"},"SD/SG",{"$f":"IFERROR(VLOOKUP(G16220,Discounts!C:E,3,0),0)","v":0},{"v":13.22,"d":"€13.22"}]
["Auto",138960,56430,1,"Normal",{"v":675.21,"d":"€675.21"},"E015",{"$f":"IFERROR(VLOOKUP(G16229,Discounts!C:E,3,0),0)","v":0},{"v":675.21,"d":"€675.21"}]
["Auto",139000,31920,1,"Normal",{"v":121.49,"d":"€121.49"},"SD/SG",{"$f":"IFERROR(VLOOKUP(G16240,Discounts!C:E,3,0),0)","v":0},{"v":121.49,"d":"€121.49"}]
["Auto",139060,40970,1,"Normal",{"v":58.68,"d":"€58.68"},"SD/SG",{"$f":"IFERROR(VLOOKUP(G16264,Discounts!C:E,3,0),0)","v":0},{"v":58.68,"d":"€58.68"}]
["Auto",139090,31920,1,"Normal",{"v":121.49,"d":"€121.49"},"SD/SG",{"$f":"IFERROR(VLOOKUP(G16273,Discounts!C:E,3,0),0)","v":0},{"v":121.49,"d":"€121.49"}]
["Auto",139120,56600,1,"Combination",{"v":634.71,"d":"€634.71"},"E012",{"$f":"IFERROR(VLOOKUP(G16286,Discounts!C:E,3,0),0)","v":0},{"v":634.71,"d":"€634.71"}]
["Auto",139150,40450,2,"Normal",{"v":26.44,"d":"€26.44"},"SD/SG",{"$f":"IFERROR(VLOOKUP(G16295,Discounts!C:E,3,0),0)","v":0},{"v":26.44,"d":"€26.44"}]
["Auto",139170,40450,2,"Normal",{"v":26.44,"d":"€26.44"},"SD/SG",{"$f":"IFERROR(VLOOKUP(G16302,Discounts!C:E,3,0),0)","v":0},{"v":26.44,"d":"€26.44"}]
["Auto",139210,40450,2,"Normal",{"v":26.44,"d":"€26.44"},"SD/SG",{"$f":"IFERROR(VLOOKUP(G16318,Discounts!C:E,3,0),0)","v":0},{"v":26.44,"d":"€26.44"}]
["Auto",139230,56630,1,"Combination",{"v":504.96,"d":"€504.96"},"E015",{"$f":"IFERROR(VLOOKUP(G16327,Discounts!C:E,3,0),0)","v":0},{"v":504.96,"d":"€504.96"}]
["Auto",139270,40530,1,"Normal",{"v":92.56,"d":"€92.56"},"SD/SG",{"$f":"IFERROR(VLOOKUP(G16340,Discounts!C:E,3,0),0)","v":0},{"v":92.56,"d":"€92.56"}]
["Auto",139320,57200,1,"Normal",{"v":803.31,"d":"€803.31"},"E012",{"$f":"IFERROR(VLOOKUP(G16358,Discounts!C:E,3,0),0)","v":0},{"v":803.31,"d":"€803.31"}]
["Auto",139360,40450,3,"Normal",{"v":39.66,"d":"€39.66"},"SD/SG",{"$f":"IFERROR(VLOOKUP(G16371,Discounts!C:E,3,0),0)","v":0},{"v":39.66,"d":"€39.66"}]
["Auto",139400,31920,1,"Normal",{"v":121.49,"d":"€121.49"},"SD/SG",{"$f":"IFERROR(VLOOKUP(G16384,Discounts!C:E,3,0),0)","v":0},{"v":121.49,"d":"€121.49"}]
["Auto",139420,56360,1,"Normal",{"v":785.95,"d":"€785.95"},"E012",{"$f":"IFERROR(VLOOKUP(G16393,Discounts!C:E,3,0),0)","v":0},{"v":785.95,"d":"€785.95"}]
["Auto",139450,40450,3,"Normal",{"v":39.66,"d":"€39.66"},"SD/SG",{"$f":"IFERROR(VLOOKUP(G16402,Discounts!C:E,3,0),0)","v":0},{"v":39.66,"d":"€39.66"}]
["Auto",139500,40450,4,"Normal",{"v":52.88,"d":"€52.88"},"SD/SG",{"$f":"IFERROR(VLOOKUP(G16420,Discounts!C:E,3,0),0)","v":0},{"v":52.88,"d":"€52.88"}]
["Auto",139510,57150,1,"Normal",{"v":584.3,"d":"€584.30"},"E010",{"$f":"IFERROR(VLOOKUP(G16425,Discounts!C:E,3,0),0)","v":0},{"v":584.3,"d":"€584.30"}]
["Auto",139550,42300,1,"Normal",{"v":140.5,"d":"€140.50"},"SD/SG",{"$f":"IFERROR(VLOOKUP(G16438,Discounts!C:E,3,0),0)","v":0},{"v":140.5,"d":"€140.50"}]
["Auto",139610,42300,1,"Normal",{"v":140.5,"d":"€140.50"},"SD/SG",{"$f":"IFERROR(VLOOKUP(G16459,Discounts!C:E,3,0),0)","v":0},{"v":140.5,"d":"€140.50"}]
["Auto",139630,57270,1,"Normal",{"v":663.64,"d":"€663.64"},"E015",{"$f":"IFERROR(VLOOKUP(G16467,Discounts!C:E,3,0),0)","v":0},{"v":663.64,"d":"€663.64"}]
["Auto",139680,31920,1,"Normal",{"v":121.49,"d":"€121.49"},"SD/SG",{"$f":"IFERROR(VLOOKUP(G16482,Discounts!C:E,3,0),0)","v":0},{"v":121.49,"d":"€121.49"}]
["Auto",139700,55920,1,"Normal",{"v":859.5,"d":"€859.50"},"E012",{"$f":"IFERROR(VLOOKUP(G16491,Discounts!C:E,3,0),0)","v":0},{"v":859.5,"d":"€859.50"}]
["Auto",139740,40450,4,"Normal",{"v":52.88,"d":"€52.88"},"SD/SG",{"$f":"IFERROR(VLOOKUP(G16504,Discounts!C:E,3,0),0)","v":0},{"v":52.88,"d":"€52.88"}]
["Auto",139770,31920,1,"Normal",{"v":121.49,"d":"€121.49"},"SD/SG",{"$f":"IFERROR(VLOOKUP(G16513,Discounts!C:E,3,0),0)","v":0},{"v":121.49,"d":"€121.49"}]
["Auto",139810,40530,1,"Normal",{"v":92.56,"d":"€92.56"},"SD/SG",{"$f":"IFERROR(VLOOKUP(G16529,Discounts!C:E,3,0),0)","v":0},{"v":92.56,"d":"€92.56"}]
["Auto",139830,40530,1,"Normal",{"v":92.56,"d":"€92.56"},"SD/SG",{"$f":"IFERROR(VLOOKUP(G16536,Discounts!C:E,3,0),0)","v":0},{"v":92.56,"d":"€92.56"}]
["Auto",139890,40530,1,"Normal",{"v":92.56,"d":"€92.56"},"SD/SG",{"$f":"IFERROR(VLOOKUP(G16557,Discounts!C:E,3,0),0)","v":0},{"v":92.56,"d":"€92.56"}]
["Auto",139920,31920,1,"Normal",{"v":121.49,"d":"€121.49"},"SD/SG",{"$f":"IFERROR(VLOOKUP(G16566,Discounts!C:E,3,0),0)","v":0},{"v":121.49,"d":"€121.49"}]
["Auto",139930,55800,1,"Normal",{"v":762.81,"d":"€762.81"},"E015",{"$f":"IFERROR(VLOOKUP(G16572,Discounts!C:E,3,0),0)","v":0},{"v":762.81,"d":"€762.81"}]
["Auto",139980,56000,1,"Normal",{"v":1211.57,"d":"€1,211.57"},"E012",{"$f":"IFERROR(VLOOKUP(G16589,Discounts!C:E,3,0),0)","v":0},{"v":1211.57,"d":"€1,211.57"}]
["Auto",140020,40450,1,"Normal",{"v":13.22,"d":"€13.22"},"SD/SG",{"$f":"IFERROR(VLOOKUP(G16602,Discounts!C:E,3,0),0)","v":0},{"v":13.22,"d":"€13.22"}]
["Auto",140050,31920,1,"Normal",{"v":121.49,"d":"€121.49"},"SD/SG",{"$f":"IFERROR(VLOOKUP(G16611,Discounts!C:E,3,0),0)","v":0},{"v":121.49,"d":"€121.49"}]
["Auto",140070,31920,1,"Normal",{"v":121.49,"d":"€121.49"},"SD/SG",{"$f":"IFERROR(VLOOKUP(G16620,Discounts!C:E,3,0),0)","v":0},{"v":121.49,"d":"€121.49"}]
["Auto",140100,40450,1,"Normal",{"v":13.22,"d":"€13.22"},"SD/SG",{"$f":"IFERROR(VLOOKUP(G16634,Discounts!C:E,3,0),0)","v":0},{"v":13.22,"d":"€13.22"}]
["Auto",140150,56210,1,"Normal",{"v":960.33,"d":"€960.33"},"E015",{"$f":"IFERROR(VLOOKUP(G16655,Discounts!C:E,3,0),0)","v":0},{"v":960.33,"d":"€960.33"}]
["Auto",140210,15180,1,"Normal",{"v":898.35,"d":"€898.35"},"E015",{"$f":"IFERROR(VLOOKUP(G16664,Discounts!C:E,3,0),0)","v":0},{"v":898.35,"d":"€898.35"}]
["Auto",140270,31920,1,"Normal",{"v":121.49,"d":"€121.49"},"SD/SG",{"$f":"IFERROR(VLOOKUP(G16677,Discounts!C:E,3,0),0)","v":0},{"v":121.49,"d":"€121.49"}]
["Auto",140290,36030,1,"Normal",{"v":1566.94,"d":"€1,566.94"},"E013",{"$f":"IFERROR(VLOOKUP(G16681,Discounts!C:E,3,0),0)","v":0},{"v":1566.94,"d":"€1,566.94"}]
["Auto",140410,31920,1,"Normal",{"v":121.49,"d":"€121.49"},"SD/SG",{"$f":"IFERROR(VLOOKUP(G16700,Discounts!C:E,3,0),0)","v":0},{"v":121.49,"d":"€121.49"}]
["Auto",140480,20900,2,"Normal",{"v":247.94,"d":"€247.94"},"P111",{"$f":"IFERROR(VLOOKUP(G16709,Discounts!C:E,3,0),0)","v":0},{"v":247.94,"d":"€247.94"}]
["Auto",140550,32060,1,"Normal",{"v":121.49,"d":"€121.49"},"SD/SG",{"$f":"IFERROR(VLOOKUP(G16718,Discounts!C:E,3,0),0)","v":0},{"v":121.49,"d":"€121.49"}]
["Auto",140580,40970,1,"Normal",{"v":58.68,"d":"€58.68"},"SD/SG",{"$f":"IFERROR(VLOOKUP(G16731,Discounts!C:E,3,0),0)","v":0},{"v":58.68,"d":"€58.68"}]
["Auto",140610,40970,1,"Normal",{"v":58.68,"d":"€58.68"},"SD/SG",{"$f":"IFERROR(VLOOKUP(G16743,Discounts!C:E,3,0),0)","v":0},{"v":58.68,"d":"€58.68"}]
["Auto",140640,32060,1,"Normal",{"v":121.49,"d":"€121.49"},"SD/SG",{"$f":"IFERROR(VLOOKUP(G16754,Discounts!C:E,3,0),0)","v":0},{"v":121.49,"d":"€121.49"}]
["Auto",140690,40970,1,"Normal",{"v":58.68,"d":"€58.68"},"SD/SG",{"$f":"IFERROR(VLOOKUP(G16775,Discounts!C:E,3,0),0)","v":0},{"v":58.68,"d":"€58.68"}]
["Auto",140720,18850,1,"Normal",{"v":433.88,"d":"€433.88"},"D010",{"$f":"IFERROR(VLOOKUP(G16784,Discounts!C:E,3,0),0)","v":0},{"v":433.88,"d":"€433.88"}]
["Auto",140750,40970,1,"Normal",{"v":58.68,"d":"€58.68"},"SD/SG",{"$f":"IFERROR(VLOOKUP(G16799,Discounts!C:E,3,0),0)","v":0},{"v":58.68,"d":"€58.68"}]
["Auto",140770,40970,1,"Normal",{"v":58.68,"d":"€58.68"},"SD/SG",{"$f":"IFERROR(VLOOKUP(G16807,Discounts!C:E,3,0),0)","v":0},{"v":58.68,"d":"€58.68"}]
["Auto",140800,18870,1,"Normal",{"v":522.31,"d":"€522.31"},"D010",{"$f":"IFERROR(VLOOKUP(G16816,Discounts!C:E,3,0),0)","v":0},{"v":522.31,"d":"€522.31"}]
["Auto",140830,31110,1,"Normal",{"v":310.74,"d":"€310.74"},"SD/SG",{"$f":"IFERROR(VLOOKUP(G16829,Discounts!C:E,3,0),0)","v":0},{"v":310.74,"d":"€310.74"}]
["Auto",140880,32060,1,"Normal",{"v":121.49,"d":"€121.49"},"SD/SG",{"$f":"IFERROR(VLOOKUP(G16850,Discounts!C:E,3,0),0)","v":0},{"v":121.49,"d":"€121.49"}]
["Auto",140910,31190,1,"Normal",{"v":142.15,"d":"€142.15"},"SD/SG",{"$f":"IFERROR(VLOOKUP(G16861,Discounts!C:E,3,0),0)","v":0},{"v":142.15,"d":"€142.15"}]
["Auto",140940,31220,1,"Normal",{"v":289.26,"d":"€289.26"},"SD/SG",{"$f":"IFERROR(VLOOKUP(G16873,Discounts!C:E,3,0),0)","v":0},{"v":289.26,"d":"€289.26"}]
["Auto",140960,32060,1,"Normal",{"v":121.49,"d":"€121.49"},"SD/SG",{"$f":"IFERROR(VLOOKUP(G16882,Discounts!C:E,3,0),0)","v":0},{"v":121.49,"d":"€121.49"}]
["Auto",140990,40970,1,"Normal",{"v":58.68,"d":"€58.68"},"SD/SG",{"$f":"IFERROR(VLOOKUP(G16895,Discounts!C:E,3,0),0)","v":0},{"v":58.68,"d":"€58.68"}]
["Auto",141030,31060,1,"Normal",{"v":154.55,"d":"€154.55"},"SD/SG",{"$f":"IFERROR(VLOOKUP(G16908,Discounts!C:E,3,0),0)","v":0},{"v":154.55,"d":"€154.55"}]
["Auto",141040,40970,1,"Normal",{"v":58.68,"d":"€58.68"},"SD/SG",{"$f":"IFERROR(VLOOKUP(G16914,Discounts!C:E,3,0),0)","v":0},{"v":58.68,"d":"€58.68"}]
["Auto",141070,41440,1,"Normal",{"v":559.5,"d":"€559.50"},"D010",{"$f":"IFERROR(VLOOKUP(G16927,Discounts!C:E,3,0),0)","v":0},{"v":559.5,"d":"€559.50"}]
["Auto",141130,31160,1,"Normal",{"v":338.84,"d":"€338.84"},"SD/SG",{"$f":"IFERROR(VLOOKUP(G16948,Discounts!C:E,3,0),0)","v":0},{"v":338.84,"d":"€338.84"}]
["Auto",141130,32060,1,"Normal",{"v":121.49,"d":"€121.49"},"SD/SG",{"$f":"IFERROR(VLOOKUP(G16949,Discounts!C:E,3,0),0)","v":0},{"v":121.49,"d":"€121.49"}]
["Auto",141180,40970,1,"Normal",{"v":58.68,"d":"€58.68"},"SD/SG",{"$f":"IFERROR(VLOOKUP(G16970,Discounts!C:E,3,0),0)","v":0},{"v":58.68,"d":"€58.68"}]
["Auto",141210,31240,1,"Normal",{"v":361.98,"d":"€361.98"},"SD/SG",{"$f":"IFERROR(VLOOKUP(G16980,Discounts!C:E,3,0),0)","v":0},{"v":361.98,"d":"€361.98"}]
["Auto",141240,32060,1,"Normal",{"v":121.49,"d":"€121.49"},"SD/SG",{"$f":"IFERROR(VLOOKUP(G16993,Discounts!C:E,3,0),0)","v":0},{"v":121.49,"d":"€121.49"}]
["Auto",141260,40970,1,"Normal",{"v":58.68,"d":"€58.68"},"SD/SG",{"$f":"IFERROR(VLOOKUP(G17002,Discounts!C:E,3,0),0)","v":0},{"v":58.68,"d":"€58.68"}]
["Auto",141290,32060,1,"Normal",{"v":121.49,"d":"€121.49"},"SD/SG",{"$f":"IFERROR(VLOOKUP(G17013,Discounts!C:E,3,0),0)","v":0},{"v":121.49,"d":"€121.49"}]
["Auto",141320,32060,1,"Normal",{"v":121.49,"d":"€121.49"},"SD/SG",{"$f":"IFERROR(VLOOKUP(G17025,Discounts!C:E,3,0),0)","v":0},{"v":121.49,"d":"€121.49"}]
["Auto",141370,40970,1,"Normal",{"v":58.68,"d":"€58.68"},"SD/SG",{"$f":"IFERROR(VLOOKUP(G17046,Discounts!C:E,3,0),0)","v":0},{"v":58.68,"d":"€58.68"}]
["Auto",141370,41450,1,"Normal",{"v":631.4,"d":"€631.40"},"D010",{"$f":"IFERROR(VLOOKUP(G17047,Discounts!C:E,3,0),0)","v":0},{"v":631.4,"d":"€631.40"}]
["Auto",141430,31210,1,"Normal",{"v":180.99,"d":"€180.99"},"SD/SG",{"$f":"IFERROR(VLOOKUP(G17068,Discounts!C:E,3,0),0)","v":0},{"v":180.99,"d":"€180.99"}]
["Auto",141450,41450,1,"Normal",{"v":631.4,"d":"€631.40"},"D010",{"$f":"IFERROR(VLOOKUP(G17079,Discounts!C:E,3,0),0)","v":0},{"v":631.4,"d":"€631.40"}]
["Auto",141480,41450,1,"Normal",{"v":631.4,"d":"€631.40"},"D010",{"$f":"IFERROR(VLOOKUP(G17091,Discounts!C:E,3,0),0)","v":0},{"$f":"IF(E17091=\"Normal\",F17091*(1-H17091),SUMIF(B:B,C17091,I:I)*D17091)","v":{"v":631.4,"d":"€631.40"}}]
["Auto",141510,31290,1,"Normal",{"v":496.69,"d":"€496.69"},"SD/SG",{"$f":"IFERROR(VLOOKUP(G17100,Discounts!C:E,3,0),0)","v":0},{"v":496.69,"d":"€496.69"}]
["Auto",141530,40970,1,"Normal",{"v":58.68,"d":"€58.68"},"SD/SG",{"$f":"IFERROR(VLOOKUP(G17113,Discounts!C:E,3,0),0)","v":0},{"v":58.68,"d":"€58.68"}]
["Auto",141550,40470,1,"Normal",{"v":53.72,"d":"€53.72"},"SD/SG",{"$f":"IFERROR(VLOOKUP(G17122,Discounts!C:E,3,0),0)","v":0},{"v":53.72,"d":"€53.72"}]
["Auto",141600,18720,1,"Normal",{"v":585.12,"d":"€585.12"},"D060",{"$f":"IFERROR(VLOOKUP(G17144,Discounts!C:E,3,0),0)","v":0},{"v":585.12,"d":"€585.12"}]
["Auto",141600,31130,1,"Normal",{"v":298.35,"d":"€298.35"},"SD/SG",{"$f":"IFERROR(VLOOKUP(G17145,Discounts!C:E,3,0),0)","v":0},{"v":298.35,"d":"€298.35"}]
["Auto",141640,32060,1,"Normal",{"v":121.49,"d":"€121.49"},"SD/SG",{"$f":"IFERROR(VLOOKUP(G17166,Discounts!C:E,3,0),0)","v":0},{"v":121.49,"d":"€121.49"}]
["Auto",141670,18720,1,"Normal",{"v":585.12,"d":"€585.12"},"D060",{"$f":"IFERROR(VLOOKUP(G17179,Discounts!C:E,3,0),0)","v":0},{"v":585.12,"d":"€585.12"}]
["Auto",141680,18720,1,"Normal",{"v":585.12,"d":"€585.12"},"D060",{"$f":"IFERROR(VLOOKUP(G17184,Discounts!C:E,3,0),0)","v":0},{"v":585.12,"d":"€585.12"}]
["Auto",141700,40970,1,"Normal",{"v":58.68,"d":"€58.68"},"SD/SG",{"$f":"IFERROR(VLOOKUP(G17198,Discounts!C:E,3,0),0)","v":0},{"v":58.68,"d":"€58.68"}]
["Auto",141730,32060,1,"Normal",{"v":121.49,"d":"€121.49"},"SD/SG",{"$f":"IFERROR(VLOOKUP(G17211,Discounts!C:E,3,0),0)","v":0},{"v":121.49,"d":"€121.49"}]
["Auto",141750,31280,1,"Normal",{"v":416.53,"d":"€416.53"},"SD/SG",{"$f":"IFERROR(VLOOKUP(G17220,Discounts!C:E,3,0),0)","v":0},{"v":416.53,"d":"€416.53"}]
["Auto",141770,32060,1,"Normal",{"v":121.49,"d":"€121.49"},"SD/SG",{"$f":"IFERROR(VLOOKUP(G17231,Discounts!C:E,3,0),0)","v":0},{"v":121.49,"d":"€121.49"}]
["Auto",141790,40970,1,"Normal",{"v":58.68,"d":"€58.68"},"SD/SG",{"$f":"IFERROR(VLOOKUP(G17243,Discounts!C:E,3,0),0)","v":0},{"v":58.68,"d":"€58.68"}]
["Auto",141840,18730,1,"Normal",{"v":710.74,"d":"€710.74"},"D060",{"$f":"IFERROR(VLOOKUP(G17264,Discounts!C:E,3,0),0)","v":0},{"v":710.74,"d":"€710.74"}]
["Auto",141860,40470,1,"Normal",{"v":53.72,"d":"€53.72"},"SD/SG",{"$f":"IFERROR(VLOOKUP(G17277,Discounts!C:E,3,0),0)","v":0},{"v":53.72,"d":"€53.72"}]
["Auto",141880,32060,1,"Normal",{"v":121.49,"d":"€121.49"},"SD/SG",{"$f":"IFERROR(VLOOKUP(G17286,Discounts!C:E,3,0),0)","v":0},{"v":121.49,"d":"€121.49"}]
["Auto",141890,40970,1,"Normal",{"v":58.68,"d":"€58.68"},"SD/SG",{"$f":"IFERROR(VLOOKUP(G17293,Discounts!C:E,3,0),0)","v":0},{"v":58.68,"d":"€58.68"}]
["Auto",141930,18730,1,"Normal",{"v":710.74,"d":"€710.74"},"D060",{"$f":"IFERROR(VLOOKUP(G17309,Discounts!C:E,3,0),0)","v":0},{"v":710.74,"d":"€710.74"}]
["Auto",141940,40970,1,"Normal",{"v":58.68,"d":"€58.68"},"SD/SG",{"$f":"IFERROR(VLOOKUP(G17318,Discounts!C:E,3,0),0)","v":0},{"v":58.68,"d":"€58.68"}]
["Auto",141990,18730,1,"Normal",{"v":710.74,"d":"€710.74"},"D060",{"$f":"IFERROR(VLOOKUP(G17339,Discounts!C:E,3,0),0)","v":0},{"v":710.74,"d":"€710.74"}]
["Auto",142010,18730,1,"Normal",{"v":710.74,"d":"€710.74"},"D060",{"$f":"IFERROR(VLOOKUP(G17349,Discounts!C:E,3,0),0)","v":0},{"v":710.74,"d":"€710.74"}]
["Auto",142040,18860,1,"Normal",{"v":469.42,"d":"€469.42"},"D010",{"$f":"IFERROR(VLOOKUP(G17362,Discounts!C:E,3,0),0)","v":0},{"v":469.42,"d":"€469.42"}]
["Auto",142070,31100,1,"Normal",{"v":227.27,"d":"€227.27"},"SD/SG",{"$f":"IFERROR(VLOOKUP(G17375,Discounts!C:E,3,0),0)","v":0},{"v":227.27,"d":"€227.27"}]
["Auto",142090,32060,1,"Normal",{"v":121.49,"d":"€121.49"},"SD/SG",{"$f":"IFERROR(VLOOKUP(G17384,Discounts!C:E,3,0),0)","v":0},{"v":121.49,"d":"€121.49"}]
["Auto",142110,40970,1,"Normal",{"v":58.68,"d":"€58.68"},"SD/SG",{"$f":"IFERROR(VLOOKUP(G17393,Discounts!C:E,3,0),0)","v":0},{"v":58.68,"d":"€58.68"}]
["Auto",142160,31190,1,"Normal",{"v":142.15,"d":"€142.15"},"SD/SG",{"$f":"IFERROR(VLOOKUP(G17411,Discounts!C:E,3,0),0)","v":0},{"$f":"IF(E17411=\"Normal\",F17411*(1-H17411),SUMIF(B:B,C17411,I:I)*D17411)","v":{"v":142.15,"d":"€142.15"}}]
["Auto",142170,32060,1,"Normal",{"v":121.49,"d":"€121.49"},"SD/SG",{"$f":"IFERROR(VLOOKUP(G17416,Discounts!C:E,3,0),0)","v":0},{"v":121.49,"d":"€121.49"}]
["Auto",142200,40970,1,"Normal",{"v":58.68,"d":"€58.68"},"SD/SG",{"$f":"IFERROR(VLOOKUP(G17429,Discounts!C:E,3,0),0)","v":0},{"v":58.68,"d":"€58.68"}]
["Auto",142230,18860,1,"Normal",{"v":469.42,"d":"€469.42"},"D010",{"$f":"IFERROR(VLOOKUP(G17438,Discounts!C:E,3,0),0)","v":0},{"v":469.42,"d":"€469.42"}]
["Auto",142280,18880,1,"Normal",{"v":562.81,"d":"€562.81"},"D010",{"$f":"IFERROR(VLOOKUP(G17458,Discounts!C:E,3,0),0)","v":0},{"v":562.81,"d":"€562.81"}]
["Auto",142310,40970,1,"Normal",{"v":58.68,"d":"€58.68"},"SD/SG",{"$f":"IFERROR(VLOOKUP(G17473,Discounts!C:E,3,0),0)","v":0},{"v":58.68,"d":"€58.68"}]
["Auto",142340,18880,1,"Normal",{"v":562.81,"d":"€562.81"},"D010",{"$f":"IFERROR(VLOOKUP(G17482,Discounts!C:E,3,0),0)","v":0},{"v":562.81,"d":"€562.81"}]
["Auto",142360,31140,1,"Normal",{"v":298.35,"d":"€298.35"},"SD/SG",{"$f":"IFERROR(VLOOKUP(G17491,Discounts!C:E,3,0),0)","v":0},{"v":298.35,"d":"€298.35"}]
["Auto",142390,32060,1,"Normal",{"v":121.49,"d":"€121.49"},"SD/SG",{"$f":"IFERROR(VLOOKUP(G17504,Discounts!C:E,3,0),0)","v":0},{"v":121.49,"d":"€121.49"}]
["Auto",142430,32060,1,"Normal",{"v":121.49,"d":"€121.49"},"SD/SG",{"$f":"IFERROR(VLOOKUP(G17520,Discounts!C:E,3,0),0)","v":0},{"v":121.49,"d":"€121.49"}]
["Auto",142450,31230,1,"Normal",{"v":279.34,"d":"€279.34"},"SD/SG",{"$f":"IFERROR(VLOOKUP(G17527,Discounts!C:E,3,0),0)","v":0},{"v":279.34,"d":"€279.34"}]
["Auto",142470,32060,1,"Normal",{"v":121.49,"d":"€121.49"},"SD/SG",{"$f":"IFERROR(VLOOKUP(G17536,Discounts!C:E,3,0),0)","v":0},{"v":121.49,"d":"€121.49"}]
["Auto",142530,18870,1,"Normal",{"v":522.31,"d":"€522.31"},"D010",{"$f":"IFERROR(VLOOKUP(G17557,Discounts!C:E,3,0),0)","v":0},{"v":522.31,"d":"€522.31"}]
["Auto",142550,32060,1,"Normal",{"v":121.49,"d":"€121.49"},"SD/SG",{"$f":"IFERROR(VLOOKUP(G17563,Discounts!C:E,3,0),0)","v":0},{"v":121.49,"d":"€121.49"}]
["Auto",142600,18930,1,"Normal",{"v":467.77,"d":"€467.77"},"D010",{"$f":"IFERROR(VLOOKUP(G17580,Discounts!C:E,3,0),0)","v":0},{"v":467.77,"d":"€467.77"}]
["Auto",142620,41320,1,"Normal",{"v":37.19,"d":"€37.19"},"SD/SG",{"$f":"IFERROR(VLOOKUP(G17593,Discounts!C:E,3,0),0)","v":0},{"v":37.19,"d":"€37.19"}]
["Auto",142640,41320,1,"Normal",{"v":37.19,"d":"€37.19"},"SD/SG",{"$f":"IFERROR(VLOOKUP(G17602,Discounts!C:E,3,0),0)","v":0},{"v":37.19,"d":"€37.19"}]
["Auto",143040,41640,1,"Normal",{"v":119.83,"d":"€119.83"},"LUXE",{"$f":"IFERROR(VLOOKUP(G17611,Discounts!C:E,3,0),0)","v":0},{"v":119.83,"d":"€119.83"}]
["Auto",143090,31470,2,"Normal",{"v":282.64,"d":"€282.64"},"LUXE",{"$f":"IFERROR(VLOOKUP(G17625,Discounts!C:E,3,0),0)","v":0},{"v":282.64,"d":"€282.64"}]
["Auto",143480,34260,1,"Normal",{"v":249.59,"d":"€249.59"},"LUXE",{"$f":"IFERROR(VLOOKUP(G17634,Discounts!C:E,3,0),0)","v":0},{"v":249.59,"d":"€249.59"}]
["Auto",143660,155070,1,"Normal",{"v":4.13,"d":"€4.13"},"LUXE",{"$f":"IFERROR(VLOOKUP(G17655,Discounts!C:E,3,0),0)","v":0},{"v":4.13,"d":"€4.13"}]
["Auto",143710,105720,1,"Normal",{"v":79.16,"d":"€79.16"},"LUXE",{"$f":"IFERROR(VLOOKUP(G17668,Discounts!C:E,3,0),0)","v":0},{"v":79.16,"d":"€79.16"}]
["Auto",143720,142920,1,"Normal",{"v":509.09,"d":"€509.09"},"B015",{"$f":"IFERROR(VLOOKUP(G17672,Discounts!C:E,3,0),0)","v":0},{"v":509.09,"d":"€509.09"}]
["Auto",143790,144110,1,"Normal",{"v":309.09,"d":"€309.09"},"P109",{"$f":"IFERROR(VLOOKUP(G17691,Discounts!C:E,3,0),0)","v":0},{"v":309.09,"d":"€309.09"}]
["Auto",143820,144060,1,"Normal",{"v":192.56,"d":"€192.56"},"P109",{"$f":"IFERROR(VLOOKUP(G17700,Discounts!C:E,3,0),0)","v":0},{"v":192.56,"d":"€192.56"}]
["Auto",143910,143740,2,"Combination",{"v":1748.02,"d":"€1,748.02"},"B015",{"$f":"IFERROR(VLOOKUP(G17709,Discounts!C:E,3,0),0)","v":0},{"v":1748.02,"d":"€1,748.02"}]
["Auto",144220,40520,2,"Normal",{"v":135.54,"d":"€135.54"},"SD/SG",{"$f":"IFERROR(VLOOKUP(G17728,Discounts!C:E,3,0),0)","v":0},{"v":135.54,"d":"€135.54"}]
["Auto",144230,40450,2,"Normal",{"v":26.44,"d":"€26.44"},"SD/SG",{"$f":"IFERROR(VLOOKUP(G17732,Discounts!C:E,3,0),0)","v":0},{"v":26.44,"d":"€26.44"}]
["Auto",144280,31920,2,"Normal",{"v":242.98,"d":"€242.98"},"SD/SG",{"$f":"IFERROR(VLOOKUP(G17753,Discounts!C:E,3,0),0)","v":0},{"v":242.98,"d":"€242.98"}]
["Auto",144480,105680,1,"Normal",{"v":56.8,"d":"€56.80"},"LUXE",{"$f":"IFERROR(VLOOKUP(G17766,Discounts!C:E,3,0),0)","v":0},{"v":56.8,"d":"€56.80"}]
["Auto",144570,106730,1,"Normal",{"v":12.4,"d":"€12.40"},"LUXE",{"$f":"IFERROR(VLOOKUP(G17775,Discounts!C:E,3,0),0)","v":0},{"v":12.4,"d":"€12.40"}]
["Auto",144630,105680,1,"Normal",{"v":56.8,"d":"€56.80"},"LUXE",{"$f":"IFERROR(VLOOKUP(G17790,Discounts!C:E,3,0),0)","v":0},{"v":56.8,"d":"€56.80"}]
["Auto",144650,144680,1,"Combination",{"v":547.11,"d":"€547.11"},"B015",{"$f":"IFERROR(VLOOKUP(G17798,Discounts!C:E,3,0),0)","v":0},{"v":547.11,"d":"€547.11"}]
["Auto",144720,106730,1,"Normal",{"v":12.4,"d":"€12.40"},"LUXE",{"$f":"IFERROR(VLOOKUP(G17807,Discounts!C:E,3,0),0)","v":0},{"v":12.4,"d":"€12.40"}]
["Auto",144840,144830,1,"Normal",{"v":391.74,"d":"€391.74"},"B015",{"$f":"IFERROR(VLOOKUP(G17820,Discounts!C:E,3,0),0)","v":0},{"v":391.74,"d":"€391.74"}]
["Auto",145150,144760,1,"Combination",{"v":381,"d":"€381.00"},"B015",{"$f":"IFERROR(VLOOKUP(G17837,Discounts!C:E,3,0),0)","v":0},{"v":381,"d":"€381.00"}]
["Auto",145170,144760,1,"Combination",{"v":381,"d":"€381.00"},"B015",{"$f":"IFERROR(VLOOKUP(G17843,Discounts!C:E,3,0),0)","v":0},{"v":381,"d":"€381.00"}]
["Auto",145240,144770,1,"Normal",{"v":389.26,"d":"€389.26"},"B015",{"$f":"IFERROR(VLOOKUP(G17864,Discounts!C:E,3,0),0)","v":0},{"v":389.26,"d":"€389.26"}]
["Auto",145270,144780,1,"Combination",{"v":401.66,"d":"€401.66"},"B015",{"$f":"IFERROR(VLOOKUP(G17873,Discounts!C:E,3,0),0)","v":0},{"v":401.65999999999997,"d":"€401.66"}]
["Auto",145310,144960,1,"Normal",0,"P109",{"$f":"IFERROR(VLOOKUP(G17886,Discounts!C:E,3,0),0)","v":0},0]
["Auto",145360,105720,1,"Normal",{"v":79.16,"d":"€79.16"},"LUXE",{"$f":"IFERROR(VLOOKUP(G17899,Discounts!C:E,3,0),0)","v":0},{"v":79.16,"d":"€79.16"}]
["Auto",145380,105720,1,"Normal",{"v":79.16,"d":"€79.16"},"LUXE",{"$f":"IFERROR(VLOOKUP(G17905,Discounts!C:E,3,0),0)","v":0},{"v":79.16,"d":"€79.16"}]
["Auto",145420,144810,1,"Normal",{"v":391.74,"d":"€391.74"},"B015",{"$f":"IFERROR(VLOOKUP(G17918,Discounts!C:E,3,0),0)","v":0},{"v":391.74,"d":"€391.74"}]
["Auto",145450,144820,1,"Combination",{"v":404.14,"d":"€404.14"},"B015",{"$f":"IFERROR(VLOOKUP(G17927,Discounts!C:E,3,0),0)","v":0},{"v":404.14,"d":"€404.14"}]
["Auto",145500,144830,1,"Normal",{"v":391.74,"d":"€391.74"},"B015",{"$f":"IFERROR(VLOOKUP(G17942,Discounts!C:E,3,0),0)","v":0},{"v":391.74,"d":"€391.74"}]
["Auto",145570,105710,1,"Normal",{"v":73.57,"d":"€73.57"},"LUXE",{"$f":"IFERROR(VLOOKUP(G17962,Discounts!C:E,3,0),0)","v":0},{"v":73.57,"d":"€73.57"}]
["Auto",145630,105680,1,"Normal",{"v":56.8,"d":"€56.80"},"LUXE",{"$f":"IFERROR(VLOOKUP(G17971,Discounts!C:E,3,0),0)","v":0},{"v":56.8,"d":"€56.80"}]
["Auto",145670,133770,1,"Normal",{"v":457.02,"d":"€457.02"},"B015",{"$f":"IFERROR(VLOOKUP(G17984,Discounts!C:E,3,0),0)","v":0},{"v":457.02,"d":"€457.02"}]
["Auto",145700,133780,1,"Combination",{"v":469.42,"d":"€469.42"},"B015",{"$f":"IFERROR(VLOOKUP(G17993,Discounts!C:E,3,0),0)","v":0},{"v":469.41999999999996,"d":"€469.42"}]
["Auto",145750,133770,1,"Normal",{"v":457.02,"d":"€457.02"},"B015",{"$f":"IFERROR(VLOOKUP(G18008,Discounts!C:E,3,0),0)","v":0},{"v":457.02,"d":"€457.02"}]
["Auto",145780,105700,1,"Normal",{"v":67.98,"d":"€67.98"},"LUXE",{"$f":"IFERROR(VLOOKUP(G18016,Discounts!C:E,3,0),0)","v":0},{"v":67.98,"d":"€67.98"}]
["Auto",145810,105700,1,"Normal",{"v":67.98,"d":"€67.98"},"LUXE",{"$f":"IFERROR(VLOOKUP(G18025,Discounts!C:E,3,0),0)","v":0},{"v":67.98,"d":"€67.98"}]
["Auto",146180,132900,1,"Normal",{"v":19.83,"d":"€19.83"},"LUXE",{"$f":"IFERROR(VLOOKUP(G18038,Discounts!C:E,3,0),0)","v":0},{"v":19.83,"d":"€19.83"}]
["Auto",146450,31540,1,"Normal",{"v":209.92,"d":"€209.92"},"LUXE",{"$f":"IFERROR(VLOOKUP(G18051,Discounts!C:E,3,0),0)","v":0},{"$f":"IF(E18051=\"Normal\",F18051*(1-H18051),SUMIF(B:B,C18051,I:I)*D18051)","v":{"v":209.92,"d":"€209.92"}}]
["Auto",146610,149130,2,"Normal",{"v":730.58,"d":"€730.58"},"B055",{"$f":"IFERROR(VLOOKUP(G18069,Discounts!C:E,3,0),0)","v":0},{"v":730.58,"d":"€730.58"}]
["Auto",146720,146700,2,"Combination",{"v":1928.94,"d":"€1,928.94"},"B015",{"$f":"IFERROR(VLOOKUP(G18082,Discounts!C:E,3,0),0)","v":0},{"v":1928.94,"d":"€1,928.94"}]
["Auto",146780,146750,2,"Combination",{"v":1613.22,"d":"€1,613.22"},"B015",{"$f":"IFERROR(VLOOKUP(G18091,Discounts!C:E,3,0),0)","v":0},{"v":1613.22,"d":"€1,613.22"}]
["Auto",146870,104180,1,"Normal",{"v":432.23,"d":"€432.23"},"B015",{"$f":"IFERROR(VLOOKUP(G18104,Discounts!C:E,3,0),0)","v":0},{"v":432.23,"d":"€432.23"}]
["Auto",146920,146890,2,"Combination",{"v":1593.38,"d":"€1,593.38"},"B015",{"$f":"IFERROR(VLOOKUP(G18113,Discounts!C:E,3,0),0)","v":0},{"v":1593.38,"d":"€1,593.38"}]
["Auto",147000,149180,2,"Normal",{"v":1185.12,"d":"€1,185.12"},"B055",{"$f":"IFERROR(VLOOKUP(G18123,Discounts!C:E,3,0),0)","v":0},{"v":1185.12,"d":"€1,185.12"}]
["Auto",147080,31920,-1,"Normal",{"v":-121.49,"d":"€(121.49)"},"SD/SG",{"$f":"IFERROR(VLOOKUP(G18136,Discounts!C:E,3,0),0)","v":0},{"v":-121.49,"d":"€(121.49)"}]
["Auto",147240,147390,1,"Normal",{"v":157.85,"d":"€157.85"},"LUXE",{"$f":"IFERROR(VLOOKUP(G18157,Discounts!C:E,3,0),0)","v":0},{"v":157.85,"d":"€157.85"}]
["Auto",147250,137810,-1,"Normal",{"v":-121.49,"d":"€(121.49)"},"LUXE",{"$f":"IFERROR(VLOOKUP(G18160,Discounts!C:E,3,0),0)","v":0},{"v":-121.49,"d":"€(121.49)"}]
["Auto",147370,142850,1,"Normal",{"v":546.28,"d":"€546.28"},"P109",{"$f":"IFERROR(VLOOKUP(G18180,Discounts!C:E,3,0),0)","v":0},{"v":546.28,"d":"€546.28"}]
["Auto",147440,142860,1,"Normal",{"v":686.78,"d":"€686.78"},"P109",{"$f":"IFERROR(VLOOKUP(G18189,Discounts!C:E,3,0),0)","v":0},{"v":686.78,"d":"€686.78"}]
["Auto",147530,44920,-1,"Normal",{"v":-200,"d":"€(200.00)"},"SD/SG",{"$f":"IFERROR(VLOOKUP(G18202,Discounts!C:E,3,0),0)","v":0},{"v":-200,"d":"€(200.00)"}]
["Auto",147620,147610,1,"Normal",{"v":63.64,"d":"€63.64"},"R100",{"$f":"IFERROR(VLOOKUP(G18211,Discounts!C:E,3,0),0)","v":0},{"v":63.64,"d":"€63.64"}]
["Auto",147920,40520,-1,"Normal",{"v":-67.77,"d":"€(67.77)"},"SD/SG",{"$f":"IFERROR(VLOOKUP(G18222,Discounts!C:E,3,0),0)","v":0},{"v":-67.77,"d":"€(67.77)"}]
["Auto",148080,44920,2,"Normal",{"v":400,"d":"€400.00"},"SD/SG",{"$f":"IFERROR(VLOOKUP(G18234,Discounts!C:E,3,0),0)","v":0},{"v":400,"d":"€400.00"}]
["Auto",148130,134820,1,"Normal",{"v":357.85,"d":"€357.85"},"SD/SG",{"$f":"IFERROR(VLOOKUP(G18255,Discounts!C:E,3,0),0)","v":0},{"v":357.85,"d":"€357.85"}]
["Auto",148460,40070,1,"Normal",{"v":66.94,"d":"€66.94"},"LUXE",{"$f":"IFERROR(VLOOKUP(G18268,Discounts!C:E,3,0),0)","v":0},{"v":66.94,"d":"€66.94"}]
["Auto",148630,148650,1,"Normal",{"v":192.56,"d":"€192.56"},"P109",{"$f":"IFERROR(VLOOKUP(G18278,Discounts!C:E,3,0),0)","v":0},{"v":192.56,"d":"€192.56"}]
["Auto",148700,57610,1,"Normal",{"v":233.06,"d":"€233.06"},"P106",{"$f":"IFERROR(VLOOKUP(G18287,Discounts!C:E,3,0),0)","v":0},{"v":233.06,"d":"€233.06"}]
["Auto",148770,30460,-1,"Normal",{"v":-1338.84,"d":"€(1,338.84)"},"P106",{"$f":"IFERROR(VLOOKUP(G18300,Discounts!C:E,3,0),0)","v":0},{"v":-1338.84,"d":"€(1,338.84)"}]
["Auto",148810,57550,1,"Normal",0,"P106",{"$f":"IFERROR(VLOOKUP(G18309,Discounts!C:E,3,0),0)","v":0},0]
["Auto",148900,31920,2,"Normal",{"v":242.98,"d":"€242.98"},"SD/SG",{"$f":"IFERROR(VLOOKUP(G18318,Discounts!C:E,3,0),0)","v":0},{"v":242.98,"d":"€242.98"}]
["Auto",149010,44440,2,"Normal",{"v":190.08,"d":"€190.08"},"SD/SG",{"$f":"IFERROR(VLOOKUP(G18340,Discounts!C:E,3,0),0)","v":0},{"v":190.08,"d":"€190.08"}]
["Auto",149090,149030,1,"Normal",{"v":2484.3,"d":"€2,484.30"},"E023",{"$f":"IFERROR(VLOOKUP(G18353,Discounts!C:E,3,0),0)","v":0},{"v":2484.3,"d":"€2,484.30"}]
["Auto",149590,24800,1,"Normal",{"v":228.1,"d":"€228.10"},"O115",{"$f":"IFERROR(VLOOKUP(G18366,Discounts!C:E,3,0),0)","v":0},{"v":228.1,"d":"€228.10"}]
["Auto",149630,53840,1,"Normal",{"v":228.1,"d":"€228.10"},"O115",{"$f":"IFERROR(VLOOKUP(G18375,Discounts!C:E,3,0),0)","v":0},{"v":228.1,"d":"€228.10"}]
["Auto",149690,53090,1,"Normal",{"v":6.61,"d":"€6.61"},"LUXE",{"$f":"IFERROR(VLOOKUP(G18387,Discounts!C:E,3,0),0)","v":0},{"v":6.61,"d":"€6.61"}]
["Auto",149750,53090,1,"Normal",{"v":6.61,"d":"€6.61"},"LUXE",{"$f":"IFERROR(VLOOKUP(G18398,Discounts!C:E,3,0),0)","v":0},{"v":6.61,"d":"€6.61"}]
["Auto",150010,149150,2,"Normal",{"v":1229.76,"d":"€1,229.76"},"B055",{"$f":"IFERROR(VLOOKUP(G18407,Discounts!C:E,3,0),0)","v":0},{"v":1229.76,"d":"€1,229.76"}]
["Auto",150270,150250,1,"Normal",{"v":1064.46,"d":"€1,064.46"},"E020",{"$f":"IFERROR(VLOOKUP(G18416,Discounts!C:E,3,0),0)","v":0},{"v":1064.46,"d":"€1,064.46"}]
["Auto",150480,31920,2,"Normal",{"v":242.98,"d":"€242.98"},"SD/SG",{"$f":"IFERROR(VLOOKUP(G18429,Discounts!C:E,3,0),0)","v":0},{"v":242.98,"d":"€242.98"}]
["Auto",150700,150640,1,"Normal",{"v":2484.3,"d":"€2,484.30"},"E023",{"$f":"IFERROR(VLOOKUP(G18449,Discounts!C:E,3,0),0)","v":0},{"v":2484.3,"d":"€2,484.30"}]
["Auto",151000,143570,1,"Normal",{"v":525.62,"d":"€525.62"},"B015",{"$f":"IFERROR(VLOOKUP(G18464,Discounts!C:E,3,0),0)","v":0},{"v":525.62,"d":"€525.62"}]
["Auto",151090,144710,1,"Normal",{"v":441.32,"d":"€441.32"},"B015",{"$f":"IFERROR(VLOOKUP(G18473,Discounts!C:E,3,0),0)","v":0},{"v":441.32,"d":"€441.32"}]
["Auto",151540,106060,1,"Normal",{"v":33.06,"d":"€33.06"},"LUXE",{"$f":"IFERROR(VLOOKUP(G18482,Discounts!C:E,3,0),0)","v":0},{"v":33.06,"d":"€33.06"}]
["Auto",151640,23970,2,"Normal",{"v":1148.76,"d":"€1,148.76"},"P106",{"$f":"IFERROR(VLOOKUP(G18492,Discounts!C:E,3,0),0)","v":0},{"v":1148.76,"d":"€1,148.76"}]
["Auto",151770,151750,2,"Normal",{"v":804.96,"d":"€804.96"},"B055",{"$f":"IFERROR(VLOOKUP(G18505,Discounts!C:E,3,0),0)","v":0},{"v":804.96,"d":"€804.96"}]
["Auto",151860,106730,1,"Normal",{"v":12.4,"d":"€12.40"},"LUXE",{"$f":"IFERROR(VLOOKUP(G18518,Discounts!C:E,3,0),0)","v":0},{"v":12.4,"d":"€12.40"}]
["Auto",151890,142900,1,"Normal",{"v":499.17,"d":"€499.17"},"B015",{"$f":"IFERROR(VLOOKUP(G18527,Discounts!C:E,3,0),0)","v":0},{"v":499.17,"d":"€499.17"}]
["Auto",151960,152360,1,"Combination",{"v":602.48,"d":"€602.48"},"B015",{"$f":"IFERROR(VLOOKUP(G18548,Discounts!C:E,3,0),0)","v":0},{"v":602.48,"d":"€602.48"}]
["Auto",152050,152030,2,"Normal",{"v":804.96,"d":"€804.96"},"B055",{"$f":"IFERROR(VLOOKUP(G18554,Discounts!C:E,3,0),0)","v":0},{"v":804.96,"d":"€804.96"}]
["Auto",152560,152520,1,"Normal",{"v":505.79,"d":"€505.79"},"O500",{"$f":"IFERROR(VLOOKUP(G18571,Discounts!C:E,3,0),0)","v":0},{"v":505.79,"d":"€505.79"}]
["Auto",153930,31060,1,"Normal",{"v":154.55,"d":"€154.55"},"SD/SG",{"$f":"IFERROR(VLOOKUP(G18580,Discounts!C:E,3,0),0)","v":0},{"v":154.55,"d":"€154.55"}]
["Auto",153960,32060,1,"Normal",{"v":121.49,"d":"€121.49"},"SD/SG",{"$f":"IFERROR(VLOOKUP(G18593,Discounts!C:E,3,0),0)","v":0},{"v":121.49,"d":"€121.49"}]
["Auto",153980,32060,1,"Normal",{"v":121.49,"d":"€121.49"},"SD/SG",{"$f":"IFERROR(VLOOKUP(G18601,Discounts!C:E,3,0),0)","v":0},{"v":121.49,"d":"€121.49"}]
["Auto",154020,31180,1,"Normal",{"v":322.31,"d":"€322.31"},"SD/SG",{"$f":"IFERROR(VLOOKUP(G18616,Discounts!C:E,3,0),0)","v":0},{"v":322.31,"d":"€322.31"}]
["Auto",154040,32060,1,"Normal",{"v":121.49,"d":"€121.49"},"SD/SG",{"$f":"IFERROR(VLOOKUP(G18625,Discounts!C:E,3,0),0)","v":0},{"v":121.49,"d":"€121.49"}]
["Auto",154090,40970,1,"Normal",{"v":58.68,"d":"€58.68"},"SD/SG",{"$f":"IFERROR(VLOOKUP(G18646,Discounts!C:E,3,0),0)","v":0},{"v":58.68,"d":"€58.68"}]
["Auto",154120,153880,1,"Normal",{"v":496.69,"d":"€496.69"},"D010",{"$f":"IFERROR(VLOOKUP(G18659,Discounts!C:E,3,0),0)","v":0},{"v":496.69,"d":"€496.69"}]
["Auto",154130,153880,1,"Normal",{"v":496.69,"d":"€496.69"},"D010",{"$f":"IFERROR(VLOOKUP(G18663,Discounts!C:E,3,0),0)","v":0},{"v":496.69,"d":"€496.69"}]
["Auto",154180,40970,1,"Normal",{"v":58.68,"d":"€58.68"},"SD/SG",{"$f":"IFERROR(VLOOKUP(G18682,Discounts!C:E,3,0),0)","v":0},{"v":58.68,"d":"€58.68"}]
["Auto",154200,153900,1,"Normal",{"v":566.94,"d":"€566.94"},"D010",{"$f":"IFERROR(VLOOKUP(G18691,Discounts!C:E,3,0),0)","v":0},{"$f":"IF(E18691=\"Normal\",F18691*(1-H18691),SUMIF(B:B,C18691,I:I)*D18691)","v":{"v":566.94,"d":"€566.94"}}]
["Auto",154230,31170,1,"Normal",{"v":337.19,"d":"€337.19"},"SD/SG",{"$f":"IFERROR(VLOOKUP(G18700,Discounts!C:E,3,0),0)","v":0},{"v":337.19,"d":"€337.19"}]
["Auto",154270,153900,1,"Normal",{"v":566.94,"d":"€566.94"},"D010",{"$f":"IFERROR(VLOOKUP(G18719,Discounts!C:E,3,0),0)","v":0},{"v":566.94,"d":"€566.94"}]
["Auto",154280,153900,1,"Normal",{"v":566.94,"d":"€566.94"},"D010",{"$f":"IFERROR(VLOOKUP(G18723,Discounts!C:E,3,0),0)","v":0},{"v":566.94,"d":"€566.94"}]
["Auto",154340,31280,1,"Normal",{"v":416.53,"d":"€416.53"},"SD/SG",{"$f":"IFERROR(VLOOKUP(G18744,Discounts!C:E,3,0),0)","v":0},{"v":416.53,"d":"€416.53"}]
["Auto",154370,32060,1,"Normal",{"v":121.49,"d":"€121.49"},"SD/SG",{"$f":"IFERROR(VLOOKUP(G18757,Discounts!C:E,3,0),0)","v":0},{"v":121.49,"d":"€121.49"}]
["Auto",154390,40970,1,"Normal",{"v":58.68,"d":"€58.68"},"SD/SG",{"$f":"IFERROR(VLOOKUP(G18766,Discounts!C:E,3,0),0)","v":0},{"v":58.68,"d":"€58.68"}]
["Auto",154430,32060,1,"Normal",{"v":121.49,"d":"€121.49"},"SD/SG",{"$f":"IFERROR(VLOOKUP(G18781,Discounts!C:E,3,0),0)","v":0},{"v":121.49,"d":"€121.49"}]
["Auto",154450,32060,1,"Normal",{"v":121.49,"d":"€121.49"},"SD/SG",{"$f":"IFERROR(VLOOKUP(G18789,Discounts!C:E,3,0),0)","v":0},{"v":121.49,"d":"€121.49"}]
["Auto",154470,40970,1,"Normal",{"v":58.68,"d":"€58.68"},"SD/SG",{"$f":"IFERROR(VLOOKUP(G18798,Discounts!C:E,3,0),0)","v":0},{"v":58.68,"d":"€58.68"}]
["Auto",154500,153890,1,"Normal",{"v":496.69,"d":"€496.69"},"D010",{"$f":"IFERROR(VLOOKUP(G18811,Discounts!C:E,3,0),0)","v":0},{"v":496.69,"d":"€496.69"}]
["Auto",154550,31270,1,"Normal",{"v":454.55,"d":"€454.55"},"SD/SG",{"$f":"IFERROR(VLOOKUP(G18828,Discounts!C:E,3,0),0)","v":0},{"v":454.55,"d":"€454.55"}]
["Auto",154580,40970,1,"Normal",{"v":58.68,"d":"€58.68"},"SD/SG",{"$f":"IFERROR(VLOOKUP(G18842,Discounts!C:E,3,0),0)","v":0},{"v":58.68,"d":"€58.68"}]
["Auto",154610,153910,1,"Normal",{"v":566.94,"d":"€566.94"},"D010",{"$f":"IFERROR(VLOOKUP(G18855,Discounts!C:E,3,0),0)","v":0},{"v":566.94,"d":"€566.94"}]
["Auto",154640,31140,1,"Normal",{"v":298.35,"d":"€298.35"},"SD/SG",{"$f":"IFERROR(VLOOKUP(G18864,Discounts!C:E,3,0),0)","v":0},{"v":298.35,"d":"€298.35"}]
["Auto",154670,32060,1,"Normal",{"v":121.49,"d":"€121.49"},"SD/SG",{"$f":"IFERROR(VLOOKUP(G18877,Discounts!C:E,3,0),0)","v":0},{"v":121.49,"d":"€121.49"}]
["Auto",154700,40970,1,"Normal",{"v":58.68,"d":"€58.68"},"SD/SG",{"$f":"IFERROR(VLOOKUP(G18890,Discounts!C:E,3,0),0)","v":0},{"v":58.68,"d":"€58.68"}]
["Auto",154720,31220,1,"Normal",{"v":289.26,"d":"€289.26"},"SD/SG",{"$f":"IFERROR(VLOOKUP(G18896,Discounts!C:E,3,0),0)","v":0},{"v":289.26,"d":"€289.26"}]
["Auto",154750,32060,1,"Normal",{"v":121.49,"d":"€121.49"},"SD/SG",{"$f":"IFERROR(VLOOKUP(G18909,Discounts!C:E,3,0),0)","v":0},{"v":121.49,"d":"€121.49"}]
["Auto",154770,40970,1,"Normal",{"v":58.68,"d":"€58.68"},"SD/SG",{"$f":"IFERROR(VLOOKUP(G18918,Discounts!C:E,3,0),0)","v":0},{"v":58.68,"d":"€58.68"}]
["Auto",154810,153900,1,"Normal",{"v":566.94,"d":"€566.94"},"D010",{"$f":"IFERROR(VLOOKUP(G18933,Discounts!C:E,3,0),0)","v":0},{"v":566.94,"d":"€566.94"}]
["Auto",154930,41330,1,"Normal",{"v":22.31,"d":"€22.31"},"SD/SG",{"$f":"IFERROR(VLOOKUP(G18953,Discounts!C:E,3,0),0)","v":0},{"v":22.31,"d":"€22.31"}]
["Auto",154950,41320,1,"Normal",{"v":37.19,"d":"€37.19"},"SD/SG",{"$f":"IFERROR(VLOOKUP(G18962,Discounts!C:E,3,0),0)","v":0},{"v":37.19,"d":"€37.19"}]
["Auto",155030,155010,1,"Normal",{"v":73.55,"d":"€73.55"},"SERVICE",{"$f":"IFERROR(VLOOKUP(G18975,Discounts!C:E,3,0),0)","v":0},{"v":73.55,"d":"€73.55"}]
["Auto",155120,53490,1,"Normal",{"v":39.67,"d":"€39.67"},"SD/SG",{"$f":"IFERROR(VLOOKUP(G18984,Discounts!C:E,3,0),0)","v":0},{"v":39.67,"d":"€39.67"}]
["Auto",155220,41090,1,"Normal",{"v":16.53,"d":"€16.53"},"SD/SG",{"$f":"IFERROR(VLOOKUP(G18999,Discounts!C:E,3,0),0)","v":0},{"v":16.53,"d":"€16.53"}]
["Auto",155270,77790,1,"Combination",{"v":681.81,"d":"€681.81"},"",{"$f":"IFERROR(VLOOKUP(G19007,Discounts!C:E,3,0),0)","v":0},{"v":681.8100000000001,"d":"€681.81"}]
["Auto",155440,155380,1,"Normal",{"v":40.5,"d":"€40.50"},"O115",{"$f":"IFERROR(VLOOKUP(G19016,Discounts!C:E,3,0),0)","v":0},{"v":40.5,"d":"€40.50"}]
["Auto",155570,57470,1,"Combination",{"v":344.63,"d":"€344.63"},"E056",{"$f":"IFERROR(VLOOKUP(G19029,Discounts!C:E,3,0),0)","v":0},{"v":344.63,"d":"€344.63"}]
["Auto",155640,34010,2,"Normal",{"v":320.66,"d":"€320.66"},"SD/SG",{"$f":"IFERROR(VLOOKUP(G19042,Discounts!C:E,3,0),0)","v":0},{"v":320.66,"d":"€320.66"}]
["Auto",155730,33990,1,"Normal",{"v":106.61,"d":"€106.61"},"SD/SG",{"$f":"IFERROR(VLOOKUP(G19060,Discounts!C:E,3,0),0)","v":0},{"v":106.61,"d":"€106.61"}]
["Auto",155790,135080,1,"Combination",{"v":724.8,"d":"€724.80"},"",{"$f":"IFERROR(VLOOKUP(G19073,Discounts!C:E,3,0),0)","v":0},{"v":724.8,"d":"€724.80"}]
["Auto",156380,148620,1,"Normal",{"v":419.83,"d":"€419.83"},"B015",{"$f":"IFERROR(VLOOKUP(G19082,Discounts!C:E,3,0),0)","v":0},{"v":419.83,"d":"€419.83"}]
["Auto",156410,152330,1,"Combination",{"v":458.68,"d":"€458.68"},"B015",{"$f":"IFERROR(VLOOKUP(G19091,Discounts!C:E,3,0),0)","v":0},{"v":458.67999999999995,"d":"€458.68"}]
["Auto",156450,156280,1,"Normal",{"v":362.81,"d":"€362.81"},"P109",{"$f":"IFERROR(VLOOKUP(G19104,Discounts!C:E,3,0),0)","v":0},{"v":362.81,"d":"€362.81"}]
["Auto",156510,105720,1,"Normal",{"v":79.16,"d":"€79.16"},"LUXE",{"$f":"IFERROR(VLOOKUP(G19114,Discounts!C:E,3,0),0)","v":0},{"v":79.16,"d":"€79.16"}]
["Auto",156550,144770,1,"Normal",{"v":389.26,"d":"€389.26"},"B015",{"$f":"IFERROR(VLOOKUP(G19127,Discounts!C:E,3,0),0)","v":0},{"v":389.26,"d":"€389.26"}]
["Auto",156620,144840,1,"Combination",{"v":404.14,"d":"€404.14"},"B015",{"$f":"IFERROR(VLOOKUP(G19148,Discounts!C:E,3,0),0)","v":0},{"v":404.14,"d":"€404.14"}]
["Auto",156650,54260,1,"Normal",{"v":73.55,"d":"€73.55"},"R100",{"$f":"IFERROR(VLOOKUP(G19151,Discounts!C:E,3,0),0)","v":0},{"v":73.55,"d":"€73.55"}]
["Auto",156860,156800,1,"Normal",{"v":290.91,"d":"€290.91"},"LUXE",{"$f":"IFERROR(VLOOKUP(G19171,Discounts!C:E,3,0),0)","v":0},{"v":290.91,"d":"€290.91"}]
["Auto",156910,44580,1,"Normal",{"v":1067.77,"d":"€1,067.77"},"A010",{"$f":"IFERROR(VLOOKUP(G19180,Discounts!C:E,3,0),0)","v":0},{"v":1067.77,"d":"€1,067.77"}]
["Auto",156970,156800,1,"Normal",{"v":290.91,"d":"€290.91"},"LUXE",{"$f":"IFERROR(VLOOKUP(G19193,Discounts!C:E,3,0),0)","v":0},{"v":290.91,"d":"€290.91"}]
["Auto",157060,105690,1,"Normal",{"v":62.39,"d":"€62.39"},"LUXE",{"$f":"IFERROR(VLOOKUP(G19202,Discounts!C:E,3,0),0)","v":0},{"v":62.39,"d":"€62.39"}]
["Auto",157090,157030,1,"Normal",{"v":128.1,"d":"€128.10"},"P109",{"$f":"IFERROR(VLOOKUP(G19213,Discounts!C:E,3,0),0)","v":0},{"v":128.1,"d":"€128.10"}]
["Auto",157180,157150,1,"Normal",{"v":144.63,"d":"€144.63"},"P109",{"$f":"IFERROR(VLOOKUP(G19225,Discounts!C:E,3,0),0)","v":0},{"v":144.63,"d":"€144.63"}]
["Auto",157300,157270,1,"Normal",{"v":192.56,"d":"€192.56"},"P109",{"$f":"IFERROR(VLOOKUP(G19246,Discounts!C:E,3,0),0)","v":0},{"v":192.56,"d":"€192.56"}]
["Auto",157330,157270,1,"Normal",{"v":192.56,"d":"€192.56"},"P109",{"$f":"IFERROR(VLOOKUP(G19255,Discounts!C:E,3,0),0)","v":0},{"v":192.56,"d":"€192.56"}]
["Auto",157430,157370,1,"Normal",{"v":433.06,"d":"€433.06"},"B015",{"$f":"IFERROR(VLOOKUP(G19269,Discounts!C:E,3,0),0)","v":0},{"v":433.06,"d":"€433.06"}]
["Auto",157460,157380,1,"Combination",{"v":445.46,"d":"€445.46"},"B015",{"$f":"IFERROR(VLOOKUP(G19278,Discounts!C:E,3,0),0)","v":0},{"v":445.46,"d":"€445.46"}]
["Auto",157550,157520,1,"Normal",{"v":309.09,"d":"€309.09"},"P109",{"$f":"IFERROR(VLOOKUP(G19291,Discounts!C:E,3,0),0)","v":0},{"v":309.09,"d":"€309.09"}]
["Auto",157580,157520,1,"Normal",{"v":309.09,"d":"€309.09"},"P109",{"$f":"IFERROR(VLOOKUP(G19300,Discounts!C:E,3,0),0)","v":0},{"v":309.09,"d":"€309.09"}]
["Auto",157660,157630,1,"Normal",{"v":192.56,"d":"€192.56"},"P109",{"$f":"IFERROR(VLOOKUP(G19309,Discounts!C:E,3,0),0)","v":0},{"v":192.56,"d":"€192.56"}]
["Auto",157790,157760,1,"Normal",{"v":232.23,"d":"€232.23"},"P109",{"$f":"IFERROR(VLOOKUP(G19331,Discounts!C:E,3,0),0)","v":0},{"$f":"IF(E19331=\"Normal\",F19331*(1-H19331),SUMIF(B:B,C19331,I:I)*D19331)","v":{"v":232.23,"d":"€232.23"}}]
["Auto",158320,31470,1,"Normal",{"v":141.32,"d":"€141.32"},"LUXE",{"$f":"IFERROR(VLOOKUP(G19344,Discounts!C:E,3,0),0)","v":0},{"v":141.32,"d":"€141.32"}]
["Auto",158320,158300,1,"Combination",{"v":1280.99,"d":"€1,280.99"},"",{"$f":"IFERROR(VLOOKUP(G19345,Discounts!C:E,3,0),0)","v":0},{"v":1280.99,"d":"€1,280.99"}]
["Auto",158430,158410,1,"Combination",{"v":1352.89,"d":"€1,352.89"},"",{"$f":"IFERROR(VLOOKUP(G19366,Discounts!C:E,3,0),0)","v":0},{"v":1352.89,"d":"€1,352.89"}]
["Auto",158490,29710,2,"Normal",{"v":85.96,"d":"€85.96"},"LUXE",{"$f":"IFERROR(VLOOKUP(G19378,Discounts!C:E,3,0),0)","v":0},{"v":85.96,"d":"€85.96"}]
["Auto",158590,31470,1,"Normal",{"v":141.32,"d":"€141.32"},"LUXE",{"$f":"IFERROR(VLOOKUP(G19389,Discounts!C:E,3,0),0)","v":0},{"v":141.32,"d":"€141.32"}]
["Auto",158630,158610,1,"Combination",{"v":1460.33,"d":"€1,460.33"},"A010",{"$f":"IFERROR(VLOOKUP(G19398,Discounts!C:E,3,0),0)","v":0},{"v":1460.33,"d":"€1,460.33"}]
["Auto",158730,31470,1,"Normal",{"v":141.32,"d":"€141.32"},"LUXE",{"$f":"IFERROR(VLOOKUP(G19407,Discounts!C:E,3,0),0)","v":0},{"v":141.32,"d":"€141.32"}]
["Auto",158790,29710,2,"Normal",{"v":85.96,"d":"€85.96"},"LUXE",{"$f":"IFERROR(VLOOKUP(G19420,Discounts!C:E,3,0),0)","v":0},{"v":85.96,"d":"€85.96"}]
["Auto",159040,41640,1,"Normal",{"v":119.83,"d":"€119.83"},"LUXE",{"$f":"IFERROR(VLOOKUP(G19440,Discounts!C:E,3,0),0)","v":0},{"v":119.83,"d":"€119.83"}]
["Auto",159050,41640,1,"Normal",{"v":119.83,"d":"€119.83"},"LUXE",{"$f":"IFERROR(VLOOKUP(G19443,Discounts!C:E,3,0),0)","v":0},{"v":119.83,"d":"€119.83"}]
["Auto",159530,159110,1,"Normal",{"v":362.81,"d":"€362.81"},"P109",{"$f":"IFERROR(VLOOKUP(G19464,Discounts!C:E,3,0),0)","v":0},{"v":362.81,"d":"€362.81"}]
["Auto",159560,159130,1,"Normal",{"v":362.81,"d":"€362.81"},"P109",{"$f":"IFERROR(VLOOKUP(G19473,Discounts!C:E,3,0),0)","v":0},{"v":362.81,"d":"€362.81"}]
["Auto",159600,105710,1,"Normal",{"v":73.57,"d":"€73.57"},"LUXE",{"$f":"IFERROR(VLOOKUP(G19483,Discounts!C:E,3,0),0)","v":0},{"v":73.57,"d":"€73.57"}]
["Auto",159640,144760,1,"Combination",{"v":381,"d":"€381.00"},"B015",{"$f":"IFERROR(VLOOKUP(G19496,Discounts!C:E,3,0),0)","v":0},{"v":381,"d":"€381.00"}]
["Auto",159670,144790,1,"Normal",{"v":409.09,"d":"€409.09"},"B015",{"$f":"IFERROR(VLOOKUP(G19505,Discounts!C:E,3,0),0)","v":0},{"v":409.09,"d":"€409.09"}]
["Auto",159710,159220,1,"Normal",{"v":362.81,"d":"€362.81"},"P109",{"$f":"IFERROR(VLOOKUP(G19518,Discounts!C:E,3,0),0)","v":0},{"v":362.81,"d":"€362.81"}]
["Auto",159750,159240,1,"Normal",{"v":271.9,"d":"€271.90"},"P109",{"$f":"IFERROR(VLOOKUP(G19530,Discounts!C:E,3,0),0)","v":0},{"v":271.9,"d":"€271.90"}]
["Auto",159790,157370,1,"Normal",{"v":433.06,"d":"€433.06"},"B015",{"$f":"IFERROR(VLOOKUP(G19541,Discounts!C:E,3,0),0)","v":0},{"v":433.06,"d":"€433.06"}]
["Auto",159860,148620,1,"Normal",{"v":419.83,"d":"€419.83"},"B015",{"$f":"IFERROR(VLOOKUP(G19562,Discounts!C:E,3,0),0)","v":0},{"v":419.83,"d":"€419.83"}]
["Auto",159890,152330,1,"Combination",{"v":458.68,"d":"€458.68"},"B015",{"$f":"IFERROR(VLOOKUP(G19571,Discounts!C:E,3,0),0)","v":0},{"v":458.67999999999995,"d":"€458.68"}]
["Auto",159930,159330,1,"Normal",{"v":451.24,"d":"€451.24"},"P109",{"$f":"IFERROR(VLOOKUP(G19584,Discounts!C:E,3,0),0)","v":0},{"v":451.24,"d":"€451.24"}]
["Auto",159960,142940,1,"Normal",{"v":446.28,"d":"€446.28"},"B015",{"$f":"IFERROR(VLOOKUP(G19592,Discounts!C:E,3,0),0)","v":0},{"v":446.28,"d":"€446.28"}]
["Auto",160010,144770,1,"Normal",{"v":389.26,"d":"€389.26"},"B015",{"$f":"IFERROR(VLOOKUP(G19607,Discounts!C:E,3,0),0)","v":0},{"v":389.26,"d":"€389.26"}]
["Auto",160040,144800,1,"Combination",{"v":421.49,"d":"€421.49"},"B015",{"$f":"IFERROR(VLOOKUP(G19616,Discounts!C:E,3,0),0)","v":0},{"v":421.48999999999995,"d":"€421.49"}]
["Auto",160110,157130,1,"Normal",{"v":482.64,"d":"€482.64"},"B015",{"$f":"IFERROR(VLOOKUP(G19637,Discounts!C:E,3,0),0)","v":0},{"v":482.64,"d":"€482.64"}]
["Auto",160150,105710,1,"Normal",{"v":73.57,"d":"€73.57"},"LUXE",{"$f":"IFERROR(VLOOKUP(G19648,Discounts!C:E,3,0),0)","v":0},{"v":73.57,"d":"€73.57"}]
["Auto",160190,105740,1,"Normal",{"v":95.93,"d":"€95.93"},"LUXE",{"$f":"IFERROR(VLOOKUP(G19660,Discounts!C:E,3,0),0)","v":0},{"v":95.93,"d":"€95.93"}]
["Auto",160220,40790,1,"Normal",{"v":6.61,"d":"€6.61"},"LUXE",{"$f":"IFERROR(VLOOKUP(G19669,Discounts!C:E,3,0),0)","v":0},{"v":6.61,"d":"€6.61"}]
["Auto",160260,31640,1,"Normal",{"v":141.32,"d":"€141.32"},"LUXE",{"$f":"IFERROR(VLOOKUP(G19682,Discounts!C:E,3,0),0)","v":0},{"v":141.32,"d":"€141.32"}]
["Auto",160310,29710,1,"Normal",{"v":42.98,"d":"€42.98"},"LUXE",{"$f":"IFERROR(VLOOKUP(G19691,Discounts!C:E,3,0),0)","v":0},{"v":42.98,"d":"€42.98"}]
["Auto",162030,161970,1,"Normal",{"v":34.71,"d":"€34.71"},"O115",{"$f":"IFERROR(VLOOKUP(G19710,Discounts!C:E,3,0),0)","v":0},{"v":34.71,"d":"€34.71"}]
["Auto",162090,162070,1,"Normal",{"v":593.39,"d":"€593.39"},"C010",{"$f":"IFERROR(VLOOKUP(G19714,Discounts!C:E,3,0),0)","v":0},{"v":593.39,"d":"€593.39"}]
["Auto",162380,137810,2,"Normal",{"v":242.98,"d":"€242.98"},"LUXE",{"$f":"IFERROR(VLOOKUP(G19735,Discounts!C:E,3,0),0)","v":0},{"v":242.98,"d":"€242.98"}]
["Auto",162380,162090,2,"Combination",{"v":1685.96,"d":"€1,685.96"},"",{"$f":"IFERROR(VLOOKUP(G19736,Discounts!C:E,3,0),0)","v":0},{"v":1685.96,"d":"€1,685.96"}]
["Auto",162570,34260,1,"Normal",{"v":249.59,"d":"€249.59"},"LUXE",{"$f":"IFERROR(VLOOKUP(G19757,Discounts!C:E,3,0),0)","v":0},{"v":249.59,"d":"€249.59"}]
["Auto",162640,137810,1,"Normal",{"v":121.49,"d":"€121.49"},"LUXE",{"$f":"IFERROR(VLOOKUP(G19767,Discounts!C:E,3,0),0)","v":0},{"v":121.49,"d":"€121.49"}]
["Auto",162700,162570,2,"Combination",{"v":1609.92,"d":"€1,609.92"},"",{"$f":"IFERROR(VLOOKUP(G19780,Discounts!C:E,3,0),0)","v":0},{"v":1609.92,"d":"€1,609.92"}]
["Auto",162810,137810,1,"Normal",{"v":121.49,"d":"€121.49"},"LUXE",{"$f":"IFERROR(VLOOKUP(G19789,Discounts!C:E,3,0),0)","v":0},{"v":121.49,"d":"€121.49"}]
["Auto",162920,40970,1,"Normal",{"v":58.68,"d":"€58.68"},"SD/SG",{"$f":"IFERROR(VLOOKUP(G19802,Discounts!C:E,3,0),0)","v":0},{"v":58.68,"d":"€58.68"}]
["Auto",162960,41440,1,"Normal",{"v":559.5,"d":"€559.50"},"D010",{"$f":"IFERROR(VLOOKUP(G19819,Discounts!C:E,3,0),0)","v":0},{"v":559.5,"d":"€559.50"}]
["Auto",163000,32060,1,"Normal",{"v":121.49,"d":"€121.49"},"SD/SG",{"$f":"IFERROR(VLOOKUP(G19833,Discounts!C:E,3,0),0)","v":0},{"v":121.49,"d":"€121.49"}]
["Auto",163000,40970,1,"Normal",{"v":58.68,"d":"€58.68"},"SD/SG",{"$f":"IFERROR(VLOOKUP(G19834,Discounts!C:E,3,0),0)","v":0},{"v":58.68,"d":"€58.68"}]
["Auto",163050,41440,1,"Normal",{"v":559.5,"d":"€559.50"},"D010",{"$f":"IFERROR(VLOOKUP(G19855,Discounts!C:E,3,0),0)","v":0},{"v":559.5,"d":"€559.50"}]
["Auto",163220,40970,1,"Normal",{"v":58.68,"d":"€58.68"},"SD/SG",{"$f":"IFERROR(VLOOKUP(G19862,Discounts!C:E,3,0),0)","v":0},{"v":58.68,"d":"€58.68"}]
["Auto",163260,40970,1,"Normal",{"v":58.68,"d":"€58.68"},"SD/SG",{"$f":"IFERROR(VLOOKUP(G19878,Discounts!C:E,3,0),0)","v":0},{"v":58.68,"d":"€58.68"}]
["Auto",163280,41450,1,"Normal",{"v":631.4,"d":"€631.40"},"D010",{"$f":"IFERROR(VLOOKUP(G19887,Discounts!C:E,3,0),0)","v":0},{"v":631.4,"d":"€631.40"}]
["Auto",163310,163160,1,"Normal",{"v":154.55,"d":"€154.55"},"SD/SG",{"$f":"IFERROR(VLOOKUP(G19900,Discounts!C:E,3,0),0)","v":0},{"v":154.55,"d":"€154.55"}]
["Auto",163340,32060,1,"Normal",{"v":121.49,"d":"€121.49"},"SD/SG",{"$f":"IFERROR(VLOOKUP(G19909,Discounts!C:E,3,0),0)","v":0},{"v":121.49,"d":"€121.49"}]
["Auto",164220,40450,1,"Normal",{"v":13.22,"d":"€13.22"},"SD/SG",{"$f":"IFERROR(VLOOKUP(G19928,Discounts!C:E,3,0),0)","v":0},{"v":13.22,"d":"€13.22"}]
["Auto",164230,164070,1,"Normal",{"v":576.86,"d":"€576.86"},"E013",{"$f":"IFERROR(VLOOKUP(G19932,Discounts!C:E,3,0),0)","v":0},{"v":576.86,"d":"€576.86"}]
["Auto",164300,164140,1,"Normal",{"v":642.15,"d":"€642.15"},"E013",{"$f":"IFERROR(VLOOKUP(G19953,Discounts!C:E,3,0),0)","v":0},{"v":642.15,"d":"€642.15"}]
["Auto",164350,31920,1,"Normal",{"v":121.49,"d":"€121.49"},"SD/SG",{"$f":"IFERROR(VLOOKUP(G19966,Discounts!C:E,3,0),0)","v":0},{"v":121.49,"d":"€121.49"}]
["Auto",164510,164390,-1,"Normal",{"v":-557.02,"d":"€(557.02)"},"D060",{"$f":"IFERROR(VLOOKUP(G19971,Discounts!C:E,3,0),0)","v":0},{"$f":"IF(E19971=\"Normal\",F19971*(1-H19971),SUMIF(B:B,C19971,I:I)*D19971)","v":{"v":-557.02,"d":"€(557.02)"}}]
["Auto",164570,40970,1,"Normal",{"v":58.68,"d":"€58.68"},"SD/SG",{"$f":"IFERROR(VLOOKUP(G19985,Discounts!C:E,3,0),0)","v":0},{"v":58.68,"d":"€58.68"}]
["Auto",164600,40470,1,"Normal",{"v":53.72,"d":"€53.72"},"SD/SG",{"$f":"IFERROR(VLOOKUP(G19998,Discounts!C:E,3,0),0)","v":0},{"v":53.72,"d":"€53.72"}]
["Auto",164620,32060,1,"Normal",{"v":121.49,"d":"€121.49"},"SD/SG",{"$f":"IFERROR(VLOOKUP(G20007,Discounts!C:E,3,0),0)","v":0},{"v":121.49,"d":"€121.49"}]
["Auto",164640,164400,1,"Normal",{"v":676.86,"d":"€676.86"},"D060",{"$f":"IFERROR(VLOOKUP(G20020,Discounts!C:E,3,0),0)","v":0},{"v":676.86,"d":"€676.86"}]
["Auto",164670,40470,1,"Normal",{"v":53.72,"d":"€53.72"},"SD/SG",{"$f":"IFERROR(VLOOKUP(G20033,Discounts!C:E,3,0),0)","v":0},{"v":53.72,"d":"€53.72"}]
["Auto",164710,31110,1,"Normal",{"v":310.74,"d":"€310.74"},"SD/SG",{"$f":"IFERROR(VLOOKUP(G20051,Discounts!C:E,3,0),0)","v":0},{"v":310.74,"d":"€310.74"}]
["Auto",164730,40970,1,"Normal",{"v":58.68,"d":"€58.68"},"SD/SG",{"$f":"IFERROR(VLOOKUP(G20064,Discounts!C:E,3,0),0)","v":0},{"v":58.68,"d":"€58.68"}]
["Auto",164750,40470,1,"Normal",{"v":53.72,"d":"€53.72"},"SD/SG",{"$f":"IFERROR(VLOOKUP(G20073,Discounts!C:E,3,0),0)","v":0},{"v":53.72,"d":"€53.72"}]
["Auto",164760,164400,1,"Normal",{"v":676.86,"d":"€676.86"},"D060",{"$f":"IFERROR(VLOOKUP(G20080,Discounts!C:E,3,0),0)","v":0},{"v":676.86,"d":"€676.86"}]
["Auto",164800,31150,1,"Normal",{"v":264.46,"d":"€264.46"},"SD/SG",{"$f":"IFERROR(VLOOKUP(G20096,Discounts!C:E,3,0),0)","v":0},{"v":264.46,"d":"€264.46"}]
["Auto",164810,164390,1,"Normal",{"v":557.02,"d":"€557.02"},"D060",{"$f":"IFERROR(VLOOKUP(G20105,Discounts!C:E,3,0),0)","v":0},{"v":557.02,"d":"€557.02"}]
["Auto",164840,40470,1,"Normal",{"v":53.72,"d":"€53.72"},"SD/SG",{"$f":"IFERROR(VLOOKUP(G20118,Discounts!C:E,3,0),0)","v":0},{"v":53.72,"d":"€53.72"}]
["Auto",164860,32060,1,"Normal",{"v":121.49,"d":"€121.49"},"SD/SG",{"$f":"IFERROR(VLOOKUP(G20127,Discounts!C:E,3,0),0)","v":0},{"v":121.49,"d":"€121.49"}]
["Auto",164890,32060,1,"Normal",{"v":121.49,"d":"€121.49"},"SD/SG",{"$f":"IFERROR(VLOOKUP(G20142,Discounts!C:E,3,0),0)","v":0},{"v":121.49,"d":"€121.49"}]
["Auto",164930,32060,1,"Normal",{"v":121.49,"d":"€121.49"},"SD/SG",{"$f":"IFERROR(VLOOKUP(G20162,Discounts!C:E,3,0),0)","v":0},{"v":121.49,"d":"€121.49"}]
["Auto",164950,31230,1,"Normal",{"v":279.34,"d":"€279.34"},"SD/SG",{"$f":"IFERROR(VLOOKUP(G20171,Discounts!C:E,3,0),0)","v":0},{"v":279.34,"d":"€279.34"}]
["Auto",164960,164400,1,"Normal",{"v":676.86,"d":"€676.86"},"D060",{"$f":"IFERROR(VLOOKUP(G20180,Discounts!C:E,3,0),0)","v":0},{"v":676.86,"d":"€676.86"}]
["Auto",165000,40470,1,"Normal",{"v":53.72,"d":"€53.72"},"SD/SG",{"$f":"IFERROR(VLOOKUP(G20198,Discounts!C:E,3,0),0)","v":0},{"v":53.72,"d":"€53.72"}]
["Auto",165010,40470,1,"Normal",{"v":53.72,"d":"€53.72"},"SD/SG",{"$f":"IFERROR(VLOOKUP(G20203,Discounts!C:E,3,0),0)","v":0},{"v":53.72,"d":"€53.72"}]
["Auto",165040,31270,1,"Normal",{"v":454.55,"d":"€454.55"},"SD/SG",{"$f":"IFERROR(VLOOKUP(G20216,Discounts!C:E,3,0),0)","v":0},{"v":454.55,"d":"€454.55"}]
["Auto",165050,164390,1,"Normal",{"v":557.02,"d":"€557.02"},"D060",{"$f":"IFERROR(VLOOKUP(G20225,Discounts!C:E,3,0),0)","v":0},{"v":557.02,"d":"€557.02"}]
["Auto",165310,31920,1,"Normal",{"v":121.49,"d":"€121.49"},"SD/SG",{"$f":"IFERROR(VLOOKUP(G20246,Discounts!C:E,3,0),0)","v":0},{"v":121.49,"d":"€121.49"}]
["Auto",165370,48600,1,"Normal",{"v":20.66,"d":"€20.66"},"SD/SG",{"$f":"IFERROR(VLOOKUP(G20260,Discounts!C:E,3,0),0)","v":0},{"v":20.66,"d":"€20.66"}]
["Auto",165410,165400,1,"Normal",{"v":915.7,"d":"€915.70"},"E095",{"$f":"IFERROR(VLOOKUP(G20269,Discounts!C:E,3,0),0)","v":0},{"v":915.7,"d":"€915.70"}]
["Auto",166350,32060,1,"Normal",{"v":121.49,"d":"€121.49"},"SD/SG",{"$f":"IFERROR(VLOOKUP(G20282,Discounts!C:E,3,0),0)","v":0},{"v":121.49,"d":"€121.49"}]
["Auto",166370,40970,1,"Normal",{"v":58.68,"d":"€58.68"},"SD/SG",{"$f":"IFERROR(VLOOKUP(G20291,Discounts!C:E,3,0),0)","v":0},{"$f":"IF(E20291=\"Normal\",F20291*(1-H20291),SUMIF(B:B,C20291,I:I)*D20291)","v":{"v":58.68,"d":"€58.68"}}]
["Auto",166410,163070,1,"Normal",{"v":171.9,"d":"€171.90"},"SD/SG",{"$f":"IFERROR(VLOOKUP(G20307,Discounts!C:E,3,0),0)","v":0},{"v":171.9,"d":"€171.90"}]
["Auto",166430,40970,1,"Normal",{"v":58.68,"d":"€58.68"},"SD/SG",{"$f":"IFERROR(VLOOKUP(G20314,Discounts!C:E,3,0),0)","v":0},{"v":58.68,"d":"€58.68"}]
["Auto",166450,163100,1,"Normal",{"v":310.74,"d":"€310.74"},"SD/SG",{"$f":"IFERROR(VLOOKUP(G20323,Discounts!C:E,3,0),0)","v":0},{"v":310.74,"d":"€310.74"}]
["Auto",166500,166320,1,"Normal",{"v":780.17,"d":"€780.17"},"D010",{"$f":"IFERROR(VLOOKUP(G20344,Discounts!C:E,3,0),0)","v":0},{"v":780.17,"d":"€780.17"}]
["Auto",166540,31170,1,"Normal",{"v":337.19,"d":"€337.19"},"SD/SG",{"$f":"IFERROR(VLOOKUP(G20357,Discounts!C:E,3,0),0)","v":0},{"v":337.19,"d":"€337.19"}]
["Auto",166570,32060,1,"Normal",{"v":121.49,"d":"€121.49"},"SD/SG",{"$f":"IFERROR(VLOOKUP(G20369,Discounts!C:E,3,0),0)","v":0},{"v":121.49,"d":"€121.49"}]
["Auto",166590,166320,1,"Normal",{"v":780.17,"d":"€780.17"},"D010",{"$f":"IFERROR(VLOOKUP(G20380,Discounts!C:E,3,0),0)","v":0},{"v":780.17,"d":"€780.17"}]
["Auto",166620,31220,1,"Normal",{"v":289.26,"d":"€289.26"},"SD/SG",{"$f":"IFERROR(VLOOKUP(G20389,Discounts!C:E,3,0),0)","v":0},{"v":289.26,"d":"€289.26"}]
["Auto",166640,32060,1,"Normal",{"v":121.49,"d":"€121.49"},"SD/SG",{"$f":"IFERROR(VLOOKUP(G20398,Discounts!C:E,3,0),0)","v":0},{"v":121.49,"d":"€121.49"}]
["Auto",166670,166320,1,"Normal",{"v":780.17,"d":"€780.17"},"D010",{"$f":"IFERROR(VLOOKUP(G20412,Discounts!C:E,3,0),0)","v":0},{"v":780.17,"d":"€780.17"}]
["Auto",166700,32060,1,"Normal",{"v":121.49,"d":"€121.49"},"SD/SG",{"$f":"IFERROR(VLOOKUP(G20421,Discounts!C:E,3,0),0)","v":0},{"v":121.49,"d":"€121.49"}]
["Auto",166730,32060,1,"Normal",{"v":121.49,"d":"€121.49"},"SD/SG",{"$f":"IFERROR(VLOOKUP(G20434,Discounts!C:E,3,0),0)","v":0},{"v":121.49,"d":"€121.49"}]
["Auto",167950,40970,1,"Normal",{"v":58.68,"d":"€58.68"},"SD/SG",{"$f":"IFERROR(VLOOKUP(G20455,Discounts!C:E,3,0),0)","v":0},{"v":58.68,"d":"€58.68"}]
["Auto",168620,32060,1,"Normal",{"v":121.49,"d":"€121.49"},"SD/SG",{"$f":"IFERROR(VLOOKUP(G20464,Discounts!C:E,3,0),0)","v":0},{"v":121.49,"d":"€121.49"}]
["Auto",169860,168990,1,"Normal",{"v":454.55,"d":"€454.55"},"E015",{"$f":"IFERROR(VLOOKUP(G20474,Discounts!C:E,3,0),0)","v":0},{"v":454.55,"d":"€454.55"}]
["Auto",169910,169750,2,"Normal",{"v":1604.96,"d":"€1,604.96"},"E015",{"$f":"IFERROR(VLOOKUP(G20487,Discounts!C:E,3,0),0)","v":0},{"v":1604.96,"d":"€1,604.96"}]
["Auto",169930,169700,1,"Normal",{"v":485.12,"d":"€485.12"},"E015",{"$f":"IFERROR(VLOOKUP(G20496,Discounts!C:E,3,0),0)","v":0},{"v":485.12,"d":"€485.12"}]
["Auto",169960,169700,1,"Normal",{"v":485.12,"d":"€485.12"},"E015",{"$f":"IFERROR(VLOOKUP(G20509,Discounts!C:E,3,0),0)","v":0},{"v":485.12,"d":"€485.12"}]
["Auto",169990,40450,1,"Normal",{"v":13.22,"d":"€13.22"},"SD/SG",{"$f":"IFERROR(VLOOKUP(G20521,Discounts!C:E,3,0),0)","v":0},{"v":13.22,"d":"€13.22"}]
["Auto",170020,31920,1,"Normal",{"v":121.49,"d":"€121.49"},"SD/SG",{"$f":"IFERROR(VLOOKUP(G20532,Discounts!C:E,3,0),0)","v":0},{"v":121.49,"d":"€121.49"}]
["Auto",170110,40520,1,"Normal",{"v":67.77,"d":"€67.77"},"SD/SG",{"$f":"IFERROR(VLOOKUP(G20553,Discounts!C:E,3,0),0)","v":0},{"v":67.77,"d":"€67.77"}]
["Auto",170130,168830,1,"Normal",{"v":412.4,"d":"€412.40"},"E010",{"$f":"IFERROR(VLOOKUP(G20562,Discounts!C:E,3,0),0)","v":0},{"v":412.4,"d":"€412.40"}]
["Auto",170170,31920,1,"Normal",{"v":121.49,"d":"€121.49"},"SD/SG",{"$f":"IFERROR(VLOOKUP(G20575,Discounts!C:E,3,0),0)","v":0},{"v":121.49,"d":"€121.49"}]
["Auto",170190,31920,1,"Normal",{"v":121.49,"d":"€121.49"},"SD/SG",{"$f":"IFERROR(VLOOKUP(G20583,Discounts!C:E,3,0),0)","v":0},{"v":121.49,"d":"€121.49"}]
["Auto",170210,168870,1,"Normal",{"v":527.27,"d":"€527.27"},"E010",{"$f":"IFERROR(VLOOKUP(G20594,Discounts!C:E,3,0),0)","v":0},{"v":527.27,"d":"€527.27"}]
["Auto",170250,31920,1,"Normal",{"v":121.49,"d":"€121.49"},"SD/SG",{"$f":"IFERROR(VLOOKUP(G20607,Discounts!C:E,3,0),0)","v":0},{"v":121.49,"d":"€121.49"}]
["Auto",170270,34010,1,"Normal",{"v":160.33,"d":"€160.33"},"SD/SG",{"$f":"IFERROR(VLOOKUP(G20616,Discounts!C:E,3,0),0)","v":0},{"v":160.33,"d":"€160.33"}]
["Auto",170320,40520,1,"Normal",{"v":67.77,"d":"€67.77"},"SD/SG",{"$f":"IFERROR(VLOOKUP(G20639,Discounts!C:E,3,0),0)","v":0},{"v":67.77,"d":"€67.77"}]
["Auto",170350,40520,1,"Normal",{"v":67.77,"d":"€67.77"},"SD/SG",{"$f":"IFERROR(VLOOKUP(G20651,Discounts!C:E,3,0),0)","v":0},{"v":67.77,"d":"€67.77"}]
["Auto",170370,40520,1,"Normal",{"v":67.77,"d":"€67.77"},"SD/SG",{"$f":"IFERROR(VLOOKUP(G20660,Discounts!C:E,3,0),0)","v":0},{"v":67.77,"d":"€67.77"}]
["Auto",170400,168960,1,"Normal",{"v":596.69,"d":"€596.69"},"E015",{"$f":"IFERROR(VLOOKUP(G20673,Discounts!C:E,3,0),0)","v":0},{"v":596.69,"d":"€596.69"}]
["Auto",170420,168970,1,"Normal",{"v":624.79,"d":"€624.79"},"E015",{"$f":"IFERROR(VLOOKUP(G20682,Discounts!C:E,3,0),0)","v":0},{"v":624.79,"d":"€624.79"}]
["Auto",170470,40530,1,"Normal",{"v":92.56,"d":"€92.56"},"SD/SG",{"$f":"IFERROR(VLOOKUP(G20701,Discounts!C:E,3,0),0)","v":0},{"v":92.56,"d":"€92.56"}]
["Auto",170480,40450,2,"Normal",{"v":26.44,"d":"€26.44"},"SD/SG",{"$f":"IFERROR(VLOOKUP(G20705,Discounts!C:E,3,0),0)","v":0},{"v":26.44,"d":"€26.44"}]
["Auto",170500,40530,1,"Normal",{"v":92.56,"d":"€92.56"},"SD/SG",{"$f":"IFERROR(VLOOKUP(G20714,Discounts!C:E,3,0),0)","v":0},{"v":92.56,"d":"€92.56"}]
["Auto",170530,169600,1,"Normal",{"v":592.56,"d":"€592.56"},"E010",{"$f":"IFERROR(VLOOKUP(G20727,Discounts!C:E,3,0),0)","v":0},{"v":592.56,"d":"€592.56"}]
["Auto",170580,169900,1,"Combination",{"v":569.42,"d":"€569.42"},"E015",{"$f":"IFERROR(VLOOKUP(G20748,Discounts!C:E,3,0),0)","v":0},{"v":569.42,"d":"€569.42"}]
["Auto",170610,40450,2,"Normal",{"v":26.44,"d":"€26.44"},"SD/SG",{"$f":"IFERROR(VLOOKUP(G20758,Discounts!C:E,3,0),0)","v":0},{"v":26.44,"d":"€26.44"}]
["Auto",170640,42290,1,"Normal",{"v":116.53,"d":"€116.53"},"SD/SG",{"$f":"IFERROR(VLOOKUP(G20771,Discounts!C:E,3,0),0)","v":0},{"v":116.53,"d":"€116.53"}]
["Auto",170660,169620,1,"Normal",{"v":607.44,"d":"€607.44"},"E010",{"$f":"IFERROR(VLOOKUP(G20780,Discounts!C:E,3,0),0)","v":0},{"v":607.44,"d":"€607.44"}]
["Auto",170700,31920,1,"Normal",{"v":121.49,"d":"€121.49"},"SD/SG",{"$f":"IFERROR(VLOOKUP(G20793,Discounts!C:E,3,0),0)","v":0},{"v":121.49,"d":"€121.49"}]
["Auto",170740,40450,4,"Normal",{"v":52.88,"d":"€52.88"},"SD/SG",{"$f":"IFERROR(VLOOKUP(G20810,Discounts!C:E,3,0),0)","v":0},{"v":52.88,"d":"€52.88"}]
["Auto",170740,169640,1,"Normal",{"v":679.34,"d":"€679.34"},"E010",{"$f":"IFERROR(VLOOKUP(G20812,Discounts!C:E,3,0),0)","v":0},{"v":679.34,"d":"€679.34"}]
["Auto",170780,31920,1,"Normal",{"v":121.49,"d":"€121.49"},"SD/SG",{"$f":"IFERROR(VLOOKUP(G20825,Discounts!C:E,3,0),0)","v":0},{"v":121.49,"d":"€121.49"}]
["Auto",170830,40450,5,"Normal",{"v":66.1,"d":"€66.10"},"SD/SG",{"$f":"IFERROR(VLOOKUP(G20846,Discounts!C:E,3,0),0)","v":0},{"v":66.1,"d":"€66.10"}]
["Auto",170860,31920,1,"Normal",{"v":121.49,"d":"€121.49"},"SD/SG",{"$f":"IFERROR(VLOOKUP(G20857,Discounts!C:E,3,0),0)","v":0},{"v":121.49,"d":"€121.49"}]
["Auto",170890,31920,1,"Normal",{"v":121.49,"d":"€121.49"},"SD/SG",{"$f":"IFERROR(VLOOKUP(G20869,Discounts!C:E,3,0),0)","v":0},{"v":121.49,"d":"€121.49"}]
["Auto",170910,40450,2,"Normal",{"v":26.44,"d":"€26.44"},"SD/SG",{"$f":"IFERROR(VLOOKUP(G20878,Discounts!C:E,3,0),0)","v":0},{"v":26.44,"d":"€26.44"}]
["Auto",170940,40530,1,"Normal",{"v":92.56,"d":"€92.56"},"SD/SG",{"$f":"IFERROR(VLOOKUP(G20891,Discounts!C:E,3,0),0)","v":0},{"v":92.56,"d":"€92.56"}]
["Auto",170960,169150,1,"Normal",{"v":1286.78,"d":"€1,286.78"},"E015",{"$f":"IFERROR(VLOOKUP(G20900,Discounts!C:E,3,0),0)","v":0},{"v":1286.78,"d":"€1,286.78"}]
["Auto",171010,31920,1,"Normal",{"v":121.49,"d":"€121.49"},"SD/SG",{"$f":"IFERROR(VLOOKUP(G20919,Discounts!C:E,3,0),0)","v":0},{"v":121.49,"d":"€121.49"}]
["Auto",171010,169220,1,"Normal",{"v":1032.23,"d":"€1,032.23"},"E015",{"$f":"IFERROR(VLOOKUP(G20923,Discounts!C:E,3,0),0)","v":0},{"v":1032.23,"d":"€1,032.23"}]
["Auto",171080,44440,2,"Normal",{"v":190.08,"d":"€190.08"},"SD/SG",{"$f":"IFERROR(VLOOKUP(G20944,Discounts!C:E,3,0),0)","v":0},{"v":190.08,"d":"€190.08"}]
["Auto",171670,171300,1,"Normal",{"v":465.29,"d":"€465.29"},"E016",{"$f":"IFERROR(VLOOKUP(G20957,Discounts!C:E,3,0),0)","v":0},{"v":465.29,"d":"€465.29"}]
["Auto",171770,31920,1,"Normal",{"v":121.49,"d":"€121.49"},"SD/SG",{"$f":"IFERROR(VLOOKUP(G20962,Discounts!C:E,3,0),0)","v":0},{"v":121.49,"d":"€121.49"}]
["Auto",171790,171210,1,"Normal",{"v":395.87,"d":"€395.87"},"E016",{"$f":"IFERROR(VLOOKUP(G20976,Discounts!C:E,3,0),0)","v":0},{"v":395.87,"d":"€395.87"}]
["Auto",171820,40450,1,"Normal",{"v":13.22,"d":"€13.22"},"SD/SG",{"$f":"IFERROR(VLOOKUP(G20989,Discounts!C:E,3,0),0)","v":0},{"v":13.22,"d":"€13.22"}]
["Auto",171840,33990,1,"Normal",{"v":106.61,"d":"€106.61"},"SD/SG",{"$f":"IFERROR(VLOOKUP(G20998,Discounts!C:E,3,0),0)","v":0},{"v":106.61,"d":"€106.61"}]
["Auto",171860,31920,2,"Normal",{"v":242.98,"d":"€242.98"},"SD/SG",{"$f":"IFERROR(VLOOKUP(G21007,Discounts!C:E,3,0),0)","v":0},{"v":242.98,"d":"€242.98"}]
["Auto",171890,40450,2,"Normal",{"v":26.44,"d":"€26.44"},"SD/SG",{"$f":"IFERROR(VLOOKUP(G21024,Discounts!C:E,3,0),0)","v":0},{"v":26.44,"d":"€26.44"}]
["Auto",171930,31920,2,"Normal",{"v":242.98,"d":"€242.98"},"SD/SG",{"$f":"IFERROR(VLOOKUP(G21042,Discounts!C:E,3,0),0)","v":0},{"v":242.98,"d":"€242.98"}]
["Auto",171950,40520,2,"Normal",{"v":135.54,"d":"€135.54"},"SD/SG",{"$f":"IFERROR(VLOOKUP(G21055,Discounts!C:E,3,0),0)","v":0},{"v":135.54,"d":"€135.54"}]
["Auto",171970,40450,1,"Normal",{"v":13.22,"d":"€13.22"},"SD/SG",{"$f":"IFERROR(VLOOKUP(G21064,Discounts!C:E,3,0),0)","v":0},{"v":13.22,"d":"€13.22"}]
["Auto",172000,40450,1,"Normal",{"v":13.22,"d":"€13.22"},"SD/SG",{"$f":"IFERROR(VLOOKUP(G21071,Discounts!C:E,3,0),0)","v":0},{"v":13.22,"d":"€13.22"}]
["Auto",172030,40520,1,"Normal",{"v":67.77,"d":"€67.77"},"SD/SG",{"$f":"IFERROR(VLOOKUP(G21087,Discounts!C:E,3,0),0)","v":0},{"v":67.77,"d":"€67.77"}]
["Auto",172050,40450,1,"Normal",{"v":13.22,"d":"€13.22"},"SD/SG",{"$f":"IFERROR(VLOOKUP(G21096,Discounts!C:E,3,0),0)","v":0},{"v":13.22,"d":"€13.22"}]
["Auto",172080,40450,1,"Normal",{"v":13.22,"d":"€13.22"},"SD/SG",{"$f":"IFERROR(VLOOKUP(G21109,Discounts!C:E,3,0),0)","v":0},{"v":13.22,"d":"€13.22"}]
["Auto",172100,40520,1,"Normal",{"v":67.77,"d":"€67.77"},"SD/SG",{"$f":"IFERROR(VLOOKUP(G21118,Discounts!C:E,3,0),0)","v":0},{"v":67.77,"d":"€67.77"}]
["Auto",172140,40450,1,"Normal",{"v":13.22,"d":"€13.22"},"SD/SG",{"$f":"IFERROR(VLOOKUP(G21133,Discounts!C:E,3,0),0)","v":0},{"v":13.22,"d":"€13.22"}]
["Auto",172190,40450,1,"Normal",{"v":13.22,"d":"€13.22"},"SD/SG",{"$f":"IFERROR(VLOOKUP(G21153,Discounts!C:E,3,0),0)","v":0},{"v":13.22,"d":"€13.22"}]
["Auto",172210,40520,1,"Normal",{"v":67.77,"d":"€67.77"},"SD/SG",{"$f":"IFERROR(VLOOKUP(G21162,Discounts!C:E,3,0),0)","v":0},{"v":67.77,"d":"€67.77"}]
["Auto",172230,40530,1,"Normal",{"v":92.56,"d":"€92.56"},"SD/SG",{"$f":"IFERROR(VLOOKUP(G21171,Discounts!C:E,3,0),0)","v":0},{"v":92.56,"d":"€92.56"}]
["Auto",172270,171340,1,"Normal",{"v":720.66,"d":"€720.66"},"E016",{"$f":"IFERROR(VLOOKUP(G21189,Discounts!C:E,3,0),0)","v":0},{"v":720.66,"d":"€720.66"}]
["Auto",172290,31920,1,"Normal",{"v":121.49,"d":"€121.49"},"SD/SG",{"$f":"IFERROR(VLOOKUP(G21194,Discounts!C:E,3,0),0)","v":0},{"v":121.49,"d":"€121.49"}]
["Auto",172320,40450,1,"Normal",{"v":13.22,"d":"€13.22"},"SD/SG",{"$f":"IFERROR(VLOOKUP(G21207,Discounts!C:E,3,0),0)","v":0},{"v":13.22,"d":"€13.22"}]
["Auto",172340,40530,1,"Normal",{"v":92.56,"d":"€92.56"},"SD/SG",{"$f":"IFERROR(VLOOKUP(G21216,Discounts!C:E,3,0),0)","v":0},{"v":92.56,"d":"€92.56"}]
["Auto",172390,31920,1,"Normal",{"v":121.49,"d":"€121.49"},"SD/SG",{"$f":"IFERROR(VLOOKUP(G21236,Discounts!C:E,3,0),0)","v":0},{"v":121.49,"d":"€121.49"}]
["Auto",172420,171520,1,"Normal",{"v":468.6,"d":"€468.60"},"E011",{"$f":"IFERROR(VLOOKUP(G21251,Discounts!C:E,3,0),0)","v":0},{"$f":"IF(E21251=\"Normal\",F21251*(1-H21251),SUMIF(B:B,C21251,I:I)*D21251)","v":{"v":468.6,"d":"€468.60"}}]
["Auto",172450,31920,1,"Normal",{"v":121.49,"d":"€121.49"},"SD/SG",{"$f":"IFERROR(VLOOKUP(G21260,Discounts!C:E,3,0),0)","v":0},{"v":121.49,"d":"€121.49"}]
["Auto",172470,40450,4,"Normal",{"v":52.88,"d":"€52.88"},"SD/SG",{"$f":"IFERROR(VLOOKUP(G21269,Discounts!C:E,3,0),0)","v":0},{"v":52.88,"d":"€52.88"}]
["Auto",172500,40520,1,"Normal",{"v":67.77,"d":"€67.77"},"SD/SG",{"$f":"IFERROR(VLOOKUP(G21282,Discounts!C:E,3,0),0)","v":0},{"v":67.77,"d":"€67.77"}]
["Auto",172540,42300,1,"Normal",{"v":140.5,"d":"€140.50"},"SD/SG",{"$f":"IFERROR(VLOOKUP(G21298,Discounts!C:E,3,0),0)","v":0},{"v":140.5,"d":"€140.50"}]
["Auto",172560,40450,1,"Normal",{"v":13.22,"d":"€13.22"},"SD/SG",{"$f":"IFERROR(VLOOKUP(G21305,Discounts!C:E,3,0),0)","v":0},{"v":13.22,"d":"€13.22"}]
["Auto",172580,40520,1,"Normal",{"v":67.77,"d":"€67.77"},"SD/SG",{"$f":"IFERROR(VLOOKUP(G21314,Discounts!C:E,3,0),0)","v":0},{"v":67.77,"d":"€67.77"}]
["Auto",172620,171200,1,"Normal",{"v":373.55,"d":"€373.55"},"E016",{"$f":"IFERROR(VLOOKUP(G21335,Discounts!C:E,3,0),0)","v":0},{"v":373.55,"d":"€373.55"}]
["Auto",172640,40450,1,"Normal",{"v":13.22,"d":"€13.22"},"SD/SG",{"$f":"IFERROR(VLOOKUP(G21341,Discounts!C:E,3,0),0)","v":0},{"v":13.22,"d":"€13.22"}]
["Auto",172680,34000,2,"Normal",{"v":262.8,"d":"€262.80"},"SD/SG",{"$f":"IFERROR(VLOOKUP(G21358,Discounts!C:E,3,0),0)","v":0},{"v":262.8,"d":"€262.80"}]
["Auto",173790,172910,1,"Normal",{"v":666.94,"d":"€666.94"},"E012",{"$f":"IFERROR(VLOOKUP(G21371,Discounts!C:E,3,0),0)","v":0},{"v":666.94,"d":"€666.94"}]
["Auto",173840,172920,1,"Normal",{"v":778.51,"d":"€778.51"},"E012",{"$f":"IFERROR(VLOOKUP(G21380,Discounts!C:E,3,0),0)","v":0},{"v":778.51,"d":"€778.51"}]
["Auto",173860,48600,1,"Normal",{"v":20.66,"d":"€20.66"},"SD/SG",{"$f":"IFERROR(VLOOKUP(G21389,Discounts!C:E,3,0),0)","v":0},{"v":20.66,"d":"€20.66"}]
["Auto",173900,33990,1,"Normal",{"v":106.61,"d":"€106.61"},"SD/SG",{"$f":"IFERROR(VLOOKUP(G21403,Discounts!C:E,3,0),0)","v":0},{"v":106.61,"d":"€106.61"}]
["Auto",173920,173630,1,"Normal",{"v":1110.74,"d":"€1,110.74"},"E012",{"$f":"IFERROR(VLOOKUP(G21412,Discounts!C:E,3,0),0)","v":0},{"v":1110.74,"d":"€1,110.74"}]
["Auto",173990,40450,1,"Normal",{"v":13.22,"d":"€13.22"},"SD/SG",{"$f":"IFERROR(VLOOKUP(G21433,Discounts!C:E,3,0),0)","v":0},{"v":13.22,"d":"€13.22"}]
["Auto",174030,172770,1,"Normal",{"v":727.27,"d":"€727.27"},"E012",{"$f":"IFERROR(VLOOKUP(G21446,Discounts!C:E,3,0),0)","v":0},{"v":727.27,"d":"€727.27"}]
["Auto",174050,31920,1,"Normal",{"v":121.49,"d":"€121.49"},"SD/SG",{"$f":"IFERROR(VLOOKUP(G21450,Discounts!C:E,3,0),0)","v":0},{"v":121.49,"d":"€121.49"}]
["Auto",174100,172810,1,"Normal",{"v":581.82,"d":"€581.82"},"E012",{"$f":"IFERROR(VLOOKUP(G21469,Discounts!C:E,3,0),0)","v":0},{"v":581.82,"d":"€581.82"}]
["Auto",174130,40450,1,"Normal",{"v":13.22,"d":"€13.22"},"SD/SG",{"$f":"IFERROR(VLOOKUP(G21478,Discounts!C:E,3,0),0)","v":0},{"v":13.22,"d":"€13.22"}]
["Auto",174150,40450,1,"Normal",{"v":13.22,"d":"€13.22"},"SD/SG",{"$f":"IFERROR(VLOOKUP(G21487,Discounts!C:E,3,0),0)","v":0},{"v":13.22,"d":"€13.22"}]
["Auto",174190,31920,1,"Normal",{"v":121.49,"d":"€121.49"},"SD/SG",{"$f":"IFERROR(VLOOKUP(G21500,Discounts!C:E,3,0),0)","v":0},{"v":121.49,"d":"€121.49"}]
["Auto",174220,31920,1,"Normal",{"v":121.49,"d":"€121.49"},"SD/SG",{"$f":"IFERROR(VLOOKUP(G21512,Discounts!C:E,3,0),0)","v":0},{"v":121.49,"d":"€121.49"}]
["Auto",174270,40450,1,"Normal",{"v":13.22,"d":"€13.22"},"SD/SG",{"$f":"IFERROR(VLOOKUP(G21531,Discounts!C:E,3,0),0)","v":0},{"v":13.22,"d":"€13.22"}]
["Auto",174310,31920,1,"Normal",{"v":121.49,"d":"€121.49"},"SD/SG",{"$f":"IFERROR(VLOOKUP(G21544,Discounts!C:E,3,0),0)","v":0},{"v":121.49,"d":"€121.49"}]
["Auto",174340,31920,1,"Normal",{"v":121.49,"d":"€121.49"},"SD/SG",{"$f":"IFERROR(VLOOKUP(G21553,Discounts!C:E,3,0),0)","v":0},{"v":121.49,"d":"€121.49"}]
["Auto",174380,173800,1,"Combination",{"v":685.95,"d":"€685.95"},"E012",{"$f":"IFERROR(VLOOKUP(G21568,Discounts!C:E,3,0),0)","v":0},{"v":685.95,"d":"€685.95"}]
["Auto",174410,40450,2,"Normal",{"v":26.44,"d":"€26.44"},"SD/SG",{"$f":"IFERROR(VLOOKUP(G21576,Discounts!C:E,3,0),0)","v":0},{"v":26.44,"d":"€26.44"}]
["Auto",174440,31920,1,"Normal",{"v":121.49,"d":"€121.49"},"SD/SG",{"$f":"IFERROR(VLOOKUP(G21585,Discounts!C:E,3,0),0)","v":0},{"v":121.49,"d":"€121.49"}]
["Auto",174480,40450,2,"Normal",{"v":26.44,"d":"€26.44"},"SD/SG",{"$f":"IFERROR(VLOOKUP(G21598,Discounts!C:E,3,0),0)","v":0},{"v":26.44,"d":"€26.44"}]
["Auto",174510,40450,3,"Normal",{"v":39.66,"d":"€39.66"},"SD/SG",{"$f":"IFERROR(VLOOKUP(G21607,Discounts!C:E,3,0),0)","v":0},{"v":39.66,"d":"€39.66"}]
["Auto",174590,31920,1,"Normal",{"v":121.49,"d":"€121.49"},"SD/SG",{"$f":"IFERROR(VLOOKUP(G21630,Discounts!C:E,3,0),0)","v":0},{"v":121.49,"d":"€121.49"}]
["Auto",174630,31920,1,"Normal",{"v":121.49,"d":"€121.49"},"SD/SG",{"$f":"IFERROR(VLOOKUP(G21642,Discounts!C:E,3,0),0)","v":0},{"v":121.49,"d":"€121.49"}]
["Auto",174660,31920,1,"Normal",{"v":121.49,"d":"€121.49"},"SD/SG",{"$f":"IFERROR(VLOOKUP(G21651,Discounts!C:E,3,0),0)","v":0},{"v":121.49,"d":"€121.49"}]
["Auto",174700,40450,4,"Normal",{"v":52.88,"d":"€52.88"},"SD/SG",{"$f":"IFERROR(VLOOKUP(G21664,Discounts!C:E,3,0),0)","v":0},{"v":52.88,"d":"€52.88"}]
["Auto",174740,173450,1,"Normal",{"v":887.6,"d":"€887.60"},"E012",{"$f":"IFERROR(VLOOKUP(G21677,Discounts!C:E,3,0),0)","v":0},{"v":887.6,"d":"€887.60"}]
["Auto",174760,173460,1,"Normal",{"v":1119.01,"d":"€1,119.01"},"E012",{"$f":"IFERROR(VLOOKUP(G21683,Discounts!C:E,3,0),0)","v":0},{"v":1119.01,"d":"€1,119.01"}]
["Auto",174810,31920,1,"Normal",{"v":121.49,"d":"€121.49"},"SD/SG",{"$f":"IFERROR(VLOOKUP(G21696,Discounts!C:E,3,0),0)","v":0},{"v":121.49,"d":"€121.49"}]
["Auto",174840,31920,1,"Normal",{"v":121.49,"d":"€121.49"},"SD/SG",{"$f":"IFERROR(VLOOKUP(G21705,Discounts!C:E,3,0),0)","v":0},{"v":121.49,"d":"€121.49"}]
["Auto",174870,173130,1,"Normal",{"v":1455.37,"d":"€1,455.37"},"E012",{"$f":"IFERROR(VLOOKUP(G21718,Discounts!C:E,3,0),0)","v":0},{"v":1455.37,"d":"€1,455.37"}]
["Auto",174940,173690,1,"Normal",{"v":1772.73,"d":"€1,772.73"},"E021",{"$f":"IFERROR(VLOOKUP(G21739,Discounts!C:E,3,0),0)","v":0},{"v":1772.73,"d":"€1,772.73"}]
["Auto",174980,31920,2,"Normal",{"v":242.98,"d":"€242.98"},"SD/SG",{"$f":"IFERROR(VLOOKUP(G21749,Discounts!C:E,3,0),0)","v":0},{"v":242.98,"d":"€242.98"}]
["Auto",175020,40450,1,"Normal",{"v":13.22,"d":"€13.22"},"SD/SG",{"$f":"IFERROR(VLOOKUP(G21762,Discounts!C:E,3,0),0)","v":0},{"v":13.22,"d":"€13.22"}]
["Auto",175720,175210,1,"Normal",{"v":586.78,"d":"€586.78"},"E013",{"$f":"IFERROR(VLOOKUP(G21771,Discounts!C:E,3,0),0)","v":0},{"v":586.78,"d":"€586.78"}]
["Auto",175770,31920,1,"Normal",{"v":121.49,"d":"€121.49"},"SD/SG",{"$f":"IFERROR(VLOOKUP(G21782,Discounts!C:E,3,0),0)","v":0},{"v":121.49,"d":"€121.49"}]
["Auto",175790,40450,1,"Normal",{"v":13.22,"d":"€13.22"},"SD/SG",{"$f":"IFERROR(VLOOKUP(G21794,Discounts!C:E,3,0),0)","v":0},{"v":13.22,"d":"€13.22"}]
["Auto",175810,175410,1,"Normal",{"v":1361.98,"d":"€1,361.98"},"E013",{"$f":"IFERROR(VLOOKUP(G21803,Discounts!C:E,3,0),0)","v":0},{"v":1361.98,"d":"€1,361.98"}]
["Auto",175850,175070,1,"Normal",{"v":606.61,"d":"€606.61"},"E013",{"$f":"IFERROR(VLOOKUP(G21816,Discounts!C:E,3,0),0)","v":0},{"v":606.61,"d":"€606.61"}]
["Auto",175920,31920,1,"Normal",{"v":121.49,"d":"€121.49"},"SD/SG",{"$f":"IFERROR(VLOOKUP(G21837,Discounts!C:E,3,0),0)","v":0},{"v":121.49,"d":"€121.49"}]
["Auto",175940,175160,1,"Normal",{"v":661.16,"d":"€661.16"},"E013",{"$f":"IFERROR(VLOOKUP(G21848,Discounts!C:E,3,0),0)","v":0},{"v":661.16,"d":"€661.16"}]
["Auto",175970,175190,1,"Normal",{"v":767.77,"d":"€767.77"},"E013",{"$f":"IFERROR(VLOOKUP(G21860,Discounts!C:E,3,0),0)","v":0},{"v":767.77,"d":"€767.77"}]
["Auto",176000,31920,1,"Normal",{"v":121.49,"d":"€121.49"},"SD/SG",{"$f":"IFERROR(VLOOKUP(G21869,Discounts!C:E,3,0),0)","v":0},{"v":121.49,"d":"€121.49"}]
["Auto",176040,40450,2,"Normal",{"v":26.44,"d":"€26.44"},"SD/SG",{"$f":"IFERROR(VLOOKUP(G21882,Discounts!C:E,3,0),0)","v":0},{"v":26.44,"d":"€26.44"}]
["Auto",176070,40450,2,"Normal",{"v":26.44,"d":"€26.44"},"SD/SG",{"$f":"IFERROR(VLOOKUP(G21891,Discounts!C:E,3,0),0)","v":0},{"$f":"IF(E21891=\"Normal\",F21891*(1-H21891),SUMIF(B:B,C21891,I:I)*D21891)","v":{"v":26.44,"d":"€26.44"}}]
["Auto",176100,175350,1,"Normal",{"v":1205.79,"d":"€1,205.79"},"E013",{"$f":"IFERROR(VLOOKUP(G21901,Discounts!C:E,3,0),0)","v":0},{"v":1205.79,"d":"€1,205.79"}]
["Auto",176140,31920,1,"Normal",{"v":121.49,"d":"€121.49"},"SD/SG",{"$f":"IFERROR(VLOOKUP(G21914,Discounts!C:E,3,0),0)","v":0},{"v":121.49,"d":"€121.49"}]
["Auto",176210,31920,1,"Normal",{"v":121.49,"d":"€121.49"},"SD/SG",{"$f":"IFERROR(VLOOKUP(G21935,Discounts!C:E,3,0),0)","v":0},{"v":121.49,"d":"€121.49"}]
["Auto",176240,31920,1,"Normal",{"v":121.49,"d":"€121.49"},"SD/SG",{"$f":"IFERROR(VLOOKUP(G21944,Discounts!C:E,3,0),0)","v":0},{"v":121.49,"d":"€121.49"}]
["Auto",176270,31920,1,"Normal",{"v":121.49,"d":"€121.49"},"SD/SG",{"$f":"IFERROR(VLOOKUP(G21953,Discounts!C:E,3,0),0)","v":0},{"v":121.49,"d":"€121.49"}]
["Auto",176310,175570,1,"Normal",{"v":904.96,"d":"€904.96"},"E013",{"$f":"IFERROR(VLOOKUP(G21967,Discounts!C:E,3,0),0)","v":0},{"v":904.96,"d":"€904.96"}]
["Auto",176350,175580,1,"Normal",{"v":552.07,"d":"€552.07"},"E013",{"$f":"IFERROR(VLOOKUP(G21980,Discounts!C:E,3,0),0)","v":0},{"v":552.07,"d":"€552.07"}]
["Auto",176380,31920,1,"Normal",{"v":121.49,"d":"€121.49"},"SD/SG",{"$f":"IFERROR(VLOOKUP(G21989,Discounts!C:E,3,0),0)","v":0},{"v":121.49,"d":"€121.49"}]
["Auto",176410,31920,1,"Normal",{"v":121.49,"d":"€121.49"},"SD/SG",{"$f":"IFERROR(VLOOKUP(G22000,Discounts!C:E,3,0),0)","v":0},{"v":121.49,"d":"€121.49"}]
["Auto",176450,31920,1,"Normal",{"v":121.49,"d":"€121.49"},"SD/SG",{"$f":"IFERROR(VLOOKUP(G22012,Discounts!C:E,3,0),0)","v":0},{"v":121.49,"d":"€121.49"}]
["Auto",176910,31920,1,"Normal",{"v":121.49,"d":"€121.49"},"SD/SG",{"$f":"IFERROR(VLOOKUP(G22033,Discounts!C:E,3,0),0)","v":0},{"v":121.49,"d":"€121.49"}]
["Auto",176910,40450,1,"Normal",{"v":13.22,"d":"€13.22"},"SD/SG",{"$f":"IFERROR(VLOOKUP(G22034,Discounts!C:E,3,0),0)","v":0},{"v":13.22,"d":"€13.22"}]
["Auto",176960,40520,1,"Normal",{"v":67.77,"d":"€67.77"},"SD/SG",{"$f":"IFERROR(VLOOKUP(G22055,Discounts!C:E,3,0),0)","v":0},{"v":67.77,"d":"€67.77"}]
["Auto",176980,40450,1,"Normal",{"v":13.22,"d":"€13.22"},"SD/SG",{"$f":"IFERROR(VLOOKUP(G22062,Discounts!C:E,3,0),0)","v":0},{"v":13.22,"d":"€13.22"}]
["Auto",177020,40450,1,"Normal",{"v":13.22,"d":"€13.22"},"SD/SG",{"$f":"IFERROR(VLOOKUP(G22078,Discounts!C:E,3,0),0)","v":0},{"v":13.22,"d":"€13.22"}]
["Auto",177040,40520,1,"Normal",{"v":67.77,"d":"€67.77"},"SD/SG",{"$f":"IFERROR(VLOOKUP(G22087,Discounts!C:E,3,0),0)","v":0},{"v":67.77,"d":"€67.77"}]
["Auto",177060,176660,1,"Normal",{"v":1158.68,"d":"€1,158.68"},"E013",{"$f":"IFERROR(VLOOKUP(G22096,Discounts!C:E,3,0),0)","v":0},{"v":1158.68,"d":"€1,158.68"}]
["Auto",177120,31920,1,"Normal",{"v":121.49,"d":"€121.49"},"SD/SG",{"$f":"IFERROR(VLOOKUP(G22118,Discounts!C:E,3,0),0)","v":0},{"v":121.49,"d":"€121.49"}]
["Auto",177150,40450,3,"Normal",{"v":39.66,"d":"€39.66"},"SD/SG",{"$f":"IFERROR(VLOOKUP(G22131,Discounts!C:E,3,0),0)","v":0},{"v":39.66,"d":"€39.66"}]
["Auto",177150,42290,1,"Normal",{"v":116.53,"d":"€116.53"},"SD/SG",{"$f":"IFERROR(VLOOKUP(G22132,Discounts!C:E,3,0),0)","v":0},{"v":116.53,"d":"€116.53"}]
["Auto",177200,176810,1,"Normal",{"v":1142.98,"d":"€1,142.98"},"E013",{"$f":"IFERROR(VLOOKUP(G22153,Discounts!C:E,3,0),0)","v":0},{"v":1142.98,"d":"€1,142.98"}]
["Auto",177230,31920,1,"Normal",{"v":121.49,"d":"€121.49"},"SD/SG",{"$f":"IFERROR(VLOOKUP(G22162,Discounts!C:E,3,0),0)","v":0},{"v":121.49,"d":"€121.49"}]
["Auto",180740,29720,2,"Normal",{"v":183.48,"d":"€183.48"},"LUXE",{"$f":"IFERROR(VLOOKUP(G22180,Discounts!C:E,3,0),0)","v":0},{"v":183.48,"d":"€183.48"}]
["Auto",180750,179350,2,"Normal",{"v":966.94,"d":"€966.94"},"C010",{"$f":"IFERROR(VLOOKUP(G22185,Discounts!C:E,3,0),0)","v":0},{"v":966.94,"d":"€966.94"}]
["Auto",180820,137810,2,"Normal",{"v":242.98,"d":"€242.98"},"LUXE",{"$f":"IFERROR(VLOOKUP(G22198,Discounts!C:E,3,0),0)","v":0},{"v":242.98,"d":"€242.98"}]
["Auto",180850,177270,1,"Normal",{"v":1641.32,"d":"€1,641.32"},"A015",{"$f":"IFERROR(VLOOKUP(G22207,Discounts!C:E,3,0),0)","v":0},{"v":1641.32,"d":"€1,641.32"}]
["Auto",180910,29720,1,"Normal",{"v":91.74,"d":"€91.74"},"LUXE",{"$f":"IFERROR(VLOOKUP(G22227,Discounts!C:E,3,0),0)","v":0},{"v":91.74,"d":"€91.74"}]
["Auto",180910,179910,1,"Normal",{"v":2478.51,"d":"€2,478.51"},"A010",{"$f":"IFERROR(VLOOKUP(G22230,Discounts!C:E,3,0),0)","v":0},{"v":2478.51,"d":"€2,478.51"}]
["Auto",180970,179920,1,"Normal",{"v":2615.7,"d":"€2,615.70"},"A010",{"$f":"IFERROR(VLOOKUP(G22251,Discounts!C:E,3,0),0)","v":0},{"v":2615.7,"d":"€2,615.70"}]
["Auto",181000,29920,1,"Normal",{"v":609.09,"d":"€609.09"},"P105",{"$f":"IFERROR(VLOOKUP(G22260,Discounts!C:E,3,0),0)","v":0},{"v":609.09,"d":"€609.09"}]
["Auto",181040,31470,1,"Normal",{"v":141.32,"d":"€141.32"},"LUXE",{"$f":"IFERROR(VLOOKUP(G22273,Discounts!C:E,3,0),0)","v":0},{"v":141.32,"d":"€141.32"}]
["Auto",181090,31470,1,"Normal",{"v":141.32,"d":"€141.32"},"LUXE",{"$f":"IFERROR(VLOOKUP(G22289,Discounts!C:E,3,0),0)","v":0},{"v":141.32,"d":"€141.32"}]
["Auto",181110,30390,1,"Normal",{"v":496.69,"d":"€496.69"},"O505",{"$f":"IFERROR(VLOOKUP(G22296,Discounts!C:E,3,0),0)","v":0},{"v":496.69,"d":"€496.69"}]
["Auto",181130,31470,1,"Normal",{"v":141.32,"d":"€141.32"},"LUXE",{"$f":"IFERROR(VLOOKUP(G22305,Discounts!C:E,3,0),0)","v":0},{"v":141.32,"d":"€141.32"}]
["Auto",181200,31470,1,"Normal",{"v":141.32,"d":"€141.32"},"LUXE",{"$f":"IFERROR(VLOOKUP(G22326,Discounts!C:E,3,0),0)","v":0},{"v":141.32,"d":"€141.32"}]
["Auto",181220,29710,1,"Normal",{"v":42.98,"d":"€42.98"},"LUXE",{"$f":"IFERROR(VLOOKUP(G22332,Discounts!C:E,3,0),0)","v":0},{"v":42.98,"d":"€42.98"}]
["Auto",181260,177870,1,"Normal",0,"A010",{"$f":"IFERROR(VLOOKUP(G22349,Discounts!C:E,3,0),0)","v":0},0]
["Auto",181290,177900,1,"Normal",0,"A010",{"$f":"IFERROR(VLOOKUP(G22358,Discounts!C:E,3,0),0)","v":0},0]
["Auto",181340,29710,1,"Normal",{"v":42.98,"d":"€42.98"},"LUXE",{"$f":"IFERROR(VLOOKUP(G22371,Discounts!C:E,3,0),0)","v":0},{"v":42.98,"d":"€42.98"}]
["Auto",181360,177350,1,"Normal",0,"A015",{"$f":"IFERROR(VLOOKUP(G22380,Discounts!C:E,3,0),0)","v":0},0]
["Auto",181400,53350,1,"Normal",{"v":199.17,"d":"€199.17"},"LUXE",{"$f":"IFERROR(VLOOKUP(G22394,Discounts!C:E,3,0),0)","v":0},{"v":199.17,"d":"€199.17"}]
["Auto",181420,178020,1,"Normal",{"v":2060.33,"d":"€2,060.33"},"A010",{"$f":"IFERROR(VLOOKUP(G22403,Discounts!C:E,3,0),0)","v":0},{"$f":"IF(E22403=\"Normal\",F22403*(1-H22403),SUMIF(B:B,C22403,I:I)*D22403)","v":{"v":2060.33,"d":"€2,060.33"}}]
["Auto",181490,178080,1,"Normal",{"v":1990.91,"d":"€1,990.91"},"A010",{"$f":"IFERROR(VLOOKUP(G22424,Discounts!C:E,3,0),0)","v":0},{"v":1990.91,"d":"€1,990.91"}]
["Auto",181500,29710,1,"Normal",{"v":42.98,"d":"€42.98"},"LUXE",{"$f":"IFERROR(VLOOKUP(G22425,Discounts!C:E,3,0),0)","v":0},{"v":42.98,"d":"€42.98"}]
["Auto",181550,29710,1,"Normal",{"v":42.98,"d":"€42.98"},"LUXE",{"$f":"IFERROR(VLOOKUP(G22441,Discounts!C:E,3,0),0)","v":0},{"v":42.98,"d":"€42.98"}]
["Auto",181610,29710,1,"Normal",{"v":42.98,"d":"€42.98"},"LUXE",{"$f":"IFERROR(VLOOKUP(G22460,Discounts!C:E,3,0),0)","v":0},{"v":42.98,"d":"€42.98"}]
["Auto",181640,29710,1,"Normal",{"v":42.98,"d":"€42.98"},"LUXE",{"$f":"IFERROR(VLOOKUP(G22469,Discounts!C:E,3,0),0)","v":0},{"v":42.98,"d":"€42.98"}]
["Auto",181670,29710,1,"Normal",{"v":42.98,"d":"€42.98"},"LUXE",{"$f":"IFERROR(VLOOKUP(G22478,Discounts!C:E,3,0),0)","v":0},{"v":42.98,"d":"€42.98"}]
["Auto",181710,29710,1,"Normal",{"v":42.98,"d":"€42.98"},"LUXE",{"$f":"IFERROR(VLOOKUP(G22491,Discounts!C:E,3,0),0)","v":0},{"v":42.98,"d":"€42.98"}]
["Auto",181750,29710,1,"Normal",{"v":42.98,"d":"€42.98"},"LUXE",{"$f":"IFERROR(VLOOKUP(G22503,Discounts!C:E,3,0),0)","v":0},{"v":42.98,"d":"€42.98"}]
["Auto",181810,29710,1,"Normal",{"v":42.98,"d":"€42.98"},"LUXE",{"$f":"IFERROR(VLOOKUP(G22522,Discounts!C:E,3,0),0)","v":0},{"v":42.98,"d":"€42.98"}]
["Auto",181810,31470,1,"Normal",{"v":141.32,"d":"€141.32"},"LUXE",{"$f":"IFERROR(VLOOKUP(G22523,Discounts!C:E,3,0),0)","v":0},{"v":141.32,"d":"€141.32"}]
["Auto",181880,31470,1,"Normal",{"v":141.32,"d":"€141.32"},"LUXE",{"$f":"IFERROR(VLOOKUP(G22544,Discounts!C:E,3,0),0)","v":0},{"v":141.32,"d":"€141.32"}]
["Auto",181930,31470,1,"Normal",{"v":141.32,"d":"€141.32"},"LUXE",{"$f":"IFERROR(VLOOKUP(G22559,Discounts!C:E,3,0),0)","v":0},{"v":141.32,"d":"€141.32"}]
["Auto",181950,178720,1,"Normal",0,"A010",{"$f":"IFERROR(VLOOKUP(G22567,Discounts!C:E,3,0),0)","v":0},0]
["Auto",181980,30480,6,"Normal",{"v":798.36,"d":"€798.36"},"O115",{"$f":"IFERROR(VLOOKUP(G22576,Discounts!C:E,3,0),0)","v":0},{"v":798.36,"d":"€798.36"}]
["Auto",182020,30490,2,"Normal",{"v":433.06,"d":"€433.06"},"O115",{"$f":"IFERROR(VLOOKUP(G22589,Discounts!C:E,3,0),0)","v":0},{"v":433.06,"d":"€433.06"}]
["Auto",182040,178790,1,"Normal",0,"A010",{"$f":"IFERROR(VLOOKUP(G22598,Discounts!C:E,3,0),0)","v":0},0]
["Auto",182080,31470,1,"Normal",{"v":141.32,"d":"€141.32"},"LUXE",{"$f":"IFERROR(VLOOKUP(G22612,Discounts!C:E,3,0),0)","v":0},{"v":141.32,"d":"€141.32"}]
["Auto",182100,45730,1,"Normal",{"v":42.98,"d":"€42.98"},"LUXE",{"$f":"IFERROR(VLOOKUP(G22621,Discounts!C:E,3,0),0)","v":0},{"v":42.98,"d":"€42.98"}]
["Auto",182160,29710,1,"Normal",{"v":42.98,"d":"€42.98"},"LUXE",{"$f":"IFERROR(VLOOKUP(G22642,Discounts!C:E,3,0),0)","v":0},{"v":42.98,"d":"€42.98"}]
["Auto",182190,31470,1,"Normal",{"v":141.32,"d":"€141.32"},"LUXE",{"$f":"IFERROR(VLOOKUP(G22655,Discounts!C:E,3,0),0)","v":0},{"v":141.32,"d":"€141.32"}]
["Auto",182220,45730,1,"Normal",{"v":42.98,"d":"€42.98"},"LUXE",{"$f":"IFERROR(VLOOKUP(G22668,Discounts!C:E,3,0),0)","v":0},{"v":42.98,"d":"€42.98"}]
["Auto",182240,29710,1,"Normal",{"v":42.98,"d":"€42.98"},"LUXE",{"$f":"IFERROR(VLOOKUP(G22674,Discounts!C:E,3,0),0)","v":0},{"v":42.98,"d":"€42.98"}]
["Auto",182270,31470,1,"Normal",{"v":141.32,"d":"€141.32"},"LUXE",{"$f":"IFERROR(VLOOKUP(G22687,Discounts!C:E,3,0),0)","v":0},{"v":141.32,"d":"€141.32"}]
["Auto",182290,45730,1,"Normal",{"v":42.98,"d":"€42.98"},"LUXE",{"$f":"IFERROR(VLOOKUP(G22696,Discounts!C:E,3,0),0)","v":0},{"v":42.98,"d":"€42.98"}]
["Auto",182320,178620,1,"Normal",0,"A010",{"$f":"IFERROR(VLOOKUP(G22709,Discounts!C:E,3,0),0)","v":0},0]
["Auto",182380,31470,1,"Normal",{"v":141.32,"d":"€141.32"},"LUXE",{"$f":"IFERROR(VLOOKUP(G22730,Discounts!C:E,3,0),0)","v":0},{"v":141.32,"d":"€141.32"}]
["Auto",182400,178890,1,"Normal",0,"A010",{"$f":"IFERROR(VLOOKUP(G22740,Discounts!C:E,3,0),0)","v":0},0]
["Auto",182440,29710,1,"Normal",{"v":42.98,"d":"€42.98"},"LUXE",{"$f":"IFERROR(VLOOKUP(G22753,Discounts!C:E,3,0),0)","v":0},{"v":42.98,"d":"€42.98"}]
["Auto",182460,31470,1,"Normal",{"v":141.32,"d":"€141.32"},"LUXE",{"$f":"IFERROR(VLOOKUP(G22762,Discounts!C:E,3,0),0)","v":0},{"v":141.32,"d":"€141.32"}]
["Auto",182500,29710,1,"Normal",{"v":42.98,"d":"€42.98"},"LUXE",{"$f":"IFERROR(VLOOKUP(G22777,Discounts!C:E,3,0),0)","v":0},{"v":42.98,"d":"€42.98"}]
["Auto",182520,29710,1,"Normal",{"v":42.98,"d":"€42.98"},"LUXE",{"$f":"IFERROR(VLOOKUP(G22785,Discounts!C:E,3,0),0)","v":0},{"v":42.98,"d":"€42.98"}]
["Auto",182540,31470,1,"Normal",{"v":141.32,"d":"€141.32"},"LUXE",{"$f":"IFERROR(VLOOKUP(G22794,Discounts!C:E,3,0),0)","v":0},{"v":141.32,"d":"€141.32"}]
["Auto",182570,45730,1,"Normal",{"v":42.98,"d":"€42.98"},"LUXE",{"$f":"IFERROR(VLOOKUP(G22807,Discounts!C:E,3,0),0)","v":0},{"v":42.98,"d":"€42.98"}]
["Auto",182600,29710,1,"Normal",{"v":42.98,"d":"€42.98"},"LUXE",{"$f":"IFERROR(VLOOKUP(G22816,Discounts!C:E,3,0),0)","v":0},{"v":42.98,"d":"€42.98"}]
["Auto",182650,179120,1,"Normal",0,"A010",{"$f":"IFERROR(VLOOKUP(G22839,Discounts!C:E,3,0),0)","v":0},0]
["Auto",182680,179150,1,"Normal",{"v":1884.3,"d":"€1,884.30"},"A010",{"$f":"IFERROR(VLOOKUP(G22851,Discounts!C:E,3,0),0)","v":0},{"$f":"IF(E22851=\"Normal\",F22851*(1-H22851),SUMIF(B:B,C22851,I:I)*D22851)","v":{"v":1884.3,"d":"€1,884.30"}}]
["Auto",182710,29710,1,"Normal",{"v":42.98,"d":"€42.98"},"LUXE",{"$f":"IFERROR(VLOOKUP(G22860,Discounts!C:E,3,0),0)","v":0},{"v":42.98,"d":"€42.98"}]
["Auto",182740,31470,1,"Normal",{"v":141.32,"d":"€141.32"},"LUXE",{"$f":"IFERROR(VLOOKUP(G22873,Discounts!C:E,3,0),0)","v":0},{"v":141.32,"d":"€141.32"}]
["Auto",182760,45730,1,"Normal",{"v":42.98,"d":"€42.98"},"LUXE",{"$f":"IFERROR(VLOOKUP(G22882,Discounts!C:E,3,0),0)","v":0},{"v":42.98,"d":"€42.98"}]
["Auto",182790,29710,1,"Normal",{"v":42.98,"d":"€42.98"},"LUXE",{"$f":"IFERROR(VLOOKUP(G22892,Discounts!C:E,3,0),0)","v":0},{"v":42.98,"d":"€42.98"}]
["Auto",182820,31470,1,"Normal",{"v":141.32,"d":"€141.32"},"LUXE",{"$f":"IFERROR(VLOOKUP(G22905,Discounts!C:E,3,0),0)","v":0},{"v":141.32,"d":"€141.32"}]
["Auto",182840,45730,1,"Normal",{"v":42.98,"d":"€42.98"},"LUXE",{"$f":"IFERROR(VLOOKUP(G22914,Discounts!C:E,3,0),0)","v":0},{"v":42.98,"d":"€42.98"}]
["Auto",182900,31470,1,"Normal",{"v":141.32,"d":"€141.32"},"LUXE",{"$f":"IFERROR(VLOOKUP(G22935,Discounts!C:E,3,0),0)","v":0},{"v":141.32,"d":"€141.32"}]
["Auto",182930,31470,1,"Normal",{"v":141.32,"d":"€141.32"},"LUXE",{"$f":"IFERROR(VLOOKUP(G22944,Discounts!C:E,3,0),0)","v":0},{"v":141.32,"d":"€141.32"}]
["Auto",182970,177540,1,"Normal",0,"A010",{"$f":"IFERROR(VLOOKUP(G22958,Discounts!C:E,3,0),0)","v":0},0]
["Auto",183010,177570,1,"Normal",{"v":2932.23,"d":"€2,932.23"},"A010",{"$f":"IFERROR(VLOOKUP(G22971,Discounts!C:E,3,0),0)","v":0},{"v":2932.23,"d":"€2,932.23"}]
["Auto",183040,177600,1,"Normal",0,"A010",{"$f":"IFERROR(VLOOKUP(G22980,Discounts!C:E,3,0),0)","v":0},0]
["Auto",183080,29710,1,"Normal",{"v":42.98,"d":"€42.98"},"LUXE",{"$f":"IFERROR(VLOOKUP(G22991,Discounts!C:E,3,0),0)","v":0},{"v":42.98,"d":"€42.98"}]
["Auto",183110,177650,1,"Normal",0,"A010",{"$f":"IFERROR(VLOOKUP(G23003,Discounts!C:E,3,0),0)","v":0},0]
["Auto",183140,31470,1,"Normal",{"v":141.32,"d":"€141.32"},"LUXE",{"$f":"IFERROR(VLOOKUP(G23012,Discounts!C:E,3,0),0)","v":0},{"v":141.32,"d":"€141.32"}]
["Auto",183190,44940,5,"Normal",{"v":396.7,"d":"€396.70"},"LUXE",{"$f":"IFERROR(VLOOKUP(G23033,Discounts!C:E,3,0),0)","v":0},{"v":396.7,"d":"€396.70"}]
["Auto",183230,41620,1,"Normal",{"v":42.98,"d":"€42.98"},"LUXE",{"$f":"IFERROR(VLOOKUP(G23047,Discounts!C:E,3,0),0)","v":0},{"v":42.98,"d":"€42.98"}]
["Auto",183250,180130,1,"Normal",{"v":1426.45,"d":"€1,426.45"},"A015",{"$f":"IFERROR(VLOOKUP(G23056,Discounts!C:E,3,0),0)","v":0},{"v":1426.45,"d":"€1,426.45"}]
["Auto",183280,43810,1,"Normal",{"v":286.78,"d":"€286.78"},"P106",{"$f":"IFERROR(VLOOKUP(G23069,Discounts!C:E,3,0),0)","v":0},{"v":286.78,"d":"€286.78"}]
["Auto",183300,179900,2,"Normal",{"v":5429.76,"d":"€5,429.76"},"A010",{"$f":"IFERROR(VLOOKUP(G23078,Discounts!C:E,3,0),0)","v":0},{"v":5429.76,"d":"€5,429.76"}]
["Auto",183330,29890,2,"Normal",{"v":403.3,"d":"€403.30"},"P106",{"$f":"IFERROR(VLOOKUP(G23087,Discounts!C:E,3,0),0)","v":0},{"v":403.3,"d":"€403.30"}]
["Auto",183390,31470,2,"Normal",{"v":282.64,"d":"€282.64"},"LUXE",{"$f":"IFERROR(VLOOKUP(G23109,Discounts!C:E,3,0),0)","v":0},{"v":282.64,"d":"€282.64"}]
["Auto",183390,179920,2,"Normal",{"v":5231.4,"d":"€5,231.40"},"A010",{"$f":"IFERROR(VLOOKUP(G23110,Discounts!C:E,3,0),0)","v":0},{"v":5231.4,"d":"€5,231.40"}]
["Auto",183430,31470,2,"Normal",{"v":282.64,"d":"€282.64"},"LUXE",{"$f":"IFERROR(VLOOKUP(G23123,Discounts!C:E,3,0),0)","v":0},{"v":282.64,"d":"€282.64"}]
["Auto",183500,30370,2,"Normal",{"v":864.46,"d":"€864.46"},"O505",{"$f":"IFERROR(VLOOKUP(G23144,Discounts!C:E,3,0),0)","v":0},{"v":864.46,"d":"€864.46"}]
["Auto",183530,30410,2,"Normal",{"v":993.38,"d":"€993.38"},"O505",{"$f":"IFERROR(VLOOKUP(G23156,Discounts!C:E,3,0),0)","v":0},{"v":993.38,"d":"€993.38"}]
["Auto",183560,177790,2,"Normal",0,"A010",{"$f":"IFERROR(VLOOKUP(G23167,Discounts!C:E,3,0),0)","v":0},0]
["Auto",183590,177820,2,"Normal",{"v":5110.74,"d":"€5,110.74"},"A010",{"$f":"IFERROR(VLOOKUP(G23176,Discounts!C:E,3,0),0)","v":0},{"v":5110.74,"d":"€5,110.74"}]
["Auto",183620,29710,2,"Normal",{"v":85.96,"d":"€85.96"},"LUXE",{"$f":"IFERROR(VLOOKUP(G23185,Discounts!C:E,3,0),0)","v":0},{"v":85.96,"d":"€85.96"}]
["Auto",183660,29710,2,"Normal",{"v":85.96,"d":"€85.96"},"LUXE",{"$f":"IFERROR(VLOOKUP(G23198,Discounts!C:E,3,0),0)","v":0},{"v":85.96,"d":"€85.96"}]
["Auto",183720,177950,2,"Normal",{"v":2664.46,"d":"€2,664.46"},"A010",{"$f":"IFERROR(VLOOKUP(G23218,Discounts!C:E,3,0),0)","v":0},{"v":2664.46,"d":"€2,664.46"}]
["Auto",183730,177960,2,"Normal",0,"A010",{"$f":"IFERROR(VLOOKUP(G23221,Discounts!C:E,3,0),0)","v":0},0]
["Auto",183790,31470,2,"Normal",{"v":282.64,"d":"€282.64"},"LUXE",{"$f":"IFERROR(VLOOKUP(G23242,Discounts!C:E,3,0),0)","v":0},{"v":282.64,"d":"€282.64"}]
["Auto",183820,29710,2,"Normal",{"v":85.96,"d":"€85.96"},"LUXE",{"$f":"IFERROR(VLOOKUP(G23251,Discounts!C:E,3,0),0)","v":0},{"v":85.96,"d":"€85.96"}]
["Auto",183850,31470,2,"Normal",{"v":282.64,"d":"€282.64"},"LUXE",{"$f":"IFERROR(VLOOKUP(G23261,Discounts!C:E,3,0),0)","v":0},{"v":282.64,"d":"€282.64"}]
["Auto",183890,31470,2,"Normal",{"v":282.64,"d":"€282.64"},"LUXE",{"$f":"IFERROR(VLOOKUP(G23274,Discounts!C:E,3,0),0)","v":0},{"v":282.64,"d":"€282.64"}]
["Auto",183930,178140,2,"Normal",0,"A010",{"$f":"IFERROR(VLOOKUP(G23287,Discounts!C:E,3,0),0)","v":0},0]
["Auto",183960,31470,2,"Normal",{"v":282.64,"d":"€282.64"},"LUXE",{"$f":"IFERROR(VLOOKUP(G23296,Discounts!C:E,3,0),0)","v":0},{"v":282.64,"d":"€282.64"}]
["Auto",183990,178190,2,"Normal",0,"A010",{"$f":"IFERROR(VLOOKUP(G23305,Discounts!C:E,3,0),0)","v":0},0]
["Auto",184050,178240,2,"Normal",{"v":2357.02,"d":"€2,357.02"},"A010",{"$f":"IFERROR(VLOOKUP(G23323,Discounts!C:E,3,0),0)","v":0},{"v":2357.02,"d":"€2,357.02"}]
["Auto",184110,31470,2,"Normal",{"v":282.64,"d":"€282.64"},"LUXE",{"$f":"IFERROR(VLOOKUP(G23340,Discounts!C:E,3,0),0)","v":0},{"v":282.64,"d":"€282.64"}]
["Auto",184140,31470,2,"Normal",{"v":282.64,"d":"€282.64"},"LUXE",{"$f":"IFERROR(VLOOKUP(G23349,Discounts!C:E,3,0),0)","v":0},{"v":282.64,"d":"€282.64"}]
["Auto",184180,178360,2,"Normal",0,"A010",{"$f":"IFERROR(VLOOKUP(G23362,Discounts!C:E,3,0),0)","v":0},0]
["Auto",184210,31470,2,"Normal",{"v":282.64,"d":"€282.64"},"LUXE",{"$f":"IFERROR(VLOOKUP(G23370,Discounts!C:E,3,0),0)","v":0},{"v":282.64,"d":"€282.64"}]
["Auto",184260,31470,2,"Normal",{"v":282.64,"d":"€282.64"},"LUXE",{"$f":"IFERROR(VLOOKUP(G23385,Discounts!C:E,3,0),0)","v":0},{"v":282.64,"d":"€282.64"}]
["Auto",184290,29710,2,"Normal",{"v":85.96,"d":"€85.96"},"LUXE",{"$f":"IFERROR(VLOOKUP(G23394,Discounts!C:E,3,0),0)","v":0},{"v":85.96,"d":"€85.96"}]
["Auto",184310,178750,2,"Normal",{"v":2679.34,"d":"€2,679.34"},"A010",{"$f":"IFERROR(VLOOKUP(G23403,Discounts!C:E,3,0),0)","v":0},{"v":2679.34,"d":"€2,679.34"}]
["Auto",184350,31470,2,"Normal",{"v":282.64,"d":"€282.64"},"LUXE",{"$f":"IFERROR(VLOOKUP(G23416,Discounts!C:E,3,0),0)","v":0},{"v":282.64,"d":"€282.64"}]
["Auto",184390,45730,2,"Normal",{"v":85.96,"d":"€85.96"},"LUXE",{"$f":"IFERROR(VLOOKUP(G23432,Discounts!C:E,3,0),0)","v":0},{"v":85.96,"d":"€85.96"}]
["Auto",184430,31470,2,"Normal",{"v":282.64,"d":"€282.64"},"LUXE",{"$f":"IFERROR(VLOOKUP(G23447,Discounts!C:E,3,0),0)","v":0},{"v":282.64,"d":"€282.64"}]
["Auto",184460,45730,2,"Normal",{"v":85.96,"d":"€85.96"},"LUXE",{"$f":"IFERROR(VLOOKUP(G23460,Discounts!C:E,3,0),0)","v":0},{"v":85.96,"d":"€85.96"}]
["Auto",184480,178490,2,"Normal",0,"A010",{"$f":"IFERROR(VLOOKUP(G23469,Discounts!C:E,3,0),0)","v":0},0]
["Auto",184530,45730,2,"Normal",{"v":85.96,"d":"€85.96"},"LUXE",{"$f":"IFERROR(VLOOKUP(G23488,Discounts!C:E,3,0),0)","v":0},{"v":85.96,"d":"€85.96"}]
["Auto",184540,45730,2,"Normal",{"v":85.96,"d":"€85.96"},"LUXE",{"$f":"IFERROR(VLOOKUP(G23492,Discounts!C:E,3,0),0)","v":0},{"v":85.96,"d":"€85.96"}]
["Auto",184560,178570,2,"Normal",{"v":3461.16,"d":"€3,461.16"},"A010",{"$f":"IFERROR(VLOOKUP(G23501,Discounts!C:E,3,0),0)","v":0},{"v":3461.16,"d":"€3,461.16"}]
["Auto",184600,29710,2,"Normal",{"v":85.96,"d":"€85.96"},"LUXE",{"$f":"IFERROR(VLOOKUP(G23514,Discounts!C:E,3,0),0)","v":0},{"v":85.96,"d":"€85.96"}]
["Auto",184650,31640,2,"Normal",{"v":282.64,"d":"€282.64"},"LUXE",{"$f":"IFERROR(VLOOKUP(G23535,Discounts!C:E,3,0),0)","v":0},{"v":282.64,"d":"€282.64"}]
["Auto",184660,29710,2,"Normal",{"v":85.96,"d":"€85.96"},"LUXE",{"$f":"IFERROR(VLOOKUP(G23537,Discounts!C:E,3,0),0)","v":0},{"v":85.96,"d":"€85.96"}]
["Auto",184710,31470,2,"Normal",{"v":282.64,"d":"€282.64"},"LUXE",{"$f":"IFERROR(VLOOKUP(G23558,Discounts!C:E,3,0),0)","v":0},{"v":282.64,"d":"€282.64"}]
["Auto",184730,45730,2,"Normal",{"v":85.96,"d":"€85.96"},"LUXE",{"$f":"IFERROR(VLOOKUP(G23567,Discounts!C:E,3,0),0)","v":0},{"v":85.96,"d":"€85.96"}]
["Auto",184760,177430,2,"Normal",{"v":4180.16,"d":"€4,180.16"},"A015",{"$f":"IFERROR(VLOOKUP(G23580,Discounts!C:E,3,0),0)","v":0},{"v":4180.16,"d":"€4,180.16"}]
["Auto",184810,29710,2,"Normal",{"v":85.96,"d":"€85.96"},"LUXE",{"$f":"IFERROR(VLOOKUP(G23597,Discounts!C:E,3,0),0)","v":0},{"v":85.96,"d":"€85.96"}]
["Auto",184810,45730,2,"Normal",{"v":85.96,"d":"€85.96"},"LUXE",{"$f":"IFERROR(VLOOKUP(G23599,Discounts!C:E,3,0),0)","v":0},{"v":85.96,"d":"€85.96"}]
["Auto",184840,179030,2,"Normal",{"v":3310.74,"d":"€3,310.74"},"A010",{"$f":"IFERROR(VLOOKUP(G23612,Discounts!C:E,3,0),0)","v":0},{"v":3310.74,"d":"€3,310.74"}]
["Auto",184900,45730,2,"Normal",{"v":85.96,"d":"€85.96"},"LUXE",{"$f":"IFERROR(VLOOKUP(G23633,Discounts!C:E,3,0),0)","v":0},{"v":85.96,"d":"€85.96"}]
["Auto",184930,179110,2,"Normal",{"v":3768.6,"d":"€3,768.60"},"A010",{"$f":"IFERROR(VLOOKUP(G23646,Discounts!C:E,3,0),0)","v":0},{"v":3768.6,"d":"€3,768.60"}]
["Auto",184970,29720,2,"Normal",{"v":183.48,"d":"€183.48"},"LUXE",{"$f":"IFERROR(VLOOKUP(G23659,Discounts!C:E,3,0),0)","v":0},{"v":183.48,"d":"€183.48"}]
["Auto",184980,45730,2,"Normal",{"v":85.96,"d":"€85.96"},"LUXE",{"$f":"IFERROR(VLOOKUP(G23665,Discounts!C:E,3,0),0)","v":0},{"v":85.96,"d":"€85.96"}]
["Auto",185010,179190,2,"Normal",0,"A010",{"$f":"IFERROR(VLOOKUP(G23678,Discounts!C:E,3,0),0)","v":0},0]
["Auto",185040,29710,2,"Normal",{"v":85.96,"d":"€85.96"},"LUXE",{"$f":"IFERROR(VLOOKUP(G23687,Discounts!C:E,3,0),0)","v":0},{"v":85.96,"d":"€85.96"}]
["Auto",185080,179260,2,"Normal",0,"A010",{"$f":"IFERROR(VLOOKUP(G23706,Discounts!C:E,3,0),0)","v":0},0]
["Auto",185090,179270,2,"Normal",0,"A010",{"$f":"IFERROR(VLOOKUP(G23710,Discounts!C:E,3,0),0)","v":0},0]
["Auto",185150,29710,2,"Normal",{"v":85.96,"d":"€85.96"},"LUXE",{"$f":"IFERROR(VLOOKUP(G23731,Discounts!C:E,3,0),0)","v":0},{"v":85.96,"d":"€85.96"}]
["Auto",185190,177530,2,"Normal",{"v":5231.4,"d":"€5,231.40"},"A010",{"$f":"IFERROR(VLOOKUP(G23744,Discounts!C:E,3,0),0)","v":0},{"v":5231.4,"d":"€5,231.40"}]
["Auto",185220,31470,2,"Normal",{"v":282.64,"d":"€282.64"},"LUXE",{"$f":"IFERROR(VLOOKUP(G23753,Discounts!C:E,3,0),0)","v":0},{"v":282.64,"d":"€282.64"}]
["Auto",185270,31470,2,"Normal",{"v":282.64,"d":"€282.64"},"LUXE",{"$f":"IFERROR(VLOOKUP(G23768,Discounts!C:E,3,0),0)","v":0},{"v":282.64,"d":"€282.64"}]
["Auto",185290,177630,2,"Normal",{"v":4482.64,"d":"€4,482.64"},"A010",{"$f":"IFERROR(VLOOKUP(G23776,Discounts!C:E,3,0),0)","v":0},{"v":4482.64,"d":"€4,482.64"}]
["Auto",185320,177650,2,"Normal",0,"A010",{"$f":"IFERROR(VLOOKUP(G23785,Discounts!C:E,3,0),0)","v":0},0]
["Auto",185360,45730,2,"Normal",{"v":85.96,"d":"€85.96"},"LUXE",{"$f":"IFERROR(VLOOKUP(G23798,Discounts!C:E,3,0),0)","v":0},{"v":85.96,"d":"€85.96"}]
["Auto",185400,29720,2,"Normal",{"v":183.48,"d":"€183.48"},"LUXE",{"$f":"IFERROR(VLOOKUP(G23811,Discounts!C:E,3,0),0)","v":0},{"$f":"IF(E23811=\"Normal\",F23811*(1-H23811),SUMIF(B:B,C23811,I:I)*D23811)","v":{"v":183.48,"d":"€183.48"}}]
["Auto",185540,179710,2,"Normal",{"v":1952.06,"d":"€1,952.06"},"C010",{"$f":"IFERROR(VLOOKUP(G23829,Discounts!C:E,3,0),0)","v":0},{"v":1952.06,"d":"€1,952.06"}]
["Auto",185610,179440,2,"Normal",{"v":1570.24,"d":"€1,570.24"},"C010",{"$f":"IFERROR(VLOOKUP(G23842,Discounts!C:E,3,0),0)","v":0},{"v":1570.24,"d":"€1,570.24"}]
["Auto",185660,137810,2,"Normal",{"v":242.98,"d":"€242.98"},"LUXE",{"$f":"IFERROR(VLOOKUP(G23851,Discounts!C:E,3,0),0)","v":0},{"v":242.98,"d":"€242.98"}]
["Auto",185700,179680,2,"Normal",{"v":1659.5,"d":"€1,659.50"},"C010",{"$f":"IFERROR(VLOOKUP(G23860,Discounts!C:E,3,0),0)","v":0},{"v":1659.5,"d":"€1,659.50"}]
["Auto",185770,137810,1,"Normal",{"v":121.49,"d":"€121.49"},"LUXE",{"$f":"IFERROR(VLOOKUP(G23873,Discounts!C:E,3,0),0)","v":0},{"v":121.49,"d":"€121.49"}]
["Auto",185820,137810,1,"Normal",{"v":121.49,"d":"€121.49"},"LUXE",{"$f":"IFERROR(VLOOKUP(G23883,Discounts!C:E,3,0),0)","v":0},{"v":121.49,"d":"€121.49"}]
["Auto",185880,179440,1,"Normal",{"v":785.12,"d":"€785.12"},"C010",{"$f":"IFERROR(VLOOKUP(G23896,Discounts!C:E,3,0),0)","v":0},{"v":785.12,"d":"€785.12"}]
["Auto",185930,137810,1,"Normal",{"v":121.49,"d":"€121.49"},"LUXE",{"$f":"IFERROR(VLOOKUP(G23905,Discounts!C:E,3,0),0)","v":0},{"v":121.49,"d":"€121.49"}]
["Auto",186000,179560,1,"Normal",{"v":811.57,"d":"€811.57"},"C010",{"$f":"IFERROR(VLOOKUP(G23920,Discounts!C:E,3,0),0)","v":0},{"v":811.57,"d":"€811.57"}]
["Auto",186100,179660,1,"Normal",{"v":976.03,"d":"€976.03"},"C010",{"$f":"IFERROR(VLOOKUP(G23940,Discounts!C:E,3,0),0)","v":0},{"v":976.03,"d":"€976.03"}]
["Auto",186150,137810,1,"Normal",{"v":121.49,"d":"€121.49"},"LUXE",{"$f":"IFERROR(VLOOKUP(G23949,Discounts!C:E,3,0),0)","v":0},{"v":121.49,"d":"€121.49"}]
["Auto",186200,29710,1,"Normal",{"v":42.98,"d":"€42.98"},"LUXE",{"$f":"IFERROR(VLOOKUP(G23962,Discounts!C:E,3,0),0)","v":0},{"v":42.98,"d":"€42.98"}]
["Auto",186240,137810,2,"Normal",{"v":242.98,"d":"€242.98"},"LUXE",{"$f":"IFERROR(VLOOKUP(G23971,Discounts!C:E,3,0),0)","v":0},{"v":242.98,"d":"€242.98"}]
["Auto",186290,31470,1,"Normal",{"v":141.32,"d":"€141.32"},"LUXE",{"$f":"IFERROR(VLOOKUP(G23982,Discounts!C:E,3,0),0)","v":0},{"v":141.32,"d":"€141.32"}]
["Auto",186330,31470,1,"Normal",{"v":141.32,"d":"€141.32"},"LUXE",{"$f":"IFERROR(VLOOKUP(G23994,Discounts!C:E,3,0),0)","v":0},{"v":141.32,"d":"€141.32"}]
["Auto",186390,31470,1,"Normal",{"v":141.32,"d":"€141.32"},"LUXE",{"$f":"IFERROR(VLOOKUP(G24003,Discounts!C:E,3,0),0)","v":0},{"$f":"IF(E24003=\"Normal\",F24003*(1-H24003),SUMIF(B:B,C24003,I:I)*D24003)","v":{"v":141.32,"d":"€141.32"}}]
["Auto",186460,31470,2,"Normal",{"v":282.64,"d":"€282.64"},"LUXE",{"$f":"IFERROR(VLOOKUP(G24024,Discounts!C:E,3,0),0)","v":0},{"v":282.64,"d":"€282.64"}]
["Auto",186550,137810,1,"Normal",{"v":121.49,"d":"€121.49"},"LUXE",{"$f":"IFERROR(VLOOKUP(G24038,Discounts!C:E,3,0),0)","v":0},{"v":121.49,"d":"€121.49"}]
["Auto",186590,179340,1,"Normal",{"v":744.63,"d":"€744.63"},"C010",{"$f":"IFERROR(VLOOKUP(G24047,Discounts!C:E,3,0),0)","v":0},{"v":744.63,"d":"€744.63"}]
["Auto",186660,34260,1,"Normal",{"v":249.59,"d":"€249.59"},"LUXE",{"$f":"IFERROR(VLOOKUP(G24060,Discounts!C:E,3,0),0)","v":0},{"v":249.59,"d":"€249.59"}]
["Auto",186700,179450,1,"Normal",{"v":592.56,"d":"€592.56"},"C010",{"$f":"IFERROR(VLOOKUP(G24069,Discounts!C:E,3,0),0)","v":0},{"v":592.56,"d":"€592.56"}]
["Auto",186750,34260,1,"Normal",{"v":249.59,"d":"€249.59"},"LUXE",{"$f":"IFERROR(VLOOKUP(G24078,Discounts!C:E,3,0),0)","v":0},{"v":249.59,"d":"€249.59"}]
["Auto",186790,179540,1,"Normal",{"v":851.24,"d":"€851.24"},"C010",{"$f":"IFERROR(VLOOKUP(G24087,Discounts!C:E,3,0),0)","v":0},{"v":851.24,"d":"€851.24"}]
["Auto",186860,179610,1,"Normal",{"v":671.9,"d":"€671.90"},"C010",{"$f":"IFERROR(VLOOKUP(G24101,Discounts!C:E,3,0),0)","v":0},{"v":671.9,"d":"€671.90"}]
["Auto",186970,34260,1,"Normal",{"v":249.59,"d":"€249.59"},"LUXE",{"$f":"IFERROR(VLOOKUP(G24122,Discounts!C:E,3,0),0)","v":0},{"v":249.59,"d":"€249.59"}]
["Auto",187030,186710,2,"Combination",{"v":2122.32,"d":"€2,122.32"},"C010",{"$f":"IFERROR(VLOOKUP(G24135,Discounts!C:E,3,0),0)","v":0},{"v":2122.32,"d":"€2,122.32"}]
["Auto",187090,179740,1,"Normal",{"v":1723.97,"d":"€1,723.97"},"C010",{"$f":"IFERROR(VLOOKUP(G24147,Discounts!C:E,3,0),0)","v":0},{"v":1723.97,"d":"€1,723.97"}]
["Auto",187150,34260,1,"Normal",{"v":249.59,"d":"€249.59"},"LUXE",{"$f":"IFERROR(VLOOKUP(G24158,Discounts!C:E,3,0),0)","v":0},{"v":249.59,"d":"€249.59"}]
["Auto",187190,177310,1,"Normal",{"v":1641.32,"d":"€1,641.32"},"A015",{"$f":"IFERROR(VLOOKUP(G24167,Discounts!C:E,3,0),0)","v":0},{"v":1641.32,"d":"€1,641.32"}]
["Auto",187240,34260,1,"Normal",{"v":249.59,"d":"€249.59"},"LUXE",{"$f":"IFERROR(VLOOKUP(G24176,Discounts!C:E,3,0),0)","v":0},{"v":249.59,"d":"€249.59"}]
["Auto",187300,177420,1,"Normal",{"v":1980.99,"d":"€1,980.99"},"A015",{"$f":"IFERROR(VLOOKUP(G24189,Discounts!C:E,3,0),0)","v":0},{"v":1980.99,"d":"€1,980.99"}]
["Auto",187400,177520,1,"Normal",{"v":1838.02,"d":"€1,838.02"},"A010",{"$f":"IFERROR(VLOOKUP(G24209,Discounts!C:E,3,0),0)","v":0},{"v":1838.02,"d":"€1,838.02"}]
["Auto",187420,34260,1,"Normal",{"v":249.59,"d":"€249.59"},"LUXE",{"$f":"IFERROR(VLOOKUP(G24212,Discounts!C:E,3,0),0)","v":0},{"v":249.59,"d":"€249.59"}]
["Auto",187520,177700,1,"Normal",{"v":2597.52,"d":"€2,597.52"},"A010",{"$f":"IFERROR(VLOOKUP(G24233,Discounts!C:E,3,0),0)","v":0},{"v":2597.52,"d":"€2,597.52"}]
["Auto",187570,34260,1,"Normal",{"v":249.59,"d":"€249.59"},"LUXE",{"$f":"IFERROR(VLOOKUP(G24242,Discounts!C:E,3,0),0)","v":0},{"v":249.59,"d":"€249.59"}]
["Auto",187620,34260,1,"Normal",{"v":249.59,"d":"€249.59"},"LUXE",{"$f":"IFERROR(VLOOKUP(G24252,Discounts!C:E,3,0),0)","v":0},{"v":249.59,"d":"€249.59"}]
["Auto",187680,177970,1,"Normal",{"v":1472.73,"d":"€1,472.73"},"A010",{"$f":"IFERROR(VLOOKUP(G24265,Discounts!C:E,3,0),0)","v":0},{"v":1472.73,"d":"€1,472.73"}]
["Auto",187730,34260,1,"Normal",{"v":249.59,"d":"€249.59"},"LUXE",{"$f":"IFERROR(VLOOKUP(G24274,Discounts!C:E,3,0),0)","v":0},{"v":249.59,"d":"€249.59"}]
["Auto",187790,178080,1,"Normal",{"v":1990.91,"d":"€1,990.91"},"A010",{"$f":"IFERROR(VLOOKUP(G24287,Discounts!C:E,3,0),0)","v":0},{"v":1990.91,"d":"€1,990.91"}]
["Auto",187840,34260,1,"Normal",{"v":249.59,"d":"€249.59"},"LUXE",{"$f":"IFERROR(VLOOKUP(G24296,Discounts!C:E,3,0),0)","v":0},{"v":249.59,"d":"€249.59"}]
["Auto",187930,34260,1,"Normal",{"v":249.59,"d":"€249.59"},"LUXE",{"$f":"IFERROR(VLOOKUP(G24314,Discounts!C:E,3,0),0)","v":0},{"v":249.59,"d":"€249.59"}]
["Auto",188010,178390,1,"Normal",0,"A010",{"$f":"IFERROR(VLOOKUP(G24331,Discounts!C:E,3,0),0)","v":0},0]
["Auto",188060,34260,1,"Normal",{"v":249.59,"d":"€249.59"},"LUXE",{"$f":"IFERROR(VLOOKUP(G24340,Discounts!C:E,3,0),0)","v":0},{"v":249.59,"d":"€249.59"}]
["Auto",188120,178500,1,"Normal",0,"A010",{"$f":"IFERROR(VLOOKUP(G24353,Discounts!C:E,3,0),0)","v":0},0]
["Auto",188160,178540,1,"Normal",{"v":1800,"d":"€1,800.00"},"A010",{"$f":"IFERROR(VLOOKUP(G24361,Discounts!C:E,3,0),0)","v":0},{"v":1800,"d":"€1,800.00"}]
["Auto",188220,34260,1,"Normal",{"v":249.59,"d":"€249.59"},"LUXE",{"$f":"IFERROR(VLOOKUP(G24372,Discounts!C:E,3,0),0)","v":0},{"v":249.59,"d":"€249.59"}]
["Auto",188280,178660,1,"Normal",{"v":1682.64,"d":"€1,682.64"},"A010",{"$f":"IFERROR(VLOOKUP(G24385,Discounts!C:E,3,0),0)","v":0},{"v":1682.64,"d":"€1,682.64"}]
["Auto",188330,34260,1,"Normal",{"v":249.59,"d":"€249.59"},"LUXE",{"$f":"IFERROR(VLOOKUP(G24394,Discounts!C:E,3,0),0)","v":0},{"v":249.59,"d":"€249.59"}]
["Auto",188390,178770,1,"Normal",0,"A010",{"$f":"IFERROR(VLOOKUP(G24407,Discounts!C:E,3,0),0)","v":0},0]
["Auto",188470,178900,1,"Normal",0,"A010",{"$f":"IFERROR(VLOOKUP(G24423,Discounts!C:E,3,0),0)","v":0},0]
["Auto",188550,34260,1,"Normal",{"v":249.59,"d":"€249.59"},"LUXE",{"$f":"IFERROR(VLOOKUP(G24438,Discounts!C:E,3,0),0)","v":0},{"v":249.59,"d":"€249.59"}]
["Auto",188610,179040,1,"Normal",{"v":1468.6,"d":"€1,468.60"},"A010",{"$f":"IFERROR(VLOOKUP(G24451,Discounts!C:E,3,0),0)","v":0},{"$f":"IF(E24451=\"Normal\",F24451*(1-H24451),SUMIF(B:B,C24451,I:I)*D24451)","v":{"v":1468.6,"d":"€1,468.60"}}]
["Auto",188660,34260,1,"Normal",{"v":249.59,"d":"€249.59"},"LUXE",{"$f":"IFERROR(VLOOKUP(G24460,Discounts!C:E,3,0),0)","v":0},{"v":249.59,"d":"€249.59"}]
["Auto",188690,34260,1,"Normal",{"v":249.59,"d":"€249.59"},"LUXE",{"$f":"IFERROR(VLOOKUP(G24466,Discounts!C:E,3,0),0)","v":0},{"v":249.59,"d":"€249.59"}]
["Auto",188770,179200,1,"Normal",0,"A010",{"$f":"IFERROR(VLOOKUP(G24483,Discounts!C:E,3,0),0)","v":0},0]
["Auto",188820,34260,1,"Normal",{"v":249.59,"d":"€249.59"},"LUXE",{"$f":"IFERROR(VLOOKUP(G24492,Discounts!C:E,3,0),0)","v":0},{"v":249.59,"d":"€249.59"}]
["Auto",188880,179310,1,"Normal",0,"A015",{"$f":"IFERROR(VLOOKUP(G24505,Discounts!C:E,3,0),0)","v":0},0]
["Auto",188990,34260,1,"Normal",{"v":249.59,"d":"€249.59"},"LUXE",{"$f":"IFERROR(VLOOKUP(G24526,Discounts!C:E,3,0),0)","v":0},{"v":249.59,"d":"€249.59"}]
["Auto",189020,34260,1,"Normal",{"v":249.59,"d":"€249.59"},"LUXE",{"$f":"IFERROR(VLOOKUP(G24532,Discounts!C:E,3,0),0)","v":0},{"v":249.59,"d":"€249.59"}]
["Auto",189100,180050,1,"Normal",{"v":2266.94,"d":"€2,266.94"},"A015",{"$f":"IFERROR(VLOOKUP(G24549,Discounts!C:E,3,0),0)","v":0},{"v":2266.94,"d":"€2,266.94"}]
["Auto",189150,34260,1,"Normal",{"v":249.59,"d":"€249.59"},"LUXE",{"$f":"IFERROR(VLOOKUP(G24558,Discounts!C:E,3,0),0)","v":0},{"v":249.59,"d":"€249.59"}]
["Auto",189210,180230,1,"Normal",{"v":1325.62,"d":"€1,325.62"},"A010",{"$f":"IFERROR(VLOOKUP(G24571,Discounts!C:E,3,0),0)","v":0},{"v":1325.62,"d":"€1,325.62"}]
["Auto",189320,34260,1,"Normal",{"v":249.59,"d":"€249.59"},"LUXE",{"$f":"IFERROR(VLOOKUP(G24588,Discounts!C:E,3,0),0)","v":0},{"v":249.59,"d":"€249.59"}]
["Auto",189340,34260,1,"Normal",{"v":249.59,"d":"€249.59"},"LUXE",{"$f":"IFERROR(VLOOKUP(G24590,Discounts!C:E,3,0),0)","v":0},{"v":249.59,"d":"€249.59"}]
["Auto",189460,34260,2,"Normal",{"v":499.18,"d":"€499.18"},"LUXE",{"$f":"IFERROR(VLOOKUP(G24603,Discounts!C:E,3,0),0)","v":0},{"v":499.18,"d":"€499.18"}]
["Auto",189520,187160,1,"Combination",{"v":249.59,"d":"€249.59"},"A015",{"$f":"IFERROR(VLOOKUP(G24624,Discounts!C:E,3,0),0)","v":0},{"v":249.59,"d":"€249.59"}]
["Auto",189530,29720,1,"Normal",{"v":91.74,"d":"€91.74"},"LUXE",{"$f":"IFERROR(VLOOKUP(G24625,Discounts!C:E,3,0),0)","v":0},{"v":91.74,"d":"€91.74"}]
["Auto",189560,29720,1,"Normal",{"v":91.74,"d":"€91.74"},"LUXE",{"$f":"IFERROR(VLOOKUP(G24637,Discounts!C:E,3,0),0)","v":0},{"v":91.74,"d":"€91.74"}]
["Auto",189610,31640,1,"Normal",{"v":141.32,"d":"€141.32"},"LUXE",{"$f":"IFERROR(VLOOKUP(G24656,Discounts!C:E,3,0),0)","v":0},{"v":141.32,"d":"€141.32"}]
["Auto",189650,29720,1,"Normal",{"v":91.74,"d":"€91.74"},"LUXE",{"$f":"IFERROR(VLOOKUP(G24669,Discounts!C:E,3,0),0)","v":0},{"v":91.74,"d":"€91.74"}]
["Auto",189680,29720,1,"Normal",{"v":91.74,"d":"€91.74"},"LUXE",{"$f":"IFERROR(VLOOKUP(G24678,Discounts!C:E,3,0),0)","v":0},{"v":91.74,"d":"€91.74"}]
["Auto",189730,31470,1,"Normal",{"v":141.32,"d":"€141.32"},"LUXE",{"$f":"IFERROR(VLOOKUP(G24697,Discounts!C:E,3,0),0)","v":0},{"v":141.32,"d":"€141.32"}]
["Auto",189740,187350,1,"Combination",{"v":249.59,"d":"€249.59"},"A010",{"$f":"IFERROR(VLOOKUP(G24701,Discounts!C:E,3,0),0)","v":0},{"v":249.59,"d":"€249.59"}]
["Auto",189810,29710,1,"Normal",{"v":42.98,"d":"€42.98"},"LUXE",{"$f":"IFERROR(VLOOKUP(G24722,Discounts!C:E,3,0),0)","v":0},{"v":42.98,"d":"€42.98"}]
["Auto",189810,31470,1,"Normal",{"v":141.32,"d":"€141.32"},"LUXE",{"$f":"IFERROR(VLOOKUP(G24723,Discounts!C:E,3,0),0)","v":0},{"v":141.32,"d":"€141.32"}]
["Auto",189860,187440,1,"Combination",{"v":249.59,"d":"€249.59"},"A010",{"$f":"IFERROR(VLOOKUP(G24740,Discounts!C:E,3,0),0)","v":0},{"v":249.59,"d":"€249.59"}]
["Auto",189910,29710,1,"Normal",{"v":42.98,"d":"€42.98"},"LUXE",{"$f":"IFERROR(VLOOKUP(G24754,Discounts!C:E,3,0),0)","v":0},{"v":42.98,"d":"€42.98"}]
["Auto",189950,29720,1,"Normal",{"v":91.74,"d":"€91.74"},"LUXE",{"$f":"IFERROR(VLOOKUP(G24767,Discounts!C:E,3,0),0)","v":0},{"v":91.74,"d":"€91.74"}]
["Auto",189970,187520,1,"Combination",{"v":2847.11,"d":"€2,847.11"},"A010",{"$f":"IFERROR(VLOOKUP(G24776,Discounts!C:E,3,0),0)","v":0},{"v":2847.11,"d":"€2,847.11"}]
["Auto",190000,29720,1,"Normal",{"v":91.74,"d":"€91.74"},"LUXE",{"$f":"IFERROR(VLOOKUP(G24785,Discounts!C:E,3,0),0)","v":0},{"v":91.74,"d":"€91.74"}]
["Auto",190050,29720,1,"Normal",{"v":91.74,"d":"€91.74"},"LUXE",{"$f":"IFERROR(VLOOKUP(G24802,Discounts!C:E,3,0),0)","v":0},{"v":91.74,"d":"€91.74"}]
["Auto",190090,189050,1,"Combination",{"v":2366.95,"d":"€2,366.95"},"A010",{"$f":"IFERROR(VLOOKUP(G24820,Discounts!C:E,3,0),0)","v":0},{"v":2366.9500000000003,"d":"€2,366.95"}]
["Auto",190100,29720,1,"Normal",{"v":91.74,"d":"€91.74"},"LUXE",{"$f":"IFERROR(VLOOKUP(G24821,Discounts!C:E,3,0),0)","v":0},{"v":91.74,"d":"€91.74"}]
["Auto",190150,187610,1,"Combination",{"v":249.59,"d":"€249.59"},"A010",{"$f":"IFERROR(VLOOKUP(G24842,Discounts!C:E,3,0),0)","v":0},{"v":249.59,"d":"€249.59"}]
["Auto",190180,29710,1,"Normal",{"v":42.98,"d":"€42.98"},"LUXE",{"$f":"IFERROR(VLOOKUP(G24849,Discounts!C:E,3,0),0)","v":0},{"v":42.98,"d":"€42.98"}]
["Auto",190230,31470,1,"Normal",{"v":141.32,"d":"€141.32"},"LUXE",{"$f":"IFERROR(VLOOKUP(G24865,Discounts!C:E,3,0),0)","v":0},{"v":141.32,"d":"€141.32"}]
["Auto",190250,53350,1,"Normal",{"v":199.17,"d":"€199.17"},"LUXE",{"$f":"IFERROR(VLOOKUP(G24874,Discounts!C:E,3,0),0)","v":0},{"v":199.17,"d":"€199.17"}]
["Auto",190290,29710,1,"Normal",{"v":42.98,"d":"€42.98"},"LUXE",{"$f":"IFERROR(VLOOKUP(G24887,Discounts!C:E,3,0),0)","v":0},{"v":42.98,"d":"€42.98"}]
["Auto",190320,29710,1,"Normal",{"v":42.98,"d":"€42.98"},"LUXE",{"$f":"IFERROR(VLOOKUP(G24896,Discounts!C:E,3,0),0)","v":0},{"v":42.98,"d":"€42.98"}]
["Auto",190360,187810,1,"Combination",{"v":1563.64,"d":"€1,563.64"},"A010",{"$f":"IFERROR(VLOOKUP(G24911,Discounts!C:E,3,0),0)","v":0},{"v":1563.6399999999999,"d":"€1,563.64"}]
["Auto",190390,31470,1,"Normal",{"v":141.32,"d":"€141.32"},"LUXE",{"$f":"IFERROR(VLOOKUP(G24919,Discounts!C:E,3,0),0)","v":0},{"v":141.32,"d":"€141.32"}]
["Auto",190460,31470,1,"Normal",{"v":141.32,"d":"€141.32"},"LUXE",{"$f":"IFERROR(VLOOKUP(G24940,Discounts!C:E,3,0),0)","v":0},{"v":141.32,"d":"€141.32"}]
["Auto",190490,31470,1,"Normal",{"v":141.32,"d":"€141.32"},"LUXE",{"$f":"IFERROR(VLOOKUP(G24949,Discounts!C:E,3,0),0)","v":0},{"v":141.32,"d":"€141.32"}]
["Auto",190550,31470,1,"Normal",{"v":141.32,"d":"€141.32"},"LUXE",{"$f":"IFERROR(VLOOKUP(G24967,Discounts!C:E,3,0),0)","v":0},{"v":141.32,"d":"€141.32"}]
["Auto",190570,29710,1,"Normal",{"v":42.98,"d":"€42.98"},"LUXE",{"$f":"IFERROR(VLOOKUP(G24972,Discounts!C:E,3,0),0)","v":0},{"v":42.98,"d":"€42.98"}]
["Auto",190610,31470,1,"Normal",{"v":141.32,"d":"€141.32"},"LUXE",{"$f":"IFERROR(VLOOKUP(G24985,Discounts!C:E,3,0),0)","v":0},{"v":141.32,"d":"€141.32"}]
["Auto",190640,31470,1,"Normal",{"v":141.32,"d":"€141.32"},"LUXE",{"$f":"IFERROR(VLOOKUP(G24994,Discounts!C:E,3,0),0)","v":0},{"v":141.32,"d":"€141.32"}]
["Auto",190700,188390,1,"Combination",{"v":249.59,"d":"€249.59"},"A010",{"$f":"IFERROR(VLOOKUP(G25015,Discounts!C:E,3,0),0)","v":0},{"v":249.59,"d":"€249.59"}]
["Auto",190710,29710,1,"Normal",{"v":42.98,"d":"€42.98"},"LUXE",{"$f":"IFERROR(VLOOKUP(G25016,Discounts!C:E,3,0),0)","v":0},{"v":42.98,"d":"€42.98"}]
["Auto",190760,45730,1,"Normal",{"v":42.98,"d":"€42.98"},"LUXE",{"$f":"IFERROR(VLOOKUP(G25038,Discounts!C:E,3,0),0)","v":0},{"v":42.98,"d":"€42.98"}]
["Auto",190790,188100,1,"Combination",{"v":1917.36,"d":"€1,917.36"},"A010",{"$f":"IFERROR(VLOOKUP(G25051,Discounts!C:E,3,0),0)","v":0},{"v":1917.36,"d":"€1,917.36"}]
["Auto",190820,29710,1,"Normal",{"v":42.98,"d":"€42.98"},"LUXE",{"$f":"IFERROR(VLOOKUP(G25060,Discounts!C:E,3,0),0)","v":0},{"v":42.98,"d":"€42.98"}]
["Auto",190860,29710,1,"Normal",{"v":42.98,"d":"€42.98"},"LUXE",{"$f":"IFERROR(VLOOKUP(G25076,Discounts!C:E,3,0),0)","v":0},{"v":42.98,"d":"€42.98"}]
["Auto",190870,188180,1,"Combination",{"v":249.59,"d":"€249.59"},"A010",{"$f":"IFERROR(VLOOKUP(G25083,Discounts!C:E,3,0),0)","v":0},{"v":249.59,"d":"€249.59"}]
["Auto",190900,29710,1,"Normal",{"v":42.98,"d":"€42.98"},"LUXE",{"$f":"IFERROR(VLOOKUP(G25092,Discounts!C:E,3,0),0)","v":0},{"v":42.98,"d":"€42.98"}]
["Auto",190950,31470,1,"Normal",{"v":141.32,"d":"€141.32"},"LUXE",{"$f":"IFERROR(VLOOKUP(G25113,Discounts!C:E,3,0),0)","v":0},{"v":141.32,"d":"€141.32"}]
["Auto",190950,45730,1,"Normal",{"v":42.98,"d":"€42.98"},"LUXE",{"$f":"IFERROR(VLOOKUP(G25114,Discounts!C:E,3,0),0)","v":0},{"v":42.98,"d":"€42.98"}]
["Auto",191010,45730,1,"Normal",{"v":42.98,"d":"€42.98"},"LUXE",{"$f":"IFERROR(VLOOKUP(G25138,Discounts!C:E,3,0),0)","v":0},{"v":42.98,"d":"€42.98"}]
["Auto",191040,31470,1,"Normal",{"v":141.32,"d":"€141.32"},"LUXE",{"$f":"IFERROR(VLOOKUP(G25149,Discounts!C:E,3,0),0)","v":0},{"v":141.32,"d":"€141.32"}]
["Auto",191060,45730,1,"Normal",{"v":42.98,"d":"€42.98"},"LUXE",{"$f":"IFERROR(VLOOKUP(G25158,Discounts!C:E,3,0),0)","v":0},{"v":42.98,"d":"€42.98"}]
["Auto",191080,188540,1,"Combination",{"v":249.59,"d":"€249.59"},"A010",{"$f":"IFERROR(VLOOKUP(G25167,Discounts!C:E,3,0),0)","v":0},{"v":249.59,"d":"€249.59"}]
["Auto",191120,31470,1,"Normal",{"v":141.32,"d":"€141.32"},"LUXE",{"$f":"IFERROR(VLOOKUP(G25181,Discounts!C:E,3,0),0)","v":0},{"v":141.32,"d":"€141.32"}]
["Auto",191140,45730,1,"Normal",{"v":42.98,"d":"€42.98"},"LUXE",{"$f":"IFERROR(VLOOKUP(G25190,Discounts!C:E,3,0),0)","v":0},{"v":42.98,"d":"€42.98"}]
["Auto",191190,188650,1,"Combination",{"v":249.59,"d":"€249.59"},"A010",{"$f":"IFERROR(VLOOKUP(G25211,Discounts!C:E,3,0),0)","v":0},{"v":249.59,"d":"€249.59"}]
["Auto",191200,29710,1,"Normal",{"v":42.98,"d":"€42.98"},"LUXE",{"$f":"IFERROR(VLOOKUP(G25212,Discounts!C:E,3,0),0)","v":0},{"v":42.98,"d":"€42.98"}]
["Auto",191250,31470,1,"Normal",{"v":141.32,"d":"€141.32"},"LUXE",{"$f":"IFERROR(VLOOKUP(G25233,Discounts!C:E,3,0),0)","v":0},{"v":141.32,"d":"€141.32"}]
["Auto",191270,188730,1,"Combination",{"v":249.59,"d":"€249.59"},"A010",{"$f":"IFERROR(VLOOKUP(G25243,Discounts!C:E,3,0),0)","v":0},{"v":249.59,"d":"€249.59"}]
["Auto",191310,29710,1,"Normal",{"v":42.98,"d":"€42.98"},"LUXE",{"$f":"IFERROR(VLOOKUP(G25256,Discounts!C:E,3,0),0)","v":0},{"v":42.98,"d":"€42.98"}]
["Auto",191330,31470,1,"Normal",{"v":141.32,"d":"€141.32"},"LUXE",{"$f":"IFERROR(VLOOKUP(G25265,Discounts!C:E,3,0),0)","v":0},{"v":141.32,"d":"€141.32"}]
["Auto",191360,45730,1,"Normal",{"v":42.98,"d":"€42.98"},"LUXE",{"$f":"IFERROR(VLOOKUP(G25278,Discounts!C:E,3,0),0)","v":0},{"v":42.98,"d":"€42.98"}]
["Auto",191390,45730,1,"Normal",{"v":42.98,"d":"€42.98"},"LUXE",{"$f":"IFERROR(VLOOKUP(G25290,Discounts!C:E,3,0),0)","v":0},{"v":42.98,"d":"€42.98"}]
["Auto",191420,31470,1,"Normal",{"v":141.32,"d":"€141.32"},"LUXE",{"$f":"IFERROR(VLOOKUP(G25301,Discounts!C:E,3,0),0)","v":0},{"v":141.32,"d":"€141.32"}]
["Auto",191440,41600,1,"Normal",{"v":91.74,"d":"€91.74"},"LUXE",{"$f":"IFERROR(VLOOKUP(G25310,Discounts!C:E,3,0),0)","v":0},{"v":91.74,"d":"€91.74"}]
["Auto",191490,41650,1,"Normal",{"v":42.98,"d":"€42.98"},"LUXE",{"$f":"IFERROR(VLOOKUP(G25331,Discounts!C:E,3,0),0)","v":0},{"v":42.98,"d":"€42.98"}]
["Auto",191530,189160,1,"Combination",{"v":1626.45,"d":"€1,626.45"},"A010",{"$f":"IFERROR(VLOOKUP(G25344,Discounts!C:E,3,0),0)","v":0},{"v":1626.4499999999998,"d":"€1,626.45"}]
["Auto",191550,44940,5,"Normal",{"v":396.7,"d":"€396.70"},"LUXE",{"$f":"IFERROR(VLOOKUP(G25352,Discounts!C:E,3,0),0)","v":0},{"v":396.7,"d":"€396.70"}]
["Auto",191580,186580,1,"Combination",{"v":707.44,"d":"€707.44"},"C010",{"$f":"IFERROR(VLOOKUP(G25363,Discounts!C:E,3,0),0)","v":0},{"v":707.44,"d":"€707.44"}]
["Auto",191650,137810,1,"Normal",{"v":121.49,"d":"€121.49"},"LUXE",{"$f":"IFERROR(VLOOKUP(G25376,Discounts!C:E,3,0),0)","v":0},{"v":121.49,"d":"€121.49"}]
["Auto",191690,186690,1,"Combination",{"v":1034.71,"d":"€1,034.71"},"C010",{"$f":"IFERROR(VLOOKUP(G25385,Discounts!C:E,3,0),0)","v":0},{"v":1034.71,"d":"€1,034.71"}]
["Auto",191740,186740,1,"Combination",{"v":893.39,"d":"€893.39"},"C010",{"$f":"IFERROR(VLOOKUP(G25395,Discounts!C:E,3,0),0)","v":0},{"v":893.39,"d":"€893.39"}]
["Auto",191810,137810,1,"Normal",{"v":121.49,"d":"€121.49"},"LUXE",{"$f":"IFERROR(VLOOKUP(G25408,Discounts!C:E,3,0),0)","v":0},{"v":121.49,"d":"€121.49"}]
["Auto",191910,186910,1,"Combination",{"v":1225.62,"d":"€1,225.62"},"C010",{"$f":"IFERROR(VLOOKUP(G25429,Discounts!C:E,3,0),0)","v":0},{"v":1225.62,"d":"€1,225.62"}]
["Auto",191980,137810,2,"Normal",{"v":242.98,"d":"€242.98"},"LUXE",{"$f":"IFERROR(VLOOKUP(G25442,Discounts!C:E,3,0),0)","v":0},{"v":242.98,"d":"€242.98"}]
["Auto",192020,187120,1,"Combination",{"v":2525.63,"d":"€2,525.63"},"C010",{"$f":"IFERROR(VLOOKUP(G25451,Discounts!C:E,3,0),0)","v":0},{"v":2525.63,"d":"€2,525.63"}]
["Auto",192070,180630,1,"Normal",{"v":1360.33,"d":"€1,360.33"},"A010",{"$f":"IFERROR(VLOOKUP(G25461,Discounts!C:E,3,0),0)","v":0},{"v":1360.33,"d":"€1,360.33"}]
["Auto",192130,31470,1,"Normal",{"v":141.32,"d":"€141.32"},"LUXE",{"$f":"IFERROR(VLOOKUP(G25474,Discounts!C:E,3,0),0)","v":0},{"v":141.32,"d":"€141.32"}]
["Auto",192160,34260,1,"Normal",{"v":249.59,"d":"€249.59"},"LUXE",{"$f":"IFERROR(VLOOKUP(G25483,Discounts!C:E,3,0),0)","v":0},{"v":249.59,"d":"€249.59"}]
["Auto",192210,31470,1,"Normal",{"v":141.32,"d":"€141.32"},"LUXE",{"$f":"IFERROR(VLOOKUP(G25496,Discounts!C:E,3,0),0)","v":0},{"v":141.32,"d":"€141.32"}]
["Auto",192310,34260,1,"Normal",{"v":249.59,"d":"€249.59"},"LUXE",{"$f":"IFERROR(VLOOKUP(G25517,Discounts!C:E,3,0),0)","v":0},{"v":249.59,"d":"€249.59"}]
["Auto",192360,34260,1,"Normal",{"v":249.59,"d":"€249.59"},"LUXE",{"$f":"IFERROR(VLOOKUP(G25527,Discounts!C:E,3,0),0)","v":0},{"v":249.59,"d":"€249.59"}]
["Auto",193190,40970,1,"Normal",{"v":58.68,"d":"€58.68"},"SD/SG",{"$f":"IFERROR(VLOOKUP(G25540,Discounts!C:E,3,0),0)","v":0},{"v":58.68,"d":"€58.68"}]
["Auto",193210,193180,1,"Normal",{"v":780.17,"d":"€780.17"},"D010",{"$f":"IFERROR(VLOOKUP(G25549,Discounts!C:E,3,0),0)","v":0},{"v":780.17,"d":"€780.17"}]
["Auto",193250,32060,1,"Normal",{"v":121.49,"d":"€121.49"},"SD/SG",{"$f":"IFERROR(VLOOKUP(G25562,Discounts!C:E,3,0),0)","v":0},{"v":121.49,"d":"€121.49"}]
["Auto",193260,31100,1,"Normal",{"v":227.27,"d":"€227.27"},"SD/SG",{"$f":"IFERROR(VLOOKUP(G25566,Discounts!C:E,3,0),0)","v":0},{"v":227.27,"d":"€227.27"}]
["Auto",193290,193180,1,"Normal",{"v":780.17,"d":"€780.17"},"D010",{"$f":"IFERROR(VLOOKUP(G25581,Discounts!C:E,3,0),0)","v":0},{"v":780.17,"d":"€780.17"}]
["Auto",193330,32060,1,"Normal",{"v":121.49,"d":"€121.49"},"SD/SG",{"$f":"IFERROR(VLOOKUP(G25594,Discounts!C:E,3,0),0)","v":0},{"v":121.49,"d":"€121.49"}]
["Auto",193350,32060,1,"Normal",{"v":121.49,"d":"€121.49"},"SD/SG",{"$f":"IFERROR(VLOOKUP(G25603,Discounts!C:E,3,0),0)","v":0},{"$f":"IF(E25603=\"Normal\",F25603*(1-H25603),SUMIF(B:B,C25603,I:I)*D25603)","v":{"v":121.49,"d":"€121.49"}}]
["Auto",193410,32060,1,"Normal",{"v":121.49,"d":"€121.49"},"SD/SG",{"$f":"IFERROR(VLOOKUP(G25626,Discounts!C:E,3,0),0)","v":0},{"v":121.49,"d":"€121.49"}]
["Auto",193440,31200,1,"Normal",{"v":154.55,"d":"€154.55"},"SD/SG",{"$f":"IFERROR(VLOOKUP(G25638,Discounts!C:E,3,0),0)","v":0},{"v":154.55,"d":"€154.55"}]
["Auto",193460,32060,1,"Normal",{"v":121.49,"d":"€121.49"},"SD/SG",{"$f":"IFERROR(VLOOKUP(G25647,Discounts!C:E,3,0),0)","v":0},{"v":121.49,"d":"€121.49"}]
["Auto",193490,40970,1,"Normal",{"v":58.68,"d":"€58.68"},"SD/SG",{"$f":"IFERROR(VLOOKUP(G25660,Discounts!C:E,3,0),0)","v":0},{"v":58.68,"d":"€58.68"}]
["Auto",193510,193180,1,"Normal",{"v":780.17,"d":"€780.17"},"D010",{"$f":"IFERROR(VLOOKUP(G25669,Discounts!C:E,3,0),0)","v":0},{"v":780.17,"d":"€780.17"}]
["Auto",193560,40970,1,"Normal",{"v":58.68,"d":"€58.68"},"SD/SG",{"$f":"IFERROR(VLOOKUP(G25688,Discounts!C:E,3,0),0)","v":0},{"v":58.68,"d":"€58.68"}]
["Auto",193570,40970,1,"Normal",{"v":58.68,"d":"€58.68"},"SD/SG",{"$f":"IFERROR(VLOOKUP(G25692,Discounts!C:E,3,0),0)","v":0},{"v":58.68,"d":"€58.68"}]
["Auto",193590,193180,1,"Normal",{"v":780.17,"d":"€780.17"},"D010",{"$f":"IFERROR(VLOOKUP(G25701,Discounts!C:E,3,0),0)","v":0},{"v":780.17,"d":"€780.17"}]
["Auto",193770,29720,1,"Normal",{"v":91.74,"d":"€91.74"},"LUXE",{"$f":"IFERROR(VLOOKUP(G25714,Discounts!C:E,3,0),0)","v":0},{"v":91.74,"d":"€91.74"}]
["Auto",193810,31640,1,"Normal",{"v":141.32,"d":"€141.32"},"LUXE",{"$f":"IFERROR(VLOOKUP(G25731,Discounts!C:E,3,0),0)","v":0},{"$f":"IF(E25731=\"Normal\",F25731*(1-H25731),SUMIF(B:B,C25731,I:I)*D25731)","v":{"v":141.32,"d":"€141.32"}}]
["Auto",193850,31640,1,"Normal",{"v":141.32,"d":"€141.32"},"LUXE",{"$f":"IFERROR(VLOOKUP(G25745,Discounts!C:E,3,0),0)","v":0},{"v":141.32,"d":"€141.32"}]
["Auto",193880,41620,1,"Normal",{"v":42.98,"d":"€42.98"},"LUXE",{"$f":"IFERROR(VLOOKUP(G25758,Discounts!C:E,3,0),0)","v":0},{"v":42.98,"d":"€42.98"}]
["Auto",193910,41620,1,"Normal",{"v":42.98,"d":"€42.98"},"LUXE",{"$f":"IFERROR(VLOOKUP(G25767,Discounts!C:E,3,0),0)","v":0},{"v":42.98,"d":"€42.98"}]
["Auto",193930,193750,1,"Normal",{"v":1257.02,"d":"€1,257.02"},"A010",{"$f":"IFERROR(VLOOKUP(G25776,Discounts!C:E,3,0),0)","v":0},{"v":1257.02,"d":"€1,257.02"}]
["Auto",198580,34260,1,"Normal",{"v":249.59,"d":"€249.59"},"LUXE",{"$f":"IFERROR(VLOOKUP(G25793,Discounts!C:E,3,0),0)","v":0},{"v":249.59,"d":"€249.59"}]
["Auto",198590,198530,1,"Normal",0,"E055",{"$f":"IFERROR(VLOOKUP(G25799,Discounts!C:E,3,0),0)","v":0},0]
["Auto",198640,34260,1,"Normal",{"v":249.59,"d":"€249.59"},"LUXE",{"$f":"IFERROR(VLOOKUP(G25812,Discounts!C:E,3,0),0)","v":0},{"v":249.59,"d":"€249.59"}]
["Auto",198740,196190,1,"Normal",{"v":839.67,"d":"€839.67"},"C010",{"$f":"IFERROR(VLOOKUP(G25833,Discounts!C:E,3,0),0)","v":0},{"v":839.67,"d":"€839.67"}]
["Auto",198780,34260,1,"Normal",{"v":249.59,"d":"€249.59"},"LUXE",{"$f":"IFERROR(VLOOKUP(G25840,Discounts!C:E,3,0),0)","v":0},{"v":249.59,"d":"€249.59"}]
["Auto",198860,34260,1,"Normal",{"v":249.59,"d":"€249.59"},"LUXE",{"$f":"IFERROR(VLOOKUP(G25856,Discounts!C:E,3,0),0)","v":0},{"v":249.59,"d":"€249.59"}]
["Auto",198900,196540,1,"Normal",{"v":1263.64,"d":"€1,263.64"},"C010",{"$f":"IFERROR(VLOOKUP(G25865,Discounts!C:E,3,0),0)","v":0},{"v":1263.64,"d":"€1,263.64"}]
["Auto",198950,34260,1,"Normal",{"v":249.59,"d":"€249.59"},"LUXE",{"$f":"IFERROR(VLOOKUP(G25874,Discounts!C:E,3,0),0)","v":0},{"v":249.59,"d":"€249.59"}]
["Auto",199010,194950,1,"Normal",{"v":1178.51,"d":"€1,178.51"},"A010",{"$f":"IFERROR(VLOOKUP(G25887,Discounts!C:E,3,0),0)","v":0},{"v":1178.51,"d":"€1,178.51"}]
["Auto",199090,34260,1,"Normal",{"v":249.59,"d":"€249.59"},"LUXE",{"$f":"IFERROR(VLOOKUP(G25902,Discounts!C:E,3,0),0)","v":0},{"v":249.59,"d":"€249.59"}]
["Auto",199130,34260,1,"Normal",{"v":249.59,"d":"€249.59"},"LUXE",{"$f":"IFERROR(VLOOKUP(G25910,Discounts!C:E,3,0),0)","v":0},{"v":249.59,"d":"€249.59"}]
["Auto",199230,195880,1,"Normal",0,"A010",{"$f":"IFERROR(VLOOKUP(G25931,Discounts!C:E,3,0),0)","v":0},0]
["Auto",199280,34260,1,"Normal",{"v":249.59,"d":"€249.59"},"LUXE",{"$f":"IFERROR(VLOOKUP(G25940,Discounts!C:E,3,0),0)","v":0},{"v":249.59,"d":"€249.59"}]
["Auto",199300,195950,1,"Normal",0,"A010",{"$f":"IFERROR(VLOOKUP(G25945,Discounts!C:E,3,0),0)","v":0},0]
["Auto",199390,197040,1,"Normal",{"v":1278.51,"d":"€1,278.51"},"A010",{"$f":"IFERROR(VLOOKUP(G25963,Discounts!C:E,3,0),0)","v":0},{"v":1278.51,"d":"€1,278.51"}]
["Auto",199460,34260,1,"Normal",{"v":249.59,"d":"€249.59"},"LUXE",{"$f":"IFERROR(VLOOKUP(G25976,Discounts!C:E,3,0),0)","v":0},{"v":249.59,"d":"€249.59"}]
["Auto",199500,199470,1,"Normal",{"v":439.67,"d":"€439.67"},"B015",{"$f":"IFERROR(VLOOKUP(G25985,Discounts!C:E,3,0),0)","v":0},{"v":439.67,"d":"€439.67"}]
["Auto",199530,199470,1,"Normal",{"v":439.67,"d":"€439.67"},"B015",{"$f":"IFERROR(VLOOKUP(G25994,Discounts!C:E,3,0),0)","v":0},{"v":439.67,"d":"€439.67"}]
["Auto",199580,105710,1,"Normal",{"v":73.57,"d":"€73.57"},"LUXE",{"$f":"IFERROR(VLOOKUP(G26007,Discounts!C:E,3,0),0)","v":0},{"v":73.57,"d":"€73.57"}]
["Auto",199710,199760,1,"Normal",{"v":192.56,"d":"€192.56"},"P109",{"$f":"IFERROR(VLOOKUP(G26029,Discounts!C:E,3,0),0)","v":0},{"v":192.56,"d":"€192.56"}]
["Auto",199740,199790,1,"Normal",{"v":362.81,"d":"€362.81"},"P109",{"$f":"IFERROR(VLOOKUP(G26038,Discounts!C:E,3,0),0)","v":0},{"v":362.81,"d":"€362.81"}]
["Auto",199850,105720,1,"Normal",{"v":79.16,"d":"€79.16"},"LUXE",{"$f":"IFERROR(VLOOKUP(G26051,Discounts!C:E,3,0),0)","v":0},{"$f":"IF(E26051=\"Normal\",F26051*(1-H26051),SUMIF(B:B,C26051,I:I)*D26051)","v":{"v":79.16,"d":"€79.16"}}]
["Auto",199900,199950,1,"Normal",{"v":362.81,"d":"€362.81"},"P109",{"$f":"IFERROR(VLOOKUP(G26067,Discounts!C:E,3,0),0)","v":0},{"v":362.81,"d":"€362.81"}]
["Auto",199990,105710,1,"Normal",{"v":73.57,"d":"€73.57"},"LUXE",{"$f":"IFERROR(VLOOKUP(G26074,Discounts!C:E,3,0),0)","v":0},{"v":73.57,"d":"€73.57"}]
["Auto",200020,105710,1,"Normal",{"v":73.57,"d":"€73.57"},"LUXE",{"$f":"IFERROR(VLOOKUP(G26083,Discounts!C:E,3,0),0)","v":0},{"v":73.57,"d":"€73.57"}]
["Auto",200050,200040,1,"Combination",{"v":452.07,"d":"€452.07"},"B015",{"$f":"IFERROR(VLOOKUP(G26092,Discounts!C:E,3,0),0)","v":0},{"v":452.07,"d":"€452.07"}]
["Auto",200090,200140,1,"Normal",{"v":451.24,"d":"€451.24"},"P109",{"$f":"IFERROR(VLOOKUP(G26105,Discounts!C:E,3,0),0)","v":0},{"v":451.24,"d":"€451.24"}]
["Auto",200190,200150,1,"Normal",{"v":460.33,"d":"€460.33"},"B015",{"$f":"IFERROR(VLOOKUP(G26116,Discounts!C:E,3,0),0)","v":0},{"v":460.33,"d":"€460.33"}]
["Auto",200330,200440,1,"Normal",{"v":192.56,"d":"€192.56"},"P109",{"$f":"IFERROR(VLOOKUP(G26140,Discounts!C:E,3,0),0)","v":0},{"v":192.56,"d":"€192.56"}]
["Auto",200360,200470,1,"Normal",{"v":362.81,"d":"€362.81"},"P109",{"$f":"IFERROR(VLOOKUP(G26149,Discounts!C:E,3,0),0)","v":0},{"v":362.81,"d":"€362.81"}]
["Auto",200400,105710,1,"Normal",{"v":73.57,"d":"€73.57"},"LUXE",{"$f":"IFERROR(VLOOKUP(G26158,Discounts!C:E,3,0),0)","v":0},{"v":73.57,"d":"€73.57"}]
["Auto",200500,200610,1,"Normal",{"v":192.56,"d":"€192.56"},"P109",{"$f":"IFERROR(VLOOKUP(G26172,Discounts!C:E,3,0),0)","v":0},{"v":192.56,"d":"€192.56"}]
["Auto",200530,200640,1,"Normal",{"v":362.81,"d":"€362.81"},"P109",{"$f":"IFERROR(VLOOKUP(G26181,Discounts!C:E,3,0),0)","v":0},{"v":362.81,"d":"€362.81"}]
["Auto",200570,105710,1,"Normal",{"v":73.57,"d":"€73.57"},"LUXE",{"$f":"IFERROR(VLOOKUP(G26190,Discounts!C:E,3,0),0)","v":0},{"v":73.57,"d":"€73.57"}]
["Auto",200670,200660,1,"Normal",{"v":606.61,"d":"€606.61"},"B015",{"$f":"IFERROR(VLOOKUP(G26203,Discounts!C:E,3,0),0)","v":0},{"v":606.61,"d":"€606.61"}]
["Auto",200740,200790,1,"Normal",{"v":309.09,"d":"€309.09"},"P109",{"$f":"IFERROR(VLOOKUP(G26224,Discounts!C:E,3,0),0)","v":0},{"v":309.09,"d":"€309.09"}]
["Auto",200840,105700,1,"Normal",{"v":67.98,"d":"€67.98"},"LUXE",{"$f":"IFERROR(VLOOKUP(G26234,Discounts!C:E,3,0),0)","v":0},{"v":67.98,"d":"€67.98"}]
["Auto",200880,200830,1,"Normal",{"v":627.27,"d":"€627.27"},"B015",{"$f":"IFERROR(VLOOKUP(G26247,Discounts!C:E,3,0),0)","v":0},{"v":627.27,"d":"€627.27"}]
["Auto",200910,200960,1,"Normal",{"v":309.09,"d":"€309.09"},"P109",{"$f":"IFERROR(VLOOKUP(G26256,Discounts!C:E,3,0),0)","v":0},{"v":309.09,"d":"€309.09"}]
["Auto",201020,105690,1,"Normal",{"v":62.39,"d":"€62.39"},"LUXE",{"$f":"IFERROR(VLOOKUP(G26269,Discounts!C:E,3,0),0)","v":0},{"v":62.39,"d":"€62.39"}]
["Auto",201060,106730,1,"Normal",{"v":12.4,"d":"€12.40"},"LUXE",{"$f":"IFERROR(VLOOKUP(G26281,Discounts!C:E,3,0),0)","v":0},{"v":12.4,"d":"€12.40"}]
["Auto",201080,201130,1,"Normal",{"v":309.09,"d":"€309.09"},"P109",{"$f":"IFERROR(VLOOKUP(G26288,Discounts!C:E,3,0),0)","v":0},{"v":309.09,"d":"€309.09"}]
["Auto",201180,49550,1,"Normal",{"v":12.4,"d":"€12.40"},"SD/SG",{"$f":"IFERROR(VLOOKUP(G26301,Discounts!C:E,3,0),0)","v":0},{"v":12.4,"d":"€12.40"}]
["Auto",201300,201240,1,"Normal",{"v":490.08,"d":"€490.08"},"B015",{"$f":"IFERROR(VLOOKUP(G26322,Discounts!C:E,3,0),0)","v":0},{"v":490.08,"d":"€490.08"}]
["Auto",201350,105700,1,"Normal",{"v":67.98,"d":"€67.98"},"LUXE",{"$f":"IFERROR(VLOOKUP(G26335,Discounts!C:E,3,0),0)","v":0},{"v":67.98,"d":"€67.98"}]
["Auto",201450,105710,1,"Normal",{"v":73.57,"d":"€73.57"},"LUXE",{"$f":"IFERROR(VLOOKUP(G26343,Discounts!C:E,3,0),0)","v":0},{"v":73.57,"d":"€73.57"}]
["Auto",201480,201590,1,"Normal",{"v":451.24,"d":"€451.24"},"P109",{"$f":"IFERROR(VLOOKUP(G26354,Discounts!C:E,3,0),0)","v":0},{"v":451.24,"d":"€451.24"}]
["Auto",201530,201490,1,"Combination",{"v":532.23,"d":"€532.23"},"B015",{"$f":"IFERROR(VLOOKUP(G26367,Discounts!C:E,3,0),0)","v":0},{"v":532.23,"d":"€532.23"}]
["Auto",201620,201600,1,"Normal",{"v":526.45,"d":"€526.45"},"B015",{"$f":"IFERROR(VLOOKUP(G26376,Discounts!C:E,3,0),0)","v":0},{"v":526.45,"d":"€526.45"}]
["Auto",201650,201760,1,"Normal",{"v":300.83,"d":"€300.83"},"P109",{"$f":"IFERROR(VLOOKUP(G26386,Discounts!C:E,3,0),0)","v":0},{"v":300.83,"d":"€300.83"}]
["Auto",201700,201660,1,"Combination",{"v":538.85,"d":"€538.85"},"B015",{"$f":"IFERROR(VLOOKUP(G26399,Discounts!C:E,3,0),0)","v":0},{"v":538.85,"d":"€538.85"}]
["Auto",201830,201770,1,"Normal",{"v":556.2,"d":"€556.20"},"B015",{"$f":"IFERROR(VLOOKUP(G26420,Discounts!C:E,3,0),0)","v":0},{"v":556.2,"d":"€556.20"}]
["Auto",201880,105700,1,"Normal",{"v":67.98,"d":"€67.98"},"LUXE",{"$f":"IFERROR(VLOOKUP(G26433,Discounts!C:E,3,0),0)","v":0},{"v":67.98,"d":"€67.98"}]
["Auto",201980,201940,1,"Normal",{"v":567.77,"d":"€567.77"},"B015",{"$f":"IFERROR(VLOOKUP(G26446,Discounts!C:E,3,0),0)","v":0},{"v":567.77,"d":"€567.77"}]
["Auto",201980,202090,1,"Normal",{"v":362.81,"d":"€362.81"},"P109",{"$f":"IFERROR(VLOOKUP(G26447,Discounts!C:E,3,0),0)","v":0},{"v":362.81,"d":"€362.81"}]
["Auto",201990,105710,1,"Normal",{"v":73.57,"d":"€73.57"},"LUXE",{"$f":"IFERROR(VLOOKUP(G26448,Discounts!C:E,3,0),0)","v":0},{"v":73.57,"d":"€73.57"}]
["Auto",201990,201940,1,"Normal",{"v":567.77,"d":"€567.77"},"B015",{"$f":"IFERROR(VLOOKUP(G26449,Discounts!C:E,3,0),0)","v":0},{"v":567.77,"d":"€567.77"}]
["Auto",201990,202100,1,"Normal",{"v":451.24,"d":"€451.24"},"P109",{"$f":"IFERROR(VLOOKUP(G26450,Discounts!C:E,3,0),0)","v":0},{"v":451.24,"d":"€451.24"}]
["Auto",202000,106730,1,"Normal",{"v":12.4,"d":"€12.40"},"LUXE",{"$f":"IFERROR(VLOOKUP(G26451,Discounts!C:E,3,0),0)","v":0},{"v":12.4,"d":"€12.40"}]
["Auto",202000,201940,1,"Normal",{"v":567.77,"d":"€567.77"},"B015",{"$f":"IFERROR(VLOOKUP(G26452,Discounts!C:E,3,0),0)","v":0},{"v":567.77,"d":"€567.77"}]
["Auto",202010,105710,1,"Normal",{"v":73.57,"d":"€73.57"},"LUXE",{"$f":"IFERROR(VLOOKUP(G26453,Discounts!C:E,3,0),0)","v":0},{"v":73.57,"d":"€73.57"}]
["Auto",202010,202000,1,"Combination",{"v":580.17,"d":"€580.17"},"B015",{"$f":"IFERROR(VLOOKUP(G26454,Discounts!C:E,3,0),0)","v":0},{"v":580.17,"d":"€580.17"}]
["Auto",202010,202060,1,"Normal",{"v":192.56,"d":"€192.56"},"P109",{"$f":"IFERROR(VLOOKUP(G26455,Discounts!C:E,3,0),0)","v":0},{"v":192.56,"d":"€192.56"}]
["Auto",202020,105710,1,"Normal",{"v":73.57,"d":"€73.57"},"LUXE",{"$f":"IFERROR(VLOOKUP(G26456,Discounts!C:E,3,0),0)","v":0},{"v":73.57,"d":"€73.57"}]
["Auto",202020,202000,1,"Combination",{"v":580.17,"d":"€580.17"},"B015",{"$f":"IFERROR(VLOOKUP(G26457,Discounts!C:E,3,0),0)","v":0},{"v":580.17,"d":"€580.17"}]
["Auto",202020,202070,1,"Normal",{"v":309.09,"d":"€309.09"},"P109",{"$f":"IFERROR(VLOOKUP(G26458,Discounts!C:E,3,0),0)","v":0},{"v":309.09,"d":"€309.09"}]
["Auto",202030,105710,1,"Normal",{"v":73.57,"d":"€73.57"},"LUXE",{"$f":"IFERROR(VLOOKUP(G26459,Discounts!C:E,3,0),0)","v":0},{"v":73.57,"d":"€73.57"}]
["Auto",202030,202000,1,"Combination",{"v":580.17,"d":"€580.17"},"B015",{"$f":"IFERROR(VLOOKUP(G26460,Discounts!C:E,3,0),0)","v":0},{"v":580.17,"d":"€580.17"}]
["Auto",202030,202080,1,"Normal",{"v":362.81,"d":"€362.81"},"P109",{"$f":"IFERROR(VLOOKUP(G26461,Discounts!C:E,3,0),0)","v":0},{"v":362.81,"d":"€362.81"}]
["Auto",202040,105710,1,"Normal",{"v":73.57,"d":"€73.57"},"LUXE",{"$f":"IFERROR(VLOOKUP(G26462,Discounts!C:E,3,0),0)","v":0},{"v":73.57,"d":"€73.57"}]
["Auto",202040,202000,1,"Combination",{"v":580.17,"d":"€580.17"},"B015",{"$f":"IFERROR(VLOOKUP(G26463,Discounts!C:E,3,0),0)","v":0},{"v":580.17,"d":"€580.17"}]
["Auto",202040,202090,1,"Normal",{"v":362.81,"d":"€362.81"},"P109",{"$f":"IFERROR(VLOOKUP(G26464,Discounts!C:E,3,0),0)","v":0},{"v":362.81,"d":"€362.81"}]
["Auto",202050,105710,1,"Normal",{"v":73.57,"d":"€73.57"},"LUXE",{"$f":"IFERROR(VLOOKUP(G26465,Discounts!C:E,3,0),0)","v":0},{"v":73.57,"d":"€73.57"}]
["Auto",202050,202000,1,"Combination",{"v":580.17,"d":"€580.17"},"B015",{"$f":"IFERROR(VLOOKUP(G26466,Discounts!C:E,3,0),0)","v":0},{"v":580.17,"d":"€580.17"}]
["Auto",202050,202100,1,"Normal",{"v":451.24,"d":"€451.24"},"P109",{"$f":"IFERROR(VLOOKUP(G26467,Discounts!C:E,3,0),0)","v":0},{"v":451.24,"d":"€451.24"}]
["Auto",202120,105720,1,"Normal",{"v":79.16,"d":"€79.16"},"LUXE",{"$f":"IFERROR(VLOOKUP(G26468,Discounts!C:E,3,0),0)","v":0},{"v":79.16,"d":"€79.16"}]
["Auto",202120,202110,1,"Normal",{"v":586.78,"d":"€586.78"},"B015",{"$f":"IFERROR(VLOOKUP(G26469,Discounts!C:E,3,0),0)","v":0},{"v":586.78,"d":"€586.78"}]
["Auto",202120,202230,1,"Normal",{"v":192.56,"d":"€192.56"},"P109",{"$f":"IFERROR(VLOOKUP(G26470,Discounts!C:E,3,0),0)","v":0},{"v":192.56,"d":"€192.56"}]
["Auto",202130,105720,1,"Normal",{"v":79.16,"d":"€79.16"},"LUXE",{"$f":"IFERROR(VLOOKUP(G26471,Discounts!C:E,3,0),0)","v":0},{"v":79.16,"d":"€79.16"}]
["Auto",202130,202110,1,"Normal",{"v":586.78,"d":"€586.78"},"B015",{"$f":"IFERROR(VLOOKUP(G26472,Discounts!C:E,3,0),0)","v":0},{"v":586.78,"d":"€586.78"}]
["Auto",202130,202240,1,"Normal",{"v":309.09,"d":"€309.09"},"P109",{"$f":"IFERROR(VLOOKUP(G26473,Discounts!C:E,3,0),0)","v":0},{"v":309.09,"d":"€309.09"}]
["Auto",202140,105720,1,"Normal",{"v":79.16,"d":"€79.16"},"LUXE",{"$f":"IFERROR(VLOOKUP(G26474,Discounts!C:E,3,0),0)","v":0},{"v":79.16,"d":"€79.16"}]
["Auto",202140,202110,1,"Normal",{"v":586.78,"d":"€586.78"},"B015",{"$f":"IFERROR(VLOOKUP(G26475,Discounts!C:E,3,0),0)","v":0},{"v":586.78,"d":"€586.78"}]
["Auto",202140,202250,1,"Normal",{"v":362.81,"d":"€362.81"},"P109",{"$f":"IFERROR(VLOOKUP(G26476,Discounts!C:E,3,0),0)","v":0},{"v":362.81,"d":"€362.81"}]
["Auto",202150,105720,1,"Normal",{"v":79.16,"d":"€79.16"},"LUXE",{"$f":"IFERROR(VLOOKUP(G26477,Discounts!C:E,3,0),0)","v":0},{"v":79.16,"d":"€79.16"}]
["Auto",202150,202110,1,"Normal",{"v":586.78,"d":"€586.78"},"B015",{"$f":"IFERROR(VLOOKUP(G26478,Discounts!C:E,3,0),0)","v":0},{"v":586.78,"d":"€586.78"}]
["Auto",202150,202260,1,"Normal",{"v":362.81,"d":"€362.81"},"P109",{"$f":"IFERROR(VLOOKUP(G26479,Discounts!C:E,3,0),0)","v":0},{"v":362.81,"d":"€362.81"}]
["Auto",202160,105720,1,"Normal",{"v":79.16,"d":"€79.16"},"LUXE",{"$f":"IFERROR(VLOOKUP(G26480,Discounts!C:E,3,0),0)","v":0},{"v":79.16,"d":"€79.16"}]
["Auto",202160,202110,1,"Normal",{"v":586.78,"d":"€586.78"},"B015",{"$f":"IFERROR(VLOOKUP(G26481,Discounts!C:E,3,0),0)","v":0},{"v":586.78,"d":"€586.78"}]
["Auto",202160,202270,1,"Normal",{"v":451.24,"d":"€451.24"},"P109",{"$f":"IFERROR(VLOOKUP(G26482,Discounts!C:E,3,0),0)","v":0},{"v":451.24,"d":"€451.24"}]
["Auto",202170,106730,1,"Normal",{"v":12.4,"d":"€12.40"},"LUXE",{"$f":"IFERROR(VLOOKUP(G26483,Discounts!C:E,3,0),0)","v":0},{"v":12.4,"d":"€12.40"}]
["Auto",202170,202110,1,"Normal",{"v":586.78,"d":"€586.78"},"B015",{"$f":"IFERROR(VLOOKUP(G26484,Discounts!C:E,3,0),0)","v":0},{"v":586.78,"d":"€586.78"}]
["Auto",202180,105720,1,"Normal",{"v":79.16,"d":"€79.16"},"LUXE",{"$f":"IFERROR(VLOOKUP(G26485,Discounts!C:E,3,0),0)","v":0},{"v":79.16,"d":"€79.16"}]
["Auto",202180,202170,1,"Combination",{"v":599.18,"d":"€599.18"},"B015",{"$f":"IFERROR(VLOOKUP(G26486,Discounts!C:E,3,0),0)","v":0},{"v":599.18,"d":"€599.18"}]
["Auto",202180,202230,1,"Normal",{"v":192.56,"d":"€192.56"},"P109",{"$f":"IFERROR(VLOOKUP(G26487,Discounts!C:E,3,0),0)","v":0},{"v":192.56,"d":"€192.56"}]
["Auto",202190,105720,1,"Normal",{"v":79.16,"d":"€79.16"},"LUXE",{"$f":"IFERROR(VLOOKUP(G26488,Discounts!C:E,3,0),0)","v":0},{"v":79.16,"d":"€79.16"}]
["Auto",202190,202170,1,"Combination",{"v":599.18,"d":"€599.18"},"B015",{"$f":"IFERROR(VLOOKUP(G26489,Discounts!C:E,3,0),0)","v":0},{"v":599.18,"d":"€599.18"}]
["Auto",202190,202240,1,"Normal",{"v":309.09,"d":"€309.09"},"P109",{"$f":"IFERROR(VLOOKUP(G26490,Discounts!C:E,3,0),0)","v":0},{"v":309.09,"d":"€309.09"}]
["Auto",202200,105720,1,"Normal",{"v":79.16,"d":"€79.16"},"LUXE",{"$f":"IFERROR(VLOOKUP(G26491,Discounts!C:E,3,0),0)","v":0},{"v":79.16,"d":"€79.16"}]
["Auto",202200,202170,1,"Combination",{"v":599.18,"d":"€599.18"},"B015",{"$f":"IFERROR(VLOOKUP(G26492,Discounts!C:E,3,0),0)","v":0},{"v":599.18,"d":"€599.18"}]
["Auto",202200,202250,1,"Normal",{"v":362.81,"d":"€362.81"},"P109",{"$f":"IFERROR(VLOOKUP(G26493,Discounts!C:E,3,0),0)","v":0},{"v":362.81,"d":"€362.81"}]
["Auto",202210,105720,1,"Normal",{"v":79.16,"d":"€79.16"},"LUXE",{"$f":"IFERROR(VLOOKUP(G26494,Discounts!C:E,3,0),0)","v":0},{"v":79.16,"d":"€79.16"}]
["Auto",202210,202170,1,"Combination",{"v":599.18,"d":"€599.18"},"B015",{"$f":"IFERROR(VLOOKUP(G26495,Discounts!C:E,3,0),0)","v":0},{"v":599.18,"d":"€599.18"}]
["Auto",202210,202260,1,"Normal",{"v":362.81,"d":"€362.81"},"P109",{"$f":"IFERROR(VLOOKUP(G26496,Discounts!C:E,3,0),0)","v":0},{"v":362.81,"d":"€362.81"}]
["Auto",202220,105720,1,"Normal",{"v":79.16,"d":"€79.16"},"LUXE",{"$f":"IFERROR(VLOOKUP(G26497,Discounts!C:E,3,0),0)","v":0},{"v":79.16,"d":"€79.16"}]
["Auto",202220,202170,1,"Combination",{"v":599.18,"d":"€599.18"},"B015",{"$f":"IFERROR(VLOOKUP(G26498,Discounts!C:E,3,0),0)","v":0},{"v":599.18,"d":"€599.18"}]
["Auto",202220,202270,1,"Normal",{"v":451.24,"d":"€451.24"},"P109",{"$f":"IFERROR(VLOOKUP(G26499,Discounts!C:E,3,0),0)","v":0},{"$f":"IF(E26499=\"Normal\",F26499*(1-H26499),SUMIF(B:B,C26499,I:I)*D26499)","v":{"v":451.24,"d":"€451.24"}}]
["Auto",202290,105710,1,"Normal",{"v":73.57,"d":"€73.57"},"LUXE",{"$f":"IFERROR(VLOOKUP(G26500,Discounts!C:E,3,0),0)","v":0},{"v":73.57,"d":"€73.57"}]
["Auto",202290,202280,1,"Normal",{"v":504.13,"d":"€504.13"},"B015",{"$f":"IFERROR(VLOOKUP(G26501,Discounts!C:E,3,0),0)","v":0},{"v":504.13,"d":"€504.13"}]
["Auto",202290,202400,1,"Normal",{"v":192.56,"d":"€192.56"},"P109",{"$f":"IFERROR(VLOOKUP(G26502,Discounts!C:E,3,0),0)","v":0},{"v":192.56,"d":"€192.56"}]
["Auto",202300,105710,1,"Normal",{"v":73.57,"d":"€73.57"},"LUXE",{"$f":"IFERROR(VLOOKUP(G26503,Discounts!C:E,3,0),0)","v":0},{"v":73.57,"d":"€73.57"}]
["Auto",202300,202280,1,"Normal",{"v":504.13,"d":"€504.13"},"B015",{"$f":"IFERROR(VLOOKUP(G26504,Discounts!C:E,3,0),0)","v":0},{"v":504.13,"d":"€504.13"}]
["Auto",202300,202410,1,"Normal",{"v":309.09,"d":"€309.09"},"P109",{"$f":"IFERROR(VLOOKUP(G26505,Discounts!C:E,3,0),0)","v":0},{"v":309.09,"d":"€309.09"}]
["Auto",202310,105710,1,"Normal",{"v":73.57,"d":"€73.57"},"LUXE",{"$f":"IFERROR(VLOOKUP(G26506,Discounts!C:E,3,0),0)","v":0},{"v":73.57,"d":"€73.57"}]
["Auto",202310,202280,1,"Normal",{"v":504.13,"d":"€504.13"},"B015",{"$f":"IFERROR(VLOOKUP(G26507,Discounts!C:E,3,0),0)","v":0},{"v":504.13,"d":"€504.13"}]
["Auto",202310,202420,1,"Normal",{"v":362.81,"d":"€362.81"},"P109",{"$f":"IFERROR(VLOOKUP(G26508,Discounts!C:E,3,0),0)","v":0},{"v":362.81,"d":"€362.81"}]
["Auto",202320,105710,1,"Normal",{"v":73.57,"d":"€73.57"},"LUXE",{"$f":"IFERROR(VLOOKUP(G26509,Discounts!C:E,3,0),0)","v":0},{"v":73.57,"d":"€73.57"}]
["Auto",202320,202280,1,"Normal",{"v":504.13,"d":"€504.13"},"B015",{"$f":"IFERROR(VLOOKUP(G26510,Discounts!C:E,3,0),0)","v":0},{"v":504.13,"d":"€504.13"}]
["Auto",202320,202430,1,"Normal",{"v":362.81,"d":"€362.81"},"P109",{"$f":"IFERROR(VLOOKUP(G26511,Discounts!C:E,3,0),0)","v":0},{"v":362.81,"d":"€362.81"}]
["Auto",202330,105710,1,"Normal",{"v":73.57,"d":"€73.57"},"LUXE",{"$f":"IFERROR(VLOOKUP(G26512,Discounts!C:E,3,0),0)","v":0},{"v":73.57,"d":"€73.57"}]
["Auto",202330,202280,1,"Normal",{"v":504.13,"d":"€504.13"},"B015",{"$f":"IFERROR(VLOOKUP(G26513,Discounts!C:E,3,0),0)","v":0},{"v":504.13,"d":"€504.13"}]
["Auto",202330,202440,1,"Normal",{"v":451.24,"d":"€451.24"},"P109",{"$f":"IFERROR(VLOOKUP(G26514,Discounts!C:E,3,0),0)","v":0},{"v":451.24,"d":"€451.24"}]
["Auto",202340,106730,1,"Normal",{"v":12.4,"d":"€12.40"},"LUXE",{"$f":"IFERROR(VLOOKUP(G26515,Discounts!C:E,3,0),0)","v":0},{"v":12.4,"d":"€12.40"}]
["Auto",202340,202280,1,"Normal",{"v":504.13,"d":"€504.13"},"B015",{"$f":"IFERROR(VLOOKUP(G26516,Discounts!C:E,3,0),0)","v":0},{"v":504.13,"d":"€504.13"}]
["Auto",202350,105710,1,"Normal",{"v":73.57,"d":"€73.57"},"LUXE",{"$f":"IFERROR(VLOOKUP(G26517,Discounts!C:E,3,0),0)","v":0},{"v":73.57,"d":"€73.57"}]
["Auto",202350,202340,1,"Combination",{"v":516.53,"d":"€516.53"},"B015",{"$f":"IFERROR(VLOOKUP(G26518,Discounts!C:E,3,0),0)","v":0},{"v":516.53,"d":"€516.53"}]
["Auto",202350,202400,1,"Normal",{"v":192.56,"d":"€192.56"},"P109",{"$f":"IFERROR(VLOOKUP(G26519,Discounts!C:E,3,0),0)","v":0},{"v":192.56,"d":"€192.56"}]
["Auto",202360,105710,1,"Normal",{"v":73.57,"d":"€73.57"},"LUXE",{"$f":"IFERROR(VLOOKUP(G26520,Discounts!C:E,3,0),0)","v":0},{"v":73.57,"d":"€73.57"}]
["Auto",202360,202340,1,"Combination",{"v":516.53,"d":"€516.53"},"B015",{"$f":"IFERROR(VLOOKUP(G26521,Discounts!C:E,3,0),0)","v":0},{"v":516.53,"d":"€516.53"}]
["Auto",202360,202410,1,"Normal",{"v":309.09,"d":"€309.09"},"P109",{"$f":"IFERROR(VLOOKUP(G26522,Discounts!C:E,3,0),0)","v":0},{"v":309.09,"d":"€309.09"}]
["Auto",202370,105710,1,"Normal",{"v":73.57,"d":"€73.57"},"LUXE",{"$f":"IFERROR(VLOOKUP(G26523,Discounts!C:E,3,0),0)","v":0},{"v":73.57,"d":"€73.57"}]
["Auto",202370,202340,1,"Combination",{"v":516.53,"d":"€516.53"},"B015",{"$f":"IFERROR(VLOOKUP(G26524,Discounts!C:E,3,0),0)","v":0},{"v":516.53,"d":"€516.53"}]
["Auto",202370,202420,1,"Normal",{"v":362.81,"d":"€362.81"},"P109",{"$f":"IFERROR(VLOOKUP(G26525,Discounts!C:E,3,0),0)","v":0},{"v":362.81,"d":"€362.81"}]
["Auto",202380,105710,1,"Normal",{"v":73.57,"d":"€73.57"},"LUXE",{"$f":"IFERROR(VLOOKUP(G26526,Discounts!C:E,3,0),0)","v":0},{"v":73.57,"d":"€73.57"}]
["Auto",202380,202340,1,"Combination",{"v":516.53,"d":"€516.53"},"B015",{"$f":"IFERROR(VLOOKUP(G26527,Discounts!C:E,3,0),0)","v":0},{"v":516.53,"d":"€516.53"}]
["Auto",202380,202430,1,"Normal",{"v":362.81,"d":"€362.81"},"P109",{"$f":"IFERROR(VLOOKUP(G26528,Discounts!C:E,3,0),0)","v":0},{"v":362.81,"d":"€362.81"}]
["Auto",202390,105710,1,"Normal",{"v":73.57,"d":"€73.57"},"LUXE",{"$f":"IFERROR(VLOOKUP(G26529,Discounts!C:E,3,0),0)","v":0},{"v":73.57,"d":"€73.57"}]
["Auto",202390,202340,1,"Combination",{"v":516.53,"d":"€516.53"},"B015",{"$f":"IFERROR(VLOOKUP(G26530,Discounts!C:E,3,0),0)","v":0},{"v":516.53,"d":"€516.53"}]
["Auto",202390,202440,1,"Normal",{"v":451.24,"d":"€451.24"},"P109",{"$f":"IFERROR(VLOOKUP(G26531,Discounts!C:E,3,0),0)","v":0},{"v":451.24,"d":"€451.24"}]
["Auto",202460,105730,1,"Normal",{"v":84.75,"d":"€84.75"},"LUXE",{"$f":"IFERROR(VLOOKUP(G26532,Discounts!C:E,3,0),0)","v":0},{"v":84.75,"d":"€84.75"}]
["Auto",202460,202450,1,"Normal",{"v":556.2,"d":"€556.20"},"B015",{"$f":"IFERROR(VLOOKUP(G26533,Discounts!C:E,3,0),0)","v":0},{"v":556.2,"d":"€556.20"}]
["Auto",202460,202570,1,"Normal",{"v":192.56,"d":"€192.56"},"P109",{"$f":"IFERROR(VLOOKUP(G26534,Discounts!C:E,3,0),0)","v":0},{"v":192.56,"d":"€192.56"}]
["Auto",202470,105730,1,"Normal",{"v":84.75,"d":"€84.75"},"LUXE",{"$f":"IFERROR(VLOOKUP(G26535,Discounts!C:E,3,0),0)","v":0},{"v":84.75,"d":"€84.75"}]
["Auto",202470,202450,1,"Normal",{"v":556.2,"d":"€556.20"},"B015",{"$f":"IFERROR(VLOOKUP(G26536,Discounts!C:E,3,0),0)","v":0},{"v":556.2,"d":"€556.20"}]
["Auto",202470,202580,1,"Normal",{"v":309.09,"d":"€309.09"},"P109",{"$f":"IFERROR(VLOOKUP(G26537,Discounts!C:E,3,0),0)","v":0},{"v":309.09,"d":"€309.09"}]
["Auto",202480,105730,1,"Normal",{"v":84.75,"d":"€84.75"},"LUXE",{"$f":"IFERROR(VLOOKUP(G26538,Discounts!C:E,3,0),0)","v":0},{"v":84.75,"d":"€84.75"}]
["Auto",202480,202450,1,"Normal",{"v":556.2,"d":"€556.20"},"B015",{"$f":"IFERROR(VLOOKUP(G26539,Discounts!C:E,3,0),0)","v":0},{"v":556.2,"d":"€556.20"}]
["Auto",202480,202590,1,"Normal",{"v":362.81,"d":"€362.81"},"P109",{"$f":"IFERROR(VLOOKUP(G26540,Discounts!C:E,3,0),0)","v":0},{"v":362.81,"d":"€362.81"}]
["Auto",202490,105730,1,"Normal",{"v":84.75,"d":"€84.75"},"LUXE",{"$f":"IFERROR(VLOOKUP(G26541,Discounts!C:E,3,0),0)","v":0},{"v":84.75,"d":"€84.75"}]
["Auto",202490,202450,1,"Normal",{"v":556.2,"d":"€556.20"},"B015",{"$f":"IFERROR(VLOOKUP(G26542,Discounts!C:E,3,0),0)","v":0},{"v":556.2,"d":"€556.20"}]
["Auto",202490,202600,1,"Normal",{"v":362.81,"d":"€362.81"},"P109",{"$f":"IFERROR(VLOOKUP(G26543,Discounts!C:E,3,0),0)","v":0},{"v":362.81,"d":"€362.81"}]
["Auto",202500,105730,1,"Normal",{"v":84.75,"d":"€84.75"},"LUXE",{"$f":"IFERROR(VLOOKUP(G26544,Discounts!C:E,3,0),0)","v":0},{"v":84.75,"d":"€84.75"}]
["Auto",202500,202450,1,"Normal",{"v":556.2,"d":"€556.20"},"B015",{"$f":"IFERROR(VLOOKUP(G26545,Discounts!C:E,3,0),0)","v":0},{"v":556.2,"d":"€556.20"}]
["Auto",202500,202610,1,"Normal",{"v":451.24,"d":"€451.24"},"P109",{"$f":"IFERROR(VLOOKUP(G26546,Discounts!C:E,3,0),0)","v":0},{"v":451.24,"d":"€451.24"}]
["Auto",202510,106730,1,"Normal",{"v":12.4,"d":"€12.40"},"LUXE",{"$f":"IFERROR(VLOOKUP(G26547,Discounts!C:E,3,0),0)","v":0},{"v":12.4,"d":"€12.40"}]
["Auto",202510,202450,1,"Normal",{"v":556.2,"d":"€556.20"},"B015",{"$f":"IFERROR(VLOOKUP(G26548,Discounts!C:E,3,0),0)","v":0},{"v":556.2,"d":"€556.20"}]
["Auto",202520,105730,1,"Normal",{"v":84.75,"d":"€84.75"},"LUXE",{"$f":"IFERROR(VLOOKUP(G26549,Discounts!C:E,3,0),0)","v":0},{"v":84.75,"d":"€84.75"}]
["Auto",202520,202510,1,"Combination",{"v":568.6,"d":"€568.60"},"B015",{"$f":"IFERROR(VLOOKUP(G26550,Discounts!C:E,3,0),0)","v":0},{"v":568.6,"d":"€568.60"}]
["Auto",202520,202570,1,"Normal",{"v":192.56,"d":"€192.56"},"P109",{"$f":"IFERROR(VLOOKUP(G26551,Discounts!C:E,3,0),0)","v":0},{"v":192.56,"d":"€192.56"}]
["Auto",202530,105730,1,"Normal",{"v":84.75,"d":"€84.75"},"LUXE",{"$f":"IFERROR(VLOOKUP(G26552,Discounts!C:E,3,0),0)","v":0},{"v":84.75,"d":"€84.75"}]
["Auto",202530,202510,1,"Combination",{"v":568.6,"d":"€568.60"},"B015",{"$f":"IFERROR(VLOOKUP(G26553,Discounts!C:E,3,0),0)","v":0},{"v":568.6,"d":"€568.60"}]
["Auto",202530,202580,1,"Normal",{"v":309.09,"d":"€309.09"},"P109",{"$f":"IFERROR(VLOOKUP(G26554,Discounts!C:E,3,0),0)","v":0},{"v":309.09,"d":"€309.09"}]
["Auto",202540,105730,1,"Normal",{"v":84.75,"d":"€84.75"},"LUXE",{"$f":"IFERROR(VLOOKUP(G26555,Discounts!C:E,3,0),0)","v":0},{"v":84.75,"d":"€84.75"}]
["Auto",202540,202510,1,"Combination",{"v":568.6,"d":"€568.60"},"B015",{"$f":"IFERROR(VLOOKUP(G26556,Discounts!C:E,3,0),0)","v":0},{"v":568.6,"d":"€568.60"}]
["Auto",202540,202590,1,"Normal",{"v":362.81,"d":"€362.81"},"P109",{"$f":"IFERROR(VLOOKUP(G26557,Discounts!C:E,3,0),0)","v":0},{"v":362.81,"d":"€362.81"}]
["Auto",202550,105730,1,"Normal",{"v":84.75,"d":"€84.75"},"LUXE",{"$f":"IFERROR(VLOOKUP(G26558,Discounts!C:E,3,0),0)","v":0},{"v":84.75,"d":"€84.75"}]
["Auto",202550,202510,1,"Combination",{"v":568.6,"d":"€568.60"},"B015",{"$f":"IFERROR(VLOOKUP(G26559,Discounts!C:E,3,0),0)","v":0},{"v":568.6,"d":"€568.60"}]
["Auto",202550,202600,1,"Normal",{"v":362.81,"d":"€362.81"},"P109",{"$f":"IFERROR(VLOOKUP(G26560,Discounts!C:E,3,0),0)","v":0},{"v":362.81,"d":"€362.81"}]
["Auto",202560,105730,1,"Normal",{"v":84.75,"d":"€84.75"},"LUXE",{"$f":"IFERROR(VLOOKUP(G26561,Discounts!C:E,3,0),0)","v":0},{"v":84.75,"d":"€84.75"}]
["Auto",202560,202510,1,"Combination",{"v":568.6,"d":"€568.60"},"B015",{"$f":"IFERROR(VLOOKUP(G26562,Discounts!C:E,3,0),0)","v":0},{"v":568.6,"d":"€568.60"}]
["Auto",202560,202610,1,"Normal",{"v":451.24,"d":"€451.24"},"P109",{"$f":"IFERROR(VLOOKUP(G26563,Discounts!C:E,3,0),0)","v":0},{"$f":"IF(E26563=\"Normal\",F26563*(1-H26563),SUMIF(B:B,C26563,I:I)*D26563)","v":{"v":451.24,"d":"€451.24"}}]
["Auto",202630,105710,1,"Normal",{"v":73.57,"d":"€73.57"},"LUXE",{"$f":"IFERROR(VLOOKUP(G26564,Discounts!C:E,3,0),0)","v":0},{"v":73.57,"d":"€73.57"}]
["Auto",202630,202620,1,"Normal",{"v":504.13,"d":"€504.13"},"B015",{"$f":"IFERROR(VLOOKUP(G26565,Discounts!C:E,3,0),0)","v":0},{"v":504.13,"d":"€504.13"}]
["Auto",202630,202740,1,"Normal",{"v":192.56,"d":"€192.56"},"P109",{"$f":"IFERROR(VLOOKUP(G26566,Discounts!C:E,3,0),0)","v":0},{"v":192.56,"d":"€192.56"}]
["Auto",202640,105710,1,"Normal",{"v":73.57,"d":"€73.57"},"LUXE",{"$f":"IFERROR(VLOOKUP(G26567,Discounts!C:E,3,0),0)","v":0},{"v":73.57,"d":"€73.57"}]
["Auto",202640,202620,1,"Normal",{"v":504.13,"d":"€504.13"},"B015",{"$f":"IFERROR(VLOOKUP(G26568,Discounts!C:E,3,0),0)","v":0},{"v":504.13,"d":"€504.13"}]
["Auto",202640,202750,1,"Normal",{"v":309.09,"d":"€309.09"},"P109",{"$f":"IFERROR(VLOOKUP(G26569,Discounts!C:E,3,0),0)","v":0},{"v":309.09,"d":"€309.09"}]
["Auto",202650,105710,1,"Normal",{"v":73.57,"d":"€73.57"},"LUXE",{"$f":"IFERROR(VLOOKUP(G26570,Discounts!C:E,3,0),0)","v":0},{"v":73.57,"d":"€73.57"}]
["Auto",202650,202620,1,"Normal",{"v":504.13,"d":"€504.13"},"B015",{"$f":"IFERROR(VLOOKUP(G26571,Discounts!C:E,3,0),0)","v":0},{"v":504.13,"d":"€504.13"}]
["Auto",202650,202760,1,"Normal",{"v":362.81,"d":"€362.81"},"P109",{"$f":"IFERROR(VLOOKUP(G26572,Discounts!C:E,3,0),0)","v":0},{"v":362.81,"d":"€362.81"}]
["Auto",202660,105710,1,"Normal",{"v":73.57,"d":"€73.57"},"LUXE",{"$f":"IFERROR(VLOOKUP(G26573,Discounts!C:E,3,0),0)","v":0},{"v":73.57,"d":"€73.57"}]
["Auto",202660,202620,1,"Normal",{"v":504.13,"d":"€504.13"},"B015",{"$f":"IFERROR(VLOOKUP(G26574,Discounts!C:E,3,0),0)","v":0},{"v":504.13,"d":"€504.13"}]
["Auto",202660,202770,1,"Normal",{"v":362.81,"d":"€362.81"},"P109",{"$f":"IFERROR(VLOOKUP(G26575,Discounts!C:E,3,0),0)","v":0},{"v":362.81,"d":"€362.81"}]
["Auto",202670,105710,1,"Normal",{"v":73.57,"d":"€73.57"},"LUXE",{"$f":"IFERROR(VLOOKUP(G26576,Discounts!C:E,3,0),0)","v":0},{"v":73.57,"d":"€73.57"}]
["Auto",202670,202620,1,"Normal",{"v":504.13,"d":"€504.13"},"B015",{"$f":"IFERROR(VLOOKUP(G26577,Discounts!C:E,3,0),0)","v":0},{"v":504.13,"d":"€504.13"}]
["Auto",202670,202780,1,"Normal",{"v":451.24,"d":"€451.24"},"P109",{"$f":"IFERROR(VLOOKUP(G26578,Discounts!C:E,3,0),0)","v":0},{"v":451.24,"d":"€451.24"}]
["Auto",202680,106730,1,"Normal",{"v":12.4,"d":"€12.40"},"LUXE",{"$f":"IFERROR(VLOOKUP(G26579,Discounts!C:E,3,0),0)","v":0},{"v":12.4,"d":"€12.40"}]
["Auto",202680,202620,1,"Normal",{"v":504.13,"d":"€504.13"},"B015",{"$f":"IFERROR(VLOOKUP(G26580,Discounts!C:E,3,0),0)","v":0},{"v":504.13,"d":"€504.13"}]
["Auto",202690,105710,1,"Normal",{"v":73.57,"d":"€73.57"},"LUXE",{"$f":"IFERROR(VLOOKUP(G26581,Discounts!C:E,3,0),0)","v":0},{"v":73.57,"d":"€73.57"}]
["Auto",202690,202680,1,"Combination",{"v":516.53,"d":"€516.53"},"B015",{"$f":"IFERROR(VLOOKUP(G26582,Discounts!C:E,3,0),0)","v":0},{"v":516.53,"d":"€516.53"}]
["Auto",202690,202740,1,"Normal",{"v":192.56,"d":"€192.56"},"P109",{"$f":"IFERROR(VLOOKUP(G26583,Discounts!C:E,3,0),0)","v":0},{"v":192.56,"d":"€192.56"}]
["Auto",202700,105710,1,"Normal",{"v":73.57,"d":"€73.57"},"LUXE",{"$f":"IFERROR(VLOOKUP(G26584,Discounts!C:E,3,0),0)","v":0},{"v":73.57,"d":"€73.57"}]
["Auto",202700,202680,1,"Combination",{"v":516.53,"d":"€516.53"},"B015",{"$f":"IFERROR(VLOOKUP(G26585,Discounts!C:E,3,0),0)","v":0},{"v":516.53,"d":"€516.53"}]
["Auto",202700,202750,1,"Normal",{"v":309.09,"d":"€309.09"},"P109",{"$f":"IFERROR(VLOOKUP(G26586,Discounts!C:E,3,0),0)","v":0},{"v":309.09,"d":"€309.09"}]
["Auto",202710,105710,1,"Normal",{"v":73.57,"d":"€73.57"},"LUXE",{"$f":"IFERROR(VLOOKUP(G26587,Discounts!C:E,3,0),0)","v":0},{"v":73.57,"d":"€73.57"}]
["Auto",202710,202680,1,"Combination",{"v":516.53,"d":"€516.53"},"B015",{"$f":"IFERROR(VLOOKUP(G26588,Discounts!C:E,3,0),0)","v":0},{"v":516.53,"d":"€516.53"}]
["Auto",202710,202760,1,"Normal",{"v":362.81,"d":"€362.81"},"P109",{"$f":"IFERROR(VLOOKUP(G26589,Discounts!C:E,3,0),0)","v":0},{"v":362.81,"d":"€362.81"}]
["Auto",202720,105710,1,"Normal",{"v":73.57,"d":"€73.57"},"LUXE",{"$f":"IFERROR(VLOOKUP(G26590,Discounts!C:E,3,0),0)","v":0},{"v":73.57,"d":"€73.57"}]
["Auto",202720,202680,1,"Combination",{"v":516.53,"d":"€516.53"},"B015",{"$f":"IFERROR(VLOOKUP(G26591,Discounts!C:E,3,0),0)","v":0},{"v":516.53,"d":"€516.53"}]
["Auto",202720,202770,1,"Normal",{"v":362.81,"d":"€362.81"},"P109",{"$f":"IFERROR(VLOOKUP(G26592,Discounts!C:E,3,0),0)","v":0},{"v":362.81,"d":"€362.81"}]
["Auto",202730,105710,1,"Normal",{"v":73.57,"d":"€73.57"},"LUXE",{"$f":"IFERROR(VLOOKUP(G26593,Discounts!C:E,3,0),0)","v":0},{"v":73.57,"d":"€73.57"}]
["Auto",202730,202680,1,"Combination",{"v":516.53,"d":"€516.53"},"B015",{"$f":"IFERROR(VLOOKUP(G26594,Discounts!C:E,3,0),0)","v":0},{"v":516.53,"d":"€516.53"}]
["Auto",202730,202780,1,"Normal",{"v":451.24,"d":"€451.24"},"P109",{"$f":"IFERROR(VLOOKUP(G26595,Discounts!C:E,3,0),0)","v":0},{"v":451.24,"d":"€451.24"}]
["Auto",202800,105750,1,"Normal",{"v":101.52,"d":"€101.52"},"LUXE",{"$f":"IFERROR(VLOOKUP(G26596,Discounts!C:E,3,0),0)","v":0},{"v":101.52,"d":"€101.52"}]
["Auto",202800,202790,1,"Normal",{"v":676.03,"d":"€676.03"},"B015",{"$f":"IFERROR(VLOOKUP(G26597,Discounts!C:E,3,0),0)","v":0},{"v":676.03,"d":"€676.03"}]
["Auto",202800,202910,1,"Normal",{"v":192.56,"d":"€192.56"},"P109",{"$f":"IFERROR(VLOOKUP(G26598,Discounts!C:E,3,0),0)","v":0},{"v":192.56,"d":"€192.56"}]
["Auto",202810,105750,1,"Normal",{"v":101.52,"d":"€101.52"},"LUXE",{"$f":"IFERROR(VLOOKUP(G26599,Discounts!C:E,3,0),0)","v":0},{"v":101.52,"d":"€101.52"}]
["Auto",202810,202790,1,"Normal",{"v":676.03,"d":"€676.03"},"B015",{"$f":"IFERROR(VLOOKUP(G26600,Discounts!C:E,3,0),0)","v":0},{"v":676.03,"d":"€676.03"}]
["Auto",202810,202920,1,"Normal",{"v":309.09,"d":"€309.09"},"P109",{"$f":"IFERROR(VLOOKUP(G26601,Discounts!C:E,3,0),0)","v":0},{"v":309.09,"d":"€309.09"}]
["Auto",202820,105750,1,"Normal",{"v":101.52,"d":"€101.52"},"LUXE",{"$f":"IFERROR(VLOOKUP(G26602,Discounts!C:E,3,0),0)","v":0},{"v":101.52,"d":"€101.52"}]
["Auto",202820,202790,1,"Normal",{"v":676.03,"d":"€676.03"},"B015",{"$f":"IFERROR(VLOOKUP(G26603,Discounts!C:E,3,0),0)","v":0},{"v":676.03,"d":"€676.03"}]
["Auto",202820,202930,1,"Normal",{"v":362.81,"d":"€362.81"},"P109",{"$f":"IFERROR(VLOOKUP(G26604,Discounts!C:E,3,0),0)","v":0},{"v":362.81,"d":"€362.81"}]
["Auto",202830,105750,1,"Normal",{"v":101.52,"d":"€101.52"},"LUXE",{"$f":"IFERROR(VLOOKUP(G26605,Discounts!C:E,3,0),0)","v":0},{"v":101.52,"d":"€101.52"}]
["Auto",202830,202790,1,"Normal",{"v":676.03,"d":"€676.03"},"B015",{"$f":"IFERROR(VLOOKUP(G26606,Discounts!C:E,3,0),0)","v":0},{"v":676.03,"d":"€676.03"}]
["Auto",202830,202940,1,"Normal",{"v":362.81,"d":"€362.81"},"P109",{"$f":"IFERROR(VLOOKUP(G26607,Discounts!C:E,3,0),0)","v":0},{"v":362.81,"d":"€362.81"}]
["Auto",202840,105750,1,"Normal",{"v":101.52,"d":"€101.52"},"LUXE",{"$f":"IFERROR(VLOOKUP(G26608,Discounts!C:E,3,0),0)","v":0},{"v":101.52,"d":"€101.52"}]
["Auto",202840,202790,1,"Normal",{"v":676.03,"d":"€676.03"},"B015",{"$f":"IFERROR(VLOOKUP(G26609,Discounts!C:E,3,0),0)","v":0},{"v":676.03,"d":"€676.03"}]
["Auto",202840,202950,1,"Normal",{"v":451.24,"d":"€451.24"},"P109",{"$f":"IFERROR(VLOOKUP(G26610,Discounts!C:E,3,0),0)","v":0},{"v":451.24,"d":"€451.24"}]
["Auto",202850,106730,1,"Normal",{"v":12.4,"d":"€12.40"},"LUXE",{"$f":"IFERROR(VLOOKUP(G26611,Discounts!C:E,3,0),0)","v":0},{"v":12.4,"d":"€12.40"}]
["Auto",202850,202790,1,"Normal",{"v":676.03,"d":"€676.03"},"B015",{"$f":"IFERROR(VLOOKUP(G26612,Discounts!C:E,3,0),0)","v":0},{"v":676.03,"d":"€676.03"}]
["Auto",202860,105750,1,"Normal",{"v":101.52,"d":"€101.52"},"LUXE",{"$f":"IFERROR(VLOOKUP(G26613,Discounts!C:E,3,0),0)","v":0},{"v":101.52,"d":"€101.52"}]
["Auto",202860,202850,1,"Combination",{"v":688.43,"d":"€688.43"},"B015",{"$f":"IFERROR(VLOOKUP(G26614,Discounts!C:E,3,0),0)","v":0},{"v":688.43,"d":"€688.43"}]
["Auto",202860,202910,1,"Normal",{"v":192.56,"d":"€192.56"},"P109",{"$f":"IFERROR(VLOOKUP(G26615,Discounts!C:E,3,0),0)","v":0},{"v":192.56,"d":"€192.56"}]
["Auto",202870,105750,1,"Normal",{"v":101.52,"d":"€101.52"},"LUXE",{"$f":"IFERROR(VLOOKUP(G26616,Discounts!C:E,3,0),0)","v":0},{"v":101.52,"d":"€101.52"}]
["Auto",202870,202850,1,"Combination",{"v":688.43,"d":"€688.43"},"B015",{"$f":"IFERROR(VLOOKUP(G26617,Discounts!C:E,3,0),0)","v":0},{"v":688.43,"d":"€688.43"}]
["Auto",202870,202920,1,"Normal",{"v":309.09,"d":"€309.09"},"P109",{"$f":"IFERROR(VLOOKUP(G26618,Discounts!C:E,3,0),0)","v":0},{"v":309.09,"d":"€309.09"}]
["Auto",202880,105750,1,"Normal",{"v":101.52,"d":"€101.52"},"LUXE",{"$f":"IFERROR(VLOOKUP(G26619,Discounts!C:E,3,0),0)","v":0},{"v":101.52,"d":"€101.52"}]
["Auto",202880,202850,1,"Combination",{"v":688.43,"d":"€688.43"},"B015",{"$f":"IFERROR(VLOOKUP(G26620,Discounts!C:E,3,0),0)","v":0},{"v":688.43,"d":"€688.43"}]
["Auto",202880,202930,1,"Normal",{"v":362.81,"d":"€362.81"},"P109",{"$f":"IFERROR(VLOOKUP(G26621,Discounts!C:E,3,0),0)","v":0},{"v":362.81,"d":"€362.81"}]
["Auto",202890,105750,1,"Normal",{"v":101.52,"d":"€101.52"},"LUXE",{"$f":"IFERROR(VLOOKUP(G26622,Discounts!C:E,3,0),0)","v":0},{"v":101.52,"d":"€101.52"}]
["Auto",202890,202850,1,"Combination",{"v":688.43,"d":"€688.43"},"B015",{"$f":"IFERROR(VLOOKUP(G26623,Discounts!C:E,3,0),0)","v":0},{"v":688.43,"d":"€688.43"}]
["Auto",202890,202940,1,"Normal",{"v":362.81,"d":"€362.81"},"P109",{"$f":"IFERROR(VLOOKUP(G26624,Discounts!C:E,3,0),0)","v":0},{"v":362.81,"d":"€362.81"}]
["Auto",202900,105750,1,"Normal",{"v":101.52,"d":"€101.52"},"LUXE",{"$f":"IFERROR(VLOOKUP(G26625,Discounts!C:E,3,0),0)","v":0},{"v":101.52,"d":"€101.52"}]
["Auto",202900,202850,1,"Combination",{"v":688.43,"d":"€688.43"},"B015",{"$f":"IFERROR(VLOOKUP(G26626,Discounts!C:E,3,0),0)","v":0},{"v":688.43,"d":"€688.43"}]
["Auto",202900,202950,1,"Normal",{"v":451.24,"d":"€451.24"},"P109",{"$f":"IFERROR(VLOOKUP(G26627,Discounts!C:E,3,0),0)","v":0},{"$f":"IF(E26627=\"Normal\",F26627*(1-H26627),SUMIF(B:B,C26627,I:I)*D26627)","v":{"v":451.24,"d":"€451.24"}}]
["Auto",202970,105740,1,"Normal",{"v":95.93,"d":"€95.93"},"LUXE",{"$f":"IFERROR(VLOOKUP(G26628,Discounts!C:E,3,0),0)","v":0},{"v":95.93,"d":"€95.93"}]
["Auto",202970,202960,1,"Normal",{"v":632.23,"d":"€632.23"},"B015",{"$f":"IFERROR(VLOOKUP(G26629,Discounts!C:E,3,0),0)","v":0},{"v":632.23,"d":"€632.23"}]
["Auto",202970,203080,1,"Normal",{"v":192.56,"d":"€192.56"},"P109",{"$f":"IFERROR(VLOOKUP(G26630,Discounts!C:E,3,0),0)","v":0},{"v":192.56,"d":"€192.56"}]
["Auto",202980,105740,1,"Normal",{"v":95.93,"d":"€95.93"},"LUXE",{"$f":"IFERROR(VLOOKUP(G26631,Discounts!C:E,3,0),0)","v":0},{"v":95.93,"d":"€95.93"}]
["Auto",202980,202960,1,"Normal",{"v":632.23,"d":"€632.23"},"B015",{"$f":"IFERROR(VLOOKUP(G26632,Discounts!C:E,3,0),0)","v":0},{"v":632.23,"d":"€632.23"}]
["Auto",202980,203090,1,"Normal",{"v":309.09,"d":"€309.09"},"P109",{"$f":"IFERROR(VLOOKUP(G26633,Discounts!C:E,3,0),0)","v":0},{"v":309.09,"d":"€309.09"}]
["Auto",202990,105740,1,"Normal",{"v":95.93,"d":"€95.93"},"LUXE",{"$f":"IFERROR(VLOOKUP(G26634,Discounts!C:E,3,0),0)","v":0},{"v":95.93,"d":"€95.93"}]
["Auto",202990,202960,1,"Normal",{"v":632.23,"d":"€632.23"},"B015",{"$f":"IFERROR(VLOOKUP(G26635,Discounts!C:E,3,0),0)","v":0},{"v":632.23,"d":"€632.23"}]
["Auto",202990,203100,1,"Normal",{"v":362.81,"d":"€362.81"},"P109",{"$f":"IFERROR(VLOOKUP(G26636,Discounts!C:E,3,0),0)","v":0},{"v":362.81,"d":"€362.81"}]
["Auto",203000,105740,1,"Normal",{"v":95.93,"d":"€95.93"},"LUXE",{"$f":"IFERROR(VLOOKUP(G26637,Discounts!C:E,3,0),0)","v":0},{"v":95.93,"d":"€95.93"}]
["Auto",203000,202960,1,"Normal",{"v":632.23,"d":"€632.23"},"B015",{"$f":"IFERROR(VLOOKUP(G26638,Discounts!C:E,3,0),0)","v":0},{"v":632.23,"d":"€632.23"}]
["Auto",203000,203110,1,"Normal",{"v":362.81,"d":"€362.81"},"P109",{"$f":"IFERROR(VLOOKUP(G26639,Discounts!C:E,3,0),0)","v":0},{"v":362.81,"d":"€362.81"}]
["Auto",203010,105740,1,"Normal",{"v":95.93,"d":"€95.93"},"LUXE",{"$f":"IFERROR(VLOOKUP(G26640,Discounts!C:E,3,0),0)","v":0},{"v":95.93,"d":"€95.93"}]
["Auto",203010,202960,1,"Normal",{"v":632.23,"d":"€632.23"},"B015",{"$f":"IFERROR(VLOOKUP(G26641,Discounts!C:E,3,0),0)","v":0},{"v":632.23,"d":"€632.23"}]
["Auto",203010,203120,1,"Normal",{"v":451.24,"d":"€451.24"},"P109",{"$f":"IFERROR(VLOOKUP(G26642,Discounts!C:E,3,0),0)","v":0},{"v":451.24,"d":"€451.24"}]
["Auto",203020,106730,1,"Normal",{"v":12.4,"d":"€12.40"},"LUXE",{"$f":"IFERROR(VLOOKUP(G26643,Discounts!C:E,3,0),0)","v":0},{"v":12.4,"d":"€12.40"}]
["Auto",203020,202960,1,"Normal",{"v":632.23,"d":"€632.23"},"B015",{"$f":"IFERROR(VLOOKUP(G26644,Discounts!C:E,3,0),0)","v":0},{"v":632.23,"d":"€632.23"}]
["Auto",203030,105740,1,"Normal",{"v":95.93,"d":"€95.93"},"LUXE",{"$f":"IFERROR(VLOOKUP(G26645,Discounts!C:E,3,0),0)","v":0},{"v":95.93,"d":"€95.93"}]
["Auto",203030,203020,1,"Combination",{"v":644.63,"d":"€644.63"},"B015",{"$f":"IFERROR(VLOOKUP(G26646,Discounts!C:E,3,0),0)","v":0},{"v":644.63,"d":"€644.63"}]
["Auto",203030,203080,1,"Normal",{"v":192.56,"d":"€192.56"},"P109",{"$f":"IFERROR(VLOOKUP(G26647,Discounts!C:E,3,0),0)","v":0},{"v":192.56,"d":"€192.56"}]
["Auto",203040,105740,1,"Normal",{"v":95.93,"d":"€95.93"},"LUXE",{"$f":"IFERROR(VLOOKUP(G26648,Discounts!C:E,3,0),0)","v":0},{"v":95.93,"d":"€95.93"}]
["Auto",203040,203020,1,"Combination",{"v":644.63,"d":"€644.63"},"B015",{"$f":"IFERROR(VLOOKUP(G26649,Discounts!C:E,3,0),0)","v":0},{"v":644.63,"d":"€644.63"}]
["Auto",203040,203090,1,"Normal",{"v":309.09,"d":"€309.09"},"P109",{"$f":"IFERROR(VLOOKUP(G26650,Discounts!C:E,3,0),0)","v":0},{"v":309.09,"d":"€309.09"}]
["Auto",203050,105740,1,"Normal",{"v":95.93,"d":"€95.93"},"LUXE",{"$f":"IFERROR(VLOOKUP(G26651,Discounts!C:E,3,0),0)","v":0},{"v":95.93,"d":"€95.93"}]
["Auto",203050,203020,1,"Combination",{"v":644.63,"d":"€644.63"},"B015",{"$f":"IFERROR(VLOOKUP(G26652,Discounts!C:E,3,0),0)","v":0},{"v":644.63,"d":"€644.63"}]
["Auto",203050,203100,1,"Normal",{"v":362.81,"d":"€362.81"},"P109",{"$f":"IFERROR(VLOOKUP(G26653,Discounts!C:E,3,0),0)","v":0},{"v":362.81,"d":"€362.81"}]
["Auto",203060,105740,1,"Normal",{"v":95.93,"d":"€95.93"},"LUXE",{"$f":"IFERROR(VLOOKUP(G26654,Discounts!C:E,3,0),0)","v":0},{"v":95.93,"d":"€95.93"}]
["Auto",203060,203020,1,"Combination",{"v":644.63,"d":"€644.63"},"B015",{"$f":"IFERROR(VLOOKUP(G26655,Discounts!C:E,3,0),0)","v":0},{"v":644.63,"d":"€644.63"}]
["Auto",203060,203110,1,"Normal",{"v":362.81,"d":"€362.81"},"P109",{"$f":"IFERROR(VLOOKUP(G26656,Discounts!C:E,3,0),0)","v":0},{"v":362.81,"d":"€362.81"}]
["Auto",203070,105740,1,"Normal",{"v":95.93,"d":"€95.93"},"LUXE",{"$f":"IFERROR(VLOOKUP(G26657,Discounts!C:E,3,0),0)","v":0},{"v":95.93,"d":"€95.93"}]
["Auto",203070,203020,1,"Combination",{"v":644.63,"d":"€644.63"},"B015",{"$f":"IFERROR(VLOOKUP(G26658,Discounts!C:E,3,0),0)","v":0},{"v":644.63,"d":"€644.63"}]
["Auto",203070,203120,1,"Normal",{"v":451.24,"d":"€451.24"},"P109",{"$f":"IFERROR(VLOOKUP(G26659,Discounts!C:E,3,0),0)","v":0},{"v":451.24,"d":"€451.24"}]
["Auto",203140,105710,1,"Normal",{"v":73.57,"d":"€73.57"},"LUXE",{"$f":"IFERROR(VLOOKUP(G26660,Discounts!C:E,3,0),0)","v":0},{"v":73.57,"d":"€73.57"}]
["Auto",203140,203130,1,"Normal",{"v":519.83,"d":"€519.83"},"B015",{"$f":"IFERROR(VLOOKUP(G26661,Discounts!C:E,3,0),0)","v":0},{"v":519.83,"d":"€519.83"}]
["Auto",203140,203190,1,"Normal",{"v":192.56,"d":"€192.56"},"P109",{"$f":"IFERROR(VLOOKUP(G26662,Discounts!C:E,3,0),0)","v":0},{"v":192.56,"d":"€192.56"}]
["Auto",203150,105710,1,"Normal",{"v":73.57,"d":"€73.57"},"LUXE",{"$f":"IFERROR(VLOOKUP(G26663,Discounts!C:E,3,0),0)","v":0},{"v":73.57,"d":"€73.57"}]
["Auto",203150,203130,1,"Normal",{"v":519.83,"d":"€519.83"},"B015",{"$f":"IFERROR(VLOOKUP(G26664,Discounts!C:E,3,0),0)","v":0},{"v":519.83,"d":"€519.83"}]
["Auto",203150,203200,1,"Normal",{"v":309.09,"d":"€309.09"},"P109",{"$f":"IFERROR(VLOOKUP(G26665,Discounts!C:E,3,0),0)","v":0},{"v":309.09,"d":"€309.09"}]
["Auto",203160,105710,1,"Normal",{"v":73.57,"d":"€73.57"},"LUXE",{"$f":"IFERROR(VLOOKUP(G26666,Discounts!C:E,3,0),0)","v":0},{"v":73.57,"d":"€73.57"}]
["Auto",203160,203130,1,"Normal",{"v":519.83,"d":"€519.83"},"B015",{"$f":"IFERROR(VLOOKUP(G26667,Discounts!C:E,3,0),0)","v":0},{"v":519.83,"d":"€519.83"}]
["Auto",203160,203210,1,"Normal",{"v":362.81,"d":"€362.81"},"P109",{"$f":"IFERROR(VLOOKUP(G26668,Discounts!C:E,3,0),0)","v":0},{"v":362.81,"d":"€362.81"}]
["Auto",203170,105710,1,"Normal",{"v":73.57,"d":"€73.57"},"LUXE",{"$f":"IFERROR(VLOOKUP(G26669,Discounts!C:E,3,0),0)","v":0},{"v":73.57,"d":"€73.57"}]
["Auto",203170,203130,1,"Normal",{"v":519.83,"d":"€519.83"},"B015",{"$f":"IFERROR(VLOOKUP(G26670,Discounts!C:E,3,0),0)","v":0},{"v":519.83,"d":"€519.83"}]
["Auto",203170,203220,1,"Normal",{"v":362.81,"d":"€362.81"},"P109",{"$f":"IFERROR(VLOOKUP(G26671,Discounts!C:E,3,0),0)","v":0},{"v":362.81,"d":"€362.81"}]
["Auto",203180,105710,1,"Normal",{"v":73.57,"d":"€73.57"},"LUXE",{"$f":"IFERROR(VLOOKUP(G26672,Discounts!C:E,3,0),0)","v":0},{"v":73.57,"d":"€73.57"}]
["Auto",203180,203130,1,"Normal",{"v":519.83,"d":"€519.83"},"B015",{"$f":"IFERROR(VLOOKUP(G26673,Discounts!C:E,3,0),0)","v":0},{"v":519.83,"d":"€519.83"}]
["Auto",203180,203230,1,"Normal",{"v":451.24,"d":"€451.24"},"P109",{"$f":"IFERROR(VLOOKUP(G26674,Discounts!C:E,3,0),0)","v":0},{"v":451.24,"d":"€451.24"}]
["Auto",203250,105720,1,"Normal",{"v":79.16,"d":"€79.16"},"LUXE",{"$f":"IFERROR(VLOOKUP(G26675,Discounts!C:E,3,0),0)","v":0},{"v":79.16,"d":"€79.16"}]
["Auto",203250,203240,1,"Normal",{"v":586.78,"d":"€586.78"},"B015",{"$f":"IFERROR(VLOOKUP(G26676,Discounts!C:E,3,0),0)","v":0},{"v":586.78,"d":"€586.78"}]
["Auto",203250,203300,1,"Normal",{"v":192.56,"d":"€192.56"},"P109",{"$f":"IFERROR(VLOOKUP(G26677,Discounts!C:E,3,0),0)","v":0},{"v":192.56,"d":"€192.56"}]
["Auto",203260,105720,1,"Normal",{"v":79.16,"d":"€79.16"},"LUXE",{"$f":"IFERROR(VLOOKUP(G26678,Discounts!C:E,3,0),0)","v":0},{"v":79.16,"d":"€79.16"}]
["Auto",203260,203240,1,"Normal",{"v":586.78,"d":"€586.78"},"B015",{"$f":"IFERROR(VLOOKUP(G26679,Discounts!C:E,3,0),0)","v":0},{"v":586.78,"d":"€586.78"}]
["Auto",203260,203310,1,"Normal",{"v":309.09,"d":"€309.09"},"P109",{"$f":"IFERROR(VLOOKUP(G26680,Discounts!C:E,3,0),0)","v":0},{"v":309.09,"d":"€309.09"}]
["Auto",203270,105720,1,"Normal",{"v":79.16,"d":"€79.16"},"LUXE",{"$f":"IFERROR(VLOOKUP(G26681,Discounts!C:E,3,0),0)","v":0},{"v":79.16,"d":"€79.16"}]
["Auto",203270,203240,1,"Normal",{"v":586.78,"d":"€586.78"},"B015",{"$f":"IFERROR(VLOOKUP(G26682,Discounts!C:E,3,0),0)","v":0},{"v":586.78,"d":"€586.78"}]
["Auto",203270,203320,1,"Normal",{"v":362.81,"d":"€362.81"},"P109",{"$f":"IFERROR(VLOOKUP(G26683,Discounts!C:E,3,0),0)","v":0},{"v":362.81,"d":"€362.81"}]
["Auto",203280,105720,1,"Normal",{"v":79.16,"d":"€79.16"},"LUXE",{"$f":"IFERROR(VLOOKUP(G26684,Discounts!C:E,3,0),0)","v":0},{"v":79.16,"d":"€79.16"}]
["Auto",203280,203240,1,"Normal",{"v":586.78,"d":"€586.78"},"B015",{"$f":"IFERROR(VLOOKUP(G26685,Discounts!C:E,3,0),0)","v":0},{"v":586.78,"d":"€586.78"}]
["Auto",203280,203330,1,"Normal",{"v":362.81,"d":"€362.81"},"P109",{"$f":"IFERROR(VLOOKUP(G26686,Discounts!C:E,3,0),0)","v":0},{"v":362.81,"d":"€362.81"}]
["Auto",203290,105720,1,"Normal",{"v":79.16,"d":"€79.16"},"LUXE",{"$f":"IFERROR(VLOOKUP(G26687,Discounts!C:E,3,0),0)","v":0},{"v":79.16,"d":"€79.16"}]
["Auto",203290,203240,1,"Normal",{"v":586.78,"d":"€586.78"},"B015",{"$f":"IFERROR(VLOOKUP(G26688,Discounts!C:E,3,0),0)","v":0},{"v":586.78,"d":"€586.78"}]
["Auto",203290,203340,1,"Normal",{"v":451.24,"d":"€451.24"},"P109",{"$f":"IFERROR(VLOOKUP(G26689,Discounts!C:E,3,0),0)","v":0},{"v":451.24,"d":"€451.24"}]
["Auto",203360,105750,1,"Normal",{"v":101.52,"d":"€101.52"},"LUXE",{"$f":"IFERROR(VLOOKUP(G26690,Discounts!C:E,3,0),0)","v":0},{"v":101.52,"d":"€101.52"}]
["Auto",203360,203350,1,"Normal",{"v":676.03,"d":"€676.03"},"B015",{"$f":"IFERROR(VLOOKUP(G26691,Discounts!C:E,3,0),0)","v":0},{"$f":"IF(E26691=\"Normal\",F26691*(1-H26691),SUMIF(B:B,C26691,I:I)*D26691)","v":{"v":676.03,"d":"€676.03"}}]
["Auto",203360,203410,1,"Normal",{"v":192.56,"d":"€192.56"},"P109",{"$f":"IFERROR(VLOOKUP(G26692,Discounts!C:E,3,0),0)","v":0},{"v":192.56,"d":"€192.56"}]
["Auto",203370,105750,1,"Normal",{"v":101.52,"d":"€101.52"},"LUXE",{"$f":"IFERROR(VLOOKUP(G26693,Discounts!C:E,3,0),0)","v":0},{"v":101.52,"d":"€101.52"}]
["Auto",203370,203350,1,"Normal",{"v":676.03,"d":"€676.03"},"B015",{"$f":"IFERROR(VLOOKUP(G26694,Discounts!C:E,3,0),0)","v":0},{"v":676.03,"d":"€676.03"}]
["Auto",203370,203420,1,"Normal",{"v":309.09,"d":"€309.09"},"P109",{"$f":"IFERROR(VLOOKUP(G26695,Discounts!C:E,3,0),0)","v":0},{"v":309.09,"d":"€309.09"}]
["Auto",203380,105750,1,"Normal",{"v":101.52,"d":"€101.52"},"LUXE",{"$f":"IFERROR(VLOOKUP(G26696,Discounts!C:E,3,0),0)","v":0},{"v":101.52,"d":"€101.52"}]
["Auto",203380,203350,1,"Normal",{"v":676.03,"d":"€676.03"},"B015",{"$f":"IFERROR(VLOOKUP(G26697,Discounts!C:E,3,0),0)","v":0},{"v":676.03,"d":"€676.03"}]
["Auto",203380,203430,1,"Normal",{"v":362.81,"d":"€362.81"},"P109",{"$f":"IFERROR(VLOOKUP(G26698,Discounts!C:E,3,0),0)","v":0},{"v":362.81,"d":"€362.81"}]
["Auto",203390,105750,1,"Normal",{"v":101.52,"d":"€101.52"},"LUXE",{"$f":"IFERROR(VLOOKUP(G26699,Discounts!C:E,3,0),0)","v":0},{"v":101.52,"d":"€101.52"}]
["Auto",203390,203350,1,"Normal",{"v":676.03,"d":"€676.03"},"B015",{"$f":"IFERROR(VLOOKUP(G26700,Discounts!C:E,3,0),0)","v":0},{"v":676.03,"d":"€676.03"}]
["Auto",203390,203440,1,"Normal",{"v":362.81,"d":"€362.81"},"P109",{"$f":"IFERROR(VLOOKUP(G26701,Discounts!C:E,3,0),0)","v":0},{"v":362.81,"d":"€362.81"}]
["Auto",203400,105750,1,"Normal",{"v":101.52,"d":"€101.52"},"LUXE",{"$f":"IFERROR(VLOOKUP(G26702,Discounts!C:E,3,0),0)","v":0},{"v":101.52,"d":"€101.52"}]
["Auto",203400,203350,1,"Normal",{"v":676.03,"d":"€676.03"},"B015",{"$f":"IFERROR(VLOOKUP(G26703,Discounts!C:E,3,0),0)","v":0},{"v":676.03,"d":"€676.03"}]
["Auto",203400,203450,1,"Normal",{"v":451.24,"d":"€451.24"},"P109",{"$f":"IFERROR(VLOOKUP(G26704,Discounts!C:E,3,0),0)","v":0},{"v":451.24,"d":"€451.24"}]
["Auto",203470,105700,1,"Normal",{"v":67.98,"d":"€67.98"},"LUXE",{"$f":"IFERROR(VLOOKUP(G26705,Discounts!C:E,3,0),0)","v":0},{"v":67.98,"d":"€67.98"}]
["Auto",203470,203460,1,"Normal",{"v":556.2,"d":"€556.20"},"B015",{"$f":"IFERROR(VLOOKUP(G26706,Discounts!C:E,3,0),0)","v":0},{"v":556.2,"d":"€556.20"}]
["Auto",203470,203520,1,"Normal",{"v":144.63,"d":"€144.63"},"P109",{"$f":"IFERROR(VLOOKUP(G26707,Discounts!C:E,3,0),0)","v":0},{"v":144.63,"d":"€144.63"}]
["Auto",203480,105700,1,"Normal",{"v":67.98,"d":"€67.98"},"LUXE",{"$f":"IFERROR(VLOOKUP(G26708,Discounts!C:E,3,0),0)","v":0},{"v":67.98,"d":"€67.98"}]
["Auto",203480,203460,1,"Normal",{"v":556.2,"d":"€556.20"},"B015",{"$f":"IFERROR(VLOOKUP(G26709,Discounts!C:E,3,0),0)","v":0},{"v":556.2,"d":"€556.20"}]
["Auto",203480,203530,1,"Normal",{"v":232.23,"d":"€232.23"},"P109",{"$f":"IFERROR(VLOOKUP(G26710,Discounts!C:E,3,0),0)","v":0},{"v":232.23,"d":"€232.23"}]
["Auto",203490,105700,1,"Normal",{"v":67.98,"d":"€67.98"},"LUXE",{"$f":"IFERROR(VLOOKUP(G26711,Discounts!C:E,3,0),0)","v":0},{"v":67.98,"d":"€67.98"}]
["Auto",203490,203460,1,"Normal",{"v":556.2,"d":"€556.20"},"B015",{"$f":"IFERROR(VLOOKUP(G26712,Discounts!C:E,3,0),0)","v":0},{"v":556.2,"d":"€556.20"}]
["Auto",203490,203540,1,"Normal",{"v":271.9,"d":"€271.90"},"P109",{"$f":"IFERROR(VLOOKUP(G26713,Discounts!C:E,3,0),0)","v":0},{"v":271.9,"d":"€271.90"}]
["Auto",203500,105700,1,"Normal",{"v":67.98,"d":"€67.98"},"LUXE",{"$f":"IFERROR(VLOOKUP(G26714,Discounts!C:E,3,0),0)","v":0},{"v":67.98,"d":"€67.98"}]
["Auto",203500,203460,1,"Normal",{"v":556.2,"d":"€556.20"},"B015",{"$f":"IFERROR(VLOOKUP(G26715,Discounts!C:E,3,0),0)","v":0},{"v":556.2,"d":"€556.20"}]
["Auto",203500,203550,1,"Normal",{"v":271.9,"d":"€271.90"},"P109",{"$f":"IFERROR(VLOOKUP(G26716,Discounts!C:E,3,0),0)","v":0},{"v":271.9,"d":"€271.90"}]
["Auto",203510,105700,1,"Normal",{"v":67.98,"d":"€67.98"},"LUXE",{"$f":"IFERROR(VLOOKUP(G26717,Discounts!C:E,3,0),0)","v":0},{"v":67.98,"d":"€67.98"}]
["Auto",203510,203460,1,"Normal",{"v":556.2,"d":"€556.20"},"B015",{"$f":"IFERROR(VLOOKUP(G26718,Discounts!C:E,3,0),0)","v":0},{"v":556.2,"d":"€556.20"}]
["Auto",203510,203560,1,"Normal",{"v":338.84,"d":"€338.84"},"P109",{"$f":"IFERROR(VLOOKUP(G26719,Discounts!C:E,3,0),0)","v":0},{"v":338.84,"d":"€338.84"}]
["Auto",203580,105710,1,"Normal",{"v":73.57,"d":"€73.57"},"LUXE",{"$f":"IFERROR(VLOOKUP(G26720,Discounts!C:E,3,0),0)","v":0},{"v":73.57,"d":"€73.57"}]
["Auto",203580,203570,1,"Normal",{"v":512.4,"d":"€512.40"},"B015",{"$f":"IFERROR(VLOOKUP(G26721,Discounts!C:E,3,0),0)","v":0},{"v":512.4,"d":"€512.40"}]
["Auto",203580,203690,1,"Normal",{"v":192.56,"d":"€192.56"},"P109",{"$f":"IFERROR(VLOOKUP(G26722,Discounts!C:E,3,0),0)","v":0},{"v":192.56,"d":"€192.56"}]
["Auto",203590,105710,1,"Normal",{"v":73.57,"d":"€73.57"},"LUXE",{"$f":"IFERROR(VLOOKUP(G26723,Discounts!C:E,3,0),0)","v":0},{"v":73.57,"d":"€73.57"}]
["Auto",203590,203570,1,"Normal",{"v":512.4,"d":"€512.40"},"B015",{"$f":"IFERROR(VLOOKUP(G26724,Discounts!C:E,3,0),0)","v":0},{"v":512.4,"d":"€512.40"}]
["Auto",203590,203700,1,"Normal",{"v":309.09,"d":"€309.09"},"P109",{"$f":"IFERROR(VLOOKUP(G26725,Discounts!C:E,3,0),0)","v":0},{"v":309.09,"d":"€309.09"}]
["Auto",203600,105710,1,"Normal",{"v":73.57,"d":"€73.57"},"LUXE",{"$f":"IFERROR(VLOOKUP(G26726,Discounts!C:E,3,0),0)","v":0},{"v":73.57,"d":"€73.57"}]
["Auto",203600,203570,1,"Normal",{"v":512.4,"d":"€512.40"},"B015",{"$f":"IFERROR(VLOOKUP(G26727,Discounts!C:E,3,0),0)","v":0},{"v":512.4,"d":"€512.40"}]
["Auto",203600,203710,1,"Normal",{"v":362.81,"d":"€362.81"},"P109",{"$f":"IFERROR(VLOOKUP(G26728,Discounts!C:E,3,0),0)","v":0},{"v":362.81,"d":"€362.81"}]
["Auto",203610,105710,1,"Normal",{"v":73.57,"d":"€73.57"},"LUXE",{"$f":"IFERROR(VLOOKUP(G26729,Discounts!C:E,3,0),0)","v":0},{"v":73.57,"d":"€73.57"}]
["Auto",203610,203570,1,"Normal",{"v":512.4,"d":"€512.40"},"B015",{"$f":"IFERROR(VLOOKUP(G26730,Discounts!C:E,3,0),0)","v":0},{"v":512.4,"d":"€512.40"}]
["Auto",203610,203720,1,"Normal",{"v":362.81,"d":"€362.81"},"P109",{"$f":"IFERROR(VLOOKUP(G26731,Discounts!C:E,3,0),0)","v":0},{"v":362.81,"d":"€362.81"}]
["Auto",203620,105710,1,"Normal",{"v":73.57,"d":"€73.57"},"LUXE",{"$f":"IFERROR(VLOOKUP(G26732,Discounts!C:E,3,0),0)","v":0},{"v":73.57,"d":"€73.57"}]
["Auto",203620,203570,1,"Normal",{"v":512.4,"d":"€512.40"},"B015",{"$f":"IFERROR(VLOOKUP(G26733,Discounts!C:E,3,0),0)","v":0},{"v":512.4,"d":"€512.40"}]
["Auto",203620,203730,1,"Normal",{"v":451.24,"d":"€451.24"},"P109",{"$f":"IFERROR(VLOOKUP(G26734,Discounts!C:E,3,0),0)","v":0},{"v":451.24,"d":"€451.24"}]
["Auto",203630,106730,1,"Normal",{"v":12.4,"d":"€12.40"},"LUXE",{"$f":"IFERROR(VLOOKUP(G26735,Discounts!C:E,3,0),0)","v":0},{"v":12.4,"d":"€12.40"}]
["Auto",203630,203570,1,"Normal",{"v":512.4,"d":"€512.40"},"B015",{"$f":"IFERROR(VLOOKUP(G26736,Discounts!C:E,3,0),0)","v":0},{"v":512.4,"d":"€512.40"}]
["Auto",203640,105710,1,"Normal",{"v":73.57,"d":"€73.57"},"LUXE",{"$f":"IFERROR(VLOOKUP(G26737,Discounts!C:E,3,0),0)","v":0},{"v":73.57,"d":"€73.57"}]
["Auto",203640,203630,1,"Combination",{"v":524.8,"d":"€524.80"},"B015",{"$f":"IFERROR(VLOOKUP(G26738,Discounts!C:E,3,0),0)","v":0},{"v":524.8,"d":"€524.80"}]
["Auto",203640,203690,1,"Normal",{"v":192.56,"d":"€192.56"},"P109",{"$f":"IFERROR(VLOOKUP(G26739,Discounts!C:E,3,0),0)","v":0},{"v":192.56,"d":"€192.56"}]
["Auto",203650,105710,1,"Normal",{"v":73.57,"d":"€73.57"},"LUXE",{"$f":"IFERROR(VLOOKUP(G26740,Discounts!C:E,3,0),0)","v":0},{"v":73.57,"d":"€73.57"}]
["Auto",203650,203630,1,"Combination",{"v":524.8,"d":"€524.80"},"B015",{"$f":"IFERROR(VLOOKUP(G26741,Discounts!C:E,3,0),0)","v":0},{"v":524.8,"d":"€524.80"}]
["Auto",203650,203700,1,"Normal",{"v":309.09,"d":"€309.09"},"P109",{"$f":"IFERROR(VLOOKUP(G26742,Discounts!C:E,3,0),0)","v":0},{"v":309.09,"d":"€309.09"}]
["Auto",203660,105710,1,"Normal",{"v":73.57,"d":"€73.57"},"LUXE",{"$f":"IFERROR(VLOOKUP(G26743,Discounts!C:E,3,0),0)","v":0},{"v":73.57,"d":"€73.57"}]
["Auto",203660,203630,1,"Combination",{"v":524.8,"d":"€524.80"},"B015",{"$f":"IFERROR(VLOOKUP(G26744,Discounts!C:E,3,0),0)","v":0},{"v":524.8,"d":"€524.80"}]
["Auto",203660,203710,1,"Normal",{"v":362.81,"d":"€362.81"},"P109",{"$f":"IFERROR(VLOOKUP(G26745,Discounts!C:E,3,0),0)","v":0},{"v":362.81,"d":"€362.81"}]
["Auto",203670,105710,1,"Normal",{"v":73.57,"d":"€73.57"},"LUXE",{"$f":"IFERROR(VLOOKUP(G26746,Discounts!C:E,3,0),0)","v":0},{"v":73.57,"d":"€73.57"}]
["Auto",203670,203630,1,"Combination",{"v":524.8,"d":"€524.80"},"B015",{"$f":"IFERROR(VLOOKUP(G26747,Discounts!C:E,3,0),0)","v":0},{"v":524.8,"d":"€524.80"}]
["Auto",203670,203720,1,"Normal",{"v":362.81,"d":"€362.81"},"P109",{"$f":"IFERROR(VLOOKUP(G26748,Discounts!C:E,3,0),0)","v":0},{"v":362.81,"d":"€362.81"}]
["Auto",203680,105710,1,"Normal",{"v":73.57,"d":"€73.57"},"LUXE",{"$f":"IFERROR(VLOOKUP(G26749,Discounts!C:E,3,0),0)","v":0},{"v":73.57,"d":"€73.57"}]
["Auto",203680,203630,1,"Combination",{"v":524.8,"d":"€524.80"},"B015",{"$f":"IFERROR(VLOOKUP(G26750,Discounts!C:E,3,0),0)","v":0},{"v":524.8,"d":"€524.80"}]
["Auto",203680,203730,1,"Normal",{"v":451.24,"d":"€451.24"},"P109",{"$f":"IFERROR(VLOOKUP(G26751,Discounts!C:E,3,0),0)","v":0},{"v":451.24,"d":"€451.24"}]
["Auto",203750,105710,1,"Normal",{"v":73.57,"d":"€73.57"},"LUXE",{"$f":"IFERROR(VLOOKUP(G26752,Discounts!C:E,3,0),0)","v":0},{"v":73.57,"d":"€73.57"}]
["Auto",203750,203740,1,"Normal",{"v":504.13,"d":"€504.13"},"B015",{"$f":"IFERROR(VLOOKUP(G26753,Discounts!C:E,3,0),0)","v":0},{"v":504.13,"d":"€504.13"}]
["Auto",203750,203860,1,"Normal",{"v":192.56,"d":"€192.56"},"P109",{"$f":"IFERROR(VLOOKUP(G26754,Discounts!C:E,3,0),0)","v":0},{"v":192.56,"d":"€192.56"}]
["Auto",203760,105710,1,"Normal",{"v":73.57,"d":"€73.57"},"LUXE",{"$f":"IFERROR(VLOOKUP(G26755,Discounts!C:E,3,0),0)","v":0},{"$f":"IF(E26755=\"Normal\",F26755*(1-H26755),SUMIF(B:B,C26755,I:I)*D26755)","v":{"v":73.57,"d":"€73.57"}}]
["Auto",203760,203740,1,"Normal",{"v":504.13,"d":"€504.13"},"B015",{"$f":"IFERROR(VLOOKUP(G26756,Discounts!C:E,3,0),0)","v":0},{"v":504.13,"d":"€504.13"}]
["Auto",203760,203870,1,"Normal",{"v":309.09,"d":"€309.09"},"P109",{"$f":"IFERROR(VLOOKUP(G26757,Discounts!C:E,3,0),0)","v":0},{"v":309.09,"d":"€309.09"}]
["Auto",203770,105710,1,"Normal",{"v":73.57,"d":"€73.57"},"LUXE",{"$f":"IFERROR(VLOOKUP(G26758,Discounts!C:E,3,0),0)","v":0},{"v":73.57,"d":"€73.57"}]
["Auto",203770,203740,1,"Normal",{"v":504.13,"d":"€504.13"},"B015",{"$f":"IFERROR(VLOOKUP(G26759,Discounts!C:E,3,0),0)","v":0},{"v":504.13,"d":"€504.13"}]
["Auto",203770,203880,1,"Normal",{"v":362.81,"d":"€362.81"},"P109",{"$f":"IFERROR(VLOOKUP(G26760,Discounts!C:E,3,0),0)","v":0},{"v":362.81,"d":"€362.81"}]
["Auto",203780,105710,1,"Normal",{"v":73.57,"d":"€73.57"},"LUXE",{"$f":"IFERROR(VLOOKUP(G26761,Discounts!C:E,3,0),0)","v":0},{"v":73.57,"d":"€73.57"}]
["Auto",203780,203740,1,"Normal",{"v":504.13,"d":"€504.13"},"B015",{"$f":"IFERROR(VLOOKUP(G26762,Discounts!C:E,3,0),0)","v":0},{"v":504.13,"d":"€504.13"}]
["Auto",203780,203890,1,"Normal",{"v":362.81,"d":"€362.81"},"P109",{"$f":"IFERROR(VLOOKUP(G26763,Discounts!C:E,3,0),0)","v":0},{"v":362.81,"d":"€362.81"}]
["Auto",203790,105710,1,"Normal",{"v":73.57,"d":"€73.57"},"LUXE",{"$f":"IFERROR(VLOOKUP(G26764,Discounts!C:E,3,0),0)","v":0},{"v":73.57,"d":"€73.57"}]
["Auto",203790,203740,1,"Normal",{"v":504.13,"d":"€504.13"},"B015",{"$f":"IFERROR(VLOOKUP(G26765,Discounts!C:E,3,0),0)","v":0},{"v":504.13,"d":"€504.13"}]
["Auto",203790,203900,1,"Normal",{"v":451.24,"d":"€451.24"},"P109",{"$f":"IFERROR(VLOOKUP(G26766,Discounts!C:E,3,0),0)","v":0},{"v":451.24,"d":"€451.24"}]
["Auto",203800,106730,1,"Normal",{"v":12.4,"d":"€12.40"},"LUXE",{"$f":"IFERROR(VLOOKUP(G26767,Discounts!C:E,3,0),0)","v":0},{"v":12.4,"d":"€12.40"}]
["Auto",203800,203740,1,"Normal",{"v":504.13,"d":"€504.13"},"B015",{"$f":"IFERROR(VLOOKUP(G26768,Discounts!C:E,3,0),0)","v":0},{"v":504.13,"d":"€504.13"}]
["Auto",203810,105710,1,"Normal",{"v":73.57,"d":"€73.57"},"LUXE",{"$f":"IFERROR(VLOOKUP(G26769,Discounts!C:E,3,0),0)","v":0},{"v":73.57,"d":"€73.57"}]
["Auto",203810,203800,1,"Combination",{"v":516.53,"d":"€516.53"},"B015",{"$f":"IFERROR(VLOOKUP(G26770,Discounts!C:E,3,0),0)","v":0},{"v":516.53,"d":"€516.53"}]
["Auto",203810,203860,1,"Normal",{"v":192.56,"d":"€192.56"},"P109",{"$f":"IFERROR(VLOOKUP(G26771,Discounts!C:E,3,0),0)","v":0},{"v":192.56,"d":"€192.56"}]
["Auto",203820,105710,1,"Normal",{"v":73.57,"d":"€73.57"},"LUXE",{"$f":"IFERROR(VLOOKUP(G26772,Discounts!C:E,3,0),0)","v":0},{"v":73.57,"d":"€73.57"}]
["Auto",203820,203800,1,"Combination",{"v":516.53,"d":"€516.53"},"B015",{"$f":"IFERROR(VLOOKUP(G26773,Discounts!C:E,3,0),0)","v":0},{"v":516.53,"d":"€516.53"}]
["Auto",203820,203870,1,"Normal",{"v":309.09,"d":"€309.09"},"P109",{"$f":"IFERROR(VLOOKUP(G26774,Discounts!C:E,3,0),0)","v":0},{"v":309.09,"d":"€309.09"}]
["Auto",203830,105710,1,"Normal",{"v":73.57,"d":"€73.57"},"LUXE",{"$f":"IFERROR(VLOOKUP(G26775,Discounts!C:E,3,0),0)","v":0},{"v":73.57,"d":"€73.57"}]
["Auto",203830,203800,1,"Combination",{"v":516.53,"d":"€516.53"},"B015",{"$f":"IFERROR(VLOOKUP(G26776,Discounts!C:E,3,0),0)","v":0},{"v":516.53,"d":"€516.53"}]
["Auto",203830,203880,1,"Normal",{"v":362.81,"d":"€362.81"},"P109",{"$f":"IFERROR(VLOOKUP(G26777,Discounts!C:E,3,0),0)","v":0},{"v":362.81,"d":"€362.81"}]
["Auto",203840,105710,1,"Normal",{"v":73.57,"d":"€73.57"},"LUXE",{"$f":"IFERROR(VLOOKUP(G26778,Discounts!C:E,3,0),0)","v":0},{"v":73.57,"d":"€73.57"}]
["Auto",203840,203800,1,"Combination",{"v":516.53,"d":"€516.53"},"B015",{"$f":"IFERROR(VLOOKUP(G26779,Discounts!C:E,3,0),0)","v":0},{"v":516.53,"d":"€516.53"}]
["Auto",203840,203890,1,"Normal",{"v":362.81,"d":"€362.81"},"P109",{"$f":"IFERROR(VLOOKUP(G26780,Discounts!C:E,3,0),0)","v":0},{"v":362.81,"d":"€362.81"}]
["Auto",203850,105710,1,"Normal",{"v":73.57,"d":"€73.57"},"LUXE",{"$f":"IFERROR(VLOOKUP(G26781,Discounts!C:E,3,0),0)","v":0},{"v":73.57,"d":"€73.57"}]
["Auto",203850,203800,1,"Combination",{"v":516.53,"d":"€516.53"},"B015",{"$f":"IFERROR(VLOOKUP(G26782,Discounts!C:E,3,0),0)","v":0},{"v":516.53,"d":"€516.53"}]
["Auto",203850,203900,1,"Normal",{"v":451.24,"d":"€451.24"},"P109",{"$f":"IFERROR(VLOOKUP(G26783,Discounts!C:E,3,0),0)","v":0},{"v":451.24,"d":"€451.24"}]
["Auto",203920,105720,1,"Normal",{"v":79.16,"d":"€79.16"},"LUXE",{"$f":"IFERROR(VLOOKUP(G26784,Discounts!C:E,3,0),0)","v":0},{"v":79.16,"d":"€79.16"}]
["Auto",203920,203910,1,"Normal",{"v":533.88,"d":"€533.88"},"B015",{"$f":"IFERROR(VLOOKUP(G26785,Discounts!C:E,3,0),0)","v":0},{"v":533.88,"d":"€533.88"}]
["Auto",203920,204030,1,"Normal",{"v":192.56,"d":"€192.56"},"P109",{"$f":"IFERROR(VLOOKUP(G26786,Discounts!C:E,3,0),0)","v":0},{"v":192.56,"d":"€192.56"}]
["Auto",203930,105720,1,"Normal",{"v":79.16,"d":"€79.16"},"LUXE",{"$f":"IFERROR(VLOOKUP(G26787,Discounts!C:E,3,0),0)","v":0},{"v":79.16,"d":"€79.16"}]
["Auto",203930,203910,1,"Normal",{"v":533.88,"d":"€533.88"},"B015",{"$f":"IFERROR(VLOOKUP(G26788,Discounts!C:E,3,0),0)","v":0},{"v":533.88,"d":"€533.88"}]
["Auto",203930,204040,1,"Normal",{"v":309.09,"d":"€309.09"},"P109",{"$f":"IFERROR(VLOOKUP(G26789,Discounts!C:E,3,0),0)","v":0},{"v":309.09,"d":"€309.09"}]
["Auto",203940,105720,1,"Normal",{"v":79.16,"d":"€79.16"},"LUXE",{"$f":"IFERROR(VLOOKUP(G26790,Discounts!C:E,3,0),0)","v":0},{"v":79.16,"d":"€79.16"}]
["Auto",203940,203910,1,"Normal",{"v":533.88,"d":"€533.88"},"B015",{"$f":"IFERROR(VLOOKUP(G26791,Discounts!C:E,3,0),0)","v":0},{"v":533.88,"d":"€533.88"}]
["Auto",203940,204050,1,"Normal",{"v":362.81,"d":"€362.81"},"P109",{"$f":"IFERROR(VLOOKUP(G26792,Discounts!C:E,3,0),0)","v":0},{"v":362.81,"d":"€362.81"}]
["Auto",203950,105720,1,"Normal",{"v":79.16,"d":"€79.16"},"LUXE",{"$f":"IFERROR(VLOOKUP(G26793,Discounts!C:E,3,0),0)","v":0},{"v":79.16,"d":"€79.16"}]
["Auto",203950,203910,1,"Normal",{"v":533.88,"d":"€533.88"},"B015",{"$f":"IFERROR(VLOOKUP(G26794,Discounts!C:E,3,0),0)","v":0},{"v":533.88,"d":"€533.88"}]
["Auto",203950,204060,1,"Normal",{"v":362.81,"d":"€362.81"},"P109",{"$f":"IFERROR(VLOOKUP(G26795,Discounts!C:E,3,0),0)","v":0},{"v":362.81,"d":"€362.81"}]
["Auto",203960,105720,1,"Normal",{"v":79.16,"d":"€79.16"},"LUXE",{"$f":"IFERROR(VLOOKUP(G26796,Discounts!C:E,3,0),0)","v":0},{"v":79.16,"d":"€79.16"}]
["Auto",203960,203910,1,"Normal",{"v":533.88,"d":"€533.88"},"B015",{"$f":"IFERROR(VLOOKUP(G26797,Discounts!C:E,3,0),0)","v":0},{"v":533.88,"d":"€533.88"}]
["Auto",203960,204070,1,"Normal",{"v":451.24,"d":"€451.24"},"P109",{"$f":"IFERROR(VLOOKUP(G26798,Discounts!C:E,3,0),0)","v":0},{"v":451.24,"d":"€451.24"}]
["Auto",203970,106730,1,"Normal",{"v":12.4,"d":"€12.40"},"LUXE",{"$f":"IFERROR(VLOOKUP(G26799,Discounts!C:E,3,0),0)","v":0},{"v":12.4,"d":"€12.40"}]
["Auto",203970,203910,1,"Normal",{"v":533.88,"d":"€533.88"},"B015",{"$f":"IFERROR(VLOOKUP(G26800,Discounts!C:E,3,0),0)","v":0},{"v":533.88,"d":"€533.88"}]
["Auto",203980,105720,1,"Normal",{"v":79.16,"d":"€79.16"},"LUXE",{"$f":"IFERROR(VLOOKUP(G26801,Discounts!C:E,3,0),0)","v":0},{"v":79.16,"d":"€79.16"}]
["Auto",203980,203970,1,"Combination",{"v":546.28,"d":"€546.28"},"B015",{"$f":"IFERROR(VLOOKUP(G26802,Discounts!C:E,3,0),0)","v":0},{"v":546.28,"d":"€546.28"}]
["Auto",203980,204030,1,"Normal",{"v":192.56,"d":"€192.56"},"P109",{"$f":"IFERROR(VLOOKUP(G26803,Discounts!C:E,3,0),0)","v":0},{"v":192.56,"d":"€192.56"}]
["Auto",203990,105720,1,"Normal",{"v":79.16,"d":"€79.16"},"LUXE",{"$f":"IFERROR(VLOOKUP(G26804,Discounts!C:E,3,0),0)","v":0},{"v":79.16,"d":"€79.16"}]
["Auto",203990,203970,1,"Combination",{"v":546.28,"d":"€546.28"},"B015",{"$f":"IFERROR(VLOOKUP(G26805,Discounts!C:E,3,0),0)","v":0},{"v":546.28,"d":"€546.28"}]
["Auto",203990,204040,1,"Normal",{"v":309.09,"d":"€309.09"},"P109",{"$f":"IFERROR(VLOOKUP(G26806,Discounts!C:E,3,0),0)","v":0},{"v":309.09,"d":"€309.09"}]
["Auto",204000,105720,1,"Normal",{"v":79.16,"d":"€79.16"},"LUXE",{"$f":"IFERROR(VLOOKUP(G26807,Discounts!C:E,3,0),0)","v":0},{"v":79.16,"d":"€79.16"}]
["Auto",204000,203970,1,"Combination",{"v":546.28,"d":"€546.28"},"B015",{"$f":"IFERROR(VLOOKUP(G26808,Discounts!C:E,3,0),0)","v":0},{"v":546.28,"d":"€546.28"}]
["Auto",204000,204050,1,"Normal",{"v":362.81,"d":"€362.81"},"P109",{"$f":"IFERROR(VLOOKUP(G26809,Discounts!C:E,3,0),0)","v":0},{"v":362.81,"d":"€362.81"}]
["Auto",204010,105720,1,"Normal",{"v":79.16,"d":"€79.16"},"LUXE",{"$f":"IFERROR(VLOOKUP(G26810,Discounts!C:E,3,0),0)","v":0},{"v":79.16,"d":"€79.16"}]
["Auto",204010,203970,1,"Combination",{"v":546.28,"d":"€546.28"},"B015",{"$f":"IFERROR(VLOOKUP(G26811,Discounts!C:E,3,0),0)","v":0},{"v":546.28,"d":"€546.28"}]
["Auto",204010,204060,1,"Normal",{"v":362.81,"d":"€362.81"},"P109",{"$f":"IFERROR(VLOOKUP(G26812,Discounts!C:E,3,0),0)","v":0},{"v":362.81,"d":"€362.81"}]
["Auto",204020,105720,1,"Normal",{"v":79.16,"d":"€79.16"},"LUXE",{"$f":"IFERROR(VLOOKUP(G26813,Discounts!C:E,3,0),0)","v":0},{"v":79.16,"d":"€79.16"}]
["Auto",204020,203970,1,"Combination",{"v":546.28,"d":"€546.28"},"B015",{"$f":"IFERROR(VLOOKUP(G26814,Discounts!C:E,3,0),0)","v":0},{"v":546.28,"d":"€546.28"}]
["Auto",204020,204070,1,"Normal",{"v":451.24,"d":"€451.24"},"P109",{"$f":"IFERROR(VLOOKUP(G26815,Discounts!C:E,3,0),0)","v":0},{"v":451.24,"d":"€451.24"}]
["Auto",204090,105710,1,"Normal",{"v":73.57,"d":"€73.57"},"LUXE",{"$f":"IFERROR(VLOOKUP(G26816,Discounts!C:E,3,0),0)","v":0},{"v":73.57,"d":"€73.57"}]
["Auto",204090,204080,1,"Normal",{"v":512.4,"d":"€512.40"},"B015",{"$f":"IFERROR(VLOOKUP(G26817,Discounts!C:E,3,0),0)","v":0},{"v":512.4,"d":"€512.40"}]
["Auto",204090,204200,1,"Normal",{"v":192.56,"d":"€192.56"},"P109",{"$f":"IFERROR(VLOOKUP(G26818,Discounts!C:E,3,0),0)","v":0},{"v":192.56,"d":"€192.56"}]
["Auto",204100,105710,1,"Normal",{"v":73.57,"d":"€73.57"},"LUXE",{"$f":"IFERROR(VLOOKUP(G26819,Discounts!C:E,3,0),0)","v":0},{"$f":"IF(E26819=\"Normal\",F26819*(1-H26819),SUMIF(B:B,C26819,I:I)*D26819)","v":{"v":73.57,"d":"€73.57"}}]
["Auto",204100,204080,1,"Normal",{"v":512.4,"d":"€512.40"},"B015",{"$f":"IFERROR(VLOOKUP(G26820,Discounts!C:E,3,0),0)","v":0},{"v":512.4,"d":"€512.40"}]
["Auto",204100,204210,1,"Normal",{"v":309.09,"d":"€309.09"},"P109",{"$f":"IFERROR(VLOOKUP(G26821,Discounts!C:E,3,0),0)","v":0},{"v":309.09,"d":"€309.09"}]
["Auto",204110,105710,1,"Normal",{"v":73.57,"d":"€73.57"},"LUXE",{"$f":"IFERROR(VLOOKUP(G26822,Discounts!C:E,3,0),0)","v":0},{"v":73.57,"d":"€73.57"}]
["Auto",204110,204080,1,"Normal",{"v":512.4,"d":"€512.40"},"B015",{"$f":"IFERROR(VLOOKUP(G26823,Discounts!C:E,3,0),0)","v":0},{"v":512.4,"d":"€512.40"}]
["Auto",204110,204220,1,"Normal",{"v":362.81,"d":"€362.81"},"P109",{"$f":"IFERROR(VLOOKUP(G26824,Discounts!C:E,3,0),0)","v":0},{"v":362.81,"d":"€362.81"}]
["Auto",204120,105710,1,"Normal",{"v":73.57,"d":"€73.57"},"LUXE",{"$f":"IFERROR(VLOOKUP(G26825,Discounts!C:E,3,0),0)","v":0},{"v":73.57,"d":"€73.57"}]
["Auto",204120,204080,1,"Normal",{"v":512.4,"d":"€512.40"},"B015",{"$f":"IFERROR(VLOOKUP(G26826,Discounts!C:E,3,0),0)","v":0},{"v":512.4,"d":"€512.40"}]
["Auto",204120,204230,1,"Normal",{"v":362.81,"d":"€362.81"},"P109",{"$f":"IFERROR(VLOOKUP(G26827,Discounts!C:E,3,0),0)","v":0},{"v":362.81,"d":"€362.81"}]
["Auto",204130,105710,1,"Normal",{"v":73.57,"d":"€73.57"},"LUXE",{"$f":"IFERROR(VLOOKUP(G26828,Discounts!C:E,3,0),0)","v":0},{"v":73.57,"d":"€73.57"}]
["Auto",204130,204080,1,"Normal",{"v":512.4,"d":"€512.40"},"B015",{"$f":"IFERROR(VLOOKUP(G26829,Discounts!C:E,3,0),0)","v":0},{"v":512.4,"d":"€512.40"}]
["Auto",204130,204240,1,"Normal",{"v":451.24,"d":"€451.24"},"P109",{"$f":"IFERROR(VLOOKUP(G26830,Discounts!C:E,3,0),0)","v":0},{"v":451.24,"d":"€451.24"}]
["Auto",204140,106730,1,"Normal",{"v":12.4,"d":"€12.40"},"LUXE",{"$f":"IFERROR(VLOOKUP(G26831,Discounts!C:E,3,0),0)","v":0},{"v":12.4,"d":"€12.40"}]
["Auto",204140,204080,1,"Normal",{"v":512.4,"d":"€512.40"},"B015",{"$f":"IFERROR(VLOOKUP(G26832,Discounts!C:E,3,0),0)","v":0},{"v":512.4,"d":"€512.40"}]
["Auto",204150,105710,1,"Normal",{"v":73.57,"d":"€73.57"},"LUXE",{"$f":"IFERROR(VLOOKUP(G26833,Discounts!C:E,3,0),0)","v":0},{"v":73.57,"d":"€73.57"}]
["Auto",204150,204140,1,"Combination",{"v":524.8,"d":"€524.80"},"B015",{"$f":"IFERROR(VLOOKUP(G26834,Discounts!C:E,3,0),0)","v":0},{"v":524.8,"d":"€524.80"}]
["Auto",204150,204200,1,"Normal",{"v":192.56,"d":"€192.56"},"P109",{"$f":"IFERROR(VLOOKUP(G26835,Discounts!C:E,3,0),0)","v":0},{"v":192.56,"d":"€192.56"}]
["Auto",204160,105710,1,"Normal",{"v":73.57,"d":"€73.57"},"LUXE",{"$f":"IFERROR(VLOOKUP(G26836,Discounts!C:E,3,0),0)","v":0},{"v":73.57,"d":"€73.57"}]
["Auto",204160,204140,1,"Combination",{"v":524.8,"d":"€524.80"},"B015",{"$f":"IFERROR(VLOOKUP(G26837,Discounts!C:E,3,0),0)","v":0},{"v":524.8,"d":"€524.80"}]
["Auto",204160,204210,1,"Normal",{"v":309.09,"d":"€309.09"},"P109",{"$f":"IFERROR(VLOOKUP(G26838,Discounts!C:E,3,0),0)","v":0},{"v":309.09,"d":"€309.09"}]
["Auto",204170,105710,1,"Normal",{"v":73.57,"d":"€73.57"},"LUXE",{"$f":"IFERROR(VLOOKUP(G26839,Discounts!C:E,3,0),0)","v":0},{"v":73.57,"d":"€73.57"}]
["Auto",204170,204140,1,"Combination",{"v":524.8,"d":"€524.80"},"B015",{"$f":"IFERROR(VLOOKUP(G26840,Discounts!C:E,3,0),0)","v":0},{"v":524.8,"d":"€524.80"}]
["Auto",204170,204220,1,"Normal",{"v":362.81,"d":"€362.81"},"P109",{"$f":"IFERROR(VLOOKUP(G26841,Discounts!C:E,3,0),0)","v":0},{"v":362.81,"d":"€362.81"}]
["Auto",204180,105710,1,"Normal",{"v":73.57,"d":"€73.57"},"LUXE",{"$f":"IFERROR(VLOOKUP(G26842,Discounts!C:E,3,0),0)","v":0},{"v":73.57,"d":"€73.57"}]
["Auto",204180,204140,1,"Combination",{"v":524.8,"d":"€524.80"},"B015",{"$f":"IFERROR(VLOOKUP(G26843,Discounts!C:E,3,0),0)","v":0},{"v":524.8,"d":"€524.80"}]
["Auto",204180,204230,1,"Normal",{"v":362.81,"d":"€362.81"},"P109",{"$f":"IFERROR(VLOOKUP(G26844,Discounts!C:E,3,0),0)","v":0},{"v":362.81,"d":"€362.81"}]
["Auto",204190,105710,1,"Normal",{"v":73.57,"d":"€73.57"},"LUXE",{"$f":"IFERROR(VLOOKUP(G26845,Discounts!C:E,3,0),0)","v":0},{"v":73.57,"d":"€73.57"}]
["Auto",204190,204140,1,"Combination",{"v":524.8,"d":"€524.80"},"B015",{"$f":"IFERROR(VLOOKUP(G26846,Discounts!C:E,3,0),0)","v":0},{"v":524.8,"d":"€524.80"}]
["Auto",204190,204240,1,"Normal",{"v":451.24,"d":"€451.24"},"P109",{"$f":"IFERROR(VLOOKUP(G26847,Discounts!C:E,3,0),0)","v":0},{"v":451.24,"d":"€451.24"}]
["Auto",204260,105720,1,"Normal",{"v":79.16,"d":"€79.16"},"LUXE",{"$f":"IFERROR(VLOOKUP(G26848,Discounts!C:E,3,0),0)","v":0},{"v":79.16,"d":"€79.16"}]
["Auto",204260,204250,1,"Normal",{"v":533.88,"d":"€533.88"},"B015",{"$f":"IFERROR(VLOOKUP(G26849,Discounts!C:E,3,0),0)","v":0},{"v":533.88,"d":"€533.88"}]
["Auto",204260,204370,1,"Normal",{"v":192.56,"d":"€192.56"},"P109",{"$f":"IFERROR(VLOOKUP(G26850,Discounts!C:E,3,0),0)","v":0},{"v":192.56,"d":"€192.56"}]
["Auto",204270,105720,1,"Normal",{"v":79.16,"d":"€79.16"},"LUXE",{"$f":"IFERROR(VLOOKUP(G26851,Discounts!C:E,3,0),0)","v":0},{"v":79.16,"d":"€79.16"}]
["Auto",204270,204250,1,"Normal",{"v":533.88,"d":"€533.88"},"B015",{"$f":"IFERROR(VLOOKUP(G26852,Discounts!C:E,3,0),0)","v":0},{"v":533.88,"d":"€533.88"}]
["Auto",204270,204380,1,"Normal",{"v":309.09,"d":"€309.09"},"P109",{"$f":"IFERROR(VLOOKUP(G26853,Discounts!C:E,3,0),0)","v":0},{"v":309.09,"d":"€309.09"}]
["Auto",204280,105720,1,"Normal",{"v":79.16,"d":"€79.16"},"LUXE",{"$f":"IFERROR(VLOOKUP(G26854,Discounts!C:E,3,0),0)","v":0},{"v":79.16,"d":"€79.16"}]
["Auto",204280,204250,1,"Normal",{"v":533.88,"d":"€533.88"},"B015",{"$f":"IFERROR(VLOOKUP(G26855,Discounts!C:E,3,0),0)","v":0},{"v":533.88,"d":"€533.88"}]
["Auto",204280,204390,1,"Normal",{"v":362.81,"d":"€362.81"},"P109",{"$f":"IFERROR(VLOOKUP(G26856,Discounts!C:E,3,0),0)","v":0},{"v":362.81,"d":"€362.81"}]
["Auto",204290,105720,1,"Normal",{"v":79.16,"d":"€79.16"},"LUXE",{"$f":"IFERROR(VLOOKUP(G26857,Discounts!C:E,3,0),0)","v":0},{"v":79.16,"d":"€79.16"}]
["Auto",204290,204250,1,"Normal",{"v":533.88,"d":"€533.88"},"B015",{"$f":"IFERROR(VLOOKUP(G26858,Discounts!C:E,3,0),0)","v":0},{"v":533.88,"d":"€533.88"}]
["Auto",204290,204400,1,"Normal",{"v":362.81,"d":"€362.81"},"P109",{"$f":"IFERROR(VLOOKUP(G26859,Discounts!C:E,3,0),0)","v":0},{"v":362.81,"d":"€362.81"}]
["Auto",204300,105720,1,"Normal",{"v":79.16,"d":"€79.16"},"LUXE",{"$f":"IFERROR(VLOOKUP(G26860,Discounts!C:E,3,0),0)","v":0},{"v":79.16,"d":"€79.16"}]
["Auto",204300,204250,1,"Normal",{"v":533.88,"d":"€533.88"},"B015",{"$f":"IFERROR(VLOOKUP(G26861,Discounts!C:E,3,0),0)","v":0},{"v":533.88,"d":"€533.88"}]
["Auto",204300,204410,1,"Normal",{"v":451.24,"d":"€451.24"},"P109",{"$f":"IFERROR(VLOOKUP(G26862,Discounts!C:E,3,0),0)","v":0},{"v":451.24,"d":"€451.24"}]
["Auto",204310,106730,1,"Normal",{"v":12.4,"d":"€12.40"},"LUXE",{"$f":"IFERROR(VLOOKUP(G26863,Discounts!C:E,3,0),0)","v":0},{"v":12.4,"d":"€12.40"}]
["Auto",204310,204250,1,"Normal",{"v":533.88,"d":"€533.88"},"B015",{"$f":"IFERROR(VLOOKUP(G26864,Discounts!C:E,3,0),0)","v":0},{"v":533.88,"d":"€533.88"}]
["Auto",204320,105720,1,"Normal",{"v":79.16,"d":"€79.16"},"LUXE",{"$f":"IFERROR(VLOOKUP(G26865,Discounts!C:E,3,0),0)","v":0},{"v":79.16,"d":"€79.16"}]
["Auto",204320,204310,1,"Combination",{"v":546.28,"d":"€546.28"},"B015",{"$f":"IFERROR(VLOOKUP(G26866,Discounts!C:E,3,0),0)","v":0},{"v":546.28,"d":"€546.28"}]
["Auto",204320,204370,1,"Normal",{"v":192.56,"d":"€192.56"},"P109",{"$f":"IFERROR(VLOOKUP(G26867,Discounts!C:E,3,0),0)","v":0},{"v":192.56,"d":"€192.56"}]
["Auto",204330,105720,1,"Normal",{"v":79.16,"d":"€79.16"},"LUXE",{"$f":"IFERROR(VLOOKUP(G26868,Discounts!C:E,3,0),0)","v":0},{"v":79.16,"d":"€79.16"}]
["Auto",204330,204310,1,"Combination",{"v":546.28,"d":"€546.28"},"B015",{"$f":"IFERROR(VLOOKUP(G26869,Discounts!C:E,3,0),0)","v":0},{"v":546.28,"d":"€546.28"}]
["Auto",204330,204380,1,"Normal",{"v":309.09,"d":"€309.09"},"P109",{"$f":"IFERROR(VLOOKUP(G26870,Discounts!C:E,3,0),0)","v":0},{"v":309.09,"d":"€309.09"}]
["Auto",204340,105720,1,"Normal",{"v":79.16,"d":"€79.16"},"LUXE",{"$f":"IFERROR(VLOOKUP(G26871,Discounts!C:E,3,0),0)","v":0},{"v":79.16,"d":"€79.16"}]
["Auto",204340,204310,1,"Combination",{"v":546.28,"d":"€546.28"},"B015",{"$f":"IFERROR(VLOOKUP(G26872,Discounts!C:E,3,0),0)","v":0},{"v":546.28,"d":"€546.28"}]
["Auto",204340,204390,1,"Normal",{"v":362.81,"d":"€362.81"},"P109",{"$f":"IFERROR(VLOOKUP(G26873,Discounts!C:E,3,0),0)","v":0},{"v":362.81,"d":"€362.81"}]
["Auto",204350,105720,1,"Normal",{"v":79.16,"d":"€79.16"},"LUXE",{"$f":"IFERROR(VLOOKUP(G26874,Discounts!C:E,3,0),0)","v":0},{"v":79.16,"d":"€79.16"}]
["Auto",204350,204310,1,"Combination",{"v":546.28,"d":"€546.28"},"B015",{"$f":"IFERROR(VLOOKUP(G26875,Discounts!C:E,3,0),0)","v":0},{"v":546.28,"d":"€546.28"}]
["Auto",204350,204400,1,"Normal",{"v":362.81,"d":"€362.81"},"P109",{"$f":"IFERROR(VLOOKUP(G26876,Discounts!C:E,3,0),0)","v":0},{"v":362.81,"d":"€362.81"}]
["Auto",204360,105720,1,"Normal",{"v":79.16,"d":"€79.16"},"LUXE",{"$f":"IFERROR(VLOOKUP(G26877,Discounts!C:E,3,0),0)","v":0},{"v":79.16,"d":"€79.16"}]
["Auto",204360,204310,1,"Combination",{"v":546.28,"d":"€546.28"},"B015",{"$f":"IFERROR(VLOOKUP(G26878,Discounts!C:E,3,0),0)","v":0},{"v":546.28,"d":"€546.28"}]
["Auto",204360,204410,1,"Normal",{"v":451.24,"d":"€451.24"},"P109",{"$f":"IFERROR(VLOOKUP(G26879,Discounts!C:E,3,0),0)","v":0},{"v":451.24,"d":"€451.24"}]
["Auto",204450,34260,1,"Normal",{"v":249.59,"d":"€249.59"},"LUXE",{"$f":"IFERROR(VLOOKUP(G26880,Discounts!C:E,3,0),0)","v":0},{"v":249.59,"d":"€249.59"}]
["Auto",204450,196930,1,"Normal",{"v":1426.45,"d":"€1,426.45"},"A015",{"$f":"IFERROR(VLOOKUP(G26881,Discounts!C:E,3,0),0)","v":0},{"v":1426.45,"d":"€1,426.45"}]
["Auto",204460,34260,1,"Normal",{"v":249.59,"d":"€249.59"},"LUXE",{"$f":"IFERROR(VLOOKUP(G26882,Discounts!C:E,3,0),0)","v":0},{"v":249.59,"d":"€249.59"}]
["Auto",204460,196940,1,"Normal",{"v":1426.45,"d":"€1,426.45"},"A015",{"$f":"IFERROR(VLOOKUP(G26883,Discounts!C:E,3,0),0)","v":0},{"$f":"IF(E26883=\"Normal\",F26883*(1-H26883),SUMIF(B:B,C26883,I:I)*D26883)","v":{"v":1426.45,"d":"€1,426.45"}}]
["Auto",204590,34260,1,"Normal",{"v":249.59,"d":"€249.59"},"LUXE",{"$f":"IFERROR(VLOOKUP(G26884,Discounts!C:E,3,0),0)","v":0},{"v":249.59,"d":"€249.59"}]
["Auto",204590,196900,1,"Normal",{"v":1280.99,"d":"€1,280.99"},"A010",{"$f":"IFERROR(VLOOKUP(G26885,Discounts!C:E,3,0),0)","v":0},{"v":1280.99,"d":"€1,280.99"}]
["Auto",204610,34260,1,"Normal",{"v":249.59,"d":"€249.59"},"LUXE",{"$f":"IFERROR(VLOOKUP(G26886,Discounts!C:E,3,0),0)","v":0},{"v":249.59,"d":"€249.59"}]
["Auto",204610,204600,1,"Normal",{"v":1360.33,"d":"€1,360.33"},"A010",{"$f":"IFERROR(VLOOKUP(G26887,Discounts!C:E,3,0),0)","v":0},{"v":1360.33,"d":"€1,360.33"}]
["Auto",204620,34260,1,"Normal",{"v":249.59,"d":"€249.59"},"LUXE",{"$f":"IFERROR(VLOOKUP(G26888,Discounts!C:E,3,0),0)","v":0},{"v":249.59,"d":"€249.59"}]
["Auto",204620,196890,1,"Normal",{"v":1195.04,"d":"€1,195.04"},"A010",{"$f":"IFERROR(VLOOKUP(G26889,Discounts!C:E,3,0),0)","v":0},{"v":1195.04,"d":"€1,195.04"}]
["Auto",204630,34260,1,"Normal",{"v":249.59,"d":"€249.59"},"LUXE",{"$f":"IFERROR(VLOOKUP(G26890,Discounts!C:E,3,0),0)","v":0},{"v":249.59,"d":"€249.59"}]
["Auto",204630,196870,1,"Normal",{"v":1426.45,"d":"€1,426.45"},"A015",{"$f":"IFERROR(VLOOKUP(G26891,Discounts!C:E,3,0),0)","v":0},{"v":1426.45,"d":"€1,426.45"}]
["Auto",204640,34260,1,"Normal",{"v":249.59,"d":"€249.59"},"LUXE",{"$f":"IFERROR(VLOOKUP(G26892,Discounts!C:E,3,0),0)","v":0},{"v":249.59,"d":"€249.59"}]
["Auto",204640,196860,1,"Normal",{"v":1426.45,"d":"€1,426.45"},"A015",{"$f":"IFERROR(VLOOKUP(G26893,Discounts!C:E,3,0),0)","v":0},{"v":1426.45,"d":"€1,426.45"}]
["Auto",204650,34260,1,"Normal",{"v":249.59,"d":"€249.59"},"LUXE",{"$f":"IFERROR(VLOOKUP(G26894,Discounts!C:E,3,0),0)","v":0},{"v":249.59,"d":"€249.59"}]
["Auto",204650,197360,1,"Normal",{"v":1534.71,"d":"€1,534.71"},"A010",{"$f":"IFERROR(VLOOKUP(G26895,Discounts!C:E,3,0),0)","v":0},{"v":1534.71,"d":"€1,534.71"}]
["Auto",204660,34260,1,"Normal",{"v":249.59,"d":"€249.59"},"LUXE",{"$f":"IFERROR(VLOOKUP(G26896,Discounts!C:E,3,0),0)","v":0},{"v":249.59,"d":"€249.59"}]
["Auto",204660,193970,1,"Normal",{"v":1641.32,"d":"€1,641.32"},"A015",{"$f":"IFERROR(VLOOKUP(G26897,Discounts!C:E,3,0),0)","v":0},{"v":1641.32,"d":"€1,641.32"}]
["Auto",204670,34260,1,"Normal",{"v":249.59,"d":"€249.59"},"LUXE",{"$f":"IFERROR(VLOOKUP(G26898,Discounts!C:E,3,0),0)","v":0},{"v":249.59,"d":"€249.59"}]
["Auto",204670,194000,1,"Normal",{"v":1641.32,"d":"€1,641.32"},"A015",{"$f":"IFERROR(VLOOKUP(G26899,Discounts!C:E,3,0),0)","v":0},{"v":1641.32,"d":"€1,641.32"}]
["Auto",204680,34260,1,"Normal",{"v":249.59,"d":"€249.59"},"LUXE",{"$f":"IFERROR(VLOOKUP(G26900,Discounts!C:E,3,0),0)","v":0},{"v":249.59,"d":"€249.59"}]
["Auto",204680,197390,1,"Normal",{"v":1280.99,"d":"€1,280.99"},"A010",{"$f":"IFERROR(VLOOKUP(G26901,Discounts!C:E,3,0),0)","v":0},{"v":1280.99,"d":"€1,280.99"}]
["Auto",204690,34260,1,"Normal",{"v":249.59,"d":"€249.59"},"LUXE",{"$f":"IFERROR(VLOOKUP(G26902,Discounts!C:E,3,0),0)","v":0},{"v":249.59,"d":"€249.59"}]
["Auto",204690,194110,1,"Normal",{"v":2090.08,"d":"€2,090.08"},"A015",{"$f":"IFERROR(VLOOKUP(G26903,Discounts!C:E,3,0),0)","v":0},{"v":2090.08,"d":"€2,090.08"}]
["Auto",204720,34260,1,"Normal",{"v":249.59,"d":"€249.59"},"LUXE",{"$f":"IFERROR(VLOOKUP(G26904,Discounts!C:E,3,0),0)","v":0},{"v":249.59,"d":"€249.59"}]
["Auto",204720,197340,1,"Normal",{"v":1419.01,"d":"€1,419.01"},"A010",{"$f":"IFERROR(VLOOKUP(G26905,Discounts!C:E,3,0),0)","v":0},{"v":1419.01,"d":"€1,419.01"}]
["Auto",204780,31920,1,"Normal",{"v":121.49,"d":"€121.49"},"SD/SG",{"$f":"IFERROR(VLOOKUP(G26906,Discounts!C:E,3,0),0)","v":0},{"v":121.49,"d":"€121.49"}]
["Auto",204780,40450,1,"Normal",{"v":13.22,"d":"€13.22"},"SD/SG",{"$f":"IFERROR(VLOOKUP(G26907,Discounts!C:E,3,0),0)","v":0},{"v":13.22,"d":"€13.22"}]
["Auto",204780,48600,1,"Normal",{"v":20.66,"d":"€20.66"},"SD/SG",{"$f":"IFERROR(VLOOKUP(G26908,Discounts!C:E,3,0),0)","v":0},{"v":20.66,"d":"€20.66"}]
["Auto",204780,204770,1,"Normal",{"v":758.68,"d":"€758.68"},"E095",{"$f":"IFERROR(VLOOKUP(G26909,Discounts!C:E,3,0),0)","v":0},{"v":758.68,"d":"€758.68"}]
["Auto",204800,31920,1,"Normal",{"v":121.49,"d":"€121.49"},"SD/SG",{"$f":"IFERROR(VLOOKUP(G26910,Discounts!C:E,3,0),0)","v":0},{"v":121.49,"d":"€121.49"}]
["Auto",204800,40450,1,"Normal",{"v":13.22,"d":"€13.22"},"SD/SG",{"$f":"IFERROR(VLOOKUP(G26911,Discounts!C:E,3,0),0)","v":0},{"v":13.22,"d":"€13.22"}]
["Auto",204800,48600,1,"Normal",{"v":20.66,"d":"€20.66"},"SD/SG",{"$f":"IFERROR(VLOOKUP(G26912,Discounts!C:E,3,0),0)","v":0},{"v":20.66,"d":"€20.66"}]
["Auto",204800,204790,1,"Normal",{"v":797.52,"d":"€797.52"},"E095",{"$f":"IFERROR(VLOOKUP(G26913,Discounts!C:E,3,0),0)","v":0},{"v":797.52,"d":"€797.52"}]
["Auto",204820,31920,1,"Normal",{"v":121.49,"d":"€121.49"},"SD/SG",{"$f":"IFERROR(VLOOKUP(G26914,Discounts!C:E,3,0),0)","v":0},{"v":121.49,"d":"€121.49"}]
["Auto",204820,40450,1,"Normal",{"v":13.22,"d":"€13.22"},"SD/SG",{"$f":"IFERROR(VLOOKUP(G26915,Discounts!C:E,3,0),0)","v":0},{"v":13.22,"d":"€13.22"}]
["Auto",204820,48600,1,"Normal",{"v":20.66,"d":"€20.66"},"SD/SG",{"$f":"IFERROR(VLOOKUP(G26916,Discounts!C:E,3,0),0)","v":0},{"v":20.66,"d":"€20.66"}]
["Auto",204820,204810,1,"Normal",{"v":816.53,"d":"€816.53"},"E095",{"$f":"IFERROR(VLOOKUP(G26917,Discounts!C:E,3,0),0)","v":0},{"v":816.53,"d":"€816.53"}]
["Auto",204840,31920,1,"Normal",{"v":121.49,"d":"€121.49"},"SD/SG",{"$f":"IFERROR(VLOOKUP(G26918,Discounts!C:E,3,0),0)","v":0},{"v":121.49,"d":"€121.49"}]
["Auto",204840,40450,1,"Normal",{"v":13.22,"d":"€13.22"},"SD/SG",{"$f":"IFERROR(VLOOKUP(G26919,Discounts!C:E,3,0),0)","v":0},{"v":13.22,"d":"€13.22"}]
["Auto",204840,48600,1,"Normal",{"v":20.66,"d":"€20.66"},"SD/SG",{"$f":"IFERROR(VLOOKUP(G26920,Discounts!C:E,3,0),0)","v":0},{"v":20.66,"d":"€20.66"}]
["Auto",204840,204830,1,"Normal",{"v":817.36,"d":"€817.36"},"E095",{"$f":"IFERROR(VLOOKUP(G26921,Discounts!C:E,3,0),0)","v":0},{"v":817.36,"d":"€817.36"}]
["Auto",204860,31920,1,"Normal",{"v":121.49,"d":"€121.49"},"SD/SG",{"$f":"IFERROR(VLOOKUP(G26922,Discounts!C:E,3,0),0)","v":0},{"v":121.49,"d":"€121.49"}]
["Auto",204860,40450,1,"Normal",{"v":13.22,"d":"€13.22"},"SD/SG",{"$f":"IFERROR(VLOOKUP(G26923,Discounts!C:E,3,0),0)","v":0},{"v":13.22,"d":"€13.22"}]
["Auto",204860,48600,1,"Normal",{"v":20.66,"d":"€20.66"},"SD/SG",{"$f":"IFERROR(VLOOKUP(G26924,Discounts!C:E,3,0),0)","v":0},{"v":20.66,"d":"€20.66"}]
["Auto",204860,204850,1,"Normal",{"v":852.07,"d":"€852.07"},"E095",{"$f":"IFERROR(VLOOKUP(G26925,Discounts!C:E,3,0),0)","v":0},{"v":852.07,"d":"€852.07"}]
["Auto",204880,31920,1,"Normal",{"v":121.49,"d":"€121.49"},"SD/SG",{"$f":"IFERROR(VLOOKUP(G26926,Discounts!C:E,3,0),0)","v":0},{"v":121.49,"d":"€121.49"}]
["Auto",204880,40450,1,"Normal",{"v":13.22,"d":"€13.22"},"SD/SG",{"$f":"IFERROR(VLOOKUP(G26927,Discounts!C:E,3,0),0)","v":0},{"v":13.22,"d":"€13.22"}]
["Auto",204880,48600,1,"Normal",{"v":20.66,"d":"€20.66"},"SD/SG",{"$f":"IFERROR(VLOOKUP(G26928,Discounts!C:E,3,0),0)","v":0},{"v":20.66,"d":"€20.66"}]
["Auto",204880,204870,1,"Normal",{"v":889.26,"d":"€889.26"},"E095",{"$f":"IFERROR(VLOOKUP(G26929,Discounts!C:E,3,0),0)","v":0},{"v":889.26,"d":"€889.26"}]
["Auto",204900,31920,1,"Normal",{"v":121.49,"d":"€121.49"},"SD/SG",{"$f":"IFERROR(VLOOKUP(G26930,Discounts!C:E,3,0),0)","v":0},{"v":121.49,"d":"€121.49"}]
["Auto",204900,40450,1,"Normal",{"v":13.22,"d":"€13.22"},"SD/SG",{"$f":"IFERROR(VLOOKUP(G26931,Discounts!C:E,3,0),0)","v":0},{"v":13.22,"d":"€13.22"}]
["Auto",204900,48600,1,"Normal",{"v":20.66,"d":"€20.66"},"SD/SG",{"$f":"IFERROR(VLOOKUP(G26932,Discounts!C:E,3,0),0)","v":0},{"v":20.66,"d":"€20.66"}]
["Auto",204900,204890,1,"Normal",{"v":931.4,"d":"€931.40"},"E095",{"$f":"IFERROR(VLOOKUP(G26933,Discounts!C:E,3,0),0)","v":0},{"v":931.4,"d":"€931.40"}]
["Auto",204920,31920,1,"Normal",{"v":121.49,"d":"€121.49"},"SD/SG",{"$f":"IFERROR(VLOOKUP(G26934,Discounts!C:E,3,0),0)","v":0},{"v":121.49,"d":"€121.49"}]
["Auto",204920,40450,1,"Normal",{"v":13.22,"d":"€13.22"},"SD/SG",{"$f":"IFERROR(VLOOKUP(G26935,Discounts!C:E,3,0),0)","v":0},{"v":13.22,"d":"€13.22"}]
["Auto",204920,48600,1,"Normal",{"v":20.66,"d":"€20.66"},"SD/SG",{"$f":"IFERROR(VLOOKUP(G26936,Discounts!C:E,3,0),0)","v":0},{"v":20.66,"d":"€20.66"}]
["Auto",204920,204910,1,"Normal",{"v":969.42,"d":"€969.42"},"E095",{"$f":"IFERROR(VLOOKUP(G26937,Discounts!C:E,3,0),0)","v":0},{"v":969.42,"d":"€969.42"}]
["Auto",204940,31920,1,"Normal",{"v":121.49,"d":"€121.49"},"SD/SG",{"$f":"IFERROR(VLOOKUP(G26938,Discounts!C:E,3,0),0)","v":0},{"v":121.49,"d":"€121.49"}]
["Auto",204940,40450,2,"Normal",{"v":26.44,"d":"€26.44"},"SD/SG",{"$f":"IFERROR(VLOOKUP(G26939,Discounts!C:E,3,0),0)","v":0},{"v":26.44,"d":"€26.44"}]
["Auto",204940,40970,1,"Normal",{"v":58.68,"d":"€58.68"},"SD/SG",{"$f":"IFERROR(VLOOKUP(G26940,Discounts!C:E,3,0),0)","v":0},{"v":58.68,"d":"€58.68"}]
["Auto",204940,48610,1,"Normal",{"v":38.84,"d":"€38.84"},"SD/SG",{"$f":"IFERROR(VLOOKUP(G26941,Discounts!C:E,3,0),0)","v":0},{"v":38.84,"d":"€38.84"}]
["Auto",204940,204930,1,"Normal",{"v":953.72,"d":"€953.72"},"E095",{"$f":"IFERROR(VLOOKUP(G26942,Discounts!C:E,3,0),0)","v":0},{"v":953.72,"d":"€953.72"}]
["Auto",205450,34260,1,"Normal",{"v":249.59,"d":"€249.59"},"LUXE",{"$f":"IFERROR(VLOOKUP(G26943,Discounts!C:E,3,0),0)","v":0},{"v":249.59,"d":"€249.59"}]
["Auto",205450,194380,1,"Normal",{"v":2474.38,"d":"€2,474.38"},"A010",{"$f":"IFERROR(VLOOKUP(G26944,Discounts!C:E,3,0),0)","v":0},{"v":2474.38,"d":"€2,474.38"}]
["Auto",205460,34260,1,"Normal",{"v":249.59,"d":"€249.59"},"LUXE",{"$f":"IFERROR(VLOOKUP(G26945,Discounts!C:E,3,0),0)","v":0},{"v":249.59,"d":"€249.59"}]
["Auto",205460,196680,1,"Normal",{"v":1955.37,"d":"€1,955.37"},"A010",{"$f":"IFERROR(VLOOKUP(G26946,Discounts!C:E,3,0),0)","v":0},{"v":1955.37,"d":"€1,955.37"}]