{"text_format":"3","workbook":"xlsx","n_sheets":3,"sheets":["Combination lines","Discounts","Report"],"not_rendered":{"defined_names":2},"read":"whole","date_system":"1900"}

{"sheet":"Combination lines","index":0,"n_rows":26878,"n_cols":8,"rows_kept":4500,"cut":true,"bounds":{"rows_first":2000,"rows_last":500,"rows_between":2000,"halvings":0}}
["Combi","Brandline","Qty","Type","Gross","Discount code","Disctount","Nett price"]
[350,118210,1,"Normal",{"v":1562.81,"d":"€1,562.81"},"A015",{"$f":"IFERROR(VLOOKUP(F2,Discounts!A:C,3,0),0)","v":0},{"$f":"IF(D2=\"Normal\",E2*(1-G2),SUMIF(A:A,B2,H:H)*C2)","v":{"v":1562.81,"d":"€1,562.81"}}]
[350,134070,1,"Normal",0,"LUXE",{"$f":"IFERROR(VLOOKUP(F3,Discounts!A:C,3,0),0)","v":0},0]
[370,118220,1,"Normal",{"v":1562.81,"d":"€1,562.81"},"A015",{"$f":"IFERROR(VLOOKUP(F4,Discounts!A:C,3,0),0)","v":0},{"v":1562.81,"d":"€1,562.81"}]
[370,134070,1,"Normal",0,"LUXE",{"$f":"IFERROR(VLOOKUP(F5,Discounts!A:C,3,0),0)","v":0},0]
[390,118230,1,"Normal",{"v":1562.81,"d":"€1,562.81"},"A015",{"$f":"IFERROR(VLOOKUP(F6,Discounts!A:C,3,0),0)","v":0},{"v":1562.81,"d":"€1,562.81"}]
[390,134070,1,"Normal",0,"LUXE",{"$f":"IFERROR(VLOOKUP(F7,Discounts!A:C,3,0),0)","v":0},0]
[410,118240,1,"Normal",{"v":1562.81,"d":"€1,562.81"},"A015",{"$f":"IFERROR(VLOOKUP(F8,Discounts!A:C,3,0),0)","v":0},{"v":1562.81,"d":"€1,562.81"}]
[410,134070,1,"Normal",0,"LUXE",{"$f":"IFERROR(VLOOKUP(F9,Discounts!A:C,3,0),0)","v":0},0]
[430,118250,1,"Normal",{"v":1562.81,"d":"€1,562.81"},"A015",{"$f":"IFERROR(VLOOKUP(F10,Discounts!A:C,3,0),0)","v":0},{"v":1562.81,"d":"€1,562.81"}]
[430,134070,1,"Normal",0,"LUXE",{"$f":"IFERROR(VLOOKUP(F11,Discounts!A:C,3,0),0)","v":0},0]
[450,118260,1,"Normal",{"v":1562.81,"d":"€1,562.81"},"A015",{"$f":"IFERROR(VLOOKUP(F12,Discounts!A:C,3,0),0)","v":0},{"v":1562.81,"d":"€1,562.81"}]
[450,134070,1,"Normal",0,"LUXE",{"$f":"IFERROR(VLOOKUP(F13,Discounts!A:C,3,0),0)","v":0},0]
[470,118270,1,"Normal",{"v":2432.23,"d":"€2,432.23"},"A015",{"$f":"IFERROR(VLOOKUP(F14,Discounts!A:C,3,0),0)","v":0},{"v":2432.23,"d":"€2,432.23"}]
[470,134070,1,"Normal",0,"LUXE",{"$f":"IFERROR(VLOOKUP(F15,Discounts!A:C,3,0),0)","v":0},0]
[490,118280,1,"Normal",{"v":2324.79,"d":"€2,324.79"},"A015",{"$f":"IFERROR(VLOOKUP(F16,Discounts!A:C,3,0),0)","v":0},{"v":2324.79,"d":"€2,324.79"}]
[490,134070,1,"Normal",0,"LUXE",{"$f":"IFERROR(VLOOKUP(F17,Discounts!A:C,3,0),0)","v":0},0]
[510,118290,1,"Normal",{"v":2422.31,"d":"€2,422.31"},"A015",{"$f":"IFERROR(VLOOKUP(F18,Discounts!A:C,3,0),0)","v":0},{"v":2422.31,"d":"€2,422.31"}]
[510,134070,1,"Normal",0,"LUXE",{"$f":"IFERROR(VLOOKUP(F19,Discounts!A:C,3,0),0)","v":0},0]
[530,118300,1,"Normal",{"v":2130.58,"d":"€2,130.58"},"A015",{"$f":"IFERROR(VLOOKUP(F20,Discounts!A:C,3,0),0)","v":0},{"v":2130.58,"d":"€2,130.58"}]
[530,134070,1,"Normal",0,"LUXE",{"$f":"IFERROR(VLOOKUP(F21,Discounts!A:C,3,0),0)","v":0},0]
[550,118310,1,"Normal",{"v":2023.14,"d":"€2,023.14"},"A015",{"$f":"IFERROR(VLOOKUP(F22,Discounts!A:C,3,0),0)","v":0},{"v":2023.14,"d":"€2,023.14"}]
[550,134070,1,"Normal",0,"LUXE",{"$f":"IFERROR(VLOOKUP(F23,Discounts!A:C,3,0),0)","v":0},0]
[570,118320,1,"Normal",{"v":2114.88,"d":"€2,114.88"},"A015",{"$f":"IFERROR(VLOOKUP(F24,Discounts!A:C,3,0),0)","v":0},{"v":2114.88,"d":"€2,114.88"}]
[570,134070,1,"Normal",0,"LUXE",{"$f":"IFERROR(VLOOKUP(F25,Discounts!A:C,3,0),0)","v":0},0]
[590,118330,1,"Normal",{"v":1594.21,"d":"€1,594.21"},"A015",{"$f":"IFERROR(VLOOKUP(F26,Discounts!A:C,3,0),0)","v":0},{"v":1594.21,"d":"€1,594.21"}]
[590,134070,1,"Normal",0,"LUXE",{"$f":"IFERROR(VLOOKUP(F27,Discounts!A:C,3,0),0)","v":0},0]
[610,118340,1,"Normal",{"v":1594.21,"d":"€1,594.21"},"A015",{"$f":"IFERROR(VLOOKUP(F28,Discounts!A:C,3,0),0)","v":0},{"v":1594.21,"d":"€1,594.21"}]
[610,134070,1,"Normal",0,"LUXE",{"$f":"IFERROR(VLOOKUP(F29,Discounts!A:C,3,0),0)","v":0},0]
[630,118350,1,"Normal",{"v":1594.21,"d":"€1,594.21"},"A015",{"$f":"IFERROR(VLOOKUP(F30,Discounts!A:C,3,0),0)","v":0},{"v":1594.21,"d":"€1,594.21"}]
[630,134070,1,"Normal",0,"LUXE",{"$f":"IFERROR(VLOOKUP(F31,Discounts!A:C,3,0),0)","v":0},0]
[650,118360,1,"Normal",{"v":1885.95,"d":"€1,885.95"},"A015",{"$f":"IFERROR(VLOOKUP(F32,Discounts!A:C,3,0),0)","v":0},{"v":1885.95,"d":"€1,885.95"}]
[650,134070,1,"Normal",0,"LUXE",{"$f":"IFERROR(VLOOKUP(F33,Discounts!A:C,3,0),0)","v":0},0]
[670,118370,1,"Normal",{"v":1990.08,"d":"€1,990.08"},"A015",{"$f":"IFERROR(VLOOKUP(F34,Discounts!A:C,3,0),0)","v":0},{"v":1990.08,"d":"€1,990.08"}]
[670,134070,1,"Normal",0,"LUXE",{"$f":"IFERROR(VLOOKUP(F35,Discounts!A:C,3,0),0)","v":0},0]
[690,118380,1,"Normal",{"v":2233.06,"d":"€2,233.06"},"A015",{"$f":"IFERROR(VLOOKUP(F36,Discounts!A:C,3,0),0)","v":0},{"v":2233.06,"d":"€2,233.06"}]
[690,134070,1,"Normal",0,"LUXE",{"$f":"IFERROR(VLOOKUP(F37,Discounts!A:C,3,0),0)","v":0},0]
[710,118390,1,"Normal",{"v":2331.4,"d":"€2,331.40"},"A015",{"$f":"IFERROR(VLOOKUP(F38,Discounts!A:C,3,0),0)","v":0},{"v":2331.4,"d":"€2,331.40"}]
[710,134070,1,"Normal",0,"LUXE",{"$f":"IFERROR(VLOOKUP(F39,Discounts!A:C,3,0),0)","v":0},0]
[730,134070,1,"Normal",0,"LUXE",{"$f":"IFERROR(VLOOKUP(F40,Discounts!A:C,3,0),0)","v":0},0]
[730,134090,1,"Normal",{"v":2490.91,"d":"€2,490.91"},"A010",{"$f":"IFERROR(VLOOKUP(F41,Discounts!A:C,3,0),0)","v":0},{"v":2490.91,"d":"€2,490.91"}]
[750,134070,1,"Normal",0,"LUXE",{"$f":"IFERROR(VLOOKUP(F42,Discounts!A:C,3,0),0)","v":0},0]
[750,134100,1,"Normal",{"v":2689.26,"d":"€2,689.26"},"A010",{"$f":"IFERROR(VLOOKUP(F43,Discounts!A:C,3,0),0)","v":0},{"v":2689.26,"d":"€2,689.26"}]
[770,134070,1,"Normal",0,"LUXE",{"$f":"IFERROR(VLOOKUP(F44,Discounts!A:C,3,0),0)","v":0},0]
[770,134110,1,"Normal",{"v":2643.8,"d":"€2,643.80"},"A010",{"$f":"IFERROR(VLOOKUP(F45,Discounts!A:C,3,0),0)","v":0},{"v":2643.8,"d":"€2,643.80"}]
[790,118400,1,"Normal",{"v":1911.57,"d":"€1,911.57"},"A010",{"$f":"IFERROR(VLOOKUP(F46,Discounts!A:C,3,0),0)","v":0},{"v":1911.57,"d":"€1,911.57"}]
[790,134070,1,"Normal",0,"LUXE",{"$f":"IFERROR(VLOOKUP(F47,Discounts!A:C,3,0),0)","v":0},0]
[810,118410,1,"Normal",{"v":1953.72,"d":"€1,953.72"},"A010",{"$f":"IFERROR(VLOOKUP(F48,Discounts!A:C,3,0),0)","v":0},{"v":1953.72,"d":"€1,953.72"}]
[810,134070,1,"Normal",0,"LUXE",{"$f":"IFERROR(VLOOKUP(F49,Discounts!A:C,3,0),0)","v":0},0]
[830,118420,1,"Normal",{"v":1842.15,"d":"€1,842.15"},"A010",{"$f":"IFERROR(VLOOKUP(F50,Discounts!A:C,3,0),0)","v":0},{"v":1842.15,"d":"€1,842.15"}]
[830,134070,1,"Normal",0,"LUXE",{"$f":"IFERROR(VLOOKUP(F51,Discounts!A:C,3,0),0)","v":0},0]
[850,118430,1,"Normal",{"v":1750.41,"d":"€1,750.41"},"A010",{"$f":"IFERROR(VLOOKUP(F52,Discounts!A:C,3,0),0)","v":0},{"v":1750.41,"d":"€1,750.41"}]
[850,134070,1,"Normal",0,"LUXE",{"$f":"IFERROR(VLOOKUP(F53,Discounts!A:C,3,0),0)","v":0},0]
[870,118440,1,"Normal",{"v":1971.9,"d":"€1,971.90"},"A010",{"$f":"IFERROR(VLOOKUP(F54,Discounts!A:C,3,0),0)","v":0},{"v":1971.9,"d":"€1,971.90"}]
[870,134070,1,"Normal",0,"LUXE",{"$f":"IFERROR(VLOOKUP(F55,Discounts!A:C,3,0),0)","v":0},0]
[890,118450,1,"Normal",{"v":1659.5,"d":"€1,659.50"},"A010",{"$f":"IFERROR(VLOOKUP(F56,Discounts!A:C,3,0),0)","v":0},{"v":1659.5,"d":"€1,659.50"}]
[890,134070,1,"Normal",0,"LUXE",{"$f":"IFERROR(VLOOKUP(F57,Discounts!A:C,3,0),0)","v":0},0]
[910,118460,1,"Normal",{"v":1750.41,"d":"€1,750.41"},"A010",{"$f":"IFERROR(VLOOKUP(F58,Discounts!A:C,3,0),0)","v":0},{"v":1750.41,"d":"€1,750.41"}]
[910,134070,1,"Normal",0,"LUXE",{"$f":"IFERROR(VLOOKUP(F59,Discounts!A:C,3,0),0)","v":0},0]
[930,118470,1,"Normal",{"v":2490.91,"d":"€2,490.91"},"A010",{"$f":"IFERROR(VLOOKUP(F60,Discounts!A:C,3,0),0)","v":0},{"v":2490.91,"d":"€2,490.91"}]
[930,134070,1,"Normal",0,"LUXE",{"$f":"IFERROR(VLOOKUP(F61,Discounts!A:C,3,0),0)","v":0},0]
[950,118480,1,"Normal",{"v":3459.5,"d":"€3,459.50"},"A010",{"$f":"IFERROR(VLOOKUP(F62,Discounts!A:C,3,0),0)","v":0},{"v":3459.5,"d":"€3,459.50"}]
[950,134070,1,"Normal",0,"LUXE",{"$f":"IFERROR(VLOOKUP(F63,Discounts!A:C,3,0),0)","v":0},0]
[970,118490,1,"Normal",{"v":3483.47,"d":"€3,483.47"},"A010",{"$f":"IFERROR(VLOOKUP(F64,Discounts!A:C,3,0),0)","v":0},{"v":3483.47,"d":"€3,483.47"}]
[970,134070,1,"Normal",0,"LUXE",{"$f":"IFERROR(VLOOKUP(F65,Discounts!A:C,3,0),0)","v":0},0]
[990,118500,1,"Normal",{"v":3078.51,"d":"€3,078.51"},"A010",{"$f":"IFERROR(VLOOKUP(F66,Discounts!A:C,3,0),0)","v":0},{"$f":"IF(D66=\"Normal\",E66*(1-G66),SUMIF(A:A,B66,H:H)*C66)","v":{"v":3078.51,"d":"€3,078.51"}}]
[990,134070,1,"Normal",0,"LUXE",{"$f":"IFERROR(VLOOKUP(F67,Discounts!A:C,3,0),0)","v":0},0]
[1010,118510,1,"Normal",{"v":2792.56,"d":"€2,792.56"},"A010",{"$f":"IFERROR(VLOOKUP(F68,Discounts!A:C,3,0),0)","v":0},{"v":2792.56,"d":"€2,792.56"}]
[1010,134070,1,"Normal",0,"LUXE",{"$f":"IFERROR(VLOOKUP(F69,Discounts!A:C,3,0),0)","v":0},0]
[1030,118520,1,"Normal",{"v":2734.71,"d":"€2,734.71"},"A010",{"$f":"IFERROR(VLOOKUP(F70,Discounts!A:C,3,0),0)","v":0},{"v":2734.71,"d":"€2,734.71"}]
[1030,134070,1,"Normal",0,"LUXE",{"$f":"IFERROR(VLOOKUP(F71,Discounts!A:C,3,0),0)","v":0},0]
[1050,118530,1,"Normal",{"v":2156.2,"d":"€2,156.20"},"A010",{"$f":"IFERROR(VLOOKUP(F72,Discounts!A:C,3,0),0)","v":0},{"v":2156.2,"d":"€2,156.20"}]
[1050,134070,1,"Normal",0,"LUXE",{"$f":"IFERROR(VLOOKUP(F73,Discounts!A:C,3,0),0)","v":0},0]
[1070,118540,1,"Normal",{"v":2042.98,"d":"€2,042.98"},"A010",{"$f":"IFERROR(VLOOKUP(F74,Discounts!A:C,3,0),0)","v":0},{"v":2042.98,"d":"€2,042.98"}]
[1070,134070,1,"Normal",0,"LUXE",{"$f":"IFERROR(VLOOKUP(F75,Discounts!A:C,3,0),0)","v":0},0]
[1090,118550,1,"Normal",{"v":2055.37,"d":"€2,055.37"},"A010",{"$f":"IFERROR(VLOOKUP(F76,Discounts!A:C,3,0),0)","v":0},{"v":2055.37,"d":"€2,055.37"}]
[1090,134070,1,"Normal",0,"LUXE",{"$f":"IFERROR(VLOOKUP(F77,Discounts!A:C,3,0),0)","v":0},0]
[1110,118560,1,"Normal",{"v":2263.64,"d":"€2,263.64"},"A010",{"$f":"IFERROR(VLOOKUP(F78,Discounts!A:C,3,0),0)","v":0},{"v":2263.64,"d":"€2,263.64"}]
[1110,134070,1,"Normal",0,"LUXE",{"$f":"IFERROR(VLOOKUP(F79,Discounts!A:C,3,0),0)","v":0},0]
[1130,118570,1,"Normal",{"v":2133.88,"d":"€2,133.88"},"A010",{"$f":"IFERROR(VLOOKUP(F80,Discounts!A:C,3,0),0)","v":0},{"v":2133.88,"d":"€2,133.88"}]
[1130,134070,1,"Normal",0,"LUXE",{"$f":"IFERROR(VLOOKUP(F81,Discounts!A:C,3,0),0)","v":0},0]
[1150,118580,1,"Normal",{"v":2156.2,"d":"€2,156.20"},"A010",{"$f":"IFERROR(VLOOKUP(F82,Discounts!A:C,3,0),0)","v":0},{"v":2156.2,"d":"€2,156.20"}]
[1150,134070,1,"Normal",0,"LUXE",{"$f":"IFERROR(VLOOKUP(F83,Discounts!A:C,3,0),0)","v":0},0]
[1170,118590,1,"Normal",{"v":2356.2,"d":"€2,356.20"},"A010",{"$f":"IFERROR(VLOOKUP(F84,Discounts!A:C,3,0),0)","v":0},{"v":2356.2,"d":"€2,356.20"}]
[1170,134070,1,"Normal",0,"LUXE",{"$f":"IFERROR(VLOOKUP(F85,Discounts!A:C,3,0),0)","v":0},0]
[1190,118600,1,"Normal",{"v":2549.59,"d":"€2,549.59"},"A010",{"$f":"IFERROR(VLOOKUP(F86,Discounts!A:C,3,0),0)","v":0},{"v":2549.59,"d":"€2,549.59"}]
[1190,134070,1,"Normal",0,"LUXE",{"$f":"IFERROR(VLOOKUP(F87,Discounts!A:C,3,0),0)","v":0},0]
[1210,118610,1,"Normal",{"v":2356.2,"d":"€2,356.20"},"A010",{"$f":"IFERROR(VLOOKUP(F88,Discounts!A:C,3,0),0)","v":0},{"v":2356.2,"d":"€2,356.20"}]
[1210,134070,1,"Normal",0,"LUXE",{"$f":"IFERROR(VLOOKUP(F89,Discounts!A:C,3,0),0)","v":0},0]
[1230,118620,1,"Normal",{"v":2356.2,"d":"€2,356.20"},"A010",{"$f":"IFERROR(VLOOKUP(F90,Discounts!A:C,3,0),0)","v":0},{"v":2356.2,"d":"€2,356.20"}]
[1230,134070,1,"Normal",0,"LUXE",{"$f":"IFERROR(VLOOKUP(F91,Discounts!A:C,3,0),0)","v":0},0]
[1250,118630,1,"Normal",{"v":2598.35,"d":"€2,598.35"},"A010",{"$f":"IFERROR(VLOOKUP(F92,Discounts!A:C,3,0),0)","v":0},{"v":2598.35,"d":"€2,598.35"}]
[1250,134070,1,"Normal",0,"LUXE",{"$f":"IFERROR(VLOOKUP(F93,Discounts!A:C,3,0),0)","v":0},0]
[1270,118640,1,"Normal",{"v":2473.55,"d":"€2,473.55"},"A010",{"$f":"IFERROR(VLOOKUP(F94,Discounts!A:C,3,0),0)","v":0},{"v":2473.55,"d":"€2,473.55"}]
[1270,134070,1,"Normal",0,"LUXE",{"$f":"IFERROR(VLOOKUP(F95,Discounts!A:C,3,0),0)","v":0},0]
[1290,118650,1,"Normal",{"v":2356.2,"d":"€2,356.20"},"A010",{"$f":"IFERROR(VLOOKUP(F96,Discounts!A:C,3,0),0)","v":0},{"v":2356.2,"d":"€2,356.20"}]
[1290,134070,1,"Normal",0,"LUXE",{"$f":"IFERROR(VLOOKUP(F97,Discounts!A:C,3,0),0)","v":0},0]
[1310,118660,1,"Normal",{"v":2519.83,"d":"€2,519.83"},"A010",{"$f":"IFERROR(VLOOKUP(F98,Discounts!A:C,3,0),0)","v":0},{"v":2519.83,"d":"€2,519.83"}]
[1310,134070,1,"Normal",0,"LUXE",{"$f":"IFERROR(VLOOKUP(F99,Discounts!A:C,3,0),0)","v":0},0]
[1330,118670,1,"Normal",{"v":2356.2,"d":"€2,356.20"},"A010",{"$f":"IFERROR(VLOOKUP(F100,Discounts!A:C,3,0),0)","v":0},{"v":2356.2,"d":"€2,356.20"}]
[1330,134070,1,"Normal",0,"LUXE",{"$f":"IFERROR(VLOOKUP(F101,Discounts!A:C,3,0),0)","v":0},0]
[1350,118680,1,"Normal",{"v":2356.2,"d":"€2,356.20"},"A010",{"$f":"IFERROR(VLOOKUP(F102,Discounts!A:C,3,0),0)","v":0},{"v":2356.2,"d":"€2,356.20"}]
[1350,134070,1,"Normal",0,"LUXE",{"$f":"IFERROR(VLOOKUP(F103,Discounts!A:C,3,0),0)","v":0},0]
[1370,118690,1,"Normal",{"v":2598.35,"d":"€2,598.35"},"A010",{"$f":"IFERROR(VLOOKUP(F104,Discounts!A:C,3,0),0)","v":0},{"v":2598.35,"d":"€2,598.35"}]
[1370,134070,1,"Normal",0,"LUXE",{"$f":"IFERROR(VLOOKUP(F105,Discounts!A:C,3,0),0)","v":0},0]
[1390,118700,1,"Normal",{"v":2000.83,"d":"€2,000.83"},"A010",{"$f":"IFERROR(VLOOKUP(F106,Discounts!A:C,3,0),0)","v":0},{"v":2000.83,"d":"€2,000.83"}]
[1390,134070,1,"Normal",0,"LUXE",{"$f":"IFERROR(VLOOKUP(F107,Discounts!A:C,3,0),0)","v":0},0]
[1410,118710,1,"Normal",{"v":2114.88,"d":"€2,114.88"},"A010",{"$f":"IFERROR(VLOOKUP(F108,Discounts!A:C,3,0),0)","v":0},{"v":2114.88,"d":"€2,114.88"}]
[1410,134070,1,"Normal",0,"LUXE",{"$f":"IFERROR(VLOOKUP(F109,Discounts!A:C,3,0),0)","v":0},0]
[1430,118720,1,"Normal",{"v":2139.67,"d":"€2,139.67"},"A010",{"$f":"IFERROR(VLOOKUP(F110,Discounts!A:C,3,0),0)","v":0},{"v":2139.67,"d":"€2,139.67"}]
[1430,134070,1,"Normal",0,"LUXE",{"$f":"IFERROR(VLOOKUP(F111,Discounts!A:C,3,0),0)","v":0},0]
[1450,118730,1,"Normal",{"v":2433.06,"d":"€2,433.06"},"A010",{"$f":"IFERROR(VLOOKUP(F112,Discounts!A:C,3,0),0)","v":0},{"v":2433.06,"d":"€2,433.06"}]
[1450,134070,1,"Normal",0,"LUXE",{"$f":"IFERROR(VLOOKUP(F113,Discounts!A:C,3,0),0)","v":0},0]
[1470,118740,1,"Normal",{"v":2342.98,"d":"€2,342.98"},"A010",{"$f":"IFERROR(VLOOKUP(F114,Discounts!A:C,3,0),0)","v":0},{"v":2342.98,"d":"€2,342.98"}]
[1470,134070,1,"Normal",0,"LUXE",{"$f":"IFERROR(VLOOKUP(F115,Discounts!A:C,3,0),0)","v":0},0]
[1490,118750,1,"Normal",{"v":2433.06,"d":"€2,433.06"},"A010",{"$f":"IFERROR(VLOOKUP(F116,Discounts!A:C,3,0),0)","v":0},{"v":2433.06,"d":"€2,433.06"}]
[1490,134070,1,"Normal",0,"LUXE",{"$f":"IFERROR(VLOOKUP(F117,Discounts!A:C,3,0),0)","v":0},0]
[1510,118760,1,"Normal",{"v":2433.06,"d":"€2,433.06"},"A010",{"$f":"IFERROR(VLOOKUP(F118,Discounts!A:C,3,0),0)","v":0},{"v":2433.06,"d":"€2,433.06"}]
[1510,134070,1,"Normal",0,"LUXE",{"$f":"IFERROR(VLOOKUP(F119,Discounts!A:C,3,0),0)","v":0},0]
[1530,118770,1,"Normal",{"v":1795.87,"d":"€1,795.87"},"A010",{"$f":"IFERROR(VLOOKUP(F120,Discounts!A:C,3,0),0)","v":0},{"v":1795.87,"d":"€1,795.87"}]
[1530,134070,1,"Normal",0,"LUXE",{"$f":"IFERROR(VLOOKUP(F121,Discounts!A:C,3,0),0)","v":0},0]
[1550,118780,1,"Normal",{"v":1738.02,"d":"€1,738.02"},"A010",{"$f":"IFERROR(VLOOKUP(F122,Discounts!A:C,3,0),0)","v":0},{"v":1738.02,"d":"€1,738.02"}]
[1550,134070,1,"Normal",0,"LUXE",{"$f":"IFERROR(VLOOKUP(F123,Discounts!A:C,3,0),0)","v":0},0]
[1570,118790,1,"Normal",{"v":1832.23,"d":"€1,832.23"},"A010",{"$f":"IFERROR(VLOOKUP(F124,Discounts!A:C,3,0),0)","v":0},{"v":1832.23,"d":"€1,832.23"}]
[1570,134070,1,"Normal",0,"LUXE",{"$f":"IFERROR(VLOOKUP(F125,Discounts!A:C,3,0),0)","v":0},0]
[1590,118800,1,"Normal",{"v":1214.88,"d":"€1,214.88"},"A010",{"$f":"IFERROR(VLOOKUP(F126,Discounts!A:C,3,0),0)","v":0},{"v":1214.88,"d":"€1,214.88"}]
[1590,134070,1,"Normal",0,"LUXE",{"$f":"IFERROR(VLOOKUP(F127,Discounts!A:C,3,0),0)","v":0},0]
[1610,118810,1,"Normal",{"v":1214.88,"d":"€1,214.88"},"A010",{"$f":"IFERROR(VLOOKUP(F128,Discounts!A:C,3,0),0)","v":0},{"v":1214.88,"d":"€1,214.88"}]
[1610,134070,1,"Normal",0,"LUXE",{"$f":"IFERROR(VLOOKUP(F129,Discounts!A:C,3,0),0)","v":0},0]
[1630,118820,1,"Normal",{"v":1613.22,"d":"€1,613.22"},"A010",{"$f":"IFERROR(VLOOKUP(F130,Discounts!A:C,3,0),0)","v":0},{"$f":"IF(D130=\"Normal\",E130*(1-G130),SUMIF(A:A,B130,H:H)*C130)","v":{"v":1613.22,"d":"€1,613.22"}}]
[1630,134070,1,"Normal",0,"LUXE",{"$f":"IFERROR(VLOOKUP(F131,Discounts!A:C,3,0),0)","v":0},0]
[1650,118830,1,"Normal",{"v":2279.34,"d":"€2,279.34"},"A010",{"$f":"IFERROR(VLOOKUP(F132,Discounts!A:C,3,0),0)","v":0},{"v":2279.34,"d":"€2,279.34"}]
[1650,134070,1,"Normal",0,"LUXE",{"$f":"IFERROR(VLOOKUP(F133,Discounts!A:C,3,0),0)","v":0},0]
[1670,118840,1,"Normal",{"v":2818.18,"d":"€2,818.18"},"A010",{"$f":"IFERROR(VLOOKUP(F134,Discounts!A:C,3,0),0)","v":0},{"v":2818.18,"d":"€2,818.18"}]
[1670,134070,1,"Normal",0,"LUXE",{"$f":"IFERROR(VLOOKUP(F135,Discounts!A:C,3,0),0)","v":0},0]
[1690,118850,1,"Normal",{"v":2679.34,"d":"€2,679.34"},"A010",{"$f":"IFERROR(VLOOKUP(F136,Discounts!A:C,3,0),0)","v":0},{"v":2679.34,"d":"€2,679.34"}]
[1690,134070,1,"Normal",0,"LUXE",{"$f":"IFERROR(VLOOKUP(F137,Discounts!A:C,3,0),0)","v":0},0]
[1710,118860,1,"Normal",{"v":2387.6,"d":"€2,387.60"},"A010",{"$f":"IFERROR(VLOOKUP(F138,Discounts!A:C,3,0),0)","v":0},{"v":2387.6,"d":"€2,387.60"}]
[1710,134070,1,"Normal",0,"LUXE",{"$f":"IFERROR(VLOOKUP(F139,Discounts!A:C,3,0),0)","v":0},0]
[1730,118870,1,"Normal",{"v":2573.55,"d":"€2,573.55"},"A010",{"$f":"IFERROR(VLOOKUP(F140,Discounts!A:C,3,0),0)","v":0},{"v":2573.55,"d":"€2,573.55"}]
[1730,134070,1,"Normal",0,"LUXE",{"$f":"IFERROR(VLOOKUP(F141,Discounts!A:C,3,0),0)","v":0},0]
[1750,118880,1,"Normal",{"v":1239.67,"d":"€1,239.67"},"A010",{"$f":"IFERROR(VLOOKUP(F142,Discounts!A:C,3,0),0)","v":0},{"v":1239.67,"d":"€1,239.67"}]
[1750,134070,1,"Normal",0,"LUXE",{"$f":"IFERROR(VLOOKUP(F143,Discounts!A:C,3,0),0)","v":0},0]
[1770,118890,1,"Normal",{"v":1268.6,"d":"€1,268.60"},"A010",{"$f":"IFERROR(VLOOKUP(F144,Discounts!A:C,3,0),0)","v":0},{"v":1268.6,"d":"€1,268.60"}]
[1770,134070,1,"Normal",0,"LUXE",{"$f":"IFERROR(VLOOKUP(F145,Discounts!A:C,3,0),0)","v":0},0]
[1790,118900,1,"Normal",{"v":1310.74,"d":"€1,310.74"},"A010",{"$f":"IFERROR(VLOOKUP(F146,Discounts!A:C,3,0),0)","v":0},{"v":1310.74,"d":"€1,310.74"}]
[1790,134070,1,"Normal",0,"LUXE",{"$f":"IFERROR(VLOOKUP(F147,Discounts!A:C,3,0),0)","v":0},0]
[1810,118910,1,"Normal",{"v":1402.48,"d":"€1,402.48"},"A010",{"$f":"IFERROR(VLOOKUP(F148,Discounts!A:C,3,0),0)","v":0},{"v":1402.48,"d":"€1,402.48"}]
[1810,134070,1,"Normal",0,"LUXE",{"$f":"IFERROR(VLOOKUP(F149,Discounts!A:C,3,0),0)","v":0},0]
[1830,118920,1,"Normal",{"v":1360.33,"d":"€1,360.33"},"A010",{"$f":"IFERROR(VLOOKUP(F150,Discounts!A:C,3,0),0)","v":0},{"v":1360.33,"d":"€1,360.33"}]
[1830,134070,1,"Normal",0,"LUXE",{"$f":"IFERROR(VLOOKUP(F151,Discounts!A:C,3,0),0)","v":0},0]
[1850,118930,1,"Normal",{"v":1832.23,"d":"€1,832.23"},"A010",{"$f":"IFERROR(VLOOKUP(F152,Discounts!A:C,3,0),0)","v":0},{"v":1832.23,"d":"€1,832.23"}]
[1850,134070,1,"Normal",0,"LUXE",{"$f":"IFERROR(VLOOKUP(F153,Discounts!A:C,3,0),0)","v":0},0]
[1870,118940,1,"Normal",{"v":1832.23,"d":"€1,832.23"},"A010",{"$f":"IFERROR(VLOOKUP(F154,Discounts!A:C,3,0),0)","v":0},{"v":1832.23,"d":"€1,832.23"}]
[1870,134070,1,"Normal",0,"LUXE",{"$f":"IFERROR(VLOOKUP(F155,Discounts!A:C,3,0),0)","v":0},0]
[1890,118950,1,"Normal",{"v":1832.23,"d":"€1,832.23"},"A010",{"$f":"IFERROR(VLOOKUP(F156,Discounts!A:C,3,0),0)","v":0},{"v":1832.23,"d":"€1,832.23"}]
[1890,134070,1,"Normal",0,"LUXE",{"$f":"IFERROR(VLOOKUP(F157,Discounts!A:C,3,0),0)","v":0},0]
[1910,118960,1,"Normal",{"v":1961.98,"d":"€1,961.98"},"A010",{"$f":"IFERROR(VLOOKUP(F158,Discounts!A:C,3,0),0)","v":0},{"v":1961.98,"d":"€1,961.98"}]
[1910,134070,1,"Normal",0,"LUXE",{"$f":"IFERROR(VLOOKUP(F159,Discounts!A:C,3,0),0)","v":0},0]
[1930,118970,1,"Normal",{"v":1778.51,"d":"€1,778.51"},"A010",{"$f":"IFERROR(VLOOKUP(F160,Discounts!A:C,3,0),0)","v":0},{"v":1778.51,"d":"€1,778.51"}]
[1930,134070,1,"Normal",0,"LUXE",{"$f":"IFERROR(VLOOKUP(F161,Discounts!A:C,3,0),0)","v":0},0]
[1950,118980,1,"Normal",{"v":1778.51,"d":"€1,778.51"},"A010",{"$f":"IFERROR(VLOOKUP(F162,Discounts!A:C,3,0),0)","v":0},{"v":1778.51,"d":"€1,778.51"}]
[1950,134070,1,"Normal",0,"LUXE",{"$f":"IFERROR(VLOOKUP(F163,Discounts!A:C,3,0),0)","v":0},0]
[1970,118990,1,"Normal",{"v":1952.89,"d":"€1,952.89"},"A010",{"$f":"IFERROR(VLOOKUP(F164,Discounts!A:C,3,0),0)","v":0},{"v":1952.89,"d":"€1,952.89"}]
[1970,134070,1,"Normal",0,"LUXE",{"$f":"IFERROR(VLOOKUP(F165,Discounts!A:C,3,0),0)","v":0},0]
[1990,119000,1,"Normal",{"v":2183.47,"d":"€2,183.47"},"A010",{"$f":"IFERROR(VLOOKUP(F166,Discounts!A:C,3,0),0)","v":0},{"v":2183.47,"d":"€2,183.47"}]
[1990,134070,1,"Normal",0,"LUXE",{"$f":"IFERROR(VLOOKUP(F167,Discounts!A:C,3,0),0)","v":0},0]
[2010,119010,1,"Normal",{"v":2080.99,"d":"€2,080.99"},"A010",{"$f":"IFERROR(VLOOKUP(F168,Discounts!A:C,3,0),0)","v":0},{"v":2080.99,"d":"€2,080.99"}]
[2010,134070,1,"Normal",0,"LUXE",{"$f":"IFERROR(VLOOKUP(F169,Discounts!A:C,3,0),0)","v":0},0]
[2030,119020,1,"Normal",{"v":1895.87,"d":"€1,895.87"},"A010",{"$f":"IFERROR(VLOOKUP(F170,Discounts!A:C,3,0),0)","v":0},{"v":1895.87,"d":"€1,895.87"}]
[2030,134070,1,"Normal",0,"LUXE",{"$f":"IFERROR(VLOOKUP(F171,Discounts!A:C,3,0),0)","v":0},0]
[2050,119030,1,"Normal",{"v":3278.51,"d":"€3,278.51"},"A010",{"$f":"IFERROR(VLOOKUP(F172,Discounts!A:C,3,0),0)","v":0},{"v":3278.51,"d":"€3,278.51"}]
[2050,134070,1,"Normal",0,"LUXE",{"$f":"IFERROR(VLOOKUP(F173,Discounts!A:C,3,0),0)","v":0},0]
[2070,119040,1,"Normal",{"v":2771.9,"d":"€2,771.90"},"A010",{"$f":"IFERROR(VLOOKUP(F174,Discounts!A:C,3,0),0)","v":0},{"v":2771.9,"d":"€2,771.90"}]
[2070,134070,1,"Normal",0,"LUXE",{"$f":"IFERROR(VLOOKUP(F175,Discounts!A:C,3,0),0)","v":0},0]
[2090,119050,1,"Normal",{"v":1462.81,"d":"€1,462.81"},"A010",{"$f":"IFERROR(VLOOKUP(F176,Discounts!A:C,3,0),0)","v":0},{"v":1462.81,"d":"€1,462.81"}]
[2090,134070,1,"Normal",0,"LUXE",{"$f":"IFERROR(VLOOKUP(F177,Discounts!A:C,3,0),0)","v":0},0]
[2110,119060,1,"Normal",{"v":1251.24,"d":"€1,251.24"},"A010",{"$f":"IFERROR(VLOOKUP(F178,Discounts!A:C,3,0),0)","v":0},{"v":1251.24,"d":"€1,251.24"}]
[2110,134070,1,"Normal",0,"LUXE",{"$f":"IFERROR(VLOOKUP(F179,Discounts!A:C,3,0),0)","v":0},0]
[2130,119070,1,"Normal",{"v":2679.34,"d":"€2,679.34"},"A010",{"$f":"IFERROR(VLOOKUP(F180,Discounts!A:C,3,0),0)","v":0},{"v":2679.34,"d":"€2,679.34"}]
[2130,134070,1,"Normal",0,"LUXE",{"$f":"IFERROR(VLOOKUP(F181,Discounts!A:C,3,0),0)","v":0},0]
[2150,119080,1,"Normal",{"v":2857.02,"d":"€2,857.02"},"A010",{"$f":"IFERROR(VLOOKUP(F182,Discounts!A:C,3,0),0)","v":0},{"v":2857.02,"d":"€2,857.02"}]
[2150,134070,1,"Normal",0,"LUXE",{"$f":"IFERROR(VLOOKUP(F183,Discounts!A:C,3,0),0)","v":0},0]
[2170,119090,1,"Normal",{"v":2909.92,"d":"€2,909.92"},"A010",{"$f":"IFERROR(VLOOKUP(F184,Discounts!A:C,3,0),0)","v":0},{"v":2909.92,"d":"€2,909.92"}]
[2170,134070,1,"Normal",0,"LUXE",{"$f":"IFERROR(VLOOKUP(F185,Discounts!A:C,3,0),0)","v":0},0]
[2190,119100,1,"Normal",{"v":3278.51,"d":"€3,278.51"},"A010",{"$f":"IFERROR(VLOOKUP(F186,Discounts!A:C,3,0),0)","v":0},{"v":3278.51,"d":"€3,278.51"}]
[2190,134070,1,"Normal",0,"LUXE",{"$f":"IFERROR(VLOOKUP(F187,Discounts!A:C,3,0),0)","v":0},0]
[2210,119110,1,"Normal",{"v":3790.08,"d":"€3,790.08"},"A010",{"$f":"IFERROR(VLOOKUP(F188,Discounts!A:C,3,0),0)","v":0},{"v":3790.08,"d":"€3,790.08"}]
[2210,134070,1,"Normal",0,"LUXE",{"$f":"IFERROR(VLOOKUP(F189,Discounts!A:C,3,0),0)","v":0},0]
[2230,119120,1,"Normal",{"v":3478.51,"d":"€3,478.51"},"A010",{"$f":"IFERROR(VLOOKUP(F190,Discounts!A:C,3,0),0)","v":0},{"v":3478.51,"d":"€3,478.51"}]
[2230,134070,1,"Normal",0,"LUXE",{"$f":"IFERROR(VLOOKUP(F191,Discounts!A:C,3,0),0)","v":0},0]
[2250,119130,1,"Normal",{"v":3478.51,"d":"€3,478.51"},"A010",{"$f":"IFERROR(VLOOKUP(F192,Discounts!A:C,3,0),0)","v":0},{"v":3478.51,"d":"€3,478.51"}]
[2250,134070,1,"Normal",0,"LUXE",{"$f":"IFERROR(VLOOKUP(F193,Discounts!A:C,3,0),0)","v":0},0]
[2270,119140,1,"Normal",{"v":1214.88,"d":"€1,214.88"},"A010",{"$f":"IFERROR(VLOOKUP(F194,Discounts!A:C,3,0),0)","v":0},{"$f":"IF(D194=\"Normal\",E194*(1-G194),SUMIF(A:A,B194,H:H)*C194)","v":{"v":1214.88,"d":"€1,214.88"}}]
[2270,134070,1,"Normal",0,"LUXE",{"$f":"IFERROR(VLOOKUP(F195,Discounts!A:C,3,0),0)","v":0},0]
[2290,119150,1,"Normal",{"v":1214.88,"d":"€1,214.88"},"A010",{"$f":"IFERROR(VLOOKUP(F196,Discounts!A:C,3,0),0)","v":0},{"v":1214.88,"d":"€1,214.88"}]
[2290,134070,1,"Normal",0,"LUXE",{"$f":"IFERROR(VLOOKUP(F197,Discounts!A:C,3,0),0)","v":0},0]
[2310,119160,1,"Normal",{"v":1297.52,"d":"€1,297.52"},"A010",{"$f":"IFERROR(VLOOKUP(F198,Discounts!A:C,3,0),0)","v":0},{"v":1297.52,"d":"€1,297.52"}]
[2310,134070,1,"Normal",0,"LUXE",{"$f":"IFERROR(VLOOKUP(F199,Discounts!A:C,3,0),0)","v":0},0]
[2330,119170,1,"Normal",{"v":1662.81,"d":"€1,662.81"},"A010",{"$f":"IFERROR(VLOOKUP(F200,Discounts!A:C,3,0),0)","v":0},{"v":1662.81,"d":"€1,662.81"}]
[2330,134070,1,"Normal",0,"LUXE",{"$f":"IFERROR(VLOOKUP(F201,Discounts!A:C,3,0),0)","v":0},0]
[2350,119180,1,"Normal",{"v":1122.31,"d":"€1,122.31"},"A010",{"$f":"IFERROR(VLOOKUP(F202,Discounts!A:C,3,0),0)","v":0},{"v":1122.31,"d":"€1,122.31"}]
[2350,134070,1,"Normal",0,"LUXE",{"$f":"IFERROR(VLOOKUP(F203,Discounts!A:C,3,0),0)","v":0},0]
[2370,119190,1,"Normal",{"v":1516.53,"d":"€1,516.53"},"A010",{"$f":"IFERROR(VLOOKUP(F204,Discounts!A:C,3,0),0)","v":0},{"v":1516.53,"d":"€1,516.53"}]
[2370,134070,1,"Normal",0,"LUXE",{"$f":"IFERROR(VLOOKUP(F205,Discounts!A:C,3,0),0)","v":0},0]
[2390,119200,1,"Normal",{"v":1659.5,"d":"€1,659.50"},"A010",{"$f":"IFERROR(VLOOKUP(F206,Discounts!A:C,3,0),0)","v":0},{"v":1659.5,"d":"€1,659.50"}]
[2390,134070,1,"Normal",0,"LUXE",{"$f":"IFERROR(VLOOKUP(F207,Discounts!A:C,3,0),0)","v":0},0]
[2410,119210,1,"Normal",{"v":1827.27,"d":"€1,827.27"},"A010",{"$f":"IFERROR(VLOOKUP(F208,Discounts!A:C,3,0),0)","v":0},{"v":1827.27,"d":"€1,827.27"}]
[2410,134070,1,"Normal",0,"LUXE",{"$f":"IFERROR(VLOOKUP(F209,Discounts!A:C,3,0),0)","v":0},0]
[2430,119220,1,"Normal",{"v":2080.99,"d":"€2,080.99"},"A010",{"$f":"IFERROR(VLOOKUP(F210,Discounts!A:C,3,0),0)","v":0},{"v":2080.99,"d":"€2,080.99"}]
[2430,134070,1,"Normal",0,"LUXE",{"$f":"IFERROR(VLOOKUP(F211,Discounts!A:C,3,0),0)","v":0},0]
[2450,119230,1,"Normal",{"v":2291.74,"d":"€2,291.74"},"A010",{"$f":"IFERROR(VLOOKUP(F212,Discounts!A:C,3,0),0)","v":0},{"v":2291.74,"d":"€2,291.74"}]
[2450,134070,1,"Normal",0,"LUXE",{"$f":"IFERROR(VLOOKUP(F213,Discounts!A:C,3,0),0)","v":0},0]
[2470,119240,1,"Normal",{"v":2291.74,"d":"€2,291.74"},"A010",{"$f":"IFERROR(VLOOKUP(F214,Discounts!A:C,3,0),0)","v":0},{"v":2291.74,"d":"€2,291.74"}]
[2470,134070,1,"Normal",0,"LUXE",{"$f":"IFERROR(VLOOKUP(F215,Discounts!A:C,3,0),0)","v":0},0]
[2490,119250,1,"Normal",{"v":2291.74,"d":"€2,291.74"},"A010",{"$f":"IFERROR(VLOOKUP(F216,Discounts!A:C,3,0),0)","v":0},{"v":2291.74,"d":"€2,291.74"}]
[2490,134070,1,"Normal",0,"LUXE",{"$f":"IFERROR(VLOOKUP(F217,Discounts!A:C,3,0),0)","v":0},0]
[2510,119260,1,"Normal",{"v":2433.06,"d":"€2,433.06"},"A010",{"$f":"IFERROR(VLOOKUP(F218,Discounts!A:C,3,0),0)","v":0},{"v":2433.06,"d":"€2,433.06"}]
[2510,134070,1,"Normal",0,"LUXE",{"$f":"IFERROR(VLOOKUP(F219,Discounts!A:C,3,0),0)","v":0},0]
[2530,119270,1,"Normal",{"v":1193.39,"d":"€1,193.39"},"A010",{"$f":"IFERROR(VLOOKUP(F220,Discounts!A:C,3,0),0)","v":0},{"v":1193.39,"d":"€1,193.39"}]
[2530,134070,1,"Normal",0,"LUXE",{"$f":"IFERROR(VLOOKUP(F221,Discounts!A:C,3,0),0)","v":0},0]
[2550,119280,1,"Normal",{"v":1319.83,"d":"€1,319.83"},"A010",{"$f":"IFERROR(VLOOKUP(F222,Discounts!A:C,3,0),0)","v":0},{"v":1319.83,"d":"€1,319.83"}]
[2550,134070,1,"Normal",0,"LUXE",{"$f":"IFERROR(VLOOKUP(F223,Discounts!A:C,3,0),0)","v":0},0]
[2570,119290,1,"Normal",{"v":1340.5,"d":"€1,340.50"},"A010",{"$f":"IFERROR(VLOOKUP(F224,Discounts!A:C,3,0),0)","v":0},{"v":1340.5,"d":"€1,340.50"}]
[2570,134070,1,"Normal",0,"LUXE",{"$f":"IFERROR(VLOOKUP(F225,Discounts!A:C,3,0),0)","v":0},0]
[2590,119300,1,"Normal",{"v":1214.88,"d":"€1,214.88"},"A010",{"$f":"IFERROR(VLOOKUP(F226,Discounts!A:C,3,0),0)","v":0},{"v":1214.88,"d":"€1,214.88"}]
[2590,134070,1,"Normal",0,"LUXE",{"$f":"IFERROR(VLOOKUP(F227,Discounts!A:C,3,0),0)","v":0},0]
[2610,119310,1,"Normal",{"v":2023.14,"d":"€2,023.14"},"A010",{"$f":"IFERROR(VLOOKUP(F228,Discounts!A:C,3,0),0)","v":0},{"v":2023.14,"d":"€2,023.14"}]
[2610,134070,1,"Normal",0,"LUXE",{"$f":"IFERROR(VLOOKUP(F229,Discounts!A:C,3,0),0)","v":0},0]
[2630,119320,1,"Normal",{"v":1704.13,"d":"€1,704.13"},"A010",{"$f":"IFERROR(VLOOKUP(F230,Discounts!A:C,3,0),0)","v":0},{"v":1704.13,"d":"€1,704.13"}]
[2630,134070,1,"Normal",0,"LUXE",{"$f":"IFERROR(VLOOKUP(F231,Discounts!A:C,3,0),0)","v":0},0]
[2650,119330,1,"Normal",{"v":1297.52,"d":"€1,297.52"},"A010",{"$f":"IFERROR(VLOOKUP(F232,Discounts!A:C,3,0),0)","v":0},{"v":1297.52,"d":"€1,297.52"}]
[2650,134070,1,"Normal",0,"LUXE",{"$f":"IFERROR(VLOOKUP(F233,Discounts!A:C,3,0),0)","v":0},0]
[2670,119340,1,"Normal",{"v":1504.96,"d":"€1,504.96"},"A010",{"$f":"IFERROR(VLOOKUP(F234,Discounts!A:C,3,0),0)","v":0},{"v":1504.96,"d":"€1,504.96"}]
[2670,134070,1,"Normal",0,"LUXE",{"$f":"IFERROR(VLOOKUP(F235,Discounts!A:C,3,0),0)","v":0},0]
[2690,119350,1,"Normal",{"v":1262.81,"d":"€1,262.81"},"A010",{"$f":"IFERROR(VLOOKUP(F236,Discounts!A:C,3,0),0)","v":0},{"v":1262.81,"d":"€1,262.81"}]
[2690,134070,1,"Normal",0,"LUXE",{"$f":"IFERROR(VLOOKUP(F237,Discounts!A:C,3,0),0)","v":0},0]
[2710,119360,1,"Normal",{"v":1471.9,"d":"€1,471.90"},"A010",{"$f":"IFERROR(VLOOKUP(F238,Discounts!A:C,3,0),0)","v":0},{"v":1471.9,"d":"€1,471.90"}]
[2710,134070,1,"Normal",0,"LUXE",{"$f":"IFERROR(VLOOKUP(F239,Discounts!A:C,3,0),0)","v":0},0]
[2730,119370,1,"Normal",{"v":1446.28,"d":"€1,446.28"},"A010",{"$f":"IFERROR(VLOOKUP(F240,Discounts!A:C,3,0),0)","v":0},{"v":1446.28,"d":"€1,446.28"}]
[2730,134070,1,"Normal",0,"LUXE",{"$f":"IFERROR(VLOOKUP(F241,Discounts!A:C,3,0),0)","v":0},0]
[2750,119380,1,"Normal",{"v":1573.55,"d":"€1,573.55"},"A010",{"$f":"IFERROR(VLOOKUP(F242,Discounts!A:C,3,0),0)","v":0},{"v":1573.55,"d":"€1,573.55"}]
[2750,134070,1,"Normal",0,"LUXE",{"$f":"IFERROR(VLOOKUP(F243,Discounts!A:C,3,0),0)","v":0},0]
[2770,119390,1,"Normal",{"v":1504.96,"d":"€1,504.96"},"A010",{"$f":"IFERROR(VLOOKUP(F244,Discounts!A:C,3,0),0)","v":0},{"v":1504.96,"d":"€1,504.96"}]
[2770,134070,1,"Normal",0,"LUXE",{"$f":"IFERROR(VLOOKUP(F245,Discounts!A:C,3,0),0)","v":0},0]
[2790,119400,1,"Normal",{"v":1573.55,"d":"€1,573.55"},"A010",{"$f":"IFERROR(VLOOKUP(F246,Discounts!A:C,3,0),0)","v":0},{"v":1573.55,"d":"€1,573.55"}]
[2790,134070,1,"Normal",0,"LUXE",{"$f":"IFERROR(VLOOKUP(F247,Discounts!A:C,3,0),0)","v":0},0]
[2810,119410,1,"Normal",{"v":1376.03,"d":"€1,376.03"},"A010",{"$f":"IFERROR(VLOOKUP(F248,Discounts!A:C,3,0),0)","v":0},{"v":1376.03,"d":"€1,376.03"}]
[2810,134070,1,"Normal",0,"LUXE",{"$f":"IFERROR(VLOOKUP(F249,Discounts!A:C,3,0),0)","v":0},0]
[2830,119420,1,"Normal",{"v":1587.6,"d":"€1,587.60"},"A010",{"$f":"IFERROR(VLOOKUP(F250,Discounts!A:C,3,0),0)","v":0},{"v":1587.6,"d":"€1,587.60"}]
[2830,134070,1,"Normal",0,"LUXE",{"$f":"IFERROR(VLOOKUP(F251,Discounts!A:C,3,0),0)","v":0},0]
[2850,119430,1,"Normal",{"v":1647.93,"d":"€1,647.93"},"A010",{"$f":"IFERROR(VLOOKUP(F252,Discounts!A:C,3,0),0)","v":0},{"v":1647.93,"d":"€1,647.93"}]
[2850,134070,1,"Normal",0,"LUXE",{"$f":"IFERROR(VLOOKUP(F253,Discounts!A:C,3,0),0)","v":0},0]
[2870,119440,1,"Normal",{"v":1714.05,"d":"€1,714.05"},"A010",{"$f":"IFERROR(VLOOKUP(F254,Discounts!A:C,3,0),0)","v":0},{"v":1714.05,"d":"€1,714.05"}]
[2870,134070,1,"Normal",0,"LUXE",{"$f":"IFERROR(VLOOKUP(F255,Discounts!A:C,3,0),0)","v":0},0]
[2890,119450,1,"Normal",{"v":1376.03,"d":"€1,376.03"},"A010",{"$f":"IFERROR(VLOOKUP(F256,Discounts!A:C,3,0),0)","v":0},{"v":1376.03,"d":"€1,376.03"}]
[2890,134070,1,"Normal",0,"LUXE",{"$f":"IFERROR(VLOOKUP(F257,Discounts!A:C,3,0),0)","v":0},0]
[2910,119460,1,"Normal",{"v":1587.6,"d":"€1,587.60"},"A010",{"$f":"IFERROR(VLOOKUP(F258,Discounts!A:C,3,0),0)","v":0},{"$f":"IF(D258=\"Normal\",E258*(1-G258),SUMIF(A:A,B258,H:H)*C258)","v":{"v":1587.6,"d":"€1,587.60"}}]
[2910,134070,1,"Normal",0,"LUXE",{"$f":"IFERROR(VLOOKUP(F259,Discounts!A:C,3,0),0)","v":0},0]
[2930,119470,1,"Normal",{"v":1647.93,"d":"€1,647.93"},"A010",{"$f":"IFERROR(VLOOKUP(F260,Discounts!A:C,3,0),0)","v":0},{"v":1647.93,"d":"€1,647.93"}]
[2930,134070,1,"Normal",0,"LUXE",{"$f":"IFERROR(VLOOKUP(F261,Discounts!A:C,3,0),0)","v":0},0]
[2950,119480,1,"Normal",{"v":1714.05,"d":"€1,714.05"},"A010",{"$f":"IFERROR(VLOOKUP(F262,Discounts!A:C,3,0),0)","v":0},{"v":1714.05,"d":"€1,714.05"}]
[2950,134070,1,"Normal",0,"LUXE",{"$f":"IFERROR(VLOOKUP(F263,Discounts!A:C,3,0),0)","v":0},0]
[2970,119490,1,"Normal",{"v":1839.67,"d":"€1,839.67"},"A010",{"$f":"IFERROR(VLOOKUP(F264,Discounts!A:C,3,0),0)","v":0},{"v":1839.67,"d":"€1,839.67"}]
[2970,134070,1,"Normal",0,"LUXE",{"$f":"IFERROR(VLOOKUP(F265,Discounts!A:C,3,0),0)","v":0},0]
[2990,119500,1,"Normal",{"v":1438.02,"d":"€1,438.02"},"A010",{"$f":"IFERROR(VLOOKUP(F266,Discounts!A:C,3,0),0)","v":0},{"v":1438.02,"d":"€1,438.02"}]
[2990,134070,1,"Normal",0,"LUXE",{"$f":"IFERROR(VLOOKUP(F267,Discounts!A:C,3,0),0)","v":0},0]
[3010,119510,1,"Normal",{"v":1647.93,"d":"€1,647.93"},"A010",{"$f":"IFERROR(VLOOKUP(F268,Discounts!A:C,3,0),0)","v":0},{"v":1647.93,"d":"€1,647.93"}]
[3010,134070,1,"Normal",0,"LUXE",{"$f":"IFERROR(VLOOKUP(F269,Discounts!A:C,3,0),0)","v":0},0]
[3030,119520,1,"Normal",{"v":1620.66,"d":"€1,620.66"},"A010",{"$f":"IFERROR(VLOOKUP(F270,Discounts!A:C,3,0),0)","v":0},{"v":1620.66,"d":"€1,620.66"}]
[3030,134070,1,"Normal",0,"LUXE",{"$f":"IFERROR(VLOOKUP(F271,Discounts!A:C,3,0),0)","v":0},0]
[3050,119530,1,"Normal",{"v":1794.21,"d":"€1,794.21"},"A010",{"$f":"IFERROR(VLOOKUP(F272,Discounts!A:C,3,0),0)","v":0},{"v":1794.21,"d":"€1,794.21"}]
[3050,134070,1,"Normal",0,"LUXE",{"$f":"IFERROR(VLOOKUP(F273,Discounts!A:C,3,0),0)","v":0},0]
[3070,119540,1,"Normal",{"v":1690.91,"d":"€1,690.91"},"A010",{"$f":"IFERROR(VLOOKUP(F274,Discounts!A:C,3,0),0)","v":0},{"v":1690.91,"d":"€1,690.91"}]
[3070,134070,1,"Normal",0,"LUXE",{"$f":"IFERROR(VLOOKUP(F275,Discounts!A:C,3,0),0)","v":0},0]
[3090,119550,1,"Normal",{"v":1738.02,"d":"€1,738.02"},"A010",{"$f":"IFERROR(VLOOKUP(F276,Discounts!A:C,3,0),0)","v":0},{"v":1738.02,"d":"€1,738.02"}]
[3090,134070,1,"Normal",0,"LUXE",{"$f":"IFERROR(VLOOKUP(F277,Discounts!A:C,3,0),0)","v":0},0]
[3110,119560,1,"Normal",{"v":1561.98,"d":"€1,561.98"},"A010",{"$f":"IFERROR(VLOOKUP(F278,Discounts!A:C,3,0),0)","v":0},{"v":1561.98,"d":"€1,561.98"}]
[3110,134070,1,"Normal",0,"LUXE",{"$f":"IFERROR(VLOOKUP(F279,Discounts!A:C,3,0),0)","v":0},0]
[3130,119570,1,"Normal",{"v":1952.89,"d":"€1,952.89"},"A010",{"$f":"IFERROR(VLOOKUP(F280,Discounts!A:C,3,0),0)","v":0},{"v":1952.89,"d":"€1,952.89"}]
[3130,134070,1,"Normal",0,"LUXE",{"$f":"IFERROR(VLOOKUP(F281,Discounts!A:C,3,0),0)","v":0},0]
[3150,119580,1,"Normal",{"v":1952.89,"d":"€1,952.89"},"A010",{"$f":"IFERROR(VLOOKUP(F282,Discounts!A:C,3,0),0)","v":0},{"v":1952.89,"d":"€1,952.89"}]
[3150,134070,1,"Normal",0,"LUXE",{"$f":"IFERROR(VLOOKUP(F283,Discounts!A:C,3,0),0)","v":0},0]
[3170,119590,1,"Normal",{"v":2324.79,"d":"€2,324.79"},"A010",{"$f":"IFERROR(VLOOKUP(F284,Discounts!A:C,3,0),0)","v":0},{"v":2324.79,"d":"€2,324.79"}]
[3170,134070,1,"Normal",0,"LUXE",{"$f":"IFERROR(VLOOKUP(F285,Discounts!A:C,3,0),0)","v":0},0]
[3190,119600,1,"Normal",{"v":1602.48,"d":"€1,602.48"},"A010",{"$f":"IFERROR(VLOOKUP(F286,Discounts!A:C,3,0),0)","v":0},{"v":1602.48,"d":"€1,602.48"}]
[3190,134070,1,"Normal",0,"LUXE",{"$f":"IFERROR(VLOOKUP(F287,Discounts!A:C,3,0),0)","v":0},0]
[3210,119610,1,"Normal",{"v":2139.67,"d":"€2,139.67"},"A010",{"$f":"IFERROR(VLOOKUP(F288,Discounts!A:C,3,0),0)","v":0},{"v":2139.67,"d":"€2,139.67"}]
[3210,134070,1,"Normal",0,"LUXE",{"$f":"IFERROR(VLOOKUP(F289,Discounts!A:C,3,0),0)","v":0},0]
[3230,119620,1,"Normal",{"v":2433.06,"d":"€2,433.06"},"A010",{"$f":"IFERROR(VLOOKUP(F290,Discounts!A:C,3,0),0)","v":0},{"v":2433.06,"d":"€2,433.06"}]
[3230,134070,1,"Normal",0,"LUXE",{"$f":"IFERROR(VLOOKUP(F291,Discounts!A:C,3,0),0)","v":0},0]
[3250,119630,1,"Normal",{"v":2573.55,"d":"€2,573.55"},"A010",{"$f":"IFERROR(VLOOKUP(F292,Discounts!A:C,3,0),0)","v":0},{"v":2573.55,"d":"€2,573.55"}]
[3250,134070,1,"Normal",0,"LUXE",{"$f":"IFERROR(VLOOKUP(F293,Discounts!A:C,3,0),0)","v":0},0]
[3270,119640,1,"Normal",{"v":1382.64,"d":"€1,382.64"},"A010",{"$f":"IFERROR(VLOOKUP(F294,Discounts!A:C,3,0),0)","v":0},{"v":1382.64,"d":"€1,382.64"}]
[3270,134070,1,"Normal",0,"LUXE",{"$f":"IFERROR(VLOOKUP(F295,Discounts!A:C,3,0),0)","v":0},0]
[3290,119650,1,"Normal",{"v":1621.49,"d":"€1,621.49"},"A010",{"$f":"IFERROR(VLOOKUP(F296,Discounts!A:C,3,0),0)","v":0},{"v":1621.49,"d":"€1,621.49"}]
[3290,134070,1,"Normal",0,"LUXE",{"$f":"IFERROR(VLOOKUP(F297,Discounts!A:C,3,0),0)","v":0},0]
[3310,119660,1,"Normal",{"v":1624.79,"d":"€1,624.79"},"A010",{"$f":"IFERROR(VLOOKUP(F298,Discounts!A:C,3,0),0)","v":0},{"v":1624.79,"d":"€1,624.79"}]
[3310,134070,1,"Normal",0,"LUXE",{"$f":"IFERROR(VLOOKUP(F299,Discounts!A:C,3,0),0)","v":0},0]
[3330,119670,1,"Normal",{"v":1761.98,"d":"€1,761.98"},"A010",{"$f":"IFERROR(VLOOKUP(F300,Discounts!A:C,3,0),0)","v":0},{"v":1761.98,"d":"€1,761.98"}]
[3330,134070,1,"Normal",0,"LUXE",{"$f":"IFERROR(VLOOKUP(F301,Discounts!A:C,3,0),0)","v":0},0]
[3350,119680,1,"Normal",{"v":1766.94,"d":"€1,766.94"},"A010",{"$f":"IFERROR(VLOOKUP(F302,Discounts!A:C,3,0),0)","v":0},{"v":1766.94,"d":"€1,766.94"}]
[3350,134070,1,"Normal",0,"LUXE",{"$f":"IFERROR(VLOOKUP(F303,Discounts!A:C,3,0),0)","v":0},0]
[3370,119690,1,"Normal",{"v":1275.21,"d":"€1,275.21"},"A010",{"$f":"IFERROR(VLOOKUP(F304,Discounts!A:C,3,0),0)","v":0},{"v":1275.21,"d":"€1,275.21"}]
[3370,134070,1,"Normal",0,"LUXE",{"$f":"IFERROR(VLOOKUP(F305,Discounts!A:C,3,0),0)","v":0},0]
[3390,119700,1,"Normal",{"v":1462.81,"d":"€1,462.81"},"A010",{"$f":"IFERROR(VLOOKUP(F306,Discounts!A:C,3,0),0)","v":0},{"v":1462.81,"d":"€1,462.81"}]
[3390,134070,1,"Normal",0,"LUXE",{"$f":"IFERROR(VLOOKUP(F307,Discounts!A:C,3,0),0)","v":0},0]
[3410,119710,1,"Normal",{"v":1686.78,"d":"€1,686.78"},"A010",{"$f":"IFERROR(VLOOKUP(F308,Discounts!A:C,3,0),0)","v":0},{"v":1686.78,"d":"€1,686.78"}]
[3410,134070,1,"Normal",0,"LUXE",{"$f":"IFERROR(VLOOKUP(F309,Discounts!A:C,3,0),0)","v":0},0]
[3430,119720,1,"Normal",{"v":1792.56,"d":"€1,792.56"},"A010",{"$f":"IFERROR(VLOOKUP(F310,Discounts!A:C,3,0),0)","v":0},{"v":1792.56,"d":"€1,792.56"}]
[3430,134070,1,"Normal",0,"LUXE",{"$f":"IFERROR(VLOOKUP(F311,Discounts!A:C,3,0),0)","v":0},0]
[3450,119730,1,"Normal",{"v":2128.93,"d":"€2,128.93"},"A010",{"$f":"IFERROR(VLOOKUP(F312,Discounts!A:C,3,0),0)","v":0},{"v":2128.93,"d":"€2,128.93"}]
[3450,134070,1,"Normal",0,"LUXE",{"$f":"IFERROR(VLOOKUP(F313,Discounts!A:C,3,0),0)","v":0},0]
[3470,119740,1,"Normal",{"v":2336.36,"d":"€2,336.36"},"A010",{"$f":"IFERROR(VLOOKUP(F314,Discounts!A:C,3,0),0)","v":0},{"v":2336.36,"d":"€2,336.36"}]
[3470,134070,1,"Normal",0,"LUXE",{"$f":"IFERROR(VLOOKUP(F315,Discounts!A:C,3,0),0)","v":0},0]
[3490,119750,1,"Normal",{"v":1896.69,"d":"€1,896.69"},"A010",{"$f":"IFERROR(VLOOKUP(F316,Discounts!A:C,3,0),0)","v":0},{"v":1896.69,"d":"€1,896.69"}]
[3490,134070,1,"Normal",0,"LUXE",{"$f":"IFERROR(VLOOKUP(F317,Discounts!A:C,3,0),0)","v":0},0]
[3510,119760,1,"Normal",{"v":1798.35,"d":"€1,798.35"},"A010",{"$f":"IFERROR(VLOOKUP(F318,Discounts!A:C,3,0),0)","v":0},{"v":1798.35,"d":"€1,798.35"}]
[3510,134070,1,"Normal",0,"LUXE",{"$f":"IFERROR(VLOOKUP(F319,Discounts!A:C,3,0),0)","v":0},0]
[3530,119770,1,"Normal",{"v":1760.33,"d":"€1,760.33"},"A010",{"$f":"IFERROR(VLOOKUP(F320,Discounts!A:C,3,0),0)","v":0},{"v":1760.33,"d":"€1,760.33"}]
[3530,134070,1,"Normal",0,"LUXE",{"$f":"IFERROR(VLOOKUP(F321,Discounts!A:C,3,0),0)","v":0},0]
[3550,119780,1,"Normal",{"v":1815.7,"d":"€1,815.70"},"A010",{"$f":"IFERROR(VLOOKUP(F322,Discounts!A:C,3,0),0)","v":0},{"$f":"IF(D322=\"Normal\",E322*(1-G322),SUMIF(A:A,B322,H:H)*C322)","v":{"v":1815.7,"d":"€1,815.70"}}]
[3550,134070,1,"Normal",0,"LUXE",{"$f":"IFERROR(VLOOKUP(F323,Discounts!A:C,3,0),0)","v":0},0]
[3570,119790,1,"Normal",{"v":1839.67,"d":"€1,839.67"},"A010",{"$f":"IFERROR(VLOOKUP(F324,Discounts!A:C,3,0),0)","v":0},{"v":1839.67,"d":"€1,839.67"}]
[3570,134070,1,"Normal",0,"LUXE",{"$f":"IFERROR(VLOOKUP(F325,Discounts!A:C,3,0),0)","v":0},0]
[3590,119800,1,"Normal",{"v":1561.98,"d":"€1,561.98"},"A010",{"$f":"IFERROR(VLOOKUP(F326,Discounts!A:C,3,0),0)","v":0},{"v":1561.98,"d":"€1,561.98"}]
[3590,134070,1,"Normal",0,"LUXE",{"$f":"IFERROR(VLOOKUP(F327,Discounts!A:C,3,0),0)","v":0},0]
[3610,119810,1,"Normal",{"v":1760.33,"d":"€1,760.33"},"A010",{"$f":"IFERROR(VLOOKUP(F328,Discounts!A:C,3,0),0)","v":0},{"v":1760.33,"d":"€1,760.33"}]
[3610,134070,1,"Normal",0,"LUXE",{"$f":"IFERROR(VLOOKUP(F329,Discounts!A:C,3,0),0)","v":0},0]
[3630,119820,1,"Normal",{"v":1839.67,"d":"€1,839.67"},"A010",{"$f":"IFERROR(VLOOKUP(F330,Discounts!A:C,3,0),0)","v":0},{"v":1839.67,"d":"€1,839.67"}]
[3630,134070,1,"Normal",0,"LUXE",{"$f":"IFERROR(VLOOKUP(F331,Discounts!A:C,3,0),0)","v":0},0]
[3650,119830,1,"Normal",{"v":1876.03,"d":"€1,876.03"},"A010",{"$f":"IFERROR(VLOOKUP(F332,Discounts!A:C,3,0),0)","v":0},{"v":1876.03,"d":"€1,876.03"}]
[3650,134070,1,"Normal",0,"LUXE",{"$f":"IFERROR(VLOOKUP(F333,Discounts!A:C,3,0),0)","v":0},0]
[3670,119840,1,"Normal",{"v":2059.5,"d":"€2,059.50"},"A010",{"$f":"IFERROR(VLOOKUP(F334,Discounts!A:C,3,0),0)","v":0},{"v":2059.5,"d":"€2,059.50"}]
[3670,134070,1,"Normal",0,"LUXE",{"$f":"IFERROR(VLOOKUP(F335,Discounts!A:C,3,0),0)","v":0},0]
[3690,119850,1,"Normal",{"v":1620.66,"d":"€1,620.66"},"A010",{"$f":"IFERROR(VLOOKUP(F336,Discounts!A:C,3,0),0)","v":0},{"v":1620.66,"d":"€1,620.66"}]
[3690,134070,1,"Normal",0,"LUXE",{"$f":"IFERROR(VLOOKUP(F337,Discounts!A:C,3,0),0)","v":0},0]
[3710,119860,1,"Normal",{"v":1828.93,"d":"€1,828.93"},"A010",{"$f":"IFERROR(VLOOKUP(F338,Discounts!A:C,3,0),0)","v":0},{"v":1828.93,"d":"€1,828.93"}]
[3710,134070,1,"Normal",0,"LUXE",{"$f":"IFERROR(VLOOKUP(F339,Discounts!A:C,3,0),0)","v":0},0]
[3730,119870,1,"Normal",{"v":1781.82,"d":"€1,781.82"},"A010",{"$f":"IFERROR(VLOOKUP(F340,Discounts!A:C,3,0),0)","v":0},{"v":1781.82,"d":"€1,781.82"}]
[3730,134070,1,"Normal",0,"LUXE",{"$f":"IFERROR(VLOOKUP(F341,Discounts!A:C,3,0),0)","v":0},0]
[3750,119880,1,"Normal",{"v":1885.95,"d":"€1,885.95"},"A010",{"$f":"IFERROR(VLOOKUP(F342,Discounts!A:C,3,0),0)","v":0},{"v":1885.95,"d":"€1,885.95"}]
[3750,134070,1,"Normal",0,"LUXE",{"$f":"IFERROR(VLOOKUP(F343,Discounts!A:C,3,0),0)","v":0},0]
[3770,119890,1,"Normal",{"v":1876.03,"d":"€1,876.03"},"A010",{"$f":"IFERROR(VLOOKUP(F344,Discounts!A:C,3,0),0)","v":0},{"v":1876.03,"d":"€1,876.03"}]
[3770,134070,1,"Normal",0,"LUXE",{"$f":"IFERROR(VLOOKUP(F345,Discounts!A:C,3,0),0)","v":0},0]
[3790,119900,1,"Normal",{"v":1885.95,"d":"€1,885.95"},"A010",{"$f":"IFERROR(VLOOKUP(F346,Discounts!A:C,3,0),0)","v":0},{"v":1885.95,"d":"€1,885.95"}]
[3790,134070,1,"Normal",0,"LUXE",{"$f":"IFERROR(VLOOKUP(F347,Discounts!A:C,3,0),0)","v":0},0]
[3810,119910,1,"Normal",{"v":1738.02,"d":"€1,738.02"},"A010",{"$f":"IFERROR(VLOOKUP(F348,Discounts!A:C,3,0),0)","v":0},{"v":1738.02,"d":"€1,738.02"}]
[3810,134070,1,"Normal",0,"LUXE",{"$f":"IFERROR(VLOOKUP(F349,Discounts!A:C,3,0),0)","v":0},0]
[3830,119920,1,"Normal",{"v":1936.36,"d":"€1,936.36"},"A010",{"$f":"IFERROR(VLOOKUP(F350,Discounts!A:C,3,0),0)","v":0},{"v":1936.36,"d":"€1,936.36"}]
[3830,134070,1,"Normal",0,"LUXE",{"$f":"IFERROR(VLOOKUP(F351,Discounts!A:C,3,0),0)","v":0},0]
[3850,119930,1,"Normal",{"v":1989.26,"d":"€1,989.26"},"A010",{"$f":"IFERROR(VLOOKUP(F352,Discounts!A:C,3,0),0)","v":0},{"v":1989.26,"d":"€1,989.26"}]
[3850,134070,1,"Normal",0,"LUXE",{"$f":"IFERROR(VLOOKUP(F353,Discounts!A:C,3,0),0)","v":0},0]
[3870,119940,1,"Normal",{"v":2057.85,"d":"€2,057.85"},"A010",{"$f":"IFERROR(VLOOKUP(F354,Discounts!A:C,3,0),0)","v":0},{"v":2057.85,"d":"€2,057.85"}]
[3870,134070,1,"Normal",0,"LUXE",{"$f":"IFERROR(VLOOKUP(F355,Discounts!A:C,3,0),0)","v":0},0]
[3890,119950,1,"Normal",{"v":1393.39,"d":"€1,393.39"},"A010",{"$f":"IFERROR(VLOOKUP(F356,Discounts!A:C,3,0),0)","v":0},{"v":1393.39,"d":"€1,393.39"}]
[3890,134070,1,"Normal",0,"LUXE",{"$f":"IFERROR(VLOOKUP(F357,Discounts!A:C,3,0),0)","v":0},0]
[3910,119960,1,"Normal",{"v":1354.55,"d":"€1,354.55"},"A010",{"$f":"IFERROR(VLOOKUP(F358,Discounts!A:C,3,0),0)","v":0},{"v":1354.55,"d":"€1,354.55"}]
[3910,134070,1,"Normal",0,"LUXE",{"$f":"IFERROR(VLOOKUP(F359,Discounts!A:C,3,0),0)","v":0},0]
[3930,119970,1,"Normal",{"v":1576.03,"d":"€1,576.03"},"A010",{"$f":"IFERROR(VLOOKUP(F360,Discounts!A:C,3,0),0)","v":0},{"v":1576.03,"d":"€1,576.03"}]
[3930,134070,1,"Normal",0,"LUXE",{"$f":"IFERROR(VLOOKUP(F361,Discounts!A:C,3,0),0)","v":0},0]
[3950,119980,1,"Normal",{"v":1398.35,"d":"€1,398.35"},"A010",{"$f":"IFERROR(VLOOKUP(F362,Discounts!A:C,3,0),0)","v":0},{"v":1398.35,"d":"€1,398.35"}]
[3950,134070,1,"Normal",0,"LUXE",{"$f":"IFERROR(VLOOKUP(F363,Discounts!A:C,3,0),0)","v":0},0]
[3970,119990,1,"Normal",{"v":1576.03,"d":"€1,576.03"},"A010",{"$f":"IFERROR(VLOOKUP(F364,Discounts!A:C,3,0),0)","v":0},{"v":1576.03,"d":"€1,576.03"}]
[3970,134070,1,"Normal",0,"LUXE",{"$f":"IFERROR(VLOOKUP(F365,Discounts!A:C,3,0),0)","v":0},0]
[3990,120000,1,"Normal",{"v":1597.52,"d":"€1,597.52"},"A010",{"$f":"IFERROR(VLOOKUP(F366,Discounts!A:C,3,0),0)","v":0},{"v":1597.52,"d":"€1,597.52"}]
[3990,134070,1,"Normal",0,"LUXE",{"$f":"IFERROR(VLOOKUP(F367,Discounts!A:C,3,0),0)","v":0},0]
[4010,120010,1,"Normal",{"v":1647.93,"d":"€1,647.93"},"A010",{"$f":"IFERROR(VLOOKUP(F368,Discounts!A:C,3,0),0)","v":0},{"v":1647.93,"d":"€1,647.93"}]
[4010,134070,1,"Normal",0,"LUXE",{"$f":"IFERROR(VLOOKUP(F369,Discounts!A:C,3,0),0)","v":0},0]
[4030,120020,1,"Normal",{"v":1471.9,"d":"€1,471.90"},"A010",{"$f":"IFERROR(VLOOKUP(F370,Discounts!A:C,3,0),0)","v":0},{"v":1471.9,"d":"€1,471.90"}]
[4030,134070,1,"Normal",0,"LUXE",{"$f":"IFERROR(VLOOKUP(F371,Discounts!A:C,3,0),0)","v":0},0]
[4050,120030,1,"Normal",{"v":1647.93,"d":"€1,647.93"},"A010",{"$f":"IFERROR(VLOOKUP(F372,Discounts!A:C,3,0),0)","v":0},{"v":1647.93,"d":"€1,647.93"}]
[4050,134070,1,"Normal",0,"LUXE",{"$f":"IFERROR(VLOOKUP(F373,Discounts!A:C,3,0),0)","v":0},0]
[4070,120040,1,"Normal",{"v":1738.02,"d":"€1,738.02"},"A010",{"$f":"IFERROR(VLOOKUP(F374,Discounts!A:C,3,0),0)","v":0},{"v":1738.02,"d":"€1,738.02"}]
[4070,134070,1,"Normal",0,"LUXE",{"$f":"IFERROR(VLOOKUP(F375,Discounts!A:C,3,0),0)","v":0},0]
[4090,120050,1,"Normal",{"v":1794.21,"d":"€1,794.21"},"A010",{"$f":"IFERROR(VLOOKUP(F376,Discounts!A:C,3,0),0)","v":0},{"v":1794.21,"d":"€1,794.21"}]
[4090,134070,1,"Normal",0,"LUXE",{"$f":"IFERROR(VLOOKUP(F377,Discounts!A:C,3,0),0)","v":0},0]
[4110,120060,1,"Normal",{"v":1471.9,"d":"€1,471.90"},"A010",{"$f":"IFERROR(VLOOKUP(F378,Discounts!A:C,3,0),0)","v":0},{"v":1471.9,"d":"€1,471.90"}]
[4110,134070,1,"Normal",0,"LUXE",{"$f":"IFERROR(VLOOKUP(F379,Discounts!A:C,3,0),0)","v":0},0]
[4130,120070,1,"Normal",{"v":1647.93,"d":"€1,647.93"},"A010",{"$f":"IFERROR(VLOOKUP(F380,Discounts!A:C,3,0),0)","v":0},{"v":1647.93,"d":"€1,647.93"}]
[4130,134070,1,"Normal",0,"LUXE",{"$f":"IFERROR(VLOOKUP(F381,Discounts!A:C,3,0),0)","v":0},0]
[4150,120080,1,"Normal",{"v":1738.02,"d":"€1,738.02"},"A010",{"$f":"IFERROR(VLOOKUP(F382,Discounts!A:C,3,0),0)","v":0},{"v":1738.02,"d":"€1,738.02"}]
[4150,134070,1,"Normal",0,"LUXE",{"$f":"IFERROR(VLOOKUP(F383,Discounts!A:C,3,0),0)","v":0},0]
[4170,120090,1,"Normal",{"v":1794.21,"d":"€1,794.21"},"A010",{"$f":"IFERROR(VLOOKUP(F384,Discounts!A:C,3,0),0)","v":0},{"v":1794.21,"d":"€1,794.21"}]
[4170,134070,1,"Normal",0,"LUXE",{"$f":"IFERROR(VLOOKUP(F385,Discounts!A:C,3,0),0)","v":0},0]
[4190,120100,1,"Normal",{"v":1438.02,"d":"€1,438.02"},"A010",{"$f":"IFERROR(VLOOKUP(F386,Discounts!A:C,3,0),0)","v":0},{"$f":"IF(D386=\"Normal\",E386*(1-G386),SUMIF(A:A,B386,H:H)*C386)","v":{"v":1438.02,"d":"€1,438.02"}}]
[4190,134070,1,"Normal",0,"LUXE",{"$f":"IFERROR(VLOOKUP(F387,Discounts!A:C,3,0),0)","v":0},0]
[4210,120110,1,"Normal",{"v":1276.03,"d":"€1,276.03"},"A010",{"$f":"IFERROR(VLOOKUP(F388,Discounts!A:C,3,0),0)","v":0},{"v":1276.03,"d":"€1,276.03"}]
[4210,134070,1,"Normal",0,"LUXE",{"$f":"IFERROR(VLOOKUP(F389,Discounts!A:C,3,0),0)","v":0},0]
[4230,120120,1,"Normal",{"v":1495.04,"d":"€1,495.04"},"A010",{"$f":"IFERROR(VLOOKUP(F390,Discounts!A:C,3,0),0)","v":0},{"v":1495.04,"d":"€1,495.04"}]
[4230,134070,1,"Normal",0,"LUXE",{"$f":"IFERROR(VLOOKUP(F391,Discounts!A:C,3,0),0)","v":0},0]
[4250,120130,1,"Normal",{"v":1458.68,"d":"€1,458.68"},"A010",{"$f":"IFERROR(VLOOKUP(F392,Discounts!A:C,3,0),0)","v":0},{"v":1458.68,"d":"€1,458.68"}]
[4250,134070,1,"Normal",0,"LUXE",{"$f":"IFERROR(VLOOKUP(F393,Discounts!A:C,3,0),0)","v":0},0]
[4270,120140,1,"Normal",{"v":1597.52,"d":"€1,597.52"},"A010",{"$f":"IFERROR(VLOOKUP(F394,Discounts!A:C,3,0),0)","v":0},{"v":1597.52,"d":"€1,597.52"}]
[4270,134070,1,"Normal",0,"LUXE",{"$f":"IFERROR(VLOOKUP(F395,Discounts!A:C,3,0),0)","v":0},0]
[4290,120150,1,"Normal",{"v":1530.58,"d":"€1,530.58"},"A010",{"$f":"IFERROR(VLOOKUP(F396,Discounts!A:C,3,0),0)","v":0},{"v":1530.58,"d":"€1,530.58"}]
[4290,134070,1,"Normal",0,"LUXE",{"$f":"IFERROR(VLOOKUP(F397,Discounts!A:C,3,0),0)","v":0},0]
[4310,120160,1,"Normal",{"v":1597.52,"d":"€1,597.52"},"A010",{"$f":"IFERROR(VLOOKUP(F398,Discounts!A:C,3,0),0)","v":0},{"v":1597.52,"d":"€1,597.52"}]
[4310,134070,1,"Normal",0,"LUXE",{"$f":"IFERROR(VLOOKUP(F399,Discounts!A:C,3,0),0)","v":0},0]
[4330,120170,1,"Normal",{"v":1401.65,"d":"€1,401.65"},"A010",{"$f":"IFERROR(VLOOKUP(F400,Discounts!A:C,3,0),0)","v":0},{"v":1401.65,"d":"€1,401.65"}]
[4330,134070,1,"Normal",0,"LUXE",{"$f":"IFERROR(VLOOKUP(F401,Discounts!A:C,3,0),0)","v":0},0]
[4350,120180,1,"Normal",{"v":1587.6,"d":"€1,587.60"},"A010",{"$f":"IFERROR(VLOOKUP(F402,Discounts!A:C,3,0),0)","v":0},{"v":1587.6,"d":"€1,587.60"}]
[4350,134070,1,"Normal",0,"LUXE",{"$f":"IFERROR(VLOOKUP(F403,Discounts!A:C,3,0),0)","v":0},0]
[4370,120190,1,"Normal",{"v":1647.93,"d":"€1,647.93"},"A010",{"$f":"IFERROR(VLOOKUP(F404,Discounts!A:C,3,0),0)","v":0},{"v":1647.93,"d":"€1,647.93"}]
[4370,134070,1,"Normal",0,"LUXE",{"$f":"IFERROR(VLOOKUP(F405,Discounts!A:C,3,0),0)","v":0},0]
[4390,120200,1,"Normal",{"v":1738.02,"d":"€1,738.02"},"A010",{"$f":"IFERROR(VLOOKUP(F406,Discounts!A:C,3,0),0)","v":0},{"v":1738.02,"d":"€1,738.02"}]
[4390,134070,1,"Normal",0,"LUXE",{"$f":"IFERROR(VLOOKUP(F407,Discounts!A:C,3,0),0)","v":0},0]
[4410,120210,1,"Normal",{"v":1401.65,"d":"€1,401.65"},"A010",{"$f":"IFERROR(VLOOKUP(F408,Discounts!A:C,3,0),0)","v":0},{"v":1401.65,"d":"€1,401.65"}]
[4410,134070,1,"Normal",0,"LUXE",{"$f":"IFERROR(VLOOKUP(F409,Discounts!A:C,3,0),0)","v":0},0]
[4430,120220,1,"Normal",{"v":1587.6,"d":"€1,587.60"},"A010",{"$f":"IFERROR(VLOOKUP(F410,Discounts!A:C,3,0),0)","v":0},{"v":1587.6,"d":"€1,587.60"}]
[4430,134070,1,"Normal",0,"LUXE",{"$f":"IFERROR(VLOOKUP(F411,Discounts!A:C,3,0),0)","v":0},0]
[4450,120230,1,"Normal",{"v":1647.93,"d":"€1,647.93"},"A010",{"$f":"IFERROR(VLOOKUP(F412,Discounts!A:C,3,0),0)","v":0},{"v":1647.93,"d":"€1,647.93"}]
[4450,134070,1,"Normal",0,"LUXE",{"$f":"IFERROR(VLOOKUP(F413,Discounts!A:C,3,0),0)","v":0},0]
[4470,120240,1,"Normal",{"v":1738.02,"d":"€1,738.02"},"A010",{"$f":"IFERROR(VLOOKUP(F414,Discounts!A:C,3,0),0)","v":0},{"v":1738.02,"d":"€1,738.02"}]
[4470,134070,1,"Normal",0,"LUXE",{"$f":"IFERROR(VLOOKUP(F415,Discounts!A:C,3,0),0)","v":0},0]
[14510,120250,1,"Normal",{"v":2347.93,"d":"€2,347.93"},"A015",{"$f":"IFERROR(VLOOKUP(F416,Discounts!A:C,3,0),0)","v":0},{"v":2347.93,"d":"€2,347.93"}]
[14510,134070,1,"Normal",0,"LUXE",{"$f":"IFERROR(VLOOKUP(F417,Discounts!A:C,3,0),0)","v":0},0]
[18030,17970,1,"Normal",{"v":267.77,"d":"€267.77"},"E055",{"$f":"IFERROR(VLOOKUP(F418,Discounts!A:C,3,0),0)","v":0},{"v":267.77,"d":"€267.77"}]
[18030,31920,1,"Normal",{"v":115.7,"d":"€115.70"},"SD/SG",{"$f":"IFERROR(VLOOKUP(F419,Discounts!A:C,3,0),0)","v":0},{"v":115.7,"d":"€115.70"}]
[18040,17980,1,"Normal",{"v":288.43,"d":"€288.43"},"E055",{"$f":"IFERROR(VLOOKUP(F420,Discounts!A:C,3,0),0)","v":0},{"v":288.43,"d":"€288.43"}]
[18040,31920,1,"Normal",{"v":115.7,"d":"€115.70"},"SD/SG",{"$f":"IFERROR(VLOOKUP(F421,Discounts!A:C,3,0),0)","v":0},{"v":115.7,"d":"€115.70"}]
[18050,17990,1,"Normal",{"v":308.26,"d":"€308.26"},"E055",{"$f":"IFERROR(VLOOKUP(F422,Discounts!A:C,3,0),0)","v":0},{"v":308.26,"d":"€308.26"}]
[18050,31920,1,"Normal",{"v":115.7,"d":"€115.70"},"SD/SG",{"$f":"IFERROR(VLOOKUP(F423,Discounts!A:C,3,0),0)","v":0},{"v":115.7,"d":"€115.70"}]
[18060,18000,1,"Normal",{"v":348.76,"d":"€348.76"},"E055",{"$f":"IFERROR(VLOOKUP(F424,Discounts!A:C,3,0),0)","v":0},{"v":348.76,"d":"€348.76"}]
[18060,31920,1,"Normal",{"v":115.7,"d":"€115.70"},"SD/SG",{"$f":"IFERROR(VLOOKUP(F425,Discounts!A:C,3,0),0)","v":0},{"v":115.7,"d":"€115.70"}]
[18070,18010,1,"Normal",{"v":390.08,"d":"€390.08"},"E055",{"$f":"IFERROR(VLOOKUP(F426,Discounts!A:C,3,0),0)","v":0},{"v":390.08,"d":"€390.08"}]
[18070,31920,1,"Normal",{"v":115.7,"d":"€115.70"},"SD/SG",{"$f":"IFERROR(VLOOKUP(F427,Discounts!A:C,3,0),0)","v":0},{"v":115.7,"d":"€115.70"}]
[18080,31920,1,"Normal",{"v":115.7,"d":"€115.70"},"SD/SG",{"$f":"IFERROR(VLOOKUP(F428,Discounts!A:C,3,0),0)","v":0},{"v":115.7,"d":"€115.70"}]
[18080,149800,1,"Normal",{"v":314.88,"d":"€314.88"},"E075",{"$f":"IFERROR(VLOOKUP(F429,Discounts!A:C,3,0),0)","v":0},{"v":314.88,"d":"€314.88"}]
[18090,31920,1,"Normal",{"v":115.7,"d":"€115.70"},"SD/SG",{"$f":"IFERROR(VLOOKUP(F430,Discounts!A:C,3,0),0)","v":0},{"v":115.7,"d":"€115.70"}]
[18090,149810,1,"Normal",{"v":338.02,"d":"€338.02"},"E075",{"$f":"IFERROR(VLOOKUP(F431,Discounts!A:C,3,0),0)","v":0},{"v":338.02,"d":"€338.02"}]
[18100,31920,1,"Normal",{"v":115.7,"d":"€115.70"},"SD/SG",{"$f":"IFERROR(VLOOKUP(F432,Discounts!A:C,3,0),0)","v":0},{"v":115.7,"d":"€115.70"}]
[18100,149820,1,"Normal",{"v":359.5,"d":"€359.50"},"E075",{"$f":"IFERROR(VLOOKUP(F433,Discounts!A:C,3,0),0)","v":0},{"v":359.5,"d":"€359.50"}]
[18110,31920,1,"Normal",{"v":115.7,"d":"€115.70"},"SD/SG",{"$f":"IFERROR(VLOOKUP(F434,Discounts!A:C,3,0),0)","v":0},{"v":115.7,"d":"€115.70"}]
[18110,149830,1,"Normal",{"v":407.44,"d":"€407.44"},"E075",{"$f":"IFERROR(VLOOKUP(F435,Discounts!A:C,3,0),0)","v":0},{"v":407.44,"d":"€407.44"}]
[18130,31920,1,"Normal",{"v":115.7,"d":"€115.70"},"SD/SG",{"$f":"IFERROR(VLOOKUP(F436,Discounts!A:C,3,0),0)","v":0},{"v":115.7,"d":"€115.70"}]
[18130,149840,1,"Normal",{"v":453.72,"d":"€453.72"},"E075",{"$f":"IFERROR(VLOOKUP(F437,Discounts!A:C,3,0),0)","v":0},{"v":453.72,"d":"€453.72"}]
[18140,31920,1,"Normal",{"v":115.7,"d":"€115.70"},"SD/SG",{"$f":"IFERROR(VLOOKUP(F438,Discounts!A:C,3,0),0)","v":0},{"v":115.7,"d":"€115.70"}]
[18140,148270,1,"Normal",{"v":257.85,"d":"€257.85"},"E065",{"$f":"IFERROR(VLOOKUP(F439,Discounts!A:C,3,0),0)","v":0},{"v":257.85,"d":"€257.85"}]
[18150,31920,1,"Normal",{"v":115.7,"d":"€115.70"},"SD/SG",{"$f":"IFERROR(VLOOKUP(F440,Discounts!A:C,3,0),0)","v":0},{"v":115.7,"d":"€115.70"}]
[18150,148290,1,"Normal",{"v":277.69,"d":"€277.69"},"E065",{"$f":"IFERROR(VLOOKUP(F441,Discounts!A:C,3,0),0)","v":0},{"v":277.69,"d":"€277.69"}]
[18160,31920,1,"Normal",{"v":115.7,"d":"€115.70"},"SD/SG",{"$f":"IFERROR(VLOOKUP(F442,Discounts!A:C,3,0),0)","v":0},{"v":115.7,"d":"€115.70"}]
[18160,148310,1,"Normal",{"v":296.69,"d":"€296.69"},"E065",{"$f":"IFERROR(VLOOKUP(F443,Discounts!A:C,3,0),0)","v":0},{"v":296.69,"d":"€296.69"}]
[18170,31920,1,"Normal",{"v":115.7,"d":"€115.70"},"SD/SG",{"$f":"IFERROR(VLOOKUP(F444,Discounts!A:C,3,0),0)","v":0},{"v":115.7,"d":"€115.70"}]
[18170,148330,1,"Normal",{"v":334.71,"d":"€334.71"},"E065",{"$f":"IFERROR(VLOOKUP(F445,Discounts!A:C,3,0),0)","v":0},{"v":334.71,"d":"€334.71"}]
[18180,31920,1,"Normal",{"v":115.7,"d":"€115.70"},"SD/SG",{"$f":"IFERROR(VLOOKUP(F446,Discounts!A:C,3,0),0)","v":0},{"v":115.7,"d":"€115.70"}]
[18180,148350,1,"Normal",{"v":371.07,"d":"€371.07"},"E065",{"$f":"IFERROR(VLOOKUP(F447,Discounts!A:C,3,0),0)","v":0},{"v":371.07,"d":"€371.07"}]
[18240,18190,1,"Normal",{"v":329.75,"d":"€329.75"},"E055",{"$f":"IFERROR(VLOOKUP(F448,Discounts!A:C,3,0),0)","v":0},{"v":329.75,"d":"€329.75"}]
[18240,31920,1,"Normal",{"v":115.7,"d":"€115.70"},"SD/SG",{"$f":"IFERROR(VLOOKUP(F449,Discounts!A:C,3,0),0)","v":0},{"v":115.7,"d":"€115.70"}]
[18250,18200,1,"Normal",{"v":348.76,"d":"€348.76"},"E055",{"$f":"IFERROR(VLOOKUP(F450,Discounts!A:C,3,0),0)","v":0},{"$f":"IF(D450=\"Normal\",E450*(1-G450),SUMIF(A:A,B450,H:H)*C450)","v":{"v":348.76,"d":"€348.76"}}]
[18250,31920,1,"Normal",{"v":115.7,"d":"€115.70"},"SD/SG",{"$f":"IFERROR(VLOOKUP(F451,Discounts!A:C,3,0),0)","v":0},{"v":115.7,"d":"€115.70"}]
[18260,18210,1,"Normal",{"v":370.25,"d":"€370.25"},"E055",{"$f":"IFERROR(VLOOKUP(F452,Discounts!A:C,3,0),0)","v":0},{"v":370.25,"d":"€370.25"}]
[18260,31920,1,"Normal",{"v":115.7,"d":"€115.70"},"SD/SG",{"$f":"IFERROR(VLOOKUP(F453,Discounts!A:C,3,0),0)","v":0},{"v":115.7,"d":"€115.70"}]
[18270,18220,1,"Normal",{"v":409.92,"d":"€409.92"},"E055",{"$f":"IFERROR(VLOOKUP(F454,Discounts!A:C,3,0),0)","v":0},{"v":409.92,"d":"€409.92"}]
[18270,31920,1,"Normal",{"v":115.7,"d":"€115.70"},"SD/SG",{"$f":"IFERROR(VLOOKUP(F455,Discounts!A:C,3,0),0)","v":0},{"v":115.7,"d":"€115.70"}]
[18280,18230,1,"Normal",{"v":447.11,"d":"€447.11"},"E055",{"$f":"IFERROR(VLOOKUP(F456,Discounts!A:C,3,0),0)","v":0},{"v":447.11,"d":"€447.11"}]
[18280,31920,1,"Normal",{"v":115.7,"d":"€115.70"},"SD/SG",{"$f":"IFERROR(VLOOKUP(F457,Discounts!A:C,3,0),0)","v":0},{"v":115.7,"d":"€115.70"}]
[18290,31920,1,"Normal",{"v":115.7,"d":"€115.70"},"SD/SG",{"$f":"IFERROR(VLOOKUP(F458,Discounts!A:C,3,0),0)","v":0},{"v":115.7,"d":"€115.70"}]
[18290,149850,1,"Normal",{"v":385.12,"d":"€385.12"},"E075",{"$f":"IFERROR(VLOOKUP(F459,Discounts!A:C,3,0),0)","v":0},{"v":385.12,"d":"€385.12"}]
[18300,31920,1,"Normal",{"v":115.7,"d":"€115.70"},"SD/SG",{"$f":"IFERROR(VLOOKUP(F460,Discounts!A:C,3,0),0)","v":0},{"v":115.7,"d":"€115.70"}]
[18300,149860,1,"Normal",{"v":407.44,"d":"€407.44"},"E075",{"$f":"IFERROR(VLOOKUP(F461,Discounts!A:C,3,0),0)","v":0},{"v":407.44,"d":"€407.44"}]
[18310,31920,1,"Normal",{"v":115.7,"d":"€115.70"},"SD/SG",{"$f":"IFERROR(VLOOKUP(F462,Discounts!A:C,3,0),0)","v":0},{"v":115.7,"d":"€115.70"}]
[18310,149870,1,"Normal",{"v":431.4,"d":"€431.40"},"E075",{"$f":"IFERROR(VLOOKUP(F463,Discounts!A:C,3,0),0)","v":0},{"v":431.4,"d":"€431.40"}]
[18320,31920,1,"Normal",{"v":115.7,"d":"€115.70"},"SD/SG",{"$f":"IFERROR(VLOOKUP(F464,Discounts!A:C,3,0),0)","v":0},{"v":115.7,"d":"€115.70"}]
[18320,149880,1,"Normal",{"v":476.86,"d":"€476.86"},"E075",{"$f":"IFERROR(VLOOKUP(F465,Discounts!A:C,3,0),0)","v":0},{"v":476.86,"d":"€476.86"}]
[18330,31920,1,"Normal",{"v":115.7,"d":"€115.70"},"SD/SG",{"$f":"IFERROR(VLOOKUP(F466,Discounts!A:C,3,0),0)","v":0},{"v":115.7,"d":"€115.70"}]
[18330,149890,1,"Normal",{"v":522.31,"d":"€522.31"},"E075",{"$f":"IFERROR(VLOOKUP(F467,Discounts!A:C,3,0),0)","v":0},{"v":522.31,"d":"€522.31"}]
[18340,31920,1,"Normal",{"v":115.7,"d":"€115.70"},"SD/SG",{"$f":"IFERROR(VLOOKUP(F468,Discounts!A:C,3,0),0)","v":0},{"v":115.7,"d":"€115.70"}]
[18340,148280,1,"Normal",{"v":303.31,"d":"€303.31"},"E065",{"$f":"IFERROR(VLOOKUP(F469,Discounts!A:C,3,0),0)","v":0},{"v":303.31,"d":"€303.31"}]
[18350,31920,1,"Normal",{"v":115.7,"d":"€115.70"},"SD/SG",{"$f":"IFERROR(VLOOKUP(F470,Discounts!A:C,3,0),0)","v":0},{"v":115.7,"d":"€115.70"}]
[18350,148300,1,"Normal",{"v":320.66,"d":"€320.66"},"E065",{"$f":"IFERROR(VLOOKUP(F471,Discounts!A:C,3,0),0)","v":0},{"v":320.66,"d":"€320.66"}]
[18360,31920,1,"Normal",{"v":115.7,"d":"€115.70"},"SD/SG",{"$f":"IFERROR(VLOOKUP(F472,Discounts!A:C,3,0),0)","v":0},{"v":115.7,"d":"€115.70"}]
[18360,148320,1,"Normal",{"v":339.67,"d":"€339.67"},"E065",{"$f":"IFERROR(VLOOKUP(F473,Discounts!A:C,3,0),0)","v":0},{"v":339.67,"d":"€339.67"}]
[18370,31920,1,"Normal",{"v":115.7,"d":"€115.70"},"SD/SG",{"$f":"IFERROR(VLOOKUP(F474,Discounts!A:C,3,0),0)","v":0},{"v":115.7,"d":"€115.70"}]
[18370,148340,1,"Normal",{"v":378.51,"d":"€378.51"},"E065",{"$f":"IFERROR(VLOOKUP(F475,Discounts!A:C,3,0),0)","v":0},{"v":378.51,"d":"€378.51"}]
[18380,31920,1,"Normal",{"v":115.7,"d":"€115.70"},"SD/SG",{"$f":"IFERROR(VLOOKUP(F476,Discounts!A:C,3,0),0)","v":0},{"v":115.7,"d":"€115.70"}]
[18380,148360,1,"Normal",{"v":417.36,"d":"€417.36"},"E065",{"$f":"IFERROR(VLOOKUP(F477,Discounts!A:C,3,0),0)","v":0},{"v":417.36,"d":"€417.36"}]
[21590,21010,1,"Normal",{"v":777.69,"d":"€777.69"},"C010",{"$f":"IFERROR(VLOOKUP(F478,Discounts!A:C,3,0),0)","v":0},{"v":777.69,"d":"€777.69"}]
[21590,34260,1,"Normal",{"v":249.59,"d":"€249.59"},"LUXE",{"$f":"IFERROR(VLOOKUP(F479,Discounts!A:C,3,0),0)","v":0},{"v":249.59,"d":"€249.59"}]
[21600,21020,1,"Normal",{"v":439.67,"d":"€439.67"},"C010",{"$f":"IFERROR(VLOOKUP(F480,Discounts!A:C,3,0),0)","v":0},{"v":439.67,"d":"€439.67"}]
[21600,34260,1,"Normal",{"v":249.59,"d":"€249.59"},"LUXE",{"$f":"IFERROR(VLOOKUP(F481,Discounts!A:C,3,0),0)","v":0},{"v":249.59,"d":"€249.59"}]
[21610,21030,1,"Normal",{"v":715.7,"d":"€715.70"},"C010",{"$f":"IFERROR(VLOOKUP(F482,Discounts!A:C,3,0),0)","v":0},{"v":715.7,"d":"€715.70"}]
[21610,34260,1,"Normal",{"v":249.59,"d":"€249.59"},"LUXE",{"$f":"IFERROR(VLOOKUP(F483,Discounts!A:C,3,0),0)","v":0},{"v":249.59,"d":"€249.59"}]
[21620,21040,1,"Normal",{"v":464.46,"d":"€464.46"},"C010",{"$f":"IFERROR(VLOOKUP(F484,Discounts!A:C,3,0),0)","v":0},{"v":464.46,"d":"€464.46"}]
[21620,34260,1,"Normal",{"v":249.59,"d":"€249.59"},"LUXE",{"$f":"IFERROR(VLOOKUP(F485,Discounts!A:C,3,0),0)","v":0},{"v":249.59,"d":"€249.59"}]
[21630,21050,1,"Normal",{"v":675.21,"d":"€675.21"},"C010",{"$f":"IFERROR(VLOOKUP(F486,Discounts!A:C,3,0),0)","v":0},{"v":675.21,"d":"€675.21"}]
[21630,34260,1,"Normal",{"v":249.59,"d":"€249.59"},"LUXE",{"$f":"IFERROR(VLOOKUP(F487,Discounts!A:C,3,0),0)","v":0},{"v":249.59,"d":"€249.59"}]
[21640,21060,1,"Normal",{"v":740.5,"d":"€740.50"},"C010",{"$f":"IFERROR(VLOOKUP(F488,Discounts!A:C,3,0),0)","v":0},{"v":740.5,"d":"€740.50"}]
[21640,34260,1,"Normal",{"v":249.59,"d":"€249.59"},"LUXE",{"$f":"IFERROR(VLOOKUP(F489,Discounts!A:C,3,0),0)","v":0},{"v":249.59,"d":"€249.59"}]
[21650,21070,1,"Normal",{"v":489.26,"d":"€489.26"},"C010",{"$f":"IFERROR(VLOOKUP(F490,Discounts!A:C,3,0),0)","v":0},{"v":489.26,"d":"€489.26"}]
[21650,34260,1,"Normal",{"v":249.59,"d":"€249.59"},"LUXE",{"$f":"IFERROR(VLOOKUP(F491,Discounts!A:C,3,0),0)","v":0},{"v":249.59,"d":"€249.59"}]
[21660,21080,1,"Normal",{"v":764.46,"d":"€764.46"},"C010",{"$f":"IFERROR(VLOOKUP(F492,Discounts!A:C,3,0),0)","v":0},{"v":764.46,"d":"€764.46"}]
[21660,34260,1,"Normal",{"v":249.59,"d":"€249.59"},"LUXE",{"$f":"IFERROR(VLOOKUP(F493,Discounts!A:C,3,0),0)","v":0},{"v":249.59,"d":"€249.59"}]
[21670,21090,1,"Normal",{"v":517.36,"d":"€517.36"},"C010",{"$f":"IFERROR(VLOOKUP(F494,Discounts!A:C,3,0),0)","v":0},{"v":517.36,"d":"€517.36"}]
[21670,34260,1,"Normal",{"v":249.59,"d":"€249.59"},"LUXE",{"$f":"IFERROR(VLOOKUP(F495,Discounts!A:C,3,0),0)","v":0},{"v":249.59,"d":"€249.59"}]
[21680,21100,1,"Normal",{"v":728.1,"d":"€728.10"},"C010",{"$f":"IFERROR(VLOOKUP(F496,Discounts!A:C,3,0),0)","v":0},{"v":728.1,"d":"€728.10"}]
[21680,34260,1,"Normal",{"v":249.59,"d":"€249.59"},"LUXE",{"$f":"IFERROR(VLOOKUP(F497,Discounts!A:C,3,0),0)","v":0},{"v":249.59,"d":"€249.59"}]
[21690,21110,1,"Normal",{"v":790.08,"d":"€790.08"},"C010",{"$f":"IFERROR(VLOOKUP(F498,Discounts!A:C,3,0),0)","v":0},{"v":790.08,"d":"€790.08"}]
[21690,34260,1,"Normal",{"v":249.59,"d":"€249.59"},"LUXE",{"$f":"IFERROR(VLOOKUP(F499,Discounts!A:C,3,0),0)","v":0},{"v":249.59,"d":"€249.59"}]
[21700,21120,1,"Normal",{"v":542.98,"d":"€542.98"},"C010",{"$f":"IFERROR(VLOOKUP(F500,Discounts!A:C,3,0),0)","v":0},{"v":542.98,"d":"€542.98"}]
[21700,34260,1,"Normal",{"v":249.59,"d":"€249.59"},"LUXE",{"$f":"IFERROR(VLOOKUP(F501,Discounts!A:C,3,0),0)","v":0},{"v":249.59,"d":"€249.59"}]
[21710,21130,1,"Normal",{"v":754.55,"d":"€754.55"},"C010",{"$f":"IFERROR(VLOOKUP(F502,Discounts!A:C,3,0),0)","v":0},{"v":754.55,"d":"€754.55"}]
[21710,34260,1,"Normal",{"v":249.59,"d":"€249.59"},"LUXE",{"$f":"IFERROR(VLOOKUP(F503,Discounts!A:C,3,0),0)","v":0},{"v":249.59,"d":"€249.59"}]
[21720,21140,1,"Normal",{"v":569.42,"d":"€569.42"},"C010",{"$f":"IFERROR(VLOOKUP(F504,Discounts!A:C,3,0),0)","v":0},{"v":569.42,"d":"€569.42"}]
[21720,34260,1,"Normal",{"v":249.59,"d":"€249.59"},"LUXE",{"$f":"IFERROR(VLOOKUP(F505,Discounts!A:C,3,0),0)","v":0},{"v":249.59,"d":"€249.59"}]
[21730,21150,1,"Normal",{"v":780.17,"d":"€780.17"},"C010",{"$f":"IFERROR(VLOOKUP(F506,Discounts!A:C,3,0),0)","v":0},{"v":780.17,"d":"€780.17"}]
[21730,34260,1,"Normal",{"v":249.59,"d":"€249.59"},"LUXE",{"$f":"IFERROR(VLOOKUP(F507,Discounts!A:C,3,0),0)","v":0},{"v":249.59,"d":"€249.59"}]
[21740,21160,1,"Normal",{"v":593.39,"d":"€593.39"},"C010",{"$f":"IFERROR(VLOOKUP(F508,Discounts!A:C,3,0),0)","v":0},{"v":593.39,"d":"€593.39"}]
[21740,34260,1,"Normal",{"v":249.59,"d":"€249.59"},"LUXE",{"$f":"IFERROR(VLOOKUP(F509,Discounts!A:C,3,0),0)","v":0},{"v":249.59,"d":"€249.59"}]
[21750,21170,1,"Normal",{"v":806.61,"d":"€806.61"},"C010",{"$f":"IFERROR(VLOOKUP(F510,Discounts!A:C,3,0),0)","v":0},{"v":806.61,"d":"€806.61"}]
[21750,34260,1,"Normal",{"v":249.59,"d":"€249.59"},"LUXE",{"$f":"IFERROR(VLOOKUP(F511,Discounts!A:C,3,0),0)","v":0},{"v":249.59,"d":"€249.59"}]
[21760,21180,1,"Normal",{"v":619.01,"d":"€619.01"},"C010",{"$f":"IFERROR(VLOOKUP(F512,Discounts!A:C,3,0),0)","v":0},{"v":619.01,"d":"€619.01"}]
[21760,34260,1,"Normal",{"v":249.59,"d":"€249.59"},"LUXE",{"$f":"IFERROR(VLOOKUP(F513,Discounts!A:C,3,0),0)","v":0},{"v":249.59,"d":"€249.59"}]
[21770,21190,1,"Normal",{"v":831.4,"d":"€831.40"},"C010",{"$f":"IFERROR(VLOOKUP(F514,Discounts!A:C,3,0),0)","v":0},{"$f":"IF(D514=\"Normal\",E514*(1-G514),SUMIF(A:A,B514,H:H)*C514)","v":{"v":831.4,"d":"€831.40"}}]
[21770,34260,1,"Normal",{"v":249.59,"d":"€249.59"},"LUXE",{"$f":"IFERROR(VLOOKUP(F515,Discounts!A:C,3,0),0)","v":0},{"v":249.59,"d":"€249.59"}]
[21780,21200,1,"Normal",{"v":796.69,"d":"€796.69"},"C010",{"$f":"IFERROR(VLOOKUP(F516,Discounts!A:C,3,0),0)","v":0},{"v":796.69,"d":"€796.69"}]
[21780,34260,1,"Normal",{"v":249.59,"d":"€249.59"},"LUXE",{"$f":"IFERROR(VLOOKUP(F517,Discounts!A:C,3,0),0)","v":0},{"v":249.59,"d":"€249.59"}]
[21790,21210,1,"Normal",{"v":542.98,"d":"€542.98"},"C010",{"$f":"IFERROR(VLOOKUP(F518,Discounts!A:C,3,0),0)","v":0},{"v":542.98,"d":"€542.98"}]
[21790,34260,1,"Normal",{"v":249.59,"d":"€249.59"},"LUXE",{"$f":"IFERROR(VLOOKUP(F519,Discounts!A:C,3,0),0)","v":0},{"v":249.59,"d":"€249.59"}]
[21800,21220,1,"Normal",{"v":754.55,"d":"€754.55"},"C010",{"$f":"IFERROR(VLOOKUP(F520,Discounts!A:C,3,0),0)","v":0},{"v":754.55,"d":"€754.55"}]
[21800,34260,1,"Normal",{"v":249.59,"d":"€249.59"},"LUXE",{"$f":"IFERROR(VLOOKUP(F521,Discounts!A:C,3,0),0)","v":0},{"v":249.59,"d":"€249.59"}]
[21810,21230,1,"Normal",{"v":818.18,"d":"€818.18"},"C010",{"$f":"IFERROR(VLOOKUP(F522,Discounts!A:C,3,0),0)","v":0},{"v":818.18,"d":"€818.18"}]
[21810,34260,1,"Normal",{"v":249.59,"d":"€249.59"},"LUXE",{"$f":"IFERROR(VLOOKUP(F523,Discounts!A:C,3,0),0)","v":0},{"v":249.59,"d":"€249.59"}]
[21820,21240,1,"Normal",{"v":569.42,"d":"€569.42"},"C010",{"$f":"IFERROR(VLOOKUP(F524,Discounts!A:C,3,0),0)","v":0},{"v":569.42,"d":"€569.42"}]
[21820,34260,1,"Normal",{"v":249.59,"d":"€249.59"},"LUXE",{"$f":"IFERROR(VLOOKUP(F525,Discounts!A:C,3,0),0)","v":0},{"v":249.59,"d":"€249.59"}]
[21830,21250,1,"Normal",{"v":780.17,"d":"€780.17"},"C010",{"$f":"IFERROR(VLOOKUP(F526,Discounts!A:C,3,0),0)","v":0},{"v":780.17,"d":"€780.17"}]
[21830,34260,1,"Normal",{"v":249.59,"d":"€249.59"},"LUXE",{"$f":"IFERROR(VLOOKUP(F527,Discounts!A:C,3,0),0)","v":0},{"v":249.59,"d":"€249.59"}]
[21840,21260,1,"Normal",{"v":593.39,"d":"€593.39"},"C010",{"$f":"IFERROR(VLOOKUP(F528,Discounts!A:C,3,0),0)","v":0},{"v":593.39,"d":"€593.39"}]
[21840,34260,1,"Normal",{"v":249.59,"d":"€249.59"},"LUXE",{"$f":"IFERROR(VLOOKUP(F529,Discounts!A:C,3,0),0)","v":0},{"v":249.59,"d":"€249.59"}]
[21850,21270,1,"Normal",{"v":806.61,"d":"€806.61"},"C010",{"$f":"IFERROR(VLOOKUP(F530,Discounts!A:C,3,0),0)","v":0},{"v":806.61,"d":"€806.61"}]
[21850,34260,1,"Normal",{"v":249.59,"d":"€249.59"},"LUXE",{"$f":"IFERROR(VLOOKUP(F531,Discounts!A:C,3,0),0)","v":0},{"v":249.59,"d":"€249.59"}]
[21860,21280,1,"Normal",{"v":619.01,"d":"€619.01"},"C010",{"$f":"IFERROR(VLOOKUP(F532,Discounts!A:C,3,0),0)","v":0},{"v":619.01,"d":"€619.01"}]
[21860,34260,1,"Normal",{"v":249.59,"d":"€249.59"},"LUXE",{"$f":"IFERROR(VLOOKUP(F533,Discounts!A:C,3,0),0)","v":0},{"v":249.59,"d":"€249.59"}]
[21870,21290,1,"Normal",{"v":831.4,"d":"€831.40"},"C010",{"$f":"IFERROR(VLOOKUP(F534,Discounts!A:C,3,0),0)","v":0},{"v":831.4,"d":"€831.40"}]
[21870,34260,1,"Normal",{"v":249.59,"d":"€249.59"},"LUXE",{"$f":"IFERROR(VLOOKUP(F535,Discounts!A:C,3,0),0)","v":0},{"v":249.59,"d":"€249.59"}]
[21880,21300,1,"Normal",{"v":777.69,"d":"€777.69"},"A010",{"$f":"IFERROR(VLOOKUP(F536,Discounts!A:C,3,0),0)","v":0},{"v":777.69,"d":"€777.69"}]
[21880,34260,1,"Normal",{"v":249.59,"d":"€249.59"},"LUXE",{"$f":"IFERROR(VLOOKUP(F537,Discounts!A:C,3,0),0)","v":0},{"v":249.59,"d":"€249.59"}]
[21890,21310,1,"Normal",{"v":439.67,"d":"€439.67"},"A010",{"$f":"IFERROR(VLOOKUP(F538,Discounts!A:C,3,0),0)","v":0},{"v":439.67,"d":"€439.67"}]
[21890,34260,1,"Normal",{"v":249.59,"d":"€249.59"},"LUXE",{"$f":"IFERROR(VLOOKUP(F539,Discounts!A:C,3,0),0)","v":0},{"v":249.59,"d":"€249.59"}]
[21900,21320,1,"Normal",{"v":715.7,"d":"€715.70"},"A010",{"$f":"IFERROR(VLOOKUP(F540,Discounts!A:C,3,0),0)","v":0},{"v":715.7,"d":"€715.70"}]
[21900,34260,1,"Normal",{"v":249.59,"d":"€249.59"},"LUXE",{"$f":"IFERROR(VLOOKUP(F541,Discounts!A:C,3,0),0)","v":0},{"v":249.59,"d":"€249.59"}]
[21910,21330,1,"Normal",{"v":464.46,"d":"€464.46"},"C010",{"$f":"IFERROR(VLOOKUP(F542,Discounts!A:C,3,0),0)","v":0},{"v":464.46,"d":"€464.46"}]
[21910,34260,1,"Normal",{"v":249.59,"d":"€249.59"},"LUXE",{"$f":"IFERROR(VLOOKUP(F543,Discounts!A:C,3,0),0)","v":0},{"v":249.59,"d":"€249.59"}]
[21920,21340,1,"Normal",{"v":675.21,"d":"€675.21"},"A010",{"$f":"IFERROR(VLOOKUP(F544,Discounts!A:C,3,0),0)","v":0},{"v":675.21,"d":"€675.21"}]
[21920,34260,1,"Normal",{"v":249.59,"d":"€249.59"},"LUXE",{"$f":"IFERROR(VLOOKUP(F545,Discounts!A:C,3,0),0)","v":0},{"v":249.59,"d":"€249.59"}]
[21930,21350,1,"Normal",{"v":740.5,"d":"€740.50"},"A010",{"$f":"IFERROR(VLOOKUP(F546,Discounts!A:C,3,0),0)","v":0},{"v":740.5,"d":"€740.50"}]
[21930,34260,1,"Normal",{"v":249.59,"d":"€249.59"},"LUXE",{"$f":"IFERROR(VLOOKUP(F547,Discounts!A:C,3,0),0)","v":0},{"v":249.59,"d":"€249.59"}]
[21940,21360,1,"Normal",{"v":489.26,"d":"€489.26"},"A010",{"$f":"IFERROR(VLOOKUP(F548,Discounts!A:C,3,0),0)","v":0},{"v":489.26,"d":"€489.26"}]
[21940,34260,1,"Normal",{"v":249.59,"d":"€249.59"},"LUXE",{"$f":"IFERROR(VLOOKUP(F549,Discounts!A:C,3,0),0)","v":0},{"v":249.59,"d":"€249.59"}]
[21950,21370,1,"Normal",{"v":764.46,"d":"€764.46"},"A010",{"$f":"IFERROR(VLOOKUP(F550,Discounts!A:C,3,0),0)","v":0},{"v":764.46,"d":"€764.46"}]
[21950,34260,1,"Normal",{"v":249.59,"d":"€249.59"},"LUXE",{"$f":"IFERROR(VLOOKUP(F551,Discounts!A:C,3,0),0)","v":0},{"v":249.59,"d":"€249.59"}]
[21960,21380,1,"Normal",{"v":517.36,"d":"€517.36"},"A010",{"$f":"IFERROR(VLOOKUP(F552,Discounts!A:C,3,0),0)","v":0},{"v":517.36,"d":"€517.36"}]
[21960,34260,1,"Normal",{"v":249.59,"d":"€249.59"},"LUXE",{"$f":"IFERROR(VLOOKUP(F553,Discounts!A:C,3,0),0)","v":0},{"v":249.59,"d":"€249.59"}]
[21970,21390,1,"Normal",{"v":728.1,"d":"€728.10"},"A010",{"$f":"IFERROR(VLOOKUP(F554,Discounts!A:C,3,0),0)","v":0},{"v":728.1,"d":"€728.10"}]
[21970,34260,1,"Normal",{"v":249.59,"d":"€249.59"},"LUXE",{"$f":"IFERROR(VLOOKUP(F555,Discounts!A:C,3,0),0)","v":0},{"v":249.59,"d":"€249.59"}]
[21980,21400,1,"Normal",{"v":790.08,"d":"€790.08"},"A010",{"$f":"IFERROR(VLOOKUP(F556,Discounts!A:C,3,0),0)","v":0},{"v":790.08,"d":"€790.08"}]
[21980,34260,1,"Normal",{"v":249.59,"d":"€249.59"},"LUXE",{"$f":"IFERROR(VLOOKUP(F557,Discounts!A:C,3,0),0)","v":0},{"v":249.59,"d":"€249.59"}]
[21990,21410,1,"Normal",{"v":542.98,"d":"€542.98"},"A010",{"$f":"IFERROR(VLOOKUP(F558,Discounts!A:C,3,0),0)","v":0},{"v":542.98,"d":"€542.98"}]
[21990,34260,1,"Normal",{"v":249.59,"d":"€249.59"},"LUXE",{"$f":"IFERROR(VLOOKUP(F559,Discounts!A:C,3,0),0)","v":0},{"v":249.59,"d":"€249.59"}]
[22000,21420,1,"Normal",{"v":754.55,"d":"€754.55"},"A010",{"$f":"IFERROR(VLOOKUP(F560,Discounts!A:C,3,0),0)","v":0},{"v":754.55,"d":"€754.55"}]
[22000,34260,1,"Normal",{"v":249.59,"d":"€249.59"},"LUXE",{"$f":"IFERROR(VLOOKUP(F561,Discounts!A:C,3,0),0)","v":0},{"v":249.59,"d":"€249.59"}]
[22010,21430,1,"Normal",{"v":569.42,"d":"€569.42"},"A010",{"$f":"IFERROR(VLOOKUP(F562,Discounts!A:C,3,0),0)","v":0},{"v":569.42,"d":"€569.42"}]
[22010,34260,1,"Normal",{"v":249.59,"d":"€249.59"},"LUXE",{"$f":"IFERROR(VLOOKUP(F563,Discounts!A:C,3,0),0)","v":0},{"v":249.59,"d":"€249.59"}]
[22020,21440,1,"Normal",{"v":780.17,"d":"€780.17"},"A010",{"$f":"IFERROR(VLOOKUP(F564,Discounts!A:C,3,0),0)","v":0},{"v":780.17,"d":"€780.17"}]
[22020,34260,1,"Normal",{"v":249.59,"d":"€249.59"},"LUXE",{"$f":"IFERROR(VLOOKUP(F565,Discounts!A:C,3,0),0)","v":0},{"v":249.59,"d":"€249.59"}]
[22030,21450,1,"Normal",{"v":593.39,"d":"€593.39"},"A010",{"$f":"IFERROR(VLOOKUP(F566,Discounts!A:C,3,0),0)","v":0},{"v":593.39,"d":"€593.39"}]
[22030,34260,1,"Normal",{"v":249.59,"d":"€249.59"},"LUXE",{"$f":"IFERROR(VLOOKUP(F567,Discounts!A:C,3,0),0)","v":0},{"v":249.59,"d":"€249.59"}]
[22040,21460,1,"Normal",{"v":806.61,"d":"€806.61"},"C010",{"$f":"IFERROR(VLOOKUP(F568,Discounts!A:C,3,0),0)","v":0},{"v":806.61,"d":"€806.61"}]
[22040,34260,1,"Normal",{"v":249.59,"d":"€249.59"},"LUXE",{"$f":"IFERROR(VLOOKUP(F569,Discounts!A:C,3,0),0)","v":0},{"v":249.59,"d":"€249.59"}]
[22050,21470,1,"Normal",{"v":619.01,"d":"€619.01"},"C010",{"$f":"IFERROR(VLOOKUP(F570,Discounts!A:C,3,0),0)","v":0},{"v":619.01,"d":"€619.01"}]
[22050,34260,1,"Normal",{"v":249.59,"d":"€249.59"},"LUXE",{"$f":"IFERROR(VLOOKUP(F571,Discounts!A:C,3,0),0)","v":0},{"v":249.59,"d":"€249.59"}]
[22060,21480,1,"Normal",{"v":831.4,"d":"€831.40"},"C010",{"$f":"IFERROR(VLOOKUP(F572,Discounts!A:C,3,0),0)","v":0},{"v":831.4,"d":"€831.40"}]
[22060,34260,1,"Normal",{"v":249.59,"d":"€249.59"},"LUXE",{"$f":"IFERROR(VLOOKUP(F573,Discounts!A:C,3,0),0)","v":0},{"v":249.59,"d":"€249.59"}]
[22070,21490,1,"Normal",{"v":796.69,"d":"€796.69"},"C010",{"$f":"IFERROR(VLOOKUP(F574,Discounts!A:C,3,0),0)","v":0},{"v":796.69,"d":"€796.69"}]
[22070,34260,1,"Normal",{"v":249.59,"d":"€249.59"},"LUXE",{"$f":"IFERROR(VLOOKUP(F575,Discounts!A:C,3,0),0)","v":0},{"v":249.59,"d":"€249.59"}]
[22080,21500,1,"Normal",{"v":542.98,"d":"€542.98"},"C010",{"$f":"IFERROR(VLOOKUP(F576,Discounts!A:C,3,0),0)","v":0},{"v":542.98,"d":"€542.98"}]
[22080,34260,1,"Normal",{"v":249.59,"d":"€249.59"},"LUXE",{"$f":"IFERROR(VLOOKUP(F577,Discounts!A:C,3,0),0)","v":0},{"v":249.59,"d":"€249.59"}]
[22090,21510,1,"Normal",{"v":754.55,"d":"€754.55"},"C010",{"$f":"IFERROR(VLOOKUP(F578,Discounts!A:C,3,0),0)","v":0},{"$f":"IF(D578=\"Normal\",E578*(1-G578),SUMIF(A:A,B578,H:H)*C578)","v":{"v":754.55,"d":"€754.55"}}]
[22090,34260,1,"Normal",{"v":249.59,"d":"€249.59"},"LUXE",{"$f":"IFERROR(VLOOKUP(F579,Discounts!A:C,3,0),0)","v":0},{"v":249.59,"d":"€249.59"}]
[22100,21520,1,"Normal",{"v":818.18,"d":"€818.18"},"C010",{"$f":"IFERROR(VLOOKUP(F580,Discounts!A:C,3,0),0)","v":0},{"v":818.18,"d":"€818.18"}]
[22100,34260,1,"Normal",{"v":249.59,"d":"€249.59"},"LUXE",{"$f":"IFERROR(VLOOKUP(F581,Discounts!A:C,3,0),0)","v":0},{"v":249.59,"d":"€249.59"}]
[22110,21530,1,"Normal",{"v":569.42,"d":"€569.42"},"C010",{"$f":"IFERROR(VLOOKUP(F582,Discounts!A:C,3,0),0)","v":0},{"v":569.42,"d":"€569.42"}]
[22110,34260,1,"Normal",{"v":249.59,"d":"€249.59"},"LUXE",{"$f":"IFERROR(VLOOKUP(F583,Discounts!A:C,3,0),0)","v":0},{"v":249.59,"d":"€249.59"}]
[22120,21540,1,"Normal",{"v":780.17,"d":"€780.17"},"C010",{"$f":"IFERROR(VLOOKUP(F584,Discounts!A:C,3,0),0)","v":0},{"v":780.17,"d":"€780.17"}]
[22120,34260,1,"Normal",{"v":249.59,"d":"€249.59"},"LUXE",{"$f":"IFERROR(VLOOKUP(F585,Discounts!A:C,3,0),0)","v":0},{"v":249.59,"d":"€249.59"}]
[22130,21550,1,"Normal",{"v":593.39,"d":"€593.39"},"C010",{"$f":"IFERROR(VLOOKUP(F586,Discounts!A:C,3,0),0)","v":0},{"v":593.39,"d":"€593.39"}]
[22130,34260,1,"Normal",{"v":249.59,"d":"€249.59"},"LUXE",{"$f":"IFERROR(VLOOKUP(F587,Discounts!A:C,3,0),0)","v":0},{"v":249.59,"d":"€249.59"}]
[22140,21560,1,"Normal",{"v":806.61,"d":"€806.61"},"C010",{"$f":"IFERROR(VLOOKUP(F588,Discounts!A:C,3,0),0)","v":0},{"v":806.61,"d":"€806.61"}]
[22140,34260,1,"Normal",{"v":249.59,"d":"€249.59"},"LUXE",{"$f":"IFERROR(VLOOKUP(F589,Discounts!A:C,3,0),0)","v":0},{"v":249.59,"d":"€249.59"}]
[22150,21570,1,"Normal",{"v":619.01,"d":"€619.01"},"C010",{"$f":"IFERROR(VLOOKUP(F590,Discounts!A:C,3,0),0)","v":0},{"v":619.01,"d":"€619.01"}]
[22150,34260,1,"Normal",{"v":249.59,"d":"€249.59"},"LUXE",{"$f":"IFERROR(VLOOKUP(F591,Discounts!A:C,3,0),0)","v":0},{"v":249.59,"d":"€249.59"}]
[22160,21580,1,"Normal",{"v":831.4,"d":"€831.40"},"C010",{"$f":"IFERROR(VLOOKUP(F592,Discounts!A:C,3,0),0)","v":0},{"v":831.4,"d":"€831.40"}]
[22160,34260,1,"Normal",{"v":249.59,"d":"€249.59"},"LUXE",{"$f":"IFERROR(VLOOKUP(F593,Discounts!A:C,3,0),0)","v":0},{"v":249.59,"d":"€249.59"}]
[22410,22170,1,"Normal",{"v":645.45,"d":"€645.45"},"C010",{"$f":"IFERROR(VLOOKUP(F594,Discounts!A:C,3,0),0)","v":0},{"v":645.45,"d":"€645.45"}]
[22410,34260,1,"Normal",{"v":249.59,"d":"€249.59"},"LUXE",{"$f":"IFERROR(VLOOKUP(F595,Discounts!A:C,3,0),0)","v":0},{"v":249.59,"d":"€249.59"}]
[22420,22180,1,"Normal",{"v":856.2,"d":"€856.20"},"C010",{"$f":"IFERROR(VLOOKUP(F596,Discounts!A:C,3,0),0)","v":0},{"v":856.2,"d":"€856.20"}]
[22420,34260,1,"Normal",{"v":249.59,"d":"€249.59"},"LUXE",{"$f":"IFERROR(VLOOKUP(F597,Discounts!A:C,3,0),0)","v":0},{"v":249.59,"d":"€249.59"}]
[22430,22190,1,"Normal",{"v":797.52,"d":"€797.52"},"C010",{"$f":"IFERROR(VLOOKUP(F598,Discounts!A:C,3,0),0)","v":0},{"v":797.52,"d":"€797.52"}]
[22430,34260,1,"Normal",{"v":249.59,"d":"€249.59"},"LUXE",{"$f":"IFERROR(VLOOKUP(F599,Discounts!A:C,3,0),0)","v":0},{"v":249.59,"d":"€249.59"}]
[22440,22200,1,"Normal",{"v":861.98,"d":"€861.98"},"C010",{"$f":"IFERROR(VLOOKUP(F600,Discounts!A:C,3,0),0)","v":0},{"v":861.98,"d":"€861.98"}]
[22440,34260,1,"Normal",{"v":249.59,"d":"€249.59"},"LUXE",{"$f":"IFERROR(VLOOKUP(F601,Discounts!A:C,3,0),0)","v":0},{"v":249.59,"d":"€249.59"}]
[22450,22210,1,"Normal",{"v":917.36,"d":"€917.36"},"C010",{"$f":"IFERROR(VLOOKUP(F602,Discounts!A:C,3,0),0)","v":0},{"v":917.36,"d":"€917.36"}]
[22450,34260,1,"Normal",{"v":249.59,"d":"€249.59"},"LUXE",{"$f":"IFERROR(VLOOKUP(F603,Discounts!A:C,3,0),0)","v":0},{"v":249.59,"d":"€249.59"}]
[22460,22220,1,"Normal",{"v":938.02,"d":"€938.02"},"C010",{"$f":"IFERROR(VLOOKUP(F604,Discounts!A:C,3,0),0)","v":0},{"v":938.02,"d":"€938.02"}]
[22460,34260,1,"Normal",{"v":249.59,"d":"€249.59"},"LUXE",{"$f":"IFERROR(VLOOKUP(F605,Discounts!A:C,3,0),0)","v":0},{"v":249.59,"d":"€249.59"}]
[22470,22230,1,"Normal",{"v":928.1,"d":"€928.10"},"C010",{"$f":"IFERROR(VLOOKUP(F606,Discounts!A:C,3,0),0)","v":0},{"v":928.1,"d":"€928.10"}]
[22470,34260,1,"Normal",{"v":249.59,"d":"€249.59"},"LUXE",{"$f":"IFERROR(VLOOKUP(F607,Discounts!A:C,3,0),0)","v":0},{"v":249.59,"d":"€249.59"}]
[22480,22240,1,"Normal",{"v":797.52,"d":"€797.52"},"C010",{"$f":"IFERROR(VLOOKUP(F608,Discounts!A:C,3,0),0)","v":0},{"v":797.52,"d":"€797.52"}]
[22480,34260,1,"Normal",{"v":249.59,"d":"€249.59"},"LUXE",{"$f":"IFERROR(VLOOKUP(F609,Discounts!A:C,3,0),0)","v":0},{"v":249.59,"d":"€249.59"}]
[22490,22250,1,"Normal",{"v":861.98,"d":"€861.98"},"C010",{"$f":"IFERROR(VLOOKUP(F610,Discounts!A:C,3,0),0)","v":0},{"v":861.98,"d":"€861.98"}]
[22490,34260,1,"Normal",{"v":249.59,"d":"€249.59"},"LUXE",{"$f":"IFERROR(VLOOKUP(F611,Discounts!A:C,3,0),0)","v":0},{"v":249.59,"d":"€249.59"}]
[22500,22260,1,"Normal",{"v":917.36,"d":"€917.36"},"C010",{"$f":"IFERROR(VLOOKUP(F612,Discounts!A:C,3,0),0)","v":0},{"v":917.36,"d":"€917.36"}]
[22500,34260,1,"Normal",{"v":249.59,"d":"€249.59"},"LUXE",{"$f":"IFERROR(VLOOKUP(F613,Discounts!A:C,3,0),0)","v":0},{"v":249.59,"d":"€249.59"}]
[22510,22270,1,"Normal",{"v":938.02,"d":"€938.02"},"C010",{"$f":"IFERROR(VLOOKUP(F614,Discounts!A:C,3,0),0)","v":0},{"v":938.02,"d":"€938.02"}]
[22510,34260,1,"Normal",{"v":249.59,"d":"€249.59"},"LUXE",{"$f":"IFERROR(VLOOKUP(F615,Discounts!A:C,3,0),0)","v":0},{"v":249.59,"d":"€249.59"}]
[22520,22280,1,"Normal",{"v":928.1,"d":"€928.10"},"C010",{"$f":"IFERROR(VLOOKUP(F616,Discounts!A:C,3,0),0)","v":0},{"v":928.1,"d":"€928.10"}]
[22520,34260,1,"Normal",{"v":249.59,"d":"€249.59"},"LUXE",{"$f":"IFERROR(VLOOKUP(F617,Discounts!A:C,3,0),0)","v":0},{"v":249.59,"d":"€249.59"}]
[22530,22290,1,"Normal",{"v":645.45,"d":"€645.45"},"C010",{"$f":"IFERROR(VLOOKUP(F618,Discounts!A:C,3,0),0)","v":0},{"v":645.45,"d":"€645.45"}]
[22530,34260,1,"Normal",{"v":249.59,"d":"€249.59"},"LUXE",{"$f":"IFERROR(VLOOKUP(F619,Discounts!A:C,3,0),0)","v":0},{"v":249.59,"d":"€249.59"}]
[22540,22300,1,"Normal",{"v":856.2,"d":"€856.20"},"C010",{"$f":"IFERROR(VLOOKUP(F620,Discounts!A:C,3,0),0)","v":0},{"v":856.2,"d":"€856.20"}]
[22540,34260,1,"Normal",{"v":249.59,"d":"€249.59"},"LUXE",{"$f":"IFERROR(VLOOKUP(F621,Discounts!A:C,3,0),0)","v":0},{"v":249.59,"d":"€249.59"}]
[22550,22310,1,"Normal",{"v":797.52,"d":"€797.52"},"C010",{"$f":"IFERROR(VLOOKUP(F622,Discounts!A:C,3,0),0)","v":0},{"v":797.52,"d":"€797.52"}]
[22550,34260,1,"Normal",{"v":249.59,"d":"€249.59"},"LUXE",{"$f":"IFERROR(VLOOKUP(F623,Discounts!A:C,3,0),0)","v":0},{"v":249.59,"d":"€249.59"}]
[22560,22320,1,"Normal",{"v":861.98,"d":"€861.98"},"C010",{"$f":"IFERROR(VLOOKUP(F624,Discounts!A:C,3,0),0)","v":0},{"v":861.98,"d":"€861.98"}]
[22560,34260,1,"Normal",{"v":249.59,"d":"€249.59"},"LUXE",{"$f":"IFERROR(VLOOKUP(F625,Discounts!A:C,3,0),0)","v":0},{"v":249.59,"d":"€249.59"}]
[22570,22330,1,"Normal",{"v":917.36,"d":"€917.36"},"C010",{"$f":"IFERROR(VLOOKUP(F626,Discounts!A:C,3,0),0)","v":0},{"v":917.36,"d":"€917.36"}]
[22570,34260,1,"Normal",{"v":249.59,"d":"€249.59"},"LUXE",{"$f":"IFERROR(VLOOKUP(F627,Discounts!A:C,3,0),0)","v":0},{"v":249.59,"d":"€249.59"}]
[22580,22340,1,"Normal",{"v":938.02,"d":"€938.02"},"C010",{"$f":"IFERROR(VLOOKUP(F628,Discounts!A:C,3,0),0)","v":0},{"v":938.02,"d":"€938.02"}]
[22580,34260,1,"Normal",{"v":249.59,"d":"€249.59"},"LUXE",{"$f":"IFERROR(VLOOKUP(F629,Discounts!A:C,3,0),0)","v":0},{"v":249.59,"d":"€249.59"}]
[22590,22350,1,"Normal",{"v":928.1,"d":"€928.10"},"C010",{"$f":"IFERROR(VLOOKUP(F630,Discounts!A:C,3,0),0)","v":0},{"v":928.1,"d":"€928.10"}]
[22590,34260,1,"Normal",{"v":249.59,"d":"€249.59"},"LUXE",{"$f":"IFERROR(VLOOKUP(F631,Discounts!A:C,3,0),0)","v":0},{"v":249.59,"d":"€249.59"}]
[22600,22360,1,"Normal",{"v":797.52,"d":"€797.52"},"C010",{"$f":"IFERROR(VLOOKUP(F632,Discounts!A:C,3,0),0)","v":0},{"v":797.52,"d":"€797.52"}]
[22600,34260,1,"Normal",{"v":249.59,"d":"€249.59"},"LUXE",{"$f":"IFERROR(VLOOKUP(F633,Discounts!A:C,3,0),0)","v":0},{"v":249.59,"d":"€249.59"}]
[22610,22370,1,"Normal",{"v":861.98,"d":"€861.98"},"C010",{"$f":"IFERROR(VLOOKUP(F634,Discounts!A:C,3,0),0)","v":0},{"v":861.98,"d":"€861.98"}]
[22610,34260,1,"Normal",{"v":249.59,"d":"€249.59"},"LUXE",{"$f":"IFERROR(VLOOKUP(F635,Discounts!A:C,3,0),0)","v":0},{"v":249.59,"d":"€249.59"}]
[22620,22380,1,"Normal",{"v":917.36,"d":"€917.36"},"C010",{"$f":"IFERROR(VLOOKUP(F636,Discounts!A:C,3,0),0)","v":0},{"v":917.36,"d":"€917.36"}]
[22620,34260,1,"Normal",{"v":249.59,"d":"€249.59"},"LUXE",{"$f":"IFERROR(VLOOKUP(F637,Discounts!A:C,3,0),0)","v":0},{"v":249.59,"d":"€249.59"}]
[22630,22390,1,"Normal",{"v":938.02,"d":"€938.02"},"C010",{"$f":"IFERROR(VLOOKUP(F638,Discounts!A:C,3,0),0)","v":0},{"v":938.02,"d":"€938.02"}]
[22630,34260,1,"Normal",{"v":249.59,"d":"€249.59"},"LUXE",{"$f":"IFERROR(VLOOKUP(F639,Discounts!A:C,3,0),0)","v":0},{"v":249.59,"d":"€249.59"}]
[22640,22400,1,"Normal",{"v":928.1,"d":"€928.10"},"C010",{"$f":"IFERROR(VLOOKUP(F640,Discounts!A:C,3,0),0)","v":0},{"v":928.1,"d":"€928.10"}]
[22640,34260,1,"Normal",{"v":249.59,"d":"€249.59"},"LUXE",{"$f":"IFERROR(VLOOKUP(F641,Discounts!A:C,3,0),0)","v":0},{"v":249.59,"d":"€249.59"}]
[23090,22750,1,"Normal",{"v":1214.88,"d":"€1,214.88"},"C010",{"$f":"IFERROR(VLOOKUP(F642,Discounts!A:C,3,0),0)","v":0},{"$f":"IF(D642=\"Normal\",E642*(1-G642),SUMIF(A:A,B642,H:H)*C642)","v":{"v":1214.88,"d":"€1,214.88"}}]
[23090,34260,2,"Normal",{"v":499.18,"d":"€499.18"},"LUXE",{"$f":"IFERROR(VLOOKUP(F643,Discounts!A:C,3,0),0)","v":0},{"v":499.18,"d":"€499.18"}]
[23100,22760,1,"Normal",{"v":1657.02,"d":"€1,657.02"},"C010",{"$f":"IFERROR(VLOOKUP(F644,Discounts!A:C,3,0),0)","v":0},{"v":1657.02,"d":"€1,657.02"}]
[23100,34260,2,"Normal",{"v":499.18,"d":"€499.18"},"LUXE",{"$f":"IFERROR(VLOOKUP(F645,Discounts!A:C,3,0),0)","v":0},{"v":499.18,"d":"€499.18"}]
[23110,22770,1,"Normal",{"v":1789.26,"d":"€1,789.26"},"C010",{"$f":"IFERROR(VLOOKUP(F646,Discounts!A:C,3,0),0)","v":0},{"v":1789.26,"d":"€1,789.26"}]
[23110,34260,2,"Normal",{"v":499.18,"d":"€499.18"},"LUXE",{"$f":"IFERROR(VLOOKUP(F647,Discounts!A:C,3,0),0)","v":0},{"v":499.18,"d":"€499.18"}]
[23120,22780,1,"Normal",{"v":1377.69,"d":"€1,377.69"},"C010",{"$f":"IFERROR(VLOOKUP(F648,Discounts!A:C,3,0),0)","v":0},{"v":1377.69,"d":"€1,377.69"}]
[23120,34260,2,"Normal",{"v":499.18,"d":"€499.18"},"LUXE",{"$f":"IFERROR(VLOOKUP(F649,Discounts!A:C,3,0),0)","v":0},{"v":499.18,"d":"€499.18"}]
[23130,22790,1,"Normal",{"v":1947.93,"d":"€1,947.93"},"C010",{"$f":"IFERROR(VLOOKUP(F650,Discounts!A:C,3,0),0)","v":0},{"v":1947.93,"d":"€1,947.93"}]
[23130,34260,2,"Normal",{"v":499.18,"d":"€499.18"},"LUXE",{"$f":"IFERROR(VLOOKUP(F651,Discounts!A:C,3,0),0)","v":0},{"v":499.18,"d":"€499.18"}]
[23140,22800,1,"Normal",{"v":1430.58,"d":"€1,430.58"},"C010",{"$f":"IFERROR(VLOOKUP(F652,Discounts!A:C,3,0),0)","v":0},{"v":1430.58,"d":"€1,430.58"}]
[23140,34260,2,"Normal",{"v":499.18,"d":"€499.18"},"LUXE",{"$f":"IFERROR(VLOOKUP(F653,Discounts!A:C,3,0),0)","v":0},{"v":499.18,"d":"€499.18"}]
[23150,22810,1,"Normal",{"v":1871.07,"d":"€1,871.07"},"C010",{"$f":"IFERROR(VLOOKUP(F654,Discounts!A:C,3,0),0)","v":0},{"v":1871.07,"d":"€1,871.07"}]
[23150,34260,2,"Normal",{"v":499.18,"d":"€499.18"},"LUXE",{"$f":"IFERROR(VLOOKUP(F655,Discounts!A:C,3,0),0)","v":0},{"v":499.18,"d":"€499.18"}]
[23260,22920,1,"Normal",{"v":1214.88,"d":"€1,214.88"},"C010",{"$f":"IFERROR(VLOOKUP(F656,Discounts!A:C,3,0),0)","v":0},{"v":1214.88,"d":"€1,214.88"}]
[23260,34260,2,"Normal",{"v":499.18,"d":"€499.18"},"LUXE",{"$f":"IFERROR(VLOOKUP(F657,Discounts!A:C,3,0),0)","v":0},{"v":499.18,"d":"€499.18"}]
[23270,22930,1,"Normal",{"v":1657.02,"d":"€1,657.02"},"C010",{"$f":"IFERROR(VLOOKUP(F658,Discounts!A:C,3,0),0)","v":0},{"v":1657.02,"d":"€1,657.02"}]
[23270,34260,2,"Normal",{"v":499.18,"d":"€499.18"},"LUXE",{"$f":"IFERROR(VLOOKUP(F659,Discounts!A:C,3,0),0)","v":0},{"v":499.18,"d":"€499.18"}]
[23280,22940,1,"Normal",{"v":1789.26,"d":"€1,789.26"},"C010",{"$f":"IFERROR(VLOOKUP(F660,Discounts!A:C,3,0),0)","v":0},{"v":1789.26,"d":"€1,789.26"}]
[23280,34260,2,"Normal",{"v":499.18,"d":"€499.18"},"LUXE",{"$f":"IFERROR(VLOOKUP(F661,Discounts!A:C,3,0),0)","v":0},{"v":499.18,"d":"€499.18"}]
[23290,22950,1,"Normal",{"v":1377.69,"d":"€1,377.69"},"C010",{"$f":"IFERROR(VLOOKUP(F662,Discounts!A:C,3,0),0)","v":0},{"v":1377.69,"d":"€1,377.69"}]
[23290,34260,2,"Normal",{"v":499.18,"d":"€499.18"},"LUXE",{"$f":"IFERROR(VLOOKUP(F663,Discounts!A:C,3,0),0)","v":0},{"v":499.18,"d":"€499.18"}]
[23300,22960,1,"Normal",{"v":1947.93,"d":"€1,947.93"},"C010",{"$f":"IFERROR(VLOOKUP(F664,Discounts!A:C,3,0),0)","v":0},{"v":1947.93,"d":"€1,947.93"}]
[23300,34260,2,"Normal",{"v":499.18,"d":"€499.18"},"LUXE",{"$f":"IFERROR(VLOOKUP(F665,Discounts!A:C,3,0),0)","v":0},{"v":499.18,"d":"€499.18"}]
[23310,22970,1,"Normal",{"v":1430.58,"d":"€1,430.58"},"C010",{"$f":"IFERROR(VLOOKUP(F666,Discounts!A:C,3,0),0)","v":0},{"v":1430.58,"d":"€1,430.58"}]
[23310,34260,2,"Normal",{"v":499.18,"d":"€499.18"},"LUXE",{"$f":"IFERROR(VLOOKUP(F667,Discounts!A:C,3,0),0)","v":0},{"v":499.18,"d":"€499.18"}]
[23320,22980,1,"Normal",{"v":1871.07,"d":"€1,871.07"},"C010",{"$f":"IFERROR(VLOOKUP(F668,Discounts!A:C,3,0),0)","v":0},{"v":1871.07,"d":"€1,871.07"}]
[23320,34260,2,"Normal",{"v":499.18,"d":"€499.18"},"LUXE",{"$f":"IFERROR(VLOOKUP(F669,Discounts!A:C,3,0),0)","v":0},{"v":499.18,"d":"€499.18"}]
[25300,340,1,"Normal",{"v":1562.81,"d":"€1,562.81"},"A015",{"$f":"IFERROR(VLOOKUP(F670,Discounts!A:C,3,0),0)","v":0},{"v":1562.81,"d":"€1,562.81"}]
[25300,34260,1,"Normal",{"v":249.59,"d":"€249.59"},"LUXE",{"$f":"IFERROR(VLOOKUP(F671,Discounts!A:C,3,0),0)","v":0},{"v":249.59,"d":"€249.59"}]
[25310,121420,1,"Combination",{"v":1812.4,"d":"€1,812.40"},"A015",{"$f":"IFERROR(VLOOKUP(F672,Discounts!A:C,3,0),0)","v":0},{"v":1812.3999999999999,"d":"€1,812.40"}]
[25310,134070,1,"Normal",0,"LUXE",{"$f":"IFERROR(VLOOKUP(F673,Discounts!A:C,3,0),0)","v":0},0]
[25320,360,1,"Normal",{"v":1562.81,"d":"€1,562.81"},"A015",{"$f":"IFERROR(VLOOKUP(F674,Discounts!A:C,3,0),0)","v":0},{"v":1562.81,"d":"€1,562.81"}]
[25320,34260,1,"Normal",{"v":249.59,"d":"€249.59"},"LUXE",{"$f":"IFERROR(VLOOKUP(F675,Discounts!A:C,3,0),0)","v":0},{"v":249.59,"d":"€249.59"}]
[25330,121430,1,"Combination",{"v":1812.4,"d":"€1,812.40"},"A015",{"$f":"IFERROR(VLOOKUP(F676,Discounts!A:C,3,0),0)","v":0},{"v":1812.3999999999999,"d":"€1,812.40"}]
[25330,134070,1,"Normal",0,"LUXE",{"$f":"IFERROR(VLOOKUP(F677,Discounts!A:C,3,0),0)","v":0},0]
[25340,380,1,"Normal",{"v":1562.81,"d":"€1,562.81"},"A015",{"$f":"IFERROR(VLOOKUP(F678,Discounts!A:C,3,0),0)","v":0},{"v":1562.81,"d":"€1,562.81"}]
[25340,34260,1,"Normal",{"v":249.59,"d":"€249.59"},"LUXE",{"$f":"IFERROR(VLOOKUP(F679,Discounts!A:C,3,0),0)","v":0},{"v":249.59,"d":"€249.59"}]
[25350,121440,1,"Combination",{"v":1812.4,"d":"€1,812.40"},"A015",{"$f":"IFERROR(VLOOKUP(F680,Discounts!A:C,3,0),0)","v":0},{"v":1812.3999999999999,"d":"€1,812.40"}]
[25350,134070,1,"Normal",0,"LUXE",{"$f":"IFERROR(VLOOKUP(F681,Discounts!A:C,3,0),0)","v":0},0]
[25360,400,1,"Normal",{"v":1562.81,"d":"€1,562.81"},"A015",{"$f":"IFERROR(VLOOKUP(F682,Discounts!A:C,3,0),0)","v":0},{"v":1562.81,"d":"€1,562.81"}]
[25360,34260,1,"Normal",{"v":249.59,"d":"€249.59"},"LUXE",{"$f":"IFERROR(VLOOKUP(F683,Discounts!A:C,3,0),0)","v":0},{"v":249.59,"d":"€249.59"}]
[25370,121450,1,"Combination",{"v":1812.4,"d":"€1,812.40"},"A015",{"$f":"IFERROR(VLOOKUP(F684,Discounts!A:C,3,0),0)","v":0},{"v":1812.3999999999999,"d":"€1,812.40"}]
[25370,134070,1,"Normal",0,"LUXE",{"$f":"IFERROR(VLOOKUP(F685,Discounts!A:C,3,0),0)","v":0},0]
[25380,420,1,"Normal",{"v":1562.81,"d":"€1,562.81"},"A015",{"$f":"IFERROR(VLOOKUP(F686,Discounts!A:C,3,0),0)","v":0},{"v":1562.81,"d":"€1,562.81"}]
[25380,34260,1,"Normal",{"v":249.59,"d":"€249.59"},"LUXE",{"$f":"IFERROR(VLOOKUP(F687,Discounts!A:C,3,0),0)","v":0},{"v":249.59,"d":"€249.59"}]
[25390,121460,1,"Combination",{"v":1812.4,"d":"€1,812.40"},"A015",{"$f":"IFERROR(VLOOKUP(F688,Discounts!A:C,3,0),0)","v":0},{"v":1812.3999999999999,"d":"€1,812.40"}]
[25390,134070,1,"Normal",0,"LUXE",{"$f":"IFERROR(VLOOKUP(F689,Discounts!A:C,3,0),0)","v":0},0]
[25400,440,1,"Normal",{"v":1562.81,"d":"€1,562.81"},"A015",{"$f":"IFERROR(VLOOKUP(F690,Discounts!A:C,3,0),0)","v":0},{"v":1562.81,"d":"€1,562.81"}]
[25400,34260,1,"Normal",{"v":249.59,"d":"€249.59"},"LUXE",{"$f":"IFERROR(VLOOKUP(F691,Discounts!A:C,3,0),0)","v":0},{"v":249.59,"d":"€249.59"}]
[25410,121470,1,"Combination",{"v":1812.4,"d":"€1,812.40"},"A015",{"$f":"IFERROR(VLOOKUP(F692,Discounts!A:C,3,0),0)","v":0},{"v":1812.3999999999999,"d":"€1,812.40"}]
[25410,134070,1,"Normal",0,"LUXE",{"$f":"IFERROR(VLOOKUP(F693,Discounts!A:C,3,0),0)","v":0},0]
[25420,460,1,"Normal",{"v":2432.23,"d":"€2,432.23"},"A015",{"$f":"IFERROR(VLOOKUP(F694,Discounts!A:C,3,0),0)","v":0},{"v":2432.23,"d":"€2,432.23"}]
[25420,34260,1,"Normal",{"v":249.59,"d":"€249.59"},"LUXE",{"$f":"IFERROR(VLOOKUP(F695,Discounts!A:C,3,0),0)","v":0},{"v":249.59,"d":"€249.59"}]
[25430,121480,1,"Combination",{"v":2681.82,"d":"€2,681.82"},"A015",{"$f":"IFERROR(VLOOKUP(F696,Discounts!A:C,3,0),0)","v":0},{"v":2681.82,"d":"€2,681.82"}]
[25430,134070,1,"Normal",0,"LUXE",{"$f":"IFERROR(VLOOKUP(F697,Discounts!A:C,3,0),0)","v":0},0]
[25440,480,1,"Normal",{"v":2324.79,"d":"€2,324.79"},"A015",{"$f":"IFERROR(VLOOKUP(F698,Discounts!A:C,3,0),0)","v":0},{"v":2324.79,"d":"€2,324.79"}]
[25440,34260,1,"Normal",{"v":249.59,"d":"€249.59"},"LUXE",{"$f":"IFERROR(VLOOKUP(F699,Discounts!A:C,3,0),0)","v":0},{"v":249.59,"d":"€249.59"}]
[25450,121490,1,"Combination",{"v":2574.38,"d":"€2,574.38"},"A015",{"$f":"IFERROR(VLOOKUP(F700,Discounts!A:C,3,0),0)","v":0},{"v":2574.38,"d":"€2,574.38"}]
[25450,134070,1,"Normal",0,"LUXE",{"$f":"IFERROR(VLOOKUP(F701,Discounts!A:C,3,0),0)","v":0},0]
[25460,500,1,"Normal",{"v":2422.31,"d":"€2,422.31"},"A015",{"$f":"IFERROR(VLOOKUP(F702,Discounts!A:C,3,0),0)","v":0},{"v":2422.31,"d":"€2,422.31"}]
[25460,34260,1,"Normal",{"v":249.59,"d":"€249.59"},"LUXE",{"$f":"IFERROR(VLOOKUP(F703,Discounts!A:C,3,0),0)","v":0},{"v":249.59,"d":"€249.59"}]
[25470,121500,1,"Combination",{"v":2671.9,"d":"€2,671.90"},"A015",{"$f":"IFERROR(VLOOKUP(F704,Discounts!A:C,3,0),0)","v":0},{"v":2671.9,"d":"€2,671.90"}]
[25470,134070,1,"Normal",0,"LUXE",{"$f":"IFERROR(VLOOKUP(F705,Discounts!A:C,3,0),0)","v":0},0]
[25480,520,1,"Normal",{"v":2130.58,"d":"€2,130.58"},"A015",{"$f":"IFERROR(VLOOKUP(F706,Discounts!A:C,3,0),0)","v":0},{"$f":"IF(D706=\"Normal\",E706*(1-G706),SUMIF(A:A,B706,H:H)*C706)","v":{"v":2130.58,"d":"€2,130.58"}}]
[25480,34260,1,"Normal",{"v":249.59,"d":"€249.59"},"LUXE",{"$f":"IFERROR(VLOOKUP(F707,Discounts!A:C,3,0),0)","v":0},{"v":249.59,"d":"€249.59"}]
[25490,121510,1,"Combination",{"v":2380.17,"d":"€2,380.17"},"A015",{"$f":"IFERROR(VLOOKUP(F708,Discounts!A:C,3,0),0)","v":0},{"v":2380.17,"d":"€2,380.17"}]
[25490,134070,1,"Normal",0,"LUXE",{"$f":"IFERROR(VLOOKUP(F709,Discounts!A:C,3,0),0)","v":0},0]
[25500,540,1,"Normal",{"v":2023.14,"d":"€2,023.14"},"A015",{"$f":"IFERROR(VLOOKUP(F710,Discounts!A:C,3,0),0)","v":0},{"v":2023.14,"d":"€2,023.14"}]
[25500,34260,1,"Normal",{"v":249.59,"d":"€249.59"},"LUXE",{"$f":"IFERROR(VLOOKUP(F711,Discounts!A:C,3,0),0)","v":0},{"v":249.59,"d":"€249.59"}]
[25510,121520,1,"Combination",{"v":2272.73,"d":"€2,272.73"},"A015",{"$f":"IFERROR(VLOOKUP(F712,Discounts!A:C,3,0),0)","v":0},{"v":2272.73,"d":"€2,272.73"}]
[25510,134070,1,"Normal",0,"LUXE",{"$f":"IFERROR(VLOOKUP(F713,Discounts!A:C,3,0),0)","v":0},0]
[25520,560,1,"Normal",{"v":2114.88,"d":"€2,114.88"},"A015",{"$f":"IFERROR(VLOOKUP(F714,Discounts!A:C,3,0),0)","v":0},{"v":2114.88,"d":"€2,114.88"}]
[25520,34260,1,"Normal",{"v":249.59,"d":"€249.59"},"LUXE",{"$f":"IFERROR(VLOOKUP(F715,Discounts!A:C,3,0),0)","v":0},{"v":249.59,"d":"€249.59"}]
[25530,121530,1,"Combination",{"v":2364.47,"d":"€2,364.47"},"A015",{"$f":"IFERROR(VLOOKUP(F716,Discounts!A:C,3,0),0)","v":0},{"v":2364.4700000000003,"d":"€2,364.47"}]
[25530,134070,1,"Normal",0,"LUXE",{"$f":"IFERROR(VLOOKUP(F717,Discounts!A:C,3,0),0)","v":0},0]
[25540,580,1,"Normal",{"v":1594.21,"d":"€1,594.21"},"A015",{"$f":"IFERROR(VLOOKUP(F718,Discounts!A:C,3,0),0)","v":0},{"v":1594.21,"d":"€1,594.21"}]
[25540,34260,1,"Normal",{"v":249.59,"d":"€249.59"},"LUXE",{"$f":"IFERROR(VLOOKUP(F719,Discounts!A:C,3,0),0)","v":0},{"v":249.59,"d":"€249.59"}]
[25550,121540,1,"Combination",{"v":1843.8,"d":"€1,843.80"},"A015",{"$f":"IFERROR(VLOOKUP(F720,Discounts!A:C,3,0),0)","v":0},{"v":1843.8,"d":"€1,843.80"}]
[25550,134070,1,"Normal",0,"LUXE",{"$f":"IFERROR(VLOOKUP(F721,Discounts!A:C,3,0),0)","v":0},0]
[25560,600,1,"Normal",{"v":1594.21,"d":"€1,594.21"},"A015",{"$f":"IFERROR(VLOOKUP(F722,Discounts!A:C,3,0),0)","v":0},{"v":1594.21,"d":"€1,594.21"}]
[25560,34260,1,"Normal",{"v":249.59,"d":"€249.59"},"LUXE",{"$f":"IFERROR(VLOOKUP(F723,Discounts!A:C,3,0),0)","v":0},{"v":249.59,"d":"€249.59"}]
[25570,121550,1,"Combination",{"v":1843.8,"d":"€1,843.80"},"A015",{"$f":"IFERROR(VLOOKUP(F724,Discounts!A:C,3,0),0)","v":0},{"v":1843.8,"d":"€1,843.80"}]
[25570,134070,1,"Normal",0,"LUXE",{"$f":"IFERROR(VLOOKUP(F725,Discounts!A:C,3,0),0)","v":0},0]
[25580,620,1,"Normal",{"v":1594.21,"d":"€1,594.21"},"A015",{"$f":"IFERROR(VLOOKUP(F726,Discounts!A:C,3,0),0)","v":0},{"v":1594.21,"d":"€1,594.21"}]
[25580,34260,1,"Normal",{"v":249.59,"d":"€249.59"},"LUXE",{"$f":"IFERROR(VLOOKUP(F727,Discounts!A:C,3,0),0)","v":0},{"v":249.59,"d":"€249.59"}]
[25590,121560,1,"Combination",{"v":1843.8,"d":"€1,843.80"},"A015",{"$f":"IFERROR(VLOOKUP(F728,Discounts!A:C,3,0),0)","v":0},{"v":1843.8,"d":"€1,843.80"}]
[25590,134070,1,"Normal",0,"LUXE",{"$f":"IFERROR(VLOOKUP(F729,Discounts!A:C,3,0),0)","v":0},0]
[25600,640,1,"Normal",{"v":1885.95,"d":"€1,885.95"},"A015",{"$f":"IFERROR(VLOOKUP(F730,Discounts!A:C,3,0),0)","v":0},{"v":1885.95,"d":"€1,885.95"}]
[25600,34260,1,"Normal",{"v":249.59,"d":"€249.59"},"LUXE",{"$f":"IFERROR(VLOOKUP(F731,Discounts!A:C,3,0),0)","v":0},{"v":249.59,"d":"€249.59"}]
[25610,121570,1,"Combination",{"v":2135.54,"d":"€2,135.54"},"A015",{"$f":"IFERROR(VLOOKUP(F732,Discounts!A:C,3,0),0)","v":0},{"v":2135.54,"d":"€2,135.54"}]
[25610,134070,1,"Normal",0,"LUXE",{"$f":"IFERROR(VLOOKUP(F733,Discounts!A:C,3,0),0)","v":0},0]
[25620,660,1,"Normal",{"v":1990.08,"d":"€1,990.08"},"A015",{"$f":"IFERROR(VLOOKUP(F734,Discounts!A:C,3,0),0)","v":0},{"v":1990.08,"d":"€1,990.08"}]
[25620,34260,1,"Normal",{"v":249.59,"d":"€249.59"},"LUXE",{"$f":"IFERROR(VLOOKUP(F735,Discounts!A:C,3,0),0)","v":0},{"v":249.59,"d":"€249.59"}]
[25630,121580,1,"Combination",{"v":2239.67,"d":"€2,239.67"},"A015",{"$f":"IFERROR(VLOOKUP(F736,Discounts!A:C,3,0),0)","v":0},{"v":2239.67,"d":"€2,239.67"}]
[25630,134070,1,"Normal",0,"LUXE",{"$f":"IFERROR(VLOOKUP(F737,Discounts!A:C,3,0),0)","v":0},0]
[25640,680,1,"Normal",{"v":2233.06,"d":"€2,233.06"},"A015",{"$f":"IFERROR(VLOOKUP(F738,Discounts!A:C,3,0),0)","v":0},{"v":2233.06,"d":"€2,233.06"}]
[25640,34260,1,"Normal",{"v":249.59,"d":"€249.59"},"LUXE",{"$f":"IFERROR(VLOOKUP(F739,Discounts!A:C,3,0),0)","v":0},{"v":249.59,"d":"€249.59"}]
[25650,121590,1,"Combination",{"v":2482.65,"d":"€2,482.65"},"A015",{"$f":"IFERROR(VLOOKUP(F740,Discounts!A:C,3,0),0)","v":0},{"v":2482.65,"d":"€2,482.65"}]
[25650,134070,1,"Normal",0,"LUXE",{"$f":"IFERROR(VLOOKUP(F741,Discounts!A:C,3,0),0)","v":0},0]
[25660,700,1,"Normal",{"v":2331.4,"d":"€2,331.40"},"A015",{"$f":"IFERROR(VLOOKUP(F742,Discounts!A:C,3,0),0)","v":0},{"v":2331.4,"d":"€2,331.40"}]
[25660,34260,1,"Normal",{"v":249.59,"d":"€249.59"},"LUXE",{"$f":"IFERROR(VLOOKUP(F743,Discounts!A:C,3,0),0)","v":0},{"v":249.59,"d":"€249.59"}]
[25670,121600,1,"Combination",{"v":2580.99,"d":"€2,580.99"},"A015",{"$f":"IFERROR(VLOOKUP(F744,Discounts!A:C,3,0),0)","v":0},{"v":2580.9900000000002,"d":"€2,580.99"}]
[25670,134070,1,"Normal",0,"LUXE",{"$f":"IFERROR(VLOOKUP(F745,Discounts!A:C,3,0),0)","v":0},0]
[25740,780,1,"Normal",{"v":1911.57,"d":"€1,911.57"},"A010",{"$f":"IFERROR(VLOOKUP(F746,Discounts!A:C,3,0),0)","v":0},{"v":1911.57,"d":"€1,911.57"}]
[25740,34260,1,"Normal",{"v":249.59,"d":"€249.59"},"LUXE",{"$f":"IFERROR(VLOOKUP(F747,Discounts!A:C,3,0),0)","v":0},{"v":249.59,"d":"€249.59"}]
[25750,121610,1,"Combination",{"v":2161.16,"d":"€2,161.16"},"A010",{"$f":"IFERROR(VLOOKUP(F748,Discounts!A:C,3,0),0)","v":0},{"v":2161.16,"d":"€2,161.16"}]
[25750,134070,1,"Normal",0,"LUXE",{"$f":"IFERROR(VLOOKUP(F749,Discounts!A:C,3,0),0)","v":0},0]
[25760,800,1,"Normal",{"v":1953.72,"d":"€1,953.72"},"A010",{"$f":"IFERROR(VLOOKUP(F750,Discounts!A:C,3,0),0)","v":0},{"v":1953.72,"d":"€1,953.72"}]
[25760,34260,1,"Normal",{"v":249.59,"d":"€249.59"},"LUXE",{"$f":"IFERROR(VLOOKUP(F751,Discounts!A:C,3,0),0)","v":0},{"v":249.59,"d":"€249.59"}]
[25770,121620,1,"Combination",{"v":2203.31,"d":"€2,203.31"},"A010",{"$f":"IFERROR(VLOOKUP(F752,Discounts!A:C,3,0),0)","v":0},{"v":2203.31,"d":"€2,203.31"}]
[25770,134070,1,"Normal",0,"LUXE",{"$f":"IFERROR(VLOOKUP(F753,Discounts!A:C,3,0),0)","v":0},0]
[25780,820,1,"Normal",{"v":1842.15,"d":"€1,842.15"},"A010",{"$f":"IFERROR(VLOOKUP(F754,Discounts!A:C,3,0),0)","v":0},{"v":1842.15,"d":"€1,842.15"}]
[25780,34260,1,"Normal",{"v":249.59,"d":"€249.59"},"LUXE",{"$f":"IFERROR(VLOOKUP(F755,Discounts!A:C,3,0),0)","v":0},{"v":249.59,"d":"€249.59"}]
[25790,121630,1,"Combination",{"v":2091.74,"d":"€2,091.74"},"A010",{"$f":"IFERROR(VLOOKUP(F756,Discounts!A:C,3,0),0)","v":0},{"v":2091.7400000000002,"d":"€2,091.74"}]
[25790,134070,1,"Normal",0,"LUXE",{"$f":"IFERROR(VLOOKUP(F757,Discounts!A:C,3,0),0)","v":0},0]
[25800,840,1,"Normal",{"v":1750.41,"d":"€1,750.41"},"A010",{"$f":"IFERROR(VLOOKUP(F758,Discounts!A:C,3,0),0)","v":0},{"v":1750.41,"d":"€1,750.41"}]
[25800,34260,1,"Normal",{"v":249.59,"d":"€249.59"},"LUXE",{"$f":"IFERROR(VLOOKUP(F759,Discounts!A:C,3,0),0)","v":0},{"v":249.59,"d":"€249.59"}]
[25810,121640,1,"Combination",{"v":2000,"d":"€2,000.00"},"A010",{"$f":"IFERROR(VLOOKUP(F760,Discounts!A:C,3,0),0)","v":0},{"v":2000,"d":"€2,000.00"}]
[25810,134070,1,"Normal",0,"LUXE",{"$f":"IFERROR(VLOOKUP(F761,Discounts!A:C,3,0),0)","v":0},0]
[25820,860,1,"Normal",{"v":1971.9,"d":"€1,971.90"},"A010",{"$f":"IFERROR(VLOOKUP(F762,Discounts!A:C,3,0),0)","v":0},{"v":1971.9,"d":"€1,971.90"}]
[25820,34260,1,"Normal",{"v":249.59,"d":"€249.59"},"LUXE",{"$f":"IFERROR(VLOOKUP(F763,Discounts!A:C,3,0),0)","v":0},{"v":249.59,"d":"€249.59"}]
[25830,121650,1,"Combination",{"v":2221.49,"d":"€2,221.49"},"A010",{"$f":"IFERROR(VLOOKUP(F764,Discounts!A:C,3,0),0)","v":0},{"v":2221.4900000000002,"d":"€2,221.49"}]
[25830,134070,1,"Normal",0,"LUXE",{"$f":"IFERROR(VLOOKUP(F765,Discounts!A:C,3,0),0)","v":0},0]
[25840,880,1,"Normal",{"v":1659.5,"d":"€1,659.50"},"A010",{"$f":"IFERROR(VLOOKUP(F766,Discounts!A:C,3,0),0)","v":0},{"v":1659.5,"d":"€1,659.50"}]
[25840,34260,1,"Normal",{"v":249.59,"d":"€249.59"},"LUXE",{"$f":"IFERROR(VLOOKUP(F767,Discounts!A:C,3,0),0)","v":0},{"v":249.59,"d":"€249.59"}]
[25850,121660,1,"Combination",{"v":1909.09,"d":"€1,909.09"},"A010",{"$f":"IFERROR(VLOOKUP(F768,Discounts!A:C,3,0),0)","v":0},{"v":1909.09,"d":"€1,909.09"}]
[25850,134070,1,"Normal",0,"LUXE",{"$f":"IFERROR(VLOOKUP(F769,Discounts!A:C,3,0),0)","v":0},0]
[25860,900,1,"Normal",{"v":1750.41,"d":"€1,750.41"},"A010",{"$f":"IFERROR(VLOOKUP(F770,Discounts!A:C,3,0),0)","v":0},{"$f":"IF(D770=\"Normal\",E770*(1-G770),SUMIF(A:A,B770,H:H)*C770)","v":{"v":1750.41,"d":"€1,750.41"}}]
[25860,34260,1,"Normal",{"v":249.59,"d":"€249.59"},"LUXE",{"$f":"IFERROR(VLOOKUP(F771,Discounts!A:C,3,0),0)","v":0},{"v":249.59,"d":"€249.59"}]
[25870,121670,1,"Combination",{"v":2000,"d":"€2,000.00"},"A010",{"$f":"IFERROR(VLOOKUP(F772,Discounts!A:C,3,0),0)","v":0},{"v":2000,"d":"€2,000.00"}]
[25870,134070,1,"Normal",0,"LUXE",{"$f":"IFERROR(VLOOKUP(F773,Discounts!A:C,3,0),0)","v":0},0]
[25940,980,1,"Normal",{"v":3078.51,"d":"€3,078.51"},"A010",{"$f":"IFERROR(VLOOKUP(F774,Discounts!A:C,3,0),0)","v":0},{"v":3078.51,"d":"€3,078.51"}]
[25940,34260,1,"Normal",{"v":249.59,"d":"€249.59"},"LUXE",{"$f":"IFERROR(VLOOKUP(F775,Discounts!A:C,3,0),0)","v":0},{"v":249.59,"d":"€249.59"}]
[25950,121680,1,"Combination",{"v":3328.1,"d":"€3,328.10"},"A010",{"$f":"IFERROR(VLOOKUP(F776,Discounts!A:C,3,0),0)","v":0},{"v":3328.1000000000004,"d":"€3,328.10"}]
[25950,134070,1,"Normal",0,"LUXE",{"$f":"IFERROR(VLOOKUP(F777,Discounts!A:C,3,0),0)","v":0},0]
[25960,1000,1,"Normal",{"v":2792.56,"d":"€2,792.56"},"A010",{"$f":"IFERROR(VLOOKUP(F778,Discounts!A:C,3,0),0)","v":0},{"v":2792.56,"d":"€2,792.56"}]
[25960,34260,1,"Normal",{"v":249.59,"d":"€249.59"},"LUXE",{"$f":"IFERROR(VLOOKUP(F779,Discounts!A:C,3,0),0)","v":0},{"v":249.59,"d":"€249.59"}]
[25970,121690,1,"Combination",{"v":3042.15,"d":"€3,042.15"},"A010",{"$f":"IFERROR(VLOOKUP(F780,Discounts!A:C,3,0),0)","v":0},{"v":3042.15,"d":"€3,042.15"}]
[25970,134070,1,"Normal",0,"LUXE",{"$f":"IFERROR(VLOOKUP(F781,Discounts!A:C,3,0),0)","v":0},0]
[25980,1020,1,"Normal",{"v":2734.71,"d":"€2,734.71"},"A010",{"$f":"IFERROR(VLOOKUP(F782,Discounts!A:C,3,0),0)","v":0},{"v":2734.71,"d":"€2,734.71"}]
[25980,34260,1,"Normal",{"v":249.59,"d":"€249.59"},"LUXE",{"$f":"IFERROR(VLOOKUP(F783,Discounts!A:C,3,0),0)","v":0},{"v":249.59,"d":"€249.59"}]
[25990,121700,1,"Combination",{"v":2984.3,"d":"€2,984.30"},"A010",{"$f":"IFERROR(VLOOKUP(F784,Discounts!A:C,3,0),0)","v":0},{"v":2984.3,"d":"€2,984.30"}]
[25990,134070,1,"Normal",0,"LUXE",{"$f":"IFERROR(VLOOKUP(F785,Discounts!A:C,3,0),0)","v":0},0]
[26000,1040,1,"Normal",{"v":2156.2,"d":"€2,156.20"},"A010",{"$f":"IFERROR(VLOOKUP(F786,Discounts!A:C,3,0),0)","v":0},{"v":2156.2,"d":"€2,156.20"}]
[26000,34260,1,"Normal",{"v":249.59,"d":"€249.59"},"LUXE",{"$f":"IFERROR(VLOOKUP(F787,Discounts!A:C,3,0),0)","v":0},{"v":249.59,"d":"€249.59"}]
[26010,121710,1,"Combination",{"v":2405.79,"d":"€2,405.79"},"A010",{"$f":"IFERROR(VLOOKUP(F788,Discounts!A:C,3,0),0)","v":0},{"v":2405.79,"d":"€2,405.79"}]
[26010,134070,1,"Normal",0,"LUXE",{"$f":"IFERROR(VLOOKUP(F789,Discounts!A:C,3,0),0)","v":0},0]
[26020,1060,1,"Normal",{"v":2042.98,"d":"€2,042.98"},"A010",{"$f":"IFERROR(VLOOKUP(F790,Discounts!A:C,3,0),0)","v":0},{"v":2042.98,"d":"€2,042.98"}]
[26020,34260,1,"Normal",{"v":249.59,"d":"€249.59"},"LUXE",{"$f":"IFERROR(VLOOKUP(F791,Discounts!A:C,3,0),0)","v":0},{"v":249.59,"d":"€249.59"}]
[26030,121720,1,"Combination",{"v":2292.57,"d":"€2,292.57"},"A010",{"$f":"IFERROR(VLOOKUP(F792,Discounts!A:C,3,0),0)","v":0},{"v":2292.57,"d":"€2,292.57"}]
[26030,134070,1,"Normal",0,"LUXE",{"$f":"IFERROR(VLOOKUP(F793,Discounts!A:C,3,0),0)","v":0},0]
[26040,1080,1,"Normal",{"v":2055.37,"d":"€2,055.37"},"A010",{"$f":"IFERROR(VLOOKUP(F794,Discounts!A:C,3,0),0)","v":0},{"v":2055.37,"d":"€2,055.37"}]
[26040,34260,1,"Normal",{"v":249.59,"d":"€249.59"},"LUXE",{"$f":"IFERROR(VLOOKUP(F795,Discounts!A:C,3,0),0)","v":0},{"v":249.59,"d":"€249.59"}]
[26050,121730,1,"Combination",{"v":2304.96,"d":"€2,304.96"},"A010",{"$f":"IFERROR(VLOOKUP(F796,Discounts!A:C,3,0),0)","v":0},{"v":2304.96,"d":"€2,304.96"}]
[26050,134070,1,"Normal",0,"LUXE",{"$f":"IFERROR(VLOOKUP(F797,Discounts!A:C,3,0),0)","v":0},0]
[26060,1100,1,"Normal",{"v":2263.64,"d":"€2,263.64"},"A010",{"$f":"IFERROR(VLOOKUP(F798,Discounts!A:C,3,0),0)","v":0},{"v":2263.64,"d":"€2,263.64"}]
[26060,34260,1,"Normal",{"v":249.59,"d":"€249.59"},"LUXE",{"$f":"IFERROR(VLOOKUP(F799,Discounts!A:C,3,0),0)","v":0},{"v":249.59,"d":"€249.59"}]
[26070,121740,1,"Combination",{"v":2513.23,"d":"€2,513.23"},"A010",{"$f":"IFERROR(VLOOKUP(F800,Discounts!A:C,3,0),0)","v":0},{"v":2513.23,"d":"€2,513.23"}]
[26070,134070,1,"Normal",0,"LUXE",{"$f":"IFERROR(VLOOKUP(F801,Discounts!A:C,3,0),0)","v":0},0]
[26080,1120,1,"Normal",{"v":2133.88,"d":"€2,133.88"},"A010",{"$f":"IFERROR(VLOOKUP(F802,Discounts!A:C,3,0),0)","v":0},{"v":2133.88,"d":"€2,133.88"}]
[26080,34260,1,"Normal",{"v":249.59,"d":"€249.59"},"LUXE",{"$f":"IFERROR(VLOOKUP(F803,Discounts!A:C,3,0),0)","v":0},{"v":249.59,"d":"€249.59"}]
[26090,121750,1,"Combination",{"v":2383.47,"d":"€2,383.47"},"A010",{"$f":"IFERROR(VLOOKUP(F804,Discounts!A:C,3,0),0)","v":0},{"v":2383.4700000000003,"d":"€2,383.47"}]
[26090,134070,1,"Normal",0,"LUXE",{"$f":"IFERROR(VLOOKUP(F805,Discounts!A:C,3,0),0)","v":0},0]
[26100,1140,1,"Normal",{"v":2156.2,"d":"€2,156.20"},"A010",{"$f":"IFERROR(VLOOKUP(F806,Discounts!A:C,3,0),0)","v":0},{"v":2156.2,"d":"€2,156.20"}]
[26100,34260,1,"Normal",{"v":249.59,"d":"€249.59"},"LUXE",{"$f":"IFERROR(VLOOKUP(F807,Discounts!A:C,3,0),0)","v":0},{"v":249.59,"d":"€249.59"}]
[26110,121760,1,"Combination",{"v":2405.79,"d":"€2,405.79"},"A010",{"$f":"IFERROR(VLOOKUP(F808,Discounts!A:C,3,0),0)","v":0},{"v":2405.79,"d":"€2,405.79"}]
[26110,134070,1,"Normal",0,"LUXE",{"$f":"IFERROR(VLOOKUP(F809,Discounts!A:C,3,0),0)","v":0},0]
[26160,1200,1,"Normal",{"v":2356.2,"d":"€2,356.20"},"A010",{"$f":"IFERROR(VLOOKUP(F810,Discounts!A:C,3,0),0)","v":0},{"v":2356.2,"d":"€2,356.20"}]
[26160,34260,1,"Normal",{"v":249.59,"d":"€249.59"},"LUXE",{"$f":"IFERROR(VLOOKUP(F811,Discounts!A:C,3,0),0)","v":0},{"v":249.59,"d":"€249.59"}]
[26170,121770,1,"Combination",{"v":2605.79,"d":"€2,605.79"},"A010",{"$f":"IFERROR(VLOOKUP(F812,Discounts!A:C,3,0),0)","v":0},{"v":2605.79,"d":"€2,605.79"}]
[26170,134070,1,"Normal",0,"LUXE",{"$f":"IFERROR(VLOOKUP(F813,Discounts!A:C,3,0),0)","v":0},0]
[26180,1220,1,"Normal",{"v":2356.2,"d":"€2,356.20"},"A010",{"$f":"IFERROR(VLOOKUP(F814,Discounts!A:C,3,0),0)","v":0},{"v":2356.2,"d":"€2,356.20"}]
[26180,34260,1,"Normal",{"v":249.59,"d":"€249.59"},"LUXE",{"$f":"IFERROR(VLOOKUP(F815,Discounts!A:C,3,0),0)","v":0},{"v":249.59,"d":"€249.59"}]
[26190,121780,1,"Combination",{"v":2605.79,"d":"€2,605.79"},"A010",{"$f":"IFERROR(VLOOKUP(F816,Discounts!A:C,3,0),0)","v":0},{"v":2605.79,"d":"€2,605.79"}]
[26190,134070,1,"Normal",0,"LUXE",{"$f":"IFERROR(VLOOKUP(F817,Discounts!A:C,3,0),0)","v":0},0]
[26220,1260,1,"Normal",{"v":2473.55,"d":"€2,473.55"},"A010",{"$f":"IFERROR(VLOOKUP(F818,Discounts!A:C,3,0),0)","v":0},{"v":2473.55,"d":"€2,473.55"}]
[26220,34260,1,"Normal",{"v":249.59,"d":"€249.59"},"LUXE",{"$f":"IFERROR(VLOOKUP(F819,Discounts!A:C,3,0),0)","v":0},{"v":249.59,"d":"€249.59"}]
[26230,121790,1,"Combination",{"v":2723.14,"d":"€2,723.14"},"A010",{"$f":"IFERROR(VLOOKUP(F820,Discounts!A:C,3,0),0)","v":0},{"v":2723.1400000000003,"d":"€2,723.14"}]
[26230,134070,1,"Normal",0,"LUXE",{"$f":"IFERROR(VLOOKUP(F821,Discounts!A:C,3,0),0)","v":0},0]
[26240,1280,1,"Normal",{"v":2356.2,"d":"€2,356.20"},"A010",{"$f":"IFERROR(VLOOKUP(F822,Discounts!A:C,3,0),0)","v":0},{"v":2356.2,"d":"€2,356.20"}]
[26240,34260,1,"Normal",{"v":249.59,"d":"€249.59"},"LUXE",{"$f":"IFERROR(VLOOKUP(F823,Discounts!A:C,3,0),0)","v":0},{"v":249.59,"d":"€249.59"}]
[26250,121800,1,"Combination",{"v":2605.79,"d":"€2,605.79"},"A010",{"$f":"IFERROR(VLOOKUP(F824,Discounts!A:C,3,0),0)","v":0},{"v":2605.79,"d":"€2,605.79"}]
[26250,134070,1,"Normal",0,"LUXE",{"$f":"IFERROR(VLOOKUP(F825,Discounts!A:C,3,0),0)","v":0},0]
[26280,1320,1,"Normal",{"v":2356.2,"d":"€2,356.20"},"A010",{"$f":"IFERROR(VLOOKUP(F826,Discounts!A:C,3,0),0)","v":0},{"v":2356.2,"d":"€2,356.20"}]
[26280,34260,1,"Normal",{"v":249.59,"d":"€249.59"},"LUXE",{"$f":"IFERROR(VLOOKUP(F827,Discounts!A:C,3,0),0)","v":0},{"v":249.59,"d":"€249.59"}]
[26290,121810,1,"Combination",{"v":2605.79,"d":"€2,605.79"},"A010",{"$f":"IFERROR(VLOOKUP(F828,Discounts!A:C,3,0),0)","v":0},{"v":2605.79,"d":"€2,605.79"}]
[26290,134070,1,"Normal",0,"LUXE",{"$f":"IFERROR(VLOOKUP(F829,Discounts!A:C,3,0),0)","v":0},0]
[26300,1340,1,"Normal",{"v":2356.2,"d":"€2,356.20"},"A010",{"$f":"IFERROR(VLOOKUP(F830,Discounts!A:C,3,0),0)","v":0},{"v":2356.2,"d":"€2,356.20"}]
[26300,34260,1,"Normal",{"v":249.59,"d":"€249.59"},"LUXE",{"$f":"IFERROR(VLOOKUP(F831,Discounts!A:C,3,0),0)","v":0},{"v":249.59,"d":"€249.59"}]
[26310,121820,1,"Combination",{"v":2605.79,"d":"€2,605.79"},"A010",{"$f":"IFERROR(VLOOKUP(F832,Discounts!A:C,3,0),0)","v":0},{"v":2605.79,"d":"€2,605.79"}]
[26310,134070,1,"Normal",0,"LUXE",{"$f":"IFERROR(VLOOKUP(F833,Discounts!A:C,3,0),0)","v":0},0]
[26340,1380,1,"Normal",{"v":2000.83,"d":"€2,000.83"},"A010",{"$f":"IFERROR(VLOOKUP(F834,Discounts!A:C,3,0),0)","v":0},{"$f":"IF(D834=\"Normal\",E834*(1-G834),SUMIF(A:A,B834,H:H)*C834)","v":{"v":2000.83,"d":"€2,000.83"}}]
[26340,34260,1,"Normal",{"v":249.59,"d":"€249.59"},"LUXE",{"$f":"IFERROR(VLOOKUP(F835,Discounts!A:C,3,0),0)","v":0},{"v":249.59,"d":"€249.59"}]
[26350,121830,1,"Combination",{"v":2250.42,"d":"€2,250.42"},"A010",{"$f":"IFERROR(VLOOKUP(F836,Discounts!A:C,3,0),0)","v":0},{"v":2250.42,"d":"€2,250.42"}]
[26350,134070,1,"Normal",0,"LUXE",{"$f":"IFERROR(VLOOKUP(F837,Discounts!A:C,3,0),0)","v":0},0]
[26360,1400,1,"Normal",{"v":2114.88,"d":"€2,114.88"},"A010",{"$f":"IFERROR(VLOOKUP(F838,Discounts!A:C,3,0),0)","v":0},{"v":2114.88,"d":"€2,114.88"}]
[26360,34260,1,"Normal",{"v":249.59,"d":"€249.59"},"LUXE",{"$f":"IFERROR(VLOOKUP(F839,Discounts!A:C,3,0),0)","v":0},{"v":249.59,"d":"€249.59"}]
[26370,121840,1,"Combination",{"v":2364.47,"d":"€2,364.47"},"A010",{"$f":"IFERROR(VLOOKUP(F840,Discounts!A:C,3,0),0)","v":0},{"v":2364.4700000000003,"d":"€2,364.47"}]
[26370,134070,1,"Normal",0,"LUXE",{"$f":"IFERROR(VLOOKUP(F841,Discounts!A:C,3,0),0)","v":0},0]
[26480,1520,1,"Normal",{"v":1795.87,"d":"€1,795.87"},"A010",{"$f":"IFERROR(VLOOKUP(F842,Discounts!A:C,3,0),0)","v":0},{"v":1795.87,"d":"€1,795.87"}]
[26480,34260,1,"Normal",{"v":249.59,"d":"€249.59"},"LUXE",{"$f":"IFERROR(VLOOKUP(F843,Discounts!A:C,3,0),0)","v":0},{"v":249.59,"d":"€249.59"}]
[26490,121850,1,"Combination",{"v":2045.46,"d":"€2,045.46"},"A010",{"$f":"IFERROR(VLOOKUP(F844,Discounts!A:C,3,0),0)","v":0},{"v":2045.4599999999998,"d":"€2,045.46"}]
[26490,134070,1,"Normal",0,"LUXE",{"$f":"IFERROR(VLOOKUP(F845,Discounts!A:C,3,0),0)","v":0},0]
[26500,1540,1,"Normal",{"v":1738.02,"d":"€1,738.02"},"A010",{"$f":"IFERROR(VLOOKUP(F846,Discounts!A:C,3,0),0)","v":0},{"v":1738.02,"d":"€1,738.02"}]
[26500,34260,1,"Normal",{"v":249.59,"d":"€249.59"},"LUXE",{"$f":"IFERROR(VLOOKUP(F847,Discounts!A:C,3,0),0)","v":0},{"v":249.59,"d":"€249.59"}]
[26510,121860,1,"Combination",{"v":1987.61,"d":"€1,987.61"},"A010",{"$f":"IFERROR(VLOOKUP(F848,Discounts!A:C,3,0),0)","v":0},{"v":1987.61,"d":"€1,987.61"}]
[26510,134070,1,"Normal",0,"LUXE",{"$f":"IFERROR(VLOOKUP(F849,Discounts!A:C,3,0),0)","v":0},0]
[26520,1560,1,"Normal",{"v":1832.23,"d":"€1,832.23"},"A010",{"$f":"IFERROR(VLOOKUP(F850,Discounts!A:C,3,0),0)","v":0},{"v":1832.23,"d":"€1,832.23"}]
[26520,34260,1,"Normal",{"v":249.59,"d":"€249.59"},"LUXE",{"$f":"IFERROR(VLOOKUP(F851,Discounts!A:C,3,0),0)","v":0},{"v":249.59,"d":"€249.59"}]
[26530,121870,1,"Combination",{"v":2081.82,"d":"€2,081.82"},"A010",{"$f":"IFERROR(VLOOKUP(F852,Discounts!A:C,3,0),0)","v":0},{"v":2081.82,"d":"€2,081.82"}]
[26530,134070,1,"Normal",0,"LUXE",{"$f":"IFERROR(VLOOKUP(F853,Discounts!A:C,3,0),0)","v":0},0]
[26540,1580,1,"Normal",{"v":1214.88,"d":"€1,214.88"},"A010",{"$f":"IFERROR(VLOOKUP(F854,Discounts!A:C,3,0),0)","v":0},{"v":1214.88,"d":"€1,214.88"}]
[26540,34260,1,"Normal",{"v":249.59,"d":"€249.59"},"LUXE",{"$f":"IFERROR(VLOOKUP(F855,Discounts!A:C,3,0),0)","v":0},{"v":249.59,"d":"€249.59"}]
[26550,121880,1,"Combination",{"v":1464.47,"d":"€1,464.47"},"A010",{"$f":"IFERROR(VLOOKUP(F856,Discounts!A:C,3,0),0)","v":0},{"v":1464.47,"d":"€1,464.47"}]
[26550,134070,1,"Normal",0,"LUXE",{"$f":"IFERROR(VLOOKUP(F857,Discounts!A:C,3,0),0)","v":0},0]
[26560,1600,1,"Normal",{"v":1214.88,"d":"€1,214.88"},"A010",{"$f":"IFERROR(VLOOKUP(F858,Discounts!A:C,3,0),0)","v":0},{"v":1214.88,"d":"€1,214.88"}]
[26560,34260,1,"Normal",{"v":249.59,"d":"€249.59"},"LUXE",{"$f":"IFERROR(VLOOKUP(F859,Discounts!A:C,3,0),0)","v":0},{"v":249.59,"d":"€249.59"}]
[26570,121890,1,"Combination",{"v":1464.47,"d":"€1,464.47"},"A010",{"$f":"IFERROR(VLOOKUP(F860,Discounts!A:C,3,0),0)","v":0},{"v":1464.47,"d":"€1,464.47"}]
[26570,134070,1,"Normal",0,"LUXE",{"$f":"IFERROR(VLOOKUP(F861,Discounts!A:C,3,0),0)","v":0},0]
[26580,1620,1,"Normal",{"v":1613.22,"d":"€1,613.22"},"A010",{"$f":"IFERROR(VLOOKUP(F862,Discounts!A:C,3,0),0)","v":0},{"v":1613.22,"d":"€1,613.22"}]
[26580,34260,1,"Normal",{"v":249.59,"d":"€249.59"},"LUXE",{"$f":"IFERROR(VLOOKUP(F863,Discounts!A:C,3,0),0)","v":0},{"v":249.59,"d":"€249.59"}]
[26590,121900,1,"Combination",{"v":1862.81,"d":"€1,862.81"},"A010",{"$f":"IFERROR(VLOOKUP(F864,Discounts!A:C,3,0),0)","v":0},{"v":1862.81,"d":"€1,862.81"}]
[26590,134070,1,"Normal",0,"LUXE",{"$f":"IFERROR(VLOOKUP(F865,Discounts!A:C,3,0),0)","v":0},0]
[26680,1720,1,"Normal",{"v":2573.55,"d":"€2,573.55"},"A010",{"$f":"IFERROR(VLOOKUP(F866,Discounts!A:C,3,0),0)","v":0},{"v":2573.55,"d":"€2,573.55"}]
[26680,34260,1,"Normal",{"v":249.59,"d":"€249.59"},"LUXE",{"$f":"IFERROR(VLOOKUP(F867,Discounts!A:C,3,0),0)","v":0},{"v":249.59,"d":"€249.59"}]
[26690,121910,1,"Combination",{"v":2823.14,"d":"€2,823.14"},"A010",{"$f":"IFERROR(VLOOKUP(F868,Discounts!A:C,3,0),0)","v":0},{"v":2823.1400000000003,"d":"€2,823.14"}]
[26690,134070,1,"Normal",0,"LUXE",{"$f":"IFERROR(VLOOKUP(F869,Discounts!A:C,3,0),0)","v":0},0]
[26700,1740,1,"Normal",{"v":1239.67,"d":"€1,239.67"},"A010",{"$f":"IFERROR(VLOOKUP(F870,Discounts!A:C,3,0),0)","v":0},{"v":1239.67,"d":"€1,239.67"}]
[26700,34260,1,"Normal",{"v":249.59,"d":"€249.59"},"LUXE",{"$f":"IFERROR(VLOOKUP(F871,Discounts!A:C,3,0),0)","v":0},{"v":249.59,"d":"€249.59"}]
[26710,121920,1,"Combination",{"v":1489.26,"d":"€1,489.26"},"A010",{"$f":"IFERROR(VLOOKUP(F872,Discounts!A:C,3,0),0)","v":0},{"v":1489.26,"d":"€1,489.26"}]
[26710,134070,1,"Normal",0,"LUXE",{"$f":"IFERROR(VLOOKUP(F873,Discounts!A:C,3,0),0)","v":0},0]
[26720,1760,1,"Normal",{"v":1268.6,"d":"€1,268.60"},"A010",{"$f":"IFERROR(VLOOKUP(F874,Discounts!A:C,3,0),0)","v":0},{"v":1268.6,"d":"€1,268.60"}]
[26720,34260,1,"Normal",{"v":249.59,"d":"€249.59"},"LUXE",{"$f":"IFERROR(VLOOKUP(F875,Discounts!A:C,3,0),0)","v":0},{"v":249.59,"d":"€249.59"}]
[26730,121930,1,"Combination",{"v":1518.19,"d":"€1,518.19"},"A010",{"$f":"IFERROR(VLOOKUP(F876,Discounts!A:C,3,0),0)","v":0},{"v":1518.1899999999998,"d":"€1,518.19"}]
[26730,134070,1,"Normal",0,"LUXE",{"$f":"IFERROR(VLOOKUP(F877,Discounts!A:C,3,0),0)","v":0},0]
[26740,1780,1,"Normal",{"v":1310.74,"d":"€1,310.74"},"A010",{"$f":"IFERROR(VLOOKUP(F878,Discounts!A:C,3,0),0)","v":0},{"v":1310.74,"d":"€1,310.74"}]
[26740,34260,1,"Normal",{"v":249.59,"d":"€249.59"},"LUXE",{"$f":"IFERROR(VLOOKUP(F879,Discounts!A:C,3,0),0)","v":0},{"v":249.59,"d":"€249.59"}]
[26750,121940,1,"Combination",{"v":1560.33,"d":"€1,560.33"},"A010",{"$f":"IFERROR(VLOOKUP(F880,Discounts!A:C,3,0),0)","v":0},{"v":1560.33,"d":"€1,560.33"}]
[26750,134070,1,"Normal",0,"LUXE",{"$f":"IFERROR(VLOOKUP(F881,Discounts!A:C,3,0),0)","v":0},0]
[26760,1800,1,"Normal",{"v":1402.48,"d":"€1,402.48"},"A010",{"$f":"IFERROR(VLOOKUP(F882,Discounts!A:C,3,0),0)","v":0},{"v":1402.48,"d":"€1,402.48"}]
[26760,34260,1,"Normal",{"v":249.59,"d":"€249.59"},"LUXE",{"$f":"IFERROR(VLOOKUP(F883,Discounts!A:C,3,0),0)","v":0},{"v":249.59,"d":"€249.59"}]
[26770,121950,1,"Combination",{"v":1652.07,"d":"€1,652.07"},"A010",{"$f":"IFERROR(VLOOKUP(F884,Discounts!A:C,3,0),0)","v":0},{"v":1652.07,"d":"€1,652.07"}]
[26770,134070,1,"Normal",0,"LUXE",{"$f":"IFERROR(VLOOKUP(F885,Discounts!A:C,3,0),0)","v":0},0]
[26780,1820,1,"Normal",{"v":1360.33,"d":"€1,360.33"},"A010",{"$f":"IFERROR(VLOOKUP(F886,Discounts!A:C,3,0),0)","v":0},{"v":1360.33,"d":"€1,360.33"}]
[26780,34260,1,"Normal",{"v":249.59,"d":"€249.59"},"LUXE",{"$f":"IFERROR(VLOOKUP(F887,Discounts!A:C,3,0),0)","v":0},{"v":249.59,"d":"€249.59"}]
[26790,121960,1,"Combination",{"v":1609.92,"d":"€1,609.92"},"A010",{"$f":"IFERROR(VLOOKUP(F888,Discounts!A:C,3,0),0)","v":0},{"v":1609.9199999999998,"d":"€1,609.92"}]
[26790,134070,1,"Normal",0,"LUXE",{"$f":"IFERROR(VLOOKUP(F889,Discounts!A:C,3,0),0)","v":0},0]
[26800,1840,1,"Normal",{"v":1832.23,"d":"€1,832.23"},"A010",{"$f":"IFERROR(VLOOKUP(F890,Discounts!A:C,3,0),0)","v":0},{"v":1832.23,"d":"€1,832.23"}]
[26800,34260,1,"Normal",{"v":249.59,"d":"€249.59"},"LUXE",{"$f":"IFERROR(VLOOKUP(F891,Discounts!A:C,3,0),0)","v":0},{"v":249.59,"d":"€249.59"}]
[26810,121970,1,"Combination",{"v":2081.82,"d":"€2,081.82"},"A010",{"$f":"IFERROR(VLOOKUP(F892,Discounts!A:C,3,0),0)","v":0},{"v":2081.82,"d":"€2,081.82"}]
[26810,134070,1,"Normal",0,"LUXE",{"$f":"IFERROR(VLOOKUP(F893,Discounts!A:C,3,0),0)","v":0},0]
[26820,1860,1,"Normal",{"v":1832.23,"d":"€1,832.23"},"A010",{"$f":"IFERROR(VLOOKUP(F894,Discounts!A:C,3,0),0)","v":0},{"v":1832.23,"d":"€1,832.23"}]
[26820,34260,1,"Normal",{"v":249.59,"d":"€249.59"},"LUXE",{"$f":"IFERROR(VLOOKUP(F895,Discounts!A:C,3,0),0)","v":0},{"v":249.59,"d":"€249.59"}]
[26830,121980,1,"Combination",{"v":2081.82,"d":"€2,081.82"},"A010",{"$f":"IFERROR(VLOOKUP(F896,Discounts!A:C,3,0),0)","v":0},{"v":2081.82,"d":"€2,081.82"}]
[26830,134070,1,"Normal",0,"LUXE",{"$f":"IFERROR(VLOOKUP(F897,Discounts!A:C,3,0),0)","v":0},0]
[26840,1880,1,"Normal",{"v":1832.23,"d":"€1,832.23"},"A010",{"$f":"IFERROR(VLOOKUP(F898,Discounts!A:C,3,0),0)","v":0},{"$f":"IF(D898=\"Normal\",E898*(1-G898),SUMIF(A:A,B898,H:H)*C898)","v":{"v":1832.23,"d":"€1,832.23"}}]
[26840,34260,1,"Normal",{"v":249.59,"d":"€249.59"},"LUXE",{"$f":"IFERROR(VLOOKUP(F899,Discounts!A:C,3,0),0)","v":0},{"v":249.59,"d":"€249.59"}]
[26850,121990,1,"Combination",{"v":2081.82,"d":"€2,081.82"},"A010",{"$f":"IFERROR(VLOOKUP(F900,Discounts!A:C,3,0),0)","v":0},{"v":2081.82,"d":"€2,081.82"}]
[26850,134070,1,"Normal",0,"LUXE",{"$f":"IFERROR(VLOOKUP(F901,Discounts!A:C,3,0),0)","v":0},0]
[26860,34260,1,"Normal",{"v":249.59,"d":"€249.59"},"LUXE",{"$f":"IFERROR(VLOOKUP(F902,Discounts!A:C,3,0),0)","v":0},{"v":249.59,"d":"€249.59"}]
[26860,118960,1,"Normal",{"v":1961.98,"d":"€1,961.98"},"A010",{"$f":"IFERROR(VLOOKUP(F903,Discounts!A:C,3,0),0)","v":0},{"v":1961.98,"d":"€1,961.98"}]
[26870,122000,1,"Combination",{"v":2211.57,"d":"€2,211.57"},"A010",{"$f":"IFERROR(VLOOKUP(F904,Discounts!A:C,3,0),0)","v":0},{"v":2211.57,"d":"€2,211.57"}]
[26870,134070,1,"Normal",0,"LUXE",{"$f":"IFERROR(VLOOKUP(F905,Discounts!A:C,3,0),0)","v":0},0]
[26880,1920,1,"Normal",{"v":1778.51,"d":"€1,778.51"},"A010",{"$f":"IFERROR(VLOOKUP(F906,Discounts!A:C,3,0),0)","v":0},{"v":1778.51,"d":"€1,778.51"}]
[26880,34260,1,"Normal",{"v":249.59,"d":"€249.59"},"LUXE",{"$f":"IFERROR(VLOOKUP(F907,Discounts!A:C,3,0),0)","v":0},{"v":249.59,"d":"€249.59"}]
[26890,122010,1,"Combination",{"v":2028.1,"d":"€2,028.10"},"A010",{"$f":"IFERROR(VLOOKUP(F908,Discounts!A:C,3,0),0)","v":0},{"v":2028.1,"d":"€2,028.10"}]
[26890,134070,1,"Normal",0,"LUXE",{"$f":"IFERROR(VLOOKUP(F909,Discounts!A:C,3,0),0)","v":0},0]
[26900,1940,1,"Normal",{"v":1778.51,"d":"€1,778.51"},"A010",{"$f":"IFERROR(VLOOKUP(F910,Discounts!A:C,3,0),0)","v":0},{"v":1778.51,"d":"€1,778.51"}]
[26900,34260,1,"Normal",{"v":249.59,"d":"€249.59"},"LUXE",{"$f":"IFERROR(VLOOKUP(F911,Discounts!A:C,3,0),0)","v":0},{"v":249.59,"d":"€249.59"}]
[26910,122020,1,"Combination",{"v":2028.1,"d":"€2,028.10"},"A010",{"$f":"IFERROR(VLOOKUP(F912,Discounts!A:C,3,0),0)","v":0},{"v":2028.1,"d":"€2,028.10"}]
[26910,134070,1,"Normal",0,"LUXE",{"$f":"IFERROR(VLOOKUP(F913,Discounts!A:C,3,0),0)","v":0},0]
[26920,1960,1,"Normal",{"v":1952.89,"d":"€1,952.89"},"A010",{"$f":"IFERROR(VLOOKUP(F914,Discounts!A:C,3,0),0)","v":0},{"v":1952.89,"d":"€1,952.89"}]
[26920,34260,1,"Normal",{"v":249.59,"d":"€249.59"},"LUXE",{"$f":"IFERROR(VLOOKUP(F915,Discounts!A:C,3,0),0)","v":0},{"v":249.59,"d":"€249.59"}]
[26930,122030,1,"Combination",{"v":2202.48,"d":"€2,202.48"},"A010",{"$f":"IFERROR(VLOOKUP(F916,Discounts!A:C,3,0),0)","v":0},{"v":2202.48,"d":"€2,202.48"}]
[26930,134070,1,"Normal",0,"LUXE",{"$f":"IFERROR(VLOOKUP(F917,Discounts!A:C,3,0),0)","v":0},0]
[26940,1980,1,"Normal",{"v":2183.47,"d":"€2,183.47"},"A010",{"$f":"IFERROR(VLOOKUP(F918,Discounts!A:C,3,0),0)","v":0},{"v":2183.47,"d":"€2,183.47"}]
[26940,34260,1,"Normal",{"v":249.59,"d":"€249.59"},"LUXE",{"$f":"IFERROR(VLOOKUP(F919,Discounts!A:C,3,0),0)","v":0},{"v":249.59,"d":"€249.59"}]
[26950,122040,1,"Combination",{"v":2433.06,"d":"€2,433.06"},"A010",{"$f":"IFERROR(VLOOKUP(F920,Discounts!A:C,3,0),0)","v":0},{"v":2433.06,"d":"€2,433.06"}]
[26950,134070,1,"Normal",0,"LUXE",{"$f":"IFERROR(VLOOKUP(F921,Discounts!A:C,3,0),0)","v":0},0]
[26960,2000,1,"Normal",{"v":2080.99,"d":"€2,080.99"},"A010",{"$f":"IFERROR(VLOOKUP(F922,Discounts!A:C,3,0),0)","v":0},{"v":2080.99,"d":"€2,080.99"}]
[26960,34260,1,"Normal",{"v":249.59,"d":"€249.59"},"LUXE",{"$f":"IFERROR(VLOOKUP(F923,Discounts!A:C,3,0),0)","v":0},{"v":249.59,"d":"€249.59"}]
[26970,122050,1,"Combination",{"v":2330.58,"d":"€2,330.58"},"A010",{"$f":"IFERROR(VLOOKUP(F924,Discounts!A:C,3,0),0)","v":0},{"v":2330.58,"d":"€2,330.58"}]
[26970,134070,1,"Normal",0,"LUXE",{"$f":"IFERROR(VLOOKUP(F925,Discounts!A:C,3,0),0)","v":0},0]
[26980,2020,1,"Normal",{"v":1895.87,"d":"€1,895.87"},"A010",{"$f":"IFERROR(VLOOKUP(F926,Discounts!A:C,3,0),0)","v":0},{"v":1895.87,"d":"€1,895.87"}]
[26980,34260,1,"Normal",{"v":249.59,"d":"€249.59"},"LUXE",{"$f":"IFERROR(VLOOKUP(F927,Discounts!A:C,3,0),0)","v":0},{"v":249.59,"d":"€249.59"}]
[26990,122060,1,"Combination",{"v":2145.46,"d":"€2,145.46"},"A010",{"$f":"IFERROR(VLOOKUP(F928,Discounts!A:C,3,0),0)","v":0},{"v":2145.46,"d":"€2,145.46"}]
[26990,134070,1,"Normal",0,"LUXE",{"$f":"IFERROR(VLOOKUP(F929,Discounts!A:C,3,0),0)","v":0},0]
[27040,2080,1,"Normal",{"v":1462.81,"d":"€1,462.81"},"A010",{"$f":"IFERROR(VLOOKUP(F930,Discounts!A:C,3,0),0)","v":0},{"v":1462.81,"d":"€1,462.81"}]
[27040,34260,1,"Normal",{"v":249.59,"d":"€249.59"},"LUXE",{"$f":"IFERROR(VLOOKUP(F931,Discounts!A:C,3,0),0)","v":0},{"v":249.59,"d":"€249.59"}]
[27050,122070,1,"Combination",{"v":1712.4,"d":"€1,712.40"},"A010",{"$f":"IFERROR(VLOOKUP(F932,Discounts!A:C,3,0),0)","v":0},{"v":1712.3999999999999,"d":"€1,712.40"}]
[27050,134070,1,"Normal",0,"LUXE",{"$f":"IFERROR(VLOOKUP(F933,Discounts!A:C,3,0),0)","v":0},0]
[27060,2100,1,"Normal",{"v":1251.24,"d":"€1,251.24"},"A010",{"$f":"IFERROR(VLOOKUP(F934,Discounts!A:C,3,0),0)","v":0},{"v":1251.24,"d":"€1,251.24"}]
[27060,34260,1,"Normal",{"v":249.59,"d":"€249.59"},"LUXE",{"$f":"IFERROR(VLOOKUP(F935,Discounts!A:C,3,0),0)","v":0},{"v":249.59,"d":"€249.59"}]
[27070,122080,1,"Combination",{"v":1500.83,"d":"€1,500.83"},"A010",{"$f":"IFERROR(VLOOKUP(F936,Discounts!A:C,3,0),0)","v":0},{"v":1500.83,"d":"€1,500.83"}]
[27070,134070,1,"Normal",0,"LUXE",{"$f":"IFERROR(VLOOKUP(F937,Discounts!A:C,3,0),0)","v":0},0]
[27220,2260,1,"Normal",{"v":1214.88,"d":"€1,214.88"},"A010",{"$f":"IFERROR(VLOOKUP(F938,Discounts!A:C,3,0),0)","v":0},{"v":1214.88,"d":"€1,214.88"}]
[27220,34260,1,"Normal",{"v":249.59,"d":"€249.59"},"LUXE",{"$f":"IFERROR(VLOOKUP(F939,Discounts!A:C,3,0),0)","v":0},{"v":249.59,"d":"€249.59"}]
[27230,122090,1,"Combination",{"v":1464.47,"d":"€1,464.47"},"A010",{"$f":"IFERROR(VLOOKUP(F940,Discounts!A:C,3,0),0)","v":0},{"v":1464.47,"d":"€1,464.47"}]
[27230,134070,1,"Normal",0,"LUXE",{"$f":"IFERROR(VLOOKUP(F941,Discounts!A:C,3,0),0)","v":0},0]
[27240,2280,1,"Normal",{"v":1214.88,"d":"€1,214.88"},"A010",{"$f":"IFERROR(VLOOKUP(F942,Discounts!A:C,3,0),0)","v":0},{"v":1214.88,"d":"€1,214.88"}]
[27240,34260,1,"Normal",{"v":249.59,"d":"€249.59"},"LUXE",{"$f":"IFERROR(VLOOKUP(F943,Discounts!A:C,3,0),0)","v":0},{"v":249.59,"d":"€249.59"}]
[27250,122100,1,"Combination",{"v":1464.47,"d":"€1,464.47"},"A010",{"$f":"IFERROR(VLOOKUP(F944,Discounts!A:C,3,0),0)","v":0},{"v":1464.47,"d":"€1,464.47"}]
[27250,134070,1,"Normal",0,"LUXE",{"$f":"IFERROR(VLOOKUP(F945,Discounts!A:C,3,0),0)","v":0},0]
[27260,2300,1,"Normal",{"v":1297.52,"d":"€1,297.52"},"A010",{"$f":"IFERROR(VLOOKUP(F946,Discounts!A:C,3,0),0)","v":0},{"v":1297.52,"d":"€1,297.52"}]
[27260,34260,1,"Normal",{"v":249.59,"d":"€249.59"},"LUXE",{"$f":"IFERROR(VLOOKUP(F947,Discounts!A:C,3,0),0)","v":0},{"v":249.59,"d":"€249.59"}]
[27270,122110,1,"Combination",{"v":1547.11,"d":"€1,547.11"},"A010",{"$f":"IFERROR(VLOOKUP(F948,Discounts!A:C,3,0),0)","v":0},{"v":1547.11,"d":"€1,547.11"}]
[27270,134070,1,"Normal",0,"LUXE",{"$f":"IFERROR(VLOOKUP(F949,Discounts!A:C,3,0),0)","v":0},0]
[27280,2320,1,"Normal",{"v":1662.81,"d":"€1,662.81"},"A010",{"$f":"IFERROR(VLOOKUP(F950,Discounts!A:C,3,0),0)","v":0},{"v":1662.81,"d":"€1,662.81"}]
[27280,34260,1,"Normal",{"v":249.59,"d":"€249.59"},"LUXE",{"$f":"IFERROR(VLOOKUP(F951,Discounts!A:C,3,0),0)","v":0},{"v":249.59,"d":"€249.59"}]
[27290,122120,1,"Combination",{"v":1912.4,"d":"€1,912.40"},"A010",{"$f":"IFERROR(VLOOKUP(F952,Discounts!A:C,3,0),0)","v":0},{"v":1912.3999999999999,"d":"€1,912.40"}]
[27290,134070,1,"Normal",0,"LUXE",{"$f":"IFERROR(VLOOKUP(F953,Discounts!A:C,3,0),0)","v":0},0]
[27300,2340,1,"Normal",{"v":1122.31,"d":"€1,122.31"},"A010",{"$f":"IFERROR(VLOOKUP(F954,Discounts!A:C,3,0),0)","v":0},{"v":1122.31,"d":"€1,122.31"}]
[27300,34260,1,"Normal",{"v":249.59,"d":"€249.59"},"LUXE",{"$f":"IFERROR(VLOOKUP(F955,Discounts!A:C,3,0),0)","v":0},{"v":249.59,"d":"€249.59"}]
[27310,122130,1,"Combination",{"v":1371.9,"d":"€1,371.90"},"A010",{"$f":"IFERROR(VLOOKUP(F956,Discounts!A:C,3,0),0)","v":0},{"v":1371.8999999999999,"d":"€1,371.90"}]
[27310,134070,1,"Normal",0,"LUXE",{"$f":"IFERROR(VLOOKUP(F957,Discounts!A:C,3,0),0)","v":0},0]
[27320,2360,1,"Normal",{"v":1516.53,"d":"€1,516.53"},"A010",{"$f":"IFERROR(VLOOKUP(F958,Discounts!A:C,3,0),0)","v":0},{"v":1516.53,"d":"€1,516.53"}]
[27320,34260,1,"Normal",{"v":249.59,"d":"€249.59"},"LUXE",{"$f":"IFERROR(VLOOKUP(F959,Discounts!A:C,3,0),0)","v":0},{"v":249.59,"d":"€249.59"}]
[27330,122140,1,"Combination",{"v":1766.12,"d":"€1,766.12"},"A010",{"$f":"IFERROR(VLOOKUP(F960,Discounts!A:C,3,0),0)","v":0},{"v":1766.12,"d":"€1,766.12"}]
[27330,134070,1,"Normal",0,"LUXE",{"$f":"IFERROR(VLOOKUP(F961,Discounts!A:C,3,0),0)","v":0},0]
[27340,2380,1,"Normal",{"v":1659.5,"d":"€1,659.50"},"A010",{"$f":"IFERROR(VLOOKUP(F962,Discounts!A:C,3,0),0)","v":0},{"$f":"IF(D962=\"Normal\",E962*(1-G962),SUMIF(A:A,B962,H:H)*C962)","v":{"v":1659.5,"d":"€1,659.50"}}]
[27340,34260,1,"Normal",{"v":249.59,"d":"€249.59"},"LUXE",{"$f":"IFERROR(VLOOKUP(F963,Discounts!A:C,3,0),0)","v":0},{"v":249.59,"d":"€249.59"}]
[27350,122150,1,"Combination",{"v":1909.09,"d":"€1,909.09"},"A010",{"$f":"IFERROR(VLOOKUP(F964,Discounts!A:C,3,0),0)","v":0},{"v":1909.09,"d":"€1,909.09"}]
[27350,134070,1,"Normal",0,"LUXE",{"$f":"IFERROR(VLOOKUP(F965,Discounts!A:C,3,0),0)","v":0},0]
[27360,2400,1,"Normal",{"v":1827.27,"d":"€1,827.27"},"A010",{"$f":"IFERROR(VLOOKUP(F966,Discounts!A:C,3,0),0)","v":0},{"v":1827.27,"d":"€1,827.27"}]
[27360,34260,1,"Normal",{"v":249.59,"d":"€249.59"},"LUXE",{"$f":"IFERROR(VLOOKUP(F967,Discounts!A:C,3,0),0)","v":0},{"v":249.59,"d":"€249.59"}]
[27370,122160,1,"Combination",{"v":2076.86,"d":"€2,076.86"},"A010",{"$f":"IFERROR(VLOOKUP(F968,Discounts!A:C,3,0),0)","v":0},{"v":2076.86,"d":"€2,076.86"}]
[27370,134070,1,"Normal",0,"LUXE",{"$f":"IFERROR(VLOOKUP(F969,Discounts!A:C,3,0),0)","v":0},0]
[27380,2420,1,"Normal",{"v":2080.99,"d":"€2,080.99"},"A010",{"$f":"IFERROR(VLOOKUP(F970,Discounts!A:C,3,0),0)","v":0},{"v":2080.99,"d":"€2,080.99"}]
[27380,34260,1,"Normal",{"v":249.59,"d":"€249.59"},"LUXE",{"$f":"IFERROR(VLOOKUP(F971,Discounts!A:C,3,0),0)","v":0},{"v":249.59,"d":"€249.59"}]
[27390,122170,1,"Combination",{"v":2330.58,"d":"€2,330.58"},"A010",{"$f":"IFERROR(VLOOKUP(F972,Discounts!A:C,3,0),0)","v":0},{"v":2330.58,"d":"€2,330.58"}]
[27390,134070,1,"Normal",0,"LUXE",{"$f":"IFERROR(VLOOKUP(F973,Discounts!A:C,3,0),0)","v":0},0]
[27400,2440,1,"Normal",{"v":2291.74,"d":"€2,291.74"},"A010",{"$f":"IFERROR(VLOOKUP(F974,Discounts!A:C,3,0),0)","v":0},{"v":2291.74,"d":"€2,291.74"}]
[27400,34260,1,"Normal",{"v":249.59,"d":"€249.59"},"LUXE",{"$f":"IFERROR(VLOOKUP(F975,Discounts!A:C,3,0),0)","v":0},{"v":249.59,"d":"€249.59"}]
[27410,122180,1,"Combination",{"v":2541.33,"d":"€2,541.33"},"A010",{"$f":"IFERROR(VLOOKUP(F976,Discounts!A:C,3,0),0)","v":0},{"v":2541.33,"d":"€2,541.33"}]
[27410,134070,1,"Normal",0,"LUXE",{"$f":"IFERROR(VLOOKUP(F977,Discounts!A:C,3,0),0)","v":0},0]
[27420,2460,1,"Normal",{"v":2291.74,"d":"€2,291.74"},"A010",{"$f":"IFERROR(VLOOKUP(F978,Discounts!A:C,3,0),0)","v":0},{"v":2291.74,"d":"€2,291.74"}]
[27420,34260,1,"Normal",{"v":249.59,"d":"€249.59"},"LUXE",{"$f":"IFERROR(VLOOKUP(F979,Discounts!A:C,3,0),0)","v":0},{"v":249.59,"d":"€249.59"}]
[27430,122190,1,"Combination",{"v":2541.33,"d":"€2,541.33"},"A010",{"$f":"IFERROR(VLOOKUP(F980,Discounts!A:C,3,0),0)","v":0},{"v":2541.33,"d":"€2,541.33"}]
[27430,134070,1,"Normal",0,"LUXE",{"$f":"IFERROR(VLOOKUP(F981,Discounts!A:C,3,0),0)","v":0},0]
[27440,2480,1,"Normal",{"v":2291.74,"d":"€2,291.74"},"A010",{"$f":"IFERROR(VLOOKUP(F982,Discounts!A:C,3,0),0)","v":0},{"v":2291.74,"d":"€2,291.74"}]
[27440,34260,1,"Normal",{"v":249.59,"d":"€249.59"},"LUXE",{"$f":"IFERROR(VLOOKUP(F983,Discounts!A:C,3,0),0)","v":0},{"v":249.59,"d":"€249.59"}]
[27450,122200,1,"Combination",{"v":2541.33,"d":"€2,541.33"},"A010",{"$f":"IFERROR(VLOOKUP(F984,Discounts!A:C,3,0),0)","v":0},{"v":2541.33,"d":"€2,541.33"}]
[27450,134070,1,"Normal",0,"LUXE",{"$f":"IFERROR(VLOOKUP(F985,Discounts!A:C,3,0),0)","v":0},0]
[27460,2500,1,"Normal",{"v":2433.06,"d":"€2,433.06"},"A010",{"$f":"IFERROR(VLOOKUP(F986,Discounts!A:C,3,0),0)","v":0},{"v":2433.06,"d":"€2,433.06"}]
[27460,34260,1,"Normal",{"v":249.59,"d":"€249.59"},"LUXE",{"$f":"IFERROR(VLOOKUP(F987,Discounts!A:C,3,0),0)","v":0},{"v":249.59,"d":"€249.59"}]
[27470,122210,1,"Combination",{"v":2682.65,"d":"€2,682.65"},"A010",{"$f":"IFERROR(VLOOKUP(F988,Discounts!A:C,3,0),0)","v":0},{"v":2682.65,"d":"€2,682.65"}]
[27470,134070,1,"Normal",0,"LUXE",{"$f":"IFERROR(VLOOKUP(F989,Discounts!A:C,3,0),0)","v":0},0]
[27480,2520,1,"Normal",{"v":1193.39,"d":"€1,193.39"},"A010",{"$f":"IFERROR(VLOOKUP(F990,Discounts!A:C,3,0),0)","v":0},{"v":1193.39,"d":"€1,193.39"}]
[27480,34260,1,"Normal",{"v":249.59,"d":"€249.59"},"LUXE",{"$f":"IFERROR(VLOOKUP(F991,Discounts!A:C,3,0),0)","v":0},{"v":249.59,"d":"€249.59"}]
[27490,122220,1,"Combination",{"v":1442.98,"d":"€1,442.98"},"A010",{"$f":"IFERROR(VLOOKUP(F992,Discounts!A:C,3,0),0)","v":0},{"v":1442.98,"d":"€1,442.98"}]
[27490,134070,1,"Normal",0,"LUXE",{"$f":"IFERROR(VLOOKUP(F993,Discounts!A:C,3,0),0)","v":0},0]
[27500,2540,1,"Normal",{"v":1319.83,"d":"€1,319.83"},"A010",{"$f":"IFERROR(VLOOKUP(F994,Discounts!A:C,3,0),0)","v":0},{"v":1319.83,"d":"€1,319.83"}]
[27500,34260,1,"Normal",{"v":249.59,"d":"€249.59"},"LUXE",{"$f":"IFERROR(VLOOKUP(F995,Discounts!A:C,3,0),0)","v":0},{"v":249.59,"d":"€249.59"}]
[27510,122230,1,"Combination",{"v":1569.42,"d":"€1,569.42"},"A010",{"$f":"IFERROR(VLOOKUP(F996,Discounts!A:C,3,0),0)","v":0},{"v":1569.4199999999998,"d":"€1,569.42"}]
[27510,134070,1,"Normal",0,"LUXE",{"$f":"IFERROR(VLOOKUP(F997,Discounts!A:C,3,0),0)","v":0},0]
[27520,2560,1,"Normal",{"v":1340.5,"d":"€1,340.50"},"A010",{"$f":"IFERROR(VLOOKUP(F998,Discounts!A:C,3,0),0)","v":0},{"v":1340.5,"d":"€1,340.50"}]
[27520,34260,1,"Normal",{"v":249.59,"d":"€249.59"},"LUXE",{"$f":"IFERROR(VLOOKUP(F999,Discounts!A:C,3,0),0)","v":0},{"v":249.59,"d":"€249.59"}]
[27530,122240,1,"Combination",{"v":1590.09,"d":"€1,590.09"},"A010",{"$f":"IFERROR(VLOOKUP(F1000,Discounts!A:C,3,0),0)","v":0},{"v":1590.09,"d":"€1,590.09"}]
[27530,134070,1,"Normal",0,"LUXE",{"$f":"IFERROR(VLOOKUP(F1001,Discounts!A:C,3,0),0)","v":0},0]
[27540,2580,1,"Normal",{"v":1214.88,"d":"€1,214.88"},"A010",{"$f":"IFERROR(VLOOKUP(F1002,Discounts!A:C,3,0),0)","v":0},{"v":1214.88,"d":"€1,214.88"}]
[27540,34260,1,"Normal",{"v":249.59,"d":"€249.59"},"LUXE",{"$f":"IFERROR(VLOOKUP(F1003,Discounts!A:C,3,0),0)","v":0},{"v":249.59,"d":"€249.59"}]
[27550,122250,1,"Combination",{"v":1464.47,"d":"€1,464.47"},"A010",{"$f":"IFERROR(VLOOKUP(F1004,Discounts!A:C,3,0),0)","v":0},{"v":1464.47,"d":"€1,464.47"}]
[27550,134070,1,"Normal",0,"LUXE",{"$f":"IFERROR(VLOOKUP(F1005,Discounts!A:C,3,0),0)","v":0},0]
[27560,2600,1,"Normal",{"v":2023.14,"d":"€2,023.14"},"A010",{"$f":"IFERROR(VLOOKUP(F1006,Discounts!A:C,3,0),0)","v":0},{"v":2023.14,"d":"€2,023.14"}]
[27560,34260,1,"Normal",{"v":249.59,"d":"€249.59"},"LUXE",{"$f":"IFERROR(VLOOKUP(F1007,Discounts!A:C,3,0),0)","v":0},{"v":249.59,"d":"€249.59"}]
[27570,122260,1,"Combination",{"v":2272.73,"d":"€2,272.73"},"A010",{"$f":"IFERROR(VLOOKUP(F1008,Discounts!A:C,3,0),0)","v":0},{"v":2272.73,"d":"€2,272.73"}]
[27570,134070,1,"Normal",0,"LUXE",{"$f":"IFERROR(VLOOKUP(F1009,Discounts!A:C,3,0),0)","v":0},0]
[27580,2620,1,"Normal",{"v":1704.13,"d":"€1,704.13"},"A010",{"$f":"IFERROR(VLOOKUP(F1010,Discounts!A:C,3,0),0)","v":0},{"v":1704.13,"d":"€1,704.13"}]
[27580,34260,1,"Normal",{"v":249.59,"d":"€249.59"},"LUXE",{"$f":"IFERROR(VLOOKUP(F1011,Discounts!A:C,3,0),0)","v":0},{"v":249.59,"d":"€249.59"}]
[27590,122270,1,"Combination",{"v":1953.72,"d":"€1,953.72"},"A010",{"$f":"IFERROR(VLOOKUP(F1012,Discounts!A:C,3,0),0)","v":0},{"v":1953.72,"d":"€1,953.72"}]
[27590,134070,1,"Normal",0,"LUXE",{"$f":"IFERROR(VLOOKUP(F1013,Discounts!A:C,3,0),0)","v":0},0]
[27600,2640,1,"Normal",{"v":1297.52,"d":"€1,297.52"},"A010",{"$f":"IFERROR(VLOOKUP(F1014,Discounts!A:C,3,0),0)","v":0},{"v":1297.52,"d":"€1,297.52"}]
[27600,34260,1,"Normal",{"v":249.59,"d":"€249.59"},"LUXE",{"$f":"IFERROR(VLOOKUP(F1015,Discounts!A:C,3,0),0)","v":0},{"v":249.59,"d":"€249.59"}]
[27610,122280,1,"Combination",{"v":1547.11,"d":"€1,547.11"},"A010",{"$f":"IFERROR(VLOOKUP(F1016,Discounts!A:C,3,0),0)","v":0},{"v":1547.11,"d":"€1,547.11"}]
[27610,134070,1,"Normal",0,"LUXE",{"$f":"IFERROR(VLOOKUP(F1017,Discounts!A:C,3,0),0)","v":0},0]
[27620,2660,1,"Normal",{"v":1504.96,"d":"€1,504.96"},"A010",{"$f":"IFERROR(VLOOKUP(F1018,Discounts!A:C,3,0),0)","v":0},{"v":1504.96,"d":"€1,504.96"}]
[27620,34260,1,"Normal",{"v":249.59,"d":"€249.59"},"LUXE",{"$f":"IFERROR(VLOOKUP(F1019,Discounts!A:C,3,0),0)","v":0},{"v":249.59,"d":"€249.59"}]
[27630,122290,1,"Combination",{"v":1754.55,"d":"€1,754.55"},"A010",{"$f":"IFERROR(VLOOKUP(F1020,Discounts!A:C,3,0),0)","v":0},{"v":1754.55,"d":"€1,754.55"}]
[27630,134070,1,"Normal",0,"LUXE",{"$f":"IFERROR(VLOOKUP(F1021,Discounts!A:C,3,0),0)","v":0},0]
[27640,2680,1,"Normal",{"v":1262.81,"d":"€1,262.81"},"A010",{"$f":"IFERROR(VLOOKUP(F1022,Discounts!A:C,3,0),0)","v":0},{"v":1262.81,"d":"€1,262.81"}]
[27640,34260,1,"Normal",{"v":249.59,"d":"€249.59"},"LUXE",{"$f":"IFERROR(VLOOKUP(F1023,Discounts!A:C,3,0),0)","v":0},{"v":249.59,"d":"€249.59"}]
[27650,122300,1,"Combination",{"v":1512.4,"d":"€1,512.40"},"A010",{"$f":"IFERROR(VLOOKUP(F1024,Discounts!A:C,3,0),0)","v":0},{"v":1512.3999999999999,"d":"€1,512.40"}]
[27650,134070,1,"Normal",0,"LUXE",{"$f":"IFERROR(VLOOKUP(F1025,Discounts!A:C,3,0),0)","v":0},0]
[27660,2700,1,"Normal",{"v":1471.9,"d":"€1,471.90"},"A010",{"$f":"IFERROR(VLOOKUP(F1026,Discounts!A:C,3,0),0)","v":0},{"$f":"IF(D1026=\"Normal\",E1026*(1-G1026),SUMIF(A:A,B1026,H:H)*C1026)","v":{"v":1471.9,"d":"€1,471.90"}}]
[27660,34260,1,"Normal",{"v":249.59,"d":"€249.59"},"LUXE",{"$f":"IFERROR(VLOOKUP(F1027,Discounts!A:C,3,0),0)","v":0},{"v":249.59,"d":"€249.59"}]
[27670,122310,1,"Combination",{"v":1721.49,"d":"€1,721.49"},"A010",{"$f":"IFERROR(VLOOKUP(F1028,Discounts!A:C,3,0),0)","v":0},{"v":1721.49,"d":"€1,721.49"}]
[27670,134070,1,"Normal",0,"LUXE",{"$f":"IFERROR(VLOOKUP(F1029,Discounts!A:C,3,0),0)","v":0},0]
[27680,2720,1,"Normal",{"v":1446.28,"d":"€1,446.28"},"A010",{"$f":"IFERROR(VLOOKUP(F1030,Discounts!A:C,3,0),0)","v":0},{"v":1446.28,"d":"€1,446.28"}]
[27680,34260,1,"Normal",{"v":249.59,"d":"€249.59"},"LUXE",{"$f":"IFERROR(VLOOKUP(F1031,Discounts!A:C,3,0),0)","v":0},{"v":249.59,"d":"€249.59"}]
[27690,122320,1,"Combination",{"v":1695.87,"d":"€1,695.87"},"A010",{"$f":"IFERROR(VLOOKUP(F1032,Discounts!A:C,3,0),0)","v":0},{"v":1695.87,"d":"€1,695.87"}]
[27690,134070,1,"Normal",0,"LUXE",{"$f":"IFERROR(VLOOKUP(F1033,Discounts!A:C,3,0),0)","v":0},0]
[27700,2740,1,"Normal",{"v":1573.55,"d":"€1,573.55"},"A010",{"$f":"IFERROR(VLOOKUP(F1034,Discounts!A:C,3,0),0)","v":0},{"v":1573.55,"d":"€1,573.55"}]
[27700,34260,1,"Normal",{"v":249.59,"d":"€249.59"},"LUXE",{"$f":"IFERROR(VLOOKUP(F1035,Discounts!A:C,3,0),0)","v":0},{"v":249.59,"d":"€249.59"}]
[27710,122330,1,"Combination",{"v":1823.14,"d":"€1,823.14"},"A010",{"$f":"IFERROR(VLOOKUP(F1036,Discounts!A:C,3,0),0)","v":0},{"v":1823.1399999999999,"d":"€1,823.14"}]
[27710,134070,1,"Normal",0,"LUXE",{"$f":"IFERROR(VLOOKUP(F1037,Discounts!A:C,3,0),0)","v":0},0]
[27720,2760,1,"Normal",{"v":1504.96,"d":"€1,504.96"},"A010",{"$f":"IFERROR(VLOOKUP(F1038,Discounts!A:C,3,0),0)","v":0},{"v":1504.96,"d":"€1,504.96"}]
[27720,34260,1,"Normal",{"v":249.59,"d":"€249.59"},"LUXE",{"$f":"IFERROR(VLOOKUP(F1039,Discounts!A:C,3,0),0)","v":0},{"v":249.59,"d":"€249.59"}]
[27730,122340,1,"Combination",{"v":1754.55,"d":"€1,754.55"},"A010",{"$f":"IFERROR(VLOOKUP(F1040,Discounts!A:C,3,0),0)","v":0},{"v":1754.55,"d":"€1,754.55"}]
[27730,134070,1,"Normal",0,"LUXE",{"$f":"IFERROR(VLOOKUP(F1041,Discounts!A:C,3,0),0)","v":0},0]
[27740,2780,1,"Normal",{"v":1573.55,"d":"€1,573.55"},"A010",{"$f":"IFERROR(VLOOKUP(F1042,Discounts!A:C,3,0),0)","v":0},{"v":1573.55,"d":"€1,573.55"}]
[27740,34260,1,"Normal",{"v":249.59,"d":"€249.59"},"LUXE",{"$f":"IFERROR(VLOOKUP(F1043,Discounts!A:C,3,0),0)","v":0},{"v":249.59,"d":"€249.59"}]
[27750,122350,1,"Combination",{"v":1823.14,"d":"€1,823.14"},"A010",{"$f":"IFERROR(VLOOKUP(F1044,Discounts!A:C,3,0),0)","v":0},{"v":1823.1399999999999,"d":"€1,823.14"}]
[27750,134070,1,"Normal",0,"LUXE",{"$f":"IFERROR(VLOOKUP(F1045,Discounts!A:C,3,0),0)","v":0},0]
[27760,2800,1,"Normal",{"v":1376.03,"d":"€1,376.03"},"A010",{"$f":"IFERROR(VLOOKUP(F1046,Discounts!A:C,3,0),0)","v":0},{"v":1376.03,"d":"€1,376.03"}]
[27760,34260,1,"Normal",{"v":249.59,"d":"€249.59"},"LUXE",{"$f":"IFERROR(VLOOKUP(F1047,Discounts!A:C,3,0),0)","v":0},{"v":249.59,"d":"€249.59"}]
[27770,122360,1,"Combination",{"v":1625.62,"d":"€1,625.62"},"A010",{"$f":"IFERROR(VLOOKUP(F1048,Discounts!A:C,3,0),0)","v":0},{"v":1625.62,"d":"€1,625.62"}]
[27770,134070,1,"Normal",0,"LUXE",{"$f":"IFERROR(VLOOKUP(F1049,Discounts!A:C,3,0),0)","v":0},0]
[27780,2820,1,"Normal",{"v":1587.6,"d":"€1,587.60"},"A010",{"$f":"IFERROR(VLOOKUP(F1050,Discounts!A:C,3,0),0)","v":0},{"v":1587.6,"d":"€1,587.60"}]
[27780,34260,1,"Normal",{"v":249.59,"d":"€249.59"},"LUXE",{"$f":"IFERROR(VLOOKUP(F1051,Discounts!A:C,3,0),0)","v":0},{"v":249.59,"d":"€249.59"}]
[27790,122370,1,"Combination",{"v":1837.19,"d":"€1,837.19"},"A010",{"$f":"IFERROR(VLOOKUP(F1052,Discounts!A:C,3,0),0)","v":0},{"v":1837.1899999999998,"d":"€1,837.19"}]
[27790,134070,1,"Normal",0,"LUXE",{"$f":"IFERROR(VLOOKUP(F1053,Discounts!A:C,3,0),0)","v":0},0]
[27800,2840,1,"Normal",{"v":1647.93,"d":"€1,647.93"},"A010",{"$f":"IFERROR(VLOOKUP(F1054,Discounts!A:C,3,0),0)","v":0},{"v":1647.93,"d":"€1,647.93"}]
[27800,34260,1,"Normal",{"v":249.59,"d":"€249.59"},"LUXE",{"$f":"IFERROR(VLOOKUP(F1055,Discounts!A:C,3,0),0)","v":0},{"v":249.59,"d":"€249.59"}]
[27810,122380,1,"Combination",{"v":1897.52,"d":"€1,897.52"},"A010",{"$f":"IFERROR(VLOOKUP(F1056,Discounts!A:C,3,0),0)","v":0},{"v":1897.52,"d":"€1,897.52"}]
[27810,134070,1,"Normal",0,"LUXE",{"$f":"IFERROR(VLOOKUP(F1057,Discounts!A:C,3,0),0)","v":0},0]
[27820,2860,1,"Normal",{"v":1714.05,"d":"€1,714.05"},"A010",{"$f":"IFERROR(VLOOKUP(F1058,Discounts!A:C,3,0),0)","v":0},{"v":1714.05,"d":"€1,714.05"}]
[27820,34260,1,"Normal",{"v":249.59,"d":"€249.59"},"LUXE",{"$f":"IFERROR(VLOOKUP(F1059,Discounts!A:C,3,0),0)","v":0},{"v":249.59,"d":"€249.59"}]
[27830,122390,1,"Combination",{"v":1963.64,"d":"€1,963.64"},"A010",{"$f":"IFERROR(VLOOKUP(F1060,Discounts!A:C,3,0),0)","v":0},{"v":1963.6399999999999,"d":"€1,963.64"}]
[27830,134070,1,"Normal",0,"LUXE",{"$f":"IFERROR(VLOOKUP(F1061,Discounts!A:C,3,0),0)","v":0},0]
[27840,2880,1,"Normal",{"v":1376.03,"d":"€1,376.03"},"A010",{"$f":"IFERROR(VLOOKUP(F1062,Discounts!A:C,3,0),0)","v":0},{"v":1376.03,"d":"€1,376.03"}]
[27840,34260,1,"Normal",{"v":249.59,"d":"€249.59"},"LUXE",{"$f":"IFERROR(VLOOKUP(F1063,Discounts!A:C,3,0),0)","v":0},{"v":249.59,"d":"€249.59"}]
[27850,122400,1,"Combination",{"v":1625.62,"d":"€1,625.62"},"A010",{"$f":"IFERROR(VLOOKUP(F1064,Discounts!A:C,3,0),0)","v":0},{"v":1625.62,"d":"€1,625.62"}]
[27850,134070,1,"Normal",0,"LUXE",{"$f":"IFERROR(VLOOKUP(F1065,Discounts!A:C,3,0),0)","v":0},0]
[27860,2900,1,"Normal",{"v":1587.6,"d":"€1,587.60"},"A010",{"$f":"IFERROR(VLOOKUP(F1066,Discounts!A:C,3,0),0)","v":0},{"v":1587.6,"d":"€1,587.60"}]
[27860,34260,1,"Normal",{"v":249.59,"d":"€249.59"},"LUXE",{"$f":"IFERROR(VLOOKUP(F1067,Discounts!A:C,3,0),0)","v":0},{"v":249.59,"d":"€249.59"}]
[27870,122410,1,"Combination",{"v":1837.19,"d":"€1,837.19"},"A010",{"$f":"IFERROR(VLOOKUP(F1068,Discounts!A:C,3,0),0)","v":0},{"v":1837.1899999999998,"d":"€1,837.19"}]
[27870,134070,1,"Normal",0,"LUXE",{"$f":"IFERROR(VLOOKUP(F1069,Discounts!A:C,3,0),0)","v":0},0]
[27880,2920,1,"Normal",{"v":1647.93,"d":"€1,647.93"},"A010",{"$f":"IFERROR(VLOOKUP(F1070,Discounts!A:C,3,0),0)","v":0},{"v":1647.93,"d":"€1,647.93"}]
[27880,34260,1,"Normal",{"v":249.59,"d":"€249.59"},"LUXE",{"$f":"IFERROR(VLOOKUP(F1071,Discounts!A:C,3,0),0)","v":0},{"v":249.59,"d":"€249.59"}]
[27890,122420,1,"Combination",{"v":1897.52,"d":"€1,897.52"},"A010",{"$f":"IFERROR(VLOOKUP(F1072,Discounts!A:C,3,0),0)","v":0},{"v":1897.52,"d":"€1,897.52"}]
[27890,134070,1,"Normal",0,"LUXE",{"$f":"IFERROR(VLOOKUP(F1073,Discounts!A:C,3,0),0)","v":0},0]
[27900,2940,1,"Normal",{"v":1714.05,"d":"€1,714.05"},"A010",{"$f":"IFERROR(VLOOKUP(F1074,Discounts!A:C,3,0),0)","v":0},{"v":1714.05,"d":"€1,714.05"}]
[27900,34260,1,"Normal",{"v":249.59,"d":"€249.59"},"LUXE",{"$f":"IFERROR(VLOOKUP(F1075,Discounts!A:C,3,0),0)","v":0},{"v":249.59,"d":"€249.59"}]
[27910,122430,1,"Combination",{"v":1963.64,"d":"€1,963.64"},"A010",{"$f":"IFERROR(VLOOKUP(F1076,Discounts!A:C,3,0),0)","v":0},{"v":1963.6399999999999,"d":"€1,963.64"}]
[27910,134070,1,"Normal",0,"LUXE",{"$f":"IFERROR(VLOOKUP(F1077,Discounts!A:C,3,0),0)","v":0},0]
[27920,2960,1,"Normal",{"v":1839.67,"d":"€1,839.67"},"A010",{"$f":"IFERROR(VLOOKUP(F1078,Discounts!A:C,3,0),0)","v":0},{"v":1839.67,"d":"€1,839.67"}]
[27920,34260,1,"Normal",{"v":249.59,"d":"€249.59"},"LUXE",{"$f":"IFERROR(VLOOKUP(F1079,Discounts!A:C,3,0),0)","v":0},{"v":249.59,"d":"€249.59"}]
[27930,122440,1,"Combination",{"v":2089.26,"d":"€2,089.26"},"A010",{"$f":"IFERROR(VLOOKUP(F1080,Discounts!A:C,3,0),0)","v":0},{"v":2089.26,"d":"€2,089.26"}]
[27930,134070,1,"Normal",0,"LUXE",{"$f":"IFERROR(VLOOKUP(F1081,Discounts!A:C,3,0),0)","v":0},0]
[27940,2980,1,"Normal",{"v":1438.02,"d":"€1,438.02"},"A010",{"$f":"IFERROR(VLOOKUP(F1082,Discounts!A:C,3,0),0)","v":0},{"v":1438.02,"d":"€1,438.02"}]
[27940,34260,1,"Normal",{"v":249.59,"d":"€249.59"},"LUXE",{"$f":"IFERROR(VLOOKUP(F1083,Discounts!A:C,3,0),0)","v":0},{"v":249.59,"d":"€249.59"}]
[27950,122450,1,"Combination",{"v":1687.61,"d":"€1,687.61"},"A010",{"$f":"IFERROR(VLOOKUP(F1084,Discounts!A:C,3,0),0)","v":0},{"v":1687.61,"d":"€1,687.61"}]
[27950,134070,1,"Normal",0,"LUXE",{"$f":"IFERROR(VLOOKUP(F1085,Discounts!A:C,3,0),0)","v":0},0]
[27960,3000,1,"Normal",{"v":1647.93,"d":"€1,647.93"},"A010",{"$f":"IFERROR(VLOOKUP(F1086,Discounts!A:C,3,0),0)","v":0},{"v":1647.93,"d":"€1,647.93"}]
[27960,34260,1,"Normal",{"v":249.59,"d":"€249.59"},"LUXE",{"$f":"IFERROR(VLOOKUP(F1087,Discounts!A:C,3,0),0)","v":0},{"v":249.59,"d":"€249.59"}]
[27970,122460,1,"Combination",{"v":1897.52,"d":"€1,897.52"},"A010",{"$f":"IFERROR(VLOOKUP(F1088,Discounts!A:C,3,0),0)","v":0},{"v":1897.52,"d":"€1,897.52"}]
[27970,134070,1,"Normal",0,"LUXE",{"$f":"IFERROR(VLOOKUP(F1089,Discounts!A:C,3,0),0)","v":0},0]
[27980,3020,1,"Normal",{"v":1620.66,"d":"€1,620.66"},"A010",{"$f":"IFERROR(VLOOKUP(F1090,Discounts!A:C,3,0),0)","v":0},{"$f":"IF(D1090=\"Normal\",E1090*(1-G1090),SUMIF(A:A,B1090,H:H)*C1090)","v":{"v":1620.66,"d":"€1,620.66"}}]
[27980,34260,1,"Normal",{"v":249.59,"d":"€249.59"},"LUXE",{"$f":"IFERROR(VLOOKUP(F1091,Discounts!A:C,3,0),0)","v":0},{"v":249.59,"d":"€249.59"}]
[27990,122470,1,"Combination",{"v":1870.25,"d":"€1,870.25"},"A010",{"$f":"IFERROR(VLOOKUP(F1092,Discounts!A:C,3,0),0)","v":0},{"v":1870.25,"d":"€1,870.25"}]
[27990,134070,1,"Normal",0,"LUXE",{"$f":"IFERROR(VLOOKUP(F1093,Discounts!A:C,3,0),0)","v":0},0]
[28000,3040,1,"Normal",{"v":1794.21,"d":"€1,794.21"},"A010",{"$f":"IFERROR(VLOOKUP(F1094,Discounts!A:C,3,0),0)","v":0},{"v":1794.21,"d":"€1,794.21"}]
[28000,34260,1,"Normal",{"v":249.59,"d":"€249.59"},"LUXE",{"$f":"IFERROR(VLOOKUP(F1095,Discounts!A:C,3,0),0)","v":0},{"v":249.59,"d":"€249.59"}]
[28010,122480,1,"Combination",{"v":2043.8,"d":"€2,043.80"},"A010",{"$f":"IFERROR(VLOOKUP(F1096,Discounts!A:C,3,0),0)","v":0},{"v":2043.8,"d":"€2,043.80"}]
[28010,134070,1,"Normal",0,"LUXE",{"$f":"IFERROR(VLOOKUP(F1097,Discounts!A:C,3,0),0)","v":0},0]
[28020,3060,1,"Normal",{"v":1690.91,"d":"€1,690.91"},"A010",{"$f":"IFERROR(VLOOKUP(F1098,Discounts!A:C,3,0),0)","v":0},{"v":1690.91,"d":"€1,690.91"}]
[28020,34260,1,"Normal",{"v":249.59,"d":"€249.59"},"LUXE",{"$f":"IFERROR(VLOOKUP(F1099,Discounts!A:C,3,0),0)","v":0},{"v":249.59,"d":"€249.59"}]
[28030,122490,1,"Combination",{"v":1940.5,"d":"€1,940.50"},"A010",{"$f":"IFERROR(VLOOKUP(F1100,Discounts!A:C,3,0),0)","v":0},{"v":1940.5,"d":"€1,940.50"}]
[28030,134070,1,"Normal",0,"LUXE",{"$f":"IFERROR(VLOOKUP(F1101,Discounts!A:C,3,0),0)","v":0},0]
[28040,3080,1,"Normal",{"v":1738.02,"d":"€1,738.02"},"A010",{"$f":"IFERROR(VLOOKUP(F1102,Discounts!A:C,3,0),0)","v":0},{"v":1738.02,"d":"€1,738.02"}]
[28040,34260,1,"Normal",{"v":249.59,"d":"€249.59"},"LUXE",{"$f":"IFERROR(VLOOKUP(F1103,Discounts!A:C,3,0),0)","v":0},{"v":249.59,"d":"€249.59"}]
[28050,122500,1,"Combination",{"v":1987.61,"d":"€1,987.61"},"A010",{"$f":"IFERROR(VLOOKUP(F1104,Discounts!A:C,3,0),0)","v":0},{"v":1987.61,"d":"€1,987.61"}]
[28050,134070,1,"Normal",0,"LUXE",{"$f":"IFERROR(VLOOKUP(F1105,Discounts!A:C,3,0),0)","v":0},0]
[28060,3100,1,"Normal",{"v":1561.98,"d":"€1,561.98"},"A010",{"$f":"IFERROR(VLOOKUP(F1106,Discounts!A:C,3,0),0)","v":0},{"v":1561.98,"d":"€1,561.98"}]
[28060,34260,1,"Normal",{"v":249.59,"d":"€249.59"},"LUXE",{"$f":"IFERROR(VLOOKUP(F1107,Discounts!A:C,3,0),0)","v":0},{"v":249.59,"d":"€249.59"}]
[28070,122510,1,"Combination",{"v":1811.57,"d":"€1,811.57"},"A010",{"$f":"IFERROR(VLOOKUP(F1108,Discounts!A:C,3,0),0)","v":0},{"v":1811.57,"d":"€1,811.57"}]
[28070,134070,1,"Normal",0,"LUXE",{"$f":"IFERROR(VLOOKUP(F1109,Discounts!A:C,3,0),0)","v":0},0]
[28080,3120,1,"Normal",{"v":1952.89,"d":"€1,952.89"},"A010",{"$f":"IFERROR(VLOOKUP(F1110,Discounts!A:C,3,0),0)","v":0},{"v":1952.89,"d":"€1,952.89"}]
[28080,34260,1,"Normal",{"v":249.59,"d":"€249.59"},"LUXE",{"$f":"IFERROR(VLOOKUP(F1111,Discounts!A:C,3,0),0)","v":0},{"v":249.59,"d":"€249.59"}]
[28090,122520,1,"Combination",{"v":2202.48,"d":"€2,202.48"},"A010",{"$f":"IFERROR(VLOOKUP(F1112,Discounts!A:C,3,0),0)","v":0},{"v":2202.48,"d":"€2,202.48"}]
[28090,134070,1,"Normal",0,"LUXE",{"$f":"IFERROR(VLOOKUP(F1113,Discounts!A:C,3,0),0)","v":0},0]
[28100,3140,1,"Normal",{"v":1952.89,"d":"€1,952.89"},"A010",{"$f":"IFERROR(VLOOKUP(F1114,Discounts!A:C,3,0),0)","v":0},{"v":1952.89,"d":"€1,952.89"}]
[28100,34260,1,"Normal",{"v":249.59,"d":"€249.59"},"LUXE",{"$f":"IFERROR(VLOOKUP(F1115,Discounts!A:C,3,0),0)","v":0},{"v":249.59,"d":"€249.59"}]
[28110,122530,1,"Combination",{"v":2202.48,"d":"€2,202.48"},"A010",{"$f":"IFERROR(VLOOKUP(F1116,Discounts!A:C,3,0),0)","v":0},{"v":2202.48,"d":"€2,202.48"}]
[28110,134070,1,"Normal",0,"LUXE",{"$f":"IFERROR(VLOOKUP(F1117,Discounts!A:C,3,0),0)","v":0},0]
[28120,3160,1,"Normal",{"v":2324.79,"d":"€2,324.79"},"A010",{"$f":"IFERROR(VLOOKUP(F1118,Discounts!A:C,3,0),0)","v":0},{"v":2324.79,"d":"€2,324.79"}]
[28120,34260,1,"Normal",{"v":249.59,"d":"€249.59"},"LUXE",{"$f":"IFERROR(VLOOKUP(F1119,Discounts!A:C,3,0),0)","v":0},{"v":249.59,"d":"€249.59"}]
[28130,122540,1,"Combination",{"v":2574.38,"d":"€2,574.38"},"A010",{"$f":"IFERROR(VLOOKUP(F1120,Discounts!A:C,3,0),0)","v":0},{"v":2574.38,"d":"€2,574.38"}]
[28130,134070,1,"Normal",0,"LUXE",{"$f":"IFERROR(VLOOKUP(F1121,Discounts!A:C,3,0),0)","v":0},0]
[28140,3180,1,"Normal",{"v":1602.48,"d":"€1,602.48"},"A010",{"$f":"IFERROR(VLOOKUP(F1122,Discounts!A:C,3,0),0)","v":0},{"v":1602.48,"d":"€1,602.48"}]
[28140,34260,1,"Normal",{"v":249.59,"d":"€249.59"},"LUXE",{"$f":"IFERROR(VLOOKUP(F1123,Discounts!A:C,3,0),0)","v":0},{"v":249.59,"d":"€249.59"}]
[28150,122550,1,"Combination",{"v":1852.07,"d":"€1,852.07"},"A010",{"$f":"IFERROR(VLOOKUP(F1124,Discounts!A:C,3,0),0)","v":0},{"v":1852.07,"d":"€1,852.07"}]
[28150,134070,1,"Normal",0,"LUXE",{"$f":"IFERROR(VLOOKUP(F1125,Discounts!A:C,3,0),0)","v":0},0]
[28160,3200,1,"Normal",{"v":2139.67,"d":"€2,139.67"},"A010",{"$f":"IFERROR(VLOOKUP(F1126,Discounts!A:C,3,0),0)","v":0},{"v":2139.67,"d":"€2,139.67"}]
[28160,34260,1,"Normal",{"v":249.59,"d":"€249.59"},"LUXE",{"$f":"IFERROR(VLOOKUP(F1127,Discounts!A:C,3,0),0)","v":0},{"v":249.59,"d":"€249.59"}]
[28170,122560,1,"Combination",{"v":2389.26,"d":"€2,389.26"},"A010",{"$f":"IFERROR(VLOOKUP(F1128,Discounts!A:C,3,0),0)","v":0},{"v":2389.26,"d":"€2,389.26"}]
[28170,134070,1,"Normal",0,"LUXE",{"$f":"IFERROR(VLOOKUP(F1129,Discounts!A:C,3,0),0)","v":0},0]
[28180,3220,1,"Normal",{"v":2433.06,"d":"€2,433.06"},"A010",{"$f":"IFERROR(VLOOKUP(F1130,Discounts!A:C,3,0),0)","v":0},{"v":2433.06,"d":"€2,433.06"}]
[28180,34260,1,"Normal",{"v":249.59,"d":"€249.59"},"LUXE",{"$f":"IFERROR(VLOOKUP(F1131,Discounts!A:C,3,0),0)","v":0},{"v":249.59,"d":"€249.59"}]
[28190,122570,1,"Combination",{"v":2682.65,"d":"€2,682.65"},"A010",{"$f":"IFERROR(VLOOKUP(F1132,Discounts!A:C,3,0),0)","v":0},{"v":2682.65,"d":"€2,682.65"}]
[28190,134070,1,"Normal",0,"LUXE",{"$f":"IFERROR(VLOOKUP(F1133,Discounts!A:C,3,0),0)","v":0},0]
[28200,3240,1,"Normal",{"v":2573.55,"d":"€2,573.55"},"A010",{"$f":"IFERROR(VLOOKUP(F1134,Discounts!A:C,3,0),0)","v":0},{"v":2573.55,"d":"€2,573.55"}]
[28200,34260,1,"Normal",{"v":249.59,"d":"€249.59"},"LUXE",{"$f":"IFERROR(VLOOKUP(F1135,Discounts!A:C,3,0),0)","v":0},{"v":249.59,"d":"€249.59"}]
[28210,122580,1,"Combination",{"v":2823.14,"d":"€2,823.14"},"A010",{"$f":"IFERROR(VLOOKUP(F1136,Discounts!A:C,3,0),0)","v":0},{"v":2823.1400000000003,"d":"€2,823.14"}]
[28210,134070,1,"Normal",0,"LUXE",{"$f":"IFERROR(VLOOKUP(F1137,Discounts!A:C,3,0),0)","v":0},0]
[28220,3260,1,"Normal",{"v":1382.64,"d":"€1,382.64"},"A010",{"$f":"IFERROR(VLOOKUP(F1138,Discounts!A:C,3,0),0)","v":0},{"v":1382.64,"d":"€1,382.64"}]
[28220,34260,1,"Normal",{"v":249.59,"d":"€249.59"},"LUXE",{"$f":"IFERROR(VLOOKUP(F1139,Discounts!A:C,3,0),0)","v":0},{"v":249.59,"d":"€249.59"}]
[28230,122590,1,"Combination",{"v":1632.23,"d":"€1,632.23"},"A010",{"$f":"IFERROR(VLOOKUP(F1140,Discounts!A:C,3,0),0)","v":0},{"v":1632.23,"d":"€1,632.23"}]
[28230,134070,1,"Normal",0,"LUXE",{"$f":"IFERROR(VLOOKUP(F1141,Discounts!A:C,3,0),0)","v":0},0]
[28240,3280,1,"Normal",{"v":1621.49,"d":"€1,621.49"},"A010",{"$f":"IFERROR(VLOOKUP(F1142,Discounts!A:C,3,0),0)","v":0},{"v":1621.49,"d":"€1,621.49"}]
[28240,34260,1,"Normal",{"v":249.59,"d":"€249.59"},"LUXE",{"$f":"IFERROR(VLOOKUP(F1143,Discounts!A:C,3,0),0)","v":0},{"v":249.59,"d":"€249.59"}]
[28250,122600,1,"Combination",{"v":1871.08,"d":"€1,871.08"},"A010",{"$f":"IFERROR(VLOOKUP(F1144,Discounts!A:C,3,0),0)","v":0},{"v":1871.08,"d":"€1,871.08"}]
[28250,134070,1,"Normal",0,"LUXE",{"$f":"IFERROR(VLOOKUP(F1145,Discounts!A:C,3,0),0)","v":0},0]
[28260,3300,1,"Normal",{"v":1624.79,"d":"€1,624.79"},"A010",{"$f":"IFERROR(VLOOKUP(F1146,Discounts!A:C,3,0),0)","v":0},{"v":1624.79,"d":"€1,624.79"}]
[28260,34260,1,"Normal",{"v":249.59,"d":"€249.59"},"LUXE",{"$f":"IFERROR(VLOOKUP(F1147,Discounts!A:C,3,0),0)","v":0},{"v":249.59,"d":"€249.59"}]
[28270,122610,1,"Combination",{"v":1874.38,"d":"€1,874.38"},"A010",{"$f":"IFERROR(VLOOKUP(F1148,Discounts!A:C,3,0),0)","v":0},{"v":1874.3799999999999,"d":"€1,874.38"}]
[28270,134070,1,"Normal",0,"LUXE",{"$f":"IFERROR(VLOOKUP(F1149,Discounts!A:C,3,0),0)","v":0},0]
[28280,3320,1,"Normal",{"v":1761.98,"d":"€1,761.98"},"A010",{"$f":"IFERROR(VLOOKUP(F1150,Discounts!A:C,3,0),0)","v":0},{"v":1761.98,"d":"€1,761.98"}]
[28280,34260,1,"Normal",{"v":249.59,"d":"€249.59"},"LUXE",{"$f":"IFERROR(VLOOKUP(F1151,Discounts!A:C,3,0),0)","v":0},{"v":249.59,"d":"€249.59"}]
[28290,122620,1,"Combination",{"v":2011.57,"d":"€2,011.57"},"A010",{"$f":"IFERROR(VLOOKUP(F1152,Discounts!A:C,3,0),0)","v":0},{"v":2011.57,"d":"€2,011.57"}]
[28290,134070,1,"Normal",0,"LUXE",{"$f":"IFERROR(VLOOKUP(F1153,Discounts!A:C,3,0),0)","v":0},0]
[28300,3340,1,"Normal",{"v":1766.94,"d":"€1,766.94"},"A010",{"$f":"IFERROR(VLOOKUP(F1154,Discounts!A:C,3,0),0)","v":0},{"$f":"IF(D1154=\"Normal\",E1154*(1-G1154),SUMIF(A:A,B1154,H:H)*C1154)","v":{"v":1766.94,"d":"€1,766.94"}}]
[28300,34260,1,"Normal",{"v":249.59,"d":"€249.59"},"LUXE",{"$f":"IFERROR(VLOOKUP(F1155,Discounts!A:C,3,0),0)","v":0},{"v":249.59,"d":"€249.59"}]
[28310,122630,1,"Combination",{"v":2016.53,"d":"€2,016.53"},"A010",{"$f":"IFERROR(VLOOKUP(F1156,Discounts!A:C,3,0),0)","v":0},{"v":2016.53,"d":"€2,016.53"}]
[28310,134070,1,"Normal",0,"LUXE",{"$f":"IFERROR(VLOOKUP(F1157,Discounts!A:C,3,0),0)","v":0},0]
[28320,3360,1,"Normal",{"v":1275.21,"d":"€1,275.21"},"A010",{"$f":"IFERROR(VLOOKUP(F1158,Discounts!A:C,3,0),0)","v":0},{"v":1275.21,"d":"€1,275.21"}]
[28320,34260,1,"Normal",{"v":249.59,"d":"€249.59"},"LUXE",{"$f":"IFERROR(VLOOKUP(F1159,Discounts!A:C,3,0),0)","v":0},{"v":249.59,"d":"€249.59"}]
[28330,122640,1,"Combination",{"v":1524.8,"d":"€1,524.80"},"A010",{"$f":"IFERROR(VLOOKUP(F1160,Discounts!A:C,3,0),0)","v":0},{"v":1524.8,"d":"€1,524.80"}]
[28330,134070,1,"Normal",0,"LUXE",{"$f":"IFERROR(VLOOKUP(F1161,Discounts!A:C,3,0),0)","v":0},0]
[28340,3380,1,"Normal",{"v":1462.81,"d":"€1,462.81"},"A010",{"$f":"IFERROR(VLOOKUP(F1162,Discounts!A:C,3,0),0)","v":0},{"v":1462.81,"d":"€1,462.81"}]
[28340,34260,1,"Normal",{"v":249.59,"d":"€249.59"},"LUXE",{"$f":"IFERROR(VLOOKUP(F1163,Discounts!A:C,3,0),0)","v":0},{"v":249.59,"d":"€249.59"}]
[28350,122650,1,"Combination",{"v":1712.4,"d":"€1,712.40"},"A010",{"$f":"IFERROR(VLOOKUP(F1164,Discounts!A:C,3,0),0)","v":0},{"v":1712.3999999999999,"d":"€1,712.40"}]
[28350,134070,1,"Normal",0,"LUXE",{"$f":"IFERROR(VLOOKUP(F1165,Discounts!A:C,3,0),0)","v":0},0]
[28360,3400,1,"Normal",{"v":1686.78,"d":"€1,686.78"},"A010",{"$f":"IFERROR(VLOOKUP(F1166,Discounts!A:C,3,0),0)","v":0},{"v":1686.78,"d":"€1,686.78"}]
[28360,34260,1,"Normal",{"v":249.59,"d":"€249.59"},"LUXE",{"$f":"IFERROR(VLOOKUP(F1167,Discounts!A:C,3,0),0)","v":0},{"v":249.59,"d":"€249.59"}]
[28370,122660,1,"Combination",{"v":1936.37,"d":"€1,936.37"},"A010",{"$f":"IFERROR(VLOOKUP(F1168,Discounts!A:C,3,0),0)","v":0},{"v":1936.37,"d":"€1,936.37"}]
[28370,134070,1,"Normal",0,"LUXE",{"$f":"IFERROR(VLOOKUP(F1169,Discounts!A:C,3,0),0)","v":0},0]
[28480,3520,1,"Normal",{"v":1760.33,"d":"€1,760.33"},"A010",{"$f":"IFERROR(VLOOKUP(F1170,Discounts!A:C,3,0),0)","v":0},{"v":1760.33,"d":"€1,760.33"}]
[28480,34260,1,"Normal",{"v":249.59,"d":"€249.59"},"LUXE",{"$f":"IFERROR(VLOOKUP(F1171,Discounts!A:C,3,0),0)","v":0},{"v":249.59,"d":"€249.59"}]
[28490,122670,1,"Combination",{"v":2009.92,"d":"€2,009.92"},"A010",{"$f":"IFERROR(VLOOKUP(F1172,Discounts!A:C,3,0),0)","v":0},{"v":2009.9199999999998,"d":"€2,009.92"}]
[28490,134070,1,"Normal",0,"LUXE",{"$f":"IFERROR(VLOOKUP(F1173,Discounts!A:C,3,0),0)","v":0},0]
[28500,3540,1,"Normal",{"v":1815.7,"d":"€1,815.70"},"A010",{"$f":"IFERROR(VLOOKUP(F1174,Discounts!A:C,3,0),0)","v":0},{"v":1815.7,"d":"€1,815.70"}]
[28500,34260,1,"Normal",{"v":249.59,"d":"€249.59"},"LUXE",{"$f":"IFERROR(VLOOKUP(F1175,Discounts!A:C,3,0),0)","v":0},{"v":249.59,"d":"€249.59"}]
[28510,122680,1,"Combination",{"v":2065.29,"d":"€2,065.29"},"A010",{"$f":"IFERROR(VLOOKUP(F1176,Discounts!A:C,3,0),0)","v":0},{"v":2065.29,"d":"€2,065.29"}]
[28510,134070,1,"Normal",0,"LUXE",{"$f":"IFERROR(VLOOKUP(F1177,Discounts!A:C,3,0),0)","v":0},0]
[28520,3560,1,"Normal",{"v":1839.67,"d":"€1,839.67"},"A010",{"$f":"IFERROR(VLOOKUP(F1178,Discounts!A:C,3,0),0)","v":0},{"v":1839.67,"d":"€1,839.67"}]
[28520,34260,1,"Normal",{"v":249.59,"d":"€249.59"},"LUXE",{"$f":"IFERROR(VLOOKUP(F1179,Discounts!A:C,3,0),0)","v":0},{"v":249.59,"d":"€249.59"}]
[28530,122690,1,"Combination",{"v":2089.26,"d":"€2,089.26"},"A010",{"$f":"IFERROR(VLOOKUP(F1180,Discounts!A:C,3,0),0)","v":0},{"v":2089.26,"d":"€2,089.26"}]
[28530,134070,1,"Normal",0,"LUXE",{"$f":"IFERROR(VLOOKUP(F1181,Discounts!A:C,3,0),0)","v":0},0]
[28540,3580,1,"Normal",{"v":1561.98,"d":"€1,561.98"},"A010",{"$f":"IFERROR(VLOOKUP(F1182,Discounts!A:C,3,0),0)","v":0},{"v":1561.98,"d":"€1,561.98"}]
[28540,34260,1,"Normal",{"v":249.59,"d":"€249.59"},"LUXE",{"$f":"IFERROR(VLOOKUP(F1183,Discounts!A:C,3,0),0)","v":0},{"v":249.59,"d":"€249.59"}]
[28550,122700,1,"Combination",{"v":1811.57,"d":"€1,811.57"},"A010",{"$f":"IFERROR(VLOOKUP(F1184,Discounts!A:C,3,0),0)","v":0},{"v":1811.57,"d":"€1,811.57"}]
[28550,134070,1,"Normal",0,"LUXE",{"$f":"IFERROR(VLOOKUP(F1185,Discounts!A:C,3,0),0)","v":0},0]
[28560,3600,1,"Normal",{"v":1760.33,"d":"€1,760.33"},"A010",{"$f":"IFERROR(VLOOKUP(F1186,Discounts!A:C,3,0),0)","v":0},{"v":1760.33,"d":"€1,760.33"}]
[28560,34260,1,"Normal",{"v":249.59,"d":"€249.59"},"LUXE",{"$f":"IFERROR(VLOOKUP(F1187,Discounts!A:C,3,0),0)","v":0},{"v":249.59,"d":"€249.59"}]
[28570,122710,1,"Combination",{"v":2009.92,"d":"€2,009.92"},"A010",{"$f":"IFERROR(VLOOKUP(F1188,Discounts!A:C,3,0),0)","v":0},{"v":2009.9199999999998,"d":"€2,009.92"}]
[28570,134070,1,"Normal",0,"LUXE",{"$f":"IFERROR(VLOOKUP(F1189,Discounts!A:C,3,0),0)","v":0},0]
[28580,3620,1,"Normal",{"v":1839.67,"d":"€1,839.67"},"A010",{"$f":"IFERROR(VLOOKUP(F1190,Discounts!A:C,3,0),0)","v":0},{"v":1839.67,"d":"€1,839.67"}]
[28580,34260,1,"Normal",{"v":249.59,"d":"€249.59"},"LUXE",{"$f":"IFERROR(VLOOKUP(F1191,Discounts!A:C,3,0),0)","v":0},{"v":249.59,"d":"€249.59"}]
[28590,122720,1,"Combination",{"v":2089.26,"d":"€2,089.26"},"A010",{"$f":"IFERROR(VLOOKUP(F1192,Discounts!A:C,3,0),0)","v":0},{"v":2089.26,"d":"€2,089.26"}]
[28590,134070,1,"Normal",0,"LUXE",{"$f":"IFERROR(VLOOKUP(F1193,Discounts!A:C,3,0),0)","v":0},0]
[28600,3640,1,"Normal",{"v":1876.03,"d":"€1,876.03"},"A010",{"$f":"IFERROR(VLOOKUP(F1194,Discounts!A:C,3,0),0)","v":0},{"v":1876.03,"d":"€1,876.03"}]
[28600,34260,1,"Normal",{"v":249.59,"d":"€249.59"},"LUXE",{"$f":"IFERROR(VLOOKUP(F1195,Discounts!A:C,3,0),0)","v":0},{"v":249.59,"d":"€249.59"}]
[28610,122730,1,"Combination",{"v":2125.62,"d":"€2,125.62"},"A010",{"$f":"IFERROR(VLOOKUP(F1196,Discounts!A:C,3,0),0)","v":0},{"v":2125.62,"d":"€2,125.62"}]
[28610,134070,1,"Normal",0,"LUXE",{"$f":"IFERROR(VLOOKUP(F1197,Discounts!A:C,3,0),0)","v":0},0]
[28620,3660,1,"Normal",{"v":2059.5,"d":"€2,059.50"},"A010",{"$f":"IFERROR(VLOOKUP(F1198,Discounts!A:C,3,0),0)","v":0},{"v":2059.5,"d":"€2,059.50"}]
[28620,34260,1,"Normal",{"v":249.59,"d":"€249.59"},"LUXE",{"$f":"IFERROR(VLOOKUP(F1199,Discounts!A:C,3,0),0)","v":0},{"v":249.59,"d":"€249.59"}]
[28630,122740,1,"Combination",{"v":2309.09,"d":"€2,309.09"},"A010",{"$f":"IFERROR(VLOOKUP(F1200,Discounts!A:C,3,0),0)","v":0},{"v":2309.09,"d":"€2,309.09"}]
[28630,134070,1,"Normal",0,"LUXE",{"$f":"IFERROR(VLOOKUP(F1201,Discounts!A:C,3,0),0)","v":0},0]
[28640,3680,1,"Normal",{"v":1620.66,"d":"€1,620.66"},"A010",{"$f":"IFERROR(VLOOKUP(F1202,Discounts!A:C,3,0),0)","v":0},{"v":1620.66,"d":"€1,620.66"}]
[28640,34260,1,"Normal",{"v":249.59,"d":"€249.59"},"LUXE",{"$f":"IFERROR(VLOOKUP(F1203,Discounts!A:C,3,0),0)","v":0},{"v":249.59,"d":"€249.59"}]
[28650,122750,1,"Combination",{"v":1870.25,"d":"€1,870.25"},"A010",{"$f":"IFERROR(VLOOKUP(F1204,Discounts!A:C,3,0),0)","v":0},{"v":1870.25,"d":"€1,870.25"}]
[28650,134070,1,"Normal",0,"LUXE",{"$f":"IFERROR(VLOOKUP(F1205,Discounts!A:C,3,0),0)","v":0},0]
[28660,3700,1,"Normal",{"v":1828.93,"d":"€1,828.93"},"A010",{"$f":"IFERROR(VLOOKUP(F1206,Discounts!A:C,3,0),0)","v":0},{"v":1828.93,"d":"€1,828.93"}]
[28660,34260,1,"Normal",{"v":249.59,"d":"€249.59"},"LUXE",{"$f":"IFERROR(VLOOKUP(F1207,Discounts!A:C,3,0),0)","v":0},{"v":249.59,"d":"€249.59"}]
[28670,122760,1,"Combination",{"v":2078.52,"d":"€2,078.52"},"A010",{"$f":"IFERROR(VLOOKUP(F1208,Discounts!A:C,3,0),0)","v":0},{"v":2078.52,"d":"€2,078.52"}]
[28670,134070,1,"Normal",0,"LUXE",{"$f":"IFERROR(VLOOKUP(F1209,Discounts!A:C,3,0),0)","v":0},0]
[28680,3720,1,"Normal",{"v":1781.82,"d":"€1,781.82"},"A010",{"$f":"IFERROR(VLOOKUP(F1210,Discounts!A:C,3,0),0)","v":0},{"v":1781.82,"d":"€1,781.82"}]
[28680,34260,1,"Normal",{"v":249.59,"d":"€249.59"},"LUXE",{"$f":"IFERROR(VLOOKUP(F1211,Discounts!A:C,3,0),0)","v":0},{"v":249.59,"d":"€249.59"}]
[28690,122770,1,"Combination",{"v":2031.41,"d":"€2,031.41"},"A010",{"$f":"IFERROR(VLOOKUP(F1212,Discounts!A:C,3,0),0)","v":0},{"v":2031.4099999999999,"d":"€2,031.41"}]
[28690,134070,1,"Normal",0,"LUXE",{"$f":"IFERROR(VLOOKUP(F1213,Discounts!A:C,3,0),0)","v":0},0]
[28700,3740,1,"Normal",{"v":1885.95,"d":"€1,885.95"},"A010",{"$f":"IFERROR(VLOOKUP(F1214,Discounts!A:C,3,0),0)","v":0},{"v":1885.95,"d":"€1,885.95"}]
[28700,34260,1,"Normal",{"v":249.59,"d":"€249.59"},"LUXE",{"$f":"IFERROR(VLOOKUP(F1215,Discounts!A:C,3,0),0)","v":0},{"v":249.59,"d":"€249.59"}]
[28710,122780,1,"Combination",{"v":2135.54,"d":"€2,135.54"},"A010",{"$f":"IFERROR(VLOOKUP(F1216,Discounts!A:C,3,0),0)","v":0},{"v":2135.54,"d":"€2,135.54"}]
[28710,134070,1,"Normal",0,"LUXE",{"$f":"IFERROR(VLOOKUP(F1217,Discounts!A:C,3,0),0)","v":0},0]
[28720,3760,1,"Normal",{"v":1876.03,"d":"€1,876.03"},"A010",{"$f":"IFERROR(VLOOKUP(F1218,Discounts!A:C,3,0),0)","v":0},{"$f":"IF(D1218=\"Normal\",E1218*(1-G1218),SUMIF(A:A,B1218,H:H)*C1218)","v":{"v":1876.03,"d":"€1,876.03"}}]
[28720,34260,1,"Normal",{"v":249.59,"d":"€249.59"},"LUXE",{"$f":"IFERROR(VLOOKUP(F1219,Discounts!A:C,3,0),0)","v":0},{"v":249.59,"d":"€249.59"}]
[28730,122790,1,"Combination",{"v":2125.62,"d":"€2,125.62"},"A010",{"$f":"IFERROR(VLOOKUP(F1220,Discounts!A:C,3,0),0)","v":0},{"v":2125.62,"d":"€2,125.62"}]
[28730,134070,1,"Normal",0,"LUXE",{"$f":"IFERROR(VLOOKUP(F1221,Discounts!A:C,3,0),0)","v":0},0]
[28740,3780,1,"Normal",{"v":1885.95,"d":"€1,885.95"},"A010",{"$f":"IFERROR(VLOOKUP(F1222,Discounts!A:C,3,0),0)","v":0},{"v":1885.95,"d":"€1,885.95"}]
[28740,34260,1,"Normal",{"v":249.59,"d":"€249.59"},"LUXE",{"$f":"IFERROR(VLOOKUP(F1223,Discounts!A:C,3,0),0)","v":0},{"v":249.59,"d":"€249.59"}]
[28750,122800,1,"Combination",{"v":2135.54,"d":"€2,135.54"},"A010",{"$f":"IFERROR(VLOOKUP(F1224,Discounts!A:C,3,0),0)","v":0},{"v":2135.54,"d":"€2,135.54"}]
[28750,134070,1,"Normal",0,"LUXE",{"$f":"IFERROR(VLOOKUP(F1225,Discounts!A:C,3,0),0)","v":0},0]
[28760,3800,1,"Normal",{"v":1738.02,"d":"€1,738.02"},"A010",{"$f":"IFERROR(VLOOKUP(F1226,Discounts!A:C,3,0),0)","v":0},{"v":1738.02,"d":"€1,738.02"}]
[28760,34260,1,"Normal",{"v":249.59,"d":"€249.59"},"LUXE",{"$f":"IFERROR(VLOOKUP(F1227,Discounts!A:C,3,0),0)","v":0},{"v":249.59,"d":"€249.59"}]
[28770,122810,1,"Combination",{"v":1987.61,"d":"€1,987.61"},"A010",{"$f":"IFERROR(VLOOKUP(F1228,Discounts!A:C,3,0),0)","v":0},{"v":1987.61,"d":"€1,987.61"}]
[28770,134070,1,"Normal",0,"LUXE",{"$f":"IFERROR(VLOOKUP(F1229,Discounts!A:C,3,0),0)","v":0},0]
[28780,3820,1,"Normal",{"v":1936.36,"d":"€1,936.36"},"A010",{"$f":"IFERROR(VLOOKUP(F1230,Discounts!A:C,3,0),0)","v":0},{"v":1936.36,"d":"€1,936.36"}]
[28780,34260,1,"Normal",{"v":249.59,"d":"€249.59"},"LUXE",{"$f":"IFERROR(VLOOKUP(F1231,Discounts!A:C,3,0),0)","v":0},{"v":249.59,"d":"€249.59"}]
[28790,122820,1,"Combination",{"v":2185.95,"d":"€2,185.95"},"A010",{"$f":"IFERROR(VLOOKUP(F1232,Discounts!A:C,3,0),0)","v":0},{"v":2185.95,"d":"€2,185.95"}]
[28790,134070,1,"Normal",0,"LUXE",{"$f":"IFERROR(VLOOKUP(F1233,Discounts!A:C,3,0),0)","v":0},0]
[28800,3840,1,"Normal",{"v":1989.26,"d":"€1,989.26"},"A010",{"$f":"IFERROR(VLOOKUP(F1234,Discounts!A:C,3,0),0)","v":0},{"v":1989.26,"d":"€1,989.26"}]
[28800,34260,1,"Normal",{"v":249.59,"d":"€249.59"},"LUXE",{"$f":"IFERROR(VLOOKUP(F1235,Discounts!A:C,3,0),0)","v":0},{"v":249.59,"d":"€249.59"}]
[28810,122830,1,"Combination",{"v":2238.85,"d":"€2,238.85"},"A010",{"$f":"IFERROR(VLOOKUP(F1236,Discounts!A:C,3,0),0)","v":0},{"v":2238.85,"d":"€2,238.85"}]
[28810,134070,1,"Normal",0,"LUXE",{"$f":"IFERROR(VLOOKUP(F1237,Discounts!A:C,3,0),0)","v":0},0]
[28820,3860,1,"Normal",{"v":2057.85,"d":"€2,057.85"},"A010",{"$f":"IFERROR(VLOOKUP(F1238,Discounts!A:C,3,0),0)","v":0},{"v":2057.85,"d":"€2,057.85"}]
[28820,34260,1,"Normal",{"v":249.59,"d":"€249.59"},"LUXE",{"$f":"IFERROR(VLOOKUP(F1239,Discounts!A:C,3,0),0)","v":0},{"v":249.59,"d":"€249.59"}]
[28830,122840,1,"Combination",{"v":2307.44,"d":"€2,307.44"},"A010",{"$f":"IFERROR(VLOOKUP(F1240,Discounts!A:C,3,0),0)","v":0},{"v":2307.44,"d":"€2,307.44"}]
[28830,134070,1,"Normal",0,"LUXE",{"$f":"IFERROR(VLOOKUP(F1241,Discounts!A:C,3,0),0)","v":0},0]
[28840,3880,1,"Normal",{"v":1393.39,"d":"€1,393.39"},"A010",{"$f":"IFERROR(VLOOKUP(F1242,Discounts!A:C,3,0),0)","v":0},{"v":1393.39,"d":"€1,393.39"}]
[28840,34260,1,"Normal",{"v":249.59,"d":"€249.59"},"LUXE",{"$f":"IFERROR(VLOOKUP(F1243,Discounts!A:C,3,0),0)","v":0},{"v":249.59,"d":"€249.59"}]
[28850,122850,1,"Combination",{"v":1642.98,"d":"€1,642.98"},"A010",{"$f":"IFERROR(VLOOKUP(F1244,Discounts!A:C,3,0),0)","v":0},{"v":1642.98,"d":"€1,642.98"}]
[28850,134070,1,"Normal",0,"LUXE",{"$f":"IFERROR(VLOOKUP(F1245,Discounts!A:C,3,0),0)","v":0},0]
[28860,3900,1,"Normal",{"v":1354.55,"d":"€1,354.55"},"A010",{"$f":"IFERROR(VLOOKUP(F1246,Discounts!A:C,3,0),0)","v":0},{"v":1354.55,"d":"€1,354.55"}]
[28860,34260,1,"Normal",{"v":249.59,"d":"€249.59"},"LUXE",{"$f":"IFERROR(VLOOKUP(F1247,Discounts!A:C,3,0),0)","v":0},{"v":249.59,"d":"€249.59"}]
[28870,122860,1,"Combination",{"v":1604.14,"d":"€1,604.14"},"A010",{"$f":"IFERROR(VLOOKUP(F1248,Discounts!A:C,3,0),0)","v":0},{"v":1604.1399999999999,"d":"€1,604.14"}]
[28870,134070,1,"Normal",0,"LUXE",{"$f":"IFERROR(VLOOKUP(F1249,Discounts!A:C,3,0),0)","v":0},0]
[28880,3920,1,"Normal",{"v":1576.03,"d":"€1,576.03"},"A010",{"$f":"IFERROR(VLOOKUP(F1250,Discounts!A:C,3,0),0)","v":0},{"v":1576.03,"d":"€1,576.03"}]
[28880,34260,1,"Normal",{"v":249.59,"d":"€249.59"},"LUXE",{"$f":"IFERROR(VLOOKUP(F1251,Discounts!A:C,3,0),0)","v":0},{"v":249.59,"d":"€249.59"}]
[28890,122870,1,"Combination",{"v":1825.62,"d":"€1,825.62"},"A010",{"$f":"IFERROR(VLOOKUP(F1252,Discounts!A:C,3,0),0)","v":0},{"v":1825.62,"d":"€1,825.62"}]
[28890,134070,1,"Normal",0,"LUXE",{"$f":"IFERROR(VLOOKUP(F1253,Discounts!A:C,3,0),0)","v":0},0]
[28900,3940,1,"Normal",{"v":1398.35,"d":"€1,398.35"},"A010",{"$f":"IFERROR(VLOOKUP(F1254,Discounts!A:C,3,0),0)","v":0},{"v":1398.35,"d":"€1,398.35"}]
[28900,34260,1,"Normal",{"v":249.59,"d":"€249.59"},"LUXE",{"$f":"IFERROR(VLOOKUP(F1255,Discounts!A:C,3,0),0)","v":0},{"v":249.59,"d":"€249.59"}]
[28910,122880,1,"Combination",{"v":1647.94,"d":"€1,647.94"},"A010",{"$f":"IFERROR(VLOOKUP(F1256,Discounts!A:C,3,0),0)","v":0},{"v":1647.9399999999998,"d":"€1,647.94"}]
[28910,134070,1,"Normal",0,"LUXE",{"$f":"IFERROR(VLOOKUP(F1257,Discounts!A:C,3,0),0)","v":0},0]
[28920,3960,1,"Normal",{"v":1576.03,"d":"€1,576.03"},"A010",{"$f":"IFERROR(VLOOKUP(F1258,Discounts!A:C,3,0),0)","v":0},{"v":1576.03,"d":"€1,576.03"}]
[28920,34260,1,"Normal",{"v":249.59,"d":"€249.59"},"LUXE",{"$f":"IFERROR(VLOOKUP(F1259,Discounts!A:C,3,0),0)","v":0},{"v":249.59,"d":"€249.59"}]
[28930,122890,1,"Combination",{"v":1825.62,"d":"€1,825.62"},"A010",{"$f":"IFERROR(VLOOKUP(F1260,Discounts!A:C,3,0),0)","v":0},{"v":1825.62,"d":"€1,825.62"}]
[28930,134070,1,"Normal",0,"LUXE",{"$f":"IFERROR(VLOOKUP(F1261,Discounts!A:C,3,0),0)","v":0},0]
[28940,3980,1,"Normal",{"v":1597.52,"d":"€1,597.52"},"A010",{"$f":"IFERROR(VLOOKUP(F1262,Discounts!A:C,3,0),0)","v":0},{"v":1597.52,"d":"€1,597.52"}]
[28940,34260,1,"Normal",{"v":249.59,"d":"€249.59"},"LUXE",{"$f":"IFERROR(VLOOKUP(F1263,Discounts!A:C,3,0),0)","v":0},{"v":249.59,"d":"€249.59"}]
[28950,122900,1,"Combination",{"v":1847.11,"d":"€1,847.11"},"A010",{"$f":"IFERROR(VLOOKUP(F1264,Discounts!A:C,3,0),0)","v":0},{"v":1847.11,"d":"€1,847.11"}]
[28950,134070,1,"Normal",0,"LUXE",{"$f":"IFERROR(VLOOKUP(F1265,Discounts!A:C,3,0),0)","v":0},0]
[28960,4000,1,"Normal",{"v":1647.93,"d":"€1,647.93"},"A010",{"$f":"IFERROR(VLOOKUP(F1266,Discounts!A:C,3,0),0)","v":0},{"v":1647.93,"d":"€1,647.93"}]
[28960,34260,1,"Normal",{"v":249.59,"d":"€249.59"},"LUXE",{"$f":"IFERROR(VLOOKUP(F1267,Discounts!A:C,3,0),0)","v":0},{"v":249.59,"d":"€249.59"}]
[28970,122910,1,"Combination",{"v":1897.52,"d":"€1,897.52"},"A010",{"$f":"IFERROR(VLOOKUP(F1268,Discounts!A:C,3,0),0)","v":0},{"v":1897.52,"d":"€1,897.52"}]
[28970,134070,1,"Normal",0,"LUXE",{"$f":"IFERROR(VLOOKUP(F1269,Discounts!A:C,3,0),0)","v":0},0]
[28980,4020,1,"Normal",{"v":1471.9,"d":"€1,471.90"},"A010",{"$f":"IFERROR(VLOOKUP(F1270,Discounts!A:C,3,0),0)","v":0},{"v":1471.9,"d":"€1,471.90"}]
[28980,34260,1,"Normal",{"v":249.59,"d":"€249.59"},"LUXE",{"$f":"IFERROR(VLOOKUP(F1271,Discounts!A:C,3,0),0)","v":0},{"v":249.59,"d":"€249.59"}]
[28990,122920,1,"Combination",{"v":1721.49,"d":"€1,721.49"},"A010",{"$f":"IFERROR(VLOOKUP(F1272,Discounts!A:C,3,0),0)","v":0},{"v":1721.49,"d":"€1,721.49"}]
[28990,134070,1,"Normal",0,"LUXE",{"$f":"IFERROR(VLOOKUP(F1273,Discounts!A:C,3,0),0)","v":0},0]
[29000,4040,1,"Normal",{"v":1647.93,"d":"€1,647.93"},"A010",{"$f":"IFERROR(VLOOKUP(F1274,Discounts!A:C,3,0),0)","v":0},{"v":1647.93,"d":"€1,647.93"}]
[29000,34260,1,"Normal",{"v":249.59,"d":"€249.59"},"LUXE",{"$f":"IFERROR(VLOOKUP(F1275,Discounts!A:C,3,0),0)","v":0},{"v":249.59,"d":"€249.59"}]
[29010,122930,1,"Combination",{"v":1897.52,"d":"€1,897.52"},"A010",{"$f":"IFERROR(VLOOKUP(F1276,Discounts!A:C,3,0),0)","v":0},{"v":1897.52,"d":"€1,897.52"}]
[29010,134070,1,"Normal",0,"LUXE",{"$f":"IFERROR(VLOOKUP(F1277,Discounts!A:C,3,0),0)","v":0},0]
[29020,4060,1,"Normal",{"v":1738.02,"d":"€1,738.02"},"A010",{"$f":"IFERROR(VLOOKUP(F1278,Discounts!A:C,3,0),0)","v":0},{"v":1738.02,"d":"€1,738.02"}]
[29020,34260,1,"Normal",{"v":249.59,"d":"€249.59"},"LUXE",{"$f":"IFERROR(VLOOKUP(F1279,Discounts!A:C,3,0),0)","v":0},{"v":249.59,"d":"€249.59"}]
[29030,122940,1,"Combination",{"v":1987.61,"d":"€1,987.61"},"A010",{"$f":"IFERROR(VLOOKUP(F1280,Discounts!A:C,3,0),0)","v":0},{"v":1987.61,"d":"€1,987.61"}]
[29030,134070,1,"Normal",0,"LUXE",{"$f":"IFERROR(VLOOKUP(F1281,Discounts!A:C,3,0),0)","v":0},0]
[29040,4080,1,"Normal",{"v":1794.21,"d":"€1,794.21"},"A010",{"$f":"IFERROR(VLOOKUP(F1282,Discounts!A:C,3,0),0)","v":0},{"$f":"IF(D1282=\"Normal\",E1282*(1-G1282),SUMIF(A:A,B1282,H:H)*C1282)","v":{"v":1794.21,"d":"€1,794.21"}}]
[29040,34260,1,"Normal",{"v":249.59,"d":"€249.59"},"LUXE",{"$f":"IFERROR(VLOOKUP(F1283,Discounts!A:C,3,0),0)","v":0},{"v":249.59,"d":"€249.59"}]
[29050,122950,1,"Combination",{"v":2043.8,"d":"€2,043.80"},"A010",{"$f":"IFERROR(VLOOKUP(F1284,Discounts!A:C,3,0),0)","v":0},{"v":2043.8,"d":"€2,043.80"}]
[29050,134070,1,"Normal",0,"LUXE",{"$f":"IFERROR(VLOOKUP(F1285,Discounts!A:C,3,0),0)","v":0},0]
[29060,4100,1,"Normal",{"v":1471.9,"d":"€1,471.90"},"A010",{"$f":"IFERROR(VLOOKUP(F1286,Discounts!A:C,3,0),0)","v":0},{"v":1471.9,"d":"€1,471.90"}]
[29060,34260,1,"Normal",{"v":249.59,"d":"€249.59"},"LUXE",{"$f":"IFERROR(VLOOKUP(F1287,Discounts!A:C,3,0),0)","v":0},{"v":249.59,"d":"€249.59"}]
[29070,122960,1,"Combination",{"v":1721.49,"d":"€1,721.49"},"A010",{"$f":"IFERROR(VLOOKUP(F1288,Discounts!A:C,3,0),0)","v":0},{"v":1721.49,"d":"€1,721.49"}]
[29070,134070,1,"Normal",0,"LUXE",{"$f":"IFERROR(VLOOKUP(F1289,Discounts!A:C,3,0),0)","v":0},0]
[29080,4120,1,"Normal",{"v":1647.93,"d":"€1,647.93"},"A010",{"$f":"IFERROR(VLOOKUP(F1290,Discounts!A:C,3,0),0)","v":0},{"v":1647.93,"d":"€1,647.93"}]
[29080,34260,1,"Normal",{"v":249.59,"d":"€249.59"},"LUXE",{"$f":"IFERROR(VLOOKUP(F1291,Discounts!A:C,3,0),0)","v":0},{"v":249.59,"d":"€249.59"}]
[29090,122970,1,"Combination",{"v":1897.52,"d":"€1,897.52"},"A010",{"$f":"IFERROR(VLOOKUP(F1292,Discounts!A:C,3,0),0)","v":0},{"v":1897.52,"d":"€1,897.52"}]
[29090,134070,1,"Normal",0,"LUXE",{"$f":"IFERROR(VLOOKUP(F1293,Discounts!A:C,3,0),0)","v":0},0]
[29100,4140,1,"Normal",{"v":1738.02,"d":"€1,738.02"},"A010",{"$f":"IFERROR(VLOOKUP(F1294,Discounts!A:C,3,0),0)","v":0},{"v":1738.02,"d":"€1,738.02"}]
[29100,34260,1,"Normal",{"v":249.59,"d":"€249.59"},"LUXE",{"$f":"IFERROR(VLOOKUP(F1295,Discounts!A:C,3,0),0)","v":0},{"v":249.59,"d":"€249.59"}]
[29110,122980,1,"Combination",{"v":1987.61,"d":"€1,987.61"},"A010",{"$f":"IFERROR(VLOOKUP(F1296,Discounts!A:C,3,0),0)","v":0},{"v":1987.61,"d":"€1,987.61"}]
[29110,134070,1,"Normal",0,"LUXE",{"$f":"IFERROR(VLOOKUP(F1297,Discounts!A:C,3,0),0)","v":0},0]
[29120,4160,1,"Normal",{"v":1794.21,"d":"€1,794.21"},"A010",{"$f":"IFERROR(VLOOKUP(F1298,Discounts!A:C,3,0),0)","v":0},{"v":1794.21,"d":"€1,794.21"}]
[29120,34260,1,"Normal",{"v":249.59,"d":"€249.59"},"LUXE",{"$f":"IFERROR(VLOOKUP(F1299,Discounts!A:C,3,0),0)","v":0},{"v":249.59,"d":"€249.59"}]
[29130,122990,1,"Combination",{"v":2043.8,"d":"€2,043.80"},"A010",{"$f":"IFERROR(VLOOKUP(F1300,Discounts!A:C,3,0),0)","v":0},{"v":2043.8,"d":"€2,043.80"}]
[29130,134070,1,"Normal",0,"LUXE",{"$f":"IFERROR(VLOOKUP(F1301,Discounts!A:C,3,0),0)","v":0},0]
[29140,4180,1,"Normal",{"v":1438.02,"d":"€1,438.02"},"A010",{"$f":"IFERROR(VLOOKUP(F1302,Discounts!A:C,3,0),0)","v":0},{"v":1438.02,"d":"€1,438.02"}]
[29140,34260,1,"Normal",{"v":249.59,"d":"€249.59"},"LUXE",{"$f":"IFERROR(VLOOKUP(F1303,Discounts!A:C,3,0),0)","v":0},{"v":249.59,"d":"€249.59"}]
[29150,123000,1,"Combination",{"v":1687.61,"d":"€1,687.61"},"A010",{"$f":"IFERROR(VLOOKUP(F1304,Discounts!A:C,3,0),0)","v":0},{"v":1687.61,"d":"€1,687.61"}]
[29150,134070,1,"Normal",0,"LUXE",{"$f":"IFERROR(VLOOKUP(F1305,Discounts!A:C,3,0),0)","v":0},0]
[29160,4200,1,"Normal",{"v":1276.03,"d":"€1,276.03"},"A010",{"$f":"IFERROR(VLOOKUP(F1306,Discounts!A:C,3,0),0)","v":0},{"v":1276.03,"d":"€1,276.03"}]
[29160,34260,1,"Normal",{"v":249.59,"d":"€249.59"},"LUXE",{"$f":"IFERROR(VLOOKUP(F1307,Discounts!A:C,3,0),0)","v":0},{"v":249.59,"d":"€249.59"}]
[29170,123010,1,"Combination",{"v":1525.62,"d":"€1,525.62"},"A010",{"$f":"IFERROR(VLOOKUP(F1308,Discounts!A:C,3,0),0)","v":0},{"v":1525.62,"d":"€1,525.62"}]
[29170,134070,1,"Normal",0,"LUXE",{"$f":"IFERROR(VLOOKUP(F1309,Discounts!A:C,3,0),0)","v":0},0]
[29180,4220,1,"Normal",{"v":1495.04,"d":"€1,495.04"},"A010",{"$f":"IFERROR(VLOOKUP(F1310,Discounts!A:C,3,0),0)","v":0},{"v":1495.04,"d":"€1,495.04"}]
[29180,34260,1,"Normal",{"v":249.59,"d":"€249.59"},"LUXE",{"$f":"IFERROR(VLOOKUP(F1311,Discounts!A:C,3,0),0)","v":0},{"v":249.59,"d":"€249.59"}]
[29190,123020,1,"Combination",{"v":1744.63,"d":"€1,744.63"},"A010",{"$f":"IFERROR(VLOOKUP(F1312,Discounts!A:C,3,0),0)","v":0},{"v":1744.6299999999999,"d":"€1,744.63"}]
[29190,134070,1,"Normal",0,"LUXE",{"$f":"IFERROR(VLOOKUP(F1313,Discounts!A:C,3,0),0)","v":0},0]
[29200,4240,1,"Normal",{"v":1458.68,"d":"€1,458.68"},"A010",{"$f":"IFERROR(VLOOKUP(F1314,Discounts!A:C,3,0),0)","v":0},{"v":1458.68,"d":"€1,458.68"}]
[29200,34260,1,"Normal",{"v":249.59,"d":"€249.59"},"LUXE",{"$f":"IFERROR(VLOOKUP(F1315,Discounts!A:C,3,0),0)","v":0},{"v":249.59,"d":"€249.59"}]
[29210,123030,1,"Combination",{"v":1708.27,"d":"€1,708.27"},"A010",{"$f":"IFERROR(VLOOKUP(F1316,Discounts!A:C,3,0),0)","v":0},{"v":1708.27,"d":"€1,708.27"}]
[29210,134070,1,"Normal",0,"LUXE",{"$f":"IFERROR(VLOOKUP(F1317,Discounts!A:C,3,0),0)","v":0},0]
[29220,4260,1,"Normal",{"v":1597.52,"d":"€1,597.52"},"A010",{"$f":"IFERROR(VLOOKUP(F1318,Discounts!A:C,3,0),0)","v":0},{"v":1597.52,"d":"€1,597.52"}]
[29220,34260,1,"Normal",{"v":249.59,"d":"€249.59"},"LUXE",{"$f":"IFERROR(VLOOKUP(F1319,Discounts!A:C,3,0),0)","v":0},{"v":249.59,"d":"€249.59"}]
[29230,123040,1,"Combination",{"v":1847.11,"d":"€1,847.11"},"A010",{"$f":"IFERROR(VLOOKUP(F1320,Discounts!A:C,3,0),0)","v":0},{"v":1847.11,"d":"€1,847.11"}]
[29230,134070,1,"Normal",0,"LUXE",{"$f":"IFERROR(VLOOKUP(F1321,Discounts!A:C,3,0),0)","v":0},0]
[29240,4280,1,"Normal",{"v":1530.58,"d":"€1,530.58"},"A010",{"$f":"IFERROR(VLOOKUP(F1322,Discounts!A:C,3,0),0)","v":0},{"v":1530.58,"d":"€1,530.58"}]
[29240,34260,1,"Normal",{"v":249.59,"d":"€249.59"},"LUXE",{"$f":"IFERROR(VLOOKUP(F1323,Discounts!A:C,3,0),0)","v":0},{"v":249.59,"d":"€249.59"}]
[29250,123050,1,"Combination",{"v":1780.17,"d":"€1,780.17"},"A010",{"$f":"IFERROR(VLOOKUP(F1324,Discounts!A:C,3,0),0)","v":0},{"v":1780.1699999999998,"d":"€1,780.17"}]
[29250,134070,1,"Normal",0,"LUXE",{"$f":"IFERROR(VLOOKUP(F1325,Discounts!A:C,3,0),0)","v":0},0]
[29260,4300,1,"Normal",{"v":1597.52,"d":"€1,597.52"},"A010",{"$f":"IFERROR(VLOOKUP(F1326,Discounts!A:C,3,0),0)","v":0},{"v":1597.52,"d":"€1,597.52"}]
[29260,34260,1,"Normal",{"v":249.59,"d":"€249.59"},"LUXE",{"$f":"IFERROR(VLOOKUP(F1327,Discounts!A:C,3,0),0)","v":0},{"v":249.59,"d":"€249.59"}]
[29270,123060,1,"Combination",{"v":1847.11,"d":"€1,847.11"},"A010",{"$f":"IFERROR(VLOOKUP(F1328,Discounts!A:C,3,0),0)","v":0},{"v":1847.11,"d":"€1,847.11"}]
[29270,134070,1,"Normal",0,"LUXE",{"$f":"IFERROR(VLOOKUP(F1329,Discounts!A:C,3,0),0)","v":0},0]
[29280,4320,1,"Normal",{"v":1401.65,"d":"€1,401.65"},"A010",{"$f":"IFERROR(VLOOKUP(F1330,Discounts!A:C,3,0),0)","v":0},{"v":1401.65,"d":"€1,401.65"}]
[29280,34260,1,"Normal",{"v":249.59,"d":"€249.59"},"LUXE",{"$f":"IFERROR(VLOOKUP(F1331,Discounts!A:C,3,0),0)","v":0},{"v":249.59,"d":"€249.59"}]
[29290,123070,1,"Combination",{"v":1651.24,"d":"€1,651.24"},"A010",{"$f":"IFERROR(VLOOKUP(F1332,Discounts!A:C,3,0),0)","v":0},{"v":1651.24,"d":"€1,651.24"}]
[29290,134070,1,"Normal",0,"LUXE",{"$f":"IFERROR(VLOOKUP(F1333,Discounts!A:C,3,0),0)","v":0},0]
[29300,4340,1,"Normal",{"v":1587.6,"d":"€1,587.60"},"A010",{"$f":"IFERROR(VLOOKUP(F1334,Discounts!A:C,3,0),0)","v":0},{"v":1587.6,"d":"€1,587.60"}]
[29300,34260,1,"Normal",{"v":249.59,"d":"€249.59"},"LUXE",{"$f":"IFERROR(VLOOKUP(F1335,Discounts!A:C,3,0),0)","v":0},{"v":249.59,"d":"€249.59"}]
[29310,123080,1,"Combination",{"v":1837.19,"d":"€1,837.19"},"A010",{"$f":"IFERROR(VLOOKUP(F1336,Discounts!A:C,3,0),0)","v":0},{"v":1837.1899999999998,"d":"€1,837.19"}]
[29310,134070,1,"Normal",0,"LUXE",{"$f":"IFERROR(VLOOKUP(F1337,Discounts!A:C,3,0),0)","v":0},0]
[29320,4360,1,"Normal",{"v":1647.93,"d":"€1,647.93"},"A010",{"$f":"IFERROR(VLOOKUP(F1338,Discounts!A:C,3,0),0)","v":0},{"v":1647.93,"d":"€1,647.93"}]
[29320,34260,1,"Normal",{"v":249.59,"d":"€249.59"},"LUXE",{"$f":"IFERROR(VLOOKUP(F1339,Discounts!A:C,3,0),0)","v":0},{"v":249.59,"d":"€249.59"}]
[29330,123090,1,"Combination",{"v":1897.52,"d":"€1,897.52"},"A010",{"$f":"IFERROR(VLOOKUP(F1340,Discounts!A:C,3,0),0)","v":0},{"v":1897.52,"d":"€1,897.52"}]
[29330,134070,1,"Normal",0,"LUXE",{"$f":"IFERROR(VLOOKUP(F1341,Discounts!A:C,3,0),0)","v":0},0]
[29340,4380,1,"Normal",{"v":1738.02,"d":"€1,738.02"},"A010",{"$f":"IFERROR(VLOOKUP(F1342,Discounts!A:C,3,0),0)","v":0},{"v":1738.02,"d":"€1,738.02"}]
[29340,34260,1,"Normal",{"v":249.59,"d":"€249.59"},"LUXE",{"$f":"IFERROR(VLOOKUP(F1343,Discounts!A:C,3,0),0)","v":0},{"v":249.59,"d":"€249.59"}]
[29350,123100,1,"Combination",{"v":1987.61,"d":"€1,987.61"},"A010",{"$f":"IFERROR(VLOOKUP(F1344,Discounts!A:C,3,0),0)","v":0},{"v":1987.61,"d":"€1,987.61"}]
[29350,134070,1,"Normal",0,"LUXE",{"$f":"IFERROR(VLOOKUP(F1345,Discounts!A:C,3,0),0)","v":0},0]
[29360,4400,1,"Normal",{"v":1401.65,"d":"€1,401.65"},"A010",{"$f":"IFERROR(VLOOKUP(F1346,Discounts!A:C,3,0),0)","v":0},{"$f":"IF(D1346=\"Normal\",E1346*(1-G1346),SUMIF(A:A,B1346,H:H)*C1346)","v":{"v":1401.65,"d":"€1,401.65"}}]
[29360,34260,1,"Normal",{"v":249.59,"d":"€249.59"},"LUXE",{"$f":"IFERROR(VLOOKUP(F1347,Discounts!A:C,3,0),0)","v":0},{"v":249.59,"d":"€249.59"}]
[29370,123110,1,"Combination",{"v":1651.24,"d":"€1,651.24"},"A010",{"$f":"IFERROR(VLOOKUP(F1348,Discounts!A:C,3,0),0)","v":0},{"v":1651.24,"d":"€1,651.24"}]
[29370,134070,1,"Normal",0,"LUXE",{"$f":"IFERROR(VLOOKUP(F1349,Discounts!A:C,3,0),0)","v":0},0]
[29380,4420,1,"Normal",{"v":1587.6,"d":"€1,587.60"},"A010",{"$f":"IFERROR(VLOOKUP(F1350,Discounts!A:C,3,0),0)","v":0},{"v":1587.6,"d":"€1,587.60"}]
[29380,34260,1,"Normal",{"v":249.59,"d":"€249.59"},"LUXE",{"$f":"IFERROR(VLOOKUP(F1351,Discounts!A:C,3,0),0)","v":0},{"v":249.59,"d":"€249.59"}]
[29390,123120,1,"Combination",{"v":1837.19,"d":"€1,837.19"},"A010",{"$f":"IFERROR(VLOOKUP(F1352,Discounts!A:C,3,0),0)","v":0},{"v":1837.1899999999998,"d":"€1,837.19"}]
[29390,134070,1,"Normal",0,"LUXE",{"$f":"IFERROR(VLOOKUP(F1353,Discounts!A:C,3,0),0)","v":0},0]
[29400,4440,1,"Normal",{"v":1647.93,"d":"€1,647.93"},"A010",{"$f":"IFERROR(VLOOKUP(F1354,Discounts!A:C,3,0),0)","v":0},{"v":1647.93,"d":"€1,647.93"}]
[29400,34260,1,"Normal",{"v":249.59,"d":"€249.59"},"LUXE",{"$f":"IFERROR(VLOOKUP(F1355,Discounts!A:C,3,0),0)","v":0},{"v":249.59,"d":"€249.59"}]
[29410,123130,1,"Combination",{"v":1897.52,"d":"€1,897.52"},"A010",{"$f":"IFERROR(VLOOKUP(F1356,Discounts!A:C,3,0),0)","v":0},{"v":1897.52,"d":"€1,897.52"}]
[29410,134070,1,"Normal",0,"LUXE",{"$f":"IFERROR(VLOOKUP(F1357,Discounts!A:C,3,0),0)","v":0},0]
[29420,4460,1,"Normal",{"v":1738.02,"d":"€1,738.02"},"A010",{"$f":"IFERROR(VLOOKUP(F1358,Discounts!A:C,3,0),0)","v":0},{"v":1738.02,"d":"€1,738.02"}]
[29420,34260,1,"Normal",{"v":249.59,"d":"€249.59"},"LUXE",{"$f":"IFERROR(VLOOKUP(F1359,Discounts!A:C,3,0),0)","v":0},{"v":249.59,"d":"€249.59"}]
[29430,123140,1,"Combination",{"v":1987.61,"d":"€1,987.61"},"A010",{"$f":"IFERROR(VLOOKUP(F1360,Discounts!A:C,3,0),0)","v":0},{"v":1987.61,"d":"€1,987.61"}]
[29430,134070,1,"Normal",0,"LUXE",{"$f":"IFERROR(VLOOKUP(F1361,Discounts!A:C,3,0),0)","v":0},0]
[29440,14500,1,"Normal",{"v":2347.93,"d":"€2,347.93"},"A015",{"$f":"IFERROR(VLOOKUP(F1362,Discounts!A:C,3,0),0)","v":0},{"v":2347.93,"d":"€2,347.93"}]
[29440,34260,1,"Normal",{"v":249.59,"d":"€249.59"},"LUXE",{"$f":"IFERROR(VLOOKUP(F1363,Discounts!A:C,3,0),0)","v":0},{"v":249.59,"d":"€249.59"}]
[29450,123150,1,"Combination",{"v":2597.52,"d":"€2,597.52"},"A015",{"$f":"IFERROR(VLOOKUP(F1364,Discounts!A:C,3,0),0)","v":0},{"v":2597.52,"d":"€2,597.52"}]
[29450,134070,1,"Normal",0,"LUXE",{"$f":"IFERROR(VLOOKUP(F1365,Discounts!A:C,3,0),0)","v":0},0]
[29560,123160,1,"Normal",{"v":1936.36,"d":"€1,936.36"},"A010",{"$f":"IFERROR(VLOOKUP(F1366,Discounts!A:C,3,0),0)","v":0},{"v":1936.36,"d":"€1,936.36"}]
[29560,134070,1,"Normal",0,"LUXE",{"$f":"IFERROR(VLOOKUP(F1367,Discounts!A:C,3,0),0)","v":0},0]
[29580,123170,1,"Normal",{"v":1989.26,"d":"€1,989.26"},"A010",{"$f":"IFERROR(VLOOKUP(F1368,Discounts!A:C,3,0),0)","v":0},{"v":1989.26,"d":"€1,989.26"}]
[29580,134070,1,"Normal",0,"LUXE",{"$f":"IFERROR(VLOOKUP(F1369,Discounts!A:C,3,0),0)","v":0},0]
[29600,123180,1,"Normal",{"v":2024.79,"d":"€2,024.79"},"A010",{"$f":"IFERROR(VLOOKUP(F1370,Discounts!A:C,3,0),0)","v":0},{"v":2024.79,"d":"€2,024.79"}]
[29600,134070,1,"Normal",0,"LUXE",{"$f":"IFERROR(VLOOKUP(F1371,Discounts!A:C,3,0),0)","v":0},0]
[29620,123190,1,"Normal",{"v":1738.02,"d":"€1,738.02"},"A010",{"$f":"IFERROR(VLOOKUP(F1372,Discounts!A:C,3,0),0)","v":0},{"v":1738.02,"d":"€1,738.02"}]
[29620,134070,1,"Normal",0,"LUXE",{"$f":"IFERROR(VLOOKUP(F1373,Discounts!A:C,3,0),0)","v":0},0]
[29630,29550,1,"Normal",{"v":1936.36,"d":"€1,936.36"},"A010",{"$f":"IFERROR(VLOOKUP(F1374,Discounts!A:C,3,0),0)","v":0},{"v":1936.36,"d":"€1,936.36"}]
[29630,34260,1,"Normal",{"v":249.59,"d":"€249.59"},"LUXE",{"$f":"IFERROR(VLOOKUP(F1375,Discounts!A:C,3,0),0)","v":0},{"v":249.59,"d":"€249.59"}]
[29640,123200,1,"Combination",{"v":2185.95,"d":"€2,185.95"},"A010",{"$f":"IFERROR(VLOOKUP(F1376,Discounts!A:C,3,0),0)","v":0},{"v":2185.95,"d":"€2,185.95"}]
[29640,134070,1,"Normal",0,"LUXE",{"$f":"IFERROR(VLOOKUP(F1377,Discounts!A:C,3,0),0)","v":0},0]
[29650,29570,1,"Normal",{"v":1989.26,"d":"€1,989.26"},"A010",{"$f":"IFERROR(VLOOKUP(F1378,Discounts!A:C,3,0),0)","v":0},{"v":1989.26,"d":"€1,989.26"}]
[29650,34260,1,"Normal",{"v":249.59,"d":"€249.59"},"LUXE",{"$f":"IFERROR(VLOOKUP(F1379,Discounts!A:C,3,0),0)","v":0},{"v":249.59,"d":"€249.59"}]
[29660,123210,1,"Combination",{"v":2238.85,"d":"€2,238.85"},"A010",{"$f":"IFERROR(VLOOKUP(F1380,Discounts!A:C,3,0),0)","v":0},{"v":2238.85,"d":"€2,238.85"}]
[29660,134070,1,"Normal",0,"LUXE",{"$f":"IFERROR(VLOOKUP(F1381,Discounts!A:C,3,0),0)","v":0},0]
[29670,29590,1,"Normal",{"v":2024.79,"d":"€2,024.79"},"A010",{"$f":"IFERROR(VLOOKUP(F1382,Discounts!A:C,3,0),0)","v":0},{"v":2024.79,"d":"€2,024.79"}]
[29670,34260,1,"Normal",{"v":249.59,"d":"€249.59"},"LUXE",{"$f":"IFERROR(VLOOKUP(F1383,Discounts!A:C,3,0),0)","v":0},{"v":249.59,"d":"€249.59"}]
[29680,123220,1,"Combination",{"v":2274.38,"d":"€2,274.38"},"A010",{"$f":"IFERROR(VLOOKUP(F1384,Discounts!A:C,3,0),0)","v":0},{"v":2274.38,"d":"€2,274.38"}]
[29680,134070,1,"Normal",0,"LUXE",{"$f":"IFERROR(VLOOKUP(F1385,Discounts!A:C,3,0),0)","v":0},0]
[29690,29610,1,"Normal",{"v":1738.02,"d":"€1,738.02"},"A010",{"$f":"IFERROR(VLOOKUP(F1386,Discounts!A:C,3,0),0)","v":0},{"v":1738.02,"d":"€1,738.02"}]
[29690,34260,1,"Normal",{"v":249.59,"d":"€249.59"},"LUXE",{"$f":"IFERROR(VLOOKUP(F1387,Discounts!A:C,3,0),0)","v":0},{"v":249.59,"d":"€249.59"}]
[29700,123230,1,"Combination",{"v":1987.61,"d":"€1,987.61"},"A010",{"$f":"IFERROR(VLOOKUP(F1388,Discounts!A:C,3,0),0)","v":0},{"v":1987.61,"d":"€1,987.61"}]
[29700,134070,1,"Normal",0,"LUXE",{"$f":"IFERROR(VLOOKUP(F1389,Discounts!A:C,3,0),0)","v":0},0]
[29950,123240,1,"Normal",{"v":2047.11,"d":"€2,047.11"},"A015",{"$f":"IFERROR(VLOOKUP(F1390,Discounts!A:C,3,0),0)","v":0},{"v":2047.11,"d":"€2,047.11"}]
[29950,134070,1,"Normal",0,"LUXE",{"$f":"IFERROR(VLOOKUP(F1391,Discounts!A:C,3,0),0)","v":0},0]
[29970,123250,1,"Normal",{"v":1624.79,"d":"€1,624.79"},"A015",{"$f":"IFERROR(VLOOKUP(F1392,Discounts!A:C,3,0),0)","v":0},{"v":1624.79,"d":"€1,624.79"}]
[29970,134070,1,"Normal",0,"LUXE",{"$f":"IFERROR(VLOOKUP(F1393,Discounts!A:C,3,0),0)","v":0},0]
[30000,123260,1,"Normal",{"v":1967.77,"d":"€1,967.77"},"A010",{"$f":"IFERROR(VLOOKUP(F1394,Discounts!A:C,3,0),0)","v":0},{"v":1967.77,"d":"€1,967.77"}]
[30000,134070,1,"Normal",0,"LUXE",{"$f":"IFERROR(VLOOKUP(F1395,Discounts!A:C,3,0),0)","v":0},0]
[30020,123270,1,"Normal",{"v":1861.98,"d":"€1,861.98"},"A010",{"$f":"IFERROR(VLOOKUP(F1396,Discounts!A:C,3,0),0)","v":0},{"v":1861.98,"d":"€1,861.98"}]
[30020,134070,1,"Normal",0,"LUXE",{"$f":"IFERROR(VLOOKUP(F1397,Discounts!A:C,3,0),0)","v":0},0]
[30040,123280,1,"Normal",{"v":3094.21,"d":"€3,094.21"},"A010",{"$f":"IFERROR(VLOOKUP(F1398,Discounts!A:C,3,0),0)","v":0},{"v":3094.21,"d":"€3,094.21"}]
[30040,134070,1,"Normal",0,"LUXE",{"$f":"IFERROR(VLOOKUP(F1399,Discounts!A:C,3,0),0)","v":0},0]
[30060,123290,1,"Normal",{"v":2275.21,"d":"€2,275.21"},"A010",{"$f":"IFERROR(VLOOKUP(F1400,Discounts!A:C,3,0),0)","v":0},{"v":2275.21,"d":"€2,275.21"}]
[30060,134070,1,"Normal",0,"LUXE",{"$f":"IFERROR(VLOOKUP(F1401,Discounts!A:C,3,0),0)","v":0},0]
[30080,123300,1,"Normal",{"v":2585.12,"d":"€2,585.12"},"A010",{"$f":"IFERROR(VLOOKUP(F1402,Discounts!A:C,3,0),0)","v":0},{"v":2585.12,"d":"€2,585.12"}]
[30080,134070,1,"Normal",0,"LUXE",{"$f":"IFERROR(VLOOKUP(F1403,Discounts!A:C,3,0),0)","v":0},0]
[30120,123310,1,"Normal",{"v":2360.33,"d":"€2,360.33"},"A010",{"$f":"IFERROR(VLOOKUP(F1404,Discounts!A:C,3,0),0)","v":0},{"v":2360.33,"d":"€2,360.33"}]
[30120,134070,1,"Normal",0,"LUXE",{"$f":"IFERROR(VLOOKUP(F1405,Discounts!A:C,3,0),0)","v":0},0]
[30160,123320,1,"Normal",{"v":2490.91,"d":"€2,490.91"},"A010",{"$f":"IFERROR(VLOOKUP(F1406,Discounts!A:C,3,0),0)","v":0},{"v":2490.91,"d":"€2,490.91"}]
[30160,134070,1,"Normal",0,"LUXE",{"$f":"IFERROR(VLOOKUP(F1407,Discounts!A:C,3,0),0)","v":0},0]
[30170,123320,1,"Normal",{"v":2490.91,"d":"€2,490.91"},"A010",{"$f":"IFERROR(VLOOKUP(F1408,Discounts!A:C,3,0),0)","v":0},{"v":2490.91,"d":"€2,490.91"}]
[30170,134070,1,"Normal",0,"LUXE",{"$f":"IFERROR(VLOOKUP(F1409,Discounts!A:C,3,0),0)","v":0},0]
[30200,123330,1,"Normal",{"v":2356.2,"d":"€2,356.20"},"A010",{"$f":"IFERROR(VLOOKUP(F1410,Discounts!A:C,3,0),0)","v":0},{"$f":"IF(D1410=\"Normal\",E1410*(1-G1410),SUMIF(A:A,B1410,H:H)*C1410)","v":{"v":2356.2,"d":"€2,356.20"}}]
[30200,134070,1,"Normal",0,"LUXE",{"$f":"IFERROR(VLOOKUP(F1411,Discounts!A:C,3,0),0)","v":0},0]
[30210,123330,1,"Normal",{"v":2356.2,"d":"€2,356.20"},"A010",{"$f":"IFERROR(VLOOKUP(F1412,Discounts!A:C,3,0),0)","v":0},{"v":2356.2,"d":"€2,356.20"}]
[30210,134070,1,"Normal",0,"LUXE",{"$f":"IFERROR(VLOOKUP(F1413,Discounts!A:C,3,0),0)","v":0},0]
[30240,123340,1,"Normal",{"v":3316.53,"d":"€3,316.53"},"A010",{"$f":"IFERROR(VLOOKUP(F1414,Discounts!A:C,3,0),0)","v":0},{"v":3316.53,"d":"€3,316.53"}]
[30240,134070,1,"Normal",0,"LUXE",{"$f":"IFERROR(VLOOKUP(F1415,Discounts!A:C,3,0),0)","v":0},0]
[30260,123350,1,"Normal",{"v":3439.67,"d":"€3,439.67"},"A010",{"$f":"IFERROR(VLOOKUP(F1416,Discounts!A:C,3,0),0)","v":0},{"v":3439.67,"d":"€3,439.67"}]
[30260,134070,1,"Normal",0,"LUXE",{"$f":"IFERROR(VLOOKUP(F1417,Discounts!A:C,3,0),0)","v":0},0]
[30280,123360,1,"Normal",{"v":2012.4,"d":"€2,012.40"},"A010",{"$f":"IFERROR(VLOOKUP(F1418,Discounts!A:C,3,0),0)","v":0},{"v":2012.4,"d":"€2,012.40"}]
[30280,134070,1,"Normal",0,"LUXE",{"$f":"IFERROR(VLOOKUP(F1419,Discounts!A:C,3,0),0)","v":0},0]
[30300,123370,1,"Normal",{"v":2016.53,"d":"€2,016.53"},"A010",{"$f":"IFERROR(VLOOKUP(F1420,Discounts!A:C,3,0),0)","v":0},{"v":2016.53,"d":"€2,016.53"}]
[30300,134070,1,"Normal",0,"LUXE",{"$f":"IFERROR(VLOOKUP(F1421,Discounts!A:C,3,0),0)","v":0},0]
[30320,123380,1,"Normal",{"v":2016.53,"d":"€2,016.53"},"A010",{"$f":"IFERROR(VLOOKUP(F1422,Discounts!A:C,3,0),0)","v":0},{"v":2016.53,"d":"€2,016.53"}]
[30320,134070,1,"Normal",0,"LUXE",{"$f":"IFERROR(VLOOKUP(F1423,Discounts!A:C,3,0),0)","v":0},0]
[30340,123390,1,"Normal",{"v":2016.53,"d":"€2,016.53"},"A010",{"$f":"IFERROR(VLOOKUP(F1424,Discounts!A:C,3,0),0)","v":0},{"v":2016.53,"d":"€2,016.53"}]
[30340,134070,1,"Normal",0,"LUXE",{"$f":"IFERROR(VLOOKUP(F1425,Discounts!A:C,3,0),0)","v":0},0]
[30360,123400,1,"Normal",{"v":2016.53,"d":"€2,016.53"},"A010",{"$f":"IFERROR(VLOOKUP(F1426,Discounts!A:C,3,0),0)","v":0},{"v":2016.53,"d":"€2,016.53"}]
[30360,134070,1,"Normal",0,"LUXE",{"$f":"IFERROR(VLOOKUP(F1427,Discounts!A:C,3,0),0)","v":0},0]
[30430,123410,1,"Normal",{"v":1931.4,"d":"€1,931.40"},"A010",{"$f":"IFERROR(VLOOKUP(F1428,Discounts!A:C,3,0),0)","v":0},{"v":1931.4,"d":"€1,931.40"}]
[30430,134070,1,"Normal",0,"LUXE",{"$f":"IFERROR(VLOOKUP(F1429,Discounts!A:C,3,0),0)","v":0},0]
[30450,123420,1,"Normal",{"v":2880.99,"d":"€2,880.99"},"A010",{"$f":"IFERROR(VLOOKUP(F1430,Discounts!A:C,3,0),0)","v":0},{"v":2880.99,"d":"€2,880.99"}]
[30450,134070,1,"Normal",0,"LUXE",{"$f":"IFERROR(VLOOKUP(F1431,Discounts!A:C,3,0),0)","v":0},0]
[30520,29940,1,"Normal",{"v":2047.11,"d":"€2,047.11"},"A015",{"$f":"IFERROR(VLOOKUP(F1432,Discounts!A:C,3,0),0)","v":0},{"v":2047.11,"d":"€2,047.11"}]
[30520,34260,1,"Normal",{"v":249.59,"d":"€249.59"},"LUXE",{"$f":"IFERROR(VLOOKUP(F1433,Discounts!A:C,3,0),0)","v":0},{"v":249.59,"d":"€249.59"}]
[30530,123430,1,"Combination",{"v":2296.7,"d":"€2,296.70"},"A015",{"$f":"IFERROR(VLOOKUP(F1434,Discounts!A:C,3,0),0)","v":0},{"v":2296.7,"d":"€2,296.70"}]
[30530,134070,1,"Normal",0,"LUXE",{"$f":"IFERROR(VLOOKUP(F1435,Discounts!A:C,3,0),0)","v":0},0]
[30540,29960,1,"Normal",{"v":1910.74,"d":"€1,910.74"},"A015",{"$f":"IFERROR(VLOOKUP(F1436,Discounts!A:C,3,0),0)","v":0},{"v":1910.74,"d":"€1,910.74"}]
[30540,34260,1,"Normal",{"v":249.59,"d":"€249.59"},"LUXE",{"$f":"IFERROR(VLOOKUP(F1437,Discounts!A:C,3,0),0)","v":0},{"v":249.59,"d":"€249.59"}]
[30550,123440,1,"Combination",{"v":1874.38,"d":"€1,874.38"},"A015",{"$f":"IFERROR(VLOOKUP(F1438,Discounts!A:C,3,0),0)","v":0},{"v":1874.3799999999999,"d":"€1,874.38"}]
[30550,134070,1,"Normal",0,"LUXE",{"$f":"IFERROR(VLOOKUP(F1439,Discounts!A:C,3,0),0)","v":0},0]
[30560,29990,1,"Normal",{"v":1967.77,"d":"€1,967.77"},"A010",{"$f":"IFERROR(VLOOKUP(F1440,Discounts!A:C,3,0),0)","v":0},{"v":1967.77,"d":"€1,967.77"}]
[30560,34260,1,"Normal",{"v":249.59,"d":"€249.59"},"LUXE",{"$f":"IFERROR(VLOOKUP(F1441,Discounts!A:C,3,0),0)","v":0},{"v":249.59,"d":"€249.59"}]
[30570,123450,1,"Combination",{"v":2217.36,"d":"€2,217.36"},"A010",{"$f":"IFERROR(VLOOKUP(F1442,Discounts!A:C,3,0),0)","v":0},{"v":2217.36,"d":"€2,217.36"}]
[30570,134070,1,"Normal",0,"LUXE",{"$f":"IFERROR(VLOOKUP(F1443,Discounts!A:C,3,0),0)","v":0},0]
[30580,30010,1,"Normal",{"v":1861.98,"d":"€1,861.98"},"A010",{"$f":"IFERROR(VLOOKUP(F1444,Discounts!A:C,3,0),0)","v":0},{"v":1861.98,"d":"€1,861.98"}]
[30580,34260,1,"Normal",{"v":249.59,"d":"€249.59"},"LUXE",{"$f":"IFERROR(VLOOKUP(F1445,Discounts!A:C,3,0),0)","v":0},{"v":249.59,"d":"€249.59"}]
[30590,123460,1,"Combination",{"v":2111.57,"d":"€2,111.57"},"A010",{"$f":"IFERROR(VLOOKUP(F1446,Discounts!A:C,3,0),0)","v":0},{"v":2111.57,"d":"€2,111.57"}]
[30590,134070,1,"Normal",0,"LUXE",{"$f":"IFERROR(VLOOKUP(F1447,Discounts!A:C,3,0),0)","v":0},0]
[30600,30030,1,"Normal",{"v":3094.21,"d":"€3,094.21"},"A010",{"$f":"IFERROR(VLOOKUP(F1448,Discounts!A:C,3,0),0)","v":0},{"v":3094.21,"d":"€3,094.21"}]
[30600,34260,1,"Normal",{"v":249.59,"d":"€249.59"},"LUXE",{"$f":"IFERROR(VLOOKUP(F1449,Discounts!A:C,3,0),0)","v":0},{"v":249.59,"d":"€249.59"}]
[30610,123470,1,"Combination",{"v":3343.8,"d":"€3,343.80"},"A010",{"$f":"IFERROR(VLOOKUP(F1450,Discounts!A:C,3,0),0)","v":0},{"v":3343.8,"d":"€3,343.80"}]
[30610,134070,1,"Normal",0,"LUXE",{"$f":"IFERROR(VLOOKUP(F1451,Discounts!A:C,3,0),0)","v":0},0]
[30620,30050,1,"Normal",{"v":2275.21,"d":"€2,275.21"},"A010",{"$f":"IFERROR(VLOOKUP(F1452,Discounts!A:C,3,0),0)","v":0},{"v":2275.21,"d":"€2,275.21"}]
[30620,34260,1,"Normal",{"v":249.59,"d":"€249.59"},"LUXE",{"$f":"IFERROR(VLOOKUP(F1453,Discounts!A:C,3,0),0)","v":0},{"v":249.59,"d":"€249.59"}]
[30630,123480,1,"Combination",{"v":2524.8,"d":"€2,524.80"},"A010",{"$f":"IFERROR(VLOOKUP(F1454,Discounts!A:C,3,0),0)","v":0},{"v":2524.8,"d":"€2,524.80"}]
[30630,134070,1,"Normal",0,"LUXE",{"$f":"IFERROR(VLOOKUP(F1455,Discounts!A:C,3,0),0)","v":0},0]
[30680,30110,1,"Normal",{"v":2360.33,"d":"€2,360.33"},"A010",{"$f":"IFERROR(VLOOKUP(F1456,Discounts!A:C,3,0),0)","v":0},{"v":2360.33,"d":"€2,360.33"}]
[30680,34260,1,"Normal",{"v":249.59,"d":"€249.59"},"LUXE",{"$f":"IFERROR(VLOOKUP(F1457,Discounts!A:C,3,0),0)","v":0},{"v":249.59,"d":"€249.59"}]
[30690,123490,1,"Combination",{"v":2609.92,"d":"€2,609.92"},"A010",{"$f":"IFERROR(VLOOKUP(F1458,Discounts!A:C,3,0),0)","v":0},{"v":2609.92,"d":"€2,609.92"}]
[30690,134070,1,"Normal",0,"LUXE",{"$f":"IFERROR(VLOOKUP(F1459,Discounts!A:C,3,0),0)","v":0},0]
[30720,30150,1,"Normal",{"v":2490.91,"d":"€2,490.91"},"A010",{"$f":"IFERROR(VLOOKUP(F1460,Discounts!A:C,3,0),0)","v":0},{"v":2490.91,"d":"€2,490.91"}]
[30720,34260,1,"Normal",{"v":249.59,"d":"€249.59"},"LUXE",{"$f":"IFERROR(VLOOKUP(F1461,Discounts!A:C,3,0),0)","v":0},{"v":249.59,"d":"€249.59"}]
[30730,30160,1,"Combination",{"v":2490.91,"d":"€2,490.91"},"",{"$f":"IFERROR(VLOOKUP(F1462,Discounts!A:C,3,0),0)","v":0},{"v":2490.91,"d":"€2,490.91"}]
[30730,34260,1,"Normal",{"v":249.59,"d":"€249.59"},"LUXE",{"$f":"IFERROR(VLOOKUP(F1463,Discounts!A:C,3,0),0)","v":0},{"v":249.59,"d":"€249.59"}]
[30740,30170,1,"Combination",{"v":2490.91,"d":"€2,490.91"},"",{"$f":"IFERROR(VLOOKUP(F1464,Discounts!A:C,3,0),0)","v":0},{"v":2490.91,"d":"€2,490.91"}]
[30740,34260,1,"Normal",{"v":249.59,"d":"€249.59"},"LUXE",{"$f":"IFERROR(VLOOKUP(F1465,Discounts!A:C,3,0),0)","v":0},{"v":249.59,"d":"€249.59"}]
[30760,30190,1,"Normal",{"v":2356.2,"d":"€2,356.20"},"A010",{"$f":"IFERROR(VLOOKUP(F1466,Discounts!A:C,3,0),0)","v":0},{"v":2356.2,"d":"€2,356.20"}]
[30760,34260,1,"Normal",{"v":249.59,"d":"€249.59"},"LUXE",{"$f":"IFERROR(VLOOKUP(F1467,Discounts!A:C,3,0),0)","v":0},{"v":249.59,"d":"€249.59"}]
[30770,30200,1,"Combination",{"v":2356.2,"d":"€2,356.20"},"",{"$f":"IFERROR(VLOOKUP(F1468,Discounts!A:C,3,0),0)","v":0},{"v":2356.2,"d":"€2,356.20"}]
[30770,34260,1,"Normal",{"v":249.59,"d":"€249.59"},"LUXE",{"$f":"IFERROR(VLOOKUP(F1469,Discounts!A:C,3,0),0)","v":0},{"v":249.59,"d":"€249.59"}]
[30780,30210,1,"Combination",{"v":2356.2,"d":"€2,356.20"},"",{"$f":"IFERROR(VLOOKUP(F1470,Discounts!A:C,3,0),0)","v":0},{"v":2356.2,"d":"€2,356.20"}]
[30780,34260,1,"Normal",{"v":249.59,"d":"€249.59"},"LUXE",{"$f":"IFERROR(VLOOKUP(F1471,Discounts!A:C,3,0),0)","v":0},{"v":249.59,"d":"€249.59"}]
[30840,30270,1,"Normal",{"v":2012.4,"d":"€2,012.40"},"A010",{"$f":"IFERROR(VLOOKUP(F1472,Discounts!A:C,3,0),0)","v":0},{"v":2012.4,"d":"€2,012.40"}]
[30840,34260,1,"Normal",{"v":249.59,"d":"€249.59"},"LUXE",{"$f":"IFERROR(VLOOKUP(F1473,Discounts!A:C,3,0),0)","v":0},{"v":249.59,"d":"€249.59"}]
[30850,123520,1,"Combination",{"v":2261.99,"d":"€2,261.99"},"A010",{"$f":"IFERROR(VLOOKUP(F1474,Discounts!A:C,3,0),0)","v":0},{"$f":"IF(D1474=\"Normal\",E1474*(1-G1474),SUMIF(A:A,B1474,H:H)*C1474)","v":{"v":2261.9900000000002,"d":"€2,261.99"}}]
[30850,134070,1,"Normal",0,"LUXE",{"$f":"IFERROR(VLOOKUP(F1475,Discounts!A:C,3,0),0)","v":0},0]
[30860,30290,1,"Normal",{"v":2016.53,"d":"€2,016.53"},"A010",{"$f":"IFERROR(VLOOKUP(F1476,Discounts!A:C,3,0),0)","v":0},{"v":2016.53,"d":"€2,016.53"}]
[30860,34260,1,"Normal",{"v":249.59,"d":"€249.59"},"LUXE",{"$f":"IFERROR(VLOOKUP(F1477,Discounts!A:C,3,0),0)","v":0},{"v":249.59,"d":"€249.59"}]
[30870,123530,1,"Combination",{"v":2266.12,"d":"€2,266.12"},"A010",{"$f":"IFERROR(VLOOKUP(F1478,Discounts!A:C,3,0),0)","v":0},{"v":2266.12,"d":"€2,266.12"}]
[30870,134070,1,"Normal",0,"LUXE",{"$f":"IFERROR(VLOOKUP(F1479,Discounts!A:C,3,0),0)","v":0},0]
[30880,30310,1,"Normal",{"v":2016.53,"d":"€2,016.53"},"A010",{"$f":"IFERROR(VLOOKUP(F1480,Discounts!A:C,3,0),0)","v":0},{"v":2016.53,"d":"€2,016.53"}]
[30880,34260,1,"Normal",{"v":249.59,"d":"€249.59"},"LUXE",{"$f":"IFERROR(VLOOKUP(F1481,Discounts!A:C,3,0),0)","v":0},{"v":249.59,"d":"€249.59"}]
[30890,123540,1,"Combination",{"v":2266.12,"d":"€2,266.12"},"A010",{"$f":"IFERROR(VLOOKUP(F1482,Discounts!A:C,3,0),0)","v":0},{"v":2266.12,"d":"€2,266.12"}]
[30890,134070,1,"Normal",0,"LUXE",{"$f":"IFERROR(VLOOKUP(F1483,Discounts!A:C,3,0),0)","v":0},0]
[30900,30330,1,"Normal",{"v":2016.53,"d":"€2,016.53"},"A010",{"$f":"IFERROR(VLOOKUP(F1484,Discounts!A:C,3,0),0)","v":0},{"v":2016.53,"d":"€2,016.53"}]
[30900,34260,1,"Normal",{"v":249.59,"d":"€249.59"},"LUXE",{"$f":"IFERROR(VLOOKUP(F1485,Discounts!A:C,3,0),0)","v":0},{"v":249.59,"d":"€249.59"}]
[30910,123550,1,"Combination",{"v":2266.12,"d":"€2,266.12"},"A010",{"$f":"IFERROR(VLOOKUP(F1486,Discounts!A:C,3,0),0)","v":0},{"v":2266.12,"d":"€2,266.12"}]
[30910,134070,1,"Normal",0,"LUXE",{"$f":"IFERROR(VLOOKUP(F1487,Discounts!A:C,3,0),0)","v":0},0]
[30920,30350,1,"Normal",{"v":2016.53,"d":"€2,016.53"},"A010",{"$f":"IFERROR(VLOOKUP(F1488,Discounts!A:C,3,0),0)","v":0},{"v":2016.53,"d":"€2,016.53"}]
[30920,34260,1,"Normal",{"v":249.59,"d":"€249.59"},"LUXE",{"$f":"IFERROR(VLOOKUP(F1489,Discounts!A:C,3,0),0)","v":0},{"v":249.59,"d":"€249.59"}]
[30930,123560,1,"Combination",{"v":2266.12,"d":"€2,266.12"},"A010",{"$f":"IFERROR(VLOOKUP(F1490,Discounts!A:C,3,0),0)","v":0},{"v":2266.12,"d":"€2,266.12"}]
[30930,134070,1,"Normal",0,"LUXE",{"$f":"IFERROR(VLOOKUP(F1491,Discounts!A:C,3,0),0)","v":0},0]
[30940,30420,1,"Normal",{"v":1931.4,"d":"€1,931.40"},"A010",{"$f":"IFERROR(VLOOKUP(F1492,Discounts!A:C,3,0),0)","v":0},{"v":1931.4,"d":"€1,931.40"}]
[30940,34260,1,"Normal",{"v":249.59,"d":"€249.59"},"LUXE",{"$f":"IFERROR(VLOOKUP(F1493,Discounts!A:C,3,0),0)","v":0},{"v":249.59,"d":"€249.59"}]
[30950,123570,1,"Combination",{"v":2180.99,"d":"€2,180.99"},"A010",{"$f":"IFERROR(VLOOKUP(F1494,Discounts!A:C,3,0),0)","v":0},{"v":2180.9900000000002,"d":"€2,180.99"}]
[30950,134070,1,"Normal",0,"LUXE",{"$f":"IFERROR(VLOOKUP(F1495,Discounts!A:C,3,0),0)","v":0},0]
[35170,15920,1,"Normal",{"v":396.69,"d":"€396.69"},"E015",{"$f":"IFERROR(VLOOKUP(F1496,Discounts!A:C,3,0),0)","v":0},{"v":396.69,"d":"€396.69"}]
[35180,16640,1,"Normal",{"v":585.95,"d":"€585.95"},"E012",{"$f":"IFERROR(VLOOKUP(F1497,Discounts!A:C,3,0),0)","v":0},{"v":585.95,"d":"€585.95"}]
[35190,15920,1,"Normal",{"v":396.69,"d":"€396.69"},"E015",{"$f":"IFERROR(VLOOKUP(F1498,Discounts!A:C,3,0),0)","v":0},{"v":396.69,"d":"€396.69"}]
[35190,48550,1,"Normal",{"v":19.01,"d":"€19.01"},"SD/SG",{"$f":"IFERROR(VLOOKUP(F1499,Discounts!A:C,3,0),0)","v":0},{"v":19.01,"d":"€19.01"}]
[35200,16640,1,"Normal",{"v":585.95,"d":"€585.95"},"E012",{"$f":"IFERROR(VLOOKUP(F1500,Discounts!A:C,3,0),0)","v":0},{"v":585.95,"d":"€585.95"}]
[35200,48550,1,"Normal",{"v":19.01,"d":"€19.01"},"SD/SG",{"$f":"IFERROR(VLOOKUP(F1501,Discounts!A:C,3,0),0)","v":0},{"v":19.01,"d":"€19.01"}]
[35210,15920,1,"Normal",{"v":396.69,"d":"€396.69"},"E015",{"$f":"IFERROR(VLOOKUP(F1502,Discounts!A:C,3,0),0)","v":0},{"v":396.69,"d":"€396.69"}]
[35210,48550,1,"Normal",{"v":19.01,"d":"€19.01"},"SD/SG",{"$f":"IFERROR(VLOOKUP(F1503,Discounts!A:C,3,0),0)","v":0},{"v":19.01,"d":"€19.01"}]
[35220,16640,1,"Normal",{"v":585.95,"d":"€585.95"},"E012",{"$f":"IFERROR(VLOOKUP(F1504,Discounts!A:C,3,0),0)","v":0},{"v":585.95,"d":"€585.95"}]
[35220,48550,1,"Normal",{"v":19.01,"d":"€19.01"},"SD/SG",{"$f":"IFERROR(VLOOKUP(F1505,Discounts!A:C,3,0),0)","v":0},{"v":19.01,"d":"€19.01"}]
[35230,15910,1,"Normal",{"v":339.67,"d":"€339.67"},"E016",{"$f":"IFERROR(VLOOKUP(F1506,Discounts!A:C,3,0),0)","v":0},{"v":339.67,"d":"€339.67"}]
[35240,16630,1,"Normal",{"v":520.66,"d":"€520.66"},"E013",{"$f":"IFERROR(VLOOKUP(F1507,Discounts!A:C,3,0),0)","v":0},{"v":520.66,"d":"€520.66"}]
[35250,15910,1,"Normal",{"v":339.67,"d":"€339.67"},"E016",{"$f":"IFERROR(VLOOKUP(F1508,Discounts!A:C,3,0),0)","v":0},{"v":339.67,"d":"€339.67"}]
[35250,48550,1,"Normal",{"v":19.01,"d":"€19.01"},"SD/SG",{"$f":"IFERROR(VLOOKUP(F1509,Discounts!A:C,3,0),0)","v":0},{"v":19.01,"d":"€19.01"}]
[35260,16630,1,"Normal",{"v":520.66,"d":"€520.66"},"E013",{"$f":"IFERROR(VLOOKUP(F1510,Discounts!A:C,3,0),0)","v":0},{"v":520.66,"d":"€520.66"}]
[35260,48550,1,"Normal",{"v":19.01,"d":"€19.01"},"SD/SG",{"$f":"IFERROR(VLOOKUP(F1511,Discounts!A:C,3,0),0)","v":0},{"v":19.01,"d":"€19.01"}]
[35270,15910,1,"Normal",{"v":339.67,"d":"€339.67"},"E016",{"$f":"IFERROR(VLOOKUP(F1512,Discounts!A:C,3,0),0)","v":0},{"v":339.67,"d":"€339.67"}]
[35270,48550,1,"Normal",{"v":19.01,"d":"€19.01"},"SD/SG",{"$f":"IFERROR(VLOOKUP(F1513,Discounts!A:C,3,0),0)","v":0},{"v":19.01,"d":"€19.01"}]
[35280,16630,1,"Normal",{"v":520.66,"d":"€520.66"},"E013",{"$f":"IFERROR(VLOOKUP(F1514,Discounts!A:C,3,0),0)","v":0},{"v":520.66,"d":"€520.66"}]
[35280,48550,1,"Normal",{"v":19.01,"d":"€19.01"},"SD/SG",{"$f":"IFERROR(VLOOKUP(F1515,Discounts!A:C,3,0),0)","v":0},{"v":19.01,"d":"€19.01"}]
[35290,15960,1,"Normal",{"v":480.17,"d":"€480.17"},"E015",{"$f":"IFERROR(VLOOKUP(F1516,Discounts!A:C,3,0),0)","v":0},{"v":480.17,"d":"€480.17"}]
[35300,16680,1,"Normal",{"v":680.17,"d":"€680.17"},"E012",{"$f":"IFERROR(VLOOKUP(F1517,Discounts!A:C,3,0),0)","v":0},{"v":680.17,"d":"€680.17"}]
[35310,15960,1,"Normal",{"v":480.17,"d":"€480.17"},"E015",{"$f":"IFERROR(VLOOKUP(F1518,Discounts!A:C,3,0),0)","v":0},{"v":480.17,"d":"€480.17"}]
[35310,48550,1,"Normal",{"v":19.01,"d":"€19.01"},"SD/SG",{"$f":"IFERROR(VLOOKUP(F1519,Discounts!A:C,3,0),0)","v":0},{"v":19.01,"d":"€19.01"}]
[35320,16680,1,"Normal",{"v":680.17,"d":"€680.17"},"E012",{"$f":"IFERROR(VLOOKUP(F1520,Discounts!A:C,3,0),0)","v":0},{"v":680.17,"d":"€680.17"}]
[35320,48550,1,"Normal",{"v":19.01,"d":"€19.01"},"SD/SG",{"$f":"IFERROR(VLOOKUP(F1521,Discounts!A:C,3,0),0)","v":0},{"v":19.01,"d":"€19.01"}]
[35330,15960,1,"Normal",{"v":480.17,"d":"€480.17"},"E015",{"$f":"IFERROR(VLOOKUP(F1522,Discounts!A:C,3,0),0)","v":0},{"v":480.17,"d":"€480.17"}]
[35330,48550,1,"Normal",{"v":19.01,"d":"€19.01"},"SD/SG",{"$f":"IFERROR(VLOOKUP(F1523,Discounts!A:C,3,0),0)","v":0},{"v":19.01,"d":"€19.01"}]
[35340,16680,1,"Normal",{"v":680.17,"d":"€680.17"},"E012",{"$f":"IFERROR(VLOOKUP(F1524,Discounts!A:C,3,0),0)","v":0},{"v":680.17,"d":"€680.17"}]
[35340,48550,1,"Normal",{"v":19.01,"d":"€19.01"},"SD/SG",{"$f":"IFERROR(VLOOKUP(F1525,Discounts!A:C,3,0),0)","v":0},{"v":19.01,"d":"€19.01"}]
[35350,15950,1,"Normal",{"v":407.44,"d":"€407.44"},"E016",{"$f":"IFERROR(VLOOKUP(F1526,Discounts!A:C,3,0),0)","v":0},{"v":407.44,"d":"€407.44"}]
[35360,16670,1,"Normal",{"v":600,"d":"€600.00"},"E013",{"$f":"IFERROR(VLOOKUP(F1527,Discounts!A:C,3,0),0)","v":0},{"v":600,"d":"€600.00"}]
[35370,15950,1,"Normal",{"v":407.44,"d":"€407.44"},"E016",{"$f":"IFERROR(VLOOKUP(F1528,Discounts!A:C,3,0),0)","v":0},{"v":407.44,"d":"€407.44"}]
[35370,48550,1,"Normal",{"v":19.01,"d":"€19.01"},"SD/SG",{"$f":"IFERROR(VLOOKUP(F1529,Discounts!A:C,3,0),0)","v":0},{"v":19.01,"d":"€19.01"}]
[35380,16670,1,"Normal",{"v":600,"d":"€600.00"},"E013",{"$f":"IFERROR(VLOOKUP(F1530,Discounts!A:C,3,0),0)","v":0},{"v":600,"d":"€600.00"}]
[35380,48550,1,"Normal",{"v":19.01,"d":"€19.01"},"SD/SG",{"$f":"IFERROR(VLOOKUP(F1531,Discounts!A:C,3,0),0)","v":0},{"v":19.01,"d":"€19.01"}]
[35390,15950,1,"Normal",{"v":407.44,"d":"€407.44"},"E016",{"$f":"IFERROR(VLOOKUP(F1532,Discounts!A:C,3,0),0)","v":0},{"v":407.44,"d":"€407.44"}]
[35390,48550,1,"Normal",{"v":19.01,"d":"€19.01"},"SD/SG",{"$f":"IFERROR(VLOOKUP(F1533,Discounts!A:C,3,0),0)","v":0},{"v":19.01,"d":"€19.01"}]
[35400,16670,1,"Normal",{"v":600,"d":"€600.00"},"E013",{"$f":"IFERROR(VLOOKUP(F1534,Discounts!A:C,3,0),0)","v":0},{"v":600,"d":"€600.00"}]
[35400,48550,1,"Normal",{"v":19.01,"d":"€19.01"},"SD/SG",{"$f":"IFERROR(VLOOKUP(F1535,Discounts!A:C,3,0),0)","v":0},{"v":19.01,"d":"€19.01"}]
[36610,35690,1,"Normal",{"v":531.4,"d":"€531.40"},"E016",{"$f":"IFERROR(VLOOKUP(F1536,Discounts!A:C,3,0),0)","v":0},{"v":531.4,"d":"€531.40"}]
[36620,35690,1,"Normal",{"v":531.4,"d":"€531.40"},"E016",{"$f":"IFERROR(VLOOKUP(F1537,Discounts!A:C,3,0),0)","v":0},{"v":531.4,"d":"€531.40"}]
[36620,48550,1,"Normal",{"v":19.01,"d":"€19.01"},"SD/SG",{"$f":"IFERROR(VLOOKUP(F1538,Discounts!A:C,3,0),0)","v":0},{"$f":"IF(D1538=\"Normal\",E1538*(1-G1538),SUMIF(A:A,B1538,H:H)*C1538)","v":{"v":19.01,"d":"€19.01"}}]
[36630,36040,1,"Normal",{"v":713.22,"d":"€713.22"},"E013",{"$f":"IFERROR(VLOOKUP(F1539,Discounts!A:C,3,0),0)","v":0},{"v":713.22,"d":"€713.22"}]
[36630,48550,1,"Normal",{"v":19.01,"d":"€19.01"},"SD/SG",{"$f":"IFERROR(VLOOKUP(F1540,Discounts!A:C,3,0),0)","v":0},{"v":19.01,"d":"€19.01"}]
[36640,35690,1,"Normal",{"v":531.4,"d":"€531.40"},"E016",{"$f":"IFERROR(VLOOKUP(F1541,Discounts!A:C,3,0),0)","v":0},{"v":531.4,"d":"€531.40"}]
[36640,48550,1,"Normal",{"v":19.01,"d":"€19.01"},"SD/SG",{"$f":"IFERROR(VLOOKUP(F1542,Discounts!A:C,3,0),0)","v":0},{"v":19.01,"d":"€19.01"}]
[36650,35700,1,"Normal",{"v":571.9,"d":"€571.90"},"E016",{"$f":"IFERROR(VLOOKUP(F1543,Discounts!A:C,3,0),0)","v":0},{"v":571.9,"d":"€571.90"}]
[36660,35700,1,"Normal",{"v":571.9,"d":"€571.90"},"E016",{"$f":"IFERROR(VLOOKUP(F1544,Discounts!A:C,3,0),0)","v":0},{"v":571.9,"d":"€571.90"}]
[36660,48550,1,"Normal",{"v":19.01,"d":"€19.01"},"SD/SG",{"$f":"IFERROR(VLOOKUP(F1545,Discounts!A:C,3,0),0)","v":0},{"v":19.01,"d":"€19.01"}]
[36670,35700,1,"Normal",{"v":571.9,"d":"€571.90"},"E016",{"$f":"IFERROR(VLOOKUP(F1546,Discounts!A:C,3,0),0)","v":0},{"v":571.9,"d":"€571.90"}]
[36670,48550,1,"Normal",{"v":19.01,"d":"€19.01"},"SD/SG",{"$f":"IFERROR(VLOOKUP(F1547,Discounts!A:C,3,0),0)","v":0},{"v":19.01,"d":"€19.01"}]
[37000,15940,1,"Normal",{"v":368.6,"d":"€368.60"},"E016",{"$f":"IFERROR(VLOOKUP(F1548,Discounts!A:C,3,0),0)","v":0},{"v":368.6,"d":"€368.60"}]
[37010,15940,1,"Normal",{"v":368.6,"d":"€368.60"},"E016",{"$f":"IFERROR(VLOOKUP(F1549,Discounts!A:C,3,0),0)","v":0},{"v":368.6,"d":"€368.60"}]
[37010,48550,1,"Normal",{"v":19.01,"d":"€19.01"},"SD/SG",{"$f":"IFERROR(VLOOKUP(F1550,Discounts!A:C,3,0),0)","v":0},{"v":19.01,"d":"€19.01"}]
[37020,16660,1,"Normal",{"v":558.68,"d":"€558.68"},"E013",{"$f":"IFERROR(VLOOKUP(F1551,Discounts!A:C,3,0),0)","v":0},{"v":558.68,"d":"€558.68"}]
[37020,48550,1,"Normal",{"v":19.01,"d":"€19.01"},"SD/SG",{"$f":"IFERROR(VLOOKUP(F1552,Discounts!A:C,3,0),0)","v":0},{"v":19.01,"d":"€19.01"}]
[37030,15940,1,"Normal",{"v":368.6,"d":"€368.60"},"E016",{"$f":"IFERROR(VLOOKUP(F1553,Discounts!A:C,3,0),0)","v":0},{"v":368.6,"d":"€368.60"}]
[37030,48550,1,"Normal",{"v":19.01,"d":"€19.01"},"SD/SG",{"$f":"IFERROR(VLOOKUP(F1554,Discounts!A:C,3,0),0)","v":0},{"v":19.01,"d":"€19.01"}]
[37040,15980,1,"Normal",{"v":442.98,"d":"€442.98"},"E016",{"$f":"IFERROR(VLOOKUP(F1555,Discounts!A:C,3,0),0)","v":0},{"v":442.98,"d":"€442.98"}]
[37050,15980,1,"Normal",{"v":442.98,"d":"€442.98"},"E016",{"$f":"IFERROR(VLOOKUP(F1556,Discounts!A:C,3,0),0)","v":0},{"v":442.98,"d":"€442.98"}]
[37050,48550,1,"Normal",{"v":19.01,"d":"€19.01"},"SD/SG",{"$f":"IFERROR(VLOOKUP(F1557,Discounts!A:C,3,0),0)","v":0},{"v":19.01,"d":"€19.01"}]
[37060,16700,1,"Normal",{"v":606.61,"d":"€606.61"},"E013",{"$f":"IFERROR(VLOOKUP(F1558,Discounts!A:C,3,0),0)","v":0},{"v":606.61,"d":"€606.61"}]
[37060,48550,1,"Normal",{"v":19.01,"d":"€19.01"},"SD/SG",{"$f":"IFERROR(VLOOKUP(F1559,Discounts!A:C,3,0),0)","v":0},{"v":19.01,"d":"€19.01"}]
[37070,15980,1,"Normal",{"v":442.98,"d":"€442.98"},"E016",{"$f":"IFERROR(VLOOKUP(F1560,Discounts!A:C,3,0),0)","v":0},{"v":442.98,"d":"€442.98"}]
[37070,48550,1,"Normal",{"v":19.01,"d":"€19.01"},"SD/SG",{"$f":"IFERROR(VLOOKUP(F1561,Discounts!A:C,3,0),0)","v":0},{"v":19.01,"d":"€19.01"}]
[37400,15930,1,"Normal",{"v":432.23,"d":"€432.23"},"E016",{"$f":"IFERROR(VLOOKUP(F1562,Discounts!A:C,3,0),0)","v":0},{"v":432.23,"d":"€432.23"}]
[37410,16650,1,"Normal",{"v":634.71,"d":"€634.71"},"E013",{"$f":"IFERROR(VLOOKUP(F1563,Discounts!A:C,3,0),0)","v":0},{"v":634.71,"d":"€634.71"}]
[37420,15930,1,"Normal",{"v":432.23,"d":"€432.23"},"E016",{"$f":"IFERROR(VLOOKUP(F1564,Discounts!A:C,3,0),0)","v":0},{"v":432.23,"d":"€432.23"}]
[37420,48550,1,"Normal",{"v":19.01,"d":"€19.01"},"SD/SG",{"$f":"IFERROR(VLOOKUP(F1565,Discounts!A:C,3,0),0)","v":0},{"v":19.01,"d":"€19.01"}]
[37430,16650,1,"Normal",{"v":634.71,"d":"€634.71"},"E013",{"$f":"IFERROR(VLOOKUP(F1566,Discounts!A:C,3,0),0)","v":0},{"v":634.71,"d":"€634.71"}]
[37430,48550,1,"Normal",{"v":19.01,"d":"€19.01"},"SD/SG",{"$f":"IFERROR(VLOOKUP(F1567,Discounts!A:C,3,0),0)","v":0},{"v":19.01,"d":"€19.01"}]
[37440,15930,1,"Normal",{"v":432.23,"d":"€432.23"},"E016",{"$f":"IFERROR(VLOOKUP(F1568,Discounts!A:C,3,0),0)","v":0},{"v":432.23,"d":"€432.23"}]
[37440,48550,1,"Normal",{"v":19.01,"d":"€19.01"},"SD/SG",{"$f":"IFERROR(VLOOKUP(F1569,Discounts!A:C,3,0),0)","v":0},{"v":19.01,"d":"€19.01"}]
[37450,16650,1,"Normal",{"v":634.71,"d":"€634.71"},"E013",{"$f":"IFERROR(VLOOKUP(F1570,Discounts!A:C,3,0),0)","v":0},{"v":634.71,"d":"€634.71"}]
[37450,48550,1,"Normal",{"v":19.01,"d":"€19.01"},"SD/SG",{"$f":"IFERROR(VLOOKUP(F1571,Discounts!A:C,3,0),0)","v":0},{"v":19.01,"d":"€19.01"}]
[37460,15970,1,"Normal",{"v":523.97,"d":"€523.97"},"E016",{"$f":"IFERROR(VLOOKUP(F1572,Discounts!A:C,3,0),0)","v":0},{"v":523.97,"d":"€523.97"}]
[37470,16690,1,"Normal",{"v":741.32,"d":"€741.32"},"E013",{"$f":"IFERROR(VLOOKUP(F1573,Discounts!A:C,3,0),0)","v":0},{"v":741.32,"d":"€741.32"}]
[37480,15970,1,"Normal",{"v":523.97,"d":"€523.97"},"E016",{"$f":"IFERROR(VLOOKUP(F1574,Discounts!A:C,3,0),0)","v":0},{"v":523.97,"d":"€523.97"}]
[37480,48550,1,"Normal",{"v":19.01,"d":"€19.01"},"SD/SG",{"$f":"IFERROR(VLOOKUP(F1575,Discounts!A:C,3,0),0)","v":0},{"v":19.01,"d":"€19.01"}]
[37490,16690,1,"Normal",{"v":741.32,"d":"€741.32"},"E013",{"$f":"IFERROR(VLOOKUP(F1576,Discounts!A:C,3,0),0)","v":0},{"v":741.32,"d":"€741.32"}]
[37490,48550,1,"Normal",{"v":19.01,"d":"€19.01"},"SD/SG",{"$f":"IFERROR(VLOOKUP(F1577,Discounts!A:C,3,0),0)","v":0},{"v":19.01,"d":"€19.01"}]
[37500,15970,1,"Normal",{"v":523.97,"d":"€523.97"},"E016",{"$f":"IFERROR(VLOOKUP(F1578,Discounts!A:C,3,0),0)","v":0},{"v":523.97,"d":"€523.97"}]
[37500,48550,1,"Normal",{"v":19.01,"d":"€19.01"},"SD/SG",{"$f":"IFERROR(VLOOKUP(F1579,Discounts!A:C,3,0),0)","v":0},{"v":19.01,"d":"€19.01"}]
[37510,16690,1,"Normal",{"v":741.32,"d":"€741.32"},"E013",{"$f":"IFERROR(VLOOKUP(F1580,Discounts!A:C,3,0),0)","v":0},{"v":741.32,"d":"€741.32"}]
[37510,48550,1,"Normal",{"v":19.01,"d":"€19.01"},"SD/SG",{"$f":"IFERROR(VLOOKUP(F1581,Discounts!A:C,3,0),0)","v":0},{"v":19.01,"d":"€19.01"}]
[41680,123880,1,"Normal",{"v":1925.62,"d":"€1,925.62"},"A015",{"$f":"IFERROR(VLOOKUP(F1582,Discounts!A:C,3,0),0)","v":0},{"v":1925.62,"d":"€1,925.62"}]
[41680,134070,1,"Normal",0,"LUXE",{"$f":"IFERROR(VLOOKUP(F1583,Discounts!A:C,3,0),0)","v":0},0]
[41690,34260,1,"Normal",{"v":249.59,"d":"€249.59"},"LUXE",{"$f":"IFERROR(VLOOKUP(F1584,Discounts!A:C,3,0),0)","v":0},{"v":249.59,"d":"€249.59"}]
[41690,41670,1,"Normal",{"v":1925.62,"d":"€1,925.62"},"A015",{"$f":"IFERROR(VLOOKUP(F1585,Discounts!A:C,3,0),0)","v":0},{"v":1925.62,"d":"€1,925.62"}]
[41700,123890,1,"Combination",{"v":2175.21,"d":"€2,175.21"},"A015",{"$f":"IFERROR(VLOOKUP(F1586,Discounts!A:C,3,0),0)","v":0},{"v":2175.21,"d":"€2,175.21"}]
[41700,134070,1,"Normal",0,"LUXE",{"$f":"IFERROR(VLOOKUP(F1587,Discounts!A:C,3,0),0)","v":0},0]
[41720,123900,1,"Normal",{"v":1925.62,"d":"€1,925.62"},"A015",{"$f":"IFERROR(VLOOKUP(F1588,Discounts!A:C,3,0),0)","v":0},{"v":1925.62,"d":"€1,925.62"}]
[41720,134070,1,"Normal",0,"LUXE",{"$f":"IFERROR(VLOOKUP(F1589,Discounts!A:C,3,0),0)","v":0},0]
[41730,34260,1,"Normal",{"v":249.59,"d":"€249.59"},"LUXE",{"$f":"IFERROR(VLOOKUP(F1590,Discounts!A:C,3,0),0)","v":0},{"v":249.59,"d":"€249.59"}]
[41730,41710,1,"Normal",{"v":1925.62,"d":"€1,925.62"},"A015",{"$f":"IFERROR(VLOOKUP(F1591,Discounts!A:C,3,0),0)","v":0},{"v":1925.62,"d":"€1,925.62"}]
[41740,123910,1,"Combination",{"v":2175.21,"d":"€2,175.21"},"A015",{"$f":"IFERROR(VLOOKUP(F1592,Discounts!A:C,3,0),0)","v":0},{"v":2175.21,"d":"€2,175.21"}]
[41740,134070,1,"Normal",0,"LUXE",{"$f":"IFERROR(VLOOKUP(F1593,Discounts!A:C,3,0),0)","v":0},0]
[41760,123920,1,"Normal",{"v":2158.68,"d":"€2,158.68"},"A015",{"$f":"IFERROR(VLOOKUP(F1594,Discounts!A:C,3,0),0)","v":0},{"v":2158.68,"d":"€2,158.68"}]
[41760,134070,1,"Normal",0,"LUXE",{"$f":"IFERROR(VLOOKUP(F1595,Discounts!A:C,3,0),0)","v":0},0]
[41770,34260,1,"Normal",{"v":249.59,"d":"€249.59"},"LUXE",{"$f":"IFERROR(VLOOKUP(F1596,Discounts!A:C,3,0),0)","v":0},{"v":249.59,"d":"€249.59"}]
[41770,41750,1,"Normal",{"v":2158.68,"d":"€2,158.68"},"A015",{"$f":"IFERROR(VLOOKUP(F1597,Discounts!A:C,3,0),0)","v":0},{"v":2158.68,"d":"€2,158.68"}]
[41780,123930,1,"Combination",{"v":2408.27,"d":"€2,408.27"},"A015",{"$f":"IFERROR(VLOOKUP(F1598,Discounts!A:C,3,0),0)","v":0},{"v":2408.27,"d":"€2,408.27"}]
[41780,134070,1,"Normal",0,"LUXE",{"$f":"IFERROR(VLOOKUP(F1599,Discounts!A:C,3,0),0)","v":0},0]
[41800,123940,1,"Normal",{"v":1357.85,"d":"€1,357.85"},"A015",{"$f":"IFERROR(VLOOKUP(F1600,Discounts!A:C,3,0),0)","v":0},{"v":1357.85,"d":"€1,357.85"}]
[41800,134070,1,"Normal",0,"LUXE",{"$f":"IFERROR(VLOOKUP(F1601,Discounts!A:C,3,0),0)","v":0},0]
[41810,34260,1,"Normal",{"v":249.59,"d":"€249.59"},"LUXE",{"$f":"IFERROR(VLOOKUP(F1602,Discounts!A:C,3,0),0)","v":0},{"$f":"IF(D1602=\"Normal\",E1602*(1-G1602),SUMIF(A:A,B1602,H:H)*C1602)","v":{"v":249.59,"d":"€249.59"}}]
[41810,41790,1,"Normal",{"v":1357.85,"d":"€1,357.85"},"A015",{"$f":"IFERROR(VLOOKUP(F1603,Discounts!A:C,3,0),0)","v":0},{"v":1357.85,"d":"€1,357.85"}]
[41820,123950,1,"Combination",{"v":1607.44,"d":"€1,607.44"},"A015",{"$f":"IFERROR(VLOOKUP(F1604,Discounts!A:C,3,0),0)","v":0},{"v":1607.4399999999998,"d":"€1,607.44"}]
[41820,134070,1,"Normal",0,"LUXE",{"$f":"IFERROR(VLOOKUP(F1605,Discounts!A:C,3,0),0)","v":0},0]
[41840,123960,1,"Normal",{"v":1357.85,"d":"€1,357.85"},"A015",{"$f":"IFERROR(VLOOKUP(F1606,Discounts!A:C,3,0),0)","v":0},{"v":1357.85,"d":"€1,357.85"}]
[41840,134070,1,"Normal",0,"LUXE",{"$f":"IFERROR(VLOOKUP(F1607,Discounts!A:C,3,0),0)","v":0},0]
[41850,34260,1,"Normal",{"v":249.59,"d":"€249.59"},"LUXE",{"$f":"IFERROR(VLOOKUP(F1608,Discounts!A:C,3,0),0)","v":0},{"v":249.59,"d":"€249.59"}]
[41850,41830,1,"Normal",{"v":1357.85,"d":"€1,357.85"},"A015",{"$f":"IFERROR(VLOOKUP(F1609,Discounts!A:C,3,0),0)","v":0},{"v":1357.85,"d":"€1,357.85"}]
[41860,123970,1,"Combination",{"v":1607.44,"d":"€1,607.44"},"A015",{"$f":"IFERROR(VLOOKUP(F1610,Discounts!A:C,3,0),0)","v":0},{"v":1607.4399999999998,"d":"€1,607.44"}]
[41860,134070,1,"Normal",0,"LUXE",{"$f":"IFERROR(VLOOKUP(F1611,Discounts!A:C,3,0),0)","v":0},0]
[41880,123980,1,"Normal",{"v":1255.37,"d":"€1,255.37"},"A010",{"$f":"IFERROR(VLOOKUP(F1612,Discounts!A:C,3,0),0)","v":0},{"v":1255.37,"d":"€1,255.37"}]
[41880,134070,1,"Normal",0,"LUXE",{"$f":"IFERROR(VLOOKUP(F1613,Discounts!A:C,3,0),0)","v":0},0]
[41890,34260,1,"Normal",{"v":249.59,"d":"€249.59"},"LUXE",{"$f":"IFERROR(VLOOKUP(F1614,Discounts!A:C,3,0),0)","v":0},{"v":249.59,"d":"€249.59"}]
[41890,41870,1,"Normal",{"v":1255.37,"d":"€1,255.37"},"A010",{"$f":"IFERROR(VLOOKUP(F1615,Discounts!A:C,3,0),0)","v":0},{"v":1255.37,"d":"€1,255.37"}]
[41900,123990,1,"Combination",{"v":1504.96,"d":"€1,504.96"},"A010",{"$f":"IFERROR(VLOOKUP(F1616,Discounts!A:C,3,0),0)","v":0},{"v":1504.9599999999998,"d":"€1,504.96"}]
[41900,134070,1,"Normal",0,"LUXE",{"$f":"IFERROR(VLOOKUP(F1617,Discounts!A:C,3,0),0)","v":0},0]
[41920,124000,1,"Normal",{"v":1138.02,"d":"€1,138.02"},"A010",{"$f":"IFERROR(VLOOKUP(F1618,Discounts!A:C,3,0),0)","v":0},{"v":1138.02,"d":"€1,138.02"}]
[41920,134070,1,"Normal",0,"LUXE",{"$f":"IFERROR(VLOOKUP(F1619,Discounts!A:C,3,0),0)","v":0},0]
[41930,34260,1,"Normal",{"v":249.59,"d":"€249.59"},"LUXE",{"$f":"IFERROR(VLOOKUP(F1620,Discounts!A:C,3,0),0)","v":0},{"v":249.59,"d":"€249.59"}]
[41930,41910,1,"Normal",{"v":1138.02,"d":"€1,138.02"},"A010",{"$f":"IFERROR(VLOOKUP(F1621,Discounts!A:C,3,0),0)","v":0},{"v":1138.02,"d":"€1,138.02"}]
[41940,124010,1,"Combination",{"v":1387.61,"d":"€1,387.61"},"A010",{"$f":"IFERROR(VLOOKUP(F1622,Discounts!A:C,3,0),0)","v":0},{"v":1387.61,"d":"€1,387.61"}]
[41940,134070,1,"Normal",0,"LUXE",{"$f":"IFERROR(VLOOKUP(F1623,Discounts!A:C,3,0),0)","v":0},0]
[41960,124020,1,"Normal",{"v":1219.83,"d":"€1,219.83"},"A010",{"$f":"IFERROR(VLOOKUP(F1624,Discounts!A:C,3,0),0)","v":0},{"v":1219.83,"d":"€1,219.83"}]
[41960,134070,1,"Normal",0,"LUXE",{"$f":"IFERROR(VLOOKUP(F1625,Discounts!A:C,3,0),0)","v":0},0]
[41970,34260,1,"Normal",{"v":249.59,"d":"€249.59"},"LUXE",{"$f":"IFERROR(VLOOKUP(F1626,Discounts!A:C,3,0),0)","v":0},{"v":249.59,"d":"€249.59"}]
[41970,41950,1,"Normal",{"v":1219.83,"d":"€1,219.83"},"A010",{"$f":"IFERROR(VLOOKUP(F1627,Discounts!A:C,3,0),0)","v":0},{"v":1219.83,"d":"€1,219.83"}]
[41980,124030,1,"Combination",{"v":1469.42,"d":"€1,469.42"},"A010",{"$f":"IFERROR(VLOOKUP(F1628,Discounts!A:C,3,0),0)","v":0},{"v":1469.4199999999998,"d":"€1,469.42"}]
[41980,134070,1,"Normal",0,"LUXE",{"$f":"IFERROR(VLOOKUP(F1629,Discounts!A:C,3,0),0)","v":0},0]
[42000,124040,1,"Normal",{"v":1295.04,"d":"€1,295.04"},"A010",{"$f":"IFERROR(VLOOKUP(F1630,Discounts!A:C,3,0),0)","v":0},{"v":1295.04,"d":"€1,295.04"}]
[42000,134070,1,"Normal",0,"LUXE",{"$f":"IFERROR(VLOOKUP(F1631,Discounts!A:C,3,0),0)","v":0},0]
[42040,124050,1,"Normal",{"v":1310.74,"d":"€1,310.74"},"A010",{"$f":"IFERROR(VLOOKUP(F1632,Discounts!A:C,3,0),0)","v":0},{"v":1310.74,"d":"€1,310.74"}]
[42040,134070,1,"Normal",0,"LUXE",{"$f":"IFERROR(VLOOKUP(F1633,Discounts!A:C,3,0),0)","v":0},0]
[42050,34260,1,"Normal",{"v":249.59,"d":"€249.59"},"LUXE",{"$f":"IFERROR(VLOOKUP(F1634,Discounts!A:C,3,0),0)","v":0},{"v":249.59,"d":"€249.59"}]
[42050,42030,1,"Normal",{"v":1310.74,"d":"€1,310.74"},"A010",{"$f":"IFERROR(VLOOKUP(F1635,Discounts!A:C,3,0),0)","v":0},{"v":1310.74,"d":"€1,310.74"}]
[42060,124060,1,"Combination",{"v":1560.33,"d":"€1,560.33"},"A010",{"$f":"IFERROR(VLOOKUP(F1636,Discounts!A:C,3,0),0)","v":0},{"v":1560.33,"d":"€1,560.33"}]
[42060,134070,1,"Normal",0,"LUXE",{"$f":"IFERROR(VLOOKUP(F1637,Discounts!A:C,3,0),0)","v":0},0]
[44680,44480,1,"Normal",{"v":1064.46,"d":"€1,064.46"},"A010",{"$f":"IFERROR(VLOOKUP(F1638,Discounts!A:C,3,0),0)","v":0},{"v":1064.46,"d":"€1,064.46"}]
[44680,53080,1,"Normal",{"v":132.23,"d":"€132.23"},"LUXE",{"$f":"IFERROR(VLOOKUP(F1639,Discounts!A:C,3,0),0)","v":0},{"v":132.23,"d":"€132.23"}]
[44690,44490,1,"Normal",{"v":1052.07,"d":"€1,052.07"},"A010",{"$f":"IFERROR(VLOOKUP(F1640,Discounts!A:C,3,0),0)","v":0},{"v":1052.07,"d":"€1,052.07"}]
[44690,53080,1,"Normal",{"v":132.23,"d":"€132.23"},"LUXE",{"$f":"IFERROR(VLOOKUP(F1641,Discounts!A:C,3,0),0)","v":0},{"v":132.23,"d":"€132.23"}]
[44700,44500,1,"Normal",{"v":1094.21,"d":"€1,094.21"},"A010",{"$f":"IFERROR(VLOOKUP(F1642,Discounts!A:C,3,0),0)","v":0},{"v":1094.21,"d":"€1,094.21"}]
[44700,53080,1,"Normal",{"v":132.23,"d":"€132.23"},"LUXE",{"$f":"IFERROR(VLOOKUP(F1643,Discounts!A:C,3,0),0)","v":0},{"v":132.23,"d":"€132.23"}]
[44710,44510,1,"Normal",{"v":1177.69,"d":"€1,177.69"},"A010",{"$f":"IFERROR(VLOOKUP(F1644,Discounts!A:C,3,0),0)","v":0},{"v":1177.69,"d":"€1,177.69"}]
[44710,53080,1,"Normal",{"v":132.23,"d":"€132.23"},"LUXE",{"$f":"IFERROR(VLOOKUP(F1645,Discounts!A:C,3,0),0)","v":0},{"v":132.23,"d":"€132.23"}]
[44720,44520,1,"Normal",{"v":1006.61,"d":"€1,006.61"},"A010",{"$f":"IFERROR(VLOOKUP(F1646,Discounts!A:C,3,0),0)","v":0},{"v":1006.61,"d":"€1,006.61"}]
[44720,53080,1,"Normal",{"v":132.23,"d":"€132.23"},"LUXE",{"$f":"IFERROR(VLOOKUP(F1647,Discounts!A:C,3,0),0)","v":0},{"v":132.23,"d":"€132.23"}]
[44730,44530,1,"Normal",{"v":1157.85,"d":"€1,157.85"},"A010",{"$f":"IFERROR(VLOOKUP(F1648,Discounts!A:C,3,0),0)","v":0},{"v":1157.85,"d":"€1,157.85"}]
[44730,53080,1,"Normal",{"v":132.23,"d":"€132.23"},"LUXE",{"$f":"IFERROR(VLOOKUP(F1649,Discounts!A:C,3,0),0)","v":0},{"v":132.23,"d":"€132.23"}]
[44740,44540,1,"Normal",{"v":1194.21,"d":"€1,194.21"},"A010",{"$f":"IFERROR(VLOOKUP(F1650,Discounts!A:C,3,0),0)","v":0},{"v":1194.21,"d":"€1,194.21"}]
[44740,53080,1,"Normal",{"v":132.23,"d":"€132.23"},"LUXE",{"$f":"IFERROR(VLOOKUP(F1651,Discounts!A:C,3,0),0)","v":0},{"v":132.23,"d":"€132.23"}]
[44750,44550,1,"Normal",{"v":1304.96,"d":"€1,304.96"},"A010",{"$f":"IFERROR(VLOOKUP(F1652,Discounts!A:C,3,0),0)","v":0},{"v":1304.96,"d":"€1,304.96"}]
[44750,53080,1,"Normal",{"v":132.23,"d":"€132.23"},"LUXE",{"$f":"IFERROR(VLOOKUP(F1653,Discounts!A:C,3,0),0)","v":0},{"v":132.23,"d":"€132.23"}]
[44760,44560,1,"Normal",{"v":934.71,"d":"€934.71"},"A010",{"$f":"IFERROR(VLOOKUP(F1654,Discounts!A:C,3,0),0)","v":0},{"v":934.71,"d":"€934.71"}]
[44760,53080,1,"Normal",{"v":132.23,"d":"€132.23"},"LUXE",{"$f":"IFERROR(VLOOKUP(F1655,Discounts!A:C,3,0),0)","v":0},{"v":132.23,"d":"€132.23"}]
[44770,44570,1,"Normal",{"v":1157.85,"d":"€1,157.85"},"A010",{"$f":"IFERROR(VLOOKUP(F1656,Discounts!A:C,3,0),0)","v":0},{"v":1157.85,"d":"€1,157.85"}]
[44770,53080,1,"Normal",{"v":132.23,"d":"€132.23"},"LUXE",{"$f":"IFERROR(VLOOKUP(F1657,Discounts!A:C,3,0),0)","v":0},{"v":132.23,"d":"€132.23"}]
[44780,44580,1,"Normal",{"v":1016.53,"d":"€1,016.53"},"A010",{"$f":"IFERROR(VLOOKUP(F1658,Discounts!A:C,3,0),0)","v":0},{"v":1016.53,"d":"€1,016.53"}]
[44780,53080,1,"Normal",{"v":132.23,"d":"€132.23"},"LUXE",{"$f":"IFERROR(VLOOKUP(F1659,Discounts!A:C,3,0),0)","v":0},{"v":132.23,"d":"€132.23"}]
[44790,44590,1,"Normal",{"v":1083.47,"d":"€1,083.47"},"A010",{"$f":"IFERROR(VLOOKUP(F1660,Discounts!A:C,3,0),0)","v":0},{"v":1083.47,"d":"€1,083.47"}]
[44790,53080,1,"Normal",{"v":132.23,"d":"€132.23"},"LUXE",{"$f":"IFERROR(VLOOKUP(F1661,Discounts!A:C,3,0),0)","v":0},{"v":132.23,"d":"€132.23"}]
[44800,44600,1,"Normal",{"v":1160.33,"d":"€1,160.33"},"A010",{"$f":"IFERROR(VLOOKUP(F1662,Discounts!A:C,3,0),0)","v":0},{"v":1160.33,"d":"€1,160.33"}]
[44800,53080,1,"Normal",{"v":132.23,"d":"€132.23"},"LUXE",{"$f":"IFERROR(VLOOKUP(F1663,Discounts!A:C,3,0),0)","v":0},{"v":132.23,"d":"€132.23"}]
[44810,44610,1,"Normal",{"v":1128.93,"d":"€1,128.93"},"A010",{"$f":"IFERROR(VLOOKUP(F1664,Discounts!A:C,3,0),0)","v":0},{"v":1128.93,"d":"€1,128.93"}]
[44810,53080,1,"Normal",{"v":132.23,"d":"€132.23"},"LUXE",{"$f":"IFERROR(VLOOKUP(F1665,Discounts!A:C,3,0),0)","v":0},{"v":132.23,"d":"€132.23"}]
[44820,44620,1,"Normal",{"v":1466.94,"d":"€1,466.94"},"A010",{"$f":"IFERROR(VLOOKUP(F1666,Discounts!A:C,3,0),0)","v":0},{"$f":"IF(D1666=\"Normal\",E1666*(1-G1666),SUMIF(A:A,B1666,H:H)*C1666)","v":{"v":1466.94,"d":"€1,466.94"}}]
[44820,53080,1,"Normal",{"v":132.23,"d":"€132.23"},"LUXE",{"$f":"IFERROR(VLOOKUP(F1667,Discounts!A:C,3,0),0)","v":0},{"v":132.23,"d":"€132.23"}]
[44830,44630,1,"Normal",{"v":1352.89,"d":"€1,352.89"},"A010",{"$f":"IFERROR(VLOOKUP(F1668,Discounts!A:C,3,0),0)","v":0},{"v":1352.89,"d":"€1,352.89"}]
[44830,53080,1,"Normal",{"v":132.23,"d":"€132.23"},"LUXE",{"$f":"IFERROR(VLOOKUP(F1669,Discounts!A:C,3,0),0)","v":0},{"v":132.23,"d":"€132.23"}]
[44840,44640,1,"Normal",{"v":1428.93,"d":"€1,428.93"},"A010",{"$f":"IFERROR(VLOOKUP(F1670,Discounts!A:C,3,0),0)","v":0},{"v":1428.93,"d":"€1,428.93"}]
[44840,53080,1,"Normal",{"v":132.23,"d":"€132.23"},"LUXE",{"$f":"IFERROR(VLOOKUP(F1671,Discounts!A:C,3,0),0)","v":0},{"v":132.23,"d":"€132.23"}]
[44850,44650,1,"Normal",{"v":1536.36,"d":"€1,536.36"},"A010",{"$f":"IFERROR(VLOOKUP(F1672,Discounts!A:C,3,0),0)","v":0},{"v":1536.36,"d":"€1,536.36"}]
[44850,53080,1,"Normal",{"v":132.23,"d":"€132.23"},"LUXE",{"$f":"IFERROR(VLOOKUP(F1673,Discounts!A:C,3,0),0)","v":0},{"v":132.23,"d":"€132.23"}]
[44860,44660,1,"Normal",{"v":1583.47,"d":"€1,583.47"},"A010",{"$f":"IFERROR(VLOOKUP(F1674,Discounts!A:C,3,0),0)","v":0},{"v":1583.47,"d":"€1,583.47"}]
[44860,53080,1,"Normal",{"v":132.23,"d":"€132.23"},"LUXE",{"$f":"IFERROR(VLOOKUP(F1675,Discounts!A:C,3,0),0)","v":0},{"v":132.23,"d":"€132.23"}]
[44870,44670,1,"Normal",{"v":1689.26,"d":"€1,689.26"},"A010",{"$f":"IFERROR(VLOOKUP(F1676,Discounts!A:C,3,0),0)","v":0},{"v":1689.26,"d":"€1,689.26"}]
[44870,53080,1,"Normal",{"v":132.23,"d":"€132.23"},"LUXE",{"$f":"IFERROR(VLOOKUP(F1677,Discounts!A:C,3,0),0)","v":0},{"v":132.23,"d":"€132.23"}]
[44970,29740,1,"Normal",{"v":877.69,"d":"€877.69"},"LUXE",{"$f":"IFERROR(VLOOKUP(F1678,Discounts!A:C,3,0),0)","v":0},{"v":877.69,"d":"€877.69"}]
[44970,54020,1,"Normal",{"v":105.79,"d":"€105.79"},"LUXE",{"$f":"IFERROR(VLOOKUP(F1679,Discounts!A:C,3,0),0)","v":0},{"v":105.79,"d":"€105.79"}]
[44980,29760,1,"Normal",{"v":877.69,"d":"€877.69"},"LUXE",{"$f":"IFERROR(VLOOKUP(F1680,Discounts!A:C,3,0),0)","v":0},{"v":877.69,"d":"€877.69"}]
[44980,54020,1,"Normal",{"v":105.79,"d":"€105.79"},"LUXE",{"$f":"IFERROR(VLOOKUP(F1681,Discounts!A:C,3,0),0)","v":0},{"v":105.79,"d":"€105.79"}]
[44990,29780,1,"Normal",{"v":877.69,"d":"€877.69"},"LUXE",{"$f":"IFERROR(VLOOKUP(F1682,Discounts!A:C,3,0),0)","v":0},{"v":877.69,"d":"€877.69"}]
[44990,54020,1,"Normal",{"v":105.79,"d":"€105.79"},"LUXE",{"$f":"IFERROR(VLOOKUP(F1683,Discounts!A:C,3,0),0)","v":0},{"v":105.79,"d":"€105.79"}]
[45000,29800,1,"Normal",{"v":877.69,"d":"€877.69"},"LUXE",{"$f":"IFERROR(VLOOKUP(F1684,Discounts!A:C,3,0),0)","v":0},{"v":877.69,"d":"€877.69"}]
[45000,54020,1,"Normal",{"v":105.79,"d":"€105.79"},"LUXE",{"$f":"IFERROR(VLOOKUP(F1685,Discounts!A:C,3,0),0)","v":0},{"v":105.79,"d":"€105.79"}]
[45010,29930,1,"Normal",{"v":572.73,"d":"€572.73"},"LUXE",{"$f":"IFERROR(VLOOKUP(F1686,Discounts!A:C,3,0),0)","v":0},{"v":572.73,"d":"€572.73"}]
[45010,54020,1,"Normal",{"v":105.79,"d":"€105.79"},"LUXE",{"$f":"IFERROR(VLOOKUP(F1687,Discounts!A:C,3,0),0)","v":0},{"v":105.79,"d":"€105.79"}]
[45220,44890,1,"Normal",{"v":40.5,"d":"€40.50"},"SD/SG",{"$f":"IFERROR(VLOOKUP(F1688,Discounts!A:C,3,0),0)","v":0},{"v":40.5,"d":"€40.50"}]
[45220,45210,1,"Normal",{"v":506.61,"d":"€506.61"},"D050",{"$f":"IFERROR(VLOOKUP(F1689,Discounts!A:C,3,0),0)","v":0},{"v":506.61,"d":"€506.61"}]
[45940,124070,1,"Normal",{"v":1357.85,"d":"€1,357.85"},"A015",{"$f":"IFERROR(VLOOKUP(F1690,Discounts!A:C,3,0),0)","v":0},{"v":1357.85,"d":"€1,357.85"}]
[45940,134070,1,"Normal",0,"LUXE",{"$f":"IFERROR(VLOOKUP(F1691,Discounts!A:C,3,0),0)","v":0},0]
[45950,34260,1,"Normal",{"v":249.59,"d":"€249.59"},"LUXE",{"$f":"IFERROR(VLOOKUP(F1692,Discounts!A:C,3,0),0)","v":0},{"v":249.59,"d":"€249.59"}]
[45950,45930,1,"Normal",{"v":1357.85,"d":"€1,357.85"},"A015",{"$f":"IFERROR(VLOOKUP(F1693,Discounts!A:C,3,0),0)","v":0},{"v":1357.85,"d":"€1,357.85"}]
[45960,124080,1,"Combination",{"v":1607.44,"d":"€1,607.44"},"A015",{"$f":"IFERROR(VLOOKUP(F1694,Discounts!A:C,3,0),0)","v":0},{"v":1607.4399999999998,"d":"€1,607.44"}]
[45960,134070,1,"Normal",0,"LUXE",{"$f":"IFERROR(VLOOKUP(F1695,Discounts!A:C,3,0),0)","v":0},0]
[46050,124090,1,"Normal",{"v":1357.85,"d":"€1,357.85"},"A015",{"$f":"IFERROR(VLOOKUP(F1696,Discounts!A:C,3,0),0)","v":0},{"v":1357.85,"d":"€1,357.85"}]
[46050,134070,1,"Normal",0,"LUXE",{"$f":"IFERROR(VLOOKUP(F1697,Discounts!A:C,3,0),0)","v":0},0]
[46060,34260,1,"Normal",{"v":249.59,"d":"€249.59"},"LUXE",{"$f":"IFERROR(VLOOKUP(F1698,Discounts!A:C,3,0),0)","v":0},{"v":249.59,"d":"€249.59"}]
[46060,46040,1,"Normal",{"v":1357.85,"d":"€1,357.85"},"A015",{"$f":"IFERROR(VLOOKUP(F1699,Discounts!A:C,3,0),0)","v":0},{"v":1357.85,"d":"€1,357.85"}]
[46070,124100,1,"Combination",{"v":1607.44,"d":"€1,607.44"},"A015",{"$f":"IFERROR(VLOOKUP(F1700,Discounts!A:C,3,0),0)","v":0},{"v":1607.4399999999998,"d":"€1,607.44"}]
[46070,134070,1,"Normal",0,"LUXE",{"$f":"IFERROR(VLOOKUP(F1701,Discounts!A:C,3,0),0)","v":0},0]
[48460,44890,1,"Normal",{"v":40.5,"d":"€40.50"},"SD/SG",{"$f":"IFERROR(VLOOKUP(F1702,Discounts!A:C,3,0),0)","v":0},{"v":40.5,"d":"€40.50"}]
[48460,78040,1,"Combination",{"v":573.55,"d":"€573.55"},"",{"$f":"IFERROR(VLOOKUP(F1703,Discounts!A:C,3,0),0)","v":0},{"v":573.55,"d":"€573.55"}]
[48480,44940,5,"Normal",{"v":380.15,"d":"€380.15"},"LUXE",{"$f":"IFERROR(VLOOKUP(F1704,Discounts!A:C,3,0),0)","v":0},{"v":380.15,"d":"€380.15"}]
[48480,44950,1,"Normal",{"v":137.19,"d":"€137.19"},"O115",{"$f":"IFERROR(VLOOKUP(F1705,Discounts!A:C,3,0),0)","v":0},{"v":137.19,"d":"€137.19"}]
[49020,78170,1,"Combination",{"v":137.19,"d":"€137.19"},"SD/SG",{"$f":"IFERROR(VLOOKUP(F1706,Discounts!A:C,3,0),0)","v":0},{"v":137.19,"d":"€137.19"}]
[49030,78170,1,"Combination",{"v":137.19,"d":"€137.19"},"SD/SG",{"$f":"IFERROR(VLOOKUP(F1707,Discounts!A:C,3,0),0)","v":0},{"v":137.19,"d":"€137.19"}]
[49210,49200,1,"Normal",{"v":19.01,"d":"€19.01"},"O505",{"$f":"IFERROR(VLOOKUP(F1708,Discounts!A:C,3,0),0)","v":0},{"v":19.01,"d":"€19.01"}]
[49210,156790,1,"Normal",{"v":16.53,"d":"€16.53"},"O505",{"$f":"IFERROR(VLOOKUP(F1709,Discounts!A:C,3,0),0)","v":0},{"v":16.53,"d":"€16.53"}]
[49400,160400,1,"Normal",{"v":6.61,"d":"€6.61"},"O505",{"$f":"IFERROR(VLOOKUP(F1710,Discounts!A:C,3,0),0)","v":0},{"v":6.61,"d":"€6.61"}]
[49400,160410,1,"Normal",{"v":4.96,"d":"€4.96"},"O505",{"$f":"IFERROR(VLOOKUP(F1711,Discounts!A:C,3,0),0)","v":0},{"v":4.96,"d":"€4.96"}]
[49400,160420,2,"Normal",{"v":18.18,"d":"€18.18"},"O505",{"$f":"IFERROR(VLOOKUP(F1712,Discounts!A:C,3,0),0)","v":0},{"v":18.18,"d":"€18.18"}]
[49400,160430,2,"Normal",{"v":9.92,"d":"€9.92"},"O505",{"$f":"IFERROR(VLOOKUP(F1713,Discounts!A:C,3,0),0)","v":0},{"v":9.92,"d":"€9.92"}]
[49400,160440,1,"Normal",{"v":6.61,"d":"€6.61"},"O505",{"$f":"IFERROR(VLOOKUP(F1714,Discounts!A:C,3,0),0)","v":0},{"v":6.61,"d":"€6.61"}]
[49490,148380,1,"Normal",{"v":28.93,"d":"€28.93"},"SD/SG",{"$f":"IFERROR(VLOOKUP(F1715,Discounts!A:C,3,0),0)","v":0},{"v":28.93,"d":"€28.93"}]
[49490,148420,1,"Normal",{"v":50.41,"d":"€50.41"},"LUXE",{"$f":"IFERROR(VLOOKUP(F1716,Discounts!A:C,3,0),0)","v":0},{"v":50.41,"d":"€50.41"}]
[50000,124110,1,"Normal",{"v":2296.69,"d":"€2,296.69"},"A010",{"$f":"IFERROR(VLOOKUP(F1717,Discounts!A:C,3,0),0)","v":0},{"v":2296.69,"d":"€2,296.69"}]
[50000,134070,1,"Normal",0,"LUXE",{"$f":"IFERROR(VLOOKUP(F1718,Discounts!A:C,3,0),0)","v":0},0]
[50020,124120,1,"Normal",{"v":2030.58,"d":"€2,030.58"},"A010",{"$f":"IFERROR(VLOOKUP(F1719,Discounts!A:C,3,0),0)","v":0},{"v":2030.58,"d":"€2,030.58"}]
[50020,134070,1,"Normal",0,"LUXE",{"$f":"IFERROR(VLOOKUP(F1720,Discounts!A:C,3,0),0)","v":0},0]
[50040,124130,1,"Normal",{"v":2390.08,"d":"€2,390.08"},"A010",{"$f":"IFERROR(VLOOKUP(F1721,Discounts!A:C,3,0),0)","v":0},{"v":2390.08,"d":"€2,390.08"}]
[50040,134070,1,"Normal",0,"LUXE",{"$f":"IFERROR(VLOOKUP(F1722,Discounts!A:C,3,0),0)","v":0},0]
[50060,124140,1,"Normal",{"v":2023.14,"d":"€2,023.14"},"A010",{"$f":"IFERROR(VLOOKUP(F1723,Discounts!A:C,3,0),0)","v":0},{"v":2023.14,"d":"€2,023.14"}]
[50060,134070,1,"Normal",0,"LUXE",{"$f":"IFERROR(VLOOKUP(F1724,Discounts!A:C,3,0),0)","v":0},0]
[50080,124150,1,"Normal",{"v":1472.73,"d":"€1,472.73"},"A010",{"$f":"IFERROR(VLOOKUP(F1725,Discounts!A:C,3,0),0)","v":0},{"v":1472.73,"d":"€1,472.73"}]
[50080,134070,1,"Normal",0,"LUXE",{"$f":"IFERROR(VLOOKUP(F1726,Discounts!A:C,3,0),0)","v":0},0]
[50090,34260,1,"Normal",{"v":249.59,"d":"€249.59"},"LUXE",{"$f":"IFERROR(VLOOKUP(F1727,Discounts!A:C,3,0),0)","v":0},{"v":249.59,"d":"€249.59"}]
[50090,50070,1,"Normal",{"v":1472.73,"d":"€1,472.73"},"A010",{"$f":"IFERROR(VLOOKUP(F1728,Discounts!A:C,3,0),0)","v":0},{"v":1472.73,"d":"€1,472.73"}]
[50100,124160,1,"Combination",{"v":1722.32,"d":"€1,722.32"},"A010",{"$f":"IFERROR(VLOOKUP(F1729,Discounts!A:C,3,0),0)","v":0},{"v":1722.32,"d":"€1,722.32"}]
[50100,134070,1,"Normal",0,"LUXE",{"$f":"IFERROR(VLOOKUP(F1730,Discounts!A:C,3,0),0)","v":0},{"$f":"IF(D1730=\"Normal\",E1730*(1-G1730),SUMIF(A:A,B1730,H:H)*C1730)","v":0}]
[50120,124170,1,"Normal",{"v":1650.41,"d":"€1,650.41"},"A010",{"$f":"IFERROR(VLOOKUP(F1731,Discounts!A:C,3,0),0)","v":0},{"v":1650.41,"d":"€1,650.41"}]
[50120,134070,1,"Normal",0,"LUXE",{"$f":"IFERROR(VLOOKUP(F1732,Discounts!A:C,3,0),0)","v":0},0]
[50130,34260,1,"Normal",{"v":249.59,"d":"€249.59"},"LUXE",{"$f":"IFERROR(VLOOKUP(F1733,Discounts!A:C,3,0),0)","v":0},{"v":249.59,"d":"€249.59"}]
[50130,50110,1,"Normal",{"v":1650.41,"d":"€1,650.41"},"A010",{"$f":"IFERROR(VLOOKUP(F1734,Discounts!A:C,3,0),0)","v":0},{"v":1650.41,"d":"€1,650.41"}]
[50140,124180,1,"Combination",{"v":1900,"d":"€1,900.00"},"A010",{"$f":"IFERROR(VLOOKUP(F1735,Discounts!A:C,3,0),0)","v":0},{"v":1900,"d":"€1,900.00"}]
[50140,134070,1,"Normal",0,"LUXE",{"$f":"IFERROR(VLOOKUP(F1736,Discounts!A:C,3,0),0)","v":0},0]
[50160,124190,1,"Normal",{"v":2527.27,"d":"€2,527.27"},"A010",{"$f":"IFERROR(VLOOKUP(F1737,Discounts!A:C,3,0),0)","v":0},{"v":2527.27,"d":"€2,527.27"}]
[50160,134070,1,"Normal",0,"LUXE",{"$f":"IFERROR(VLOOKUP(F1738,Discounts!A:C,3,0),0)","v":0},0]
[50180,124200,1,"Normal",{"v":3676.03,"d":"€3,676.03"},"A010",{"$f":"IFERROR(VLOOKUP(F1739,Discounts!A:C,3,0),0)","v":0},{"v":3676.03,"d":"€3,676.03"}]
[50180,134070,1,"Normal",0,"LUXE",{"$f":"IFERROR(VLOOKUP(F1740,Discounts!A:C,3,0),0)","v":0},0]
[50200,124210,1,"Normal",{"v":1261.98,"d":"€1,261.98"},"A010",{"$f":"IFERROR(VLOOKUP(F1741,Discounts!A:C,3,0),0)","v":0},{"v":1261.98,"d":"€1,261.98"}]
[50200,134070,1,"Normal",0,"LUXE",{"$f":"IFERROR(VLOOKUP(F1742,Discounts!A:C,3,0),0)","v":0},0]
[50210,34260,1,"Normal",{"v":249.59,"d":"€249.59"},"LUXE",{"$f":"IFERROR(VLOOKUP(F1743,Discounts!A:C,3,0),0)","v":0},{"v":249.59,"d":"€249.59"}]
[50210,50190,1,"Normal",{"v":1261.98,"d":"€1,261.98"},"A010",{"$f":"IFERROR(VLOOKUP(F1744,Discounts!A:C,3,0),0)","v":0},{"v":1261.98,"d":"€1,261.98"}]
[50220,124220,1,"Combination",{"v":1511.57,"d":"€1,511.57"},"A010",{"$f":"IFERROR(VLOOKUP(F1745,Discounts!A:C,3,0),0)","v":0},{"v":1511.57,"d":"€1,511.57"}]
[50220,134070,1,"Normal",0,"LUXE",{"$f":"IFERROR(VLOOKUP(F1746,Discounts!A:C,3,0),0)","v":0},0]
[50240,124230,1,"Normal",{"v":1217.36,"d":"€1,217.36"},"A010",{"$f":"IFERROR(VLOOKUP(F1747,Discounts!A:C,3,0),0)","v":0},{"v":1217.36,"d":"€1,217.36"}]
[50240,134070,1,"Normal",0,"LUXE",{"$f":"IFERROR(VLOOKUP(F1748,Discounts!A:C,3,0),0)","v":0},0]
[50250,34260,1,"Normal",{"v":249.59,"d":"€249.59"},"LUXE",{"$f":"IFERROR(VLOOKUP(F1749,Discounts!A:C,3,0),0)","v":0},{"v":249.59,"d":"€249.59"}]
[50250,50230,1,"Normal",{"v":1217.36,"d":"€1,217.36"},"A010",{"$f":"IFERROR(VLOOKUP(F1750,Discounts!A:C,3,0),0)","v":0},{"v":1217.36,"d":"€1,217.36"}]
[50260,124240,1,"Combination",{"v":1466.95,"d":"€1,466.95"},"A010",{"$f":"IFERROR(VLOOKUP(F1751,Discounts!A:C,3,0),0)","v":0},{"v":1466.9499999999998,"d":"€1,466.95"}]
[50260,134070,1,"Normal",0,"LUXE",{"$f":"IFERROR(VLOOKUP(F1752,Discounts!A:C,3,0),0)","v":0},0]
[50280,124250,1,"Normal",{"v":1123.14,"d":"€1,123.14"},"A010",{"$f":"IFERROR(VLOOKUP(F1753,Discounts!A:C,3,0),0)","v":0},{"v":1123.14,"d":"€1,123.14"}]
[50280,134070,1,"Normal",0,"LUXE",{"$f":"IFERROR(VLOOKUP(F1754,Discounts!A:C,3,0),0)","v":0},0]
[50290,34260,1,"Normal",{"v":249.59,"d":"€249.59"},"LUXE",{"$f":"IFERROR(VLOOKUP(F1755,Discounts!A:C,3,0),0)","v":0},{"v":249.59,"d":"€249.59"}]
[50290,50270,1,"Normal",{"v":1123.14,"d":"€1,123.14"},"A010",{"$f":"IFERROR(VLOOKUP(F1756,Discounts!A:C,3,0),0)","v":0},{"v":1123.14,"d":"€1,123.14"}]
[50300,124260,1,"Combination",{"v":1372.73,"d":"€1,372.73"},"A010",{"$f":"IFERROR(VLOOKUP(F1757,Discounts!A:C,3,0),0)","v":0},{"v":1372.73,"d":"€1,372.73"}]
[50300,134070,1,"Normal",0,"LUXE",{"$f":"IFERROR(VLOOKUP(F1758,Discounts!A:C,3,0),0)","v":0},0]
[50320,124270,1,"Normal",{"v":1261.98,"d":"€1,261.98"},"A010",{"$f":"IFERROR(VLOOKUP(F1759,Discounts!A:C,3,0),0)","v":0},{"v":1261.98,"d":"€1,261.98"}]
[50320,134070,1,"Normal",0,"LUXE",{"$f":"IFERROR(VLOOKUP(F1760,Discounts!A:C,3,0),0)","v":0},0]
[50330,34260,1,"Normal",{"v":249.59,"d":"€249.59"},"LUXE",{"$f":"IFERROR(VLOOKUP(F1761,Discounts!A:C,3,0),0)","v":0},{"v":249.59,"d":"€249.59"}]
[50330,50310,1,"Normal",{"v":1261.98,"d":"€1,261.98"},"A010",{"$f":"IFERROR(VLOOKUP(F1762,Discounts!A:C,3,0),0)","v":0},{"v":1261.98,"d":"€1,261.98"}]
[50340,124280,1,"Combination",{"v":1511.57,"d":"€1,511.57"},"A010",{"$f":"IFERROR(VLOOKUP(F1763,Discounts!A:C,3,0),0)","v":0},{"v":1511.57,"d":"€1,511.57"}]
[50340,134070,1,"Normal",0,"LUXE",{"$f":"IFERROR(VLOOKUP(F1764,Discounts!A:C,3,0),0)","v":0},0]
[50360,124290,1,"Normal",{"v":1343.8,"d":"€1,343.80"},"A010",{"$f":"IFERROR(VLOOKUP(F1765,Discounts!A:C,3,0),0)","v":0},{"v":1343.8,"d":"€1,343.80"}]
[50360,134070,1,"Normal",0,"LUXE",{"$f":"IFERROR(VLOOKUP(F1766,Discounts!A:C,3,0),0)","v":0},0]
[50370,34260,1,"Normal",{"v":249.59,"d":"€249.59"},"LUXE",{"$f":"IFERROR(VLOOKUP(F1767,Discounts!A:C,3,0),0)","v":0},{"v":249.59,"d":"€249.59"}]
[50370,50350,1,"Normal",{"v":1343.8,"d":"€1,343.80"},"A010",{"$f":"IFERROR(VLOOKUP(F1768,Discounts!A:C,3,0),0)","v":0},{"v":1343.8,"d":"€1,343.80"}]
[50380,124300,1,"Combination",{"v":1593.39,"d":"€1,593.39"},"A010",{"$f":"IFERROR(VLOOKUP(F1769,Discounts!A:C,3,0),0)","v":0},{"v":1593.3899999999999,"d":"€1,593.39"}]
[50380,134070,1,"Normal",0,"LUXE",{"$f":"IFERROR(VLOOKUP(F1770,Discounts!A:C,3,0),0)","v":0},0]
[50400,124310,1,"Normal",{"v":1606.61,"d":"€1,606.61"},"A010",{"$f":"IFERROR(VLOOKUP(F1771,Discounts!A:C,3,0),0)","v":0},{"v":1606.61,"d":"€1,606.61"}]
[50400,134070,1,"Normal",0,"LUXE",{"$f":"IFERROR(VLOOKUP(F1772,Discounts!A:C,3,0),0)","v":0},0]
[50420,124320,1,"Normal",{"v":1378.51,"d":"€1,378.51"},"A010",{"$f":"IFERROR(VLOOKUP(F1773,Discounts!A:C,3,0),0)","v":0},{"v":1378.51,"d":"€1,378.51"}]
[50420,134070,1,"Normal",0,"LUXE",{"$f":"IFERROR(VLOOKUP(F1774,Discounts!A:C,3,0),0)","v":0},0]
[50440,124330,1,"Normal",{"v":1976.03,"d":"€1,976.03"},"A010",{"$f":"IFERROR(VLOOKUP(F1775,Discounts!A:C,3,0),0)","v":0},{"v":1976.03,"d":"€1,976.03"}]
[50440,134070,1,"Normal",0,"LUXE",{"$f":"IFERROR(VLOOKUP(F1776,Discounts!A:C,3,0),0)","v":0},0]
[50450,34260,1,"Normal",{"v":249.59,"d":"€249.59"},"LUXE",{"$f":"IFERROR(VLOOKUP(F1777,Discounts!A:C,3,0),0)","v":0},{"v":249.59,"d":"€249.59"}]
[50450,50430,1,"Normal",{"v":1976.03,"d":"€1,976.03"},"A010",{"$f":"IFERROR(VLOOKUP(F1778,Discounts!A:C,3,0),0)","v":0},{"v":1976.03,"d":"€1,976.03"}]
[50460,124340,1,"Combination",{"v":2225.62,"d":"€2,225.62"},"A010",{"$f":"IFERROR(VLOOKUP(F1779,Discounts!A:C,3,0),0)","v":0},{"v":2225.62,"d":"€2,225.62"}]
[50460,134070,1,"Normal",0,"LUXE",{"$f":"IFERROR(VLOOKUP(F1780,Discounts!A:C,3,0),0)","v":0},0]
[50480,124350,1,"Normal",{"v":2069.42,"d":"€2,069.42"},"A010",{"$f":"IFERROR(VLOOKUP(F1781,Discounts!A:C,3,0),0)","v":0},{"v":2069.42,"d":"€2,069.42"}]
[50480,134070,1,"Normal",0,"LUXE",{"$f":"IFERROR(VLOOKUP(F1782,Discounts!A:C,3,0),0)","v":0},0]
[50490,34260,1,"Normal",{"v":249.59,"d":"€249.59"},"LUXE",{"$f":"IFERROR(VLOOKUP(F1783,Discounts!A:C,3,0),0)","v":0},{"v":249.59,"d":"€249.59"}]
[50490,50470,1,"Normal",{"v":2069.42,"d":"€2,069.42"},"A010",{"$f":"IFERROR(VLOOKUP(F1784,Discounts!A:C,3,0),0)","v":0},{"v":2069.42,"d":"€2,069.42"}]
[50500,124360,1,"Combination",{"v":2319.01,"d":"€2,319.01"},"A010",{"$f":"IFERROR(VLOOKUP(F1785,Discounts!A:C,3,0),0)","v":0},{"v":2319.01,"d":"€2,319.01"}]
[50500,134070,1,"Normal",0,"LUXE",{"$f":"IFERROR(VLOOKUP(F1786,Discounts!A:C,3,0),0)","v":0},0]
[51570,124370,1,"Normal",{"v":1048.76,"d":"€1,048.76"},"A010",{"$f":"IFERROR(VLOOKUP(F1787,Discounts!A:C,3,0),0)","v":0},{"v":1048.76,"d":"€1,048.76"}]
[51570,134070,1,"Normal",0,"LUXE",{"$f":"IFERROR(VLOOKUP(F1788,Discounts!A:C,3,0),0)","v":0},0]
[51580,34260,1,"Normal",{"v":249.59,"d":"€249.59"},"LUXE",{"$f":"IFERROR(VLOOKUP(F1789,Discounts!A:C,3,0),0)","v":0},{"v":249.59,"d":"€249.59"}]
[51580,51560,1,"Normal",{"v":1048.76,"d":"€1,048.76"},"A010",{"$f":"IFERROR(VLOOKUP(F1790,Discounts!A:C,3,0),0)","v":0},{"v":1048.76,"d":"€1,048.76"}]
[51590,124380,1,"Combination",{"v":1298.35,"d":"€1,298.35"},"A010",{"$f":"IFERROR(VLOOKUP(F1791,Discounts!A:C,3,0),0)","v":0},{"v":1298.35,"d":"€1,298.35"}]
[51590,134070,1,"Normal",0,"LUXE",{"$f":"IFERROR(VLOOKUP(F1792,Discounts!A:C,3,0),0)","v":0},0]
[51610,124390,1,"Normal",{"v":1180.17,"d":"€1,180.17"},"A010",{"$f":"IFERROR(VLOOKUP(F1793,Discounts!A:C,3,0),0)","v":0},{"v":1180.17,"d":"€1,180.17"}]
[51610,134070,1,"Normal",0,"LUXE",{"$f":"IFERROR(VLOOKUP(F1794,Discounts!A:C,3,0),0)","v":0},{"$f":"IF(D1794=\"Normal\",E1794*(1-G1794),SUMIF(A:A,B1794,H:H)*C1794)","v":0}]
[51620,34260,1,"Normal",{"v":249.59,"d":"€249.59"},"LUXE",{"$f":"IFERROR(VLOOKUP(F1795,Discounts!A:C,3,0),0)","v":0},{"v":249.59,"d":"€249.59"}]
[51620,51600,1,"Normal",{"v":1180.17,"d":"€1,180.17"},"A010",{"$f":"IFERROR(VLOOKUP(F1796,Discounts!A:C,3,0),0)","v":0},{"v":1180.17,"d":"€1,180.17"}]
[51630,124400,1,"Combination",{"v":1429.76,"d":"€1,429.76"},"A010",{"$f":"IFERROR(VLOOKUP(F1797,Discounts!A:C,3,0),0)","v":0},{"v":1429.76,"d":"€1,429.76"}]
[51630,134070,1,"Normal",0,"LUXE",{"$f":"IFERROR(VLOOKUP(F1798,Discounts!A:C,3,0),0)","v":0},0]
[51650,124410,1,"Normal",{"v":1300.83,"d":"€1,300.83"},"A010",{"$f":"IFERROR(VLOOKUP(F1799,Discounts!A:C,3,0),0)","v":0},{"v":1300.83,"d":"€1,300.83"}]
[51650,134070,1,"Normal",0,"LUXE",{"$f":"IFERROR(VLOOKUP(F1800,Discounts!A:C,3,0),0)","v":0},0]
[51660,34260,1,"Normal",{"v":249.59,"d":"€249.59"},"LUXE",{"$f":"IFERROR(VLOOKUP(F1801,Discounts!A:C,3,0),0)","v":0},{"v":249.59,"d":"€249.59"}]
[51660,51640,1,"Normal",{"v":1300.83,"d":"€1,300.83"},"A010",{"$f":"IFERROR(VLOOKUP(F1802,Discounts!A:C,3,0),0)","v":0},{"v":1300.83,"d":"€1,300.83"}]
[51670,124420,1,"Combination",{"v":1550.42,"d":"€1,550.42"},"A010",{"$f":"IFERROR(VLOOKUP(F1803,Discounts!A:C,3,0),0)","v":0},{"v":1550.4199999999998,"d":"€1,550.42"}]
[51670,134070,1,"Normal",0,"LUXE",{"$f":"IFERROR(VLOOKUP(F1804,Discounts!A:C,3,0),0)","v":0},0]
[51690,124430,1,"Normal",{"v":1428.93,"d":"€1,428.93"},"A010",{"$f":"IFERROR(VLOOKUP(F1805,Discounts!A:C,3,0),0)","v":0},{"v":1428.93,"d":"€1,428.93"}]
[51690,134070,1,"Normal",0,"LUXE",{"$f":"IFERROR(VLOOKUP(F1806,Discounts!A:C,3,0),0)","v":0},0]
[51700,34260,1,"Normal",{"v":249.59,"d":"€249.59"},"LUXE",{"$f":"IFERROR(VLOOKUP(F1807,Discounts!A:C,3,0),0)","v":0},{"v":249.59,"d":"€249.59"}]
[51700,51680,1,"Normal",{"v":1428.93,"d":"€1,428.93"},"A010",{"$f":"IFERROR(VLOOKUP(F1808,Discounts!A:C,3,0),0)","v":0},{"v":1428.93,"d":"€1,428.93"}]
[51710,124440,1,"Combination",{"v":1678.52,"d":"€1,678.52"},"A010",{"$f":"IFERROR(VLOOKUP(F1809,Discounts!A:C,3,0),0)","v":0},{"v":1678.52,"d":"€1,678.52"}]
[51710,134070,1,"Normal",0,"LUXE",{"$f":"IFERROR(VLOOKUP(F1810,Discounts!A:C,3,0),0)","v":0},0]
[51730,124450,1,"Normal",{"v":1161.98,"d":"€1,161.98"},"A010",{"$f":"IFERROR(VLOOKUP(F1811,Discounts!A:C,3,0),0)","v":0},{"v":1161.98,"d":"€1,161.98"}]
[51730,134070,1,"Normal",0,"LUXE",{"$f":"IFERROR(VLOOKUP(F1812,Discounts!A:C,3,0),0)","v":0},0]
[51740,34260,1,"Normal",{"v":249.59,"d":"€249.59"},"LUXE",{"$f":"IFERROR(VLOOKUP(F1813,Discounts!A:C,3,0),0)","v":0},{"v":249.59,"d":"€249.59"}]
[51740,51720,1,"Normal",{"v":1161.98,"d":"€1,161.98"},"A010",{"$f":"IFERROR(VLOOKUP(F1814,Discounts!A:C,3,0),0)","v":0},{"v":1161.98,"d":"€1,161.98"}]
[51750,124460,1,"Combination",{"v":1411.57,"d":"€1,411.57"},"A010",{"$f":"IFERROR(VLOOKUP(F1815,Discounts!A:C,3,0),0)","v":0},{"v":1411.57,"d":"€1,411.57"}]
[51750,134070,1,"Normal",0,"LUXE",{"$f":"IFERROR(VLOOKUP(F1816,Discounts!A:C,3,0),0)","v":0},0]
[51770,124470,1,"Normal",{"v":1382.64,"d":"€1,382.64"},"A010",{"$f":"IFERROR(VLOOKUP(F1817,Discounts!A:C,3,0),0)","v":0},{"v":1382.64,"d":"€1,382.64"}]
[51770,134070,1,"Normal",0,"LUXE",{"$f":"IFERROR(VLOOKUP(F1818,Discounts!A:C,3,0),0)","v":0},0]
[51780,34260,1,"Normal",{"v":249.59,"d":"€249.59"},"LUXE",{"$f":"IFERROR(VLOOKUP(F1819,Discounts!A:C,3,0),0)","v":0},{"v":249.59,"d":"€249.59"}]
[51780,51760,1,"Normal",{"v":1382.64,"d":"€1,382.64"},"A010",{"$f":"IFERROR(VLOOKUP(F1820,Discounts!A:C,3,0),0)","v":0},{"v":1382.64,"d":"€1,382.64"}]
[51790,124480,1,"Combination",{"v":1632.23,"d":"€1,632.23"},"A010",{"$f":"IFERROR(VLOOKUP(F1821,Discounts!A:C,3,0),0)","v":0},{"v":1632.23,"d":"€1,632.23"}]
[51790,134070,1,"Normal",0,"LUXE",{"$f":"IFERROR(VLOOKUP(F1822,Discounts!A:C,3,0),0)","v":0},0]
[51810,124490,1,"Normal",{"v":1604.13,"d":"€1,604.13"},"A010",{"$f":"IFERROR(VLOOKUP(F1823,Discounts!A:C,3,0),0)","v":0},{"v":1604.13,"d":"€1,604.13"}]
[51810,134070,1,"Normal",0,"LUXE",{"$f":"IFERROR(VLOOKUP(F1824,Discounts!A:C,3,0),0)","v":0},0]
[51820,34260,1,"Normal",{"v":249.59,"d":"€249.59"},"LUXE",{"$f":"IFERROR(VLOOKUP(F1825,Discounts!A:C,3,0),0)","v":0},{"v":249.59,"d":"€249.59"}]
[51820,51800,1,"Normal",{"v":1604.13,"d":"€1,604.13"},"A010",{"$f":"IFERROR(VLOOKUP(F1826,Discounts!A:C,3,0),0)","v":0},{"v":1604.13,"d":"€1,604.13"}]
[51830,124500,1,"Combination",{"v":1853.72,"d":"€1,853.72"},"A010",{"$f":"IFERROR(VLOOKUP(F1827,Discounts!A:C,3,0),0)","v":0},{"v":1853.72,"d":"€1,853.72"}]
[51830,134070,1,"Normal",0,"LUXE",{"$f":"IFERROR(VLOOKUP(F1828,Discounts!A:C,3,0),0)","v":0},0]
[51850,124510,1,"Normal",{"v":1837.19,"d":"€1,837.19"},"A010",{"$f":"IFERROR(VLOOKUP(F1829,Discounts!A:C,3,0),0)","v":0},{"v":1837.19,"d":"€1,837.19"}]
[51850,134070,1,"Normal",0,"LUXE",{"$f":"IFERROR(VLOOKUP(F1830,Discounts!A:C,3,0),0)","v":0},0]
[51860,34260,1,"Normal",{"v":249.59,"d":"€249.59"},"LUXE",{"$f":"IFERROR(VLOOKUP(F1831,Discounts!A:C,3,0),0)","v":0},{"v":249.59,"d":"€249.59"}]
[51860,51840,1,"Normal",{"v":1837.19,"d":"€1,837.19"},"A010",{"$f":"IFERROR(VLOOKUP(F1832,Discounts!A:C,3,0),0)","v":0},{"v":1837.19,"d":"€1,837.19"}]
[51870,124520,1,"Combination",{"v":2086.78,"d":"€2,086.78"},"A010",{"$f":"IFERROR(VLOOKUP(F1833,Discounts!A:C,3,0),0)","v":0},{"v":2086.78,"d":"€2,086.78"}]
[51870,134070,1,"Normal",0,"LUXE",{"$f":"IFERROR(VLOOKUP(F1834,Discounts!A:C,3,0),0)","v":0},0]
[51890,124530,1,"Normal",{"v":1609.09,"d":"€1,609.09"},"A015",{"$f":"IFERROR(VLOOKUP(F1835,Discounts!A:C,3,0),0)","v":0},{"v":1609.09,"d":"€1,609.09"}]
[51890,134070,1,"Normal",0,"LUXE",{"$f":"IFERROR(VLOOKUP(F1836,Discounts!A:C,3,0),0)","v":0},0]
[51900,34260,1,"Normal",{"v":249.59,"d":"€249.59"},"LUXE",{"$f":"IFERROR(VLOOKUP(F1837,Discounts!A:C,3,0),0)","v":0},{"v":249.59,"d":"€249.59"}]
[51900,51880,1,"Normal",{"v":1609.09,"d":"€1,609.09"},"A015",{"$f":"IFERROR(VLOOKUP(F1838,Discounts!A:C,3,0),0)","v":0},{"v":1609.09,"d":"€1,609.09"}]
[51910,124540,1,"Combination",{"v":1858.68,"d":"€1,858.68"},"A015",{"$f":"IFERROR(VLOOKUP(F1839,Discounts!A:C,3,0),0)","v":0},{"v":1858.6799999999998,"d":"€1,858.68"}]
[51910,134070,1,"Normal",0,"LUXE",{"$f":"IFERROR(VLOOKUP(F1840,Discounts!A:C,3,0),0)","v":0},0]
[51930,124550,1,"Normal",{"v":2072.73,"d":"€2,072.73"},"A015",{"$f":"IFERROR(VLOOKUP(F1841,Discounts!A:C,3,0),0)","v":0},{"v":2072.73,"d":"€2,072.73"}]
[51930,134070,1,"Normal",0,"LUXE",{"$f":"IFERROR(VLOOKUP(F1842,Discounts!A:C,3,0),0)","v":0},0]
[51940,34260,1,"Normal",{"v":249.59,"d":"€249.59"},"LUXE",{"$f":"IFERROR(VLOOKUP(F1843,Discounts!A:C,3,0),0)","v":0},{"v":249.59,"d":"€249.59"}]
[51940,51920,1,"Normal",{"v":2072.73,"d":"€2,072.73"},"A015",{"$f":"IFERROR(VLOOKUP(F1844,Discounts!A:C,3,0),0)","v":0},{"v":2072.73,"d":"€2,072.73"}]
[51950,124560,1,"Combination",{"v":2322.32,"d":"€2,322.32"},"A015",{"$f":"IFERROR(VLOOKUP(F1845,Discounts!A:C,3,0),0)","v":0},{"v":2322.32,"d":"€2,322.32"}]
[51950,134070,1,"Normal",0,"LUXE",{"$f":"IFERROR(VLOOKUP(F1846,Discounts!A:C,3,0),0)","v":0},0]
[51970,124570,1,"Normal",{"v":2537.19,"d":"€2,537.19"},"A015",{"$f":"IFERROR(VLOOKUP(F1847,Discounts!A:C,3,0),0)","v":0},{"v":2537.19,"d":"€2,537.19"}]
[51970,134070,1,"Normal",0,"LUXE",{"$f":"IFERROR(VLOOKUP(F1848,Discounts!A:C,3,0),0)","v":0},0]
[51980,34260,1,"Normal",{"v":249.59,"d":"€249.59"},"LUXE",{"$f":"IFERROR(VLOOKUP(F1849,Discounts!A:C,3,0),0)","v":0},{"v":249.59,"d":"€249.59"}]
[51980,51960,1,"Normal",{"v":2537.19,"d":"€2,537.19"},"A015",{"$f":"IFERROR(VLOOKUP(F1850,Discounts!A:C,3,0),0)","v":0},{"v":2537.19,"d":"€2,537.19"}]
[51990,124580,1,"Combination",{"v":2786.78,"d":"€2,786.78"},"A015",{"$f":"IFERROR(VLOOKUP(F1851,Discounts!A:C,3,0),0)","v":0},{"v":2786.78,"d":"€2,786.78"}]
[51990,134070,1,"Normal",0,"LUXE",{"$f":"IFERROR(VLOOKUP(F1852,Discounts!A:C,3,0),0)","v":0},0]
[52010,124590,1,"Normal",{"v":1210.74,"d":"€1,210.74"},"A010",{"$f":"IFERROR(VLOOKUP(F1853,Discounts!A:C,3,0),0)","v":0},{"v":1210.74,"d":"€1,210.74"}]
[52010,134070,1,"Normal",0,"LUXE",{"$f":"IFERROR(VLOOKUP(F1854,Discounts!A:C,3,0),0)","v":0},0]
[52020,34260,1,"Normal",{"v":249.59,"d":"€249.59"},"LUXE",{"$f":"IFERROR(VLOOKUP(F1855,Discounts!A:C,3,0),0)","v":0},{"v":249.59,"d":"€249.59"}]
[52020,52000,1,"Normal",{"v":1210.74,"d":"€1,210.74"},"A010",{"$f":"IFERROR(VLOOKUP(F1856,Discounts!A:C,3,0),0)","v":0},{"v":1210.74,"d":"€1,210.74"}]
[52030,124600,1,"Combination",{"v":1460.33,"d":"€1,460.33"},"A010",{"$f":"IFERROR(VLOOKUP(F1857,Discounts!A:C,3,0),0)","v":0},{"v":1460.33,"d":"€1,460.33"}]
[52030,134070,1,"Normal",0,"LUXE",{"$f":"IFERROR(VLOOKUP(F1858,Discounts!A:C,3,0),0)","v":0},{"$f":"IF(D1858=\"Normal\",E1858*(1-G1858),SUMIF(A:A,B1858,H:H)*C1858)","v":0}]
[52050,124610,1,"Normal",{"v":1503.31,"d":"€1,503.31"},"A010",{"$f":"IFERROR(VLOOKUP(F1859,Discounts!A:C,3,0),0)","v":0},{"v":1503.31,"d":"€1,503.31"}]
[52050,134070,1,"Normal",0,"LUXE",{"$f":"IFERROR(VLOOKUP(F1860,Discounts!A:C,3,0),0)","v":0},0]
[52060,34260,1,"Normal",{"v":249.59,"d":"€249.59"},"LUXE",{"$f":"IFERROR(VLOOKUP(F1861,Discounts!A:C,3,0),0)","v":0},{"v":249.59,"d":"€249.59"}]
[52060,52040,1,"Normal",{"v":1503.31,"d":"€1,503.31"},"A010",{"$f":"IFERROR(VLOOKUP(F1862,Discounts!A:C,3,0),0)","v":0},{"v":1503.31,"d":"€1,503.31"}]
[52070,124620,1,"Combination",{"v":1752.9,"d":"€1,752.90"},"A010",{"$f":"IFERROR(VLOOKUP(F1863,Discounts!A:C,3,0),0)","v":0},{"v":1752.8999999999999,"d":"€1,752.90"}]
[52070,134070,1,"Normal",0,"LUXE",{"$f":"IFERROR(VLOOKUP(F1864,Discounts!A:C,3,0),0)","v":0},0]
[52090,124630,1,"Normal",{"v":1276.86,"d":"€1,276.86"},"A010",{"$f":"IFERROR(VLOOKUP(F1865,Discounts!A:C,3,0),0)","v":0},{"v":1276.86,"d":"€1,276.86"}]
[52090,134070,1,"Normal",0,"LUXE",{"$f":"IFERROR(VLOOKUP(F1866,Discounts!A:C,3,0),0)","v":0},0]
[52100,34260,1,"Normal",{"v":249.59,"d":"€249.59"},"LUXE",{"$f":"IFERROR(VLOOKUP(F1867,Discounts!A:C,3,0),0)","v":0},{"v":249.59,"d":"€249.59"}]
[52100,52080,1,"Normal",{"v":1276.86,"d":"€1,276.86"},"A010",{"$f":"IFERROR(VLOOKUP(F1868,Discounts!A:C,3,0),0)","v":0},{"v":1276.86,"d":"€1,276.86"}]
[52110,124640,1,"Combination",{"v":1526.45,"d":"€1,526.45"},"A010",{"$f":"IFERROR(VLOOKUP(F1869,Discounts!A:C,3,0),0)","v":0},{"v":1526.4499999999998,"d":"€1,526.45"}]
[52110,134070,1,"Normal",0,"LUXE",{"$f":"IFERROR(VLOOKUP(F1870,Discounts!A:C,3,0),0)","v":0},0]
[52130,124650,1,"Normal",{"v":1598.35,"d":"€1,598.35"},"A010",{"$f":"IFERROR(VLOOKUP(F1871,Discounts!A:C,3,0),0)","v":0},{"v":1598.35,"d":"€1,598.35"}]
[52130,134070,1,"Normal",0,"LUXE",{"$f":"IFERROR(VLOOKUP(F1872,Discounts!A:C,3,0),0)","v":0},0]
[52140,34260,1,"Normal",{"v":249.59,"d":"€249.59"},"LUXE",{"$f":"IFERROR(VLOOKUP(F1873,Discounts!A:C,3,0),0)","v":0},{"v":249.59,"d":"€249.59"}]
[52140,52120,1,"Normal",{"v":1598.35,"d":"€1,598.35"},"A010",{"$f":"IFERROR(VLOOKUP(F1874,Discounts!A:C,3,0),0)","v":0},{"v":1598.35,"d":"€1,598.35"}]
[52150,124660,1,"Combination",{"v":1847.94,"d":"€1,847.94"},"A010",{"$f":"IFERROR(VLOOKUP(F1875,Discounts!A:C,3,0),0)","v":0},{"v":1847.9399999999998,"d":"€1,847.94"}]
[52150,134070,1,"Normal",0,"LUXE",{"$f":"IFERROR(VLOOKUP(F1876,Discounts!A:C,3,0),0)","v":0},0]
[52170,124670,1,"Normal",{"v":1700,"d":"€1,700.00"},"A010",{"$f":"IFERROR(VLOOKUP(F1877,Discounts!A:C,3,0),0)","v":0},{"v":1700,"d":"€1,700.00"}]
[52170,134070,1,"Normal",0,"LUXE",{"$f":"IFERROR(VLOOKUP(F1878,Discounts!A:C,3,0),0)","v":0},0]
[52180,34260,1,"Normal",{"v":249.59,"d":"€249.59"},"LUXE",{"$f":"IFERROR(VLOOKUP(F1879,Discounts!A:C,3,0),0)","v":0},{"v":249.59,"d":"€249.59"}]
[52180,52160,1,"Normal",{"v":1700,"d":"€1,700.00"},"A010",{"$f":"IFERROR(VLOOKUP(F1880,Discounts!A:C,3,0),0)","v":0},{"v":1700,"d":"€1,700.00"}]
[52190,124680,1,"Combination",{"v":1949.59,"d":"€1,949.59"},"A010",{"$f":"IFERROR(VLOOKUP(F1881,Discounts!A:C,3,0),0)","v":0},{"v":1949.59,"d":"€1,949.59"}]
[52190,134070,1,"Normal",0,"LUXE",{"$f":"IFERROR(VLOOKUP(F1882,Discounts!A:C,3,0),0)","v":0},0]
[52210,124690,1,"Normal",{"v":1572.73,"d":"€1,572.73"},"A010",{"$f":"IFERROR(VLOOKUP(F1883,Discounts!A:C,3,0),0)","v":0},{"v":1572.73,"d":"€1,572.73"}]
[52210,134070,1,"Normal",0,"LUXE",{"$f":"IFERROR(VLOOKUP(F1884,Discounts!A:C,3,0),0)","v":0},0]
[52220,34260,1,"Normal",{"v":249.59,"d":"€249.59"},"LUXE",{"$f":"IFERROR(VLOOKUP(F1885,Discounts!A:C,3,0),0)","v":0},{"v":249.59,"d":"€249.59"}]
[52220,52200,1,"Normal",{"v":1572.73,"d":"€1,572.73"},"A010",{"$f":"IFERROR(VLOOKUP(F1886,Discounts!A:C,3,0),0)","v":0},{"v":1572.73,"d":"€1,572.73"}]
[52230,124700,1,"Combination",{"v":1822.32,"d":"€1,822.32"},"A010",{"$f":"IFERROR(VLOOKUP(F1887,Discounts!A:C,3,0),0)","v":0},{"v":1822.32,"d":"€1,822.32"}]
[52230,134070,1,"Normal",0,"LUXE",{"$f":"IFERROR(VLOOKUP(F1888,Discounts!A:C,3,0),0)","v":0},0]
[52260,34260,1,"Normal",{"v":249.59,"d":"€249.59"},"LUXE",{"$f":"IFERROR(VLOOKUP(F1889,Discounts!A:C,3,0),0)","v":0},{"v":249.59,"d":"€249.59"}]
[52260,52240,1,"Normal",{"v":715.7,"d":"€715.70"},"C010",{"$f":"IFERROR(VLOOKUP(F1890,Discounts!A:C,3,0),0)","v":0},{"v":715.7,"d":"€715.70"}]
[52270,34260,1,"Normal",{"v":249.59,"d":"€249.59"},"LUXE",{"$f":"IFERROR(VLOOKUP(F1891,Discounts!A:C,3,0),0)","v":0},{"v":249.59,"d":"€249.59"}]
[52270,52250,1,"Normal",{"v":715.7,"d":"€715.70"},"A010",{"$f":"IFERROR(VLOOKUP(F1892,Discounts!A:C,3,0),0)","v":0},{"v":715.7,"d":"€715.70"}]
[52420,34260,2,"Normal",{"v":499.18,"d":"€499.18"},"LUXE",{"$f":"IFERROR(VLOOKUP(F1893,Discounts!A:C,3,0),0)","v":0},{"v":499.18,"d":"€499.18"}]
[52420,52400,1,"Normal",{"v":1884.3,"d":"€1,884.30"},"C010",{"$f":"IFERROR(VLOOKUP(F1894,Discounts!A:C,3,0),0)","v":0},{"v":1884.3,"d":"€1,884.30"}]
[52430,34260,2,"Normal",{"v":499.18,"d":"€499.18"},"LUXE",{"$f":"IFERROR(VLOOKUP(F1895,Discounts!A:C,3,0),0)","v":0},{"v":499.18,"d":"€499.18"}]
[52430,52410,1,"Normal",{"v":1884.3,"d":"€1,884.30"},"C010",{"$f":"IFERROR(VLOOKUP(F1896,Discounts!A:C,3,0),0)","v":0},{"v":1884.3,"d":"€1,884.30"}]
[52950,34260,1,"Normal",{"v":249.59,"d":"€249.59"},"LUXE",{"$f":"IFERROR(VLOOKUP(F1897,Discounts!A:C,3,0),0)","v":0},{"v":249.59,"d":"€249.59"}]
[52950,41990,1,"Normal",{"v":1295.04,"d":"€1,295.04"},"A010",{"$f":"IFERROR(VLOOKUP(F1898,Discounts!A:C,3,0),0)","v":0},{"v":1295.04,"d":"€1,295.04"}]
[52960,124810,1,"Combination",{"v":1544.63,"d":"€1,544.63"},"A010",{"$f":"IFERROR(VLOOKUP(F1899,Discounts!A:C,3,0),0)","v":0},{"v":1544.6299999999999,"d":"€1,544.63"}]
[52960,134070,1,"Normal",0,"LUXE",{"$f":"IFERROR(VLOOKUP(F1900,Discounts!A:C,3,0),0)","v":0},0]
[53510,18720,-1,"Normal",{"v":-557.02,"d":"€(557.02)"},"D060",{"$f":"IFERROR(VLOOKUP(F1901,Discounts!A:C,3,0),0)","v":0},{"v":-557.02,"d":"€(557.02)"}]
[53510,18740,1,"Normal",{"v":600.83,"d":"€600.83"},"D060",{"$f":"IFERROR(VLOOKUP(F1902,Discounts!A:C,3,0),0)","v":0},{"v":600.83,"d":"€600.83"}]
[53520,18720,-1,"Normal",{"v":-557.02,"d":"€(557.02)"},"D060",{"$f":"IFERROR(VLOOKUP(F1903,Discounts!A:C,3,0),0)","v":0},{"v":-557.02,"d":"€(557.02)"}]
[53520,18770,1,"Normal",{"v":673.55,"d":"€673.55"},"D060",{"$f":"IFERROR(VLOOKUP(F1904,Discounts!A:C,3,0),0)","v":0},{"v":673.55,"d":"€673.55"}]
[53530,18720,-1,"Normal",{"v":-557.02,"d":"€(557.02)"},"D060",{"$f":"IFERROR(VLOOKUP(F1905,Discounts!A:C,3,0),0)","v":0},{"v":-557.02,"d":"€(557.02)"}]
[53530,18800,1,"Normal",{"v":791.74,"d":"€791.74"},"D060",{"$f":"IFERROR(VLOOKUP(F1906,Discounts!A:C,3,0),0)","v":0},{"v":791.74,"d":"€791.74"}]
[53540,18730,-1,"Normal",{"v":-676.86,"d":"€(676.86)"},"D060",{"$f":"IFERROR(VLOOKUP(F1907,Discounts!A:C,3,0),0)","v":0},{"v":-676.86,"d":"€(676.86)"}]
[53540,18750,1,"Normal",{"v":775.21,"d":"€775.21"},"D060",{"$f":"IFERROR(VLOOKUP(F1908,Discounts!A:C,3,0),0)","v":0},{"v":775.21,"d":"€775.21"}]
[53550,18730,-1,"Normal",{"v":-676.86,"d":"€(676.86)"},"D060",{"$f":"IFERROR(VLOOKUP(F1909,Discounts!A:C,3,0),0)","v":0},{"v":-676.86,"d":"€(676.86)"}]
[53550,18780,1,"Normal",{"v":898.35,"d":"€898.35"},"D060",{"$f":"IFERROR(VLOOKUP(F1910,Discounts!A:C,3,0),0)","v":0},{"v":898.35,"d":"€898.35"}]
[53560,18730,-1,"Normal",{"v":-676.86,"d":"€(676.86)"},"D060",{"$f":"IFERROR(VLOOKUP(F1911,Discounts!A:C,3,0),0)","v":0},{"v":-676.86,"d":"€(676.86)"}]
[53560,18810,1,"Normal",{"v":1039.67,"d":"€1,039.67"},"D060",{"$f":"IFERROR(VLOOKUP(F1912,Discounts!A:C,3,0),0)","v":0},{"v":1039.67,"d":"€1,039.67"}]
[54170,124820,1,"Normal",{"v":1351.24,"d":"€1,351.24"},"A010",{"$f":"IFERROR(VLOOKUP(F1913,Discounts!A:C,3,0),0)","v":0},{"v":1351.24,"d":"€1,351.24"}]
[54170,134070,1,"Normal",0,"LUXE",{"$f":"IFERROR(VLOOKUP(F1914,Discounts!A:C,3,0),0)","v":0},0]
[54210,134070,1,"Normal",0,"LUXE",{"$f":"IFERROR(VLOOKUP(F1915,Discounts!A:C,3,0),0)","v":0},0]
[54210,134120,1,"Normal",{"v":1594.21,"d":"€1,594.21"},"A015",{"$f":"IFERROR(VLOOKUP(F1916,Discounts!A:C,3,0),0)","v":0},{"v":1594.21,"d":"€1,594.21"}]
[54720,54640,2,"Normal",{"v":241.32,"d":"€241.32"},"SERVICE",{"$f":"IFERROR(VLOOKUP(F1917,Discounts!A:C,3,0),0)","v":0},{"v":241.32,"d":"€241.32"}]
[54730,54650,2,"Normal",{"v":142.14,"d":"€142.14"},"SERVICE",{"$f":"IFERROR(VLOOKUP(F1918,Discounts!A:C,3,0),0)","v":0},{"v":142.14,"d":"€142.14"}]
[54780,54770,2,"Normal",{"v":140.5,"d":"€140.50"},"SERVICE",{"$f":"IFERROR(VLOOKUP(F1919,Discounts!A:C,3,0),0)","v":0},{"v":140.5,"d":"€140.50"}]
[54790,54740,2,"Normal",{"v":138.84,"d":"€138.84"},"SERVICE",{"$f":"IFERROR(VLOOKUP(F1920,Discounts!A:C,3,0),0)","v":0},{"v":138.84,"d":"€138.84"}]
[56570,55710,1,"Normal",{"v":396.69,"d":"€396.69"},"E015",{"$f":"IFERROR(VLOOKUP(F1921,Discounts!A:C,3,0),0)","v":0},{"v":396.69,"d":"€396.69"}]
[56580,55890,1,"Normal",{"v":585.95,"d":"€585.95"},"E012",{"$f":"IFERROR(VLOOKUP(F1922,Discounts!A:C,3,0),0)","v":0},{"$f":"IF(D1922=\"Normal\",E1922*(1-G1922),SUMIF(A:A,B1922,H:H)*C1922)","v":{"v":585.95,"d":"€585.95"}}]
[56590,48550,1,"Normal",{"v":19.01,"d":"€19.01"},"SD/SG",{"$f":"IFERROR(VLOOKUP(F1923,Discounts!A:C,3,0),0)","v":0},{"v":19.01,"d":"€19.01"}]
[56590,55710,1,"Normal",{"v":396.69,"d":"€396.69"},"E015",{"$f":"IFERROR(VLOOKUP(F1924,Discounts!A:C,3,0),0)","v":0},{"v":396.69,"d":"€396.69"}]
[56600,48550,1,"Normal",{"v":19.01,"d":"€19.01"},"SD/SG",{"$f":"IFERROR(VLOOKUP(F1925,Discounts!A:C,3,0),0)","v":0},{"v":19.01,"d":"€19.01"}]
[56600,55890,1,"Normal",{"v":585.95,"d":"€585.95"},"E012",{"$f":"IFERROR(VLOOKUP(F1926,Discounts!A:C,3,0),0)","v":0},{"v":585.95,"d":"€585.95"}]
[56610,48550,1,"Normal",{"v":19.01,"d":"€19.01"},"SD/SG",{"$f":"IFERROR(VLOOKUP(F1927,Discounts!A:C,3,0),0)","v":0},{"v":19.01,"d":"€19.01"}]
[56610,55710,1,"Normal",{"v":396.69,"d":"€396.69"},"E015",{"$f":"IFERROR(VLOOKUP(F1928,Discounts!A:C,3,0),0)","v":0},{"v":396.69,"d":"€396.69"}]
[56620,48550,1,"Normal",{"v":19.01,"d":"€19.01"},"SD/SG",{"$f":"IFERROR(VLOOKUP(F1929,Discounts!A:C,3,0),0)","v":0},{"v":19.01,"d":"€19.01"}]
[56620,55890,1,"Normal",{"v":585.95,"d":"€585.95"},"E012",{"$f":"IFERROR(VLOOKUP(F1930,Discounts!A:C,3,0),0)","v":0},{"v":585.95,"d":"€585.95"}]
[56630,55720,1,"Normal",{"v":480.17,"d":"€480.17"},"E015",{"$f":"IFERROR(VLOOKUP(F1931,Discounts!A:C,3,0),0)","v":0},{"v":480.17,"d":"€480.17"}]
[56640,55900,1,"Normal",{"v":680.17,"d":"€680.17"},"E012",{"$f":"IFERROR(VLOOKUP(F1932,Discounts!A:C,3,0),0)","v":0},{"v":680.17,"d":"€680.17"}]
[56650,48550,1,"Normal",{"v":19.01,"d":"€19.01"},"SD/SG",{"$f":"IFERROR(VLOOKUP(F1933,Discounts!A:C,3,0),0)","v":0},{"v":19.01,"d":"€19.01"}]
[56650,55720,1,"Normal",{"v":480.17,"d":"€480.17"},"E015",{"$f":"IFERROR(VLOOKUP(F1934,Discounts!A:C,3,0),0)","v":0},{"v":480.17,"d":"€480.17"}]
[56660,48550,1,"Normal",{"v":19.01,"d":"€19.01"},"SD/SG",{"$f":"IFERROR(VLOOKUP(F1935,Discounts!A:C,3,0),0)","v":0},{"v":19.01,"d":"€19.01"}]
[56660,55900,1,"Normal",{"v":680.17,"d":"€680.17"},"E012",{"$f":"IFERROR(VLOOKUP(F1936,Discounts!A:C,3,0),0)","v":0},{"v":680.17,"d":"€680.17"}]
[56670,48550,1,"Normal",{"v":19.01,"d":"€19.01"},"SD/SG",{"$f":"IFERROR(VLOOKUP(F1937,Discounts!A:C,3,0),0)","v":0},{"v":19.01,"d":"€19.01"}]
[56670,55720,1,"Normal",{"v":480.17,"d":"€480.17"},"E015",{"$f":"IFERROR(VLOOKUP(F1938,Discounts!A:C,3,0),0)","v":0},{"v":480.17,"d":"€480.17"}]
[56680,48550,1,"Normal",{"v":19.01,"d":"€19.01"},"SD/SG",{"$f":"IFERROR(VLOOKUP(F1939,Discounts!A:C,3,0),0)","v":0},{"v":19.01,"d":"€19.01"}]
[56680,55900,1,"Normal",{"v":680.17,"d":"€680.17"},"E012",{"$f":"IFERROR(VLOOKUP(F1940,Discounts!A:C,3,0),0)","v":0},{"v":680.17,"d":"€680.17"}]
[57470,31920,1,"Normal",{"v":115.7,"d":"€115.70"},"SD/SG",{"$f":"IFERROR(VLOOKUP(F1941,Discounts!A:C,3,0),0)","v":0},{"v":115.7,"d":"€115.70"}]
[57470,148170,1,"Normal",{"v":212.4,"d":"€212.40"},"E056",{"$f":"IFERROR(VLOOKUP(F1942,Discounts!A:C,3,0),0)","v":0},{"v":212.4,"d":"€212.40"}]
[57480,31920,1,"Normal",{"v":115.7,"d":"€115.70"},"SD/SG",{"$f":"IFERROR(VLOOKUP(F1943,Discounts!A:C,3,0),0)","v":0},{"v":115.7,"d":"€115.70"}]
[57480,148180,1,"Normal",{"v":247.93,"d":"€247.93"},"E056",{"$f":"IFERROR(VLOOKUP(F1944,Discounts!A:C,3,0),0)","v":0},{"v":247.93,"d":"€247.93"}]
[57490,31920,1,"Normal",{"v":115.7,"d":"€115.70"},"SD/SG",{"$f":"IFERROR(VLOOKUP(F1945,Discounts!A:C,3,0),0)","v":0},{"v":115.7,"d":"€115.70"}]
[57490,148230,1,"Normal",{"v":276.86,"d":"€276.86"},"E056",{"$f":"IFERROR(VLOOKUP(F1946,Discounts!A:C,3,0),0)","v":0},{"v":276.86,"d":"€276.86"}]
[57500,31920,1,"Normal",{"v":115.7,"d":"€115.70"},"SD/SG",{"$f":"IFERROR(VLOOKUP(F1947,Discounts!A:C,3,0),0)","v":0},{"v":115.7,"d":"€115.70"}]
[57500,148240,1,"Normal",{"v":311.57,"d":"€311.57"},"E056",{"$f":"IFERROR(VLOOKUP(F1948,Discounts!A:C,3,0),0)","v":0},{"v":311.57,"d":"€311.57"}]
[57510,31920,1,"Normal",{"v":115.7,"d":"€115.70"},"SD/SG",{"$f":"IFERROR(VLOOKUP(F1949,Discounts!A:C,3,0),0)","v":0},{"v":115.7,"d":"€115.70"}]
[57510,148250,1,"Normal",{"v":305.79,"d":"€305.79"},"E056",{"$f":"IFERROR(VLOOKUP(F1950,Discounts!A:C,3,0),0)","v":0},{"v":305.79,"d":"€305.79"}]
[57520,31920,1,"Normal",{"v":115.7,"d":"€115.70"},"SD/SG",{"$f":"IFERROR(VLOOKUP(F1951,Discounts!A:C,3,0),0)","v":0},{"v":115.7,"d":"€115.70"}]
[57520,148260,1,"Normal",{"v":344.63,"d":"€344.63"},"E056",{"$f":"IFERROR(VLOOKUP(F1952,Discounts!A:C,3,0),0)","v":0},{"v":344.63,"d":"€344.63"}]
[57760,340,1,"Normal",{"v":1562.81,"d":"€1,562.81"},"A015",{"$f":"IFERROR(VLOOKUP(F1953,Discounts!A:C,3,0),0)","v":0},{"v":1562.81,"d":"€1,562.81"}]
[57760,29720,1,"Normal",{"v":87.6,"d":"€87.60"},"LUXE",{"$f":"IFERROR(VLOOKUP(F1954,Discounts!A:C,3,0),0)","v":0},{"v":87.6,"d":"€87.60"}]
[57760,29760,1,"Normal",{"v":877.69,"d":"€877.69"},"LUXE",{"$f":"IFERROR(VLOOKUP(F1955,Discounts!A:C,3,0),0)","v":0},{"v":877.69,"d":"€877.69"}]
[57760,31640,1,"Normal",{"v":134.71,"d":"€134.71"},"LUXE",{"$f":"IFERROR(VLOOKUP(F1956,Discounts!A:C,3,0),0)","v":0},{"v":134.71,"d":"€134.71"}]
[57770,430,1,"Combination",{"v":1562.81,"d":"€1,562.81"},"",{"$f":"IFERROR(VLOOKUP(F1957,Discounts!A:C,3,0),0)","v":0},{"v":1562.81,"d":"€1,562.81"}]
[57770,29720,1,"Normal",{"v":87.6,"d":"€87.60"},"LUXE",{"$f":"IFERROR(VLOOKUP(F1958,Discounts!A:C,3,0),0)","v":0},{"v":87.6,"d":"€87.60"}]
[57770,29780,1,"Normal",{"v":877.69,"d":"€877.69"},"LUXE",{"$f":"IFERROR(VLOOKUP(F1959,Discounts!A:C,3,0),0)","v":0},{"v":877.69,"d":"€877.69"}]
[57770,31640,1,"Normal",{"v":134.71,"d":"€134.71"},"LUXE",{"$f":"IFERROR(VLOOKUP(F1960,Discounts!A:C,3,0),0)","v":0},{"v":134.71,"d":"€134.71"}]
[57780,1190,1,"Combination",{"v":2549.59,"d":"€2,549.59"},"",{"$f":"IFERROR(VLOOKUP(F1961,Discounts!A:C,3,0),0)","v":0},{"v":2549.59,"d":"€2,549.59"}]
[57780,29720,1,"Normal",{"v":87.6,"d":"€87.60"},"LUXE",{"$f":"IFERROR(VLOOKUP(F1962,Discounts!A:C,3,0),0)","v":0},{"v":87.6,"d":"€87.60"}]
[57780,31470,1,"Normal",{"v":133.88,"d":"€133.88"},"LUXE",{"$f":"IFERROR(VLOOKUP(F1963,Discounts!A:C,3,0),0)","v":0},{"v":133.88,"d":"€133.88"}]
[57790,29670,1,"Combination",{"v":2274.38,"d":"€2,274.38"},"",{"$f":"IFERROR(VLOOKUP(F1964,Discounts!A:C,3,0),0)","v":0},{"v":2274.38,"d":"€2,274.38"}]
[57790,29710,1,"Normal",{"v":41.32,"d":"€41.32"},"LUXE",{"$f":"IFERROR(VLOOKUP(F1965,Discounts!A:C,3,0),0)","v":0},{"v":41.32,"d":"€41.32"}]
[57790,31470,1,"Normal",{"v":133.88,"d":"€133.88"},"LUXE",{"$f":"IFERROR(VLOOKUP(F1966,Discounts!A:C,3,0),0)","v":0},{"v":133.88,"d":"€133.88"}]
[57790,45730,1,"Normal",{"v":41.32,"d":"€41.32"},"LUXE",{"$f":"IFERROR(VLOOKUP(F1967,Discounts!A:C,3,0),0)","v":0},{"v":41.32,"d":"€41.32"}]
[57800,29600,1,"Combination",{"v":2024.79,"d":"€2,024.79"},"",{"$f":"IFERROR(VLOOKUP(F1968,Discounts!A:C,3,0),0)","v":0},{"v":2024.79,"d":"€2,024.79"}]
[57800,29710,1,"Normal",{"v":41.32,"d":"€41.32"},"LUXE",{"$f":"IFERROR(VLOOKUP(F1969,Discounts!A:C,3,0),0)","v":0},{"v":41.32,"d":"€41.32"}]
[57800,31470,1,"Normal",{"v":133.88,"d":"€133.88"},"LUXE",{"$f":"IFERROR(VLOOKUP(F1970,Discounts!A:C,3,0),0)","v":0},{"v":133.88,"d":"€133.88"}]
[57800,45730,1,"Normal",{"v":41.32,"d":"€41.32"},"LUXE",{"$f":"IFERROR(VLOOKUP(F1971,Discounts!A:C,3,0),0)","v":0},{"v":41.32,"d":"€41.32"}]
[57810,29680,1,"Combination",{"v":2274.38,"d":"€2,274.38"},"",{"$f":"IFERROR(VLOOKUP(F1972,Discounts!A:C,3,0),0)","v":0},{"v":2274.38,"d":"€2,274.38"}]
[57810,29710,1,"Normal",{"v":41.32,"d":"€41.32"},"LUXE",{"$f":"IFERROR(VLOOKUP(F1973,Discounts!A:C,3,0),0)","v":0},{"v":41.32,"d":"€41.32"}]
[57810,31470,1,"Normal",{"v":133.88,"d":"€133.88"},"LUXE",{"$f":"IFERROR(VLOOKUP(F1974,Discounts!A:C,3,0),0)","v":0},{"v":133.88,"d":"€133.88"}]
[57810,45730,1,"Normal",{"v":41.32,"d":"€41.32"},"LUXE",{"$f":"IFERROR(VLOOKUP(F1975,Discounts!A:C,3,0),0)","v":0},{"v":41.32,"d":"€41.32"}]
[57820,29610,1,"Normal",{"v":1738.02,"d":"€1,738.02"},"A010",{"$f":"IFERROR(VLOOKUP(F1976,Discounts!A:C,3,0),0)","v":0},{"v":1738.02,"d":"€1,738.02"}]
[57820,29710,1,"Normal",{"v":41.32,"d":"€41.32"},"LUXE",{"$f":"IFERROR(VLOOKUP(F1977,Discounts!A:C,3,0),0)","v":0},{"v":41.32,"d":"€41.32"}]
[57820,31470,1,"Normal",{"v":133.88,"d":"€133.88"},"LUXE",{"$f":"IFERROR(VLOOKUP(F1978,Discounts!A:C,3,0),0)","v":0},{"v":133.88,"d":"€133.88"}]
[57820,45730,1,"Normal",{"v":41.32,"d":"€41.32"},"LUXE",{"$f":"IFERROR(VLOOKUP(F1979,Discounts!A:C,3,0),0)","v":0},{"v":41.32,"d":"€41.32"}]
[57830,29690,1,"Combination",{"v":1987.61,"d":"€1,987.61"},"",{"$f":"IFERROR(VLOOKUP(F1980,Discounts!A:C,3,0),0)","v":0},{"v":1987.61,"d":"€1,987.61"}]
[57830,29710,1,"Normal",{"v":41.32,"d":"€41.32"},"LUXE",{"$f":"IFERROR(VLOOKUP(F1981,Discounts!A:C,3,0),0)","v":0},{"v":41.32,"d":"€41.32"}]
[57830,31470,1,"Normal",{"v":133.88,"d":"€133.88"},"LUXE",{"$f":"IFERROR(VLOOKUP(F1982,Discounts!A:C,3,0),0)","v":0},{"v":133.88,"d":"€133.88"}]
[57830,45730,1,"Normal",{"v":41.32,"d":"€41.32"},"LUXE",{"$f":"IFERROR(VLOOKUP(F1983,Discounts!A:C,3,0),0)","v":0},{"v":41.32,"d":"€41.32"}]
[57840,29620,1,"Combination",{"v":1738.02,"d":"€1,738.02"},"",{"$f":"IFERROR(VLOOKUP(F1984,Discounts!A:C,3,0),0)","v":0},{"v":1738.02,"d":"€1,738.02"}]
[57840,29710,1,"Normal",{"v":41.32,"d":"€41.32"},"LUXE",{"$f":"IFERROR(VLOOKUP(F1985,Discounts!A:C,3,0),0)","v":0},{"v":41.32,"d":"€41.32"}]
[57840,31470,1,"Normal",{"v":133.88,"d":"€133.88"},"LUXE",{"$f":"IFERROR(VLOOKUP(F1986,Discounts!A:C,3,0),0)","v":0},{"$f":"IF(D1986=\"Normal\",E1986*(1-G1986),SUMIF(A:A,B1986,H:H)*C1986)","v":{"v":133.88,"d":"€133.88"}}]
[57840,45730,1,"Normal",{"v":41.32,"d":"€41.32"},"LUXE",{"$f":"IFERROR(VLOOKUP(F1987,Discounts!A:C,3,0),0)","v":0},{"v":41.32,"d":"€41.32"}]
[57850,29700,1,"Combination",{"v":1987.61,"d":"€1,987.61"},"",{"$f":"IFERROR(VLOOKUP(F1988,Discounts!A:C,3,0),0)","v":0},{"v":1987.61,"d":"€1,987.61"}]
[57850,29710,1,"Normal",{"v":41.32,"d":"€41.32"},"LUXE",{"$f":"IFERROR(VLOOKUP(F1989,Discounts!A:C,3,0),0)","v":0},{"v":41.32,"d":"€41.32"}]
[57850,31470,1,"Normal",{"v":133.88,"d":"€133.88"},"LUXE",{"$f":"IFERROR(VLOOKUP(F1990,Discounts!A:C,3,0),0)","v":0},{"v":133.88,"d":"€133.88"}]
[57850,45730,1,"Normal",{"v":41.32,"d":"€41.32"},"LUXE",{"$f":"IFERROR(VLOOKUP(F1991,Discounts!A:C,3,0),0)","v":0},{"v":41.32,"d":"€41.32"}]
[57860,14850,1,"Normal",{"v":328.93,"d":"€328.93"},"E016",{"$f":"IFERROR(VLOOKUP(F1992,Discounts!A:C,3,0),0)","v":0},{"v":328.93,"d":"€328.93"}]
[57860,31920,1,"Normal",{"v":115.7,"d":"€115.70"},"SD/SG",{"$f":"IFERROR(VLOOKUP(F1993,Discounts!A:C,3,0),0)","v":0},{"v":115.7,"d":"€115.70"}]
[57860,34010,1,"Normal",{"v":153.72,"d":"€153.72"},"SD/SG",{"$f":"IFERROR(VLOOKUP(F1994,Discounts!A:C,3,0),0)","v":0},{"v":153.72,"d":"€153.72"}]
[57860,40450,1,"Normal",{"v":13.22,"d":"€13.22"},"SD/SG",{"$f":"IFERROR(VLOOKUP(F1995,Discounts!A:C,3,0),0)","v":0},{"v":13.22,"d":"€13.22"}]
[57860,40520,1,"Normal",{"v":64.46,"d":"€64.46"},"SD/SG",{"$f":"IFERROR(VLOOKUP(F1996,Discounts!A:C,3,0),0)","v":0},{"v":64.46,"d":"€64.46"}]
[57870,14860,1,"Normal",{"v":377.69,"d":"€377.69"},"E015",{"$f":"IFERROR(VLOOKUP(F1997,Discounts!A:C,3,0),0)","v":0},{"v":377.69,"d":"€377.69"}]
[57870,31920,1,"Normal",{"v":115.7,"d":"€115.70"},"SD/SG",{"$f":"IFERROR(VLOOKUP(F1998,Discounts!A:C,3,0),0)","v":0},{"v":115.7,"d":"€115.70"}]
[57870,34010,1,"Normal",{"v":153.72,"d":"€153.72"},"SD/SG",{"$f":"IFERROR(VLOOKUP(F1999,Discounts!A:C,3,0),0)","v":0},{"v":153.72,"d":"€153.72"}]
[57870,40450,1,"Normal",{"v":13.22,"d":"€13.22"},"SD/SG",{"$f":"IFERROR(VLOOKUP(F2000,Discounts!A:C,3,0),0)","v":0},{"v":13.22,"d":"€13.22"}]
[57890,31470,1,"Normal",{"v":133.88,"d":"€133.88"},"LUXE",{"$f":"IFERROR(VLOOKUP(F2010,Discounts!A:C,3,0),0)","v":0},{"v":133.88,"d":"€133.88"}]
[57920,34010,1,"Normal",{"v":153.72,"d":"€153.72"},"SD/SG",{"$f":"IFERROR(VLOOKUP(F2023,Discounts!A:C,3,0),0)","v":0},{"v":153.72,"d":"€153.72"}]
[57940,31920,1,"Normal",{"v":115.7,"d":"€115.70"},"SD/SG",{"$f":"IFERROR(VLOOKUP(F2032,Discounts!A:C,3,0),0)","v":0},{"v":115.7,"d":"€115.70"}]
[57960,40520,1,"Normal",{"v":64.46,"d":"€64.46"},"SD/SG",{"$f":"IFERROR(VLOOKUP(F2045,Discounts!A:C,3,0),0)","v":0},{"v":64.46,"d":"€64.46"}]
[57980,40450,1,"Normal",{"v":13.22,"d":"€13.22"},"SD/SG",{"$f":"IFERROR(VLOOKUP(F2054,Discounts!A:C,3,0),0)","v":0},{"v":13.22,"d":"€13.22"}]
[58020,15710,1,"Normal",{"v":714.05,"d":"€714.05"},"E013",{"$f":"IFERROR(VLOOKUP(F2070,Discounts!A:C,3,0),0)","v":0},{"v":714.05,"d":"€714.05"}]
[58030,34000,1,"Normal",{"v":125.62,"d":"€125.62"},"SD/SG",{"$f":"IFERROR(VLOOKUP(F2077,Discounts!A:C,3,0),0)","v":0},{"v":125.62,"d":"€125.62"}]
[58050,31920,1,"Normal",{"v":115.7,"d":"€115.70"},"SD/SG",{"$f":"IFERROR(VLOOKUP(F2086,Discounts!A:C,3,0),0)","v":0},{"v":115.7,"d":"€115.70"}]
[58070,40520,1,"Normal",{"v":64.46,"d":"€64.46"},"SD/SG",{"$f":"IFERROR(VLOOKUP(F2099,Discounts!A:C,3,0),0)","v":0},{"v":64.46,"d":"€64.46"}]
[58120,31920,1,"Normal",{"v":115.7,"d":"€115.70"},"SD/SG",{"$f":"IFERROR(VLOOKUP(F2120,Discounts!A:C,3,0),0)","v":0},{"v":115.7,"d":"€115.70"}]
[58140,40450,1,"Normal",{"v":13.22,"d":"€13.22"},"SD/SG",{"$f":"IFERROR(VLOOKUP(F2132,Discounts!A:C,3,0),0)","v":0},{"v":13.22,"d":"€13.22"}]
[58160,40520,1,"Normal",{"v":64.46,"d":"€64.46"},"SD/SG",{"$f":"IFERROR(VLOOKUP(F2143,Discounts!A:C,3,0),0)","v":0},{"v":64.46,"d":"€64.46"}]
[58190,18570,1,"Normal",{"v":1309.09,"d":"€1,309.09"},"E013",{"$f":"IFERROR(VLOOKUP(F2152,Discounts!A:C,3,0),0)","v":0},{"v":1309.09,"d":"€1,309.09"}]
[58210,31920,1,"Normal",{"v":115.7,"d":"€115.70"},"SD/SG",{"$f":"IFERROR(VLOOKUP(F2161,Discounts!A:C,3,0),0)","v":0},{"v":115.7,"d":"€115.70"}]
[58240,18460,1,"Normal",{"v":937.19,"d":"€937.19"},"E016",{"$f":"IFERROR(VLOOKUP(F2174,Discounts!A:C,3,0),0)","v":0},{"v":937.19,"d":"€937.19"}]
[58280,34000,1,"Normal",{"v":125.62,"d":"€125.62"},"SD/SG",{"$f":"IFERROR(VLOOKUP(F2194,Discounts!A:C,3,0),0)","v":0},{"v":125.62,"d":"€125.62"}]
[58290,31920,1,"Normal",{"v":115.7,"d":"€115.70"},"SD/SG",{"$f":"IFERROR(VLOOKUP(F2197,Discounts!A:C,3,0),0)","v":0},{"v":115.7,"d":"€115.70"}]
[58340,18500,1,"Normal",{"v":880.17,"d":"€880.17"},"E016",{"$f":"IFERROR(VLOOKUP(F2218,Discounts!A:C,3,0),0)","v":0},{"v":880.17,"d":"€880.17"}]
[58360,18560,1,"Normal",{"v":1346.28,"d":"€1,346.28"},"E012",{"$f":"IFERROR(VLOOKUP(F2227,Discounts!A:C,3,0),0)","v":0},{"v":1346.28,"d":"€1,346.28"}]
[58390,40650,1,"Normal",{"v":258.68,"d":"€258.68"},"O505",{"$f":"IFERROR(VLOOKUP(F2240,Discounts!A:C,3,0),0)","v":0},{"v":258.68,"d":"€258.68"}]
[58400,40180,1,"Normal",{"v":223.97,"d":"€223.97"},"O505",{"$f":"IFERROR(VLOOKUP(F2249,Discounts!A:C,3,0),0)","v":0},{"v":223.97,"d":"€223.97"}]
[58420,40420,1,"Normal",{"v":35.54,"d":"€35.54"},"O505",{"$f":"IFERROR(VLOOKUP(F2258,Discounts!A:C,3,0),0)","v":0},{"v":35.54,"d":"€35.54"}]
[58480,40110,1,"Normal",{"v":6.61,"d":"€6.61"},"LUXE",{"$f":"IFERROR(VLOOKUP(F2272,Discounts!A:C,3,0),0)","v":0},{"v":6.61,"d":"€6.61"}]
[58530,40740,1,"Normal",{"v":11.57,"d":"€11.57"},"LUXE",{"$f":"IFERROR(VLOOKUP(F2281,Discounts!A:C,3,0),0)","v":0},{"v":11.57,"d":"€11.57"}]
[58560,18940,1,"Normal",{"v":459.5,"d":"€459.50"},"D010",{"$f":"IFERROR(VLOOKUP(F2294,Discounts!A:C,3,0),0)","v":0},{"v":459.5,"d":"€459.50"}]
[58620,29720,1,"Normal",{"v":87.6,"d":"€87.60"},"LUXE",{"$f":"IFERROR(VLOOKUP(F2315,Discounts!A:C,3,0),0)","v":0},{"v":87.6,"d":"€87.60"}]
[58640,31470,1,"Normal",{"v":133.88,"d":"€133.88"},"LUXE",{"$f":"IFERROR(VLOOKUP(F2324,Discounts!A:C,3,0),0)","v":0},{"v":133.88,"d":"€133.88"}]
[58690,29720,1,"Normal",{"v":87.6,"d":"€87.60"},"LUXE",{"$f":"IFERROR(VLOOKUP(F2338,Discounts!A:C,3,0),0)","v":0},{"v":87.6,"d":"€87.60"}]
[58710,31470,1,"Normal",{"v":133.88,"d":"€133.88"},"LUXE",{"$f":"IFERROR(VLOOKUP(F2347,Discounts!A:C,3,0),0)","v":0},{"v":133.88,"d":"€133.88"}]
[58750,1280,1,"Normal",{"v":2356.2,"d":"€2,356.20"},"A010",{"$f":"IFERROR(VLOOKUP(F2360,Discounts!A:C,3,0),0)","v":0},{"v":2356.2,"d":"€2,356.20"}]
[58770,31470,1,"Normal",{"v":133.88,"d":"€133.88"},"LUXE",{"$f":"IFERROR(VLOOKUP(F2369,Discounts!A:C,3,0),0)","v":0},{"v":133.88,"d":"€133.88"}]
[58820,29720,1,"Normal",{"v":87.6,"d":"€87.60"},"LUXE",{"$f":"IFERROR(VLOOKUP(F2386,Discounts!A:C,3,0),0)","v":0},{"v":87.6,"d":"€87.60"}]
[58840,29720,1,"Normal",{"v":87.6,"d":"€87.60"},"LUXE",{"$f":"IFERROR(VLOOKUP(F2392,Discounts!A:C,3,0),0)","v":0},{"v":87.6,"d":"€87.60"}]
[58910,30260,1,"Combination",{"v":3439.67,"d":"€3,439.67"},"",{"$f":"IFERROR(VLOOKUP(F2413,Discounts!A:C,3,0),0)","v":0},{"v":3439.67,"d":"€3,439.67"}]
[58940,29720,1,"Normal",{"v":87.6,"d":"€87.60"},"LUXE",{"$f":"IFERROR(VLOOKUP(F2422,Discounts!A:C,3,0),0)","v":0},{"v":87.6,"d":"€87.60"}]
[58980,30280,1,"Combination",{"v":2012.4,"d":"€2,012.40"},"",{"$f":"IFERROR(VLOOKUP(F2435,Discounts!A:C,3,0),0)","v":0},{"v":2012.4,"d":"€2,012.40"}]
[59000,30380,1,"Normal",{"v":476.86,"d":"€476.86"},"O505",{"$f":"IFERROR(VLOOKUP(F2444,Discounts!A:C,3,0),0)","v":0},{"v":476.86,"d":"€476.86"}]
[59050,30350,1,"Normal",{"v":2016.53,"d":"€2,016.53"},"A010",{"$f":"IFERROR(VLOOKUP(F2463,Discounts!A:C,3,0),0)","v":0},{"v":2016.53,"d":"€2,016.53"}]
[59060,29720,1,"Normal",{"v":87.6,"d":"€87.60"},"LUXE",{"$f":"IFERROR(VLOOKUP(F2467,Discounts!A:C,3,0),0)","v":0},{"v":87.6,"d":"€87.60"}]
[59090,1410,1,"Combination",{"v":2114.88,"d":"€2,114.88"},"",{"$f":"IFERROR(VLOOKUP(F2476,Discounts!A:C,3,0),0)","v":0},{"v":2114.88,"d":"€2,114.88"}]
[59130,29710,1,"Normal",{"v":41.32,"d":"€41.32"},"LUXE",{"$f":"IFERROR(VLOOKUP(F2489,Discounts!A:C,3,0),0)","v":0},{"v":41.32,"d":"€41.32"}]
[59200,29710,1,"Normal",{"v":41.32,"d":"€41.32"},"LUXE",{"$f":"IFERROR(VLOOKUP(F2510,Discounts!A:C,3,0),0)","v":0},{"v":41.32,"d":"€41.32"}]
[59210,1520,1,"Normal",{"v":1795.87,"d":"€1,795.87"},"A010",{"$f":"IFERROR(VLOOKUP(F2512,Discounts!A:C,3,0),0)","v":0},{"v":1795.87,"d":"€1,795.87"}]
[59260,29710,1,"Normal",{"v":41.32,"d":"€41.32"},"LUXE",{"$f":"IFERROR(VLOOKUP(F2533,Discounts!A:C,3,0),0)","v":0},{"v":41.32,"d":"€41.32"}]
[59280,31640,1,"Normal",{"v":134.71,"d":"€134.71"},"LUXE",{"$f":"IFERROR(VLOOKUP(F2542,Discounts!A:C,3,0),0)","v":0},{"v":134.71,"d":"€134.71"}]
[59330,1630,1,"Combination",{"v":1613.22,"d":"€1,613.22"},"",{"$f":"IFERROR(VLOOKUP(F2555,Discounts!A:C,3,0),0)","v":0},{"v":1613.22,"d":"€1,613.22"}]
[59360,1660,1,"Normal",{"v":2818.18,"d":"€2,818.18"},"A010",{"$f":"IFERROR(VLOOKUP(F2564,Discounts!A:C,3,0),0)","v":0},{"v":2818.18,"d":"€2,818.18"}]
[59400,29710,1,"Normal",{"v":41.32,"d":"€41.32"},"LUXE",{"$f":"IFERROR(VLOOKUP(F2578,Discounts!A:C,3,0),0)","v":0},{"v":41.32,"d":"€41.32"}]
[59430,29710,1,"Normal",{"v":41.32,"d":"€41.32"},"LUXE",{"$f":"IFERROR(VLOOKUP(F2587,Discounts!A:C,3,0),0)","v":0},{"v":41.32,"d":"€41.32"}]
[59500,29720,1,"Normal",{"v":87.6,"d":"€87.60"},"LUXE",{"$f":"IFERROR(VLOOKUP(F2608,Discounts!A:C,3,0),0)","v":0},{"v":87.6,"d":"€87.60"}]
[59540,29710,1,"Normal",{"v":41.32,"d":"€41.32"},"LUXE",{"$f":"IFERROR(VLOOKUP(F2621,Discounts!A:C,3,0),0)","v":0},{"v":41.32,"d":"€41.32"}]
[59560,31470,1,"Normal",{"v":133.88,"d":"€133.88"},"LUXE",{"$f":"IFERROR(VLOOKUP(F2630,Discounts!A:C,3,0),0)","v":0},{"v":133.88,"d":"€133.88"}]
[59590,1870,1,"Combination",{"v":1832.23,"d":"€1,832.23"},"",{"$f":"IFERROR(VLOOKUP(F2640,Discounts!A:C,3,0),0)","v":0},{"v":1832.23,"d":"€1,832.23"}]
[59620,29720,1,"Normal",{"v":87.6,"d":"€87.60"},"LUXE",{"$f":"IFERROR(VLOOKUP(F2653,Discounts!A:C,3,0),0)","v":0},{"v":87.6,"d":"€87.60"}]
[59640,31470,1,"Normal",{"v":133.88,"d":"€133.88"},"LUXE",{"$f":"IFERROR(VLOOKUP(F2662,Discounts!A:C,3,0),0)","v":0},{"v":133.88,"d":"€133.88"}]
[59680,29710,1,"Normal",{"v":41.32,"d":"€41.32"},"LUXE",{"$f":"IFERROR(VLOOKUP(F2675,Discounts!A:C,3,0),0)","v":0},{"v":41.32,"d":"€41.32"}]
[59710,29710,1,"Normal",{"v":41.32,"d":"€41.32"},"LUXE",{"$f":"IFERROR(VLOOKUP(F2684,Discounts!A:C,3,0),0)","v":0},{"v":41.32,"d":"€41.32"}]
[59780,29710,1,"Normal",{"v":41.32,"d":"€41.32"},"LUXE",{"$f":"IFERROR(VLOOKUP(F2705,Discounts!A:C,3,0),0)","v":0},{"v":41.32,"d":"€41.32"}]
[59810,31470,1,"Normal",{"v":133.88,"d":"€133.88"},"LUXE",{"$f":"IFERROR(VLOOKUP(F2717,Discounts!A:C,3,0),0)","v":0},{"v":133.88,"d":"€133.88"}]
[59850,29710,1,"Normal",{"v":41.32,"d":"€41.32"},"LUXE",{"$f":"IFERROR(VLOOKUP(F2728,Discounts!A:C,3,0),0)","v":0},{"v":41.32,"d":"€41.32"}]
[59880,29710,1,"Normal",{"v":41.32,"d":"€41.32"},"LUXE",{"$f":"IFERROR(VLOOKUP(F2737,Discounts!A:C,3,0),0)","v":0},{"v":41.32,"d":"€41.32"}]
[59920,31470,1,"Normal",{"v":133.88,"d":"€133.88"},"LUXE",{"$f":"IFERROR(VLOOKUP(F2750,Discounts!A:C,3,0),0)","v":0},{"v":133.88,"d":"€133.88"}]
[59950,29720,1,"Normal",{"v":87.6,"d":"€87.60"},"LUXE",{"$f":"IFERROR(VLOOKUP(F2759,Discounts!A:C,3,0),0)","v":0},{"v":87.6,"d":"€87.60"}]
[60010,31470,1,"Normal",{"v":133.88,"d":"€133.88"},"LUXE",{"$f":"IFERROR(VLOOKUP(F2779,Discounts!A:C,3,0),0)","v":0},{"v":133.88,"d":"€133.88"}]
[60020,31470,1,"Normal",{"v":133.88,"d":"€133.88"},"LUXE",{"$f":"IFERROR(VLOOKUP(F2782,Discounts!A:C,3,0),0)","v":0},{"v":133.88,"d":"€133.88"}]
[60090,31470,1,"Normal",{"v":133.88,"d":"€133.88"},"LUXE",{"$f":"IFERROR(VLOOKUP(F2803,Discounts!A:C,3,0),0)","v":0},{"v":133.88,"d":"€133.88"}]
[60140,2300,1,"Normal",{"v":1297.52,"d":"€1,297.52"},"A010",{"$f":"IFERROR(VLOOKUP(F2816,Discounts!A:C,3,0),0)","v":0},{"v":1297.52,"d":"€1,297.52"}]
[60170,29720,1,"Normal",{"v":87.6,"d":"€87.60"},"LUXE",{"$f":"IFERROR(VLOOKUP(F2825,Discounts!A:C,3,0),0)","v":0},{"v":87.6,"d":"€87.60"}]
[60190,2340,1,"Normal",{"v":1122.31,"d":"€1,122.31"},"A010",{"$f":"IFERROR(VLOOKUP(F2832,Discounts!A:C,3,0),0)","v":0},{"v":1122.31,"d":"€1,122.31"}]
[60240,29710,1,"Normal",{"v":41.32,"d":"€41.32"},"LUXE",{"$f":"IFERROR(VLOOKUP(F2848,Discounts!A:C,3,0),0)","v":0},{"v":41.32,"d":"€41.32"}]
[60270,29710,1,"Normal",{"v":41.32,"d":"€41.32"},"LUXE",{"$f":"IFERROR(VLOOKUP(F2857,Discounts!A:C,3,0),0)","v":0},{"v":41.32,"d":"€41.32"}]
[60310,29710,1,"Normal",{"v":41.32,"d":"€41.32"},"LUXE",{"$f":"IFERROR(VLOOKUP(F2870,Discounts!A:C,3,0),0)","v":0},{"v":41.32,"d":"€41.32"}]
[60340,29710,1,"Normal",{"v":41.32,"d":"€41.32"},"LUXE",{"$f":"IFERROR(VLOOKUP(F2879,Discounts!A:C,3,0),0)","v":0},{"v":41.32,"d":"€41.32"}]
[60410,2520,1,"Normal",{"v":1193.39,"d":"€1,193.39"},"A010",{"$f":"IFERROR(VLOOKUP(F2900,Discounts!A:C,3,0),0)","v":0},{"v":1193.39,"d":"€1,193.39"}]
[60440,2550,1,"Combination",{"v":1319.83,"d":"€1,319.83"},"",{"$f":"IFERROR(VLOOKUP(F2909,Discounts!A:C,3,0),0)","v":0},{"v":1319.83,"d":"€1,319.83"}]
[60480,31470,1,"Normal",{"v":133.88,"d":"€133.88"},"LUXE",{"$f":"IFERROR(VLOOKUP(F2923,Discounts!A:C,3,0),0)","v":0},{"v":133.88,"d":"€133.88"}]
[60520,31470,1,"Normal",{"v":133.88,"d":"€133.88"},"LUXE",{"$f":"IFERROR(VLOOKUP(F2936,Discounts!A:C,3,0),0)","v":0},{"v":133.88,"d":"€133.88"}]
[60550,31470,1,"Normal",{"v":133.88,"d":"€133.88"},"LUXE",{"$f":"IFERROR(VLOOKUP(F2945,Discounts!A:C,3,0),0)","v":0},{"v":133.88,"d":"€133.88"}]
[60580,31470,1,"Normal",{"v":133.88,"d":"€133.88"},"LUXE",{"$f":"IFERROR(VLOOKUP(F2954,Discounts!A:C,3,0),0)","v":0},{"v":133.88,"d":"€133.88"}]
[60640,29710,1,"Normal",{"v":41.32,"d":"€41.32"},"LUXE",{"$f":"IFERROR(VLOOKUP(F2971,Discounts!A:C,3,0),0)","v":0},{"v":41.32,"d":"€41.32"}]
[60660,29710,1,"Normal",{"v":41.32,"d":"€41.32"},"LUXE",{"$f":"IFERROR(VLOOKUP(F2977,Discounts!A:C,3,0),0)","v":0},{"v":41.32,"d":"€41.32"}]
[60720,29740,1,"Normal",{"v":877.69,"d":"€877.69"},"LUXE",{"$f":"IFERROR(VLOOKUP(F2998,Discounts!A:C,3,0),0)","v":0},{"v":877.69,"d":"€877.69"}]
[60760,29710,1,"Normal",{"v":41.32,"d":"€41.32"},"LUXE",{"$f":"IFERROR(VLOOKUP(F3011,Discounts!A:C,3,0),0)","v":0},{"v":41.32,"d":"€41.32"}]
[60790,3380,1,"Normal",{"v":1462.81,"d":"€1,462.81"},"A010",{"$f":"IFERROR(VLOOKUP(F3020,Discounts!A:C,3,0),0)","v":0},{"v":1462.81,"d":"€1,462.81"}]
[60830,29710,1,"Normal",{"v":41.32,"d":"€41.32"},"LUXE",{"$f":"IFERROR(VLOOKUP(F3033,Discounts!A:C,3,0),0)","v":0},{"v":41.32,"d":"€41.32"}]
[60860,3440,1,"Normal",{"v":2128.93,"d":"€2,128.93"},"A010",{"$f":"IFERROR(VLOOKUP(F3043,Discounts!A:C,3,0),0)","v":0},{"v":2128.93,"d":"€2,128.93"}]
[60880,29710,1,"Normal",{"v":41.32,"d":"€41.32"},"LUXE",{"$f":"IFERROR(VLOOKUP(F3052,Discounts!A:C,3,0),0)","v":0},{"v":41.32,"d":"€41.32"}]
[60910,30510,1,"Normal",{"v":232.23,"d":"€232.23"},"O115",{"$f":"IFERROR(VLOOKUP(F3065,Discounts!A:C,3,0),0)","v":0},{"v":232.23,"d":"€232.23"}]
[60930,31470,1,"Normal",{"v":133.88,"d":"€133.88"},"LUXE",{"$f":"IFERROR(VLOOKUP(F3074,Discounts!A:C,3,0),0)","v":0},{"$f":"IF(D3074=\"Normal\",E3074*(1-G3074),SUMIF(A:A,B3074,H:H)*C3074)","v":{"v":133.88,"d":"€133.88"}}]
[60970,2680,1,"Normal",{"v":1262.81,"d":"€1,262.81"},"A010",{"$f":"IFERROR(VLOOKUP(F3086,Discounts!A:C,3,0),0)","v":0},{"v":1262.81,"d":"€1,262.81"}]
[61020,45730,1,"Normal",{"v":41.32,"d":"€41.32"},"LUXE",{"$f":"IFERROR(VLOOKUP(F3109,Discounts!A:C,3,0),0)","v":0},{"v":41.32,"d":"€41.32"}]
[61050,2760,1,"Normal",{"v":1504.96,"d":"€1,504.96"},"A010",{"$f":"IFERROR(VLOOKUP(F3118,Discounts!A:C,3,0),0)","v":0},{"v":1504.96,"d":"€1,504.96"}]
[61080,31470,1,"Normal",{"v":133.88,"d":"€133.88"},"LUXE",{"$f":"IFERROR(VLOOKUP(F3131,Discounts!A:C,3,0),0)","v":0},{"v":133.88,"d":"€133.88"}]
[61100,45730,1,"Normal",{"v":41.32,"d":"€41.32"},"LUXE",{"$f":"IFERROR(VLOOKUP(F3140,Discounts!A:C,3,0),0)","v":0},{"v":41.32,"d":"€41.32"}]
[61130,2830,1,"Combination",{"v":1587.6,"d":"€1,587.60"},"",{"$f":"IFERROR(VLOOKUP(F3149,Discounts!A:C,3,0),0)","v":0},{"v":1587.6,"d":"€1,587.60"}]
[61160,31470,1,"Normal",{"v":133.88,"d":"€133.88"},"LUXE",{"$f":"IFERROR(VLOOKUP(F3163,Discounts!A:C,3,0),0)","v":0},{"v":133.88,"d":"€133.88"}]
[61190,2880,1,"Normal",{"v":1376.03,"d":"€1,376.03"},"A010",{"$f":"IFERROR(VLOOKUP(F3172,Discounts!A:C,3,0),0)","v":0},{"v":1376.03,"d":"€1,376.03"}]
[61220,29710,1,"Normal",{"v":41.32,"d":"€41.32"},"LUXE",{"$f":"IFERROR(VLOOKUP(F3185,Discounts!A:C,3,0),0)","v":0},{"v":41.32,"d":"€41.32"}]
[61270,31470,1,"Normal",{"v":133.88,"d":"€133.88"},"LUXE",{"$f":"IFERROR(VLOOKUP(F3206,Discounts!A:C,3,0),0)","v":0},{"v":133.88,"d":"€133.88"}]
[61290,45730,1,"Normal",{"v":41.32,"d":"€41.32"},"LUXE",{"$f":"IFERROR(VLOOKUP(F3215,Discounts!A:C,3,0),0)","v":0},{"v":41.32,"d":"€41.32"}]
[61320,29710,1,"Normal",{"v":41.32,"d":"€41.32"},"LUXE",{"$f":"IFERROR(VLOOKUP(F3225,Discounts!A:C,3,0),0)","v":0},{"v":41.32,"d":"€41.32"}]
[61350,31470,1,"Normal",{"v":133.88,"d":"€133.88"},"LUXE",{"$f":"IFERROR(VLOOKUP(F3238,Discounts!A:C,3,0),0)","v":0},{"v":133.88,"d":"€133.88"}]
[61370,45730,1,"Normal",{"v":41.32,"d":"€41.32"},"LUXE",{"$f":"IFERROR(VLOOKUP(F3247,Discounts!A:C,3,0),0)","v":0},{"v":41.32,"d":"€41.32"}]
[61410,3080,1,"Normal",{"v":1738.02,"d":"€1,738.02"},"A010",{"$f":"IFERROR(VLOOKUP(F3260,Discounts!A:C,3,0),0)","v":0},{"v":1738.02,"d":"€1,738.02"}]
[61430,29710,1,"Normal",{"v":41.32,"d":"€41.32"},"LUXE",{"$f":"IFERROR(VLOOKUP(F3269,Discounts!A:C,3,0),0)","v":0},{"v":41.32,"d":"€41.32"}]
[61470,45730,1,"Normal",{"v":41.32,"d":"€41.32"},"LUXE",{"$f":"IFERROR(VLOOKUP(F3287,Discounts!A:C,3,0),0)","v":0},{"v":41.32,"d":"€41.32"}]
[61520,29710,1,"Normal",{"v":41.32,"d":"€41.32"},"LUXE",{"$f":"IFERROR(VLOOKUP(F3304,Discounts!A:C,3,0),0)","v":0},{"v":41.32,"d":"€41.32"}]
[61540,31470,1,"Normal",{"v":133.88,"d":"€133.88"},"LUXE",{"$f":"IFERROR(VLOOKUP(F3313,Discounts!A:C,3,0),0)","v":0},{"v":133.88,"d":"€133.88"}]
[61570,45730,1,"Normal",{"v":41.32,"d":"€41.32"},"LUXE",{"$f":"IFERROR(VLOOKUP(F3326,Discounts!A:C,3,0),0)","v":0},{"v":41.32,"d":"€41.32"}]
[61600,3660,1,"Normal",{"v":2059.5,"d":"€2,059.50"},"A010",{"$f":"IFERROR(VLOOKUP(F3335,Discounts!A:C,3,0),0)","v":0},{"v":2059.5,"d":"€2,059.50"}]
[61630,31470,1,"Normal",{"v":133.88,"d":"€133.88"},"LUXE",{"$f":"IFERROR(VLOOKUP(F3348,Discounts!A:C,3,0),0)","v":0},{"v":133.88,"d":"€133.88"}]
[61650,29710,1,"Normal",{"v":41.32,"d":"€41.32"},"LUXE",{"$f":"IFERROR(VLOOKUP(F3355,Discounts!A:C,3,0),0)","v":0},{"v":41.32,"d":"€41.32"}]
[61680,29710,1,"Normal",{"v":41.32,"d":"€41.32"},"LUXE",{"$f":"IFERROR(VLOOKUP(F3367,Discounts!A:C,3,0),0)","v":0},{"v":41.32,"d":"€41.32"}]
[61710,31470,1,"Normal",{"v":133.88,"d":"€133.88"},"LUXE",{"$f":"IFERROR(VLOOKUP(F3380,Discounts!A:C,3,0),0)","v":0},{"v":133.88,"d":"€133.88"}]
[61760,45730,1,"Normal",{"v":41.32,"d":"€41.32"},"LUXE",{"$f":"IFERROR(VLOOKUP(F3401,Discounts!A:C,3,0),0)","v":0},{"v":41.32,"d":"€41.32"}]
[61790,3830,1,"Combination",{"v":1936.36,"d":"€1,936.36"},"",{"$f":"IFERROR(VLOOKUP(F3410,Discounts!A:C,3,0),0)","v":0},{"v":1936.36,"d":"€1,936.36"}]
[61800,45730,1,"Normal",{"v":41.32,"d":"€41.32"},"LUXE",{"$f":"IFERROR(VLOOKUP(F3417,Discounts!A:C,3,0),0)","v":0},{"v":41.32,"d":"€41.32"}]
[61840,31640,1,"Normal",{"v":134.71,"d":"€134.71"},"LUXE",{"$f":"IFERROR(VLOOKUP(F3433,Discounts!A:C,3,0),0)","v":0},{"v":134.71,"d":"€134.71"}]
[61880,3900,1,"Normal",{"v":1354.55,"d":"€1,354.55"},"A010",{"$f":"IFERROR(VLOOKUP(F3446,Discounts!A:C,3,0),0)","v":0},{"v":1354.55,"d":"€1,354.55"}]
[61900,29710,1,"Normal",{"v":41.32,"d":"€41.32"},"LUXE",{"$f":"IFERROR(VLOOKUP(F3455,Discounts!A:C,3,0),0)","v":0},{"v":41.32,"d":"€41.32"}]
[61920,31470,1,"Normal",{"v":133.88,"d":"€133.88"},"LUXE",{"$f":"IFERROR(VLOOKUP(F3464,Discounts!A:C,3,0),0)","v":0},{"v":133.88,"d":"€133.88"}]
[61960,31470,1,"Normal",{"v":133.88,"d":"€133.88"},"LUXE",{"$f":"IFERROR(VLOOKUP(F3479,Discounts!A:C,3,0),0)","v":0},{"v":133.88,"d":"€133.88"}]
[62010,31470,1,"Normal",{"v":133.88,"d":"€133.88"},"LUXE",{"$f":"IFERROR(VLOOKUP(F3499,Discounts!A:C,3,0),0)","v":0},{"v":133.88,"d":"€133.88"}]
[62030,45730,1,"Normal",{"v":41.32,"d":"€41.32"},"LUXE",{"$f":"IFERROR(VLOOKUP(F3508,Discounts!A:C,3,0),0)","v":0},{"v":41.32,"d":"€41.32"}]
[62070,29710,1,"Normal",{"v":41.32,"d":"€41.32"},"LUXE",{"$f":"IFERROR(VLOOKUP(F3521,Discounts!A:C,3,0),0)","v":0},{"v":41.32,"d":"€41.32"}]
[62090,31470,1,"Normal",{"v":133.88,"d":"€133.88"},"LUXE",{"$f":"IFERROR(VLOOKUP(F3530,Discounts!A:C,3,0),0)","v":0},{"v":133.88,"d":"€133.88"}]
[62120,29710,1,"Normal",{"v":41.32,"d":"€41.32"},"LUXE",{"$f":"IFERROR(VLOOKUP(F3541,Discounts!A:C,3,0),0)","v":0},{"v":41.32,"d":"€41.32"}]
[62150,29710,1,"Normal",{"v":41.32,"d":"€41.32"},"LUXE",{"$f":"IFERROR(VLOOKUP(F3553,Discounts!A:C,3,0),0)","v":0},{"v":41.32,"d":"€41.32"}]
[62170,29930,1,"Normal",{"v":572.73,"d":"€572.73"},"LUXE",{"$f":"IFERROR(VLOOKUP(F3562,Discounts!A:C,3,0),0)","v":0},{"v":572.73,"d":"€572.73"}]
[62200,45730,1,"Normal",{"v":41.32,"d":"€41.32"},"LUXE",{"$f":"IFERROR(VLOOKUP(F3575,Discounts!A:C,3,0),0)","v":0},{"v":41.32,"d":"€41.32"}]
[62260,4250,1,"Combination",{"v":1458.68,"d":"€1,458.68"},"",{"$f":"IFERROR(VLOOKUP(F3596,Discounts!A:C,3,0),0)","v":0},{"v":1458.68,"d":"€1,458.68"}]
[62260,29710,1,"Normal",{"v":41.32,"d":"€41.32"},"LUXE",{"$f":"IFERROR(VLOOKUP(F3597,Discounts!A:C,3,0),0)","v":0},{"v":41.32,"d":"€41.32"}]
[62290,29710,1,"Normal",{"v":41.32,"d":"€41.32"},"LUXE",{"$f":"IFERROR(VLOOKUP(F3609,Discounts!A:C,3,0),0)","v":0},{"v":41.32,"d":"€41.32"}]
[62340,4320,1,"Normal",{"v":1401.65,"d":"€1,401.65"},"A010",{"$f":"IFERROR(VLOOKUP(F3628,Discounts!A:C,3,0),0)","v":0},{"v":1401.65,"d":"€1,401.65"}]
[62370,29710,1,"Normal",{"v":41.32,"d":"€41.32"},"LUXE",{"$f":"IFERROR(VLOOKUP(F3641,Discounts!A:C,3,0),0)","v":0},{"v":41.32,"d":"€41.32"}]
[62390,31470,1,"Normal",{"v":133.88,"d":"€133.88"},"LUXE",{"$f":"IFERROR(VLOOKUP(F3650,Discounts!A:C,3,0),0)","v":0},{"$f":"IF(D3650=\"Normal\",E3650*(1-G3650),SUMIF(A:A,B3650,H:H)*C3650)","v":{"v":133.88,"d":"€133.88"}}]
[62420,4390,1,"Combination",{"v":1738.02,"d":"€1,738.02"},"",{"$f":"IFERROR(VLOOKUP(F3659,Discounts!A:C,3,0),0)","v":0},{"v":1738.02,"d":"€1,738.02"}]
[62450,4420,1,"Normal",{"v":1587.6,"d":"€1,587.60"},"A010",{"$f":"IFERROR(VLOOKUP(F3671,Discounts!A:C,3,0),0)","v":0},{"v":1587.6,"d":"€1,587.60"}]
[62510,4470,1,"Combination",{"v":1738.02,"d":"€1,738.02"},"",{"$f":"IFERROR(VLOOKUP(F3694,Discounts!A:C,3,0),0)","v":0},{"v":1738.02,"d":"€1,738.02"}]
[62510,29710,1,"Normal",{"v":41.32,"d":"€41.32"},"LUXE",{"$f":"IFERROR(VLOOKUP(F3695,Discounts!A:C,3,0),0)","v":0},{"v":41.32,"d":"€41.32"}]
[62560,29780,1,"Normal",{"v":877.69,"d":"€877.69"},"LUXE",{"$f":"IFERROR(VLOOKUP(F3716,Discounts!A:C,3,0),0)","v":0},{"v":877.69,"d":"€877.69"}]
[62580,31640,1,"Normal",{"v":134.71,"d":"€134.71"},"LUXE",{"$f":"IFERROR(VLOOKUP(F3725,Discounts!A:C,3,0),0)","v":0},{"v":134.71,"d":"€134.71"}]
[62600,31640,1,"Normal",{"v":134.71,"d":"€134.71"},"LUXE",{"$f":"IFERROR(VLOOKUP(F3733,Discounts!A:C,3,0),0)","v":0},{"v":134.71,"d":"€134.71"}]
[62640,31640,1,"Normal",{"v":134.71,"d":"€134.71"},"LUXE",{"$f":"IFERROR(VLOOKUP(F3748,Discounts!A:C,3,0),0)","v":0},{"v":134.71,"d":"€134.71"}]
[62690,29440,1,"Combination",{"v":2597.52,"d":"€2,597.52"},"",{"$f":"IFERROR(VLOOKUP(F3761,Discounts!A:C,3,0),0)","v":0},{"v":2597.52,"d":"€2,597.52"}]
[62710,29720,1,"Normal",{"v":87.6,"d":"€87.60"},"LUXE",{"$f":"IFERROR(VLOOKUP(F3770,Discounts!A:C,3,0),0)","v":0},{"v":87.6,"d":"€87.60"}]
[62770,31640,1,"Normal",{"v":134.71,"d":"€134.71"},"LUXE",{"$f":"IFERROR(VLOOKUP(F3791,Discounts!A:C,3,0),0)","v":0},{"v":134.71,"d":"€134.71"}]
[62780,29720,1,"Normal",{"v":87.6,"d":"€87.60"},"LUXE",{"$f":"IFERROR(VLOOKUP(F3792,Discounts!A:C,3,0),0)","v":0},{"v":87.6,"d":"€87.60"}]
[62840,25550,1,"Combination",{"v":1843.8,"d":"€1,843.80"},"",{"$f":"IFERROR(VLOOKUP(F3814,Discounts!A:C,3,0),0)","v":0},{"v":1843.8,"d":"€1,843.80"}]
[62870,25580,1,"Combination",{"v":1843.8,"d":"€1,843.80"},"",{"$f":"IFERROR(VLOOKUP(F3823,Discounts!A:C,3,0),0)","v":0},{"v":1843.8,"d":"€1,843.80"}]
[62900,31640,1,"Normal",{"v":134.71,"d":"€134.71"},"LUXE",{"$f":"IFERROR(VLOOKUP(F3836,Discounts!A:C,3,0),0)","v":0},{"v":134.71,"d":"€134.71"}]
[62930,29930,1,"Normal",{"v":572.73,"d":"€572.73"},"LUXE",{"$f":"IFERROR(VLOOKUP(F3845,Discounts!A:C,3,0),0)","v":0},{"v":572.73,"d":"€572.73"}]
[62970,25640,1,"Combination",{"v":2482.65,"d":"€2,482.65"},"",{"$f":"IFERROR(VLOOKUP(F3858,Discounts!A:C,3,0),0)","v":0},{"v":2482.65,"d":"€2,482.65"}]
[63080,29710,1,"Normal",{"v":41.32,"d":"€41.32"},"LUXE",{"$f":"IFERROR(VLOOKUP(F3876,Discounts!A:C,3,0),0)","v":0},{"v":41.32,"d":"€41.32"}]
[63120,30560,1,"Combination",{"v":2217.36,"d":"€2,217.36"},"",{"$f":"IFERROR(VLOOKUP(F3889,Discounts!A:C,3,0),0)","v":0},{"v":2217.36,"d":"€2,217.36"}]
[63120,31470,1,"Normal",{"v":133.88,"d":"€133.88"},"LUXE",{"$f":"IFERROR(VLOOKUP(F3890,Discounts!A:C,3,0),0)","v":0},{"v":133.88,"d":"€133.88"}]
[63180,31470,1,"Normal",{"v":133.88,"d":"€133.88"},"LUXE",{"$f":"IFERROR(VLOOKUP(F3911,Discounts!A:C,3,0),0)","v":0},{"v":133.88,"d":"€133.88"}]
[63210,31470,1,"Normal",{"v":133.88,"d":"€133.88"},"LUXE",{"$f":"IFERROR(VLOOKUP(F3920,Discounts!A:C,3,0),0)","v":0},{"v":133.88,"d":"€133.88"}]
[63280,31470,1,"Normal",{"v":133.88,"d":"€133.88"},"LUXE",{"$f":"IFERROR(VLOOKUP(F3938,Discounts!A:C,3,0),0)","v":0},{"v":133.88,"d":"€133.88"}]
[63350,29710,1,"Normal",{"v":41.32,"d":"€41.32"},"LUXE",{"$f":"IFERROR(VLOOKUP(F3943,Discounts!A:C,3,0),0)","v":0},{"v":41.32,"d":"€41.32"}]
[63390,810,1,"Combination",{"v":1953.72,"d":"€1,953.72"},"",{"$f":"IFERROR(VLOOKUP(F3956,Discounts!A:C,3,0),0)","v":0},{"v":1953.72,"d":"€1,953.72"}]
[63420,25990,1,"Combination",{"v":2984.3,"d":"€2,984.30"},"",{"$f":"IFERROR(VLOOKUP(F3965,Discounts!A:C,3,0),0)","v":0},{"v":2984.3,"d":"€2,984.30"}]
[63490,26060,1,"Combination",{"v":2513.23,"d":"€2,513.23"},"",{"$f":"IFERROR(VLOOKUP(F3986,Discounts!A:C,3,0),0)","v":0},{"v":2513.23,"d":"€2,513.23"}]
[63490,29710,1,"Normal",{"v":41.32,"d":"€41.32"},"LUXE",{"$f":"IFERROR(VLOOKUP(F3987,Discounts!A:C,3,0),0)","v":0},{"v":41.32,"d":"€41.32"}]
[63540,31470,1,"Normal",{"v":133.88,"d":"€133.88"},"LUXE",{"$f":"IFERROR(VLOOKUP(F4006,Discounts!A:C,3,0),0)","v":0},{"v":133.88,"d":"€133.88"}]
[63670,31470,1,"Normal",{"v":133.88,"d":"€133.88"},"LUXE",{"$f":"IFERROR(VLOOKUP(F4022,Discounts!A:C,3,0),0)","v":0},{"v":133.88,"d":"€133.88"}]
[63700,29890,1,"Normal",{"v":193.39,"d":"€193.39"},"P106",{"$f":"IFERROR(VLOOKUP(F4031,Discounts!A:C,3,0),0)","v":0},{"v":193.39,"d":"€193.39"}]
[63720,31470,1,"Normal",{"v":133.88,"d":"€133.88"},"LUXE",{"$f":"IFERROR(VLOOKUP(F4040,Discounts!A:C,3,0),0)","v":0},{"v":133.88,"d":"€133.88"}]
[63780,31470,1,"Normal",{"v":133.88,"d":"€133.88"},"LUXE",{"$f":"IFERROR(VLOOKUP(F4053,Discounts!A:C,3,0),0)","v":0},{"v":133.88,"d":"€133.88"}]
[63820,31470,1,"Normal",{"v":133.88,"d":"€133.88"},"LUXE",{"$f":"IFERROR(VLOOKUP(F4068,Discounts!A:C,3,0),0)","v":0},{"v":133.88,"d":"€133.88"}]
[63870,30760,1,"Combination",{"v":2605.79,"d":"€2,605.79"},"",{"$f":"IFERROR(VLOOKUP(F4084,Discounts!A:C,3,0),0)","v":0},{"v":2605.79,"d":"€2,605.79"}]
[63870,31470,1,"Normal",{"v":133.88,"d":"€133.88"},"LUXE",{"$f":"IFERROR(VLOOKUP(F4085,Discounts!A:C,3,0),0)","v":0},{"v":133.88,"d":"€133.88"}]
[63950,29720,1,"Normal",{"v":87.6,"d":"€87.60"},"LUXE",{"$f":"IFERROR(VLOOKUP(F4106,Discounts!A:C,3,0),0)","v":0},{"v":87.6,"d":"€87.60"}]
[64050,29780,1,"Normal",{"v":877.69,"d":"€877.69"},"LUXE",{"$f":"IFERROR(VLOOKUP(F4119,Discounts!A:C,3,0),0)","v":0},{"v":877.69,"d":"€877.69"}]
[64080,30840,1,"Combination",{"v":2261.99,"d":"€2,261.99"},"",{"$f":"IFERROR(VLOOKUP(F4130,Discounts!A:C,3,0),0)","v":0},{"v":2261.9900000000002,"d":"€2,261.99"}]
[64100,30860,1,"Combination",{"v":2266.12,"d":"€2,266.12"},"",{"$f":"IFERROR(VLOOKUP(F4138,Discounts!A:C,3,0),0)","v":0},{"v":2266.12,"d":"€2,266.12"}]
[64130,31470,1,"Normal",{"v":133.88,"d":"€133.88"},"LUXE",{"$f":"IFERROR(VLOOKUP(F4151,Discounts!A:C,3,0),0)","v":0},{"v":133.88,"d":"€133.88"}]
[64160,29720,1,"Normal",{"v":87.6,"d":"€87.60"},"LUXE",{"$f":"IFERROR(VLOOKUP(F4160,Discounts!A:C,3,0),0)","v":0},{"v":87.6,"d":"€87.60"}]
[64320,29710,1,"Normal",{"v":41.32,"d":"€41.32"},"LUXE",{"$f":"IFERROR(VLOOKUP(F4181,Discounts!A:C,3,0),0)","v":0},{"v":41.32,"d":"€41.32"}]
[64350,26510,1,"Combination",{"v":1987.61,"d":"€1,987.61"},"",{"$f":"IFERROR(VLOOKUP(F4192,Discounts!A:C,3,0),0)","v":0},{"v":1987.61,"d":"€1,987.61"}]
[64380,26540,1,"Combination",{"v":1464.47,"d":"€1,464.47"},"",{"$f":"IFERROR(VLOOKUP(F4204,Discounts!A:C,3,0),0)","v":0},{"v":1464.47,"d":"€1,464.47"}]
[64420,29710,1,"Normal",{"v":41.32,"d":"€41.32"},"LUXE",{"$f":"IFERROR(VLOOKUP(F4217,Discounts!A:C,3,0),0)","v":0},{"v":41.32,"d":"€41.32"}]
[64500,29710,1,"Normal",{"v":41.32,"d":"€41.32"},"LUXE",{"$f":"IFERROR(VLOOKUP(F4226,Discounts!A:C,3,0),0)","v":0},{"$f":"IF(D4226=\"Normal\",E4226*(1-G4226),SUMIF(A:A,B4226,H:H)*C4226)","v":{"v":41.32,"d":"€41.32"}}]
[64560,29710,1,"Normal",{"v":41.32,"d":"€41.32"},"LUXE",{"$f":"IFERROR(VLOOKUP(F4235,Discounts!A:C,3,0),0)","v":0},{"v":41.32,"d":"€41.32"}]
[64600,31470,1,"Normal",{"v":133.88,"d":"€133.88"},"LUXE",{"$f":"IFERROR(VLOOKUP(F4248,Discounts!A:C,3,0),0)","v":0},{"v":133.88,"d":"€133.88"}]
[64640,31470,1,"Normal",{"v":133.88,"d":"€133.88"},"LUXE",{"$f":"IFERROR(VLOOKUP(F4260,Discounts!A:C,3,0),0)","v":0},{"v":133.88,"d":"€133.88"}]
[64670,31470,1,"Normal",{"v":133.88,"d":"€133.88"},"LUXE",{"$f":"IFERROR(VLOOKUP(F4271,Discounts!A:C,3,0),0)","v":0},{"v":133.88,"d":"€133.88"}]
[64690,53350,1,"Normal",{"v":199.17,"d":"€199.17"},"LUXE",{"$f":"IFERROR(VLOOKUP(F4280,Discounts!A:C,3,0),0)","v":0},{"v":199.17,"d":"€199.17"}]
[64750,29710,1,"Normal",{"v":41.32,"d":"€41.32"},"LUXE",{"$f":"IFERROR(VLOOKUP(F4301,Discounts!A:C,3,0),0)","v":0},{"v":41.32,"d":"€41.32"}]
[64790,29710,1,"Normal",{"v":41.32,"d":"€41.32"},"LUXE",{"$f":"IFERROR(VLOOKUP(F4314,Discounts!A:C,3,0),0)","v":0},{"v":41.32,"d":"€41.32"}]
[64820,26940,1,"Combination",{"v":2433.06,"d":"€2,433.06"},"",{"$f":"IFERROR(VLOOKUP(F4322,Discounts!A:C,3,0),0)","v":0},{"v":2433.06,"d":"€2,433.06"}]
[64850,31470,1,"Normal",{"v":133.88,"d":"€133.88"},"LUXE",{"$f":"IFERROR(VLOOKUP(F4333,Discounts!A:C,3,0),0)","v":0},{"v":133.88,"d":"€133.88"}]
[64890,31470,1,"Normal",{"v":133.88,"d":"€133.88"},"LUXE",{"$f":"IFERROR(VLOOKUP(F4346,Discounts!A:C,3,0),0)","v":0},{"v":133.88,"d":"€133.88"}]
[64960,29710,1,"Normal",{"v":41.32,"d":"€41.32"},"LUXE",{"$f":"IFERROR(VLOOKUP(F4355,Discounts!A:C,3,0),0)","v":0},{"v":41.32,"d":"€41.32"}]
[65050,31470,1,"Normal",{"v":133.88,"d":"€133.88"},"LUXE",{"$f":"IFERROR(VLOOKUP(F4368,Discounts!A:C,3,0),0)","v":0},{"v":133.88,"d":"€133.88"}]
[65210,31470,1,"Normal",{"v":133.88,"d":"€133.88"},"LUXE",{"$f":"IFERROR(VLOOKUP(F4384,Discounts!A:C,3,0),0)","v":0},{"v":133.88,"d":"€133.88"}]
[65260,31470,1,"Normal",{"v":133.88,"d":"€133.88"},"LUXE",{"$f":"IFERROR(VLOOKUP(F4399,Discounts!A:C,3,0),0)","v":0},{"v":133.88,"d":"€133.88"}]
[65310,27310,1,"Combination",{"v":1371.9,"d":"€1,371.90"},"",{"$f":"IFERROR(VLOOKUP(F4412,Discounts!A:C,3,0),0)","v":0},{"v":1371.8999999999999,"d":"€1,371.90"}]
[65340,27340,1,"Combination",{"v":1909.09,"d":"€1,909.09"},"",{"$f":"IFERROR(VLOOKUP(F4421,Discounts!A:C,3,0),0)","v":0},{"v":1909.09,"d":"€1,909.09"}]
[65380,29710,1,"Normal",{"v":41.32,"d":"€41.32"},"LUXE",{"$f":"IFERROR(VLOOKUP(F4434,Discounts!A:C,3,0),0)","v":0},{"v":41.32,"d":"€41.32"}]
[65410,29710,1,"Normal",{"v":41.32,"d":"€41.32"},"LUXE",{"$f":"IFERROR(VLOOKUP(F4443,Discounts!A:C,3,0),0)","v":0},{"v":41.32,"d":"€41.32"}]
[65440,29710,1,"Normal",{"v":41.32,"d":"€41.32"},"LUXE",{"$f":"IFERROR(VLOOKUP(F4452,Discounts!A:C,3,0),0)","v":0},{"v":41.32,"d":"€41.32"}]
[65490,27460,1,"Combination",{"v":2682.65,"d":"€2,682.65"},"",{"$f":"IFERROR(VLOOKUP(F4466,Discounts!A:C,3,0),0)","v":0},{"v":2682.65,"d":"€2,682.65"}]
[65520,27480,1,"Combination",{"v":1442.98,"d":"€1,442.98"},"",{"$f":"IFERROR(VLOOKUP(F4475,Discounts!A:C,3,0),0)","v":0},{"v":1442.98,"d":"€1,442.98"}]
[65590,27550,1,"Combination",{"v":1464.47,"d":"€1,464.47"},"",{"$f":"IFERROR(VLOOKUP(F4496,Discounts!A:C,3,0),0)","v":0},{"v":1464.47,"d":"€1,464.47"}]
[65630,29710,1,"Normal",{"v":41.32,"d":"€41.32"},"LUXE",{"$f":"IFERROR(VLOOKUP(F4509,Discounts!A:C,3,0),0)","v":0},{"v":41.32,"d":"€41.32"}]
[65650,28100,1,"Combination",{"v":2202.48,"d":"€2,202.48"},"",{"$f":"IFERROR(VLOOKUP(F4514,Discounts!A:C,3,0),0)","v":0},{"v":2202.48,"d":"€2,202.48"}]
[65710,28160,1,"Combination",{"v":2389.26,"d":"€2,389.26"},"",{"$f":"IFERROR(VLOOKUP(F4532,Discounts!A:C,3,0),0)","v":0},{"v":2389.26,"d":"€2,389.26"}]
[65740,28180,1,"Combination",{"v":2682.65,"d":"€2,682.65"},"",{"$f":"IFERROR(VLOOKUP(F4541,Discounts!A:C,3,0),0)","v":0},{"v":2682.65,"d":"€2,682.65"}]
[65770,28210,1,"Combination",{"v":2823.14,"d":"€2,823.14"},"",{"$f":"IFERROR(VLOOKUP(F4550,Discounts!A:C,3,0),0)","v":0},{"v":2823.1400000000003,"d":"€2,823.14"}]
[65810,28270,1,"Combination",{"v":1874.38,"d":"€1,874.38"},"",{"$f":"IFERROR(VLOOKUP(F4563,Discounts!A:C,3,0),0)","v":0},{"v":1874.3799999999999,"d":"€1,874.38"}]
[65850,28300,1,"Combination",{"v":2016.53,"d":"€2,016.53"},"",{"$f":"IFERROR(VLOOKUP(F4576,Discounts!A:C,3,0),0)","v":0},{"v":2016.53,"d":"€2,016.53"}]
[65900,29710,1,"Normal",{"v":41.32,"d":"€41.32"},"LUXE",{"$f":"IFERROR(VLOOKUP(F4594,Discounts!A:C,3,0),0)","v":0},{"v":41.32,"d":"€41.32"}]
[66040,29710,1,"Normal",{"v":41.32,"d":"€41.32"},"LUXE",{"$f":"IFERROR(VLOOKUP(F4607,Discounts!A:C,3,0),0)","v":0},{"v":41.32,"d":"€41.32"}]
[66060,31470,1,"Normal",{"v":133.88,"d":"€133.88"},"LUXE",{"$f":"IFERROR(VLOOKUP(F4616,Discounts!A:C,3,0),0)","v":0},{"v":133.88,"d":"€133.88"}]
[66090,45730,1,"Normal",{"v":41.32,"d":"€41.32"},"LUXE",{"$f":"IFERROR(VLOOKUP(F4629,Discounts!A:C,3,0),0)","v":0},{"v":41.32,"d":"€41.32"}]
[66120,27690,1,"Combination",{"v":1695.87,"d":"€1,695.87"},"",{"$f":"IFERROR(VLOOKUP(F4638,Discounts!A:C,3,0),0)","v":0},{"v":1695.87,"d":"€1,695.87"}]
[66140,31470,1,"Normal",{"v":133.88,"d":"€133.88"},"LUXE",{"$f":"IFERROR(VLOOKUP(F4648,Discounts!A:C,3,0),0)","v":0},{"v":133.88,"d":"€133.88"}]
[66180,27740,1,"Combination",{"v":1823.14,"d":"€1,823.14"},"",{"$f":"IFERROR(VLOOKUP(F4661,Discounts!A:C,3,0),0)","v":0},{"v":1823.1399999999999,"d":"€1,823.14"}]
[66200,29710,1,"Normal",{"v":41.32,"d":"€41.32"},"LUXE",{"$f":"IFERROR(VLOOKUP(F4670,Discounts!A:C,3,0),0)","v":0},{"v":41.32,"d":"€41.32"}]
[66230,31470,1,"Normal",{"v":133.88,"d":"€133.88"},"LUXE",{"$f":"IFERROR(VLOOKUP(F4683,Discounts!A:C,3,0),0)","v":0},{"v":133.88,"d":"€133.88"}]
[66290,27830,1,"Combination",{"v":1963.64,"d":"€1,963.64"},"",{"$f":"IFERROR(VLOOKUP(F4704,Discounts!A:C,3,0),0)","v":0},{"v":1963.6399999999999,"d":"€1,963.64"}]
[66290,31470,1,"Normal",{"v":133.88,"d":"€133.88"},"LUXE",{"$f":"IFERROR(VLOOKUP(F4706,Discounts!A:C,3,0),0)","v":0},{"v":133.88,"d":"€133.88"}]
[66340,45730,1,"Normal",{"v":41.32,"d":"€41.32"},"LUXE",{"$f":"IFERROR(VLOOKUP(F4727,Discounts!A:C,3,0),0)","v":0},{"v":41.32,"d":"€41.32"}]
[66370,27910,1,"Combination",{"v":1963.64,"d":"€1,963.64"},"",{"$f":"IFERROR(VLOOKUP(F4736,Discounts!A:C,3,0),0)","v":0},{"v":1963.6399999999999,"d":"€1,963.64"}]
[66390,29710,1,"Normal",{"v":41.32,"d":"€41.32"},"LUXE",{"$f":"IFERROR(VLOOKUP(F4745,Discounts!A:C,3,0),0)","v":0},{"v":41.32,"d":"€41.32"}]
[66420,45730,1,"Normal",{"v":41.32,"d":"€41.32"},"LUXE",{"$f":"IFERROR(VLOOKUP(F4758,Discounts!A:C,3,0),0)","v":0},{"v":41.32,"d":"€41.32"}]
[66450,29710,1,"Normal",{"v":41.32,"d":"€41.32"},"LUXE",{"$f":"IFERROR(VLOOKUP(F4768,Discounts!A:C,3,0),0)","v":0},{"v":41.32,"d":"€41.32"}]
[66480,31470,1,"Normal",{"v":133.88,"d":"€133.88"},"LUXE",{"$f":"IFERROR(VLOOKUP(F4781,Discounts!A:C,3,0),0)","v":0},{"v":133.88,"d":"€133.88"}]
[66540,28060,1,"Combination",{"v":1811.57,"d":"€1,811.57"},"",{"$f":"IFERROR(VLOOKUP(F4802,Discounts!A:C,3,0),0)","v":0},{"$f":"IF(D4802=\"Normal\",E4802*(1-G4802),SUMIF(A:A,B4802,H:H)*C4802)","v":{"v":1811.57,"d":"€1,811.57"}}]
[66560,29710,1,"Normal",{"v":41.32,"d":"€41.32"},"LUXE",{"$f":"IFERROR(VLOOKUP(F4811,Discounts!A:C,3,0),0)","v":0},{"v":41.32,"d":"€41.32"}]
[66590,31470,1,"Normal",{"v":133.88,"d":"€133.88"},"LUXE",{"$f":"IFERROR(VLOOKUP(F4824,Discounts!A:C,3,0),0)","v":0},{"v":133.88,"d":"€133.88"}]
[66610,1040,1,"Normal",{"v":2156.2,"d":"€2,156.20"},"A010",{"$f":"IFERROR(VLOOKUP(F4830,Discounts!A:C,3,0),0)","v":0},{"v":2156.2,"d":"€2,156.20"}]
[66640,31470,1,"Normal",{"v":133.88,"d":"€133.88"},"LUXE",{"$f":"IFERROR(VLOOKUP(F4843,Discounts!A:C,3,0),0)","v":0},{"v":133.88,"d":"€133.88"}]
[66670,45730,1,"Normal",{"v":41.32,"d":"€41.32"},"LUXE",{"$f":"IFERROR(VLOOKUP(F4856,Discounts!A:C,3,0),0)","v":0},{"v":41.32,"d":"€41.32"}]
[66700,28610,1,"Combination",{"v":2125.62,"d":"€2,125.62"},"",{"$f":"IFERROR(VLOOKUP(F4865,Discounts!A:C,3,0),0)","v":0},{"v":2125.62,"d":"€2,125.62"}]
[66730,31470,1,"Normal",{"v":133.88,"d":"€133.88"},"LUXE",{"$f":"IFERROR(VLOOKUP(F4878,Discounts!A:C,3,0),0)","v":0},{"v":133.88,"d":"€133.88"}]
[66780,45730,1,"Normal",{"v":41.32,"d":"€41.32"},"LUXE",{"$f":"IFERROR(VLOOKUP(F4899,Discounts!A:C,3,0),0)","v":0},{"v":41.32,"d":"€41.32"}]
[66810,45730,1,"Normal",{"v":41.32,"d":"€41.32"},"LUXE",{"$f":"IFERROR(VLOOKUP(F4911,Discounts!A:C,3,0),0)","v":0},{"v":41.32,"d":"€41.32"}]
[66840,45730,1,"Normal",{"v":41.32,"d":"€41.32"},"LUXE",{"$f":"IFERROR(VLOOKUP(F4922,Discounts!A:C,3,0),0)","v":0},{"v":41.32,"d":"€41.32"}]
[66870,28760,1,"Combination",{"v":1987.61,"d":"€1,987.61"},"",{"$f":"IFERROR(VLOOKUP(F4931,Discounts!A:C,3,0),0)","v":0},{"v":1987.61,"d":"€1,987.61"}]
[66900,29710,1,"Normal",{"v":41.32,"d":"€41.32"},"LUXE",{"$f":"IFERROR(VLOOKUP(F4944,Discounts!A:C,3,0),0)","v":0},{"v":41.32,"d":"€41.32"}]
[66920,31470,1,"Normal",{"v":133.88,"d":"€133.88"},"LUXE",{"$f":"IFERROR(VLOOKUP(F4953,Discounts!A:C,3,0),0)","v":0},{"v":133.88,"d":"€133.88"}]
[66970,45730,1,"Normal",{"v":41.32,"d":"€41.32"},"LUXE",{"$f":"IFERROR(VLOOKUP(F4973,Discounts!A:C,3,0),0)","v":0},{"v":41.32,"d":"€41.32"}]
[66980,31470,1,"Normal",{"v":133.88,"d":"€133.88"},"LUXE",{"$f":"IFERROR(VLOOKUP(F4976,Discounts!A:C,3,0),0)","v":0},{"v":133.88,"d":"€133.88"}]
[67030,45730,1,"Normal",{"v":41.32,"d":"€41.32"},"LUXE",{"$f":"IFERROR(VLOOKUP(F4997,Discounts!A:C,3,0),0)","v":0},{"v":41.32,"d":"€41.32"}]
[67060,29710,1,"Normal",{"v":41.32,"d":"€41.32"},"LUXE",{"$f":"IFERROR(VLOOKUP(F5006,Discounts!A:C,3,0),0)","v":0},{"v":41.32,"d":"€41.32"}]
[67090,31470,1,"Normal",{"v":133.88,"d":"€133.88"},"LUXE",{"$f":"IFERROR(VLOOKUP(F5019,Discounts!A:C,3,0),0)","v":0},{"v":133.88,"d":"€133.88"}]
[67130,31470,1,"Normal",{"v":133.88,"d":"€133.88"},"LUXE",{"$f":"IFERROR(VLOOKUP(F5035,Discounts!A:C,3,0),0)","v":0},{"v":133.88,"d":"€133.88"}]
[67150,29710,1,"Normal",{"v":41.32,"d":"€41.32"},"LUXE",{"$f":"IFERROR(VLOOKUP(F5042,Discounts!A:C,3,0),0)","v":0},{"v":41.32,"d":"€41.32"}]
[67170,45730,1,"Normal",{"v":41.32,"d":"€41.32"},"LUXE",{"$f":"IFERROR(VLOOKUP(F5051,Discounts!A:C,3,0),0)","v":0},{"v":41.32,"d":"€41.32"}]
[67200,29060,1,"Combination",{"v":1721.49,"d":"€1,721.49"},"",{"$f":"IFERROR(VLOOKUP(F5060,Discounts!A:C,3,0),0)","v":0},{"v":1721.49,"d":"€1,721.49"}]
[67230,29710,1,"Normal",{"v":41.32,"d":"€41.32"},"LUXE",{"$f":"IFERROR(VLOOKUP(F5073,Discounts!A:C,3,0),0)","v":0},{"v":41.32,"d":"€41.32"}]
[67260,29120,1,"Combination",{"v":2043.8,"d":"€2,043.80"},"",{"$f":"IFERROR(VLOOKUP(F5084,Discounts!A:C,3,0),0)","v":0},{"v":2043.8,"d":"€2,043.80"}]
[67320,29710,1,"Normal",{"v":41.32,"d":"€41.32"},"LUXE",{"$f":"IFERROR(VLOOKUP(F5108,Discounts!A:C,3,0),0)","v":0},{"v":41.32,"d":"€41.32"}]
[67340,31470,1,"Normal",{"v":133.88,"d":"€133.88"},"LUXE",{"$f":"IFERROR(VLOOKUP(F5117,Discounts!A:C,3,0),0)","v":0},{"v":133.88,"d":"€133.88"}]
[67360,45730,1,"Normal",{"v":41.32,"d":"€41.32"},"LUXE",{"$f":"IFERROR(VLOOKUP(F5126,Discounts!A:C,3,0),0)","v":0},{"v":41.32,"d":"€41.32"}]
[67400,29710,1,"Normal",{"v":41.32,"d":"€41.32"},"LUXE",{"$f":"IFERROR(VLOOKUP(F5139,Discounts!A:C,3,0),0)","v":0},{"v":41.32,"d":"€41.32"}]
[67420,31470,1,"Normal",{"v":133.88,"d":"€133.88"},"LUXE",{"$f":"IFERROR(VLOOKUP(F5148,Discounts!A:C,3,0),0)","v":0},{"v":133.88,"d":"€133.88"}]
[67460,45730,1,"Normal",{"v":41.32,"d":"€41.32"},"LUXE",{"$f":"IFERROR(VLOOKUP(F5165,Discounts!A:C,3,0),0)","v":0},{"v":41.32,"d":"€41.32"}]
[67480,29710,1,"Normal",{"v":41.32,"d":"€41.32"},"LUXE",{"$f":"IFERROR(VLOOKUP(F5171,Discounts!A:C,3,0),0)","v":0},{"v":41.32,"d":"€41.32"}]
[67530,31470,1,"Normal",{"v":133.88,"d":"€133.88"},"LUXE",{"$f":"IFERROR(VLOOKUP(F5192,Discounts!A:C,3,0),0)","v":0},{"v":133.88,"d":"€133.88"}]
[67560,45730,1,"Normal",{"v":41.32,"d":"€41.32"},"LUXE",{"$f":"IFERROR(VLOOKUP(F5205,Discounts!A:C,3,0),0)","v":0},{"v":41.32,"d":"€41.32"}]
[67590,29410,1,"Combination",{"v":1897.52,"d":"€1,897.52"},"",{"$f":"IFERROR(VLOOKUP(F5214,Discounts!A:C,3,0),0)","v":0},{"v":1897.52,"d":"€1,897.52"}]
[67620,29710,1,"Normal",{"v":41.32,"d":"€41.32"},"LUXE",{"$f":"IFERROR(VLOOKUP(F5227,Discounts!A:C,3,0),0)","v":0},{"v":41.32,"d":"€41.32"}]
[67640,44920,2,"Normal",{"v":400,"d":"€400.00"},"SD/SG",{"$f":"IFERROR(VLOOKUP(F5237,Discounts!A:C,3,0),0)","v":0},{"v":400,"d":"€400.00"}]
[67670,18860,2,"Normal",{"v":852.9,"d":"€852.90"},"D010",{"$f":"IFERROR(VLOOKUP(F5246,Discounts!A:C,3,0),0)","v":0},{"v":852.9,"d":"€852.90"}]
[67690,29710,1,"Normal",{"v":41.32,"d":"€41.32"},"LUXE",{"$f":"IFERROR(VLOOKUP(F5255,Discounts!A:C,3,0),0)","v":0},{"v":41.32,"d":"€41.32"}]
[67720,44920,2,"Normal",{"v":400,"d":"€400.00"},"SD/SG",{"$f":"IFERROR(VLOOKUP(F5268,Discounts!A:C,3,0),0)","v":0},{"v":400,"d":"€400.00"}]
[67780,30990,1,"Normal",{"v":105.79,"d":"€105.79"},"SD/SG",{"$f":"IFERROR(VLOOKUP(F5289,Discounts!A:C,3,0),0)","v":0},{"v":105.79,"d":"€105.79"}]
[67810,44920,2,"Normal",{"v":400,"d":"€400.00"},"SD/SG",{"$f":"IFERROR(VLOOKUP(F5303,Discounts!A:C,3,0),0)","v":0},{"v":400,"d":"€400.00"}]
[67840,18910,2,"Normal",{"v":1122.32,"d":"€1,122.32"},"D010",{"$f":"IFERROR(VLOOKUP(F5312,Discounts!A:C,3,0),0)","v":0},{"v":1122.32,"d":"€1,122.32"}]
[67860,29710,1,"Normal",{"v":41.32,"d":"€41.32"},"LUXE",{"$f":"IFERROR(VLOOKUP(F5321,Discounts!A:C,3,0),0)","v":0},{"v":41.32,"d":"€41.32"}]
[67890,44920,2,"Normal",{"v":400,"d":"€400.00"},"SD/SG",{"$f":"IFERROR(VLOOKUP(F5334,Discounts!A:C,3,0),0)","v":0},{"v":400,"d":"€400.00"}]
[67920,18730,2,"Normal",{"v":1353.72,"d":"€1,353.72"},"D060",{"$f":"IFERROR(VLOOKUP(F5343,Discounts!A:C,3,0),0)","v":0},{"v":1353.72,"d":"€1,353.72"}]
[67940,53530,2,"Combination",{"v":469.44,"d":"€469.44"},"SD/SG",{"$f":"IFERROR(VLOOKUP(F5353,Discounts!A:C,3,0),0)","v":0},{"v":469.44000000000005,"d":"€469.44"}]
[67980,18730,2,"Normal",{"v":1353.72,"d":"€1,353.72"},"D060",{"$f":"IFERROR(VLOOKUP(F5366,Discounts!A:C,3,0),0)","v":0},{"v":1353.72,"d":"€1,353.72"}]
[68040,29720,1,"Normal",{"v":87.6,"d":"€87.60"},"LUXE",{"$f":"IFERROR(VLOOKUP(F5387,Discounts!A:C,3,0),0)","v":0},{"v":87.6,"d":"€87.60"}]
[68080,31640,1,"Normal",{"v":134.71,"d":"€134.71"},"LUXE",{"$f":"IFERROR(VLOOKUP(F5400,Discounts!A:C,3,0),0)","v":0},{"v":134.71,"d":"€134.71"}]
[68150,29720,1,"Normal",{"v":87.6,"d":"€87.60"},"LUXE",{"$f":"IFERROR(VLOOKUP(F5409,Discounts!A:C,3,0),0)","v":0},{"v":87.6,"d":"€87.60"}]
[68190,29710,1,"Normal",{"v":41.32,"d":"€41.32"},"LUXE",{"$f":"IFERROR(VLOOKUP(F5419,Discounts!A:C,3,0),0)","v":0},{"v":41.32,"d":"€41.32"}]
[68220,31470,1,"Normal",{"v":133.88,"d":"€133.88"},"LUXE",{"$f":"IFERROR(VLOOKUP(F5432,Discounts!A:C,3,0),0)","v":0},{"v":133.88,"d":"€133.88"}]
[68240,45730,1,"Normal",{"v":41.32,"d":"€41.32"},"LUXE",{"$f":"IFERROR(VLOOKUP(F5441,Discounts!A:C,3,0),0)","v":0},{"v":41.32,"d":"€41.32"}]
[68280,40450,1,"Normal",{"v":13.22,"d":"€13.22"},"SD/SG",{"$f":"IFERROR(VLOOKUP(F5454,Discounts!A:C,3,0),0)","v":0},{"v":13.22,"d":"€13.22"}]
[68300,40520,1,"Normal",{"v":64.46,"d":"€64.46"},"SD/SG",{"$f":"IFERROR(VLOOKUP(F5463,Discounts!A:C,3,0),0)","v":0},{"v":64.46,"d":"€64.46"}]
[68350,31920,1,"Normal",{"v":115.7,"d":"€115.70"},"SD/SG",{"$f":"IFERROR(VLOOKUP(F5481,Discounts!A:C,3,0),0)","v":0},{"v":115.7,"d":"€115.70"}]
[68390,40450,1,"Normal",{"v":13.22,"d":"€13.22"},"SD/SG",{"$f":"IFERROR(VLOOKUP(F5498,Discounts!A:C,3,0),0)","v":0},{"v":13.22,"d":"€13.22"}]
[68410,40520,1,"Normal",{"v":64.46,"d":"€64.46"},"SD/SG",{"$f":"IFERROR(VLOOKUP(F5507,Discounts!A:C,3,0),0)","v":0},{"v":64.46,"d":"€64.46"}]
[68450,14710,1,"Normal",{"v":473.55,"d":"€473.55"},"E011",{"$f":"IFERROR(VLOOKUP(F5520,Discounts!A:C,3,0),0)","v":0},{"v":473.55,"d":"€473.55"}]
[68470,31920,1,"Normal",{"v":115.7,"d":"€115.70"},"SD/SG",{"$f":"IFERROR(VLOOKUP(F5529,Discounts!A:C,3,0),0)","v":0},{"v":115.7,"d":"€115.70"}]
[68490,40450,1,"Normal",{"v":13.22,"d":"€13.22"},"SD/SG",{"$f":"IFERROR(VLOOKUP(F5538,Discounts!A:C,3,0),0)","v":0},{"v":13.22,"d":"€13.22"}]
[68540,40450,1,"Normal",{"v":13.22,"d":"€13.22"},"SD/SG",{"$f":"IFERROR(VLOOKUP(F5558,Discounts!A:C,3,0),0)","v":0},{"v":13.22,"d":"€13.22"}]
[68550,31920,1,"Normal",{"v":115.7,"d":"€115.70"},"SD/SG",{"$f":"IFERROR(VLOOKUP(F5561,Discounts!A:C,3,0),0)","v":0},{"v":115.7,"d":"€115.70"}]
[68600,40450,1,"Normal",{"v":13.22,"d":"€13.22"},"SD/SG",{"$f":"IFERROR(VLOOKUP(F5582,Discounts!A:C,3,0),0)","v":0},{"v":13.22,"d":"€13.22"}]
[68630,40520,1,"Normal",{"v":64.46,"d":"€64.46"},"SD/SG",{"$f":"IFERROR(VLOOKUP(F5595,Discounts!A:C,3,0),0)","v":0},{"v":64.46,"d":"€64.46"}]
[68660,14920,1,"Normal",{"v":376.86,"d":"€376.86"},"E016",{"$f":"IFERROR(VLOOKUP(F5604,Discounts!A:C,3,0),0)","v":0},{"v":376.86,"d":"€376.86"}]
[68700,14960,1,"Normal",{"v":400.83,"d":"€400.83"},"E016",{"$f":"IFERROR(VLOOKUP(F5620,Discounts!A:C,3,0),0)","v":0},{"v":400.83,"d":"€400.83"}]
[68710,40520,1,"Normal",{"v":64.46,"d":"€64.46"},"SD/SG",{"$f":"IFERROR(VLOOKUP(F5627,Discounts!A:C,3,0),0)","v":0},{"v":64.46,"d":"€64.46"}]
[68740,15000,1,"Normal",{"v":423.97,"d":"€423.97"},"E016",{"$f":"IFERROR(VLOOKUP(F5636,Discounts!A:C,3,0),0)","v":0},{"v":423.97,"d":"€423.97"}]
[68770,31920,1,"Normal",{"v":115.7,"d":"€115.70"},"SD/SG",{"$f":"IFERROR(VLOOKUP(F5649,Discounts!A:C,3,0),0)","v":0},{"v":115.7,"d":"€115.70"}]
[68790,40450,1,"Normal",{"v":13.22,"d":"€13.22"},"SD/SG",{"$f":"IFERROR(VLOOKUP(F5658,Discounts!A:C,3,0),0)","v":0},{"v":13.22,"d":"€13.22"}]
[68830,31920,1,"Normal",{"v":115.7,"d":"€115.70"},"SD/SG",{"$f":"IFERROR(VLOOKUP(F5673,Discounts!A:C,3,0),0)","v":0},{"v":115.7,"d":"€115.70"}]
[68880,31920,1,"Normal",{"v":115.7,"d":"€115.70"},"SD/SG",{"$f":"IFERROR(VLOOKUP(F5693,Discounts!A:C,3,0),0)","v":0},{"v":115.7,"d":"€115.70"}]
[68900,40450,1,"Normal",{"v":13.22,"d":"€13.22"},"SD/SG",{"$f":"IFERROR(VLOOKUP(F5702,Discounts!A:C,3,0),0)","v":0},{"v":13.22,"d":"€13.22"}]
[68940,40450,1,"Normal",{"v":13.22,"d":"€13.22"},"SD/SG",{"$f":"IFERROR(VLOOKUP(F5715,Discounts!A:C,3,0),0)","v":0},{"v":13.22,"d":"€13.22"}]
[68970,40450,1,"Normal",{"v":13.22,"d":"€13.22"},"SD/SG",{"$f":"IFERROR(VLOOKUP(F5724,Discounts!A:C,3,0),0)","v":0},{"v":13.22,"d":"€13.22"}]
[69010,31920,1,"Normal",{"v":115.7,"d":"€115.70"},"SD/SG",{"$f":"IFERROR(VLOOKUP(F5735,Discounts!A:C,3,0),0)","v":0},{"v":115.7,"d":"€115.70"}]
[69050,31920,1,"Normal",{"v":115.7,"d":"€115.70"},"SD/SG",{"$f":"IFERROR(VLOOKUP(F5747,Discounts!A:C,3,0),0)","v":0},{"v":115.7,"d":"€115.70"}]
[69080,31920,1,"Normal",{"v":115.7,"d":"€115.70"},"SD/SG",{"$f":"IFERROR(VLOOKUP(F5756,Discounts!A:C,3,0),0)","v":0},{"v":115.7,"d":"€115.70"}]
[69120,40450,1,"Normal",{"v":13.22,"d":"€13.22"},"SD/SG",{"$f":"IFERROR(VLOOKUP(F5769,Discounts!A:C,3,0),0)","v":0},{"v":13.22,"d":"€13.22"}]
[69190,40450,1,"Normal",{"v":13.22,"d":"€13.22"},"SD/SG",{"$f":"IFERROR(VLOOKUP(F5790,Discounts!A:C,3,0),0)","v":0},{"v":13.22,"d":"€13.22"}]
[69220,40450,1,"Normal",{"v":13.22,"d":"€13.22"},"SD/SG",{"$f":"IFERROR(VLOOKUP(F5799,Discounts!A:C,3,0),0)","v":0},{"v":13.22,"d":"€13.22"}]
[69260,15560,1,"Normal",{"v":492.56,"d":"€492.56"},"E013",{"$f":"IFERROR(VLOOKUP(F5812,Discounts!A:C,3,0),0)","v":0},{"v":492.56,"d":"€492.56"}]
[69280,40450,1,"Normal",{"v":13.22,"d":"€13.22"},"SD/SG",{"$f":"IFERROR(VLOOKUP(F5822,Discounts!A:C,3,0),0)","v":0},{"v":13.22,"d":"€13.22"}]
[69300,48600,1,"Normal",{"v":19.83,"d":"€19.83"},"SD/SG",{"$f":"IFERROR(VLOOKUP(F5831,Discounts!A:C,3,0),0)","v":0},{"v":19.83,"d":"€19.83"}]
[69340,15640,1,"Normal",{"v":557.85,"d":"€557.85"},"E013",{"$f":"IFERROR(VLOOKUP(F5844,Discounts!A:C,3,0),0)","v":0},{"v":557.85,"d":"€557.85"}]
[69360,31920,1,"Normal",{"v":115.7,"d":"€115.70"},"SD/SG",{"$f":"IFERROR(VLOOKUP(F5853,Discounts!A:C,3,0),0)","v":0},{"v":115.7,"d":"€115.70"}]
[69410,40450,1,"Normal",{"v":13.22,"d":"€13.22"},"SD/SG",{"$f":"IFERROR(VLOOKUP(F5874,Discounts!A:C,3,0),0)","v":0},{"v":13.22,"d":"€13.22"}]
[69450,31920,1,"Normal",{"v":115.7,"d":"€115.70"},"SD/SG",{"$f":"IFERROR(VLOOKUP(F5888,Discounts!A:C,3,0),0)","v":0},{"v":115.7,"d":"€115.70"}]
[69470,40450,1,"Normal",{"v":13.22,"d":"€13.22"},"SD/SG",{"$f":"IFERROR(VLOOKUP(F5897,Discounts!A:C,3,0),0)","v":0},{"v":13.22,"d":"€13.22"}]
[69500,48600,1,"Normal",{"v":19.83,"d":"€19.83"},"SD/SG",{"$f":"IFERROR(VLOOKUP(F5910,Discounts!A:C,3,0),0)","v":0},{"v":19.83,"d":"€19.83"}]
[69530,15830,1,"Normal",{"v":834.71,"d":"€834.71"},"E013",{"$f":"IFERROR(VLOOKUP(F5919,Discounts!A:C,3,0),0)","v":0},{"v":834.71,"d":"€834.71"}]
[69550,15890,1,"Normal",{"v":496.69,"d":"€496.69"},"E012",{"$f":"IFERROR(VLOOKUP(F5927,Discounts!A:C,3,0),0)","v":0},{"v":496.69,"d":"€496.69"}]
[69590,31920,1,"Normal",{"v":115.7,"d":"€115.70"},"SD/SG",{"$f":"IFERROR(VLOOKUP(F5942,Discounts!A:C,3,0),0)","v":0},{"v":115.7,"d":"€115.70"}]
[69610,15950,1,"Normal",{"v":407.44,"d":"€407.44"},"E016",{"$f":"IFERROR(VLOOKUP(F5951,Discounts!A:C,3,0),0)","v":0},{"v":407.44,"d":"€407.44"}]
[69640,15980,1,"Normal",{"v":442.98,"d":"€442.98"},"E016",{"$f":"IFERROR(VLOOKUP(F5964,Discounts!A:C,3,0),0)","v":0},{"v":442.98,"d":"€442.98"}]
[69690,16030,1,"Normal",{"v":530.58,"d":"€530.58"},"E016",{"$f":"IFERROR(VLOOKUP(F5985,Discounts!A:C,3,0),0)","v":0},{"v":530.58,"d":"€530.58"}]
[69710,31920,1,"Normal",{"v":115.7,"d":"€115.70"},"SD/SG",{"$f":"IFERROR(VLOOKUP(F5994,Discounts!A:C,3,0),0)","v":0},{"v":115.7,"d":"€115.70"}]
[69730,42300,1,"Normal",{"v":134.71,"d":"€134.71"},"SD/SG",{"$f":"IFERROR(VLOOKUP(F6004,Discounts!A:C,3,0),0)","v":0},{"v":134.71,"d":"€134.71"}]
[69770,16110,1,"Normal",{"v":638.02,"d":"€638.02"},"E016",{"$f":"IFERROR(VLOOKUP(F6017,Discounts!A:C,3,0),0)","v":0},{"v":638.02,"d":"€638.02"}]
[69800,31920,1,"Normal",{"v":115.7,"d":"€115.70"},"SD/SG",{"$f":"IFERROR(VLOOKUP(F6030,Discounts!A:C,3,0),0)","v":0},{"v":115.7,"d":"€115.70"}]
[69820,40450,2,"Normal",{"v":26.44,"d":"€26.44"},"SD/SG",{"$f":"IFERROR(VLOOKUP(F6039,Discounts!A:C,3,0),0)","v":0},{"v":26.44,"d":"€26.44"}]
[69840,40530,1,"Normal",{"v":88.43,"d":"€88.43"},"SD/SG",{"$f":"IFERROR(VLOOKUP(F6048,Discounts!A:C,3,0),0)","v":0},{"v":88.43,"d":"€88.43"}]
[69890,31920,1,"Normal",{"v":115.7,"d":"€115.70"},"SD/SG",{"$f":"IFERROR(VLOOKUP(F6066,Discounts!A:C,3,0),0)","v":0},{"v":115.7,"d":"€115.70"}]
[69930,40450,2,"Normal",{"v":26.44,"d":"€26.44"},"SD/SG",{"$f":"IFERROR(VLOOKUP(F6083,Discounts!A:C,3,0),0)","v":0},{"v":26.44,"d":"€26.44"}]
[69950,42300,1,"Normal",{"v":134.71,"d":"€134.71"},"SD/SG",{"$f":"IFERROR(VLOOKUP(F6092,Discounts!A:C,3,0),0)","v":0},{"v":134.71,"d":"€134.71"}]
[69990,16370,1,"Normal",{"v":832.23,"d":"€832.23"},"E016",{"$f":"IFERROR(VLOOKUP(F6105,Discounts!A:C,3,0),0)","v":0},{"v":832.23,"d":"€832.23"}]
[70010,31920,1,"Normal",{"v":115.7,"d":"€115.70"},"SD/SG",{"$f":"IFERROR(VLOOKUP(F6114,Discounts!A:C,3,0),0)","v":0},{"v":115.7,"d":"€115.70"}]
[70040,40530,1,"Normal",{"v":88.43,"d":"€88.43"},"SD/SG",{"$f":"IFERROR(VLOOKUP(F6128,Discounts!A:C,3,0),0)","v":0},{"v":88.43,"d":"€88.43"}]
[70070,16490,1,"Normal",{"v":907.44,"d":"€907.44"},"E016",{"$f":"IFERROR(VLOOKUP(F6137,Discounts!A:C,3,0),0)","v":0},{"v":907.44,"d":"€907.44"}]
[70090,31920,1,"Normal",{"v":115.7,"d":"€115.70"},"SD/SG",{"$f":"IFERROR(VLOOKUP(F6146,Discounts!A:C,3,0),0)","v":0},{"$f":"IF(D6146=\"Normal\",E6146*(1-G6146),SUMIF(A:A,B6146,H:H)*C6146)","v":{"v":115.7,"d":"€115.70"}}]
[70120,40450,1,"Normal",{"v":13.22,"d":"€13.22"},"SD/SG",{"$f":"IFERROR(VLOOKUP(F6159,Discounts!A:C,3,0),0)","v":0},{"v":13.22,"d":"€13.22"}]
[70160,31920,1,"Normal",{"v":115.7,"d":"€115.70"},"SD/SG",{"$f":"IFERROR(VLOOKUP(F6180,Discounts!A:C,3,0),0)","v":0},{"v":115.7,"d":"€115.70"}]
[70180,40450,2,"Normal",{"v":26.44,"d":"€26.44"},"SD/SG",{"$f":"IFERROR(VLOOKUP(F6190,Discounts!A:C,3,0),0)","v":0},{"v":26.44,"d":"€26.44"}]
[70220,31920,1,"Normal",{"v":115.7,"d":"€115.70"},"SD/SG",{"$f":"IFERROR(VLOOKUP(F6203,Discounts!A:C,3,0),0)","v":0},{"v":115.7,"d":"€115.70"}]
[70240,40970,1,"Normal",{"v":58.68,"d":"€58.68"},"SD/SG",{"$f":"IFERROR(VLOOKUP(F6212,Discounts!A:C,3,0),0)","v":0},{"v":58.68,"d":"€58.68"}]
[70280,40450,2,"Normal",{"v":26.44,"d":"€26.44"},"SD/SG",{"$f":"IFERROR(VLOOKUP(F6225,Discounts!A:C,3,0),0)","v":0},{"v":26.44,"d":"€26.44"}]
[70310,40450,3,"Normal",{"v":39.66,"d":"€39.66"},"SD/SG",{"$f":"IFERROR(VLOOKUP(F6234,Discounts!A:C,3,0),0)","v":0},{"v":39.66,"d":"€39.66"}]
[70340,40450,4,"Normal",{"v":52.88,"d":"€52.88"},"SD/SG",{"$f":"IFERROR(VLOOKUP(F6243,Discounts!A:C,3,0),0)","v":0},{"v":52.88,"d":"€52.88"}]
[70390,40450,5,"Normal",{"v":66.1,"d":"€66.10"},"SD/SG",{"$f":"IFERROR(VLOOKUP(F6258,Discounts!A:C,3,0),0)","v":0},{"v":66.1,"d":"€66.10"}]
[70460,31920,1,"Normal",{"v":115.7,"d":"€115.70"},"SD/SG",{"$f":"IFERROR(VLOOKUP(F6278,Discounts!A:C,3,0),0)","v":0},{"v":115.7,"d":"€115.70"}]
[70460,40450,3,"Normal",{"v":39.66,"d":"€39.66"},"SD/SG",{"$f":"IFERROR(VLOOKUP(F6279,Discounts!A:C,3,0),0)","v":0},{"v":39.66,"d":"€39.66"}]
[70530,40450,2,"Normal",{"v":26.44,"d":"€26.44"},"SD/SG",{"$f":"IFERROR(VLOOKUP(F6300,Discounts!A:C,3,0),0)","v":0},{"v":26.44,"d":"€26.44"}]
[70560,40450,2,"Normal",{"v":26.44,"d":"€26.44"},"SD/SG",{"$f":"IFERROR(VLOOKUP(F6309,Discounts!A:C,3,0),0)","v":0},{"v":26.44,"d":"€26.44"}]
[70600,31920,1,"Normal",{"v":115.7,"d":"€115.70"},"SD/SG",{"$f":"IFERROR(VLOOKUP(F6320,Discounts!A:C,3,0),0)","v":0},{"v":115.7,"d":"€115.70"}]
[70640,31920,1,"Normal",{"v":115.7,"d":"€115.70"},"SD/SG",{"$f":"IFERROR(VLOOKUP(F6332,Discounts!A:C,3,0),0)","v":0},{"v":115.7,"d":"€115.70"}]
[70670,31920,1,"Normal",{"v":115.7,"d":"€115.70"},"SD/SG",{"$f":"IFERROR(VLOOKUP(F6341,Discounts!A:C,3,0),0)","v":0},{"v":115.7,"d":"€115.70"}]
[70710,40450,1,"Normal",{"v":13.22,"d":"€13.22"},"SD/SG",{"$f":"IFERROR(VLOOKUP(F6354,Discounts!A:C,3,0),0)","v":0},{"v":13.22,"d":"€13.22"}]
[70760,17340,1,"Normal",{"v":845.45,"d":"€845.45"},"E013",{"$f":"IFERROR(VLOOKUP(F6375,Discounts!A:C,3,0),0)","v":0},{"v":845.45,"d":"€845.45"}]
[70770,31920,1,"Normal",{"v":115.7,"d":"€115.70"},"SD/SG",{"$f":"IFERROR(VLOOKUP(F6382,Discounts!A:C,3,0),0)","v":0},{"v":115.7,"d":"€115.70"}]
[70810,31920,1,"Normal",{"v":115.7,"d":"€115.70"},"SD/SG",{"$f":"IFERROR(VLOOKUP(F6398,Discounts!A:C,3,0),0)","v":0},{"v":115.7,"d":"€115.70"}]
[70830,40450,1,"Normal",{"v":13.22,"d":"€13.22"},"SD/SG",{"$f":"IFERROR(VLOOKUP(F6407,Discounts!A:C,3,0),0)","v":0},{"v":13.22,"d":"€13.22"}]
[70860,40520,1,"Normal",{"v":64.46,"d":"€64.46"},"SD/SG",{"$f":"IFERROR(VLOOKUP(F6420,Discounts!A:C,3,0),0)","v":0},{"v":64.46,"d":"€64.46"}]
[70890,18510,1,"Normal",{"v":1085.95,"d":"€1,085.95"},"E013",{"$f":"IFERROR(VLOOKUP(F6429,Discounts!A:C,3,0),0)","v":0},{"v":1085.95,"d":"€1,085.95"}]
[70930,31920,1,"Normal",{"v":115.7,"d":"€115.70"},"SD/SG",{"$f":"IFERROR(VLOOKUP(F6442,Discounts!A:C,3,0),0)","v":0},{"v":115.7,"d":"€115.70"}]
[70960,18580,1,"Normal",{"v":1385.95,"d":"€1,385.95"},"E013",{"$f":"IFERROR(VLOOKUP(F6450,Discounts!A:C,3,0),0)","v":0},{"v":1385.95,"d":"€1,385.95"}]
[71030,34550,1,"Normal",{"v":535.54,"d":"€535.54"},"E011",{"$f":"IFERROR(VLOOKUP(F6473,Discounts!A:C,3,0),0)","v":0},{"v":535.54,"d":"€535.54"}]
[71030,40450,1,"Normal",{"v":13.22,"d":"€13.22"},"SD/SG",{"$f":"IFERROR(VLOOKUP(F6474,Discounts!A:C,3,0),0)","v":0},{"v":13.22,"d":"€13.22"}]
[71090,40450,2,"Normal",{"v":26.44,"d":"€26.44"},"SD/SG",{"$f":"IFERROR(VLOOKUP(F6495,Discounts!A:C,3,0),0)","v":0},{"v":26.44,"d":"€26.44"}]
[71120,31920,1,"Normal",{"v":115.7,"d":"€115.70"},"SD/SG",{"$f":"IFERROR(VLOOKUP(F6504,Discounts!A:C,3,0),0)","v":0},{"v":115.7,"d":"€115.70"}]
[71140,34660,1,"Normal",{"v":597.52,"d":"€597.52"},"E012",{"$f":"IFERROR(VLOOKUP(F6512,Discounts!A:C,3,0),0)","v":0},{"v":597.52,"d":"€597.52"}]
[71180,40450,2,"Normal",{"v":26.44,"d":"€26.44"},"SD/SG",{"$f":"IFERROR(VLOOKUP(F6527,Discounts!A:C,3,0),0)","v":0},{"v":26.44,"d":"€26.44"}]
[71220,34740,1,"Normal",{"v":747.93,"d":"€747.93"},"E012",{"$f":"IFERROR(VLOOKUP(F6540,Discounts!A:C,3,0),0)","v":0},{"v":747.93,"d":"€747.93"}]
[71250,31920,1,"Normal",{"v":115.7,"d":"€115.70"},"SD/SG",{"$f":"IFERROR(VLOOKUP(F6549,Discounts!A:C,3,0),0)","v":0},{"v":115.7,"d":"€115.70"}]
[71310,31920,1,"Normal",{"v":115.7,"d":"€115.70"},"SD/SG",{"$f":"IFERROR(VLOOKUP(F6570,Discounts!A:C,3,0),0)","v":0},{"v":115.7,"d":"€115.70"}]
[71320,31920,1,"Normal",{"v":115.7,"d":"€115.70"},"SD/SG",{"$f":"IFERROR(VLOOKUP(F6574,Discounts!A:C,3,0),0)","v":0},{"v":115.7,"d":"€115.70"}]
[71370,40450,1,"Normal",{"v":13.22,"d":"€13.22"},"SD/SG",{"$f":"IFERROR(VLOOKUP(F6593,Discounts!A:C,3,0),0)","v":0},{"v":13.22,"d":"€13.22"}]
[71410,34930,1,"Normal",{"v":671.07,"d":"€671.07"},"E015",{"$f":"IFERROR(VLOOKUP(F6606,Discounts!A:C,3,0),0)","v":0},{"v":671.07,"d":"€671.07"}]
[71430,40520,1,"Normal",{"v":64.46,"d":"€64.46"},"SD/SG",{"$f":"IFERROR(VLOOKUP(F6615,Discounts!A:C,3,0),0)","v":0},{"v":64.46,"d":"€64.46"}]
[71460,34980,1,"Normal",{"v":742.15,"d":"€742.15"},"E012",{"$f":"IFERROR(VLOOKUP(F6624,Discounts!A:C,3,0),0)","v":0},{"v":742.15,"d":"€742.15"}]
[71490,42290,1,"Normal",{"v":111.57,"d":"€111.57"},"SD/SG",{"$f":"IFERROR(VLOOKUP(F6636,Discounts!A:C,3,0),0)","v":0},{"v":111.57,"d":"€111.57"}]
[71530,31920,1,"Normal",{"v":115.7,"d":"€115.70"},"SD/SG",{"$f":"IFERROR(VLOOKUP(F6647,Discounts!A:C,3,0),0)","v":0},{"v":115.7,"d":"€115.70"}]
[71590,31920,1,"Normal",{"v":115.7,"d":"€115.70"},"SD/SG",{"$f":"IFERROR(VLOOKUP(F6668,Discounts!A:C,3,0),0)","v":0},{"v":115.7,"d":"€115.70"}]
[71590,35110,1,"Normal",{"v":536.36,"d":"€536.36"},"E016",{"$f":"IFERROR(VLOOKUP(F6669,Discounts!A:C,3,0),0)","v":0},{"v":536.36,"d":"€536.36"}]
[71650,35170,1,"Combination",{"v":396.69,"d":"€396.69"},"E015",{"$f":"IFERROR(VLOOKUP(F6690,Discounts!A:C,3,0),0)","v":0},{"v":396.69,"d":"€396.69"}]
[71690,31920,1,"Normal",{"v":115.7,"d":"€115.70"},"SD/SG",{"$f":"IFERROR(VLOOKUP(F6703,Discounts!A:C,3,0),0)","v":0},{"v":115.7,"d":"€115.70"}]
[71730,31920,1,"Normal",{"v":115.7,"d":"€115.70"},"SD/SG",{"$f":"IFERROR(VLOOKUP(F6717,Discounts!A:C,3,0),0)","v":0},{"v":115.7,"d":"€115.70"}]
[71740,35260,1,"Combination",{"v":539.67,"d":"€539.67"},"E013",{"$f":"IFERROR(VLOOKUP(F6722,Discounts!A:C,3,0),0)","v":0},{"$f":"IF(D6722=\"Normal\",E6722*(1-G6722),SUMIF(A:A,B6722,H:H)*C6722)","v":{"v":539.67,"d":"€539.67"}}]
[71780,31920,1,"Normal",{"v":115.7,"d":"€115.70"},"SD/SG",{"$f":"IFERROR(VLOOKUP(F6735,Discounts!A:C,3,0),0)","v":0},{"v":115.7,"d":"€115.70"}]
[71800,40450,2,"Normal",{"v":26.44,"d":"€26.44"},"SD/SG",{"$f":"IFERROR(VLOOKUP(F6744,Discounts!A:C,3,0),0)","v":0},{"v":26.44,"d":"€26.44"}]
[71860,40450,2,"Normal",{"v":26.44,"d":"€26.44"},"SD/SG",{"$f":"IFERROR(VLOOKUP(F6765,Discounts!A:C,3,0),0)","v":0},{"v":26.44,"d":"€26.44"}]
[71870,31920,1,"Normal",{"v":115.7,"d":"€115.70"},"SD/SG",{"$f":"IFERROR(VLOOKUP(F6766,Discounts!A:C,3,0),0)","v":0},{"v":115.7,"d":"€115.70"}]
[71920,40520,1,"Normal",{"v":64.46,"d":"€64.46"},"SD/SG",{"$f":"IFERROR(VLOOKUP(F6788,Discounts!A:C,3,0),0)","v":0},{"v":64.46,"d":"€64.46"}]
[71960,31920,1,"Normal",{"v":115.7,"d":"€115.70"},"SD/SG",{"$f":"IFERROR(VLOOKUP(F6801,Discounts!A:C,3,0),0)","v":0},{"v":115.7,"d":"€115.70"}]
[71980,35500,1,"Normal",{"v":776.86,"d":"€776.86"},"E011",{"$f":"IFERROR(VLOOKUP(F6810,Discounts!A:C,3,0),0)","v":0},{"v":776.86,"d":"€776.86"}]
[72000,40450,2,"Normal",{"v":26.44,"d":"€26.44"},"SD/SG",{"$f":"IFERROR(VLOOKUP(F6819,Discounts!A:C,3,0),0)","v":0},{"v":26.44,"d":"€26.44"}]
[72020,42290,1,"Normal",{"v":111.57,"d":"€111.57"},"SD/SG",{"$f":"IFERROR(VLOOKUP(F6828,Discounts!A:C,3,0),0)","v":0},{"v":111.57,"d":"€111.57"}]
[72060,35580,1,"Normal",{"v":479.34,"d":"€479.34"},"E016",{"$f":"IFERROR(VLOOKUP(F6842,Discounts!A:C,3,0),0)","v":0},{"v":479.34,"d":"€479.34"}]
[72090,40450,1,"Normal",{"v":13.22,"d":"€13.22"},"SD/SG",{"$f":"IFERROR(VLOOKUP(F6855,Discounts!A:C,3,0),0)","v":0},{"v":13.22,"d":"€13.22"}]
[72110,40520,1,"Normal",{"v":64.46,"d":"€64.46"},"SD/SG",{"$f":"IFERROR(VLOOKUP(F6864,Discounts!A:C,3,0),0)","v":0},{"v":64.46,"d":"€64.46"}]
[72170,31920,1,"Normal",{"v":115.7,"d":"€115.70"},"SD/SG",{"$f":"IFERROR(VLOOKUP(F6885,Discounts!A:C,3,0),0)","v":0},{"v":115.7,"d":"€115.70"}]
[72200,35730,1,"Normal",{"v":659.5,"d":"€659.50"},"E016",{"$f":"IFERROR(VLOOKUP(F6898,Discounts!A:C,3,0),0)","v":0},{"v":659.5,"d":"€659.50"}]
[72230,31920,1,"Normal",{"v":115.7,"d":"€115.70"},"SD/SG",{"$f":"IFERROR(VLOOKUP(F6909,Discounts!A:C,3,0),0)","v":0},{"v":115.7,"d":"€115.70"}]
[72250,40450,1,"Normal",{"v":13.22,"d":"€13.22"},"SD/SG",{"$f":"IFERROR(VLOOKUP(F6917,Discounts!A:C,3,0),0)","v":0},{"v":13.22,"d":"€13.22"}]
[72300,31920,1,"Normal",{"v":115.7,"d":"€115.70"},"SD/SG",{"$f":"IFERROR(VLOOKUP(F6930,Discounts!A:C,3,0),0)","v":0},{"v":115.7,"d":"€115.70"}]
[72330,31920,1,"Normal",{"v":115.7,"d":"€115.70"},"SD/SG",{"$f":"IFERROR(VLOOKUP(F6939,Discounts!A:C,3,0),0)","v":0},{"v":115.7,"d":"€115.70"}]
[72370,35900,1,"Normal",{"v":890.91,"d":"€890.91"},"E013",{"$f":"IFERROR(VLOOKUP(F6952,Discounts!A:C,3,0),0)","v":0},{"v":890.91,"d":"€890.91"}]
[72420,48600,1,"Normal",{"v":19.83,"d":"€19.83"},"SD/SG",{"$f":"IFERROR(VLOOKUP(F6971,Discounts!A:C,3,0),0)","v":0},{"v":19.83,"d":"€19.83"}]
[72450,48600,1,"Normal",{"v":19.83,"d":"€19.83"},"SD/SG",{"$f":"IFERROR(VLOOKUP(F6983,Discounts!A:C,3,0),0)","v":0},{"v":19.83,"d":"€19.83"}]
[72490,36020,1,"Normal",{"v":1154.55,"d":"€1,154.55"},"E013",{"$f":"IFERROR(VLOOKUP(F6996,Discounts!A:C,3,0),0)","v":0},{"v":1154.55,"d":"€1,154.55"}]
[72520,36060,1,"Normal",{"v":809.09,"d":"€809.09"},"E013",{"$f":"IFERROR(VLOOKUP(F7005,Discounts!A:C,3,0),0)","v":0},{"v":809.09,"d":"€809.09"}]
[72550,36090,1,"Normal",{"v":895.87,"d":"€895.87"},"E013",{"$f":"IFERROR(VLOOKUP(F7014,Discounts!A:C,3,0),0)","v":0},{"v":895.87,"d":"€895.87"}]
[72600,40450,5,"Normal",{"v":66.1,"d":"€66.10"},"SD/SG",{"$f":"IFERROR(VLOOKUP(F7033,Discounts!A:C,3,0),0)","v":0},{"v":66.1,"d":"€66.10"}]
[72610,40450,2,"Normal",{"v":26.44,"d":"€26.44"},"SD/SG",{"$f":"IFERROR(VLOOKUP(F7037,Discounts!A:C,3,0),0)","v":0},{"v":26.44,"d":"€26.44"}]
[72640,42300,1,"Normal",{"v":134.71,"d":"€134.71"},"SD/SG",{"$f":"IFERROR(VLOOKUP(F7050,Discounts!A:C,3,0),0)","v":0},{"v":134.71,"d":"€134.71"}]
[72670,31920,1,"Normal",{"v":115.7,"d":"€115.70"},"SD/SG",{"$f":"IFERROR(VLOOKUP(F7059,Discounts!A:C,3,0),0)","v":0},{"v":115.7,"d":"€115.70"}]
[72720,36290,1,"Normal",{"v":978.51,"d":"€978.51"},"E013",{"$f":"IFERROR(VLOOKUP(F7080,Discounts!A:C,3,0),0)","v":0},{"v":978.51,"d":"€978.51"}]
[72770,36340,1,"Normal",{"v":1043.8,"d":"€1,043.80"},"E013",{"$f":"IFERROR(VLOOKUP(F7095,Discounts!A:C,3,0),0)","v":0},{"v":1043.8,"d":"€1,043.80"}]
[72800,31920,1,"Normal",{"v":115.7,"d":"€115.70"},"SD/SG",{"$f":"IFERROR(VLOOKUP(F7103,Discounts!A:C,3,0),0)","v":0},{"v":115.7,"d":"€115.70"}]
[72830,36550,1,"Normal",{"v":723.97,"d":"€723.97"},"E016",{"$f":"IFERROR(VLOOKUP(F7116,Discounts!A:C,3,0),0)","v":0},{"v":723.97,"d":"€723.97"}]
[72850,40450,1,"Normal",{"v":13.22,"d":"€13.22"},"SD/SG",{"$f":"IFERROR(VLOOKUP(F7125,Discounts!A:C,3,0),0)","v":0},{"v":13.22,"d":"€13.22"}]
[72880,36600,1,"Normal",{"v":1025.62,"d":"€1,025.62"},"E013",{"$f":"IFERROR(VLOOKUP(F7134,Discounts!A:C,3,0),0)","v":0},{"v":1025.62,"d":"€1,025.62"}]
[72920,31920,1,"Normal",{"v":115.7,"d":"€115.70"},"SD/SG",{"$f":"IFERROR(VLOOKUP(F7147,Discounts!A:C,3,0),0)","v":0},{"v":115.7,"d":"€115.70"}]
[72960,31920,1,"Normal",{"v":115.7,"d":"€115.70"},"SD/SG",{"$f":"IFERROR(VLOOKUP(F7163,Discounts!A:C,3,0),0)","v":0},{"v":115.7,"d":"€115.70"}]
[73000,36720,1,"Normal",{"v":446.28,"d":"€446.28"},"E011",{"$f":"IFERROR(VLOOKUP(F7178,Discounts!A:C,3,0),0)","v":0},{"v":446.28,"d":"€446.28"}]
[73040,31920,1,"Normal",{"v":115.7,"d":"€115.70"},"SD/SG",{"$f":"IFERROR(VLOOKUP(F7191,Discounts!A:C,3,0),0)","v":0},{"v":115.7,"d":"€115.70"}]
[73060,40450,3,"Normal",{"v":39.66,"d":"€39.66"},"SD/SG",{"$f":"IFERROR(VLOOKUP(F7200,Discounts!A:C,3,0),0)","v":0},{"v":39.66,"d":"€39.66"}]
[73100,36820,1,"Normal",{"v":552.89,"d":"€552.89"},"E011",{"$f":"IFERROR(VLOOKUP(F7213,Discounts!A:C,3,0),0)","v":0},{"v":552.89,"d":"€552.89"}]
[73130,40450,1,"Normal",{"v":13.22,"d":"€13.22"},"SD/SG",{"$f":"IFERROR(VLOOKUP(F7225,Discounts!A:C,3,0),0)","v":0},{"v":13.22,"d":"€13.22"}]
[73150,40450,1,"Normal",{"v":13.22,"d":"€13.22"},"SD/SG",{"$f":"IFERROR(VLOOKUP(F7232,Discounts!A:C,3,0),0)","v":0},{"v":13.22,"d":"€13.22"}]
[73190,36910,1,"Normal",{"v":707.44,"d":"€707.44"},"E013",{"$f":"IFERROR(VLOOKUP(F7245,Discounts!A:C,3,0),0)","v":0},{"v":707.44,"d":"€707.44"}]
[73220,31920,1,"Normal",{"v":115.7,"d":"€115.70"},"SD/SG",{"$f":"IFERROR(VLOOKUP(F7254,Discounts!A:C,3,0),0)","v":0},{"v":115.7,"d":"€115.70"}]
[73250,40450,4,"Normal",{"v":52.88,"d":"€52.88"},"SD/SG",{"$f":"IFERROR(VLOOKUP(F7267,Discounts!A:C,3,0),0)","v":0},{"v":52.88,"d":"€52.88"}]
[73310,37030,1,"Combination",{"v":387.61,"d":"€387.61"},"E016",{"$f":"IFERROR(VLOOKUP(F7287,Discounts!A:C,3,0),0)","v":0},{"v":387.61,"d":"€387.61"}]
[73340,31920,1,"Normal",{"v":115.7,"d":"€115.70"},"SD/SG",{"$f":"IFERROR(VLOOKUP(F7298,Discounts!A:C,3,0),0)","v":0},{"$f":"IF(D7298=\"Normal\",E7298*(1-G7298),SUMIF(A:A,B7298,H:H)*C7298)","v":{"v":115.7,"d":"€115.70"}}]
[73370,40450,1,"Normal",{"v":13.22,"d":"€13.22"},"SD/SG",{"$f":"IFERROR(VLOOKUP(F7311,Discounts!A:C,3,0),0)","v":0},{"v":13.22,"d":"€13.22"}]
[73400,37120,1,"Normal",{"v":523.97,"d":"€523.97"},"E011",{"$f":"IFERROR(VLOOKUP(F7320,Discounts!A:C,3,0),0)","v":0},{"v":523.97,"d":"€523.97"}]
[73420,40530,1,"Normal",{"v":88.43,"d":"€88.43"},"SD/SG",{"$f":"IFERROR(VLOOKUP(F7329,Discounts!A:C,3,0),0)","v":0},{"v":88.43,"d":"€88.43"}]
[73460,40450,3,"Normal",{"v":39.66,"d":"€39.66"},"SD/SG",{"$f":"IFERROR(VLOOKUP(F7342,Discounts!A:C,3,0),0)","v":0},{"v":39.66,"d":"€39.66"}]
[73500,37220,1,"Normal",{"v":627.27,"d":"€627.27"},"E011",{"$f":"IFERROR(VLOOKUP(F7355,Discounts!A:C,3,0),0)","v":0},{"v":627.27,"d":"€627.27"}]
[73530,31920,1,"Normal",{"v":115.7,"d":"€115.70"},"SD/SG",{"$f":"IFERROR(VLOOKUP(F7365,Discounts!A:C,3,0),0)","v":0},{"v":115.7,"d":"€115.70"}]
[73590,31920,1,"Normal",{"v":115.7,"d":"€115.70"},"SD/SG",{"$f":"IFERROR(VLOOKUP(F7386,Discounts!A:C,3,0),0)","v":0},{"v":115.7,"d":"€115.70"}]
[73610,40450,3,"Normal",{"v":39.66,"d":"€39.66"},"SD/SG",{"$f":"IFERROR(VLOOKUP(F7395,Discounts!A:C,3,0),0)","v":0},{"v":39.66,"d":"€39.66"}]
[73650,37370,1,"Normal",{"v":927.27,"d":"€927.27"},"E013",{"$f":"IFERROR(VLOOKUP(F7408,Discounts!A:C,3,0),0)","v":0},{"v":927.27,"d":"€927.27"}]
[73680,31920,1,"Normal",{"v":115.7,"d":"€115.70"},"SD/SG",{"$f":"IFERROR(VLOOKUP(F7417,Discounts!A:C,3,0),0)","v":0},{"v":115.7,"d":"€115.70"}]
[73700,40530,1,"Normal",{"v":88.43,"d":"€88.43"},"SD/SG",{"$f":"IFERROR(VLOOKUP(F7427,Discounts!A:C,3,0),0)","v":0},{"v":88.43,"d":"€88.43"}]
[73740,40450,2,"Normal",{"v":26.44,"d":"€26.44"},"SD/SG",{"$f":"IFERROR(VLOOKUP(F7440,Discounts!A:C,3,0),0)","v":0},{"v":26.44,"d":"€26.44"}]
[73770,31920,1,"Normal",{"v":115.7,"d":"€115.70"},"SD/SG",{"$f":"IFERROR(VLOOKUP(F7449,Discounts!A:C,3,0),0)","v":0},{"v":115.7,"d":"€115.70"}]
[73800,40520,1,"Normal",{"v":64.46,"d":"€64.46"},"SD/SG",{"$f":"IFERROR(VLOOKUP(F7462,Discounts!A:C,3,0),0)","v":0},{"v":64.46,"d":"€64.46"}]
[73850,31920,1,"Normal",{"v":115.7,"d":"€115.70"},"SD/SG",{"$f":"IFERROR(VLOOKUP(F7479,Discounts!A:C,3,0),0)","v":0},{"v":115.7,"d":"€115.70"}]
[73880,40450,1,"Normal",{"v":13.22,"d":"€13.22"},"SD/SG",{"$f":"IFERROR(VLOOKUP(F7493,Discounts!A:C,3,0),0)","v":0},{"v":13.22,"d":"€13.22"}]
[73920,37640,1,"Normal",{"v":648.76,"d":"€648.76"},"E012",{"$f":"IFERROR(VLOOKUP(F7506,Discounts!A:C,3,0),0)","v":0},{"v":648.76,"d":"€648.76"}]
[73950,37670,1,"Normal",{"v":797.52,"d":"€797.52"},"E012",{"$f":"IFERROR(VLOOKUP(F7515,Discounts!A:C,3,0),0)","v":0},{"v":797.52,"d":"€797.52"}]
[73990,37710,1,"Normal",{"v":552.89,"d":"€552.89"},"E015",{"$f":"IFERROR(VLOOKUP(F7528,Discounts!A:C,3,0),0)","v":0},{"v":552.89,"d":"€552.89"}]
[74010,40450,3,"Normal",{"v":39.66,"d":"€39.66"},"SD/SG",{"$f":"IFERROR(VLOOKUP(F7537,Discounts!A:C,3,0),0)","v":0},{"v":39.66,"d":"€39.66"}]
[74040,31920,1,"Normal",{"v":115.7,"d":"€115.70"},"SD/SG",{"$f":"IFERROR(VLOOKUP(F7547,Discounts!A:C,3,0),0)","v":0},{"v":115.7,"d":"€115.70"}]
[74070,37790,1,"Normal",{"v":742.15,"d":"€742.15"},"E015",{"$f":"IFERROR(VLOOKUP(F7560,Discounts!A:C,3,0),0)","v":0},{"v":742.15,"d":"€742.15"}]
[74140,31920,1,"Normal",{"v":115.7,"d":"€115.70"},"SD/SG",{"$f":"IFERROR(VLOOKUP(F7581,Discounts!A:C,3,0),0)","v":0},{"v":115.7,"d":"€115.70"}]
[74170,31920,1,"Normal",{"v":115.7,"d":"€115.70"},"SD/SG",{"$f":"IFERROR(VLOOKUP(F7590,Discounts!A:C,3,0),0)","v":0},{"v":115.7,"d":"€115.70"}]
[74200,40530,1,"Normal",{"v":88.43,"d":"€88.43"},"SD/SG",{"$f":"IFERROR(VLOOKUP(F7603,Discounts!A:C,3,0),0)","v":0},{"v":88.43,"d":"€88.43"}]
[74220,40450,3,"Normal",{"v":39.66,"d":"€39.66"},"SD/SG",{"$f":"IFERROR(VLOOKUP(F7609,Discounts!A:C,3,0),0)","v":0},{"v":39.66,"d":"€39.66"}]
[74270,37990,1,"Normal",{"v":819.83,"d":"€819.83"},"E012",{"$f":"IFERROR(VLOOKUP(F7626,Discounts!A:C,3,0),0)","v":0},{"v":819.83,"d":"€819.83"}]
[74300,31920,1,"Normal",{"v":115.7,"d":"€115.70"},"SD/SG",{"$f":"IFERROR(VLOOKUP(F7635,Discounts!A:C,3,0),0)","v":0},{"v":115.7,"d":"€115.70"}]
[74320,40450,3,"Normal",{"v":39.66,"d":"€39.66"},"SD/SG",{"$f":"IFERROR(VLOOKUP(F7644,Discounts!A:C,3,0),0)","v":0},{"v":39.66,"d":"€39.66"}]
[74360,38080,1,"Normal",{"v":604.13,"d":"€604.13"},"E015",{"$f":"IFERROR(VLOOKUP(F7657,Discounts!A:C,3,0),0)","v":0},{"v":604.13,"d":"€604.13"}]
[74400,38120,1,"Normal",{"v":420.66,"d":"€420.66"},"E011",{"$f":"IFERROR(VLOOKUP(F7671,Discounts!A:C,3,0),0)","v":0},{"v":420.66,"d":"€420.66"}]
[74440,40450,1,"Normal",{"v":13.22,"d":"€13.22"},"SD/SG",{"$f":"IFERROR(VLOOKUP(F7688,Discounts!A:C,3,0),0)","v":0},{"v":13.22,"d":"€13.22"}]
[74470,40520,1,"Normal",{"v":64.46,"d":"€64.46"},"SD/SG",{"$f":"IFERROR(VLOOKUP(F7701,Discounts!A:C,3,0),0)","v":0},{"v":64.46,"d":"€64.46"}]
[74500,31920,1,"Normal",{"v":115.7,"d":"€115.70"},"SD/SG",{"$f":"IFERROR(VLOOKUP(F7710,Discounts!A:C,3,0),0)","v":0},{"v":115.7,"d":"€115.70"}]
[74540,38260,1,"Normal",{"v":780.17,"d":"€780.17"},"E013",{"$f":"IFERROR(VLOOKUP(F7723,Discounts!A:C,3,0),0)","v":0},{"v":780.17,"d":"€780.17"}]
[74570,40450,1,"Normal",{"v":13.22,"d":"€13.22"},"SD/SG",{"$f":"IFERROR(VLOOKUP(F7733,Discounts!A:C,3,0),0)","v":0},{"v":13.22,"d":"€13.22"}]
[74600,31920,1,"Normal",{"v":115.7,"d":"€115.70"},"SD/SG",{"$f":"IFERROR(VLOOKUP(F7742,Discounts!A:C,3,0),0)","v":0},{"v":115.7,"d":"€115.70"}]
[74630,38350,1,"Normal",{"v":780.17,"d":"€780.17"},"E016",{"$f":"IFERROR(VLOOKUP(F7755,Discounts!A:C,3,0),0)","v":0},{"v":780.17,"d":"€780.17"}]
[74680,40450,2,"Normal",{"v":26.44,"d":"€26.44"},"SD/SG",{"$f":"IFERROR(VLOOKUP(F7776,Discounts!A:C,3,0),0)","v":0},{"v":26.44,"d":"€26.44"}]
[74730,31920,1,"Normal",{"v":115.7,"d":"€115.70"},"SD/SG",{"$f":"IFERROR(VLOOKUP(F7789,Discounts!A:C,3,0),0)","v":0},{"v":115.7,"d":"€115.70"}]
[74760,31920,1,"Normal",{"v":115.7,"d":"€115.70"},"SD/SG",{"$f":"IFERROR(VLOOKUP(F7798,Discounts!A:C,3,0),0)","v":0},{"v":115.7,"d":"€115.70"}]
[74800,40530,1,"Normal",{"v":88.43,"d":"€88.43"},"SD/SG",{"$f":"IFERROR(VLOOKUP(F7814,Discounts!A:C,3,0),0)","v":0},{"v":88.43,"d":"€88.43"}]
[74820,42290,1,"Normal",{"v":111.57,"d":"€111.57"},"SD/SG",{"$f":"IFERROR(VLOOKUP(F7821,Discounts!A:C,3,0),0)","v":0},{"v":111.57,"d":"€111.57"}]
[74850,38570,1,"Normal",{"v":837.19,"d":"€837.19"},"E013",{"$f":"IFERROR(VLOOKUP(F7830,Discounts!A:C,3,0),0)","v":0},{"v":837.19,"d":"€837.19"}]
[74880,31920,1,"Normal",{"v":115.7,"d":"€115.70"},"SD/SG",{"$f":"IFERROR(VLOOKUP(F7839,Discounts!A:C,3,0),0)","v":0},{"v":115.7,"d":"€115.70"}]
[74910,40450,2,"Normal",{"v":26.44,"d":"€26.44"},"SD/SG",{"$f":"IFERROR(VLOOKUP(F7852,Discounts!A:C,3,0),0)","v":0},{"v":26.44,"d":"€26.44"}]
[74940,42290,1,"Normal",{"v":111.57,"d":"€111.57"},"SD/SG",{"$f":"IFERROR(VLOOKUP(F7863,Discounts!A:C,3,0),0)","v":0},{"v":111.57,"d":"€111.57"}]
[75010,40450,1,"Normal",{"v":13.22,"d":"€13.22"},"SD/SG",{"$f":"IFERROR(VLOOKUP(F7887,Discounts!A:C,3,0),0)","v":0},{"v":13.22,"d":"€13.22"}]
[75030,40520,1,"Normal",{"v":64.46,"d":"€64.46"},"SD/SG",{"$f":"IFERROR(VLOOKUP(F7896,Discounts!A:C,3,0),0)","v":0},{"v":64.46,"d":"€64.46"}]
[75060,31920,1,"Normal",{"v":115.7,"d":"€115.70"},"SD/SG",{"$f":"IFERROR(VLOOKUP(F7905,Discounts!A:C,3,0),0)","v":0},{"v":115.7,"d":"€115.70"}]
[75090,38810,1,"Normal",{"v":1084.3,"d":"€1,084.30"},"E013",{"$f":"IFERROR(VLOOKUP(F7918,Discounts!A:C,3,0),0)","v":0},{"v":1084.3,"d":"€1,084.30"}]
[75110,31920,1,"Normal",{"v":115.7,"d":"€115.70"},"SD/SG",{"$f":"IFERROR(VLOOKUP(F7925,Discounts!A:C,3,0),0)","v":0},{"v":115.7,"d":"€115.70"}]
[75150,31920,1,"Normal",{"v":115.7,"d":"€115.70"},"SD/SG",{"$f":"IFERROR(VLOOKUP(F7941,Discounts!A:C,3,0),0)","v":0},{"v":115.7,"d":"€115.70"}]
[75170,38890,1,"Normal",{"v":977.69,"d":"€977.69"},"E013",{"$f":"IFERROR(VLOOKUP(F7950,Discounts!A:C,3,0),0)","v":0},{"v":977.69,"d":"€977.69"}]
[75220,40450,2,"Normal",{"v":26.44,"d":"€26.44"},"SD/SG",{"$f":"IFERROR(VLOOKUP(F7971,Discounts!A:C,3,0),0)","v":0},{"v":26.44,"d":"€26.44"}]
[75250,42290,1,"Normal",{"v":111.57,"d":"€111.57"},"SD/SG",{"$f":"IFERROR(VLOOKUP(F7984,Discounts!A:C,3,0),0)","v":0},{"v":111.57,"d":"€111.57"}]
[75280,31920,1,"Normal",{"v":115.7,"d":"€115.70"},"SD/SG",{"$f":"IFERROR(VLOOKUP(F7993,Discounts!A:C,3,0),0)","v":0},{"v":115.7,"d":"€115.70"}]
[75310,39040,1,"Normal",{"v":956.2,"d":"€956.20"},"E013",{"$f":"IFERROR(VLOOKUP(F8006,Discounts!A:C,3,0),0)","v":0},{"v":956.2,"d":"€956.20"}]
[75330,40520,1,"Normal",{"v":64.46,"d":"€64.46"},"SD/SG",{"$f":"IFERROR(VLOOKUP(F8016,Discounts!A:C,3,0),0)","v":0},{"v":64.46,"d":"€64.46"}]
[75360,31920,1,"Normal",{"v":115.7,"d":"€115.70"},"SD/SG",{"$f":"IFERROR(VLOOKUP(F8025,Discounts!A:C,3,0),0)","v":0},{"v":115.7,"d":"€115.70"}]
[75390,39120,1,"Normal",{"v":848.76,"d":"€848.76"},"E013",{"$f":"IFERROR(VLOOKUP(F8038,Discounts!A:C,3,0),0)","v":0},{"v":848.76,"d":"€848.76"}]
[75410,40450,1,"Normal",{"v":13.22,"d":"€13.22"},"SD/SG",{"$f":"IFERROR(VLOOKUP(F8047,Discounts!A:C,3,0),0)","v":0},{"v":13.22,"d":"€13.22"}]
[75460,40520,1,"Normal",{"v":64.46,"d":"€64.46"},"SD/SG",{"$f":"IFERROR(VLOOKUP(F8068,Discounts!A:C,3,0),0)","v":0},{"v":64.46,"d":"€64.46"}]
[75500,39230,1,"Normal",{"v":1295.04,"d":"€1,295.04"},"E013",{"$f":"IFERROR(VLOOKUP(F8082,Discounts!A:C,3,0),0)","v":0},{"v":1295.04,"d":"€1,295.04"}]
[75520,40450,1,"Normal",{"v":13.22,"d":"€13.22"},"SD/SG",{"$f":"IFERROR(VLOOKUP(F8091,Discounts!A:C,3,0),0)","v":0},{"v":13.22,"d":"€13.22"}]
[75540,40520,1,"Normal",{"v":64.46,"d":"€64.46"},"SD/SG",{"$f":"IFERROR(VLOOKUP(F8100,Discounts!A:C,3,0),0)","v":0},{"v":64.46,"d":"€64.46"}]
[75580,31920,1,"Normal",{"v":115.7,"d":"€115.70"},"SD/SG",{"$f":"IFERROR(VLOOKUP(F8113,Discounts!A:C,3,0),0)","v":0},{"v":115.7,"d":"€115.70"}]
[75620,39360,1,"Normal",{"v":1360.33,"d":"€1,360.33"},"E013",{"$f":"IFERROR(VLOOKUP(F8130,Discounts!A:C,3,0),0)","v":0},{"$f":"IF(D8130=\"Normal\",E8130*(1-G8130),SUMIF(A:A,B8130,H:H)*C8130)","v":{"v":1360.33,"d":"€1,360.33"}}]
[75630,42290,1,"Normal",{"v":111.57,"d":"€111.57"},"SD/SG",{"$f":"IFERROR(VLOOKUP(F8136,Discounts!A:C,3,0),0)","v":0},{"v":111.57,"d":"€111.57"}]
[75660,31920,1,"Normal",{"v":115.7,"d":"€115.70"},"SD/SG",{"$f":"IFERROR(VLOOKUP(F8145,Discounts!A:C,3,0),0)","v":0},{"v":115.7,"d":"€115.70"}]
[75710,39450,1,"Normal",{"v":1117.36,"d":"€1,117.36"},"E013",{"$f":"IFERROR(VLOOKUP(F8166,Discounts!A:C,3,0),0)","v":0},{"v":1117.36,"d":"€1,117.36"}]
[75740,41600,1,"Normal",{"v":87.6,"d":"€87.60"},"LUXE",{"$f":"IFERROR(VLOOKUP(F8179,Discounts!A:C,3,0),0)","v":0},{"v":87.6,"d":"€87.60"}]
[75770,41720,1,"Combination",{"v":1925.62,"d":"€1,925.62"},"",{"$f":"IFERROR(VLOOKUP(F8192,Discounts!A:C,3,0),0)","v":0},{"v":1925.62,"d":"€1,925.62"}]
[75800,31640,1,"Normal",{"v":134.71,"d":"€134.71"},"LUXE",{"$f":"IFERROR(VLOOKUP(F8202,Discounts!A:C,3,0),0)","v":0},{"v":134.71,"d":"€134.71"}]
[75820,41600,1,"Normal",{"v":87.6,"d":"€87.60"},"LUXE",{"$f":"IFERROR(VLOOKUP(F8211,Discounts!A:C,3,0),0)","v":0},{"v":87.6,"d":"€87.60"}]
[75840,44940,5,"Normal",{"v":380.15,"d":"€380.15"},"LUXE",{"$f":"IFERROR(VLOOKUP(F8220,Discounts!A:C,3,0),0)","v":0},{"v":380.15,"d":"€380.15"}]
[75880,31640,1,"Normal",{"v":134.71,"d":"€134.71"},"LUXE",{"$f":"IFERROR(VLOOKUP(F8233,Discounts!A:C,3,0),0)","v":0},{"v":134.71,"d":"€134.71"}]
[75890,44950,1,"Normal",{"v":137.19,"d":"€137.19"},"O115",{"$f":"IFERROR(VLOOKUP(F8242,Discounts!A:C,3,0),0)","v":0},{"v":137.19,"d":"€137.19"}]
[75930,41880,1,"Combination",{"v":1255.37,"d":"€1,255.37"},"",{"$f":"IFERROR(VLOOKUP(F8260,Discounts!A:C,3,0),0)","v":0},{"v":1255.37,"d":"€1,255.37"}]
[75980,41930,1,"Combination",{"v":1387.61,"d":"€1,387.61"},"",{"$f":"IFERROR(VLOOKUP(F8277,Discounts!A:C,3,0),0)","v":0},{"v":1387.61,"d":"€1,387.61"}]
[76010,41960,1,"Combination",{"v":1219.83,"d":"€1,219.83"},"",{"$f":"IFERROR(VLOOKUP(F8286,Discounts!A:C,3,0),0)","v":0},{"v":1219.83,"d":"€1,219.83"}]
[76060,31470,1,"Normal",{"v":133.88,"d":"€133.88"},"LUXE",{"$f":"IFERROR(VLOOKUP(F8299,Discounts!A:C,3,0),0)","v":0},{"v":133.88,"d":"€133.88"}]
[76090,31470,1,"Normal",{"v":133.88,"d":"€133.88"},"LUXE",{"$f":"IFERROR(VLOOKUP(F8308,Discounts!A:C,3,0),0)","v":0},{"v":133.88,"d":"€133.88"}]
[76130,40450,1,"Normal",{"v":13.22,"d":"€13.22"},"SD/SG",{"$f":"IFERROR(VLOOKUP(F8322,Discounts!A:C,3,0),0)","v":0},{"$f":"IF(D8322=\"Normal\",E8322*(1-G8322),SUMIF(A:A,B8322,H:H)*C8322)","v":{"v":13.22,"d":"€13.22"}}]
[76150,40520,1,"Normal",{"v":64.46,"d":"€64.46"},"SD/SG",{"$f":"IFERROR(VLOOKUP(F8331,Discounts!A:C,3,0),0)","v":0},{"v":64.46,"d":"€64.46"}]
[76170,44050,1,"Normal",{"v":634.71,"d":"€634.71"},"E015",{"$f":"IFERROR(VLOOKUP(F8340,Discounts!A:C,3,0),0)","v":0},{"v":634.71,"d":"€634.71"}]
[76210,31920,1,"Normal",{"v":115.7,"d":"€115.70"},"SD/SG",{"$f":"IFERROR(VLOOKUP(F8353,Discounts!A:C,3,0),0)","v":0},{"v":115.7,"d":"€115.70"}]
[76270,31920,1,"Normal",{"v":115.7,"d":"€115.70"},"SD/SG",{"$f":"IFERROR(VLOOKUP(F8374,Discounts!A:C,3,0),0)","v":0},{"v":115.7,"d":"€115.70"}]
[76300,40450,1,"Normal",{"v":13.22,"d":"€13.22"},"SD/SG",{"$f":"IFERROR(VLOOKUP(F8384,Discounts!A:C,3,0),0)","v":0},{"v":13.22,"d":"€13.22"}]
[76340,44220,1,"Normal",{"v":652.89,"d":"€652.89"},"E013",{"$f":"IFERROR(VLOOKUP(F8397,Discounts!A:C,3,0),0)","v":0},{"v":652.89,"d":"€652.89"}]
[76370,31640,1,"Normal",{"v":134.71,"d":"€134.71"},"LUXE",{"$f":"IFERROR(VLOOKUP(F8406,Discounts!A:C,3,0),0)","v":0},{"v":134.71,"d":"€134.71"}]
[76390,41600,1,"Normal",{"v":87.6,"d":"€87.60"},"LUXE",{"$f":"IFERROR(VLOOKUP(F8415,Discounts!A:C,3,0),0)","v":0},{"v":87.6,"d":"€87.60"}]
[76420,41610,1,"Normal",{"v":41.32,"d":"€41.32"},"LUXE",{"$f":"IFERROR(VLOOKUP(F8428,Discounts!A:C,3,0),0)","v":0},{"v":41.32,"d":"€41.32"}]
[76450,41620,1,"Normal",{"v":41.32,"d":"€41.32"},"LUXE",{"$f":"IFERROR(VLOOKUP(F8437,Discounts!A:C,3,0),0)","v":0},{"v":41.32,"d":"€41.32"}]
[76480,31920,1,"Normal",{"v":115.7,"d":"€115.70"},"SD/SG",{"$f":"IFERROR(VLOOKUP(F8448,Discounts!A:C,3,0),0)","v":0},{"v":115.7,"d":"€115.70"}]
[76520,44060,1,"Normal",{"v":461.98,"d":"€461.98"},"E016",{"$f":"IFERROR(VLOOKUP(F8472,Discounts!A:C,3,0),0)","v":0},{"v":461.98,"d":"€461.98"}]
[76540,40520,1,"Normal",{"v":64.46,"d":"€64.46"},"SD/SG",{"$f":"IFERROR(VLOOKUP(F8481,Discounts!A:C,3,0),0)","v":0},{"v":64.46,"d":"€64.46"}]
[76570,33990,1,"Normal",{"v":102.48,"d":"€102.48"},"SD/SG",{"$f":"IFERROR(VLOOKUP(F8494,Discounts!A:C,3,0),0)","v":0},{"v":102.48,"d":"€102.48"}]
[76590,33990,1,"Normal",{"v":102.48,"d":"€102.48"},"SD/SG",{"$f":"IFERROR(VLOOKUP(F8503,Discounts!A:C,3,0),0)","v":0},{"v":102.48,"d":"€102.48"}]
[76620,31920,1,"Normal",{"v":115.7,"d":"€115.70"},"SD/SG",{"$f":"IFERROR(VLOOKUP(F8514,Discounts!A:C,3,0),0)","v":0},{"$f":"IF(D8514=\"Normal\",E8514*(1-G8514),SUMIF(A:A,B8514,H:H)*C8514)","v":{"v":115.7,"d":"€115.70"}}]
[76650,31920,1,"Normal",{"v":115.7,"d":"€115.70"},"SD/SG",{"$f":"IFERROR(VLOOKUP(F8526,Discounts!A:C,3,0),0)","v":0},{"v":115.7,"d":"€115.70"}]
[76670,34000,1,"Normal",{"v":125.62,"d":"€125.62"},"SD/SG",{"$f":"IFERROR(VLOOKUP(F8535,Discounts!A:C,3,0),0)","v":0},{"v":125.62,"d":"€125.62"}]
[76700,42730,1,"Normal",{"v":988.43,"d":"€988.43"},"A050",{"$f":"IFERROR(VLOOKUP(F8548,Discounts!A:C,3,0),0)","v":0},{"v":988.43,"d":"€988.43"}]
[76780,42750,1,"Normal",{"v":966.94,"d":"€966.94"},"A050",{"$f":"IFERROR(VLOOKUP(F8569,Discounts!A:C,3,0),0)","v":0},{"v":966.94,"d":"€966.94"}]
[76810,41630,1,"Normal",{"v":114.88,"d":"€114.88"},"LUXE",{"$f":"IFERROR(VLOOKUP(F8576,Discounts!A:C,3,0),0)","v":0},{"v":114.88,"d":"€114.88"}]
[76880,41630,1,"Normal",{"v":114.88,"d":"€114.88"},"LUXE",{"$f":"IFERROR(VLOOKUP(F8592,Discounts!A:C,3,0),0)","v":0},{"v":114.88,"d":"€114.88"}]
[76920,41630,1,"Normal",{"v":114.88,"d":"€114.88"},"LUXE",{"$f":"IFERROR(VLOOKUP(F8601,Discounts!A:C,3,0),0)","v":0},{"v":114.88,"d":"€114.88"}]
[76970,44740,1,"Combination",{"v":1326.44,"d":"€1,326.44"},"A010",{"$f":"IFERROR(VLOOKUP(F8614,Discounts!A:C,3,0),0)","v":0},{"v":1326.44,"d":"€1,326.44"}]
[77010,44750,1,"Combination",{"v":1437.19,"d":"€1,437.19"},"A010",{"$f":"IFERROR(VLOOKUP(F8623,Discounts!A:C,3,0),0)","v":0},{"v":1437.19,"d":"€1,437.19"}]
[77080,44570,1,"Normal",{"v":1157.85,"d":"€1,157.85"},"A010",{"$f":"IFERROR(VLOOKUP(F8638,Discounts!A:C,3,0),0)","v":0},{"v":1157.85,"d":"€1,157.85"}]
[77120,41630,1,"Normal",{"v":114.88,"d":"€114.88"},"LUXE",{"$f":"IFERROR(VLOOKUP(F8646,Discounts!A:C,3,0),0)","v":0},{"v":114.88,"d":"€114.88"}]
[77210,41640,1,"Normal",{"v":114.88,"d":"€114.88"},"LUXE",{"$f":"IFERROR(VLOOKUP(F8667,Discounts!A:C,3,0),0)","v":0},{"v":114.88,"d":"€114.88"}]
[77250,41640,1,"Normal",{"v":114.88,"d":"€114.88"},"LUXE",{"$f":"IFERROR(VLOOKUP(F8676,Discounts!A:C,3,0),0)","v":0},{"v":114.88,"d":"€114.88"}]
[77300,42880,1,"Normal",{"v":1252.89,"d":"€1,252.89"},"A050",{"$f":"IFERROR(VLOOKUP(F8689,Discounts!A:C,3,0),0)","v":0},{"v":1252.89,"d":"€1,252.89"}]
[77340,42890,1,"Normal",{"v":1324.79,"d":"€1,324.79"},"A050",{"$f":"IFERROR(VLOOKUP(F8698,Discounts!A:C,3,0),0)","v":0},{"v":1324.79,"d":"€1,324.79"}]
[77420,41640,1,"Normal",{"v":114.88,"d":"€114.88"},"LUXE",{"$f":"IFERROR(VLOOKUP(F8715,Discounts!A:C,3,0),0)","v":0},{"v":114.88,"d":"€114.88"}]
[77450,41640,1,"Normal",{"v":114.88,"d":"€114.88"},"LUXE",{"$f":"IFERROR(VLOOKUP(F8721,Discounts!A:C,3,0),0)","v":0},{"v":114.88,"d":"€114.88"}]
[77490,41640,1,"Normal",{"v":114.88,"d":"€114.88"},"LUXE",{"$f":"IFERROR(VLOOKUP(F8730,Discounts!A:C,3,0),0)","v":0},{"v":114.88,"d":"€114.88"}]
[77520,45510,1,"Normal",{"v":296.69,"d":"€296.69"},"LUXE",{"$f":"IFERROR(VLOOKUP(F8743,Discounts!A:C,3,0),0)","v":0},{"v":296.69,"d":"€296.69"}]
[77560,44950,1,"Normal",{"v":137.19,"d":"€137.19"},"O115",{"$f":"IFERROR(VLOOKUP(F8764,Discounts!A:C,3,0),0)","v":0},{"v":137.19,"d":"€137.19"}]
[77570,41600,1,"Normal",{"v":87.6,"d":"€87.60"},"LUXE",{"$f":"IFERROR(VLOOKUP(F8768,Discounts!A:C,3,0),0)","v":0},{"v":87.6,"d":"€87.60"}]
[77600,44360,1,"Normal",{"v":95.04,"d":"€95.04"},"SD/SG",{"$f":"IFERROR(VLOOKUP(F8787,Discounts!A:C,3,0),0)","v":0},{"v":95.04,"d":"€95.04"}]
[77620,40520,1,"Normal",{"v":64.46,"d":"€64.46"},"SD/SG",{"$f":"IFERROR(VLOOKUP(F8796,Discounts!A:C,3,0),0)","v":0},{"v":64.46,"d":"€64.46"}]
[77650,31920,1,"Normal",{"v":115.7,"d":"€115.70"},"SD/SG",{"$f":"IFERROR(VLOOKUP(F8809,Discounts!A:C,3,0),0)","v":0},{"v":115.7,"d":"€115.70"}]
[77670,15560,1,"Normal",{"v":492.56,"d":"€492.56"},"E013",{"$f":"IFERROR(VLOOKUP(F8818,Discounts!A:C,3,0),0)","v":0},{"v":492.56,"d":"€492.56"}]
[77700,30980,1,"Normal",{"v":261.16,"d":"€261.16"},"SD/SG",{"$f":"IFERROR(VLOOKUP(F8830,Discounts!A:C,3,0),0)","v":0},{"v":261.16,"d":"€261.16"}]
[77720,44920,2,"Normal",{"v":400,"d":"€400.00"},"SD/SG",{"$f":"IFERROR(VLOOKUP(F8841,Discounts!A:C,3,0),0)","v":0},{"v":400,"d":"€400.00"}]
[77760,40150,1,"Normal",{"v":48.76,"d":"€48.76"},"LUXE",{"$f":"IFERROR(VLOOKUP(F8862,Discounts!A:C,3,0),0)","v":0},{"v":48.76,"d":"€48.76"}]
[77760,40160,1,"Normal",{"v":16.53,"d":"€16.53"},"LUXE",{"$f":"IFERROR(VLOOKUP(F8863,Discounts!A:C,3,0),0)","v":0},{"v":16.53,"d":"€16.53"}]
[77780,49240,1,"Normal",{"v":152.89,"d":"€152.89"},"O505",{"$f":"IFERROR(VLOOKUP(F8884,Discounts!A:C,3,0),0)","v":0},{"v":152.89,"d":"€152.89"}]
[77790,41300,1,"Normal",{"v":32.23,"d":"€32.23"},"LUXE",{"$f":"IFERROR(VLOOKUP(F8893,Discounts!A:C,3,0),0)","v":0},{"v":32.23,"d":"€32.23"}]
[77860,32040,2,"Normal",{"v":195.04,"d":"€195.04"},"SD/SG",{"$f":"IFERROR(VLOOKUP(F8907,Discounts!A:C,3,0),0)","v":0},{"v":195.04,"d":"€195.04"}]
[77930,45570,1,"Normal",{"v":69.42,"d":"€69.42"},"O115",{"$f":"IFERROR(VLOOKUP(F8916,Discounts!A:C,3,0),0)","v":0},{"v":69.42,"d":"€69.42"}]
[77970,40290,1,"Normal",{"v":22.31,"d":"€22.31"},"LUXE",{"$f":"IFERROR(VLOOKUP(F8925,Discounts!A:C,3,0),0)","v":0},{"v":22.31,"d":"€22.31"}]
[78030,44930,1,"Normal",{"v":400,"d":"€400.00"},"SD/SG",{"$f":"IFERROR(VLOOKUP(F8938,Discounts!A:C,3,0),0)","v":0},{"v":400,"d":"€400.00"}]
[78100,40160,1,"Normal",{"v":16.53,"d":"€16.53"},"LUXE",{"$f":"IFERROR(VLOOKUP(F8959,Discounts!A:C,3,0),0)","v":0},{"v":16.53,"d":"€16.53"}]
[78110,54160,1,"Normal",{"v":1351.24,"d":"€1,351.24"},"A010",{"$f":"IFERROR(VLOOKUP(F8969,Discounts!A:C,3,0),0)","v":0},{"v":1351.24,"d":"€1,351.24"}]
[78180,54260,1,"Normal",{"v":73.55,"d":"€73.55"},"R100",{"$f":"IFERROR(VLOOKUP(F8982,Discounts!A:C,3,0),0)","v":0},{"v":73.55,"d":"€73.55"}]
[78200,54380,1,"Normal",{"v":803.31,"d":"€803.31"},"E015",{"$f":"IFERROR(VLOOKUP(F8991,Discounts!A:C,3,0),0)","v":0},{"v":803.31,"d":"€803.31"}]
[78240,31920,1,"Normal",{"v":115.7,"d":"€115.70"},"SD/SG",{"$f":"IFERROR(VLOOKUP(F9004,Discounts!A:C,3,0),0)","v":0},{"v":115.7,"d":"€115.70"}]
[78260,40450,1,"Normal",{"v":13.22,"d":"€13.22"},"SD/SG",{"$f":"IFERROR(VLOOKUP(F9013,Discounts!A:C,3,0),0)","v":0},{"v":13.22,"d":"€13.22"}]
[78320,31920,1,"Normal",{"v":115.7,"d":"€115.70"},"SD/SG",{"$f":"IFERROR(VLOOKUP(F9031,Discounts!A:C,3,0),0)","v":0},{"v":115.7,"d":"€115.70"}]
[78330,54550,1,"Normal",{"v":998.35,"d":"€998.35"},"E013",{"$f":"IFERROR(VLOOKUP(F9036,Discounts!A:C,3,0),0)","v":0},{"v":998.35,"d":"€998.35"}]
[78390,54920,1,"Normal",{"v":639.67,"d":"€639.67"},"E016",{"$f":"IFERROR(VLOOKUP(F9057,Discounts!A:C,3,0),0)","v":0},{"v":639.67,"d":"€639.67"}]
[78400,31920,1,"Normal",{"v":115.7,"d":"€115.70"},"SD/SG",{"$f":"IFERROR(VLOOKUP(F9058,Discounts!A:C,3,0),0)","v":0},{"v":115.7,"d":"€115.70"}]
[78450,40450,1,"Normal",{"v":13.22,"d":"€13.22"},"SD/SG",{"$f":"IFERROR(VLOOKUP(F9079,Discounts!A:C,3,0),0)","v":0},{"v":13.22,"d":"€13.22"}]
[78470,40520,1,"Normal",{"v":64.46,"d":"€64.46"},"SD/SG",{"$f":"IFERROR(VLOOKUP(F9088,Discounts!A:C,3,0),0)","v":0},{"v":64.46,"d":"€64.46"}]
[78510,31470,1,"Normal",{"v":133.88,"d":"€133.88"},"LUXE",{"$f":"IFERROR(VLOOKUP(F9099,Discounts!A:C,3,0),0)","v":0},{"v":133.88,"d":"€133.88"}]
[78540,31920,1,"Normal",{"v":115.7,"d":"€115.70"},"SD/SG",{"$f":"IFERROR(VLOOKUP(F9111,Discounts!A:C,3,0),0)","v":0},{"v":115.7,"d":"€115.70"}]
[78570,55260,1,"Normal",{"v":612.4,"d":"€612.40"},"E012",{"$f":"IFERROR(VLOOKUP(F9124,Discounts!A:C,3,0),0)","v":0},{"v":612.4,"d":"€612.40"}]
[78720,24450,2,"Normal",{"v":1016.52,"d":"€1,016.52"},"P106",{"$f":"IFERROR(VLOOKUP(F9133,Discounts!A:C,3,0),0)","v":0},{"v":1016.52,"d":"€1,016.52"}]
[88770,18870,2,"Normal",{"v":948.76,"d":"€948.76"},"D010",{"$f":"IFERROR(VLOOKUP(F9154,Discounts!A:C,3,0),0)","v":0},{"$f":"IF(D9154=\"Normal\",E9154*(1-G9154),SUMIF(A:A,B9154,H:H)*C9154)","v":{"v":948.76,"d":"€948.76"}}]
[88850,32060,2,"Normal",{"v":231.4,"d":"€231.40"},"SD/SG",{"$f":"IFERROR(VLOOKUP(F9161,Discounts!A:C,3,0),0)","v":0},{"v":231.4,"d":"€231.40"}]
[89040,53530,2,"Combination",{"v":469.44,"d":"€469.44"},"SD/SG",{"$f":"IFERROR(VLOOKUP(F9177,Discounts!A:C,3,0),0)","v":0},{"v":469.44000000000005,"d":"€469.44"}]
[98850,44920,2,"Normal",{"v":400,"d":"€400.00"},"SD/SG",{"$f":"IFERROR(VLOOKUP(F9186,Discounts!A:C,3,0),0)","v":0},{"v":400,"d":"€400.00"}]
[100440,31470,2,"Normal",{"v":267.76,"d":"€267.76"},"LUXE",{"$f":"IFERROR(VLOOKUP(F9199,Discounts!A:C,3,0),0)","v":0},{"v":267.76,"d":"€267.76"}]
[100460,31470,2,"Normal",{"v":267.76,"d":"€267.76"},"LUXE",{"$f":"IFERROR(VLOOKUP(F9208,Discounts!A:C,3,0),0)","v":0},{"v":267.76,"d":"€267.76"}]
[100510,1240,2,"Normal",{"v":5196.7,"d":"€5,196.70"},"A010",{"$f":"IFERROR(VLOOKUP(F9223,Discounts!A:C,3,0),0)","v":0},{"v":5196.7,"d":"€5,196.70"}]
[100530,30150,2,"Normal",{"v":4981.82,"d":"€4,981.82"},"A010",{"$f":"IFERROR(VLOOKUP(F9231,Discounts!A:C,3,0),0)","v":0},{"v":4981.82,"d":"€4,981.82"}]
[100590,29720,2,"Normal",{"v":175.2,"d":"€175.20"},"LUXE",{"$f":"IFERROR(VLOOKUP(F9252,Discounts!A:C,3,0),0)","v":0},{"v":175.2,"d":"€175.20"}]
[100590,31470,2,"Normal",{"v":267.76,"d":"€267.76"},"LUXE",{"$f":"IFERROR(VLOOKUP(F9253,Discounts!A:C,3,0),0)","v":0},{"v":267.76,"d":"€267.76"}]
[100660,30310,2,"Normal",{"v":4033.06,"d":"€4,033.06"},"A010",{"$f":"IFERROR(VLOOKUP(F9274,Discounts!A:C,3,0),0)","v":0},{"v":4033.06,"d":"€4,033.06"}]
[100690,1400,2,"Normal",{"v":4229.76,"d":"€4,229.76"},"A010",{"$f":"IFERROR(VLOOKUP(F9285,Discounts!A:C,3,0),0)","v":0},{"v":4229.76,"d":"€4,229.76"}]
[100730,1480,2,"Normal",{"v":4866.12,"d":"€4,866.12"},"A010",{"$f":"IFERROR(VLOOKUP(F9297,Discounts!A:C,3,0),0)","v":0},{"v":4866.12,"d":"€4,866.12"}]
[100750,45730,2,"Normal",{"v":82.64,"d":"€82.64"},"LUXE",{"$f":"IFERROR(VLOOKUP(F9306,Discounts!A:C,3,0),0)","v":0},{"v":82.64,"d":"€82.64"}]
[100790,29710,2,"Normal",{"v":82.64,"d":"€82.64"},"LUXE",{"$f":"IFERROR(VLOOKUP(F9319,Discounts!A:C,3,0),0)","v":0},{"v":82.64,"d":"€82.64"}]
[100820,29710,2,"Normal",{"v":82.64,"d":"€82.64"},"LUXE",{"$f":"IFERROR(VLOOKUP(F9328,Discounts!A:C,3,0),0)","v":0},{"v":82.64,"d":"€82.64"}]
[100890,29710,2,"Normal",{"v":82.64,"d":"€82.64"},"LUXE",{"$f":"IFERROR(VLOOKUP(F9349,Discounts!A:C,3,0),0)","v":0},{"v":82.64,"d":"€82.64"}]
[100900,31470,2,"Normal",{"v":267.76,"d":"€267.76"},"LUXE",{"$f":"IFERROR(VLOOKUP(F9353,Discounts!A:C,3,0),0)","v":0},{"v":267.76,"d":"€267.76"}]
[100950,29710,2,"Normal",{"v":82.64,"d":"€82.64"},"LUXE",{"$f":"IFERROR(VLOOKUP(F9372,Discounts!A:C,3,0),0)","v":0},{"v":82.64,"d":"€82.64"}]
[100990,31640,2,"Normal",{"v":269.42,"d":"€269.42"},"LUXE",{"$f":"IFERROR(VLOOKUP(F9385,Discounts!A:C,3,0),0)","v":0},{"v":269.42,"d":"€269.42"}]
[101020,30460,2,"Normal",{"v":2573.56,"d":"€2,573.56"},"P106",{"$f":"IFERROR(VLOOKUP(F9394,Discounts!A:C,3,0),0)","v":0},{"v":2573.56,"d":"€2,573.56"}]
[101050,29710,2,"Normal",{"v":82.64,"d":"€82.64"},"LUXE",{"$f":"IFERROR(VLOOKUP(F9403,Discounts!A:C,3,0),0)","v":0},{"v":82.64,"d":"€82.64"}]
[101090,30440,2,"Normal",{"v":5761.98,"d":"€5,761.98"},"A010",{"$f":"IFERROR(VLOOKUP(F9415,Discounts!A:C,3,0),0)","v":0},{"v":5761.98,"d":"€5,761.98"}]
[101120,31470,2,"Normal",{"v":267.76,"d":"€267.76"},"LUXE",{"$f":"IFERROR(VLOOKUP(F9426,Discounts!A:C,3,0),0)","v":0},{"v":267.76,"d":"€267.76"}]
[101190,31470,2,"Normal",{"v":267.76,"d":"€267.76"},"LUXE",{"$f":"IFERROR(VLOOKUP(F9447,Discounts!A:C,3,0),0)","v":0},{"v":267.76,"d":"€267.76"}]
[101200,2340,2,"Normal",{"v":2244.62,"d":"€2,244.62"},"A010",{"$f":"IFERROR(VLOOKUP(F9448,Discounts!A:C,3,0),0)","v":0},{"v":2244.62,"d":"€2,244.62"}]
[101270,2460,2,"Normal",{"v":4583.48,"d":"€4,583.48"},"A010",{"$f":"IFERROR(VLOOKUP(F9469,Discounts!A:C,3,0),0)","v":0},{"v":4583.48,"d":"€4,583.48"}]
[101290,31470,2,"Normal",{"v":267.76,"d":"€267.76"},"LUXE",{"$f":"IFERROR(VLOOKUP(F9477,Discounts!A:C,3,0),0)","v":0},{"v":267.76,"d":"€267.76"}]
[101340,31470,2,"Normal",{"v":267.76,"d":"€267.76"},"LUXE",{"$f":"IFERROR(VLOOKUP(F9492,Discounts!A:C,3,0),0)","v":0},{"v":267.76,"d":"€267.76"}]
[101370,31470,2,"Normal",{"v":267.76,"d":"€267.76"},"LUXE",{"$f":"IFERROR(VLOOKUP(F9501,Discounts!A:C,3,0),0)","v":0},{"v":267.76,"d":"€267.76"}]
[101420,3280,2,"Normal",{"v":3242.98,"d":"€3,242.98"},"A010",{"$f":"IFERROR(VLOOKUP(F9514,Discounts!A:C,3,0),0)","v":0},{"v":3242.98,"d":"€3,242.98"}]
[101440,31470,2,"Normal",{"v":267.76,"d":"€267.76"},"LUXE",{"$f":"IFERROR(VLOOKUP(F9523,Discounts!A:C,3,0),0)","v":0},{"v":267.76,"d":"€267.76"}]
[101480,31470,2,"Normal",{"v":267.76,"d":"€267.76"},"LUXE",{"$f":"IFERROR(VLOOKUP(F9536,Discounts!A:C,3,0),0)","v":0},{"v":267.76,"d":"€267.76"}]
[101510,3460,2,"Normal",{"v":4672.72,"d":"€4,672.72"},"A010",{"$f":"IFERROR(VLOOKUP(F9545,Discounts!A:C,3,0),0)","v":0},{"v":4672.72,"d":"€4,672.72"}]
[101560,31470,2,"Normal",{"v":267.76,"d":"€267.76"},"LUXE",{"$f":"IFERROR(VLOOKUP(F9567,Discounts!A:C,3,0),0)","v":0},{"v":267.76,"d":"€267.76"}]
[101590,45730,2,"Normal",{"v":82.64,"d":"€82.64"},"LUXE",{"$f":"IFERROR(VLOOKUP(F9580,Discounts!A:C,3,0),0)","v":0},{"v":82.64,"d":"€82.64"}]
[101620,2820,2,"Normal",{"v":3175.2,"d":"€3,175.20"},"A010",{"$f":"IFERROR(VLOOKUP(F9589,Discounts!A:C,3,0),0)","v":0},{"v":3175.2,"d":"€3,175.20"}]
[101640,29710,2,"Normal",{"v":82.64,"d":"€82.64"},"LUXE",{"$f":"IFERROR(VLOOKUP(F9598,Discounts!A:C,3,0),0)","v":0},{"v":82.64,"d":"€82.64"}]
[101660,31470,2,"Normal",{"v":267.76,"d":"€267.76"},"LUXE",{"$f":"IFERROR(VLOOKUP(F9607,Discounts!A:C,3,0),0)","v":0},{"v":267.76,"d":"€267.76"}]
[101700,2980,2,"Normal",{"v":2876.04,"d":"€2,876.04"},"A010",{"$f":"IFERROR(VLOOKUP(F9621,Discounts!A:C,3,0),0)","v":0},{"v":2876.04,"d":"€2,876.04"}]
[101730,29710,2,"Normal",{"v":82.64,"d":"€82.64"},"LUXE",{"$f":"IFERROR(VLOOKUP(F9634,Discounts!A:C,3,0),0)","v":0},{"v":82.64,"d":"€82.64"}]
[101750,31470,2,"Normal",{"v":267.76,"d":"€267.76"},"LUXE",{"$f":"IFERROR(VLOOKUP(F9643,Discounts!A:C,3,0),0)","v":0},{"v":267.76,"d":"€267.76"}]
[101810,3580,2,"Normal",{"v":3123.96,"d":"€3,123.96"},"A010",{"$f":"IFERROR(VLOOKUP(F9664,Discounts!A:C,3,0),0)","v":0},{"v":3123.96,"d":"€3,123.96"}]
[101820,29710,2,"Normal",{"v":82.64,"d":"€82.64"},"LUXE",{"$f":"IFERROR(VLOOKUP(F9669,Discounts!A:C,3,0),0)","v":0},{"v":82.64,"d":"€82.64"}]
[101860,45730,2,"Normal",{"v":82.64,"d":"€82.64"},"LUXE",{"$f":"IFERROR(VLOOKUP(F9687,Discounts!A:C,3,0),0)","v":0},{"v":82.64,"d":"€82.64"}]
[101900,3760,2,"Normal",{"v":3752.06,"d":"€3,752.06"},"A010",{"$f":"IFERROR(VLOOKUP(F9700,Discounts!A:C,3,0),0)","v":0},{"v":3752.06,"d":"€3,752.06"}]
[101920,29710,2,"Normal",{"v":82.64,"d":"€82.64"},"LUXE",{"$f":"IFERROR(VLOOKUP(F9709,Discounts!A:C,3,0),0)","v":0},{"v":82.64,"d":"€82.64"}]
[101940,31470,2,"Normal",{"v":267.76,"d":"€267.76"},"LUXE",{"$f":"IFERROR(VLOOKUP(F9718,Discounts!A:C,3,0),0)","v":0},{"v":267.76,"d":"€267.76"}]
[101970,45730,2,"Normal",{"v":82.64,"d":"€82.64"},"LUXE",{"$f":"IFERROR(VLOOKUP(F9731,Discounts!A:C,3,0),0)","v":0},{"v":82.64,"d":"€82.64"}]
[102000,29710,2,"Normal",{"v":82.64,"d":"€82.64"},"LUXE",{"$f":"IFERROR(VLOOKUP(F9741,Discounts!A:C,3,0),0)","v":0},{"v":82.64,"d":"€82.64"}]
[102050,45730,2,"Normal",{"v":82.64,"d":"€82.64"},"LUXE",{"$f":"IFERROR(VLOOKUP(F9762,Discounts!A:C,3,0),0)","v":0},{"v":82.64,"d":"€82.64"}]
[102090,4120,2,"Normal",{"v":3295.86,"d":"€3,295.86"},"A010",{"$f":"IFERROR(VLOOKUP(F9775,Discounts!A:C,3,0),0)","v":0},{"v":3295.86,"d":"€3,295.86"}]
[102110,29710,2,"Normal",{"v":82.64,"d":"€82.64"},"LUXE",{"$f":"IFERROR(VLOOKUP(F9784,Discounts!A:C,3,0),0)","v":0},{"v":82.64,"d":"€82.64"}]
[102140,31470,2,"Normal",{"v":267.76,"d":"€267.76"},"LUXE",{"$f":"IFERROR(VLOOKUP(F9797,Discounts!A:C,3,0),0)","v":0},{"v":267.76,"d":"€267.76"}]
[102180,29710,2,"Normal",{"v":82.64,"d":"€82.64"},"LUXE",{"$f":"IFERROR(VLOOKUP(F9812,Discounts!A:C,3,0),0)","v":0},{"v":82.64,"d":"€82.64"}]
[102190,29710,2,"Normal",{"v":82.64,"d":"€82.64"},"LUXE",{"$f":"IFERROR(VLOOKUP(F9816,Discounts!A:C,3,0),0)","v":0},{"v":82.64,"d":"€82.64"}]
[102220,31470,2,"Normal",{"v":267.76,"d":"€267.76"},"LUXE",{"$f":"IFERROR(VLOOKUP(F9829,Discounts!A:C,3,0),0)","v":0},{"v":267.76,"d":"€267.76"}]
[102250,4400,2,"Normal",{"v":2803.3,"d":"€2,803.30"},"A010",{"$f":"IFERROR(VLOOKUP(F9838,Discounts!A:C,3,0),0)","v":0},{"v":2803.3,"d":"€2,803.30"}]
[102300,31470,2,"Normal",{"v":267.76,"d":"€267.76"},"LUXE",{"$f":"IFERROR(VLOOKUP(F9859,Discounts!A:C,3,0),0)","v":0},{"v":267.76,"d":"€267.76"}]
[102350,29710,2,"Normal",{"v":82.64,"d":"€82.64"},"LUXE",{"$f":"IFERROR(VLOOKUP(F9874,Discounts!A:C,3,0),0)","v":0},{"v":82.64,"d":"€82.64"}]
[102380,960,2,"Normal",{"v":6966.94,"d":"€6,966.94"},"A010",{"$f":"IFERROR(VLOOKUP(F9882,Discounts!A:C,3,0),0)","v":0},{"v":6966.94,"d":"€6,966.94"}]
[102420,1040,2,"Normal",{"v":4312.4,"d":"€4,312.40"},"A010",{"$f":"IFERROR(VLOOKUP(F9895,Discounts!A:C,3,0),0)","v":0},{"v":4312.4,"d":"€4,312.40"}]
[102450,1100,2,"Normal",{"v":4527.28,"d":"€4,527.28"},"A010",{"$f":"IFERROR(VLOOKUP(F9904,Discounts!A:C,3,0),0)","v":0},{"v":4527.28,"d":"€4,527.28"}]
[102490,31470,2,"Normal",{"v":267.76,"d":"€267.76"},"LUXE",{"$f":"IFERROR(VLOOKUP(F9913,Discounts!A:C,3,0),0)","v":0},{"v":267.76,"d":"€267.76"}]
[102540,360,2,"Normal",{"v":3125.62,"d":"€3,125.62"},"A015",{"$f":"IFERROR(VLOOKUP(F9923,Discounts!A:C,3,0),0)","v":0},{"v":3125.62,"d":"€3,125.62"}]
[102570,29780,2,"Normal",{"v":1755.38,"d":"€1,755.38"},"LUXE",{"$f":"IFERROR(VLOOKUP(F9936,Discounts!A:C,3,0),0)","v":0},{"v":1755.38,"d":"€1,755.38"}]
[102600,118290,2,"Normal",{"v":4844.62,"d":"€4,844.62"},"A015",{"$f":"IFERROR(VLOOKUP(F9949,Discounts!A:C,3,0),0)","v":0},{"v":4844.62,"d":"€4,844.62"}]
[102680,29740,2,"Normal",{"v":1755.38,"d":"€1,755.38"},"LUXE",{"$f":"IFERROR(VLOOKUP(F9970,Discounts!A:C,3,0),0)","v":0},{"v":1755.38,"d":"€1,755.38"}]
[102700,31640,2,"Normal",{"v":269.42,"d":"€269.42"},"LUXE",{"$f":"IFERROR(VLOOKUP(F9979,Discounts!A:C,3,0),0)","v":0},{"v":269.42,"d":"€269.42"}]
[102730,41530,2,"Normal",{"v":2285.96,"d":"€2,285.96"},"A050",{"$f":"IFERROR(VLOOKUP(F9992,Discounts!A:C,3,0),0)","v":0},{"v":2285.96,"d":"€2,285.96"}]
[102770,31470,2,"Normal",{"v":267.76,"d":"€267.76"},"LUXE",{"$f":"IFERROR(VLOOKUP(F10004,Discounts!A:C,3,0),0)","v":0},{"v":267.76,"d":"€267.76"}]
[102790,41630,2,"Normal",{"v":229.76,"d":"€229.76"},"LUXE",{"$f":"IFERROR(VLOOKUP(F10011,Discounts!A:C,3,0),0)","v":0},{"v":229.76,"d":"€229.76"}]
[102830,31470,2,"Normal",{"v":267.76,"d":"€267.76"},"LUXE",{"$f":"IFERROR(VLOOKUP(F10024,Discounts!A:C,3,0),0)","v":0},{"v":267.76,"d":"€267.76"}]
[102860,31470,2,"Normal",{"v":267.76,"d":"€267.76"},"LUXE",{"$f":"IFERROR(VLOOKUP(F10033,Discounts!A:C,3,0),0)","v":0},{"v":267.76,"d":"€267.76"}]
[102900,41640,2,"Normal",{"v":229.76,"d":"€229.76"},"LUXE",{"$f":"IFERROR(VLOOKUP(F10046,Discounts!A:C,3,0),0)","v":0},{"v":229.76,"d":"€229.76"}]
[102970,29590,2,"Normal",{"v":4049.58,"d":"€4,049.58"},"A010",{"$f":"IFERROR(VLOOKUP(F10066,Discounts!A:C,3,0),0)","v":0},{"v":4049.58,"d":"€4,049.58"}]
[102990,54200,2,"Normal",{"v":3188.42,"d":"€3,188.42"},"A015",{"$f":"IFERROR(VLOOKUP(F10077,Discounts!A:C,3,0),0)","v":0},{"v":3188.42,"d":"€3,188.42"}]
[103030,31470,2,"Normal",{"v":267.76,"d":"€267.76"},"LUXE",{"$f":"IFERROR(VLOOKUP(F10090,Discounts!A:C,3,0),0)","v":0},{"v":267.76,"d":"€267.76"}]
[103120,34000,1,"Normal",{"v":125.62,"d":"€125.62"},"SD/SG",{"$f":"IFERROR(VLOOKUP(F10099,Discounts!A:C,3,0),0)","v":0},{"v":125.62,"d":"€125.62"}]
[103140,114580,1,"Normal",{"v":350.41,"d":"€350.41"},"E016",{"$f":"IFERROR(VLOOKUP(F10112,Discounts!A:C,3,0),0)","v":0},{"v":350.41,"d":"€350.41"}]
[103180,31920,1,"Normal",{"v":115.7,"d":"€115.70"},"SD/SG",{"$f":"IFERROR(VLOOKUP(F10128,Discounts!A:C,3,0),0)","v":0},{"v":115.7,"d":"€115.70"}]
[103180,40520,1,"Normal",{"v":64.46,"d":"€64.46"},"SD/SG",{"$f":"IFERROR(VLOOKUP(F10131,Discounts!A:C,3,0),0)","v":0},{"v":64.46,"d":"€64.46"}]
[103210,43950,2,"Normal",{"v":935.54,"d":"€935.54"},"E055",{"$f":"IFERROR(VLOOKUP(F10144,Discounts!A:C,3,0),0)","v":0},{"v":935.54,"d":"€935.54"}]
[103280,40450,2,"Normal",{"v":26.44,"d":"€26.44"},"SD/SG",{"$f":"IFERROR(VLOOKUP(F10165,Discounts!A:C,3,0),0)","v":0},{"v":26.44,"d":"€26.44"}]
[103300,33990,2,"Normal",{"v":204.96,"d":"€204.96"},"SD/SG",{"$f":"IFERROR(VLOOKUP(F10174,Discounts!A:C,3,0),0)","v":0},{"v":204.96,"d":"€204.96"}]
[103370,40450,2,"Normal",{"v":26.44,"d":"€26.44"},"SD/SG",{"$f":"IFERROR(VLOOKUP(F10190,Discounts!A:C,3,0),0)","v":0},{"v":26.44,"d":"€26.44"}]
[103380,114580,2,"Normal",{"v":700.82,"d":"€700.82"},"E016",{"$f":"IFERROR(VLOOKUP(F10197,Discounts!A:C,3,0),0)","v":0},{"v":700.82,"d":"€700.82"}]
[103410,40450,2,"Normal",{"v":26.44,"d":"€26.44"},"SD/SG",{"$f":"IFERROR(VLOOKUP(F10210,Discounts!A:C,3,0),0)","v":0},{"v":26.44,"d":"€26.44"}]
[103430,33990,2,"Normal",{"v":204.96,"d":"€204.96"},"SD/SG",{"$f":"IFERROR(VLOOKUP(F10219,Discounts!A:C,3,0),0)","v":0},{"v":204.96,"d":"€204.96"}]
[103450,31920,1,"Normal",{"v":115.7,"d":"€115.70"},"SD/SG",{"$f":"IFERROR(VLOOKUP(F10228,Discounts!A:C,3,0),0)","v":0},{"v":115.7,"d":"€115.70"}]
[103500,21240,2,"Normal",{"v":1138.84,"d":"€1,138.84"},"C010",{"$f":"IFERROR(VLOOKUP(F10241,Discounts!A:C,3,0),0)","v":0},{"v":1138.84,"d":"€1,138.84"}]
[103580,137810,2,"Normal",{"v":231.4,"d":"€231.40"},"LUXE",{"$f":"IFERROR(VLOOKUP(F10258,Discounts!A:C,3,0),0)","v":0},{"v":231.4,"d":"€231.40"}]
[106370,103630,1,"Normal",{"v":451.24,"d":"€451.24"},"B055",{"$f":"IFERROR(VLOOKUP(F10272,Discounts!A:C,3,0),0)","v":0},{"v":451.24,"d":"€451.24"}]
[106430,106730,1,"Normal",{"v":12.4,"d":"€12.40"},"LUXE",{"$f":"IFERROR(VLOOKUP(F10285,Discounts!A:C,3,0),0)","v":0},{"v":12.4,"d":"€12.40"}]
[106480,103740,1,"Normal",{"v":423.6,"d":"€423.60"},"B055",{"$f":"IFERROR(VLOOKUP(F10294,Discounts!A:C,3,0),0)","v":0},{"v":423.6,"d":"€423.60"}]
[106540,106730,1,"Normal",{"v":12.4,"d":"€12.40"},"LUXE",{"$f":"IFERROR(VLOOKUP(F10307,Discounts!A:C,3,0),0)","v":0},{"v":12.4,"d":"€12.40"}]
[106650,132820,0.25,"Normal",{"v":74.2675,"d":"€74.27"},"P109",{"$f":"IFERROR(VLOOKUP(F10320,Discounts!A:C,3,0),0)","v":0},{"v":74.2675,"d":"€74.27"}]
[107390,106730,1,"Normal",{"v":12.4,"d":"€12.40"},"LUXE",{"$f":"IFERROR(VLOOKUP(F10326,Discounts!A:C,3,0),0)","v":0},{"v":12.4,"d":"€12.40"}]
[107460,103880,1,"Normal",{"v":602.84,"d":"€602.84"},"B015",{"$f":"IFERROR(VLOOKUP(F10339,Discounts!A:C,3,0),0)","v":0},{"v":602.84,"d":"€602.84"}]
[107560,106730,1,"Normal",{"v":12.4,"d":"€12.40"},"LUXE",{"$f":"IFERROR(VLOOKUP(F10360,Discounts!A:C,3,0),0)","v":0},{"v":12.4,"d":"€12.40"}]
[107630,104050,1,"Normal",{"v":446.23,"d":"€446.23"},"B015",{"$f":"IFERROR(VLOOKUP(F10373,Discounts!A:C,3,0),0)","v":0},{"v":446.23,"d":"€446.23"}]
[107670,106730,1,"Normal",{"v":12.4,"d":"€12.40"},"LUXE",{"$f":"IFERROR(VLOOKUP(F10382,Discounts!A:C,3,0),0)","v":0},{"v":12.4,"d":"€12.40"}]
[107720,106730,1,"Normal",{"v":12.4,"d":"€12.40"},"LUXE",{"$f":"IFERROR(VLOOKUP(F10392,Discounts!A:C,3,0),0)","v":0},{"v":12.4,"d":"€12.40"}]
[107790,104210,1,"Normal",{"v":403.32,"d":"€403.32"},"B015",{"$f":"IFERROR(VLOOKUP(F10405,Discounts!A:C,3,0),0)","v":0},{"v":403.32,"d":"€403.32"}]
[107830,106730,1,"Normal",{"v":12.4,"d":"€12.40"},"LUXE",{"$f":"IFERROR(VLOOKUP(F10414,Discounts!A:C,3,0),0)","v":0},{"v":12.4,"d":"€12.40"}]
[107880,106730,1,"Normal",{"v":12.4,"d":"€12.40"},"LUXE",{"$f":"IFERROR(VLOOKUP(F10423,Discounts!A:C,3,0),0)","v":0},{"v":12.4,"d":"€12.40"}]
[107940,106940,1,"Normal",{"v":547.71,"d":"€547.71"},"B015",{"$f":"IFERROR(VLOOKUP(F10436,Discounts!A:C,3,0),0)","v":0},{"v":547.71,"d":"€547.71"}]
[108010,107010,1,"Normal",{"v":607.23,"d":"€607.23"},"B015",{"$f":"IFERROR(VLOOKUP(F10450,Discounts!A:C,3,0),0)","v":0},{"v":607.23,"d":"€607.23"}]
[109410,109400,1,"Normal",{"v":408.26,"d":"€408.26"},"B055",{"$f":"IFERROR(VLOOKUP(F10471,Discounts!A:C,3,0),0)","v":0},{"v":408.26,"d":"€408.26"}]
[109510,106730,1,"Normal",{"v":12.4,"d":"€12.40"},"LUXE",{"$f":"IFERROR(VLOOKUP(F10480,Discounts!A:C,3,0),0)","v":0},{"v":12.4,"d":"€12.40"}]
[109590,109580,1,"Normal",{"v":508.53,"d":"€508.53"},"B015",{"$f":"IFERROR(VLOOKUP(F10489,Discounts!A:C,3,0),0)","v":0},{"v":508.53,"d":"€508.53"}]
[109760,106730,1,"Normal",{"v":12.4,"d":"€12.40"},"LUXE",{"$f":"IFERROR(VLOOKUP(F10502,Discounts!A:C,3,0),0)","v":0},{"v":12.4,"d":"€12.40"}]
[110860,104630,1,"Normal",{"v":184.43,"d":"€184.43"},"P109",{"$f":"IFERROR(VLOOKUP(F10512,Discounts!A:C,3,0),0)","v":0},{"v":184.43,"d":"€184.43"}]
[110900,105690,1,"Normal",{"v":62.39,"d":"€62.39"},"LUXE",{"$f":"IFERROR(VLOOKUP(F10521,Discounts!A:C,3,0),0)","v":0},{"v":62.39,"d":"€62.39"}]
[110970,104640,1,"Normal",{"v":297.07,"d":"€297.07"},"P109",{"$f":"IFERROR(VLOOKUP(F10534,Discounts!A:C,3,0),0)","v":0},{"v":297.07,"d":"€297.07"}]
[111070,105680,1,"Normal",{"v":56.8,"d":"€56.80"},"LUXE",{"$f":"IFERROR(VLOOKUP(F10555,Discounts!A:C,3,0),0)","v":0},{"v":56.8,"d":"€56.80"}]
[111140,105220,1,"Normal",{"v":198.05,"d":"€198.05"},"P109",{"$f":"IFERROR(VLOOKUP(F10568,Discounts!A:C,3,0),0)","v":0},{"v":198.05,"d":"€198.05"}]
[111170,105290,1,"Normal",{"v":184.43,"d":"€184.43"},"P109",{"$f":"IFERROR(VLOOKUP(F10574,Discounts!A:C,3,0),0)","v":0},{"v":184.43,"d":"€184.43"}]
[111230,105690,1,"Normal",{"v":62.39,"d":"€62.39"},"LUXE",{"$f":"IFERROR(VLOOKUP(F10587,Discounts!A:C,3,0),0)","v":0},{"v":62.39,"d":"€62.39"}]
[111300,104620,1,"Normal",{"v":376.72,"d":"€376.72"},"P109",{"$f":"IFERROR(VLOOKUP(F10600,Discounts!A:C,3,0),0)","v":0},{"v":376.72,"d":"€376.72"}]
[111340,161880,0.2,"Normal",{"v":75.344,"d":"€75.34"},"P109",{"$f":"IFERROR(VLOOKUP(F10609,Discounts!A:C,3,0),0)","v":0},{"v":75.344,"d":"€75.34"}]
[111410,104650,1,"Normal",{"v":184.43,"d":"€184.43"},"P109",{"$f":"IFERROR(VLOOKUP(F10622,Discounts!A:C,3,0),0)","v":0},{"v":184.43,"d":"€184.43"}]
[111480,104670,1,"Normal",{"v":92.22,"d":"€92.22"},"P109",{"$f":"IFERROR(VLOOKUP(F10636,Discounts!A:C,3,0),0)","v":0},{"v":92.22,"d":"€92.22"}]
[111550,104620,1,"Normal",{"v":376.72,"d":"€376.72"},"P109",{"$f":"IFERROR(VLOOKUP(F10653,Discounts!A:C,3,0),0)","v":0},{"v":376.72,"d":"€376.72"}]
[111590,106630,1,"Normal",{"v":297.07,"d":"€297.07"},"P109",{"$f":"IFERROR(VLOOKUP(F10666,Discounts!A:C,3,0),0)","v":0},{"v":297.07,"d":"€297.07"}]
[111620,105700,1,"Normal",{"v":67.98,"d":"€67.98"},"LUXE",{"$f":"IFERROR(VLOOKUP(F10675,Discounts!A:C,3,0),0)","v":0},{"v":67.98,"d":"€67.98"}]
[111650,107400,1,"Combination",{"v":448.29,"d":"€448.29"},"B015",{"$f":"IFERROR(VLOOKUP(F10684,Discounts!A:C,3,0),0)","v":0},{"v":448.28999999999996,"d":"€448.29"}]
[111700,103910,1,"Normal",{"v":458.01,"d":"€458.01"},"B015",{"$f":"IFERROR(VLOOKUP(F10697,Discounts!A:C,3,0),0)","v":0},{"v":458.01,"d":"€458.01"}]
[111720,104720,1,"Normal",{"v":297.07,"d":"€297.07"},"P109",{"$f":"IFERROR(VLOOKUP(F10704,Discounts!A:C,3,0),0)","v":0},{"v":297.07,"d":"€297.07"}]
[111770,107860,1,"Combination",{"v":514.65,"d":"€514.65"},"B015",{"$f":"IFERROR(VLOOKUP(F10720,Discounts!A:C,3,0),0)","v":0},{"v":514.65,"d":"€514.65"}]
[111800,161900,1,"Normal",{"v":184.43,"d":"€184.43"},"P109",{"$f":"IFERROR(VLOOKUP(F10729,Discounts!A:C,3,0),0)","v":0},{"v":184.43,"d":"€184.43"}]
[111870,107890,1,"Combination",{"v":587.39,"d":"€587.39"},"B015",{"$f":"IFERROR(VLOOKUP(F10750,Discounts!A:C,3,0),0)","v":0},{"v":587.39,"d":"€587.39"}]
[111920,103860,1,"Normal",{"v":525.82,"d":"€525.82"},"B015",{"$f":"IFERROR(VLOOKUP(F10763,Discounts!A:C,3,0),0)","v":0},{"v":525.82,"d":"€525.82"}]
[111930,104650,1,"Normal",{"v":184.43,"d":"€184.43"},"P109",{"$f":"IFERROR(VLOOKUP(F10766,Discounts!A:C,3,0),0)","v":0},{"v":184.43,"d":"€184.43"}]
[111990,107460,1,"Combination",{"v":615.24,"d":"€615.24"},"B015",{"$f":"IFERROR(VLOOKUP(F10786,Discounts!A:C,3,0),0)","v":0},{"v":615.24,"d":"€615.24"}]
[112020,106750,1,"Normal",{"v":148.54,"d":"€148.54"},"P109",{"$f":"IFERROR(VLOOKUP(F10795,Discounts!A:C,3,0),0)","v":0},{"v":148.54,"d":"€148.54"}]
[112050,107470,1,"Combination",{"v":577.28,"d":"€577.28"},"B015",{"$f":"IFERROR(VLOOKUP(F10804,Discounts!A:C,3,0),0)","v":0},{"v":577.28,"d":"€577.28"}]
[112100,103920,1,"Normal",{"v":386.49,"d":"€386.49"},"B015",{"$f":"IFERROR(VLOOKUP(F10817,Discounts!A:C,3,0),0)","v":0},{"v":386.49,"d":"€386.49"}]
[112130,161870,1,"Normal",{"v":297.07,"d":"€297.07"},"P109",{"$f":"IFERROR(VLOOKUP(F10828,Discounts!A:C,3,0),0)","v":0},{"v":297.07,"d":"€297.07"}]
[112200,105720,1,"Normal",{"v":79.16,"d":"€79.16"},"LUXE",{"$f":"IFERROR(VLOOKUP(F10848,Discounts!A:C,3,0),0)","v":0},{"v":79.16,"d":"€79.16"}]
[112240,105710,1,"Normal",{"v":73.57,"d":"€73.57"},"LUXE",{"$f":"IFERROR(VLOOKUP(F10861,Discounts!A:C,3,0),0)","v":0},{"v":73.57,"d":"€73.57"}]
[112270,107530,1,"Combination",{"v":413.17,"d":"€413.17"},"B015",{"$f":"IFERROR(VLOOKUP(F10870,Discounts!A:C,3,0),0)","v":0},{"v":413.16999999999996,"d":"€413.17"}]
[112320,103950,1,"Normal",{"v":400.77,"d":"€400.77"},"B015",{"$f":"IFERROR(VLOOKUP(F10883,Discounts!A:C,3,0),0)","v":0},{"v":400.77,"d":"€400.77"}]
[112350,104860,1,"Normal",{"v":376.72,"d":"€376.72"},"P109",{"$f":"IFERROR(VLOOKUP(F10892,Discounts!A:C,3,0),0)","v":0},{"v":376.72,"d":"€376.72"}]
[112400,107050,1,"Normal",{"v":297.07,"d":"€297.07"},"P109",{"$f":"IFERROR(VLOOKUP(F10909,Discounts!A:C,3,0),0)","v":0},{"v":297.07,"d":"€297.07"}]
[112420,107060,1,"Normal",{"v":297.07,"d":"€297.07"},"P109",{"$f":"IFERROR(VLOOKUP(F10915,Discounts!A:C,3,0),0)","v":0},{"v":297.07,"d":"€297.07"}]
[112450,107930,1,"Combination",{"v":526.38,"d":"€526.38"},"B015",{"$f":"IFERROR(VLOOKUP(F10924,Discounts!A:C,3,0),0)","v":0},{"v":526.38,"d":"€526.38"}]
[112520,107110,1,"Normal",{"v":148.54,"d":"€148.54"},"P109",{"$f":"IFERROR(VLOOKUP(F10945,Discounts!A:C,3,0),0)","v":0},{"v":148.54,"d":"€148.54"}]
[112570,105680,1,"Normal",{"v":56.8,"d":"€56.80"},"LUXE",{"$f":"IFERROR(VLOOKUP(F10958,Discounts!A:C,3,0),0)","v":0},{"v":56.8,"d":"€56.80"}]
[112610,107270,1,"Normal",{"v":297.07,"d":"€297.07"},"P109",{"$f":"IFERROR(VLOOKUP(F10971,Discounts!A:C,3,0),0)","v":0},{"v":297.07,"d":"€297.07"}]
[112640,107290,1,"Normal",{"v":297.07,"d":"€297.07"},"P109",{"$f":"IFERROR(VLOOKUP(F10981,Discounts!A:C,3,0),0)","v":0},{"v":297.07,"d":"€297.07"}]
[112670,107990,1,"Combination",{"v":594.05,"d":"€594.05"},"B015",{"$f":"IFERROR(VLOOKUP(F10990,Discounts!A:C,3,0),0)","v":0},{"v":594.05,"d":"€594.05"}]
[112700,107320,1,"Normal",{"v":297.52,"d":"€297.52"},"P109",{"$f":"IFERROR(VLOOKUP(F10999,Discounts!A:C,3,0),0)","v":0},{"v":297.52,"d":"€297.52"}]
[112750,105690,1,"Normal",{"v":62.39,"d":"€62.39"},"LUXE",{"$f":"IFERROR(VLOOKUP(F11012,Discounts!A:C,3,0),0)","v":0},{"v":62.39,"d":"€62.39"}]
[112770,108030,1,"Combination",{"v":568.02,"d":"€568.02"},"B015",{"$f":"IFERROR(VLOOKUP(F11020,Discounts!A:C,3,0),0)","v":0},{"v":568.02,"d":"€568.02"}]
[112890,103750,1,"Normal",{"v":406.75,"d":"€406.75"},"B055",{"$f":"IFERROR(VLOOKUP(F11035,Discounts!A:C,3,0),0)","v":0},{"v":406.75,"d":"€406.75"}]
[112990,105530,1,"Normal",{"v":405.42,"d":"€405.42"},"P107",{"$f":"IFERROR(VLOOKUP(F11056,Discounts!A:C,3,0),0)","v":0},{"v":405.42,"d":"€405.42"}]
[113040,103770,1,"Normal",{"v":359.44,"d":"€359.44"},"B055",{"$f":"IFERROR(VLOOKUP(F11065,Discounts!A:C,3,0),0)","v":0},{"v":359.44,"d":"€359.44"}]
[113100,110000,1,"Normal",{"v":306.25,"d":"€306.25"},"P107",{"$f":"IFERROR(VLOOKUP(F11078,Discounts!A:C,3,0),0)","v":0},{"v":306.25,"d":"€306.25"}]
[113150,104070,1,"Normal",{"v":430.65,"d":"€430.65"},"B015",{"$f":"IFERROR(VLOOKUP(F11087,Discounts!A:C,3,0),0)","v":0},{"v":430.65,"d":"€430.65"}]
[113270,103730,2,"Normal",{"v":745.88,"d":"€745.88"},"B055",{"$f":"IFERROR(VLOOKUP(F11101,Discounts!A:C,3,0),0)","v":0},{"v":745.88,"d":"€745.88"}]
[113360,103850,2,"Normal",{"v":1145.14,"d":"€1,145.14"},"B015",{"$f":"IFERROR(VLOOKUP(F11110,Discounts!A:C,3,0),0)","v":0},{"v":1145.14,"d":"€1,145.14"}]
[113450,103960,2,"Normal",{"v":902.78,"d":"€902.78"},"B015",{"$f":"IFERROR(VLOOKUP(F11119,Discounts!A:C,3,0),0)","v":0},{"v":902.78,"d":"€902.78"}]
[113580,104140,2,"Normal",{"v":806.64,"d":"€806.64"},"B015",{"$f":"IFERROR(VLOOKUP(F11132,Discounts!A:C,3,0),0)","v":0},{"v":806.64,"d":"€806.64"}]
[113790,106900,2,"Normal",{"v":1069.4,"d":"€1,069.40"},"B015",{"$f":"IFERROR(VLOOKUP(F11153,Discounts!A:C,3,0),0)","v":0},{"v":1069.4,"d":"€1,069.40"}]
[113890,107000,2,"Normal",{"v":1316.6,"d":"€1,316.60"},"B015",{"$f":"IFERROR(VLOOKUP(F11163,Discounts!A:C,3,0),0)","v":0},{"v":1316.6,"d":"€1,316.60"}]
[114020,109560,2,"Normal",{"v":917.36,"d":"€917.36"},"B055",{"$f":"IFERROR(VLOOKUP(F11176,Discounts!A:C,3,0),0)","v":0},{"v":917.36,"d":"€917.36"}]
[114110,103980,2,"Normal",{"v":752.04,"d":"€752.04"},"B015",{"$f":"IFERROR(VLOOKUP(F11185,Discounts!A:C,3,0),0)","v":0},{"v":752.04,"d":"€752.04"}]
[114170,105510,2,"Normal",{"v":810.84,"d":"€810.84"},"P107",{"$f":"IFERROR(VLOOKUP(F11198,Discounts!A:C,3,0),0)","v":0},{"v":810.84,"d":"€810.84"}]
[114220,104110,2,"Normal",{"v":939.38,"d":"€939.38"},"B015",{"$f":"IFERROR(VLOOKUP(F11207,Discounts!A:C,3,0),0)","v":0},{"v":939.38,"d":"€939.38"}]
[114310,103770,2,"Normal",{"v":718.88,"d":"€718.88"},"B055",{"$f":"IFERROR(VLOOKUP(F11225,Discounts!A:C,3,0),0)","v":0},{"v":718.88,"d":"€718.88"}]
[114330,109730,2,"Normal",{"v":1272.72,"d":"€1,272.72"},"P109",{"$f":"IFERROR(VLOOKUP(F11230,Discounts!A:C,3,0),0)","v":0},{"v":1272.72,"d":"€1,272.72"}]
[114470,104840,2,"Normal",{"v":368.86,"d":"€368.86"},"P109",{"$f":"IFERROR(VLOOKUP(F11251,Discounts!A:C,3,0),0)","v":0},{"v":368.86,"d":"€368.86"}]
[115720,48550,1,"Normal",{"v":19.01,"d":"€19.01"},"SD/SG",{"$f":"IFERROR(VLOOKUP(F11260,Discounts!A:C,3,0),0)","v":0},{"v":19.01,"d":"€19.01"}]
[115790,114840,1,"Normal",{"v":407.44,"d":"€407.44"},"E016",{"$f":"IFERROR(VLOOKUP(F11273,Discounts!A:C,3,0),0)","v":0},{"v":407.44,"d":"€407.44"}]
[116410,40450,1,"Normal",{"v":13.22,"d":"€13.22"},"SD/SG",{"$f":"IFERROR(VLOOKUP(F11287,Discounts!A:C,3,0),0)","v":0},{"v":13.22,"d":"€13.22"}]
[116430,34000,1,"Normal",{"v":125.62,"d":"€125.62"},"SD/SG",{"$f":"IFERROR(VLOOKUP(F11296,Discounts!A:C,3,0),0)","v":0},{"v":125.62,"d":"€125.62"}]
[116450,31920,1,"Normal",{"v":115.7,"d":"€115.70"},"SD/SG",{"$f":"IFERROR(VLOOKUP(F11305,Discounts!A:C,3,0),0)","v":0},{"v":115.7,"d":"€115.70"}]
[116460,115310,1,"Normal",{"v":737.19,"d":"€737.19"},"E016",{"$f":"IFERROR(VLOOKUP(F11314,Discounts!A:C,3,0),0)","v":0},{"v":737.19,"d":"€737.19"}]
[116490,115350,1,"Normal",{"v":1148.76,"d":"€1,148.76"},"E013",{"$f":"IFERROR(VLOOKUP(F11327,Discounts!A:C,3,0),0)","v":0},{"v":1148.76,"d":"€1,148.76"}]
[116540,114520,1,"Normal",{"v":361.16,"d":"€361.16"},"E011",{"$f":"IFERROR(VLOOKUP(F11348,Discounts!A:C,3,0),0)","v":0},{"v":361.16,"d":"€361.16"}]
[116560,40520,1,"Normal",{"v":64.46,"d":"€64.46"},"SD/SG",{"$f":"IFERROR(VLOOKUP(F11355,Discounts!A:C,3,0),0)","v":0},{"v":64.46,"d":"€64.46"}]
[116600,40520,1,"Normal",{"v":64.46,"d":"€64.46"},"SD/SG",{"$f":"IFERROR(VLOOKUP(F11371,Discounts!A:C,3,0),0)","v":0},{"v":64.46,"d":"€64.46"}]
[116620,114600,1,"Normal",{"v":393.39,"d":"€393.39"},"E016",{"$f":"IFERROR(VLOOKUP(F11380,Discounts!A:C,3,0),0)","v":0},{"v":393.39,"d":"€393.39"}]
[116660,31920,1,"Normal",{"v":115.7,"d":"€115.70"},"SD/SG",{"$f":"IFERROR(VLOOKUP(F11393,Discounts!A:C,3,0),0)","v":0},{"v":115.7,"d":"€115.70"}]
[116680,114670,1,"Normal",{"v":413.22,"d":"€413.22"},"E013",{"$f":"IFERROR(VLOOKUP(F11402,Discounts!A:C,3,0),0)","v":0},{"v":413.22,"d":"€413.22"}]
[116730,40450,1,"Normal",{"v":13.22,"d":"€13.22"},"SD/SG",{"$f":"IFERROR(VLOOKUP(F11417,Discounts!A:C,3,0),0)","v":0},{"v":13.22,"d":"€13.22"}]
[116750,114740,1,"Normal",{"v":460.33,"d":"€460.33"},"E013",{"$f":"IFERROR(VLOOKUP(F11425,Discounts!A:C,3,0),0)","v":0},{"v":460.33,"d":"€460.33"}]
[116810,31920,1,"Normal",{"v":115.7,"d":"€115.70"},"SD/SG",{"$f":"IFERROR(VLOOKUP(F11446,Discounts!A:C,3,0),0)","v":0},{"v":115.7,"d":"€115.70"}]
[116810,40450,1,"Normal",{"v":13.22,"d":"€13.22"},"SD/SG",{"$f":"IFERROR(VLOOKUP(F11447,Discounts!A:C,3,0),0)","v":0},{"v":13.22,"d":"€13.22"}]
[116860,31920,1,"Normal",{"v":115.7,"d":"€115.70"},"SD/SG",{"$f":"IFERROR(VLOOKUP(F11468,Discounts!A:C,3,0),0)","v":0},{"v":115.7,"d":"€115.70"}]
[116880,114880,1,"Normal",{"v":638.02,"d":"€638.02"},"E016",{"$f":"IFERROR(VLOOKUP(F11479,Discounts!A:C,3,0),0)","v":0},{"v":638.02,"d":"€638.02"}]
[116910,114910,1,"Normal",{"v":519.01,"d":"€519.01"},"E016",{"$f":"IFERROR(VLOOKUP(F11491,Discounts!A:C,3,0),0)","v":0},{"v":519.01,"d":"€519.01"}]
[116940,31920,1,"Normal",{"v":115.7,"d":"€115.70"},"SD/SG",{"$f":"IFERROR(VLOOKUP(F11500,Discounts!A:C,3,0),0)","v":0},{"v":115.7,"d":"€115.70"}]
[116960,40450,1,"Normal",{"v":13.22,"d":"€13.22"},"SD/SG",{"$f":"IFERROR(VLOOKUP(F11509,Discounts!A:C,3,0),0)","v":0},{"v":13.22,"d":"€13.22"}]
[116990,31920,1,"Normal",{"v":115.7,"d":"€115.70"},"SD/SG",{"$f":"IFERROR(VLOOKUP(F11522,Discounts!A:C,3,0),0)","v":0},{"$f":"IF(D11522=\"Normal\",E11522*(1-G11522),SUMIF(A:A,B11522,H:H)*C11522)","v":{"v":115.7,"d":"€115.70"}}]
[117050,115080,1,"Normal",{"v":861.98,"d":"€861.98"},"E013",{"$f":"IFERROR(VLOOKUP(F11543,Discounts!A:C,3,0),0)","v":0},{"v":861.98,"d":"€861.98"}]
[117100,31920,1,"Normal",{"v":115.7,"d":"€115.70"},"SD/SG",{"$f":"IFERROR(VLOOKUP(F11556,Discounts!A:C,3,0),0)","v":0},{"v":115.7,"d":"€115.70"}]
[117120,53460,1,"Normal",{"v":60.33,"d":"€60.33"},"SD/SG",{"$f":"IFERROR(VLOOKUP(F11566,Discounts!A:C,3,0),0)","v":0},{"v":60.33,"d":"€60.33"}]
[117140,115320,1,"Normal",{"v":776.86,"d":"€776.86"},"E016",{"$f":"IFERROR(VLOOKUP(F11575,Discounts!A:C,3,0),0)","v":0},{"v":776.86,"d":"€776.86"}]
[117180,115360,1,"Normal",{"v":1211.57,"d":"€1,211.57"},"E013",{"$f":"IFERROR(VLOOKUP(F11588,Discounts!A:C,3,0),0)","v":0},{"v":1211.57,"d":"€1,211.57"}]
[117210,40450,1,"Normal",{"v":13.22,"d":"€13.22"},"SD/SG",{"$f":"IFERROR(VLOOKUP(F11597,Discounts!A:C,3,0),0)","v":0},{"v":13.22,"d":"€13.22"}]
[117240,115420,1,"Normal",{"v":475.21,"d":"€475.21"},"E013",{"$f":"IFERROR(VLOOKUP(F11609,Discounts!A:C,3,0),0)","v":0},{"v":475.21,"d":"€475.21"}]
[117270,115450,1,"Normal",{"v":456.2,"d":"€456.20"},"E011",{"$f":"IFERROR(VLOOKUP(F11620,Discounts!A:C,3,0),0)","v":0},{"v":456.2,"d":"€456.20"}]
[117330,115510,1,"Normal",{"v":521.49,"d":"€521.49"},"E011",{"$f":"IFERROR(VLOOKUP(F11641,Discounts!A:C,3,0),0)","v":0},{"v":521.49,"d":"€521.49"}]
[117340,31920,1,"Normal",{"v":115.7,"d":"€115.70"},"SD/SG",{"$f":"IFERROR(VLOOKUP(F11642,Discounts!A:C,3,0),0)","v":0},{"v":115.7,"d":"€115.70"}]
[117400,31920,1,"Normal",{"v":115.7,"d":"€115.70"},"SD/SG",{"$f":"IFERROR(VLOOKUP(F11663,Discounts!A:C,3,0),0)","v":0},{"v":115.7,"d":"€115.70"}]
[117420,40450,2,"Normal",{"v":26.44,"d":"€26.44"},"SD/SG",{"$f":"IFERROR(VLOOKUP(F11671,Discounts!A:C,3,0),0)","v":0},{"v":26.44,"d":"€26.44"}]
[117460,115640,1,"Normal",{"v":728.93,"d":"€728.93"},"E013",{"$f":"IFERROR(VLOOKUP(F11686,Discounts!A:C,3,0),0)","v":0},{"v":728.93,"d":"€728.93"}]
[117490,40450,4,"Normal",{"v":52.88,"d":"€52.88"},"SD/SG",{"$f":"IFERROR(VLOOKUP(F11695,Discounts!A:C,3,0),0)","v":0},{"v":52.88,"d":"€52.88"}]
[117520,115820,1,"Normal",{"v":640.5,"d":"€640.50"},"E013",{"$f":"IFERROR(VLOOKUP(F11708,Discounts!A:C,3,0),0)","v":0},{"v":640.5,"d":"€640.50"}]
[117550,31920,1,"Normal",{"v":115.7,"d":"€115.70"},"SD/SG",{"$f":"IFERROR(VLOOKUP(F11717,Discounts!A:C,3,0),0)","v":0},{"v":115.7,"d":"€115.70"}]
[117590,31920,1,"Normal",{"v":115.7,"d":"€115.70"},"SD/SG",{"$f":"IFERROR(VLOOKUP(F11733,Discounts!A:C,3,0),0)","v":0},{"v":115.7,"d":"€115.70"}]
[117600,115900,1,"Normal",{"v":1084.3,"d":"€1,084.30"},"E013",{"$f":"IFERROR(VLOOKUP(F11740,Discounts!A:C,3,0),0)","v":0},{"v":1084.3,"d":"€1,084.30"}]
[117660,31920,1,"Normal",{"v":115.7,"d":"€115.70"},"SD/SG",{"$f":"IFERROR(VLOOKUP(F11761,Discounts!A:C,3,0),0)","v":0},{"v":115.7,"d":"€115.70"}]
[117680,40450,1,"Normal",{"v":13.22,"d":"€13.22"},"SD/SG",{"$f":"IFERROR(VLOOKUP(F11770,Discounts!A:C,3,0),0)","v":0},{"v":13.22,"d":"€13.22"}]
[117710,40530,1,"Normal",{"v":88.43,"d":"€88.43"},"SD/SG",{"$f":"IFERROR(VLOOKUP(F11783,Discounts!A:C,3,0),0)","v":0},{"v":88.43,"d":"€88.43"}]
[117730,40530,1,"Normal",{"v":88.43,"d":"€88.43"},"SD/SG",{"$f":"IFERROR(VLOOKUP(F11792,Discounts!A:C,3,0),0)","v":0},{"v":88.43,"d":"€88.43"}]
[117780,31920,1,"Normal",{"v":115.7,"d":"€115.70"},"SD/SG",{"$f":"IFERROR(VLOOKUP(F11810,Discounts!A:C,3,0),0)","v":0},{"v":115.7,"d":"€115.70"}]
[117790,40450,3,"Normal",{"v":39.66,"d":"€39.66"},"SD/SG",{"$f":"IFERROR(VLOOKUP(F11815,Discounts!A:C,3,0),0)","v":0},{"v":39.66,"d":"€39.66"}]
[117840,40520,1,"Normal",{"v":64.46,"d":"€64.46"},"SD/SG",{"$f":"IFERROR(VLOOKUP(F11836,Discounts!A:C,3,0),0)","v":0},{"v":64.46,"d":"€64.46"}]
[117840,116150,1,"Normal",{"v":1434.71,"d":"€1,434.71"},"E013",{"$f":"IFERROR(VLOOKUP(F11837,Discounts!A:C,3,0),0)","v":0},{"v":1434.71,"d":"€1,434.71"}]
[117900,31920,1,"Normal",{"v":115.7,"d":"€115.70"},"SD/SG",{"$f":"IFERROR(VLOOKUP(F11858,Discounts!A:C,3,0),0)","v":0},{"v":115.7,"d":"€115.70"}]
[117940,31920,1,"Normal",{"v":115.7,"d":"€115.70"},"SD/SG",{"$f":"IFERROR(VLOOKUP(F11872,Discounts!A:C,3,0),0)","v":0},{"v":115.7,"d":"€115.70"}]
[117960,33990,1,"Normal",{"v":102.48,"d":"€102.48"},"SD/SG",{"$f":"IFERROR(VLOOKUP(F11881,Discounts!A:C,3,0),0)","v":0},{"v":102.48,"d":"€102.48"}]
[117980,31920,1,"Normal",{"v":115.7,"d":"€115.70"},"SD/SG",{"$f":"IFERROR(VLOOKUP(F11890,Discounts!A:C,3,0),0)","v":0},{"v":115.7,"d":"€115.70"}]
[118010,40450,1,"Normal",{"v":13.22,"d":"€13.22"},"SD/SG",{"$f":"IFERROR(VLOOKUP(F11903,Discounts!A:C,3,0),0)","v":0},{"v":13.22,"d":"€13.22"}]
[118030,31920,1,"Normal",{"v":115.7,"d":"€115.70"},"SD/SG",{"$f":"IFERROR(VLOOKUP(F11912,Discounts!A:C,3,0),0)","v":0},{"v":115.7,"d":"€115.70"}]
[118060,116290,1,"Normal",{"v":864.46,"d":"€864.46"},"E013",{"$f":"IFERROR(VLOOKUP(F11925,Discounts!A:C,3,0),0)","v":0},{"v":864.46,"d":"€864.46"}]
[118090,40450,1,"Normal",{"v":13.22,"d":"€13.22"},"SD/SG",{"$f":"IFERROR(VLOOKUP(F11935,Discounts!A:C,3,0),0)","v":0},{"v":13.22,"d":"€13.22"}]
[118130,57390,2,"Normal",{"v":1411.58,"d":"€1,411.58"},"E015",{"$f":"IFERROR(VLOOKUP(F11956,Discounts!A:C,3,0),0)","v":0},{"v":1411.58,"d":"€1,411.58"}]
[118160,57370,2,"Normal",{"v":1499.18,"d":"€1,499.18"},"E015",{"$f":"IFERROR(VLOOKUP(F11969,Discounts!A:C,3,0),0)","v":0},{"v":1499.18,"d":"€1,499.18"}]
[118200,31470,1,"Normal",{"v":133.88,"d":"€133.88"},"LUXE",{"$f":"IFERROR(VLOOKUP(F11978,Discounts!A:C,3,0),0)","v":0},{"v":133.88,"d":"€133.88"}]
[120570,120280,1,"Normal",{"v":715.7,"d":"€715.70"},"C010",{"$f":"IFERROR(VLOOKUP(F11987,Discounts!A:C,3,0),0)","v":0},{"v":715.7,"d":"€715.70"}]
[120650,34260,1,"Normal",{"v":249.59,"d":"€249.59"},"LUXE",{"$f":"IFERROR(VLOOKUP(F12002,Discounts!A:C,3,0),0)","v":0},{"v":249.59,"d":"€249.59"}]
[120690,34260,1,"Normal",{"v":249.59,"d":"€249.59"},"LUXE",{"$f":"IFERROR(VLOOKUP(F12010,Discounts!A:C,3,0),0)","v":0},{"v":249.59,"d":"€249.59"}]
[120790,120500,1,"Normal",{"v":780.17,"d":"€780.17"},"C010",{"$f":"IFERROR(VLOOKUP(F12031,Discounts!A:C,3,0),0)","v":0},{"v":780.17,"d":"€780.17"}]
[120800,34260,1,"Normal",{"v":249.59,"d":"€249.59"},"LUXE",{"$f":"IFERROR(VLOOKUP(F12032,Discounts!A:C,3,0),0)","v":0},{"v":249.59,"d":"€249.59"}]
[121020,120900,1,"Normal",{"v":928.1,"d":"€928.10"},"C010",{"$f":"IFERROR(VLOOKUP(F12053,Discounts!A:C,3,0),0)","v":0},{"v":928.1,"d":"€928.10"}]
[121080,120290,2,"Normal",{"v":928.92,"d":"€928.92"},"C010",{"$f":"IFERROR(VLOOKUP(F12064,Discounts!A:C,3,0),0)","v":0},{"v":928.92,"d":"€928.92"}]
[121140,120460,2,"Normal",{"v":1085.96,"d":"€1,085.96"},"C010",{"$f":"IFERROR(VLOOKUP(F12076,Discounts!A:C,3,0),0)","v":0},{"v":1085.96,"d":"€1,085.96"}]
[121250,137810,2,"Normal",{"v":231.4,"d":"€231.40"},"LUXE",{"$f":"IFERROR(VLOOKUP(F12085,Discounts!A:C,3,0),0)","v":0},{"v":231.4,"d":"€231.40"}]
[121320,120760,2,"Combination",{"v":2008.28,"d":"€2,008.28"},"C010",{"$f":"IFERROR(VLOOKUP(F12098,Discounts!A:C,3,0),0)","v":0},{"$f":"IF(D12098=\"Normal\",E12098*(1-G12098),SUMIF(A:A,B12098,H:H)*C12098)","v":{"v":2008.28,"d":"€2,008.28"}}]
[121360,121190,1,"Normal",{"v":1657.02,"d":"€1,657.02"},"C010",{"$f":"IFERROR(VLOOKUP(F12107,Discounts!A:C,3,0),0)","v":0},{"v":1657.02,"d":"€1,657.02"}]
[121460,34260,1,"Normal",{"v":249.59,"d":"€249.59"},"LUXE",{"$f":"IFERROR(VLOOKUP(F12126,Discounts!A:C,3,0),0)","v":0},{"v":249.59,"d":"€249.59"}]
[121480,34260,1,"Normal",{"v":249.59,"d":"€249.59"},"LUXE",{"$f":"IFERROR(VLOOKUP(F12130,Discounts!A:C,3,0),0)","v":0},{"v":249.59,"d":"€249.59"}]
[121580,118370,1,"Normal",{"v":1990.08,"d":"€1,990.08"},"A015",{"$f":"IFERROR(VLOOKUP(F12151,Discounts!A:C,3,0),0)","v":0},{"v":1990.08,"d":"€1,990.08"}]
[121650,34260,1,"Normal",{"v":249.59,"d":"€249.59"},"LUXE",{"$f":"IFERROR(VLOOKUP(F12164,Discounts!A:C,3,0),0)","v":0},{"v":249.59,"d":"€249.59"}]
[121690,118510,1,"Normal",{"v":2792.56,"d":"€2,792.56"},"A010",{"$f":"IFERROR(VLOOKUP(F12173,Discounts!A:C,3,0),0)","v":0},{"v":2792.56,"d":"€2,792.56"}]
[121720,118540,1,"Normal",{"v":2042.98,"d":"€2,042.98"},"A010",{"$f":"IFERROR(VLOOKUP(F12179,Discounts!A:C,3,0),0)","v":0},{"v":2042.98,"d":"€2,042.98"}]
[121810,34260,1,"Normal",{"v":249.59,"d":"€249.59"},"LUXE",{"$f":"IFERROR(VLOOKUP(F12196,Discounts!A:C,3,0),0)","v":0},{"v":249.59,"d":"€249.59"}]
[121850,118770,1,"Normal",{"v":1795.87,"d":"€1,795.87"},"A010",{"$f":"IFERROR(VLOOKUP(F12205,Discounts!A:C,3,0),0)","v":0},{"v":1795.87,"d":"€1,795.87"}]
[121920,34260,1,"Normal",{"v":249.59,"d":"€249.59"},"LUXE",{"$f":"IFERROR(VLOOKUP(F12218,Discounts!A:C,3,0),0)","v":0},{"v":249.59,"d":"€249.59"}]
[121960,118920,1,"Normal",{"v":1360.33,"d":"€1,360.33"},"A010",{"$f":"IFERROR(VLOOKUP(F12227,Discounts!A:C,3,0),0)","v":0},{"v":1360.33,"d":"€1,360.33"}]
[122070,34260,1,"Normal",{"v":249.59,"d":"€249.59"},"LUXE",{"$f":"IFERROR(VLOOKUP(F12248,Discounts!A:C,3,0),0)","v":0},{"v":249.59,"d":"€249.59"}]
[122110,34260,1,"Normal",{"v":249.59,"d":"€249.59"},"LUXE",{"$f":"IFERROR(VLOOKUP(F12256,Discounts!A:C,3,0),0)","v":0},{"v":249.59,"d":"€249.59"}]
[122180,119230,1,"Normal",{"v":2291.74,"d":"€2,291.74"},"A010",{"$f":"IFERROR(VLOOKUP(F12271,Discounts!A:C,3,0),0)","v":0},{"v":2291.74,"d":"€2,291.74"}]
[122230,34260,1,"Normal",{"v":249.59,"d":"€249.59"},"LUXE",{"$f":"IFERROR(VLOOKUP(F12280,Discounts!A:C,3,0),0)","v":0},{"v":249.59,"d":"€249.59"}]
[122290,119340,1,"Normal",{"v":1504.96,"d":"€1,504.96"},"A010",{"$f":"IFERROR(VLOOKUP(F12293,Discounts!A:C,3,0),0)","v":0},{"v":1504.96,"d":"€1,504.96"}]
[122340,34260,1,"Normal",{"v":249.59,"d":"€249.59"},"LUXE",{"$f":"IFERROR(VLOOKUP(F12302,Discounts!A:C,3,0),0)","v":0},{"v":249.59,"d":"€249.59"}]
[122420,34260,1,"Normal",{"v":249.59,"d":"€249.59"},"LUXE",{"$f":"IFERROR(VLOOKUP(F12318,Discounts!A:C,3,0),0)","v":0},{"v":249.59,"d":"€249.59"}]
[122450,119500,1,"Normal",{"v":1438.02,"d":"€1,438.02"},"A010",{"$f":"IFERROR(VLOOKUP(F12325,Discounts!A:C,3,0),0)","v":0},{"v":1438.02,"d":"€1,438.02"}]
[122560,34260,1,"Normal",{"v":249.59,"d":"€249.59"},"LUXE",{"$f":"IFERROR(VLOOKUP(F12346,Discounts!A:C,3,0),0)","v":0},{"v":249.59,"d":"€249.59"}]
[122620,119670,1,"Normal",{"v":1761.98,"d":"€1,761.98"},"A010",{"$f":"IFERROR(VLOOKUP(F12359,Discounts!A:C,3,0),0)","v":0},{"v":1761.98,"d":"€1,761.98"}]
[122670,34260,1,"Normal",{"v":249.59,"d":"€249.59"},"LUXE",{"$f":"IFERROR(VLOOKUP(F12368,Discounts!A:C,3,0),0)","v":0},{"v":249.59,"d":"€249.59"}]
[122730,34260,1,"Normal",{"v":249.59,"d":"€249.59"},"LUXE",{"$f":"IFERROR(VLOOKUP(F12380,Discounts!A:C,3,0),0)","v":0},{"v":249.59,"d":"€249.59"}]
[122780,119880,1,"Normal",{"v":1885.95,"d":"€1,885.95"},"A010",{"$f":"IFERROR(VLOOKUP(F12391,Discounts!A:C,3,0),0)","v":0},{"v":1885.95,"d":"€1,885.95"}]
[122830,34260,1,"Normal",{"v":249.59,"d":"€249.59"},"LUXE",{"$f":"IFERROR(VLOOKUP(F12400,Discounts!A:C,3,0),0)","v":0},{"v":249.59,"d":"€249.59"}]
[122890,119990,1,"Normal",{"v":1576.03,"d":"€1,576.03"},"A010",{"$f":"IFERROR(VLOOKUP(F12413,Discounts!A:C,3,0),0)","v":0},{"v":1576.03,"d":"€1,576.03"}]
[122940,34260,1,"Normal",{"v":249.59,"d":"€249.59"},"LUXE",{"$f":"IFERROR(VLOOKUP(F12422,Discounts!A:C,3,0),0)","v":0},{"v":249.59,"d":"€249.59"}]
[123040,120140,1,"Normal",{"v":1597.52,"d":"€1,597.52"},"A010",{"$f":"IFERROR(VLOOKUP(F12443,Discounts!A:C,3,0),0)","v":0},{"v":1597.52,"d":"€1,597.52"}]
[123070,34260,1,"Normal",{"v":249.59,"d":"€249.59"},"LUXE",{"$f":"IFERROR(VLOOKUP(F12448,Discounts!A:C,3,0),0)","v":0},{"v":249.59,"d":"€249.59"}]
[123200,34260,1,"Normal",{"v":249.59,"d":"€249.59"},"LUXE",{"$f":"IFERROR(VLOOKUP(F12466,Discounts!A:C,3,0),0)","v":0},{"v":249.59,"d":"€249.59"}]
[123450,123260,1,"Normal",{"v":1967.77,"d":"€1,967.77"},"A010",{"$f":"IFERROR(VLOOKUP(F12479,Discounts!A:C,3,0),0)","v":0},{"v":1967.77,"d":"€1,967.77"}]
[123500,34260,1,"Normal",{"v":249.59,"d":"€249.59"},"LUXE",{"$f":"IFERROR(VLOOKUP(F12488,Discounts!A:C,3,0),0)","v":0},{"v":249.59,"d":"€249.59"}]
[123540,123380,1,"Normal",{"v":2016.53,"d":"€2,016.53"},"A010",{"$f":"IFERROR(VLOOKUP(F12497,Discounts!A:C,3,0),0)","v":0},{"v":2016.53,"d":"€2,016.53"}]
[123950,34260,1,"Normal",{"v":249.59,"d":"€249.59"},"LUXE",{"$f":"IFERROR(VLOOKUP(F12510,Discounts!A:C,3,0),0)","v":0},{"v":249.59,"d":"€249.59"}]
[124060,34260,1,"Normal",{"v":249.59,"d":"€249.59"},"LUXE",{"$f":"IFERROR(VLOOKUP(F12520,Discounts!A:C,3,0),0)","v":0},{"v":249.59,"d":"€249.59"}]
[124240,124230,1,"Normal",{"v":1217.36,"d":"€1,217.36"},"A010",{"$f":"IFERROR(VLOOKUP(F12533,Discounts!A:C,3,0),0)","v":0},{"v":1217.36,"d":"€1,217.36"}]
[124480,34260,1,"Normal",{"v":249.59,"d":"€249.59"},"LUXE",{"$f":"IFERROR(VLOOKUP(F12554,Discounts!A:C,3,0),0)","v":0},{"v":249.59,"d":"€249.59"}]
[124560,124550,1,"Normal",{"v":2072.73,"d":"€2,072.73"},"A015",{"$f":"IFERROR(VLOOKUP(F12563,Discounts!A:C,3,0),0)","v":0},{"v":2072.73,"d":"€2,072.73"}]
[124660,34260,1,"Normal",{"v":249.59,"d":"€249.59"},"LUXE",{"$f":"IFERROR(VLOOKUP(F12572,Discounts!A:C,3,0),0)","v":0},{"v":249.59,"d":"€249.59"}]
[124850,31470,1,"Normal",{"v":133.88,"d":"€133.88"},"LUXE",{"$f":"IFERROR(VLOOKUP(F12586,Discounts!A:C,3,0),0)","v":0},{"v":133.88,"d":"€133.88"}]
[125010,45730,1,"Normal",{"v":41.32,"d":"€41.32"},"LUXE",{"$f":"IFERROR(VLOOKUP(F12595,Discounts!A:C,3,0),0)","v":0},{"v":41.32,"d":"€41.32"}]
[125040,123300,1,"Normal",{"v":2585.12,"d":"€2,585.12"},"A010",{"$f":"IFERROR(VLOOKUP(F12608,Discounts!A:C,3,0),0)","v":0},{"v":2585.12,"d":"€2,585.12"}]
[125070,29890,1,"Normal",{"v":193.39,"d":"€193.39"},"P106",{"$f":"IFERROR(VLOOKUP(F12617,Discounts!A:C,3,0),0)","v":0},{"v":193.39,"d":"€193.39"}]
[125100,118620,1,"Normal",{"v":2356.2,"d":"€2,356.20"},"A010",{"$f":"IFERROR(VLOOKUP(F12630,Discounts!A:C,3,0),0)","v":0},{"v":2356.2,"d":"€2,356.20"}]
[125170,29920,1,"Normal",{"v":585.12,"d":"€585.12"},"P105",{"$f":"IFERROR(VLOOKUP(F12653,Discounts!A:C,3,0),0)","v":0},{"v":585.12,"d":"€585.12"}]
[125190,118670,1,"Normal",{"v":2356.2,"d":"€2,356.20"},"A010",{"$f":"IFERROR(VLOOKUP(F12661,Discounts!A:C,3,0),0)","v":0},{"v":2356.2,"d":"€2,356.20"}]
[125240,29720,1,"Normal",{"v":87.6,"d":"€87.60"},"LUXE",{"$f":"IFERROR(VLOOKUP(F12674,Discounts!A:C,3,0),0)","v":0},{"$f":"IF(D12674=\"Normal\",E12674*(1-G12674),SUMIF(A:A,B12674,H:H)*C12674)","v":{"v":87.6,"d":"€87.60"}}]
[125260,123360,1,"Normal",{"v":2012.4,"d":"€2,012.40"},"A010",{"$f":"IFERROR(VLOOKUP(F12683,Discounts!A:C,3,0),0)","v":0},{"v":2012.4,"d":"€2,012.40"}]
[125290,29720,1,"Normal",{"v":87.6,"d":"€87.60"},"LUXE",{"$f":"IFERROR(VLOOKUP(F12692,Discounts!A:C,3,0),0)","v":0},{"v":87.6,"d":"€87.60"}]
[125310,118280,1,"Normal",{"v":2324.79,"d":"€2,324.79"},"A015",{"$f":"IFERROR(VLOOKUP(F12702,Discounts!A:C,3,0),0)","v":0},{"v":2324.79,"d":"€2,324.79"}]
[125360,29710,1,"Normal",{"v":41.32,"d":"€41.32"},"LUXE",{"$f":"IFERROR(VLOOKUP(F12715,Discounts!A:C,3,0),0)","v":0},{"v":41.32,"d":"€41.32"}]
[125390,118780,1,"Normal",{"v":1738.02,"d":"€1,738.02"},"A010",{"$f":"IFERROR(VLOOKUP(F12728,Discounts!A:C,3,0),0)","v":0},{"v":1738.02,"d":"€1,738.02"}]
[125460,29710,1,"Normal",{"v":41.32,"d":"€41.32"},"LUXE",{"$f":"IFERROR(VLOOKUP(F12749,Discounts!A:C,3,0),0)","v":0},{"v":41.32,"d":"€41.32"}]
[125490,29710,1,"Normal",{"v":41.32,"d":"€41.32"},"LUXE",{"$f":"IFERROR(VLOOKUP(F12758,Discounts!A:C,3,0),0)","v":0},{"v":41.32,"d":"€41.32"}]
[125510,29710,1,"Normal",{"v":41.32,"d":"€41.32"},"LUXE",{"$f":"IFERROR(VLOOKUP(F12764,Discounts!A:C,3,0),0)","v":0},{"v":41.32,"d":"€41.32"}]
[125560,29710,1,"Normal",{"v":41.32,"d":"€41.32"},"LUXE",{"$f":"IFERROR(VLOOKUP(F12781,Discounts!A:C,3,0),0)","v":0},{"v":41.32,"d":"€41.32"}]
[125590,31470,1,"Normal",{"v":133.88,"d":"€133.88"},"LUXE",{"$f":"IFERROR(VLOOKUP(F12794,Discounts!A:C,3,0),0)","v":0},{"v":133.88,"d":"€133.88"}]
[125620,29710,1,"Normal",{"v":41.32,"d":"€41.32"},"LUXE",{"$f":"IFERROR(VLOOKUP(F12803,Discounts!A:C,3,0),0)","v":0},{"v":41.32,"d":"€41.32"}]
[125650,29710,1,"Normal",{"v":41.32,"d":"€41.32"},"LUXE",{"$f":"IFERROR(VLOOKUP(F12812,Discounts!A:C,3,0),0)","v":0},{"v":41.32,"d":"€41.32"}]
[125690,31470,1,"Normal",{"v":133.88,"d":"€133.88"},"LUXE",{"$f":"IFERROR(VLOOKUP(F12826,Discounts!A:C,3,0),0)","v":0},{"v":133.88,"d":"€133.88"}]
[125760,29710,1,"Normal",{"v":41.32,"d":"€41.32"},"LUXE",{"$f":"IFERROR(VLOOKUP(F12847,Discounts!A:C,3,0),0)","v":0},{"v":41.32,"d":"€41.32"}]
[125790,29710,1,"Normal",{"v":41.32,"d":"€41.32"},"LUXE",{"$f":"IFERROR(VLOOKUP(F12856,Discounts!A:C,3,0),0)","v":0},{"v":41.32,"d":"€41.32"}]
[125830,31470,1,"Normal",{"v":133.88,"d":"€133.88"},"LUXE",{"$f":"IFERROR(VLOOKUP(F12869,Discounts!A:C,3,0),0)","v":0},{"v":133.88,"d":"€133.88"}]
[125860,29810,1,"Normal",{"v":854.55,"d":"€854.55"},"P105",{"$f":"IFERROR(VLOOKUP(F12878,Discounts!A:C,3,0),0)","v":0},{"v":854.55,"d":"€854.55"}]
[125900,31470,1,"Normal",{"v":133.88,"d":"€133.88"},"LUXE",{"$f":"IFERROR(VLOOKUP(F12891,Discounts!A:C,3,0),0)","v":0},{"v":133.88,"d":"€133.88"}]
[125950,119250,1,"Normal",{"v":2291.74,"d":"€2,291.74"},"A010",{"$f":"IFERROR(VLOOKUP(F12907,Discounts!A:C,3,0),0)","v":0},{"v":2291.74,"d":"€2,291.74"}]
[125960,119260,1,"Normal",{"v":2433.06,"d":"€2,433.06"},"A010",{"$f":"IFERROR(VLOOKUP(F12910,Discounts!A:C,3,0),0)","v":0},{"v":2433.06,"d":"€2,433.06"}]
[126000,119290,1,"Normal",{"v":1340.5,"d":"€1,340.50"},"A010",{"$f":"IFERROR(VLOOKUP(F12923,Discounts!A:C,3,0),0)","v":0},{"v":1340.5,"d":"€1,340.50"}]
[126070,119610,1,"Normal",{"v":2139.67,"d":"€2,139.67"},"A010",{"$f":"IFERROR(VLOOKUP(F12944,Discounts!A:C,3,0),0)","v":0},{"v":2139.67,"d":"€2,139.67"}]
[126120,29710,1,"Normal",{"v":41.32,"d":"€41.32"},"LUXE",{"$f":"IFERROR(VLOOKUP(F12957,Discounts!A:C,3,0),0)","v":0},{"v":41.32,"d":"€41.32"}]
[126150,30480,6,"Normal",{"v":763.62,"d":"€763.62"},"O115",{"$f":"IFERROR(VLOOKUP(F12969,Discounts!A:C,3,0),0)","v":0},{"v":763.62,"d":"€763.62"}]
[126170,31470,1,"Normal",{"v":133.88,"d":"€133.88"},"LUXE",{"$f":"IFERROR(VLOOKUP(F12976,Discounts!A:C,3,0),0)","v":0},{"v":133.88,"d":"€133.88"}]
[126210,30500,5,"Normal",{"v":533.05,"d":"€533.05"},"O115",{"$f":"IFERROR(VLOOKUP(F12989,Discounts!A:C,3,0),0)","v":0},{"v":533.05,"d":"€533.05"}]
[126230,31470,1,"Normal",{"v":133.88,"d":"€133.88"},"LUXE",{"$f":"IFERROR(VLOOKUP(F12998,Discounts!A:C,3,0),0)","v":0},{"v":133.88,"d":"€133.88"}]
[126250,119340,1,"Normal",{"v":1504.96,"d":"€1,504.96"},"A010",{"$f":"IFERROR(VLOOKUP(F13007,Discounts!A:C,3,0),0)","v":0},{"v":1504.96,"d":"€1,504.96"}]
[126320,29710,1,"Normal",{"v":41.32,"d":"€41.32"},"LUXE",{"$f":"IFERROR(VLOOKUP(F13031,Discounts!A:C,3,0),0)","v":0},{"v":41.32,"d":"€41.32"}]
[126340,119420,1,"Normal",{"v":1587.6,"d":"€1,587.60"},"A010",{"$f":"IFERROR(VLOOKUP(F13042,Discounts!A:C,3,0),0)","v":0},{"v":1587.6,"d":"€1,587.60"}]
[126380,29710,1,"Normal",{"v":41.32,"d":"€41.32"},"LUXE",{"$f":"IFERROR(VLOOKUP(F13055,Discounts!A:C,3,0),0)","v":0},{"v":41.32,"d":"€41.32"}]
[126400,31470,1,"Normal",{"v":133.88,"d":"€133.88"},"LUXE",{"$f":"IFERROR(VLOOKUP(F13064,Discounts!A:C,3,0),0)","v":0},{"v":133.88,"d":"€133.88"}]
[126420,31640,1,"Normal",{"v":134.71,"d":"€134.71"},"LUXE",{"$f":"IFERROR(VLOOKUP(F13073,Discounts!A:C,3,0),0)","v":0},{"v":134.71,"d":"€134.71"}]
[126450,119520,1,"Normal",{"v":1620.66,"d":"€1,620.66"},"A010",{"$f":"IFERROR(VLOOKUP(F13086,Discounts!A:C,3,0),0)","v":0},{"v":1620.66,"d":"€1,620.66"}]
[126490,29710,1,"Normal",{"v":41.32,"d":"€41.32"},"LUXE",{"$f":"IFERROR(VLOOKUP(F13099,Discounts!A:C,3,0),0)","v":0},{"v":41.32,"d":"€41.32"}]
[126500,45730,1,"Normal",{"v":41.32,"d":"€41.32"},"LUXE",{"$f":"IFERROR(VLOOKUP(F13105,Discounts!A:C,3,0),0)","v":0},{"v":41.32,"d":"€41.32"}]
[126540,29710,1,"Normal",{"v":41.32,"d":"€41.32"},"LUXE",{"$f":"IFERROR(VLOOKUP(F13118,Discounts!A:C,3,0),0)","v":0},{"v":41.32,"d":"€41.32"}]
[126590,31470,1,"Normal",{"v":133.88,"d":"€133.88"},"LUXE",{"$f":"IFERROR(VLOOKUP(F13139,Discounts!A:C,3,0),0)","v":0},{"v":133.88,"d":"€133.88"}]
[126620,45730,1,"Normal",{"v":41.32,"d":"€41.32"},"LUXE",{"$f":"IFERROR(VLOOKUP(F13152,Discounts!A:C,3,0),0)","v":0},{"v":41.32,"d":"€41.32"}]
[126640,118370,1,"Normal",{"v":1990.08,"d":"€1,990.08"},"A015",{"$f":"IFERROR(VLOOKUP(F13161,Discounts!A:C,3,0),0)","v":0},{"v":1990.08,"d":"€1,990.08"}]
[126670,31470,1,"Normal",{"v":133.88,"d":"€133.88"},"LUXE",{"$f":"IFERROR(VLOOKUP(F13171,Discounts!A:C,3,0),0)","v":0},{"v":133.88,"d":"€133.88"}]
[126700,45730,1,"Normal",{"v":41.32,"d":"€41.32"},"LUXE",{"$f":"IFERROR(VLOOKUP(F13184,Discounts!A:C,3,0),0)","v":0},{"v":41.32,"d":"€41.32"}]
[126720,119970,1,"Normal",{"v":1576.03,"d":"€1,576.03"},"A010",{"$f":"IFERROR(VLOOKUP(F13193,Discounts!A:C,3,0),0)","v":0},{"v":1576.03,"d":"€1,576.03"}]
[126760,31470,1,"Normal",{"v":133.88,"d":"€133.88"},"LUXE",{"$f":"IFERROR(VLOOKUP(F13206,Discounts!A:C,3,0),0)","v":0},{"v":133.88,"d":"€133.88"}]
[126800,45730,1,"Normal",{"v":41.32,"d":"€41.32"},"LUXE",{"$f":"IFERROR(VLOOKUP(F13223,Discounts!A:C,3,0),0)","v":0},{"v":41.32,"d":"€41.32"}]
[126840,29710,1,"Normal",{"v":41.32,"d":"€41.32"},"LUXE",{"$f":"IFERROR(VLOOKUP(F13237,Discounts!A:C,3,0),0)","v":0},{"v":41.32,"d":"€41.32"}]
[126870,31470,1,"Normal",{"v":133.88,"d":"€133.88"},"LUXE",{"$f":"IFERROR(VLOOKUP(F13250,Discounts!A:C,3,0),0)","v":0},{"$f":"IF(D13250=\"Normal\",E13250*(1-G13250),SUMIF(A:A,B13250,H:H)*C13250)","v":{"v":133.88,"d":"€133.88"}}]
[126890,45730,1,"Normal",{"v":41.32,"d":"€41.32"},"LUXE",{"$f":"IFERROR(VLOOKUP(F13259,Discounts!A:C,3,0),0)","v":0},{"v":41.32,"d":"€41.32"}]
[126910,120140,1,"Normal",{"v":1597.52,"d":"€1,597.52"},"A010",{"$f":"IFERROR(VLOOKUP(F13268,Discounts!A:C,3,0),0)","v":0},{"v":1597.52,"d":"€1,597.52"}]
[126960,29710,1,"Normal",{"v":41.32,"d":"€41.32"},"LUXE",{"$f":"IFERROR(VLOOKUP(F13285,Discounts!A:C,3,0),0)","v":0},{"v":41.32,"d":"€41.32"}]
[126970,45730,1,"Normal",{"v":41.32,"d":"€41.32"},"LUXE",{"$f":"IFERROR(VLOOKUP(F13291,Discounts!A:C,3,0),0)","v":0},{"v":41.32,"d":"€41.32"}]
[127000,120230,1,"Normal",{"v":1647.93,"d":"€1,647.93"},"A010",{"$f":"IFERROR(VLOOKUP(F13304,Discounts!A:C,3,0),0)","v":0},{"v":1647.93,"d":"€1,647.93"}]
[127030,29720,1,"Normal",{"v":87.6,"d":"€87.60"},"LUXE",{"$f":"IFERROR(VLOOKUP(F13313,Discounts!A:C,3,0),0)","v":0},{"v":87.6,"d":"€87.60"}]
[127080,31640,1,"Normal",{"v":134.71,"d":"€134.71"},"LUXE",{"$f":"IFERROR(VLOOKUP(F13334,Discounts!A:C,3,0),0)","v":0},{"v":134.71,"d":"€134.71"}]
[127120,29720,1,"Normal",{"v":87.6,"d":"€87.60"},"LUXE",{"$f":"IFERROR(VLOOKUP(F13347,Discounts!A:C,3,0),0)","v":0},{"v":87.6,"d":"€87.60"}]
[127140,29720,1,"Normal",{"v":87.6,"d":"€87.60"},"LUXE",{"$f":"IFERROR(VLOOKUP(F13353,Discounts!A:C,3,0),0)","v":0},{"v":87.6,"d":"€87.60"}]
[127170,121550,1,"Combination",{"v":1843.8,"d":"€1,843.80"},"A015",{"$f":"IFERROR(VLOOKUP(F13366,Discounts!A:C,3,0),0)","v":0},{"v":1843.8,"d":"€1,843.80"}]
[127210,31640,1,"Normal",{"v":134.71,"d":"€134.71"},"LUXE",{"$f":"IFERROR(VLOOKUP(F13379,Discounts!A:C,3,0),0)","v":0},{"v":134.71,"d":"€134.71"}]
[127240,29720,1,"Normal",{"v":87.6,"d":"€87.60"},"LUXE",{"$f":"IFERROR(VLOOKUP(F13388,Discounts!A:C,3,0),0)","v":0},{"v":87.6,"d":"€87.60"}]
[127280,29710,1,"Normal",{"v":41.32,"d":"€41.32"},"LUXE",{"$f":"IFERROR(VLOOKUP(F13401,Discounts!A:C,3,0),0)","v":0},{"v":41.32,"d":"€41.32"}]
[127320,29710,1,"Normal",{"v":41.32,"d":"€41.32"},"LUXE",{"$f":"IFERROR(VLOOKUP(F13415,Discounts!A:C,3,0),0)","v":0},{"v":41.32,"d":"€41.32"}]
[127400,31470,1,"Normal",{"v":133.88,"d":"€133.88"},"LUXE",{"$f":"IFERROR(VLOOKUP(F13432,Discounts!A:C,3,0),0)","v":0},{"v":133.88,"d":"€133.88"}]
[127440,121720,1,"Combination",{"v":2292.57,"d":"€2,292.57"},"A010",{"$f":"IFERROR(VLOOKUP(F13445,Discounts!A:C,3,0),0)","v":0},{"v":2292.57,"d":"€2,292.57"}]
[127470,31470,1,"Normal",{"v":133.88,"d":"€133.88"},"LUXE",{"$f":"IFERROR(VLOOKUP(F13454,Discounts!A:C,3,0),0)","v":0},{"v":133.88,"d":"€133.88"}]
[127550,31470,1,"Normal",{"v":133.88,"d":"€133.88"},"LUXE",{"$f":"IFERROR(VLOOKUP(F13467,Discounts!A:C,3,0),0)","v":0},{"v":133.88,"d":"€133.88"}]
[127580,29710,1,"Normal",{"v":41.32,"d":"€41.32"},"LUXE",{"$f":"IFERROR(VLOOKUP(F13477,Discounts!A:C,3,0),0)","v":0},{"v":41.32,"d":"€41.32"}]
[127620,29720,1,"Normal",{"v":87.6,"d":"€87.60"},"LUXE",{"$f":"IFERROR(VLOOKUP(F13486,Discounts!A:C,3,0),0)","v":0},{"v":87.6,"d":"€87.60"}]
[127650,31470,1,"Normal",{"v":133.88,"d":"€133.88"},"LUXE",{"$f":"IFERROR(VLOOKUP(F13499,Discounts!A:C,3,0),0)","v":0},{"v":133.88,"d":"€133.88"}]
[127690,29710,1,"Normal",{"v":41.32,"d":"€41.32"},"LUXE",{"$f":"IFERROR(VLOOKUP(F13508,Discounts!A:C,3,0),0)","v":0},{"v":41.32,"d":"€41.32"}]
[127770,123540,1,"Combination",{"v":2266.12,"d":"€2,266.12"},"A010",{"$f":"IFERROR(VLOOKUP(F13529,Discounts!A:C,3,0),0)","v":0},{"v":2266.12,"d":"€2,266.12"}]
[127810,31470,1,"Normal",{"v":133.88,"d":"€133.88"},"LUXE",{"$f":"IFERROR(VLOOKUP(F13542,Discounts!A:C,3,0),0)","v":0},{"v":133.88,"d":"€133.88"}]
[127870,31470,1,"Normal",{"v":133.88,"d":"€133.88"},"LUXE",{"$f":"IFERROR(VLOOKUP(F13545,Discounts!A:C,3,0),0)","v":0},{"v":133.88,"d":"€133.88"}]
[127930,29710,1,"Normal",{"v":41.32,"d":"€41.32"},"LUXE",{"$f":"IFERROR(VLOOKUP(F13565,Discounts!A:C,3,0),0)","v":0},{"v":41.32,"d":"€41.32"}]
[128000,29710,1,"Normal",{"v":41.32,"d":"€41.32"},"LUXE",{"$f":"IFERROR(VLOOKUP(F13574,Discounts!A:C,3,0),0)","v":0},{"v":41.32,"d":"€41.32"}]
[128030,29710,1,"Normal",{"v":41.32,"d":"€41.32"},"LUXE",{"$f":"IFERROR(VLOOKUP(F13583,Discounts!A:C,3,0),0)","v":0},{"v":41.32,"d":"€41.32"}]
[128060,53350,1,"Normal",{"v":199.17,"d":"€199.17"},"LUXE",{"$f":"IFERROR(VLOOKUP(F13596,Discounts!A:C,3,0),0)","v":0},{"v":199.17,"d":"€199.17"}]
[128090,31470,1,"Normal",{"v":133.88,"d":"€133.88"},"LUXE",{"$f":"IFERROR(VLOOKUP(F13607,Discounts!A:C,3,0),0)","v":0},{"v":133.88,"d":"€133.88"}]
[128130,31470,1,"Normal",{"v":133.88,"d":"€133.88"},"LUXE",{"$f":"IFERROR(VLOOKUP(F13619,Discounts!A:C,3,0),0)","v":0},{"v":133.88,"d":"€133.88"}]
[128300,29720,1,"Normal",{"v":87.6,"d":"€87.60"},"LUXE",{"$f":"IFERROR(VLOOKUP(F13640,Discounts!A:C,3,0),0)","v":0},{"v":87.6,"d":"€87.60"}]
[128320,122100,1,"Combination",{"v":1464.47,"d":"€1,464.47"},"A010",{"$f":"IFERROR(VLOOKUP(F13649,Discounts!A:C,3,0),0)","v":0},{"v":1464.47,"d":"€1,464.47"}]
[128370,29710,1,"Normal",{"v":41.32,"d":"€41.32"},"LUXE",{"$f":"IFERROR(VLOOKUP(F13662,Discounts!A:C,3,0),0)","v":0},{"v":41.32,"d":"€41.32"}]
[128390,31470,1,"Normal",{"v":133.88,"d":"€133.88"},"LUXE",{"$f":"IFERROR(VLOOKUP(F13669,Discounts!A:C,3,0),0)","v":0},{"v":133.88,"d":"€133.88"}]
[128430,31470,1,"Normal",{"v":133.88,"d":"€133.88"},"LUXE",{"$f":"IFERROR(VLOOKUP(F13681,Discounts!A:C,3,0),0)","v":0},{"v":133.88,"d":"€133.88"}]
[128470,118490,1,"Normal",{"v":3483.47,"d":"€3,483.47"},"A010",{"$f":"IFERROR(VLOOKUP(F13694,Discounts!A:C,3,0),0)","v":0},{"v":3483.47,"d":"€3,483.47"}]
[128500,122240,1,"Combination",{"v":1590.09,"d":"€1,590.09"},"A010",{"$f":"IFERROR(VLOOKUP(F13703,Discounts!A:C,3,0),0)","v":0},{"v":1590.09,"d":"€1,590.09"}]
[128550,29710,1,"Normal",{"v":41.32,"d":"€41.32"},"LUXE",{"$f":"IFERROR(VLOOKUP(F13716,Discounts!A:C,3,0),0)","v":0},{"v":41.32,"d":"€41.32"}]
[128600,29710,1,"Normal",{"v":41.32,"d":"€41.32"},"LUXE",{"$f":"IFERROR(VLOOKUP(F13731,Discounts!A:C,3,0),0)","v":0},{"v":41.32,"d":"€41.32"}]
[128640,122630,1,"Combination",{"v":2016.53,"d":"€2,016.53"},"A010",{"$f":"IFERROR(VLOOKUP(F13747,Discounts!A:C,3,0),0)","v":0},{"v":2016.53,"d":"€2,016.53"}]
[128690,123280,1,"Normal",{"v":3094.21,"d":"€3,094.21"},"A010",{"$f":"IFERROR(VLOOKUP(F13760,Discounts!A:C,3,0),0)","v":0},{"v":3094.21,"d":"€3,094.21"}]
[128760,29710,1,"Normal",{"v":41.32,"d":"€41.32"},"LUXE",{"$f":"IFERROR(VLOOKUP(F13769,Discounts!A:C,3,0),0)","v":0},{"v":41.32,"d":"€41.32"}]
[128780,31470,1,"Normal",{"v":133.88,"d":"€133.88"},"LUXE",{"$f":"IFERROR(VLOOKUP(F13778,Discounts!A:C,3,0),0)","v":0},{"v":133.88,"d":"€133.88"}]
[128810,122350,1,"Combination",{"v":1823.14,"d":"€1,823.14"},"A010",{"$f":"IFERROR(VLOOKUP(F13791,Discounts!A:C,3,0),0)","v":0},{"v":1823.1399999999999,"d":"€1,823.14"}]
[128830,122370,1,"Combination",{"v":1837.19,"d":"€1,837.19"},"A010",{"$f":"IFERROR(VLOOKUP(F13799,Discounts!A:C,3,0),0)","v":0},{"v":1837.1899999999998,"d":"€1,837.19"}]
[128870,45730,1,"Normal",{"v":41.32,"d":"€41.32"},"LUXE",{"$f":"IFERROR(VLOOKUP(F13814,Discounts!A:C,3,0),0)","v":0},{"v":41.32,"d":"€41.32"}]
[128930,29710,1,"Normal",{"v":41.32,"d":"€41.32"},"LUXE",{"$f":"IFERROR(VLOOKUP(F13835,Discounts!A:C,3,0),0)","v":0},{"v":41.32,"d":"€41.32"}]
[128950,31470,1,"Normal",{"v":133.88,"d":"€133.88"},"LUXE",{"$f":"IFERROR(VLOOKUP(F13844,Discounts!A:C,3,0),0)","v":0},{"v":133.88,"d":"€133.88"}]
[128980,45730,1,"Normal",{"v":41.32,"d":"€41.32"},"LUXE",{"$f":"IFERROR(VLOOKUP(F13857,Discounts!A:C,3,0),0)","v":0},{"v":41.32,"d":"€41.32"}]
[128990,45730,1,"Normal",{"v":41.32,"d":"€41.32"},"LUXE",{"$f":"IFERROR(VLOOKUP(F13861,Discounts!A:C,3,0),0)","v":0},{"v":41.32,"d":"€41.32"}]
[129040,45730,1,"Normal",{"v":41.32,"d":"€41.32"},"LUXE",{"$f":"IFERROR(VLOOKUP(F13880,Discounts!A:C,3,0),0)","v":0},{"v":41.32,"d":"€41.32"}]
[129060,122730,1,"Combination",{"v":2125.62,"d":"€2,125.62"},"A010",{"$f":"IFERROR(VLOOKUP(F13889,Discounts!A:C,3,0),0)","v":0},{"v":2125.62,"d":"€2,125.62"}]
[129090,29710,1,"Normal",{"v":41.32,"d":"€41.32"},"LUXE",{"$f":"IFERROR(VLOOKUP(F13898,Discounts!A:C,3,0),0)","v":0},{"v":41.32,"d":"€41.32"}]
[129120,31470,1,"Normal",{"v":133.88,"d":"€133.88"},"LUXE",{"$f":"IFERROR(VLOOKUP(F13911,Discounts!A:C,3,0),0)","v":0},{"v":133.88,"d":"€133.88"}]
[129150,45730,1,"Normal",{"v":41.32,"d":"€41.32"},"LUXE",{"$f":"IFERROR(VLOOKUP(F13923,Discounts!A:C,3,0),0)","v":0},{"v":41.32,"d":"€41.32"}]
[129200,31470,1,"Normal",{"v":133.88,"d":"€133.88"},"LUXE",{"$f":"IFERROR(VLOOKUP(F13942,Discounts!A:C,3,0),0)","v":0},{"v":133.88,"d":"€133.88"}]
[129230,45730,1,"Normal",{"v":41.32,"d":"€41.32"},"LUXE",{"$f":"IFERROR(VLOOKUP(F13955,Discounts!A:C,3,0),0)","v":0},{"v":41.32,"d":"€41.32"}]
[129260,29710,1,"Normal",{"v":41.32,"d":"€41.32"},"LUXE",{"$f":"IFERROR(VLOOKUP(F13964,Discounts!A:C,3,0),0)","v":0},{"v":41.32,"d":"€41.32"}]
[129290,31470,1,"Normal",{"v":133.88,"d":"€133.88"},"LUXE",{"$f":"IFERROR(VLOOKUP(F13977,Discounts!A:C,3,0),0)","v":0},{"v":133.88,"d":"€133.88"}]
[129310,45730,1,"Normal",{"v":41.32,"d":"€41.32"},"LUXE",{"$f":"IFERROR(VLOOKUP(F13986,Discounts!A:C,3,0),0)","v":0},{"v":41.32,"d":"€41.32"}]
[129360,31470,1,"Normal",{"v":133.88,"d":"€133.88"},"LUXE",{"$f":"IFERROR(VLOOKUP(F14004,Discounts!A:C,3,0),0)","v":0},{"v":133.88,"d":"€133.88"}]
[129370,45730,1,"Normal",{"v":41.32,"d":"€41.32"},"LUXE",{"$f":"IFERROR(VLOOKUP(F14009,Discounts!A:C,3,0),0)","v":0},{"v":41.32,"d":"€41.32"}]
[129420,123050,1,"Combination",{"v":1780.17,"d":"€1,780.17"},"A010",{"$f":"IFERROR(VLOOKUP(F14030,Discounts!A:C,3,0),0)","v":0},{"v":1780.1699999999998,"d":"€1,780.17"}]
[129430,29710,1,"Normal",{"v":41.32,"d":"€41.32"},"LUXE",{"$f":"IFERROR(VLOOKUP(F14031,Discounts!A:C,3,0),0)","v":0},{"v":41.32,"d":"€41.32"}]
[129480,31470,1,"Normal",{"v":133.88,"d":"€133.88"},"LUXE",{"$f":"IFERROR(VLOOKUP(F14052,Discounts!A:C,3,0),0)","v":0},{"v":133.88,"d":"€133.88"}]
[129510,123130,1,"Combination",{"v":1897.52,"d":"€1,897.52"},"A010",{"$f":"IFERROR(VLOOKUP(F14066,Discounts!A:C,3,0),0)","v":0},{"v":1897.52,"d":"€1,897.52"}]
[129540,31470,1,"Normal",{"v":133.88,"d":"€133.88"},"LUXE",{"$f":"IFERROR(VLOOKUP(F14075,Discounts!A:C,3,0),0)","v":0},{"v":133.88,"d":"€133.88"}]
[129570,31470,1,"Normal",{"v":133.88,"d":"€133.88"},"LUXE",{"$f":"IFERROR(VLOOKUP(F14084,Discounts!A:C,3,0),0)","v":0},{"v":133.88,"d":"€133.88"}]
[129590,45730,1,"Normal",{"v":41.32,"d":"€41.32"},"LUXE",{"$f":"IFERROR(VLOOKUP(F14093,Discounts!A:C,3,0),0)","v":0},{"v":41.32,"d":"€41.32"}]
[129620,123890,1,"Combination",{"v":2175.21,"d":"€2,175.21"},"A015",{"$f":"IFERROR(VLOOKUP(F14106,Discounts!A:C,3,0),0)","v":0},{"v":2175.21,"d":"€2,175.21"}]
[129680,41600,1,"Normal",{"v":87.6,"d":"€87.60"},"LUXE",{"$f":"IFERROR(VLOOKUP(F14128,Discounts!A:C,3,0),0)","v":0},{"v":87.6,"d":"€87.60"}]
[129680,44940,5,"Normal",{"v":380.15,"d":"€380.15"},"LUXE",{"$f":"IFERROR(VLOOKUP(F14129,Discounts!A:C,3,0),0)","v":0},{"v":380.15,"d":"€380.15"}]
[129730,41610,1,"Normal",{"v":41.32,"d":"€41.32"},"LUXE",{"$f":"IFERROR(VLOOKUP(F14150,Discounts!A:C,3,0),0)","v":0},{"v":41.32,"d":"€41.32"}]
[129760,41620,1,"Normal",{"v":41.32,"d":"€41.32"},"LUXE",{"$f":"IFERROR(VLOOKUP(F14159,Discounts!A:C,3,0),0)","v":0},{"v":41.32,"d":"€41.32"}]
[129800,124060,1,"Combination",{"v":1560.33,"d":"€1,560.33"},"A010",{"$f":"IFERROR(VLOOKUP(F14172,Discounts!A:C,3,0),0)","v":0},{"v":1560.33,"d":"€1,560.33"}]
[129810,124070,1,"Normal",{"v":1357.85,"d":"€1,357.85"},"A015",{"$f":"IFERROR(VLOOKUP(F14177,Discounts!A:C,3,0),0)","v":0},{"v":1357.85,"d":"€1,357.85"}]
[129840,44940,5,"Normal",{"v":380.15,"d":"€380.15"},"LUXE",{"$f":"IFERROR(VLOOKUP(F14191,Discounts!A:C,3,0),0)","v":0},{"v":380.15,"d":"€380.15"}]
[129870,31470,2,"Normal",{"v":267.76,"d":"€267.76"},"LUXE",{"$f":"IFERROR(VLOOKUP(F14204,Discounts!A:C,3,0),0)","v":0},{"v":267.76,"d":"€267.76"}]
[129920,123310,2,"Normal",{"v":4720.66,"d":"€4,720.66"},"A010",{"$f":"IFERROR(VLOOKUP(F14225,Discounts!A:C,3,0),0)","v":0},{"v":4720.66,"d":"€4,720.66"}]
[129930,29720,2,"Normal",{"v":175.2,"d":"€175.20"},"LUXE",{"$f":"IFERROR(VLOOKUP(F14226,Discounts!A:C,3,0),0)","v":0},{"v":175.2,"d":"€175.20"}]
[129990,29910,2,"Normal",{"v":1170.24,"d":"€1,170.24"},"P105",{"$f":"IFERROR(VLOOKUP(F14247,Discounts!A:C,3,0),0)","v":0},{"v":1170.24,"d":"€1,170.24"}]
[130020,31470,2,"Normal",{"v":267.76,"d":"€267.76"},"LUXE",{"$f":"IFERROR(VLOOKUP(F14258,Discounts!A:C,3,0),0)","v":0},{"v":267.76,"d":"€267.76"}]
[130060,31470,2,"Normal",{"v":267.76,"d":"€267.76"},"LUXE",{"$f":"IFERROR(VLOOKUP(F14270,Discounts!A:C,3,0),0)","v":0},{"v":267.76,"d":"€267.76"}]
[130090,29720,2,"Normal",{"v":175.2,"d":"€175.20"},"LUXE",{"$f":"IFERROR(VLOOKUP(F14279,Discounts!A:C,3,0),0)","v":0},{"v":175.2,"d":"€175.20"}]
[130120,31470,2,"Normal",{"v":267.76,"d":"€267.76"},"LUXE",{"$f":"IFERROR(VLOOKUP(F14292,Discounts!A:C,3,0),0)","v":0},{"v":267.76,"d":"€267.76"}]
[130150,31470,2,"Normal",{"v":267.76,"d":"€267.76"},"LUXE",{"$f":"IFERROR(VLOOKUP(F14301,Discounts!A:C,3,0),0)","v":0},{"v":267.76,"d":"€267.76"}]
[130200,118790,2,"Normal",{"v":3664.46,"d":"€3,664.46"},"A010",{"$f":"IFERROR(VLOOKUP(F14320,Discounts!A:C,3,0),0)","v":0},{"v":3664.46,"d":"€3,664.46"}]
[130220,29710,2,"Normal",{"v":82.64,"d":"€82.64"},"LUXE",{"$f":"IFERROR(VLOOKUP(F14324,Discounts!A:C,3,0),0)","v":0},{"v":82.64,"d":"€82.64"}]
[130290,29710,2,"Normal",{"v":82.64,"d":"€82.64"},"LUXE",{"$f":"IFERROR(VLOOKUP(F14345,Discounts!A:C,3,0),0)","v":0},{"v":82.64,"d":"€82.64"}]
[130320,29710,2,"Normal",{"v":82.64,"d":"€82.64"},"LUXE",{"$f":"IFERROR(VLOOKUP(F14354,Discounts!A:C,3,0),0)","v":0},{"v":82.64,"d":"€82.64"}]
[130350,53350,2,"Normal",{"v":398.34,"d":"€398.34"},"LUXE",{"$f":"IFERROR(VLOOKUP(F14367,Discounts!A:C,3,0),0)","v":0},{"v":398.34,"d":"€398.34"}]
[130390,118980,2,"Normal",{"v":3557.02,"d":"€3,557.02"},"A010",{"$f":"IFERROR(VLOOKUP(F14382,Discounts!A:C,3,0),0)","v":0},{"v":3557.02,"d":"€3,557.02"}]
[130420,31640,2,"Normal",{"v":269.42,"d":"€269.42"},"LUXE",{"$f":"IFERROR(VLOOKUP(F14390,Discounts!A:C,3,0),0)","v":0},{"v":269.42,"d":"€269.42"}]
[130450,30460,2,"Normal",{"v":2573.56,"d":"€2,573.56"},"P106",{"$f":"IFERROR(VLOOKUP(F14399,Discounts!A:C,3,0),0)","v":0},{"v":2573.56,"d":"€2,573.56"}]
[130520,29710,2,"Normal",{"v":82.64,"d":"€82.64"},"LUXE",{"$f":"IFERROR(VLOOKUP(F14420,Discounts!A:C,3,0),0)","v":0},{"v":82.64,"d":"€82.64"}]
[130520,30470,2,"Normal",{"v":1672.72,"d":"€1,672.72"},"P106",{"$f":"IFERROR(VLOOKUP(F14421,Discounts!A:C,3,0),0)","v":0},{"v":1672.72,"d":"€1,672.72"}]
[130590,31470,2,"Normal",{"v":267.76,"d":"€267.76"},"LUXE",{"$f":"IFERROR(VLOOKUP(F14442,Discounts!A:C,3,0),0)","v":0},{"v":267.76,"d":"€267.76"}]
[130620,29720,2,"Normal",{"v":175.2,"d":"€175.20"},"LUXE",{"$f":"IFERROR(VLOOKUP(F14450,Discounts!A:C,3,0),0)","v":0},{"v":175.2,"d":"€175.20"}]
[130670,29710,2,"Normal",{"v":82.64,"d":"€82.64"},"LUXE",{"$f":"IFERROR(VLOOKUP(F14465,Discounts!A:C,3,0),0)","v":0},{"v":82.64,"d":"€82.64"}]
[130700,29710,2,"Normal",{"v":82.64,"d":"€82.64"},"LUXE",{"$f":"IFERROR(VLOOKUP(F14474,Discounts!A:C,3,0),0)","v":0},{"v":82.64,"d":"€82.64"}]
[130740,31470,2,"Normal",{"v":267.76,"d":"€267.76"},"LUXE",{"$f":"IFERROR(VLOOKUP(F14487,Discounts!A:C,3,0),0)","v":0},{"v":267.76,"d":"€267.76"}]
[130770,31470,2,"Normal",{"v":267.76,"d":"€267.76"},"LUXE",{"$f":"IFERROR(VLOOKUP(F14496,Discounts!A:C,3,0),0)","v":0},{"v":267.76,"d":"€267.76"}]
[130820,119610,2,"Normal",{"v":4279.34,"d":"€4,279.34"},"A010",{"$f":"IFERROR(VLOOKUP(F14512,Discounts!A:C,3,0),0)","v":0},{"v":4279.34,"d":"€4,279.34"}]
[130850,29710,2,"Normal",{"v":82.64,"d":"€82.64"},"LUXE",{"$f":"IFERROR(VLOOKUP(F14519,Discounts!A:C,3,0),0)","v":0},{"v":82.64,"d":"€82.64"}]
[130910,31470,2,"Normal",{"v":267.76,"d":"€267.76"},"LUXE",{"$f":"IFERROR(VLOOKUP(F14540,Discounts!A:C,3,0),0)","v":0},{"v":267.76,"d":"€267.76"}]
[130940,119740,2,"Normal",{"v":4672.72,"d":"€4,672.72"},"A010",{"$f":"IFERROR(VLOOKUP(F14553,Discounts!A:C,3,0),0)","v":0},{"v":4672.72,"d":"€4,672.72"}]
[130970,29710,2,"Normal",{"v":82.64,"d":"€82.64"},"LUXE",{"$f":"IFERROR(VLOOKUP(F14562,Discounts!A:C,3,0),0)","v":0},{"v":82.64,"d":"€82.64"}]
[131000,29710,2,"Normal",{"v":82.64,"d":"€82.64"},"LUXE",{"$f":"IFERROR(VLOOKUP(F14574,Discounts!A:C,3,0),0)","v":0},{"v":82.64,"d":"€82.64"}]
[131020,119390,2,"Normal",{"v":3009.92,"d":"€3,009.92"},"A010",{"$f":"IFERROR(VLOOKUP(F14585,Discounts!A:C,3,0),0)","v":0},{"v":3009.92,"d":"€3,009.92"}]
[131050,29710,2,"Normal",{"v":82.64,"d":"€82.64"},"LUXE",{"$f":"IFERROR(VLOOKUP(F14594,Discounts!A:C,3,0),0)","v":0},{"$f":"IF(D14594=\"Normal\",E14594*(1-G14594),SUMIF(A:A,B14594,H:H)*C14594)","v":{"v":82.64,"d":"€82.64"}}]
[131100,31470,2,"Normal",{"v":267.76,"d":"€267.76"},"LUXE",{"$f":"IFERROR(VLOOKUP(F14615,Discounts!A:C,3,0),0)","v":0},{"v":267.76,"d":"€267.76"}]
[131100,45730,2,"Normal",{"v":82.64,"d":"€82.64"},"LUXE",{"$f":"IFERROR(VLOOKUP(F14616,Discounts!A:C,3,0),0)","v":0},{"v":82.64,"d":"€82.64"}]
[131150,119520,2,"Normal",{"v":3241.32,"d":"€3,241.32"},"A010",{"$f":"IFERROR(VLOOKUP(F14637,Discounts!A:C,3,0),0)","v":0},{"v":3241.32,"d":"€3,241.32"}]
[131190,31470,2,"Normal",{"v":267.76,"d":"€267.76"},"LUXE",{"$f":"IFERROR(VLOOKUP(F14651,Discounts!A:C,3,0),0)","v":0},{"v":267.76,"d":"€267.76"}]
[131210,45730,2,"Normal",{"v":82.64,"d":"€82.64"},"LUXE",{"$f":"IFERROR(VLOOKUP(F14660,Discounts!A:C,3,0),0)","v":0},{"v":82.64,"d":"€82.64"}]
[131240,29710,2,"Normal",{"v":82.64,"d":"€82.64"},"LUXE",{"$f":"IFERROR(VLOOKUP(F14669,Discounts!A:C,3,0),0)","v":0},{"v":82.64,"d":"€82.64"}]
[131270,31470,2,"Normal",{"v":267.76,"d":"€267.76"},"LUXE",{"$f":"IFERROR(VLOOKUP(F14682,Discounts!A:C,3,0),0)","v":0},{"v":267.76,"d":"€267.76"}]
[131290,45730,2,"Normal",{"v":82.64,"d":"€82.64"},"LUXE",{"$f":"IFERROR(VLOOKUP(F14691,Discounts!A:C,3,0),0)","v":0},{"v":82.64,"d":"€82.64"}]
[131350,29710,2,"Normal",{"v":82.64,"d":"€82.64"},"LUXE",{"$f":"IFERROR(VLOOKUP(F14713,Discounts!A:C,3,0),0)","v":0},{"v":82.64,"d":"€82.64"}]
[131350,31470,2,"Normal",{"v":267.76,"d":"€267.76"},"LUXE",{"$f":"IFERROR(VLOOKUP(F14714,Discounts!A:C,3,0),0)","v":0},{"v":267.76,"d":"€267.76"}]
[131400,45730,2,"Normal",{"v":82.64,"d":"€82.64"},"LUXE",{"$f":"IFERROR(VLOOKUP(F14735,Discounts!A:C,3,0),0)","v":0},{"v":82.64,"d":"€82.64"}]
[131430,119980,2,"Normal",{"v":2796.7,"d":"€2,796.70"},"A010",{"$f":"IFERROR(VLOOKUP(F14748,Discounts!A:C,3,0),0)","v":0},{"v":2796.7,"d":"€2,796.70"}]
[131460,31470,2,"Normal",{"v":267.76,"d":"€267.76"},"LUXE",{"$f":"IFERROR(VLOOKUP(F14757,Discounts!A:C,3,0),0)","v":0},{"v":267.76,"d":"€267.76"}]
[131480,120020,2,"Normal",{"v":2943.8,"d":"€2,943.80"},"A010",{"$f":"IFERROR(VLOOKUP(F14766,Discounts!A:C,3,0),0)","v":0},{"v":2943.8,"d":"€2,943.80"}]
[131520,31470,2,"Normal",{"v":267.76,"d":"€267.76"},"LUXE",{"$f":"IFERROR(VLOOKUP(F14780,Discounts!A:C,3,0),0)","v":0},{"v":267.76,"d":"€267.76"}]
[131540,45730,2,"Normal",{"v":82.64,"d":"€82.64"},"LUXE",{"$f":"IFERROR(VLOOKUP(F14789,Discounts!A:C,3,0),0)","v":0},{"v":82.64,"d":"€82.64"}]
[131570,120110,2,"Normal",{"v":2552.06,"d":"€2,552.06"},"A010",{"$f":"IFERROR(VLOOKUP(F14802,Discounts!A:C,3,0),0)","v":0},{"v":2552.06,"d":"€2,552.06"}]
[131600,29710,2,"Normal",{"v":82.64,"d":"€82.64"},"LUXE",{"$f":"IFERROR(VLOOKUP(F14811,Discounts!A:C,3,0),0)","v":0},{"v":82.64,"d":"€82.64"}]
[131640,31470,2,"Normal",{"v":267.76,"d":"€267.76"},"LUXE",{"$f":"IFERROR(VLOOKUP(F14828,Discounts!A:C,3,0),0)","v":0},{"v":267.76,"d":"€267.76"}]
[131680,120220,2,"Normal",{"v":3175.2,"d":"€3,175.20"},"A010",{"$f":"IFERROR(VLOOKUP(F14846,Discounts!A:C,3,0),0)","v":0},{"v":3175.2,"d":"€3,175.20"}]
[131710,29710,2,"Normal",{"v":82.64,"d":"€82.64"},"LUXE",{"$f":"IFERROR(VLOOKUP(F14855,Discounts!A:C,3,0),0)","v":0},{"v":82.64,"d":"€82.64"}]
[131730,31470,2,"Normal",{"v":267.76,"d":"€267.76"},"LUXE",{"$f":"IFERROR(VLOOKUP(F14864,Discounts!A:C,3,0),0)","v":0},{"v":267.76,"d":"€267.76"}]
[131780,29710,2,"Normal",{"v":82.64,"d":"€82.64"},"LUXE",{"$f":"IFERROR(VLOOKUP(F14877,Discounts!A:C,3,0),0)","v":0},{"v":82.64,"d":"€82.64"}]
[131800,118510,2,"Normal",{"v":5585.12,"d":"€5,585.12"},"A010",{"$f":"IFERROR(VLOOKUP(F14886,Discounts!A:C,3,0),0)","v":0},{"v":5585.12,"d":"€5,585.12"}]
[131860,123290,2,"Normal",{"v":4550.42,"d":"€4,550.42"},"A010",{"$f":"IFERROR(VLOOKUP(F14905,Discounts!A:C,3,0),0)","v":0},{"v":4550.42,"d":"€4,550.42"}]
[131880,29710,2,"Normal",{"v":82.64,"d":"€82.64"},"LUXE",{"$f":"IFERROR(VLOOKUP(F14909,Discounts!A:C,3,0),0)","v":0},{"v":82.64,"d":"€82.64"}]
[131940,45730,2,"Normal",{"v":82.64,"d":"€82.64"},"LUXE",{"$f":"IFERROR(VLOOKUP(F14930,Discounts!A:C,3,0),0)","v":0},{"v":82.64,"d":"€82.64"}]
[131980,29720,2,"Normal",{"v":175.2,"d":"€175.20"},"LUXE",{"$f":"IFERROR(VLOOKUP(F14943,Discounts!A:C,3,0),0)","v":0},{"v":175.2,"d":"€175.20"}]
[132030,120480,2,"Normal",{"v":1636.36,"d":"€1,636.36"},"C010",{"$f":"IFERROR(VLOOKUP(F14952,Discounts!A:C,3,0),0)","v":0},{"v":1636.36,"d":"€1,636.36"}]
[132310,31920,1,"Normal",{"v":115.7,"d":"€115.70"},"SD/SG",{"$f":"IFERROR(VLOOKUP(F14967,Discounts!A:C,3,0),0)","v":0},{"v":115.7,"d":"€115.70"}]
[132320,48600,1,"Normal",{"v":19.83,"d":"€19.83"},"SD/SG",{"$f":"IFERROR(VLOOKUP(F14975,Discounts!A:C,3,0),0)","v":0},{"v":19.83,"d":"€19.83"}]
[132340,40520,1,"Normal",{"v":64.46,"d":"€64.46"},"SD/SG",{"$f":"IFERROR(VLOOKUP(F14984,Discounts!A:C,3,0),0)","v":0},{"v":64.46,"d":"€64.46"}]
[132380,31920,1,"Normal",{"v":115.7,"d":"€115.70"},"SD/SG",{"$f":"IFERROR(VLOOKUP(F14997,Discounts!A:C,3,0),0)","v":0},{"v":115.7,"d":"€115.70"}]
[132400,33990,1,"Normal",{"v":102.48,"d":"€102.48"},"SD/SG",{"$f":"IFERROR(VLOOKUP(F15006,Discounts!A:C,3,0),0)","v":0},{"v":102.48,"d":"€102.48"}]
[132430,31920,1,"Normal",{"v":115.7,"d":"€115.70"},"SD/SG",{"$f":"IFERROR(VLOOKUP(F15020,Discounts!A:C,3,0),0)","v":0},{"v":115.7,"d":"€115.70"}]
[132480,57380,1,"Normal",{"v":928.1,"d":"€928.10"},"E012",{"$f":"IFERROR(VLOOKUP(F15041,Discounts!A:C,3,0),0)","v":0},{"v":928.1,"d":"€928.10"}]
[132510,31920,1,"Normal",{"v":115.7,"d":"€115.70"},"SD/SG",{"$f":"IFERROR(VLOOKUP(F15050,Discounts!A:C,3,0),0)","v":0},{"v":115.7,"d":"€115.70"}]
[132560,34000,2,"Normal",{"v":251.24,"d":"€251.24"},"SD/SG",{"$f":"IFERROR(VLOOKUP(F15063,Discounts!A:C,3,0),0)","v":0},{"v":251.24,"d":"€251.24"}]
[132610,29710,2,"Normal",{"v":82.64,"d":"€82.64"},"LUXE",{"$f":"IFERROR(VLOOKUP(F15072,Discounts!A:C,3,0),0)","v":0},{"v":82.64,"d":"€82.64"}]
[132660,120370,2,"Normal",{"v":1085.96,"d":"€1,085.96"},"C010",{"$f":"IFERROR(VLOOKUP(F15081,Discounts!A:C,3,0),0)","v":0},{"v":1085.96,"d":"€1,085.96"}]
[132740,120870,2,"Normal",{"v":1723.96,"d":"€1,723.96"},"C010",{"$f":"IFERROR(VLOOKUP(F15097,Discounts!A:C,3,0),0)","v":0},{"v":1723.96,"d":"€1,723.96"}]
[132770,137810,2,"Normal",{"v":231.4,"d":"€231.40"},"LUXE",{"$f":"IFERROR(VLOOKUP(F15104,Discounts!A:C,3,0),0)","v":0},{"v":231.4,"d":"€231.40"}]
[132850,29710,2,"Normal",{"v":82.64,"d":"€82.64"},"LUXE",{"$f":"IFERROR(VLOOKUP(F15125,Discounts!A:C,3,0),0)","v":0},{"v":82.64,"d":"€82.64"}]
[132970,105700,2,"Normal",{"v":135.96,"d":"€135.96"},"LUXE",{"$f":"IFERROR(VLOOKUP(F15138,Discounts!A:C,3,0),0)","v":0},{"v":135.96,"d":"€135.96"}]
[133000,107130,2,"Normal",{"v":368.86,"d":"€368.86"},"P109",{"$f":"IFERROR(VLOOKUP(F15147,Discounts!A:C,3,0),0)","v":0},{"v":368.86,"d":"€368.86"}]
[133040,107070,2,"Normal",{"v":368.86,"d":"€368.86"},"P109",{"$f":"IFERROR(VLOOKUP(F15159,Discounts!A:C,3,0),0)","v":0},{"v":368.86,"d":"€368.86"}]
[133080,107010,2,"Normal",{"v":1214.46,"d":"€1,214.46"},"B015",{"$f":"IFERROR(VLOOKUP(F15170,Discounts!A:C,3,0),0)","v":0},{"$f":"IF(D15170=\"Normal\",E15170*(1-G15170),SUMIF(A:A,B15170,H:H)*C15170)","v":{"v":1214.46,"d":"€1,214.46"}}]
[133120,104220,1,"Normal",{"v":399.45,"d":"€399.45"},"B015",{"$f":"IFERROR(VLOOKUP(F15179,Discounts!A:C,3,0),0)","v":0},{"v":399.45,"d":"€399.45"}]
[133180,105550,1,"Normal",{"v":270.25,"d":"€270.25"},"P109",{"$f":"IFERROR(VLOOKUP(F15192,Discounts!A:C,3,0),0)","v":0},{"v":270.25,"d":"€270.25"}]
[133230,104220,2,"Normal",{"v":798.9,"d":"€798.90"},"B015",{"$f":"IFERROR(VLOOKUP(F15201,Discounts!A:C,3,0),0)","v":0},{"v":798.9,"d":"€798.90"}]
[134130,43810,1,"Normal",{"v":275.21,"d":"€275.21"},"P106",{"$f":"IFERROR(VLOOKUP(F15221,Discounts!A:C,3,0),0)","v":0},{"v":275.21,"d":"€275.21"}]
[134290,31920,2,"Normal",{"v":231.4,"d":"€231.40"},"SD/SG",{"$f":"IFERROR(VLOOKUP(F15236,Discounts!A:C,3,0),0)","v":0},{"v":231.4,"d":"€231.40"}]
[134320,31920,2,"Normal",{"v":231.4,"d":"€231.40"},"SD/SG",{"$f":"IFERROR(VLOOKUP(F15245,Discounts!A:C,3,0),0)","v":0},{"v":231.4,"d":"€231.40"}]
[134360,56140,1,"Normal",{"v":1951.24,"d":"€1,951.24"},"E021",{"$f":"IFERROR(VLOOKUP(F15258,Discounts!A:C,3,0),0)","v":0},{"v":1951.24,"d":"€1,951.24"}]
[134390,44440,2,"Normal",{"v":190.08,"d":"€190.08"},"SD/SG",{"$f":"IFERROR(VLOOKUP(F15267,Discounts!A:C,3,0),0)","v":0},{"v":190.08,"d":"€190.08"}]
[134420,31920,2,"Normal",{"v":231.4,"d":"€231.40"},"SD/SG",{"$f":"IFERROR(VLOOKUP(F15274,Discounts!A:C,3,0),0)","v":0},{"v":231.4,"d":"€231.40"}]
[134470,31920,2,"Normal",{"v":231.4,"d":"€231.40"},"SD/SG",{"$f":"IFERROR(VLOOKUP(F15290,Discounts!A:C,3,0),0)","v":0},{"v":231.4,"d":"€231.40"}]
[134500,44440,2,"Normal",{"v":190.08,"d":"€190.08"},"SD/SG",{"$f":"IFERROR(VLOOKUP(F15299,Discounts!A:C,3,0),0)","v":0},{"v":190.08,"d":"€190.08"}]
[134540,44440,2,"Normal",{"v":190.08,"d":"€190.08"},"SD/SG",{"$f":"IFERROR(VLOOKUP(F15312,Discounts!A:C,3,0),0)","v":0},{"v":190.08,"d":"€190.08"}]
[134610,44440,2,"Normal",{"v":190.08,"d":"€190.08"},"SD/SG",{"$f":"IFERROR(VLOOKUP(F15333,Discounts!A:C,3,0),0)","v":0},{"v":190.08,"d":"€190.08"}]
[134640,44440,2,"Normal",{"v":190.08,"d":"€190.08"},"SD/SG",{"$f":"IFERROR(VLOOKUP(F15342,Discounts!A:C,3,0),0)","v":0},{"v":190.08,"d":"€190.08"}]
[134670,56120,1,"Normal",{"v":1244.63,"d":"€1,244.63"},"E020",{"$f":"IFERROR(VLOOKUP(F15351,Discounts!A:C,3,0),0)","v":0},{"v":1244.63,"d":"€1,244.63"}]
[134720,31920,2,"Normal",{"v":231.4,"d":"€231.40"},"SD/SG",{"$f":"IFERROR(VLOOKUP(F15365,Discounts!A:C,3,0),0)","v":0},{"v":231.4,"d":"€231.40"}]
[134850,134820,1,"Normal",{"v":343.8,"d":"€343.80"},"SD/SG",{"$f":"IFERROR(VLOOKUP(F15378,Discounts!A:C,3,0),0)","v":0},{"v":343.8,"d":"€343.80"}]
[134880,32060,2,"Normal",{"v":231.4,"d":"€231.40"},"SD/SG",{"$f":"IFERROR(VLOOKUP(F15387,Discounts!A:C,3,0),0)","v":0},{"v":231.4,"d":"€231.40"}]
[134900,32060,2,"Normal",{"v":231.4,"d":"€231.40"},"SD/SG",{"$f":"IFERROR(VLOOKUP(F15396,Discounts!A:C,3,0),0)","v":0},{"v":231.4,"d":"€231.40"}]
[135100,31920,1,"Normal",{"v":115.7,"d":"€115.70"},"SD/SG",{"$f":"IFERROR(VLOOKUP(F15413,Discounts!A:C,3,0),0)","v":0},{"v":115.7,"d":"€115.70"}]
[135290,21360,1,"Normal",{"v":489.26,"d":"€489.26"},"A010",{"$f":"IFERROR(VLOOKUP(F15431,Discounts!A:C,3,0),0)","v":0},{"v":489.26,"d":"€489.26"}]
[135330,137810,1,"Normal",{"v":115.7,"d":"€115.70"},"LUXE",{"$f":"IFERROR(VLOOKUP(F15440,Discounts!A:C,3,0),0)","v":0},{"v":115.7,"d":"€115.70"}]
[135400,21470,1,"Normal",{"v":619.01,"d":"€619.01"},"C010",{"$f":"IFERROR(VLOOKUP(F15453,Discounts!A:C,3,0),0)","v":0},{"v":619.01,"d":"€619.01"}]
[135440,137810,1,"Normal",{"v":115.7,"d":"€115.70"},"LUXE",{"$f":"IFERROR(VLOOKUP(F15462,Discounts!A:C,3,0),0)","v":0},{"v":115.7,"d":"€115.70"}]
[135510,21580,1,"Normal",{"v":831.4,"d":"€831.40"},"C010",{"$f":"IFERROR(VLOOKUP(F15475,Discounts!A:C,3,0),0)","v":0},{"v":831.4,"d":"€831.40"}]
[135560,22330,1,"Normal",{"v":917.36,"d":"€917.36"},"C010",{"$f":"IFERROR(VLOOKUP(F15485,Discounts!A:C,3,0),0)","v":0},{"v":917.36,"d":"€917.36"}]
[135600,137810,1,"Normal",{"v":115.7,"d":"€115.70"},"LUXE",{"$f":"IFERROR(VLOOKUP(F15494,Discounts!A:C,3,0),0)","v":0},{"v":115.7,"d":"€115.70"}]
[135670,120290,1,"Normal",{"v":464.46,"d":"€464.46"},"C010",{"$f":"IFERROR(VLOOKUP(F15507,Discounts!A:C,3,0),0)","v":0},{"v":464.46,"d":"€464.46"}]
[135770,137810,1,"Normal",{"v":115.7,"d":"€115.70"},"LUXE",{"$f":"IFERROR(VLOOKUP(F15528,Discounts!A:C,3,0),0)","v":0},{"v":115.7,"d":"€115.70"}]
[135820,120440,1,"Normal",{"v":831.4,"d":"€831.40"},"C010",{"$f":"IFERROR(VLOOKUP(F15537,Discounts!A:C,3,0),0)","v":0},{"v":831.4,"d":"€831.40"}]
[135850,120470,1,"Normal",{"v":754.55,"d":"€754.55"},"C010",{"$f":"IFERROR(VLOOKUP(F15543,Discounts!A:C,3,0),0)","v":0},{"v":754.55,"d":"€754.55"}]
[135930,137810,1,"Normal",{"v":115.7,"d":"€115.70"},"LUXE",{"$f":"IFERROR(VLOOKUP(F15560,Discounts!A:C,3,0),0)","v":0},{"v":115.7,"d":"€115.70"}]
[136000,120910,1,"Normal",{"v":797.52,"d":"€797.52"},"C010",{"$f":"IFERROR(VLOOKUP(F15573,Discounts!A:C,3,0),0)","v":0},{"v":797.52,"d":"€797.52"}]
[136040,137810,1,"Normal",{"v":115.7,"d":"€115.70"},"LUXE",{"$f":"IFERROR(VLOOKUP(F15582,Discounts!A:C,3,0),0)","v":0},{"v":115.7,"d":"€115.70"}]
[136160,53080,1,"Normal",{"v":132.23,"d":"€132.23"},"LUXE",{"$f":"IFERROR(VLOOKUP(F15591,Discounts!A:C,3,0),0)","v":0},{"v":132.23,"d":"€132.23"}]
[136240,41640,1,"Normal",{"v":114.88,"d":"€114.88"},"LUXE",{"$f":"IFERROR(VLOOKUP(F15605,Discounts!A:C,3,0),0)","v":0},{"v":114.88,"d":"€114.88"}]
[136370,137810,1,"Normal",{"v":115.7,"d":"€115.70"},"LUXE",{"$f":"IFERROR(VLOOKUP(F15626,Discounts!A:C,3,0),0)","v":0},{"v":115.7,"d":"€115.70"}]
[136440,21930,1,"Combination",{"v":990.09,"d":"€990.09"},"",{"$f":"IFERROR(VLOOKUP(F15639,Discounts!A:C,3,0),0)","v":0},{"v":990.09,"d":"€990.09"}]
[136480,137810,1,"Normal",{"v":115.7,"d":"€115.70"},"LUXE",{"$f":"IFERROR(VLOOKUP(F15648,Discounts!A:C,3,0),0)","v":0},{"v":115.7,"d":"€115.70"}]
[136530,120640,1,"Combination",{"v":977.69,"d":"€977.69"},"C010",{"$f":"IFERROR(VLOOKUP(F15657,Discounts!A:C,3,0),0)","v":0},{"v":977.69,"d":"€977.69"}]
[136580,22000,1,"Combination",{"v":1004.14,"d":"€1,004.14"},"",{"$f":"IFERROR(VLOOKUP(F15667,Discounts!A:C,3,0),0)","v":0},{"v":1004.14,"d":"€1,004.14"}]
[136640,137810,1,"Normal",{"v":115.7,"d":"€115.70"},"LUXE",{"$f":"IFERROR(VLOOKUP(F15680,Discounts!A:C,3,0),0)","v":0},{"v":115.7,"d":"€115.70"}]
[136690,120720,1,"Combination",{"v":868.6,"d":"€868.60"},"C010",{"$f":"IFERROR(VLOOKUP(F15689,Discounts!A:C,3,0),0)","v":0},{"v":868.6,"d":"€868.60"}]
[136750,137810,1,"Normal",{"v":115.7,"d":"€115.70"},"LUXE",{"$f":"IFERROR(VLOOKUP(F15702,Discounts!A:C,3,0),0)","v":0},{"v":115.7,"d":"€115.70"}]
[136860,22140,1,"Combination",{"v":1056.2,"d":"€1,056.20"},"",{"$f":"IFERROR(VLOOKUP(F15723,Discounts!A:C,3,0),0)","v":0},{"v":1056.2,"d":"€1,056.20"}]
[136890,120820,1,"Combination",{"v":868.6,"d":"€868.60"},"C010",{"$f":"IFERROR(VLOOKUP(F15729,Discounts!A:C,3,0),0)","v":0},{"v":868.6,"d":"€868.60"}]
[136970,137810,1,"Normal",{"v":115.7,"d":"€115.70"},"LUXE",{"$f":"IFERROR(VLOOKUP(F15746,Discounts!A:C,3,0),0)","v":0},{"$f":"IF(D15746=\"Normal\",E15746*(1-G15746),SUMIF(A:A,B15746,H:H)*C15746)","v":{"v":115.7,"d":"€115.70"}}]
[137020,22580,1,"Combination",{"v":1187.61,"d":"€1,187.61"},"",{"$f":"IFERROR(VLOOKUP(F15755,Discounts!A:C,3,0),0)","v":0},{"v":1187.61,"d":"€1,187.61"}]
[137080,137810,1,"Normal",{"v":115.7,"d":"€115.70"},"LUXE",{"$f":"IFERROR(VLOOKUP(F15768,Discounts!A:C,3,0),0)","v":0},{"v":115.7,"d":"€115.70"}]
[137130,121060,1,"Combination",{"v":1187.61,"d":"€1,187.61"},"C010",{"$f":"IFERROR(VLOOKUP(F15777,Discounts!A:C,3,0),0)","v":0},{"v":1187.61,"d":"€1,187.61"}]
[137190,137810,2,"Normal",{"v":231.4,"d":"€231.40"},"LUXE",{"$f":"IFERROR(VLOOKUP(F15790,Discounts!A:C,3,0),0)","v":0},{"v":231.4,"d":"€231.40"}]
[137290,137810,2,"Normal",{"v":231.4,"d":"€231.40"},"LUXE",{"$f":"IFERROR(VLOOKUP(F15810,Discounts!A:C,3,0),0)","v":0},{"$f":"IF(D15810=\"Normal\",E15810*(1-G15810),SUMIF(A:A,B15810,H:H)*C15810)","v":{"v":231.4,"d":"€231.40"}}]
[137350,22140,2,"Combination",{"v":2112.4,"d":"€2,112.40"},"",{"$f":"IFERROR(VLOOKUP(F15821,Discounts!A:C,3,0),0)","v":0},{"v":2112.4,"d":"€2,112.40"}]
[137410,137810,2,"Normal",{"v":231.4,"d":"€231.40"},"LUXE",{"$f":"IFERROR(VLOOKUP(F15834,Discounts!A:C,3,0),0)","v":0},{"v":231.4,"d":"€231.40"}]
[137460,121200,1,"Normal",{"v":1789.26,"d":"€1,789.26"},"C010",{"$f":"IFERROR(VLOOKUP(F15843,Discounts!A:C,3,0),0)","v":0},{"v":1789.26,"d":"€1,789.26"}]
[137500,137810,2,"Normal",{"v":231.4,"d":"€231.40"},"LUXE",{"$f":"IFERROR(VLOOKUP(F15852,Discounts!A:C,3,0),0)","v":0},{"v":231.4,"d":"€231.40"}]
[137540,121220,1,"Normal",{"v":1947.93,"d":"€1,947.93"},"C010",{"$f":"IFERROR(VLOOKUP(F15859,Discounts!A:C,3,0),0)","v":0},{"v":1947.93,"d":"€1,947.93"}]
[137620,121240,1,"Normal",{"v":1871.07,"d":"€1,871.07"},"C010",{"$f":"IFERROR(VLOOKUP(F15875,Discounts!A:C,3,0),0)","v":0},{"v":1871.07,"d":"€1,871.07"}]
[137970,137920,1,"Normal",{"v":1461.16,"d":"€1,461.16"},"A010",{"$f":"IFERROR(VLOOKUP(F15888,Discounts!A:C,3,0),0)","v":0},{"v":1461.16,"d":"€1,461.16"}]
[138020,34260,1,"Normal",{"v":249.59,"d":"€249.59"},"LUXE",{"$f":"IFERROR(VLOOKUP(F15897,Discounts!A:C,3,0),0)","v":0},{"v":249.59,"d":"€249.59"}]
[138100,41620,1,"Normal",{"v":41.32,"d":"€41.32"},"LUXE",{"$f":"IFERROR(VLOOKUP(F15918,Discounts!A:C,3,0),0)","v":0},{"v":41.32,"d":"€41.32"}]
[138110,41620,1,"Normal",{"v":41.32,"d":"€41.32"},"LUXE",{"$f":"IFERROR(VLOOKUP(F15921,Discounts!A:C,3,0),0)","v":0},{"v":41.32,"d":"€41.32"}]
[138180,34260,1,"Normal",{"v":249.59,"d":"€249.59"},"LUXE",{"$f":"IFERROR(VLOOKUP(F15941,Discounts!A:C,3,0),0)","v":0},{"v":249.59,"d":"€249.59"}]
[138220,31470,1,"Normal",{"v":133.88,"d":"€133.88"},"LUXE",{"$f":"IFERROR(VLOOKUP(F15950,Discounts!A:C,3,0),0)","v":0},{"v":133.88,"d":"€133.88"}]
[138260,41620,1,"Normal",{"v":41.32,"d":"€41.32"},"LUXE",{"$f":"IFERROR(VLOOKUP(F15963,Discounts!A:C,3,0),0)","v":0},{"v":41.32,"d":"€41.32"}]
[138290,41620,1,"Normal",{"v":41.32,"d":"€41.32"},"LUXE",{"$f":"IFERROR(VLOOKUP(F15972,Discounts!A:C,3,0),0)","v":0},{"v":41.32,"d":"€41.32"}]
[138330,40450,1,"Normal",{"v":13.22,"d":"€13.22"},"SD/SG",{"$f":"IFERROR(VLOOKUP(F15985,Discounts!A:C,3,0),0)","v":0},{"v":13.22,"d":"€13.22"}]
[138380,31920,1,"Normal",{"v":115.7,"d":"€115.70"},"SD/SG",{"$f":"IFERROR(VLOOKUP(F16002,Discounts!A:C,3,0),0)","v":0},{"$f":"IF(D16002=\"Normal\",E16002*(1-G16002),SUMIF(A:A,B16002,H:H)*C16002)","v":{"v":115.7,"d":"€115.70"}}]
[138410,56710,1,"Normal",{"v":447.93,"d":"€447.93"},"E010",{"$f":"IFERROR(VLOOKUP(F16016,Discounts!A:C,3,0),0)","v":0},{"v":447.93,"d":"€447.93"}]
[138450,40450,1,"Normal",{"v":13.22,"d":"€13.22"},"SD/SG",{"$f":"IFERROR(VLOOKUP(F16029,Discounts!A:C,3,0),0)","v":0},{"v":13.22,"d":"€13.22"}]
[138470,56730,1,"Normal",{"v":508.26,"d":"€508.26"},"E010",{"$f":"IFERROR(VLOOKUP(F16038,Discounts!A:C,3,0),0)","v":0},{"v":508.26,"d":"€508.26"}]
[138510,40450,1,"Normal",{"v":13.22,"d":"€13.22"},"SD/SG",{"$f":"IFERROR(VLOOKUP(F16051,Discounts!A:C,3,0),0)","v":0},{"v":13.22,"d":"€13.22"}]
[138550,31920,1,"Normal",{"v":115.7,"d":"€115.70"},"SD/SG",{"$f":"IFERROR(VLOOKUP(F16064,Discounts!A:C,3,0),0)","v":0},{"v":115.7,"d":"€115.70"}]
[138560,56270,1,"Normal",{"v":637.19,"d":"€637.19"},"E010",{"$f":"IFERROR(VLOOKUP(F16070,Discounts!A:C,3,0),0)","v":0},{"v":637.19,"d":"€637.19"}]
[138600,40450,1,"Normal",{"v":13.22,"d":"€13.22"},"SD/SG",{"$f":"IFERROR(VLOOKUP(F16083,Discounts!A:C,3,0),0)","v":0},{"v":13.22,"d":"€13.22"}]
[138620,40450,1,"Normal",{"v":13.22,"d":"€13.22"},"SD/SG",{"$f":"IFERROR(VLOOKUP(F16092,Discounts!A:C,3,0),0)","v":0},{"v":13.22,"d":"€13.22"}]
[138670,40450,1,"Normal",{"v":13.22,"d":"€13.22"},"SD/SG",{"$f":"IFERROR(VLOOKUP(F16113,Discounts!A:C,3,0),0)","v":0},{"v":13.22,"d":"€13.22"}]
[138700,56800,1,"Normal",{"v":599.17,"d":"€599.17"},"E012",{"$f":"IFERROR(VLOOKUP(F16126,Discounts!A:C,3,0),0)","v":0},{"v":599.17,"d":"€599.17"}]
[138730,40450,1,"Normal",{"v":13.22,"d":"€13.22"},"SD/SG",{"$f":"IFERROR(VLOOKUP(F16136,Discounts!A:C,3,0),0)","v":0},{"v":13.22,"d":"€13.22"}]
[138760,55640,1,"Normal",{"v":618.18,"d":"€618.18"},"E012",{"$f":"IFERROR(VLOOKUP(F16149,Discounts!A:C,3,0),0)","v":0},{"v":618.18,"d":"€618.18"}]
[138790,34000,1,"Normal",{"v":125.62,"d":"€125.62"},"SD/SG",{"$f":"IFERROR(VLOOKUP(F16158,Discounts!A:C,3,0),0)","v":0},{"v":125.62,"d":"€125.62"}]
[138810,31920,1,"Normal",{"v":115.7,"d":"€115.70"},"SD/SG",{"$f":"IFERROR(VLOOKUP(F16167,Discounts!A:C,3,0),0)","v":0},{"v":115.7,"d":"€115.70"}]
[138840,40450,1,"Normal",{"v":13.22,"d":"€13.22"},"SD/SG",{"$f":"IFERROR(VLOOKUP(F16180,Discounts!A:C,3,0),0)","v":0},{"v":13.22,"d":"€13.22"}]
[138880,40450,1,"Normal",{"v":13.22,"d":"€13.22"},"SD/SG",{"$f":"IFERROR(VLOOKUP(F16194,Discounts!A:C,3,0),0)","v":0},{"$f":"IF(D16194=\"Normal\",E16194*(1-G16194),SUMIF(A:A,B16194,H:H)*C16194)","v":{"v":13.22,"d":"€13.22"}}]
[138920,40450,1,"Normal",{"v":13.22,"d":"€13.22"},"SD/SG",{"$f":"IFERROR(VLOOKUP(F16211,Discounts!A:C,3,0),0)","v":0},{"v":13.22,"d":"€13.22"}]
[138950,56860,1,"Normal",{"v":895.04,"d":"€895.04"},"E012",{"$f":"IFERROR(VLOOKUP(F16224,Discounts!A:C,3,0),0)","v":0},{"v":895.04,"d":"€895.04"}]
[138980,40450,1,"Normal",{"v":13.22,"d":"€13.22"},"SD/SG",{"$f":"IFERROR(VLOOKUP(F16233,Discounts!A:C,3,0),0)","v":0},{"v":13.22,"d":"€13.22"}]
[139020,31920,1,"Normal",{"v":115.7,"d":"€115.70"},"SD/SG",{"$f":"IFERROR(VLOOKUP(F16246,Discounts!A:C,3,0),0)","v":0},{"v":115.7,"d":"€115.70"}]
[139050,31920,1,"Normal",{"v":115.7,"d":"€115.70"},"SD/SG",{"$f":"IFERROR(VLOOKUP(F16256,Discounts!A:C,3,0),0)","v":0},{"v":115.7,"d":"€115.70"}]
[139070,31920,1,"Normal",{"v":115.7,"d":"€115.70"},"SD/SG",{"$f":"IFERROR(VLOOKUP(F16265,Discounts!A:C,3,0),0)","v":0},{"v":115.7,"d":"€115.70"}]
[139100,56580,1,"Combination",{"v":585.95,"d":"€585.95"},"E015",{"$f":"IFERROR(VLOOKUP(F16278,Discounts!A:C,3,0),0)","v":0},{"v":585.95,"d":"€585.95"}]
[139130,40450,2,"Normal",{"v":26.44,"d":"€26.44"},"SD/SG",{"$f":"IFERROR(VLOOKUP(F16287,Discounts!A:C,3,0),0)","v":0},{"v":26.44,"d":"€26.44"}]
[139170,31920,1,"Normal",{"v":115.7,"d":"€115.70"},"SD/SG",{"$f":"IFERROR(VLOOKUP(F16300,Discounts!A:C,3,0),0)","v":0},{"v":115.7,"d":"€115.70"}]
[139210,40530,1,"Normal",{"v":88.43,"d":"€88.43"},"SD/SG",{"$f":"IFERROR(VLOOKUP(F16318,Discounts!A:C,3,0),0)","v":0},{"v":88.43,"d":"€88.43"}]
[139250,40450,2,"Normal",{"v":26.44,"d":"€26.44"},"SD/SG",{"$f":"IFERROR(VLOOKUP(F16331,Discounts!A:C,3,0),0)","v":0},{"v":26.44,"d":"€26.44"}]
[139290,31920,1,"Normal",{"v":115.7,"d":"€115.70"},"SD/SG",{"$f":"IFERROR(VLOOKUP(F16344,Discounts!A:C,3,0),0)","v":0},{"v":115.7,"d":"€115.70"}]
[139310,40530,1,"Normal",{"v":88.43,"d":"€88.43"},"SD/SG",{"$f":"IFERROR(VLOOKUP(F16353,Discounts!A:C,3,0),0)","v":0},{"v":88.43,"d":"€88.43"}]
[139340,31920,1,"Normal",{"v":115.7,"d":"€115.70"},"SD/SG",{"$f":"IFERROR(VLOOKUP(F16362,Discounts!A:C,3,0),0)","v":0},{"v":115.7,"d":"€115.70"}]
[139390,40450,3,"Normal",{"v":39.66,"d":"€39.66"},"SD/SG",{"$f":"IFERROR(VLOOKUP(F16380,Discounts!A:C,3,0),0)","v":0},{"v":39.66,"d":"€39.66"}]
[139400,57220,1,"Normal",{"v":775.21,"d":"€775.21"},"E012",{"$f":"IFERROR(VLOOKUP(F16385,Discounts!A:C,3,0),0)","v":0},{"v":775.21,"d":"€775.21"}]
[139440,40450,3,"Normal",{"v":39.66,"d":"€39.66"},"SD/SG",{"$f":"IFERROR(VLOOKUP(F16398,Discounts!A:C,3,0),0)","v":0},{"v":39.66,"d":"€39.66"}]
[139500,40450,4,"Normal",{"v":52.88,"d":"€52.88"},"SD/SG",{"$f":"IFERROR(VLOOKUP(F16419,Discounts!A:C,3,0),0)","v":0},{"v":52.88,"d":"€52.88"}]
[139530,31920,1,"Normal",{"v":115.7,"d":"€115.70"},"SD/SG",{"$f":"IFERROR(VLOOKUP(F16428,Discounts!A:C,3,0),0)","v":0},{"v":115.7,"d":"€115.70"}]
[139560,57260,1,"Normal",{"v":875.21,"d":"€875.21"},"E012",{"$f":"IFERROR(VLOOKUP(F16441,Discounts!A:C,3,0),0)","v":0},{"v":875.21,"d":"€875.21"}]
[139580,56400,1,"Normal",{"v":849.59,"d":"€849.59"},"E012",{"$f":"IFERROR(VLOOKUP(F16448,Discounts!A:C,3,0),0)","v":0},{"v":849.59,"d":"€849.59"}]
[139630,40450,4,"Normal",{"v":52.88,"d":"€52.88"},"SD/SG",{"$f":"IFERROR(VLOOKUP(F16464,Discounts!A:C,3,0),0)","v":0},{"v":52.88,"d":"€52.88"}]
[139650,55730,1,"Normal",{"v":529.75,"d":"€529.75"},"E015",{"$f":"IFERROR(VLOOKUP(F16473,Discounts!A:C,3,0),0)","v":0},{"v":529.75,"d":"€529.75"}]
[139680,40450,2,"Normal",{"v":26.44,"d":"€26.44"},"SD/SG",{"$f":"IFERROR(VLOOKUP(F16482,Discounts!A:C,3,0),0)","v":0},{"v":26.44,"d":"€26.44"}]
[139720,31920,1,"Normal",{"v":115.7,"d":"€115.70"},"SD/SG",{"$f":"IFERROR(VLOOKUP(F16495,Discounts!A:C,3,0),0)","v":0},{"v":115.7,"d":"€115.70"}]
[139760,40450,4,"Normal",{"v":52.88,"d":"€52.88"},"SD/SG",{"$f":"IFERROR(VLOOKUP(F16510,Discounts!A:C,3,0),0)","v":0},{"v":52.88,"d":"€52.88"}]
[139810,31920,1,"Normal",{"v":115.7,"d":"€115.70"},"SD/SG",{"$f":"IFERROR(VLOOKUP(F16526,Discounts!A:C,3,0),0)","v":0},{"v":115.7,"d":"€115.70"}]
[139840,57030,1,"Normal",{"v":783.47,"d":"€783.47"},"E012",{"$f":"IFERROR(VLOOKUP(F16539,Discounts!A:C,3,0),0)","v":0},{"v":783.47,"d":"€783.47"}]
[139870,40450,3,"Normal",{"v":39.66,"d":"€39.66"},"SD/SG",{"$f":"IFERROR(VLOOKUP(F16548,Discounts!A:C,3,0),0)","v":0},{"v":39.66,"d":"€39.66"}]
[139910,31920,1,"Normal",{"v":115.7,"d":"€115.70"},"SD/SG",{"$f":"IFERROR(VLOOKUP(F16561,Discounts!A:C,3,0),0)","v":0},{"v":115.7,"d":"€115.70"}]
[139940,31920,1,"Normal",{"v":115.7,"d":"€115.70"},"SD/SG",{"$f":"IFERROR(VLOOKUP(F16572,Discounts!A:C,3,0),0)","v":0},{"v":115.7,"d":"€115.70"}]
[139960,40450,2,"Normal",{"v":26.44,"d":"€26.44"},"SD/SG",{"$f":"IFERROR(VLOOKUP(F16580,Discounts!A:C,3,0),0)","v":0},{"v":26.44,"d":"€26.44"}]
[140000,31920,1,"Normal",{"v":115.7,"d":"€115.70"},"SD/SG",{"$f":"IFERROR(VLOOKUP(F16593,Discounts!A:C,3,0),0)","v":0},{"v":115.7,"d":"€115.70"}]
[140050,56190,1,"Normal",{"v":819.01,"d":"€819.01"},"E015",{"$f":"IFERROR(VLOOKUP(F16614,Discounts!A:C,3,0),0)","v":0},{"v":819.01,"d":"€819.01"}]
[140080,31920,1,"Normal",{"v":115.7,"d":"€115.70"},"SD/SG",{"$f":"IFERROR(VLOOKUP(F16623,Discounts!A:C,3,0),0)","v":0},{"v":115.7,"d":"€115.70"}]
[140110,40450,1,"Normal",{"v":13.22,"d":"€13.22"},"SD/SG",{"$f":"IFERROR(VLOOKUP(F16636,Discounts!A:C,3,0),0)","v":0},{"v":13.22,"d":"€13.22"}]
[140120,40450,1,"Normal",{"v":13.22,"d":"€13.22"},"SD/SG",{"$f":"IFERROR(VLOOKUP(F16640,Discounts!A:C,3,0),0)","v":0},{"v":13.22,"d":"€13.22"}]
[140180,41620,1,"Normal",{"v":41.32,"d":"€41.32"},"LUXE",{"$f":"IFERROR(VLOOKUP(F16659,Discounts!A:C,3,0),0)","v":0},{"v":41.32,"d":"€41.32"}]
[140230,31920,1,"Normal",{"v":115.7,"d":"€115.70"},"SD/SG",{"$f":"IFERROR(VLOOKUP(F16668,Discounts!A:C,3,0),0)","v":0},{"v":115.7,"d":"€115.70"}]
[140280,31920,1,"Normal",{"v":115.7,"d":"€115.70"},"SD/SG",{"$f":"IFERROR(VLOOKUP(F16677,Discounts!A:C,3,0),0)","v":0},{"v":115.7,"d":"€115.70"}]
[140360,114650,1,"Normal",{"v":772.73,"d":"€772.73"},"E016",{"$f":"IFERROR(VLOOKUP(F16690,Discounts!A:C,3,0),0)","v":0},{"v":772.73,"d":"€772.73"}]
[140420,55110,1,"Normal",{"v":1786.78,"d":"€1,786.78"},"E013",{"$f":"IFERROR(VLOOKUP(F16702,Discounts!A:C,3,0),0)","v":0},{"v":1786.78,"d":"€1,786.78"}]
[140530,20950,2,"Normal",{"v":231.4,"d":"€231.40"},"P111",{"$f":"IFERROR(VLOOKUP(F16713,Discounts!A:C,3,0),0)","v":0},{"v":231.4,"d":"€231.40"}]
[140590,40970,1,"Normal",{"v":58.68,"d":"€58.68"},"SD/SG",{"$f":"IFERROR(VLOOKUP(F16734,Discounts!A:C,3,0),0)","v":0},{"v":58.68,"d":"€58.68"}]
[140620,18850,1,"Normal",{"v":394.21,"d":"€394.21"},"D010",{"$f":"IFERROR(VLOOKUP(F16743,Discounts!A:C,3,0),0)","v":0},{"v":394.21,"d":"€394.21"}]
[140650,31180,1,"Normal",{"v":292.54,"d":"€292.54"},"SD/SG",{"$f":"IFERROR(VLOOKUP(F16756,Discounts!A:C,3,0),0)","v":0},{"v":292.54,"d":"€292.54"}]
[140670,31200,1,"Normal",{"v":139.79,"d":"€139.79"},"SD/SG",{"$f":"IFERROR(VLOOKUP(F16764,Discounts!A:C,3,0),0)","v":0},{"v":139.79,"d":"€139.79"}]
[140700,18850,1,"Normal",{"v":394.21,"d":"€394.21"},"D010",{"$f":"IFERROR(VLOOKUP(F16775,Discounts!A:C,3,0),0)","v":0},{"v":394.21,"d":"€394.21"}]
[140730,31260,1,"Normal",{"v":328.87,"d":"€328.87"},"SD/SG",{"$f":"IFERROR(VLOOKUP(F16788,Discounts!A:C,3,0),0)","v":0},{"v":328.87,"d":"€328.87"}]
[140780,32060,1,"Normal",{"v":115.7,"d":"€115.70"},"SD/SG",{"$f":"IFERROR(VLOOKUP(F16809,Discounts!A:C,3,0),0)","v":0},{"v":115.7,"d":"€115.70"}]
[140780,40970,1,"Normal",{"v":58.68,"d":"€58.68"},"SD/SG",{"$f":"IFERROR(VLOOKUP(F16810,Discounts!A:C,3,0),0)","v":0},{"v":58.68,"d":"€58.68"}]
[140820,40970,1,"Normal",{"v":58.68,"d":"€58.68"},"SD/SG",{"$f":"IFERROR(VLOOKUP(F16826,Discounts!A:C,3,0),0)","v":0},{"v":58.68,"d":"€58.68"}]
[140860,32060,1,"Normal",{"v":115.7,"d":"€115.70"},"SD/SG",{"$f":"IFERROR(VLOOKUP(F16841,Discounts!A:C,3,0),0)","v":0},{"v":115.7,"d":"€115.70"}]
[140890,40970,1,"Normal",{"v":58.68,"d":"€58.68"},"SD/SG",{"$f":"IFERROR(VLOOKUP(F16854,Discounts!A:C,3,0),0)","v":0},{"v":58.68,"d":"€58.68"}]
[140920,18870,1,"Normal",{"v":474.38,"d":"€474.38"},"D010",{"$f":"IFERROR(VLOOKUP(F16863,Discounts!A:C,3,0),0)","v":0},{"v":474.38,"d":"€474.38"}]
[140940,31220,1,"Normal",{"v":262.73,"d":"€262.73"},"SD/SG",{"$f":"IFERROR(VLOOKUP(F16872,Discounts!A:C,3,0),0)","v":0},{"v":262.73,"d":"€262.73"}]
[140970,32060,1,"Normal",{"v":115.7,"d":"€115.70"},"SD/SG",{"$f":"IFERROR(VLOOKUP(F16885,Discounts!A:C,3,0),0)","v":0},{"v":115.7,"d":"€115.70"}]
[141030,31060,1,"Normal",{"v":139.79,"d":"€139.79"},"SD/SG",{"$f":"IFERROR(VLOOKUP(F16907,Discounts!A:C,3,0),0)","v":0},{"v":139.79,"d":"€139.79"}]
[141030,32060,1,"Normal",{"v":115.7,"d":"€115.70"},"SD/SG",{"$f":"IFERROR(VLOOKUP(F16908,Discounts!A:C,3,0),0)","v":0},{"v":115.7,"d":"€115.70"}]
[141080,40970,1,"Normal",{"v":58.68,"d":"€58.68"},"SD/SG",{"$f":"IFERROR(VLOOKUP(F16929,Discounts!A:C,3,0),0)","v":0},{"v":58.68,"d":"€58.68"}]
[141100,41440,1,"Normal",{"v":508.26,"d":"€508.26"},"D010",{"$f":"IFERROR(VLOOKUP(F16938,Discounts!A:C,3,0),0)","v":0},{"v":508.26,"d":"€508.26"}]
[141140,31170,1,"Normal",{"v":306.51,"d":"€306.51"},"SD/SG",{"$f":"IFERROR(VLOOKUP(F16951,Discounts!A:C,3,0),0)","v":0},{"v":306.51,"d":"€306.51"}]
[141150,32060,1,"Normal",{"v":115.7,"d":"€115.70"},"SD/SG",{"$f":"IFERROR(VLOOKUP(F16956,Discounts!A:C,3,0),0)","v":0},{"v":115.7,"d":"€115.70"}]
[141190,41440,1,"Normal",{"v":508.26,"d":"€508.26"},"D010",{"$f":"IFERROR(VLOOKUP(F16974,Discounts!A:C,3,0),0)","v":0},{"v":508.26,"d":"€508.26"}]
[141220,31250,1,"Normal",{"v":328.87,"d":"€328.87"},"SD/SG",{"$f":"IFERROR(VLOOKUP(F16983,Discounts!A:C,3,0),0)","v":0},{"v":328.87,"d":"€328.87"}]
[141270,32060,1,"Normal",{"v":115.7,"d":"€115.70"},"SD/SG",{"$f":"IFERROR(VLOOKUP(F17004,Discounts!A:C,3,0),0)","v":0},{"v":115.7,"d":"€115.70"}]
[141270,40970,1,"Normal",{"v":58.68,"d":"€58.68"},"SD/SG",{"$f":"IFERROR(VLOOKUP(F17005,Discounts!A:C,3,0),0)","v":0},{"v":58.68,"d":"€58.68"}]
[141300,41450,1,"Normal",{"v":573.55,"d":"€573.55"},"D010",{"$f":"IFERROR(VLOOKUP(F17018,Discounts!A:C,3,0),0)","v":0},{"v":573.55,"d":"€573.55"}]
[141350,32060,1,"Normal",{"v":115.7,"d":"€115.70"},"SD/SG",{"$f":"IFERROR(VLOOKUP(F17036,Discounts!A:C,3,0),0)","v":0},{"v":115.7,"d":"€115.70"}]
[141380,40970,1,"Normal",{"v":58.68,"d":"€58.68"},"SD/SG",{"$f":"IFERROR(VLOOKUP(F17049,Discounts!A:C,3,0),0)","v":0},{"v":58.68,"d":"€58.68"}]
[141400,41450,1,"Normal",{"v":573.55,"d":"€573.55"},"D010",{"$f":"IFERROR(VLOOKUP(F17058,Discounts!A:C,3,0),0)","v":0},{"v":573.55,"d":"€573.55"}]
[141440,31220,1,"Normal",{"v":262.73,"d":"€262.73"},"SD/SG",{"$f":"IFERROR(VLOOKUP(F17071,Discounts!A:C,3,0),0)","v":0},{"v":262.73,"d":"€262.73"}]
[141460,32060,1,"Normal",{"v":115.7,"d":"€115.70"},"SD/SG",{"$f":"IFERROR(VLOOKUP(F17080,Discounts!A:C,3,0),0)","v":0},{"v":115.7,"d":"€115.70"}]
[141510,31290,1,"Normal",{"v":450.87,"d":"€450.87"},"SD/SG",{"$f":"IFERROR(VLOOKUP(F17099,Discounts!A:C,3,0),0)","v":0},{"v":450.87,"d":"€450.87"}]
[141520,18720,1,"Normal",{"v":557.02,"d":"€557.02"},"D060",{"$f":"IFERROR(VLOOKUP(F17103,Discounts!A:C,3,0),0)","v":0},{"v":557.02,"d":"€557.02"}]
[141560,31090,1,"Normal",{"v":196.6,"d":"€196.60"},"SD/SG",{"$f":"IFERROR(VLOOKUP(F17124,Discounts!A:C,3,0),0)","v":0},{"v":196.6,"d":"€196.60"}]
[141580,40970,1,"Normal",{"v":58.68,"d":"€58.68"},"SD/SG",{"$f":"IFERROR(VLOOKUP(F17137,Discounts!A:C,3,0),0)","v":0},{"v":58.68,"d":"€58.68"}]
[141600,40470,1,"Normal",{"v":53.72,"d":"€53.72"},"SD/SG",{"$f":"IFERROR(VLOOKUP(F17146,Discounts!A:C,3,0),0)","v":0},{"v":53.72,"d":"€53.72"}]
[141630,40470,1,"Normal",{"v":53.72,"d":"€53.72"},"SD/SG",{"$f":"IFERROR(VLOOKUP(F17161,Discounts!A:C,3,0),0)","v":0},{"v":53.72,"d":"€53.72"}]
[141650,31180,1,"Normal",{"v":292.54,"d":"€292.54"},"SD/SG",{"$f":"IFERROR(VLOOKUP(F17169,Discounts!A:C,3,0),0)","v":0},{"v":292.54,"d":"€292.54"}]
[141670,18720,1,"Normal",{"v":557.02,"d":"€557.02"},"D060",{"$f":"IFERROR(VLOOKUP(F17178,Discounts!A:C,3,0),0)","v":0},{"v":557.02,"d":"€557.02"}]
[141710,31240,1,"Normal",{"v":328.87,"d":"€328.87"},"SD/SG",{"$f":"IFERROR(VLOOKUP(F17199,Discounts!A:C,3,0),0)","v":0},{"v":328.87,"d":"€328.87"}]
[141710,32060,1,"Normal",{"v":115.7,"d":"€115.70"},"SD/SG",{"$f":"IFERROR(VLOOKUP(F17200,Discounts!A:C,3,0),0)","v":0},{"v":115.7,"d":"€115.70"}]
[141760,18720,1,"Normal",{"v":557.02,"d":"€557.02"},"D060",{"$f":"IFERROR(VLOOKUP(F17223,Discounts!A:C,3,0),0)","v":0},{"v":557.02,"d":"€557.02"}]
[141780,32060,1,"Normal",{"v":115.7,"d":"€115.70"},"SD/SG",{"$f":"IFERROR(VLOOKUP(F17235,Discounts!A:C,3,0),0)","v":0},{"v":115.7,"d":"€115.70"}]
[141800,31080,1,"Normal",{"v":139.79,"d":"€139.79"},"SD/SG",{"$f":"IFERROR(VLOOKUP(F17244,Discounts!A:C,3,0),0)","v":0},{"v":139.79,"d":"€139.79"}]
[141820,18730,1,"Normal",{"v":676.86,"d":"€676.86"},"D060",{"$f":"IFERROR(VLOOKUP(F17253,Discounts!A:C,3,0),0)","v":0},{"v":676.86,"d":"€676.86"}]
[141840,40470,1,"Normal",{"v":53.72,"d":"€53.72"},"SD/SG",{"$f":"IFERROR(VLOOKUP(F17266,Discounts!A:C,3,0),0)","v":0},{"v":53.72,"d":"€53.72"}]
[141880,32060,1,"Normal",{"v":115.7,"d":"€115.70"},"SD/SG",{"$f":"IFERROR(VLOOKUP(F17285,Discounts!A:C,3,0),0)","v":0},{"v":115.7,"d":"€115.70"}]
[141900,40970,1,"Normal",{"v":58.68,"d":"€58.68"},"SD/SG",{"$f":"IFERROR(VLOOKUP(F17297,Discounts!A:C,3,0),0)","v":0},{"v":58.68,"d":"€58.68"}]
[141910,18730,1,"Normal",{"v":676.86,"d":"€676.86"},"D060",{"$f":"IFERROR(VLOOKUP(F17298,Discounts!A:C,3,0),0)","v":0},{"v":676.86,"d":"€676.86"}]
[141950,31230,1,"Normal",{"v":253.42,"d":"€253.42"},"SD/SG",{"$f":"IFERROR(VLOOKUP(F17319,Discounts!A:C,3,0),0)","v":0},{"v":253.42,"d":"€253.42"}]
[141970,40970,1,"Normal",{"v":58.68,"d":"€58.68"},"SD/SG",{"$f":"IFERROR(VLOOKUP(F17332,Discounts!A:C,3,0),0)","v":0},{"v":58.68,"d":"€58.68"}]
[141990,40470,1,"Normal",{"v":53.72,"d":"€53.72"},"SD/SG",{"$f":"IFERROR(VLOOKUP(F17341,Discounts!A:C,3,0),0)","v":0},{"v":53.72,"d":"€53.72"}]
[142020,18860,1,"Normal",{"v":426.45,"d":"€426.45"},"D010",{"$f":"IFERROR(VLOOKUP(F17353,Discounts!A:C,3,0),0)","v":0},{"v":426.45,"d":"€426.45"}]
[142040,40970,1,"Normal",{"v":58.68,"d":"€58.68"},"SD/SG",{"$f":"IFERROR(VLOOKUP(F17364,Discounts!A:C,3,0),0)","v":0},{"v":58.68,"d":"€58.68"}]
[142070,18860,1,"Normal",{"v":426.45,"d":"€426.45"},"D010",{"$f":"IFERROR(VLOOKUP(F17373,Discounts!A:C,3,0),0)","v":0},{"v":426.45,"d":"€426.45"}]
[142100,31130,1,"Normal",{"v":271.12,"d":"€271.12"},"SD/SG",{"$f":"IFERROR(VLOOKUP(F17386,Discounts!A:C,3,0),0)","v":0},{"v":271.12,"d":"€271.12"}]
[142120,32060,1,"Normal",{"v":115.7,"d":"€115.70"},"SD/SG",{"$f":"IFERROR(VLOOKUP(F17395,Discounts!A:C,3,0),0)","v":0},{"v":115.7,"d":"€115.70"}]
[142170,32060,1,"Normal",{"v":115.7,"d":"€115.70"},"SD/SG",{"$f":"IFERROR(VLOOKUP(F17415,Discounts!A:C,3,0),0)","v":0},{"v":115.7,"d":"€115.70"}]
[142210,31240,1,"Normal",{"v":328.87,"d":"€328.87"},"SD/SG",{"$f":"IFERROR(VLOOKUP(F17430,Discounts!A:C,3,0),0)","v":0},{"v":328.87,"d":"€328.87"}]
[142230,32060,1,"Normal",{"v":115.7,"d":"€115.70"},"SD/SG",{"$f":"IFERROR(VLOOKUP(F17439,Discounts!A:C,3,0),0)","v":0},{"v":115.7,"d":"€115.70"}]
[142250,40970,1,"Normal",{"v":58.68,"d":"€58.68"},"SD/SG",{"$f":"IFERROR(VLOOKUP(F17448,Discounts!A:C,3,0),0)","v":0},{"v":58.68,"d":"€58.68"}]
[142290,18880,1,"Normal",{"v":511.57,"d":"€511.57"},"D010",{"$f":"IFERROR(VLOOKUP(F17461,Discounts!A:C,3,0),0)","v":0},{"v":511.57,"d":"€511.57"}]
[142330,18880,1,"Normal",{"v":511.57,"d":"€511.57"},"D010",{"$f":"IFERROR(VLOOKUP(F17477,Discounts!A:C,3,0),0)","v":0},{"v":511.57,"d":"€511.57"}]
[142340,40970,1,"Normal",{"v":58.68,"d":"€58.68"},"SD/SG",{"$f":"IFERROR(VLOOKUP(F17484,Discounts!A:C,3,0),0)","v":0},{"v":58.68,"d":"€58.68"}]
[142370,18880,1,"Normal",{"v":511.57,"d":"€511.57"},"D010",{"$f":"IFERROR(VLOOKUP(F17493,Discounts!A:C,3,0),0)","v":0},{"v":511.57,"d":"€511.57"}]
[142420,31200,1,"Normal",{"v":139.79,"d":"€139.79"},"SD/SG",{"$f":"IFERROR(VLOOKUP(F17514,Discounts!A:C,3,0),0)","v":0},{"v":139.79,"d":"€139.79"}]
[142450,32060,1,"Normal",{"v":115.7,"d":"€115.70"},"SD/SG",{"$f":"IFERROR(VLOOKUP(F17527,Discounts!A:C,3,0),0)","v":0},{"v":115.7,"d":"€115.70"}]
[142470,40970,1,"Normal",{"v":58.68,"d":"€58.68"},"SD/SG",{"$f":"IFERROR(VLOOKUP(F17536,Discounts!A:C,3,0),0)","v":0},{"v":58.68,"d":"€58.68"}]
[142490,18880,1,"Normal",{"v":511.57,"d":"€511.57"},"D010",{"$f":"IFERROR(VLOOKUP(F17541,Discounts!A:C,3,0),0)","v":0},{"v":511.57,"d":"€511.57"}]
[142540,32060,1,"Normal",{"v":115.7,"d":"€115.70"},"SD/SG",{"$f":"IFERROR(VLOOKUP(F17559,Discounts!A:C,3,0),0)","v":0},{"v":115.7,"d":"€115.70"}]
[142560,40970,1,"Normal",{"v":58.68,"d":"€58.68"},"SD/SG",{"$f":"IFERROR(VLOOKUP(F17568,Discounts!A:C,3,0),0)","v":0},{"v":58.68,"d":"€58.68"}]
[142600,40970,1,"Normal",{"v":58.68,"d":"€58.68"},"SD/SG",{"$f":"IFERROR(VLOOKUP(F17581,Discounts!A:C,3,0),0)","v":0},{"v":58.68,"d":"€58.68"}]
[142620,32060,1,"Normal",{"v":115.7,"d":"€115.70"},"SD/SG",{"$f":"IFERROR(VLOOKUP(F17590,Discounts!A:C,3,0),0)","v":0},{"v":115.7,"d":"€115.70"}]
[142650,41330,1,"Normal",{"v":22.31,"d":"€22.31"},"SD/SG",{"$f":"IFERROR(VLOOKUP(F17607,Discounts!A:C,3,0),0)","v":0},{"v":22.31,"d":"€22.31"}]
[143090,41640,2,"Normal",{"v":229.76,"d":"€229.76"},"LUXE",{"$f":"IFERROR(VLOOKUP(F17625,Discounts!A:C,3,0),0)","v":0},{"v":229.76,"d":"€229.76"}]
[143480,143470,1,"Normal",{"v":1219.83,"d":"€1,219.83"},"A010",{"$f":"IFERROR(VLOOKUP(F17634,Discounts!A:C,3,0),0)","v":0},{"v":1219.83,"d":"€1,219.83"}]
[143620,106730,1,"Normal",{"v":12.4,"d":"€12.40"},"LUXE",{"$f":"IFERROR(VLOOKUP(F17647,Discounts!A:C,3,0),0)","v":0},{"v":12.4,"d":"€12.40"}]
[143670,147860,1,"Normal",{"v":9.09,"d":"€9.09"},"O500",{"$f":"IFERROR(VLOOKUP(F17656,Discounts!A:C,3,0),0)","v":0},{"v":9.09,"d":"€9.09"}]
[143710,144010,1,"Normal",{"v":184.43,"d":"€184.43"},"P109",{"$f":"IFERROR(VLOOKUP(F17669,Discounts!A:C,3,0),0)","v":0},{"v":184.43,"d":"€184.43"}]
[143750,105750,1,"Normal",{"v":101.52,"d":"€101.52"},"LUXE",{"$f":"IFERROR(VLOOKUP(F17679,Discounts!A:C,3,0),0)","v":0},{"v":101.52,"d":"€101.52"}]
[143790,105710,1,"Normal",{"v":73.57,"d":"€73.57"},"LUXE",{"$f":"IFERROR(VLOOKUP(F17688,Discounts!A:C,3,0),0)","v":0},{"v":73.57,"d":"€73.57"}]
[143920,143750,2,"Combination",{"v":1705.62,"d":"€1,705.62"},"B015",{"$f":"IFERROR(VLOOKUP(F17709,Discounts!A:C,3,0),0)","v":0},{"v":1705.62,"d":"€1,705.62"}]
[144210,40520,2,"Normal",{"v":128.92,"d":"€128.92"},"SD/SG",{"$f":"IFERROR(VLOOKUP(F17722,Discounts!A:C,3,0),0)","v":0},{"v":128.92,"d":"€128.92"}]
[144230,40450,2,"Normal",{"v":26.44,"d":"€26.44"},"SD/SG",{"$f":"IFERROR(VLOOKUP(F17731,Discounts!A:C,3,0),0)","v":0},{"v":26.44,"d":"€26.44"}]
[144260,44440,2,"Normal",{"v":190.08,"d":"€190.08"},"SD/SG",{"$f":"IFERROR(VLOOKUP(F17746,Discounts!A:C,3,0),0)","v":0},{"v":190.08,"d":"€190.08"}]
[144280,44440,2,"Normal",{"v":190.08,"d":"€190.08"},"SD/SG",{"$f":"IFERROR(VLOOKUP(F17754,Discounts!A:C,3,0),0)","v":0},{"v":190.08,"d":"€190.08"}]
[144470,144420,1,"Normal",{"v":592.03,"d":"€592.03"},"B015",{"$f":"IFERROR(VLOOKUP(F17763,Discounts!A:C,3,0),0)","v":0},{"v":592.03,"d":"€592.03"}]
[144580,106730,1,"Normal",{"v":12.4,"d":"€12.40"},"LUXE",{"$f":"IFERROR(VLOOKUP(F17776,Discounts!A:C,3,0),0)","v":0},{"v":12.4,"d":"€12.40"}]
[144610,144660,1,"Combination",{"v":604.43,"d":"€604.43"},"B015",{"$f":"IFERROR(VLOOKUP(F17785,Discounts!A:C,3,0),0)","v":0},{"v":604.43,"d":"€604.43"}]
[144740,106730,1,"Normal",{"v":12.4,"d":"€12.40"},"LUXE",{"$f":"IFERROR(VLOOKUP(F17808,Discounts!A:C,3,0),0)","v":0},{"v":12.4,"d":"€12.40"}]
[145100,105700,1,"Normal",{"v":67.98,"d":"€67.98"},"LUXE",{"$f":"IFERROR(VLOOKUP(F17820,Discounts!A:C,3,0),0)","v":0},{"v":67.98,"d":"€67.98"}]
[145130,105700,1,"Normal",{"v":67.98,"d":"€67.98"},"LUXE",{"$f":"IFERROR(VLOOKUP(F17829,Discounts!A:C,3,0),0)","v":0},{"v":67.98,"d":"€67.98"}]
[145170,144760,1,"Combination",{"v":366.51,"d":"€366.51"},"B015",{"$f":"IFERROR(VLOOKUP(F17842,Discounts!A:C,3,0),0)","v":0},{"v":366.51,"d":"€366.51"}]
[145200,144770,1,"Normal",{"v":373.63,"d":"€373.63"},"B015",{"$f":"IFERROR(VLOOKUP(F17851,Discounts!A:C,3,0),0)","v":0},{"v":373.63,"d":"€373.63"}]
[145230,144930,1,"Normal",0,"P109",{"$f":"IFERROR(VLOOKUP(F17861,Discounts!A:C,3,0),0)","v":0},0]
[145280,105710,1,"Normal",{"v":73.57,"d":"€73.57"},"LUXE",{"$f":"IFERROR(VLOOKUP(F17874,Discounts!A:C,3,0),0)","v":0},{"v":73.57,"d":"€73.57"}]
[145310,105720,1,"Normal",{"v":79.16,"d":"€79.16"},"LUXE",{"$f":"IFERROR(VLOOKUP(F17883,Discounts!A:C,3,0),0)","v":0},{"v":79.16,"d":"€79.16"}]
[145350,144800,1,"Combination",{"v":405.55,"d":"€405.55"},"B015",{"$f":"IFERROR(VLOOKUP(F17896,Discounts!A:C,3,0),0)","v":0},{"v":405.54999999999995,"d":"€405.55"}]
[145420,144810,1,"Normal",{"v":376.23,"d":"€376.23"},"B015",{"$f":"IFERROR(VLOOKUP(F17917,Discounts!A:C,3,0),0)","v":0},{"v":376.23,"d":"€376.23"}]
[145440,144810,1,"Normal",{"v":376.23,"d":"€376.23"},"B015",{"$f":"IFERROR(VLOOKUP(F17923,Discounts!A:C,3,0),0)","v":0},{"v":376.23,"d":"€376.23"}]
[145500,105710,1,"Normal",{"v":73.57,"d":"€73.57"},"LUXE",{"$f":"IFERROR(VLOOKUP(F17940,Discounts!A:C,3,0),0)","v":0},{"v":73.57,"d":"€73.57"}]
[145530,105710,1,"Normal",{"v":73.57,"d":"€73.57"},"LUXE",{"$f":"IFERROR(VLOOKUP(F17949,Discounts!A:C,3,0),0)","v":0},{"v":73.57,"d":"€73.57"}]
[145560,105710,1,"Normal",{"v":73.57,"d":"€73.57"},"LUXE",{"$f":"IFERROR(VLOOKUP(F17958,Discounts!A:C,3,0),0)","v":0},{"v":73.57,"d":"€73.57"}]
[145630,133770,1,"Normal",{"v":438.73,"d":"€438.73"},"B015",{"$f":"IFERROR(VLOOKUP(F17971,Discounts!A:C,3,0),0)","v":0},{"v":438.73,"d":"€438.73"}]
[145660,133780,1,"Combination",{"v":451.13,"d":"€451.13"},"B015",{"$f":"IFERROR(VLOOKUP(F17980,Discounts!A:C,3,0),0)","v":0},{"v":451.13,"d":"€451.13"}]
[145730,105700,1,"Normal",{"v":67.98,"d":"€67.98"},"LUXE",{"$f":"IFERROR(VLOOKUP(F18000,Discounts!A:C,3,0),0)","v":0},{"v":67.98,"d":"€67.98"}]
[145780,105700,1,"Normal",{"v":67.98,"d":"€67.98"},"LUXE",{"$f":"IFERROR(VLOOKUP(F18015,Discounts!A:C,3,0),0)","v":0},{"v":67.98,"d":"€67.98"}]
[145810,105700,1,"Normal",{"v":67.98,"d":"€67.98"},"LUXE",{"$f":"IFERROR(VLOOKUP(F18024,Discounts!A:C,3,0),0)","v":0},{"v":67.98,"d":"€67.98"}]
[146180,132900,1,"Normal",{"v":19.83,"d":"€19.83"},"LUXE",{"$f":"IFERROR(VLOOKUP(F18037,Discounts!A:C,3,0),0)","v":0},{"v":19.83,"d":"€19.83"}]
[146430,31470,-1,"Normal",{"v":-133.88,"d":"€(133.88)"},"LUXE",{"$f":"IFERROR(VLOOKUP(F18046,Discounts!A:C,3,0),0)","v":0},{"v":-133.88,"d":"€(133.88)"}]
[146550,133770,2,"Normal",{"v":877.46,"d":"€877.46"},"B015",{"$f":"IFERROR(VLOOKUP(F18062,Discounts!A:C,3,0),0)","v":0},{"v":877.46,"d":"€877.46"}]
[146620,151840,2,"Normal",{"v":864.46,"d":"€864.46"},"B055",{"$f":"IFERROR(VLOOKUP(F18069,Discounts!A:C,3,0),0)","v":0},{"v":864.46,"d":"€864.46"}]
[146700,103980,1,"Normal",{"v":376.02,"d":"€376.02"},"B015",{"$f":"IFERROR(VLOOKUP(F18078,Discounts!A:C,3,0),0)","v":0},{"v":376.02,"d":"€376.02"}]
[146790,104110,1,"Normal",{"v":469.69,"d":"€469.69"},"B015",{"$f":"IFERROR(VLOOKUP(F18091,Discounts!A:C,3,0),0)","v":0},{"v":469.69,"d":"€469.69"}]
[146920,146890,2,"Combination",{"v":1531.14,"d":"€1,531.14"},"B015",{"$f":"IFERROR(VLOOKUP(F18112,Discounts!A:C,3,0),0)","v":0},{"v":1531.1399999999999,"d":"€1,531.14"}]
[146950,109380,1,"Normal",{"v":408.99,"d":"€408.99"},"B015",{"$f":"IFERROR(VLOOKUP(F18115,Discounts!A:C,3,0),0)","v":0},{"v":408.99,"d":"€408.99"}]
[147080,31920,-1,"Normal",{"v":-115.7,"d":"€(115.70)"},"SD/SG",{"$f":"IFERROR(VLOOKUP(F18135,Discounts!A:C,3,0),0)","v":0},{"v":-115.7,"d":"€(115.70)"}]
[147130,23410,2,"Normal",{"v":358.68,"d":"€358.68"},"P106",{"$f":"IFERROR(VLOOKUP(F18144,Discounts!A:C,3,0),0)","v":0},{"v":358.68,"d":"€358.68"}]
[147250,31580,1,"Normal",{"v":123.14,"d":"€123.14"},"LUXE",{"$f":"IFERROR(VLOOKUP(F18157,Discounts!A:C,3,0),0)","v":0},{"v":123.14,"d":"€123.14"}]
[147280,137810,-1,"Normal",{"v":-115.7,"d":"€(115.70)"},"LUXE",{"$f":"IFERROR(VLOOKUP(F18166,Discounts!A:C,3,0),0)","v":0},{"v":-115.7,"d":"€(115.70)"}]
[147340,147310,2,"Combination",{"v":1701,"d":"€1,701.00"},"B015",{"$f":"IFERROR(VLOOKUP(F18175,Discounts!A:C,3,0),0)","v":0},{"v":1701,"d":"€1,701.00"}]
[147470,109660,1,"Normal",{"v":471.37,"d":"€471.37"},"B015",{"$f":"IFERROR(VLOOKUP(F18192,Discounts!A:C,3,0),0)","v":0},{"v":471.37,"d":"€471.37"}]
[147620,147610,1,"Normal",{"v":61.16,"d":"€61.16"},"R100",{"$f":"IFERROR(VLOOKUP(F18210,Discounts!A:C,3,0),0)","v":0},{"v":61.16,"d":"€61.16"}]
[147930,40520,-1,"Normal",{"v":-64.46,"d":"€(64.46)"},"SD/SG",{"$f":"IFERROR(VLOOKUP(F18223,Discounts!A:C,3,0),0)","v":0},{"v":-64.46,"d":"€(64.46)"}]
[148080,32060,2,"Normal",{"v":231.4,"d":"€231.40"},"SD/SG",{"$f":"IFERROR(VLOOKUP(F18232,Discounts!A:C,3,0),0)","v":0},{"v":231.4,"d":"€231.40"}]
[148100,44920,2,"Normal",{"v":400,"d":"€400.00"},"SD/SG",{"$f":"IFERROR(VLOOKUP(F18241,Discounts!A:C,3,0),0)","v":0},{"v":400,"d":"€400.00"}]
[148130,134820,1,"Normal",{"v":343.8,"d":"€343.80"},"SD/SG",{"$f":"IFERROR(VLOOKUP(F18254,Discounts!A:C,3,0),0)","v":0},{"v":343.8,"d":"€343.80"}]
[148430,148390,1,"Normal",{"v":47.93,"d":"€47.93"},"LUXE",{"$f":"IFERROR(VLOOKUP(F18264,Discounts!A:C,3,0),0)","v":0},{"v":47.93,"d":"€47.93"}]
[148570,132900,1,"Normal",{"v":19.83,"d":"€19.83"},"LUXE",{"$f":"IFERROR(VLOOKUP(F18273,Discounts!A:C,3,0),0)","v":0},{"v":19.83,"d":"€19.83"}]
[148700,57610,1,"Normal",{"v":223.97,"d":"€223.97"},"P106",{"$f":"IFERROR(VLOOKUP(F18286,Discounts!A:C,3,0),0)","v":0},{"v":223.97,"d":"€223.97"}]
[148810,29830,-1,"Normal",{"v":-448.76,"d":"€(448.76)"},"P106",{"$f":"IFERROR(VLOOKUP(F18307,Discounts!A:C,3,0),0)","v":0},{"v":-448.76,"d":"€(448.76)"}]
[148850,57670,1,"Normal",{"v":318.18,"d":"€318.18"},"P106",{"$f":"IFERROR(VLOOKUP(F18316,Discounts!A:C,3,0),0)","v":0},{"v":318.18,"d":"€318.18"}]
[148980,44440,2,"Normal",{"v":190.08,"d":"€190.08"},"SD/SG",{"$f":"IFERROR(VLOOKUP(F18330,Discounts!A:C,3,0),0)","v":0},{"v":190.08,"d":"€190.08"}]
[149010,44440,2,"Normal",{"v":190.08,"d":"€190.08"},"SD/SG",{"$f":"IFERROR(VLOOKUP(F18339,Discounts!A:C,3,0),0)","v":0},{"v":190.08,"d":"€190.08"}]
[149090,149030,1,"Normal",{"v":2365.29,"d":"€2,365.29"},"E023",{"$f":"IFERROR(VLOOKUP(F18352,Discounts!A:C,3,0),0)","v":0},{"v":2365.29,"d":"€2,365.29"}]
[149570,34260,1,"Normal",{"v":249.59,"d":"€249.59"},"LUXE",{"$f":"IFERROR(VLOOKUP(F18361,Discounts!A:C,3,0),0)","v":0},{"v":249.59,"d":"€249.59"}]
[149670,54320,1,"Normal",{"v":49.59,"d":"€49.59"},"O115",{"$f":"IFERROR(VLOOKUP(F18382,Discounts!A:C,3,0),0)","v":0},{"v":49.59,"d":"€49.59"}]
[149680,45100,1,"Normal",{"v":115.7,"d":"€115.70"},"O115",{"$f":"IFERROR(VLOOKUP(F18384,Discounts!A:C,3,0),0)","v":0},{"v":115.7,"d":"€115.70"}]
[150000,151830,2,"Normal",{"v":811.58,"d":"€811.58"},"B055",{"$f":"IFERROR(VLOOKUP(F18405,Discounts!A:C,3,0),0)","v":0},{"v":811.58,"d":"€811.58"}]
[150280,150260,1,"Normal",{"v":1621.49,"d":"€1,621.49"},"E021",{"$f":"IFERROR(VLOOKUP(F18418,Discounts!A:C,3,0),0)","v":0},{"v":1621.49,"d":"€1,621.49"}]
[150470,150450,1,"Normal",{"v":1252.89,"d":"€1,252.89"},"E020",{"$f":"IFERROR(VLOOKUP(F18427,Discounts!A:C,3,0),0)","v":0},{"v":1252.89,"d":"€1,252.89"}]
[150500,150440,1,"Normal",{"v":2028.1,"d":"€2,028.10"},"E023",{"$f":"IFERROR(VLOOKUP(F18436,Discounts!A:C,3,0),0)","v":0},{"v":2028.1,"d":"€2,028.10"}]
[150700,31920,2,"Normal",{"v":231.4,"d":"€231.40"},"SD/SG",{"$f":"IFERROR(VLOOKUP(F18446,Discounts!A:C,3,0),0)","v":0},{"v":231.4,"d":"€231.40"}]
[150960,143510,1,"Normal",{"v":373.42,"d":"€373.42"},"B015",{"$f":"IFERROR(VLOOKUP(F18459,Discounts!A:C,3,0),0)","v":0},{"v":373.42,"d":"€373.42"}]
[151090,144710,1,"Normal",{"v":424.25,"d":"€424.25"},"B015",{"$f":"IFERROR(VLOOKUP(F18472,Discounts!A:C,3,0),0)","v":0},{"v":424.25,"d":"€424.25"}]
[151540,106060,1,"Normal",{"v":31.4,"d":"€31.40"},"LUXE",{"$f":"IFERROR(VLOOKUP(F18481,Discounts!A:C,3,0),0)","v":0},{"v":31.4,"d":"€31.40"}]
[151760,106730,1,"Normal",{"v":12.4,"d":"€12.40"},"LUXE",{"$f":"IFERROR(VLOOKUP(F18502,Discounts!A:C,3,0),0)","v":0},{"v":12.4,"d":"€12.40"}]
[151790,151830,1,"Normal",{"v":405.79,"d":"€405.79"},"B055",{"$f":"IFERROR(VLOOKUP(F18508,Discounts!A:C,3,0),0)","v":0},{"v":405.79,"d":"€405.79"}]
[151890,106730,1,"Normal",{"v":12.4,"d":"€12.40"},"LUXE",{"$f":"IFERROR(VLOOKUP(F18525,Discounts!A:C,3,0),0)","v":0},{"v":12.4,"d":"€12.40"}]
[151920,144010,1,"Normal",{"v":184.43,"d":"€184.43"},"P109",{"$f":"IFERROR(VLOOKUP(F18534,Discounts!A:C,3,0),0)","v":0},{"v":184.43,"d":"€184.43"}]
[151960,152360,1,"Combination",{"v":579.26,"d":"€579.26"},"B015",{"$f":"IFERROR(VLOOKUP(F18547,Discounts!A:C,3,0),0)","v":0},{"v":579.26,"d":"€579.26"}]
[152080,152060,2,"Normal",{"v":790.98,"d":"€790.98"},"B055",{"$f":"IFERROR(VLOOKUP(F18556,Discounts!A:C,3,0),0)","v":0},{"v":790.98,"d":"€790.98"}]
[152560,152520,1,"Normal",{"v":485.95,"d":"€485.95"},"O500",{"$f":"IFERROR(VLOOKUP(F18570,Discounts!A:C,3,0),0)","v":0},{"v":485.95,"d":"€485.95"}]
[153930,31060,1,"Normal",{"v":139.79,"d":"€139.79"},"SD/SG",{"$f":"IFERROR(VLOOKUP(F18579,Discounts!A:C,3,0),0)","v":0},{"v":139.79,"d":"€139.79"}]
[153980,32060,1,"Normal",{"v":115.7,"d":"€115.70"},"SD/SG",{"$f":"IFERROR(VLOOKUP(F18600,Discounts!A:C,3,0),0)","v":0},{"v":115.7,"d":"€115.70"}]
[154010,40970,1,"Normal",{"v":58.68,"d":"€58.68"},"SD/SG",{"$f":"IFERROR(VLOOKUP(F18613,Discounts!A:C,3,0),0)","v":0},{"v":58.68,"d":"€58.68"}]
[154030,153880,1,"Normal",{"v":451.24,"d":"€451.24"},"D010",{"$f":"IFERROR(VLOOKUP(F18622,Discounts!A:C,3,0),0)","v":0},{"v":451.24,"d":"€451.24"}]
[154070,31230,1,"Normal",{"v":253.42,"d":"€253.42"},"SD/SG",{"$f":"IFERROR(VLOOKUP(F18635,Discounts!A:C,3,0),0)","v":0},{"v":253.42,"d":"€253.42"}]
[154070,153880,1,"Normal",{"v":451.24,"d":"€451.24"},"D010",{"$f":"IFERROR(VLOOKUP(F18638,Discounts!A:C,3,0),0)","v":0},{"v":451.24,"d":"€451.24"}]
[154110,153880,1,"Normal",{"v":451.24,"d":"€451.24"},"D010",{"$f":"IFERROR(VLOOKUP(F18654,Discounts!A:C,3,0),0)","v":0},{"v":451.24,"d":"€451.24"}]
[154150,31060,1,"Normal",{"v":139.79,"d":"€139.79"},"SD/SG",{"$f":"IFERROR(VLOOKUP(F18667,Discounts!A:C,3,0),0)","v":0},{"v":139.79,"d":"€139.79"}]
[154170,32060,1,"Normal",{"v":115.7,"d":"€115.70"},"SD/SG",{"$f":"IFERROR(VLOOKUP(F18676,Discounts!A:C,3,0),0)","v":0},{"v":115.7,"d":"€115.70"}]
[154220,40970,1,"Normal",{"v":58.68,"d":"€58.68"},"SD/SG",{"$f":"IFERROR(VLOOKUP(F18697,Discounts!A:C,3,0),0)","v":0},{"v":58.68,"d":"€58.68"}]
[154230,32060,1,"Normal",{"v":115.7,"d":"€115.70"},"SD/SG",{"$f":"IFERROR(VLOOKUP(F18700,Discounts!A:C,3,0),0)","v":0},{"v":115.7,"d":"€115.70"}]
[154280,32060,1,"Normal",{"v":115.7,"d":"€115.70"},"SD/SG",{"$f":"IFERROR(VLOOKUP(F18720,Discounts!A:C,3,0),0)","v":0},{"v":115.7,"d":"€115.70"}]
[154310,40970,1,"Normal",{"v":58.68,"d":"€58.68"},"SD/SG",{"$f":"IFERROR(VLOOKUP(F18733,Discounts!A:C,3,0),0)","v":0},{"v":58.68,"d":"€58.68"}]
[154330,153900,1,"Normal",{"v":514.88,"d":"€514.88"},"D010",{"$f":"IFERROR(VLOOKUP(F18742,Discounts!A:C,3,0),0)","v":0},{"v":514.88,"d":"€514.88"}]
[154360,31050,1,"Normal",{"v":149.1,"d":"€149.10"},"SD/SG",{"$f":"IFERROR(VLOOKUP(F18751,Discounts!A:C,3,0),0)","v":0},{"v":149.1,"d":"€149.10"}]
[154380,153890,1,"Normal",{"v":451.24,"d":"€451.24"},"D010",{"$f":"IFERROR(VLOOKUP(F18762,Discounts!A:C,3,0),0)","v":0},{"v":451.24,"d":"€451.24"}]
[154410,153890,1,"Normal",{"v":451.24,"d":"€451.24"},"D010",{"$f":"IFERROR(VLOOKUP(F18774,Discounts!A:C,3,0),0)","v":0},{"v":451.24,"d":"€451.24"}]
[154470,31190,1,"Normal",{"v":128.61,"d":"€128.61"},"SD/SG",{"$f":"IFERROR(VLOOKUP(F18795,Discounts!A:C,3,0),0)","v":0},{"v":128.61,"d":"€128.61"}]
[154500,32060,1,"Normal",{"v":115.7,"d":"€115.70"},"SD/SG",{"$f":"IFERROR(VLOOKUP(F18808,Discounts!A:C,3,0),0)","v":0},{"v":115.7,"d":"€115.70"}]
[154520,40970,1,"Normal",{"v":58.68,"d":"€58.68"},"SD/SG",{"$f":"IFERROR(VLOOKUP(F18817,Discounts!A:C,3,0),0)","v":0},{"v":58.68,"d":"€58.68"}]
[154540,32060,1,"Normal",{"v":115.7,"d":"€115.70"},"SD/SG",{"$f":"IFERROR(VLOOKUP(F18824,Discounts!A:C,3,0),0)","v":0},{"v":115.7,"d":"€115.70"}]
[154580,32060,1,"Normal",{"v":115.7,"d":"€115.70"},"SD/SG",{"$f":"IFERROR(VLOOKUP(F18840,Discounts!A:C,3,0),0)","v":0},{"v":115.7,"d":"€115.70"}]
[154600,40970,1,"Normal",{"v":58.68,"d":"€58.68"},"SD/SG",{"$f":"IFERROR(VLOOKUP(F18849,Discounts!A:C,3,0),0)","v":0},{"v":58.68,"d":"€58.68"}]
[154630,153910,1,"Normal",{"v":514.88,"d":"€514.88"},"D010",{"$f":"IFERROR(VLOOKUP(F18862,Discounts!A:C,3,0),0)","v":0},{"v":514.88,"d":"€514.88"}]
[154660,31160,1,"Normal",{"v":307.44,"d":"€307.44"},"SD/SG",{"$f":"IFERROR(VLOOKUP(F18871,Discounts!A:C,3,0),0)","v":0},{"v":307.44,"d":"€307.44"}]
[154690,32060,1,"Normal",{"v":115.7,"d":"€115.70"},"SD/SG",{"$f":"IFERROR(VLOOKUP(F18884,Discounts!A:C,3,0),0)","v":0},{"v":115.7,"d":"€115.70"}]
[154740,40970,1,"Normal",{"v":58.68,"d":"€58.68"},"SD/SG",{"$f":"IFERROR(VLOOKUP(F18905,Discounts!A:C,3,0),0)","v":0},{"v":58.68,"d":"€58.68"}]
[154770,31270,1,"Normal",{"v":412.69,"d":"€412.69"},"SD/SG",{"$f":"IFERROR(VLOOKUP(F18915,Discounts!A:C,3,0),0)","v":0},{"v":412.69,"d":"€412.69"}]
[154800,40970,1,"Normal",{"v":58.68,"d":"€58.68"},"SD/SG",{"$f":"IFERROR(VLOOKUP(F18928,Discounts!A:C,3,0),0)","v":0},{"v":58.68,"d":"€58.68"}]
[154830,40970,1,"Normal",{"v":58.68,"d":"€58.68"},"SD/SG",{"$f":"IFERROR(VLOOKUP(F18937,Discounts!A:C,3,0),0)","v":0},{"v":58.68,"d":"€58.68"}]
[154920,41320,1,"Normal",{"v":37.19,"d":"€37.19"},"SD/SG",{"$f":"IFERROR(VLOOKUP(F18946,Discounts!A:C,3,0),0)","v":0},{"$f":"IF(D18946=\"Normal\",E18946*(1-G18946),SUMIF(A:A,B18946,H:H)*C18946)","v":{"v":37.19,"d":"€37.19"}}]
[154960,41330,1,"Normal",{"v":22.31,"d":"€22.31"},"SD/SG",{"$f":"IFERROR(VLOOKUP(F18967,Discounts!A:C,3,0),0)","v":0},{"v":22.31,"d":"€22.31"}]
[154980,109220,1,"Normal",{"v":48.76,"d":"€48.76"},"LUXE",{"$f":"IFERROR(VLOOKUP(F18969,Discounts!A:C,3,0),0)","v":0},{"v":48.76,"d":"€48.76"}]
[155120,44360,1,"Normal",{"v":95.04,"d":"€95.04"},"SD/SG",{"$f":"IFERROR(VLOOKUP(F18982,Discounts!A:C,3,0),0)","v":0},{"v":95.04,"d":"€95.04"}]
[155240,77780,1,"Combination",{"v":646.27,"d":"€646.27"},"",{"$f":"IFERROR(VLOOKUP(F19003,Discounts!A:C,3,0),0)","v":0},{"v":646.27,"d":"€646.27"}]
[155430,155350,1,"Normal",{"v":59.76,"d":"€59.76"},"O115",{"$f":"IFERROR(VLOOKUP(F19012,Discounts!A:C,3,0),0)","v":0},{"v":59.76,"d":"€59.76"}]
[155480,40790,1,"Normal",{"v":5.79,"d":"€5.79"},"LUXE",{"$f":"IFERROR(VLOOKUP(F19016,Discounts!A:C,3,0),0)","v":0},{"v":5.79,"d":"€5.79"}]
[155610,18150,1,"Combination",{"v":393.39,"d":"€393.39"},"E065",{"$f":"IFERROR(VLOOKUP(F19035,Discounts!A:C,3,0),0)","v":0},{"v":393.39,"d":"€393.39"}]
[155650,34000,1,"Normal",{"v":125.62,"d":"€125.62"},"SD/SG",{"$f":"IFERROR(VLOOKUP(F19044,Discounts!A:C,3,0),0)","v":0},{"v":125.62,"d":"€125.62"}]
[155720,34010,2,"Normal",{"v":307.44,"d":"€307.44"},"SD/SG",{"$f":"IFERROR(VLOOKUP(F19057,Discounts!A:C,3,0),0)","v":0},{"v":307.44,"d":"€307.44"}]
[155760,103360,1,"Combination",{"v":1011.56,"d":"€1,011.56"},"",{"$f":"IFERROR(VLOOKUP(F19066,Discounts!A:C,3,0),0)","v":0},{"v":1011.56,"d":"€1,011.56"}]
[156240,155510,1,"Normal",{"v":61.16,"d":"€61.16"},"R100",{"$f":"IFERROR(VLOOKUP(F19079,Discounts!A:C,3,0),0)","v":0},{"v":61.16,"d":"€61.16"}]
[156430,156270,1,"Normal",{"v":348.07,"d":"€348.07"},"P109",{"$f":"IFERROR(VLOOKUP(F19097,Discounts!A:C,3,0),0)","v":0},{"v":348.07,"d":"€348.07"}]
[156480,105710,1,"Normal",{"v":73.57,"d":"€73.57"},"LUXE",{"$f":"IFERROR(VLOOKUP(F19110,Discounts!A:C,3,0),0)","v":0},{"v":73.57,"d":"€73.57"}]
[156540,144760,1,"Combination",{"v":366.51,"d":"€366.51"},"B015",{"$f":"IFERROR(VLOOKUP(F19123,Discounts!A:C,3,0),0)","v":0},{"v":366.51,"d":"€366.51"}]
[156570,144790,1,"Normal",{"v":393.15,"d":"€393.15"},"B015",{"$f":"IFERROR(VLOOKUP(F19132,Discounts!A:C,3,0),0)","v":0},{"v":393.15,"d":"€393.15"}]
[156610,156370,1,"Normal",{"v":348.07,"d":"€348.07"},"P109",{"$f":"IFERROR(VLOOKUP(F19145,Discounts!A:C,3,0),0)","v":0},{"v":348.07,"d":"€348.07"}]
[156810,44480,1,"Normal",{"v":1064.46,"d":"€1,064.46"},"A010",{"$f":"IFERROR(VLOOKUP(F19159,Discounts!A:C,3,0),0)","v":0},{"v":1064.46,"d":"€1,064.46"}]
[156830,156800,1,"Normal",{"v":290.91,"d":"€290.91"},"LUXE",{"$f":"IFERROR(VLOOKUP(F19164,Discounts!A:C,3,0),0)","v":0},{"v":290.91,"d":"€290.91"}]
[156900,44570,1,"Normal",{"v":1157.85,"d":"€1,157.85"},"A010",{"$f":"IFERROR(VLOOKUP(F19177,Discounts!A:C,3,0),0)","v":0},{"v":1157.85,"d":"€1,157.85"}]
[157000,156800,1,"Normal",{"v":290.91,"d":"€290.91"},"LUXE",{"$f":"IFERROR(VLOOKUP(F19198,Discounts!A:C,3,0),0)","v":0},{"v":290.91,"d":"€290.91"}]
[157080,105690,1,"Normal",{"v":62.39,"d":"€62.39"},"LUXE",{"$f":"IFERROR(VLOOKUP(F19207,Discounts!A:C,3,0),0)","v":0},{"v":62.39,"d":"€62.39"}]
[157140,157130,1,"Normal",{"v":463.96,"d":"€463.96"},"B015",{"$f":"IFERROR(VLOOKUP(F19221,Discounts!A:C,3,0),0)","v":0},{"v":463.96,"d":"€463.96"}]
[157200,157170,1,"Normal",{"v":261.05,"d":"€261.05"},"P109",{"$f":"IFERROR(VLOOKUP(F19230,Discounts!A:C,3,0),0)","v":0},{"v":261.05,"d":"€261.05"}]
[157300,105710,1,"Normal",{"v":73.57,"d":"€73.57"},"LUXE",{"$f":"IFERROR(VLOOKUP(F19243,Discounts!A:C,3,0),0)","v":0},{"v":73.57,"d":"€73.57"}]
[157330,105710,1,"Normal",{"v":73.57,"d":"€73.57"},"LUXE",{"$f":"IFERROR(VLOOKUP(F19252,Discounts!A:C,3,0),0)","v":0},{"v":73.57,"d":"€73.57"}]
[157360,157300,2,"Combination",{"v":1462.22,"d":"€1,462.22"},"B015",{"$f":"IFERROR(VLOOKUP(F19261,Discounts!A:C,3,0),0)","v":0},{"v":1462.2200000000003,"d":"€1,462.22"}]
[157500,106730,1,"Normal",{"v":12.4,"d":"€12.40"},"LUXE",{"$f":"IFERROR(VLOOKUP(F19283,Discounts!A:C,3,0),0)","v":0},{"v":12.4,"d":"€12.40"}]
[157570,157510,1,"Normal",{"v":184.43,"d":"€184.43"},"P109",{"$f":"IFERROR(VLOOKUP(F19296,Discounts!A:C,3,0),0)","v":0},{"v":184.43,"d":"€184.43"}]
[157580,105710,1,"Normal",{"v":73.57,"d":"€73.57"},"LUXE",{"$f":"IFERROR(VLOOKUP(F19297,Discounts!A:C,3,0),0)","v":0},{"v":73.57,"d":"€73.57"}]
[157700,105740,1,"Normal",{"v":95.93,"d":"€95.93"},"LUXE",{"$f":"IFERROR(VLOOKUP(F19318,Discounts!A:C,3,0),0)","v":0},{"v":95.93,"d":"€95.93"}]
[157780,157750,1,"Normal",{"v":138.32,"d":"€138.32"},"P109",{"$f":"IFERROR(VLOOKUP(F19327,Discounts!A:C,3,0),0)","v":0},{"v":138.32,"d":"€138.32"}]
[158310,134070,1,"Normal",0,"LUXE",{"$f":"IFERROR(VLOOKUP(F19340,Discounts!A:C,3,0),0)","v":0},0]
[158360,31470,1,"Normal",{"v":133.88,"d":"€133.88"},"LUXE",{"$f":"IFERROR(VLOOKUP(F19351,Discounts!A:C,3,0),0)","v":0},{"v":133.88,"d":"€133.88"}]
[158410,134070,1,"Normal",0,"LUXE",{"$f":"IFERROR(VLOOKUP(F19359,Discounts!A:C,3,0),0)","v":0},0]
[158470,31470,1,"Normal",{"v":133.88,"d":"€133.88"},"LUXE",{"$f":"IFERROR(VLOOKUP(F19372,Discounts!A:C,3,0),0)","v":0},{"v":133.88,"d":"€133.88"}]
[158620,31470,1,"Normal",{"v":133.88,"d":"€133.88"},"LUXE",{"$f":"IFERROR(VLOOKUP(F19393,Discounts!A:C,3,0),0)","v":0},{"v":133.88,"d":"€133.88"}]
[158620,158600,1,"Normal",{"v":1152.89,"d":"€1,152.89"},"A010",{"$f":"IFERROR(VLOOKUP(F19394,Discounts!A:C,3,0),0)","v":0},{"$f":"IF(D19394=\"Normal\",E19394*(1-G19394),SUMIF(A:A,B19394,H:H)*C19394)","v":{"v":1152.89,"d":"€1,152.89"}}]
[158770,29710,1,"Normal",{"v":41.32,"d":"€41.32"},"LUXE",{"$f":"IFERROR(VLOOKUP(F19413,Discounts!A:C,3,0),0)","v":0},{"v":41.32,"d":"€41.32"}]
[158900,41640,1,"Normal",{"v":114.88,"d":"€114.88"},"LUXE",{"$f":"IFERROR(VLOOKUP(F19425,Discounts!A:C,3,0),0)","v":0},{"v":114.88,"d":"€114.88"}]
[159040,31470,1,"Normal",{"v":133.88,"d":"€133.88"},"LUXE",{"$f":"IFERROR(VLOOKUP(F19438,Discounts!A:C,3,0),0)","v":0},{"v":133.88,"d":"€133.88"}]
[159070,31470,2,"Normal",{"v":267.76,"d":"€267.76"},"LUXE",{"$f":"IFERROR(VLOOKUP(F19447,Discounts!A:C,3,0),0)","v":0},{"v":267.76,"d":"€267.76"}]
[159510,152320,1,"Combination",{"v":415.37,"d":"€415.37"},"B015",{"$f":"IFERROR(VLOOKUP(F19456,Discounts!A:C,3,0),0)","v":0},{"v":415.37,"d":"€415.37"}]
[159570,159130,1,"Normal",{"v":348.07,"d":"€348.07"},"P109",{"$f":"IFERROR(VLOOKUP(F19475,Discounts!A:C,3,0),0)","v":0},{"v":348.07,"d":"€348.07"}]
[159630,105700,1,"Normal",{"v":67.98,"d":"€67.98"},"LUXE",{"$f":"IFERROR(VLOOKUP(F19491,Discounts!A:C,3,0),0)","v":0},{"v":67.98,"d":"€67.98"}]
[159630,144750,1,"Normal",{"v":354.11,"d":"€354.11"},"B015",{"$f":"IFERROR(VLOOKUP(F19492,Discounts!A:C,3,0),0)","v":0},{"v":354.11,"d":"€354.11"}]
[159700,144820,1,"Combination",{"v":388.63,"d":"€388.63"},"B015",{"$f":"IFERROR(VLOOKUP(F19513,Discounts!A:C,3,0),0)","v":0},{"v":388.63,"d":"€388.63"}]
[159730,157010,1,"Normal",{"v":437.93,"d":"€437.93"},"B015",{"$f":"IFERROR(VLOOKUP(F19522,Discounts!A:C,3,0),0)","v":0},{"$f":"IF(D19522=\"Normal\",E19522*(1-G19522),SUMIF(A:A,B19522,H:H)*C19522)","v":{"v":437.93,"d":"€437.93"}}]
[159770,159250,1,"Normal",{"v":348.07,"d":"€348.07"},"P109",{"$f":"IFERROR(VLOOKUP(F19535,Discounts!A:C,3,0),0)","v":0},{"v":348.07,"d":"€348.07"}]
[159800,157380,1,"Combination",{"v":428.38,"d":"€428.38"},"B015",{"$f":"IFERROR(VLOOKUP(F19543,Discounts!A:C,3,0),0)","v":0},{"v":428.38,"d":"€428.38"}]
[159850,157730,1,"Normal",{"v":463.96,"d":"€463.96"},"B015",{"$f":"IFERROR(VLOOKUP(F19558,Discounts!A:C,3,0),0)","v":0},{"v":463.96,"d":"€463.96"}]
[159880,142910,1,"Normal",{"v":429,"d":"€429.00"},"B015",{"$f":"IFERROR(VLOOKUP(F19567,Discounts!A:C,3,0),0)","v":0},{"v":429,"d":"€429.00"}]
[159950,152360,1,"Combination",{"v":579.26,"d":"€579.26"},"B015",{"$f":"IFERROR(VLOOKUP(F19588,Discounts!A:C,3,0),0)","v":0},{"v":579.26,"d":"€579.26"}]
[159950,159340,1,"Normal",{"v":433.71,"d":"€433.71"},"P109",{"$f":"IFERROR(VLOOKUP(F19589,Discounts!A:C,3,0),0)","v":0},{"v":433.71,"d":"€433.71"}]
[160010,105710,1,"Normal",{"v":73.57,"d":"€73.57"},"LUXE",{"$f":"IFERROR(VLOOKUP(F19605,Discounts!A:C,3,0),0)","v":0},{"v":73.57,"d":"€73.57"}]
[160060,105710,1,"Normal",{"v":73.57,"d":"€73.57"},"LUXE",{"$f":"IFERROR(VLOOKUP(F19620,Discounts!A:C,3,0),0)","v":0},{"v":73.57,"d":"€73.57"}]
[160100,157020,1,"Combination",{"v":450.33,"d":"€450.33"},"B015",{"$f":"IFERROR(VLOOKUP(F19633,Discounts!A:C,3,0),0)","v":0},{"v":450.33,"d":"€450.33"}]
[160130,157250,1,"Normal",{"v":473.11,"d":"€473.11"},"B015",{"$f":"IFERROR(VLOOKUP(F19642,Discounts!A:C,3,0),0)","v":0},{"v":473.11,"d":"€473.11"}]
[160170,159470,1,"Normal",{"v":433.71,"d":"€433.71"},"P109",{"$f":"IFERROR(VLOOKUP(F19655,Discounts!A:C,3,0),0)","v":0},{"v":433.71,"d":"€433.71"}]
[160210,159490,1,"Normal",{"v":325.28,"d":"€325.28"},"P109",{"$f":"IFERROR(VLOOKUP(F19667,Discounts!A:C,3,0),0)","v":0},{"v":325.28,"d":"€325.28"}]
[160280,24970,2,"Normal",{"v":2509.1,"d":"€2,509.10"},"A055",{"$f":"IFERROR(VLOOKUP(F19686,Discounts!A:C,3,0),0)","v":0},{"v":2509.1,"d":"€2,509.10"}]
[160280,29720,2,"Normal",{"v":175.2,"d":"€175.20"},"LUXE",{"$f":"IFERROR(VLOOKUP(F19687,Discounts!A:C,3,0),0)","v":0},{"v":175.2,"d":"€175.20"}]
[162030,161950,1,"Normal",{"v":49.06,"d":"€49.06"},"O115",{"$f":"IFERROR(VLOOKUP(F19708,Discounts!A:C,3,0),0)","v":0},{"v":49.06,"d":"€49.06"}]
[162130,162110,1,"Normal",{"v":570.25,"d":"€570.25"},"C010",{"$f":"IFERROR(VLOOKUP(F19717,Discounts!A:C,3,0),0)","v":0},{"v":570.25,"d":"€570.25"}]
[162360,137810,2,"Normal",{"v":231.4,"d":"€231.40"},"LUXE",{"$f":"IFERROR(VLOOKUP(F19730,Discounts!A:C,3,0),0)","v":0},{"v":231.4,"d":"€231.40"}]
[162380,162090,2,"Combination",{"v":1639.68,"d":"€1,639.68"},"",{"$f":"IFERROR(VLOOKUP(F19735,Discounts!A:C,3,0),0)","v":0},{"v":1639.68,"d":"€1,639.68"}]
[162530,162140,2,"Combination",{"v":1710.76,"d":"€1,710.76"},"",{"$f":"IFERROR(VLOOKUP(F19753,Discounts!A:C,3,0),0)","v":0},{"v":1710.76,"d":"€1,710.76"}]
[162620,34260,1,"Normal",{"v":249.59,"d":"€249.59"},"LUXE",{"$f":"IFERROR(VLOOKUP(F19762,Discounts!A:C,3,0),0)","v":0},{"v":249.59,"d":"€249.59"}]
[162780,162760,2,"Normal",{"v":1016.52,"d":"€1,016.52"},"P106",{"$f":"IFERROR(VLOOKUP(F19783,Discounts!A:C,3,0),0)","v":0},{"v":1016.52,"d":"€1,016.52"}]
[162790,137810,1,"Normal",{"v":115.7,"d":"€115.70"},"LUXE",{"$f":"IFERROR(VLOOKUP(F19784,Discounts!A:C,3,0),0)","v":0},{"v":115.7,"d":"€115.70"}]
[162850,162620,2,"Combination",{"v":1631.42,"d":"€1,631.42"},"",{"$f":"IFERROR(VLOOKUP(F19797,Discounts!A:C,3,0),0)","v":0},{"v":1631.42,"d":"€1,631.42"}]
[162960,163110,1,"Normal",{"v":205.92,"d":"€205.92"},"SD/SG",{"$f":"IFERROR(VLOOKUP(F19819,Discounts!A:C,3,0),0)","v":0},{"v":205.92,"d":"€205.92"}]
[162990,32060,1,"Normal",{"v":115.7,"d":"€115.70"},"SD/SG",{"$f":"IFERROR(VLOOKUP(F19828,Discounts!A:C,3,0),0)","v":0},{"v":115.7,"d":"€115.70"}]
[163010,40970,1,"Normal",{"v":58.68,"d":"€58.68"},"SD/SG",{"$f":"IFERROR(VLOOKUP(F19837,Discounts!A:C,3,0),0)","v":0},{"v":58.68,"d":"€58.68"}]
[163040,41440,1,"Normal",{"v":508.26,"d":"€508.26"},"D010",{"$f":"IFERROR(VLOOKUP(F19850,Discounts!A:C,3,0),0)","v":0},{"v":508.26,"d":"€508.26"}]
[163060,163210,1,"Normal",{"v":433.18,"d":"€433.18"},"SD/SG",{"$f":"IFERROR(VLOOKUP(F19859,Discounts!A:C,3,0),0)","v":0},{"v":433.18,"d":"€433.18"}]
[163270,40970,1,"Normal",{"v":58.68,"d":"€58.68"},"SD/SG",{"$f":"IFERROR(VLOOKUP(F19881,Discounts!A:C,3,0),0)","v":0},{"v":58.68,"d":"€58.68"}]
[163270,41450,1,"Normal",{"v":573.55,"d":"€573.55"},"D010",{"$f":"IFERROR(VLOOKUP(F19882,Discounts!A:C,3,0),0)","v":0},{"v":573.55,"d":"€573.55"}]
[163320,163170,1,"Normal",{"v":172.38,"d":"€172.38"},"SD/SG",{"$f":"IFERROR(VLOOKUP(F19903,Discounts!A:C,3,0),0)","v":0},{"v":172.38,"d":"€172.38"}]
[163360,32060,1,"Normal",{"v":115.7,"d":"€115.70"},"SD/SG",{"$f":"IFERROR(VLOOKUP(F19916,Discounts!A:C,3,0),0)","v":0},{"v":115.7,"d":"€115.70"}]
[164200,40450,1,"Normal",{"v":13.22,"d":"€13.22"},"SD/SG",{"$f":"IFERROR(VLOOKUP(F19921,Discounts!A:C,3,0),0)","v":0},{"v":13.22,"d":"€13.22"}]
[164250,31920,1,"Normal",{"v":115.7,"d":"€115.70"},"SD/SG",{"$f":"IFERROR(VLOOKUP(F19935,Discounts!A:C,3,0),0)","v":0},{"v":115.7,"d":"€115.70"}]
[164290,40450,1,"Normal",{"v":13.22,"d":"€13.22"},"SD/SG",{"$f":"IFERROR(VLOOKUP(F19948,Discounts!A:C,3,0),0)","v":0},{"v":13.22,"d":"€13.22"}]
[164320,40450,1,"Normal",{"v":13.22,"d":"€13.22"},"SD/SG",{"$f":"IFERROR(VLOOKUP(F19957,Discounts!A:C,3,0),0)","v":0},{"v":13.22,"d":"€13.22"}]
[164510,164390,-1,"Normal",{"v":-557.02,"d":"€(557.02)"},"D060",{"$f":"IFERROR(VLOOKUP(F19970,Discounts!A:C,3,0),0)","v":0},{"$f":"IF(D19970=\"Normal\",E19970*(1-G19970),SUMIF(A:A,B19970,H:H)*C19970)","v":{"v":-557.02,"d":"€(557.02)"}}]
[164550,164460,1,"Normal",{"v":1039.67,"d":"€1,039.67"},"D060",{"$f":"IFERROR(VLOOKUP(F19979,Discounts!A:C,3,0),0)","v":0},{"v":1039.67,"d":"€1,039.67"}]
[164610,40470,1,"Normal",{"v":53.72,"d":"€53.72"},"SD/SG",{"$f":"IFERROR(VLOOKUP(F20002,Discounts!A:C,3,0),0)","v":0},{"v":53.72,"d":"€53.72"}]
[164630,164390,1,"Normal",{"v":557.02,"d":"€557.02"},"D060",{"$f":"IFERROR(VLOOKUP(F20014,Discounts!A:C,3,0),0)","v":0},{"v":557.02,"d":"€557.02"}]
[164650,40970,1,"Normal",{"v":58.68,"d":"€58.68"},"SD/SG",{"$f":"IFERROR(VLOOKUP(F20023,Discounts!A:C,3,0),0)","v":0},{"v":58.68,"d":"€58.68"}]
[164670,40470,1,"Normal",{"v":53.72,"d":"€53.72"},"SD/SG",{"$f":"IFERROR(VLOOKUP(F20032,Discounts!A:C,3,0),0)","v":0},{"v":53.72,"d":"€53.72"}]
[164700,31100,1,"Normal",{"v":205.92,"d":"€205.92"},"SD/SG",{"$f":"IFERROR(VLOOKUP(F20045,Discounts!A:C,3,0),0)","v":0},{"v":205.92,"d":"€205.92"}]
[164730,164390,1,"Normal",{"v":557.02,"d":"€557.02"},"D060",{"$f":"IFERROR(VLOOKUP(F20064,Discounts!A:C,3,0),0)","v":0},{"v":557.02,"d":"€557.02"}]
[164740,40970,1,"Normal",{"v":58.68,"d":"€58.68"},"SD/SG",{"$f":"IFERROR(VLOOKUP(F20068,Discounts!A:C,3,0),0)","v":0},{"v":58.68,"d":"€58.68"}]
[164760,40470,1,"Normal",{"v":53.72,"d":"€53.72"},"SD/SG",{"$f":"IFERROR(VLOOKUP(F20077,Discounts!A:C,3,0),0)","v":0},{"v":53.72,"d":"€53.72"}]
[164800,40970,1,"Normal",{"v":58.68,"d":"€58.68"},"SD/SG",{"$f":"IFERROR(VLOOKUP(F20098,Discounts!A:C,3,0),0)","v":0},{"$f":"IF(D20098=\"Normal\",E20098*(1-G20098),SUMIF(A:A,B20098,H:H)*C20098)","v":{"v":58.68,"d":"€58.68"}}]
[164830,32060,1,"Normal",{"v":115.7,"d":"€115.70"},"SD/SG",{"$f":"IFERROR(VLOOKUP(F20111,Discounts!A:C,3,0),0)","v":0},{"v":115.7,"d":"€115.70"}]
[164830,40970,1,"Normal",{"v":58.68,"d":"€58.68"},"SD/SG",{"$f":"IFERROR(VLOOKUP(F20113,Discounts!A:C,3,0),0)","v":0},{"v":58.68,"d":"€58.68"}]
[164870,31190,1,"Normal",{"v":128.61,"d":"€128.61"},"SD/SG",{"$f":"IFERROR(VLOOKUP(F20130,Discounts!A:C,3,0),0)","v":0},{"v":128.61,"d":"€128.61"}]
[164890,40970,1,"Normal",{"v":58.68,"d":"€58.68"},"SD/SG",{"$f":"IFERROR(VLOOKUP(F20143,Discounts!A:C,3,0),0)","v":0},{"v":58.68,"d":"€58.68"}]
[164910,40470,1,"Normal",{"v":53.72,"d":"€53.72"},"SD/SG",{"$f":"IFERROR(VLOOKUP(F20152,Discounts!A:C,3,0),0)","v":0},{"v":53.72,"d":"€53.72"}]
[164940,31220,1,"Normal",{"v":262.73,"d":"€262.73"},"SD/SG",{"$f":"IFERROR(VLOOKUP(F20165,Discounts!A:C,3,0),0)","v":0},{"v":262.73,"d":"€262.73"}]
[164950,164390,1,"Normal",{"v":557.02,"d":"€557.02"},"D060",{"$f":"IFERROR(VLOOKUP(F20174,Discounts!A:C,3,0),0)","v":0},{"v":557.02,"d":"€557.02"}]
[164990,164390,1,"Normal",{"v":557.02,"d":"€557.02"},"D060",{"$f":"IFERROR(VLOOKUP(F20194,Discounts!A:C,3,0),0)","v":0},{"v":557.02,"d":"€557.02"}]
[165020,164400,1,"Normal",{"v":676.86,"d":"€676.86"},"D060",{"$f":"IFERROR(VLOOKUP(F20209,Discounts!A:C,3,0),0)","v":0},{"v":676.86,"d":"€676.86"}]
[165040,40970,1,"Normal",{"v":58.68,"d":"€58.68"},"SD/SG",{"$f":"IFERROR(VLOOKUP(F20218,Discounts!A:C,3,0),0)","v":0},{"v":58.68,"d":"€58.68"}]
[165070,32060,1,"Normal",{"v":115.7,"d":"€115.70"},"SD/SG",{"$f":"IFERROR(VLOOKUP(F20231,Discounts!A:C,3,0),0)","v":0},{"v":115.7,"d":"€115.70"}]
[165190,31000,0.5,"Normal",{"v":112.81,"d":"€112.81"},"SD/SG",{"$f":"IFERROR(VLOOKUP(F20240,Discounts!A:C,3,0),0)","v":0},{"v":112.81,"d":"€112.81"}]
[165350,165340,1,"Normal",{"v":762.81,"d":"€762.81"},"E095",{"$f":"IFERROR(VLOOKUP(F20256,Discounts!A:C,3,0),0)","v":0},{"v":762.81,"d":"€762.81"}]
[165390,48600,1,"Normal",{"v":19.83,"d":"€19.83"},"SD/SG",{"$f":"IFERROR(VLOOKUP(F20263,Discounts!A:C,3,0),0)","v":0},{"v":19.83,"d":"€19.83"}]
[165430,165420,1,"Normal",{"v":908.26,"d":"€908.26"},"E095",{"$f":"IFERROR(VLOOKUP(F20272,Discounts!A:C,3,0),0)","v":0},{"v":908.26,"d":"€908.26"}]
[166380,32060,1,"Normal",{"v":115.7,"d":"€115.70"},"SD/SG",{"$f":"IFERROR(VLOOKUP(F20293,Discounts!A:C,3,0),0)","v":0},{"v":115.7,"d":"€115.70"}]
[166410,163070,1,"Normal",{"v":155.62,"d":"€155.62"},"SD/SG",{"$f":"IFERROR(VLOOKUP(F20306,Discounts!A:C,3,0),0)","v":0},{"v":155.62,"d":"€155.62"}]
[166440,163090,1,"Normal",{"v":205.92,"d":"€205.92"},"SD/SG",{"$f":"IFERROR(VLOOKUP(F20318,Discounts!A:C,3,0),0)","v":0},{"v":205.92,"d":"€205.92"}]
[166470,32060,1,"Normal",{"v":115.7,"d":"€115.70"},"SD/SG",{"$f":"IFERROR(VLOOKUP(F20329,Discounts!A:C,3,0),0)","v":0},{"v":115.7,"d":"€115.70"}]
[166490,163120,1,"Normal",{"v":238.51,"d":"€238.51"},"SD/SG",{"$f":"IFERROR(VLOOKUP(F20338,Discounts!A:C,3,0),0)","v":0},{"v":238.51,"d":"€238.51"}]
[166510,166320,1,"Normal",{"v":709.09,"d":"€709.09"},"D010",{"$f":"IFERROR(VLOOKUP(F20347,Discounts!A:C,3,0),0)","v":0},{"v":709.09,"d":"€709.09"}]
[166550,31180,1,"Normal",{"v":292.54,"d":"€292.54"},"SD/SG",{"$f":"IFERROR(VLOOKUP(F20360,Discounts!A:C,3,0),0)","v":0},{"v":292.54,"d":"€292.54"}]
[166600,31200,1,"Normal",{"v":139.79,"d":"€139.79"},"SD/SG",{"$f":"IFERROR(VLOOKUP(F20380,Discounts!A:C,3,0),0)","v":0},{"v":139.79,"d":"€139.79"}]
[166600,166320,1,"Normal",{"v":709.09,"d":"€709.09"},"D010",{"$f":"IFERROR(VLOOKUP(F20383,Discounts!A:C,3,0),0)","v":0},{"v":709.09,"d":"€709.09"}]
[166660,31260,1,"Normal",{"v":328.87,"d":"€328.87"},"SD/SG",{"$f":"IFERROR(VLOOKUP(F20404,Discounts!A:C,3,0),0)","v":0},{"v":328.87,"d":"€328.87"}]
[166680,40970,1,"Normal",{"v":58.68,"d":"€58.68"},"SD/SG",{"$f":"IFERROR(VLOOKUP(F20413,Discounts!A:C,3,0),0)","v":0},{"v":58.68,"d":"€58.68"}]
[166710,49970,1,"Normal",{"v":492.56,"d":"€492.56"},"SD/SG",{"$f":"IFERROR(VLOOKUP(F20426,Discounts!A:C,3,0),0)","v":0},{"v":492.56,"d":"€492.56"}]
[166730,166320,1,"Normal",{"v":709.09,"d":"€709.09"},"D010",{"$f":"IFERROR(VLOOKUP(F20435,Discounts!A:C,3,0),0)","v":0},{"v":709.09,"d":"€709.09"}]
[166770,32060,1,"Normal",{"v":115.7,"d":"€115.70"},"SD/SG",{"$f":"IFERROR(VLOOKUP(F20448,Discounts!A:C,3,0),0)","v":0},{"v":115.7,"d":"€115.70"}]
[167970,49540,1,"Normal",{"v":9.92,"d":"€9.92"},"SD/SG",{"$f":"IFERROR(VLOOKUP(F20458,Discounts!A:C,3,0),0)","v":0},{"v":9.92,"d":"€9.92"}]
[168630,32060,1,"Normal",{"v":115.7,"d":"€115.70"},"SD/SG",{"$f":"IFERROR(VLOOKUP(F20467,Discounts!A:C,3,0),0)","v":0},{"v":115.7,"d":"€115.70"}]
[169900,169000,1,"Normal",{"v":523.97,"d":"€523.97"},"E015",{"$f":"IFERROR(VLOOKUP(F20480,Discounts!A:C,3,0),0)","v":0},{"v":523.97,"d":"€523.97"}]
[169950,40450,1,"Normal",{"v":13.22,"d":"€13.22"},"SD/SG",{"$f":"IFERROR(VLOOKUP(F20501,Discounts!A:C,3,0),0)","v":0},{"v":13.22,"d":"€13.22"}]
[169970,33990,1,"Normal",{"v":102.48,"d":"€102.48"},"SD/SG",{"$f":"IFERROR(VLOOKUP(F20510,Discounts!A:C,3,0),0)","v":0},{"v":102.48,"d":"€102.48"}]
[170000,40450,1,"Normal",{"v":13.22,"d":"€13.22"},"SD/SG",{"$f":"IFERROR(VLOOKUP(F20524,Discounts!A:C,3,0),0)","v":0},{"v":13.22,"d":"€13.22"}]
[170020,40520,1,"Normal",{"v":64.46,"d":"€64.46"},"SD/SG",{"$f":"IFERROR(VLOOKUP(F20533,Discounts!A:C,3,0),0)","v":0},{"v":64.46,"d":"€64.46"}]
[170080,169180,1,"Normal",{"v":1524.79,"d":"€1,524.79"},"E020",{"$f":"IFERROR(VLOOKUP(F20542,Discounts!A:C,3,0),0)","v":0},{"v":1524.79,"d":"€1,524.79"}]
[170120,40450,1,"Normal",{"v":13.22,"d":"€13.22"},"SD/SG",{"$f":"IFERROR(VLOOKUP(F20555,Discounts!A:C,3,0),0)","v":0},{"v":13.22,"d":"€13.22"}]
[170160,40520,1,"Normal",{"v":64.46,"d":"€64.46"},"SD/SG",{"$f":"IFERROR(VLOOKUP(F20572,Discounts!A:C,3,0),0)","v":0},{"v":64.46,"d":"€64.46"}]
[170180,31920,1,"Normal",{"v":115.7,"d":"€115.70"},"SD/SG",{"$f":"IFERROR(VLOOKUP(F20578,Discounts!A:C,3,0),0)","v":0},{"v":115.7,"d":"€115.70"}]
[170230,40450,1,"Normal",{"v":13.22,"d":"€13.22"},"SD/SG",{"$f":"IFERROR(VLOOKUP(F20599,Discounts!A:C,3,0),0)","v":0},{"v":13.22,"d":"€13.22"}]
[170250,40520,1,"Normal",{"v":64.46,"d":"€64.46"},"SD/SG",{"$f":"IFERROR(VLOOKUP(F20608,Discounts!A:C,3,0),0)","v":0},{"v":64.46,"d":"€64.46"}]
[170280,40520,1,"Normal",{"v":64.46,"d":"€64.46"},"SD/SG",{"$f":"IFERROR(VLOOKUP(F20621,Discounts!A:C,3,0),0)","v":0},{"v":64.46,"d":"€64.46"}]
[170300,40520,1,"Normal",{"v":64.46,"d":"€64.46"},"SD/SG",{"$f":"IFERROR(VLOOKUP(F20630,Discounts!A:C,3,0),0)","v":0},{"v":64.46,"d":"€64.46"}]
[170350,40450,1,"Normal",{"v":13.22,"d":"€13.22"},"SD/SG",{"$f":"IFERROR(VLOOKUP(F20649,Discounts!A:C,3,0),0)","v":0},{"v":13.22,"d":"€13.22"}]
[170360,34000,1,"Normal",{"v":125.62,"d":"€125.62"},"SD/SG",{"$f":"IFERROR(VLOOKUP(F20653,Discounts!A:C,3,0),0)","v":0},{"v":125.62,"d":"€125.62"}]
[170380,40450,1,"Normal",{"v":13.22,"d":"€13.22"},"SD/SG",{"$f":"IFERROR(VLOOKUP(F20662,Discounts!A:C,3,0),0)","v":0},{"v":13.22,"d":"€13.22"}]
[170410,40450,1,"Normal",{"v":13.22,"d":"€13.22"},"SD/SG",{"$f":"IFERROR(VLOOKUP(F20675,Discounts!A:C,3,0),0)","v":0},{"v":13.22,"d":"€13.22"}]
[170460,40530,1,"Normal",{"v":88.43,"d":"€88.43"},"SD/SG",{"$f":"IFERROR(VLOOKUP(F20696,Discounts!A:C,3,0),0)","v":0},{"v":88.43,"d":"€88.43"}]
[170470,168990,1,"Normal",{"v":432.23,"d":"€432.23"},"E015",{"$f":"IFERROR(VLOOKUP(F20702,Discounts!A:C,3,0),0)","v":0},{"v":432.23,"d":"€432.23"}]
[170520,31920,1,"Normal",{"v":115.7,"d":"€115.70"},"SD/SG",{"$f":"IFERROR(VLOOKUP(F20719,Discounts!A:C,3,0),0)","v":0},{"v":115.7,"d":"€115.70"}]
[170540,40450,2,"Normal",{"v":26.44,"d":"€26.44"},"SD/SG",{"$f":"IFERROR(VLOOKUP(F20728,Discounts!A:C,3,0),0)","v":0},{"v":26.44,"d":"€26.44"}]
[170570,40450,2,"Normal",{"v":26.44,"d":"€26.44"},"SD/SG",{"$f":"IFERROR(VLOOKUP(F20741,Discounts!A:C,3,0),0)","v":0},{"v":26.44,"d":"€26.44"}]
[170590,40530,1,"Normal",{"v":88.43,"d":"€88.43"},"SD/SG",{"$f":"IFERROR(VLOOKUP(F20750,Discounts!A:C,3,0),0)","v":0},{"v":88.43,"d":"€88.43"}]
[170630,31920,1,"Normal",{"v":115.7,"d":"€115.70"},"SD/SG",{"$f":"IFERROR(VLOOKUP(F20764,Discounts!A:C,3,0),0)","v":0},{"v":115.7,"d":"€115.70"}]
[170650,40450,3,"Normal",{"v":39.66,"d":"€39.66"},"SD/SG",{"$f":"IFERROR(VLOOKUP(F20773,Discounts!A:C,3,0),0)","v":0},{"v":39.66,"d":"€39.66"}]
[170700,42300,1,"Normal",{"v":134.71,"d":"€134.71"},"SD/SG",{"$f":"IFERROR(VLOOKUP(F20794,Discounts!A:C,3,0),0)","v":0},{"v":134.71,"d":"€134.71"}]
[170720,169680,1,"Normal",{"v":658.68,"d":"€658.68"},"E015",{"$f":"IFERROR(VLOOKUP(F20803,Discounts!A:C,3,0),0)","v":0},{"v":658.68,"d":"€658.68"}]
[170760,31920,1,"Normal",{"v":115.7,"d":"€115.70"},"SD/SG",{"$f":"IFERROR(VLOOKUP(F20816,Discounts!A:C,3,0),0)","v":0},{"v":115.7,"d":"€115.70"}]
[170780,40530,1,"Normal",{"v":88.43,"d":"€88.43"},"SD/SG",{"$f":"IFERROR(VLOOKUP(F20826,Discounts!A:C,3,0),0)","v":0},{"v":88.43,"d":"€88.43"}]
[170810,169030,1,"Normal",{"v":699.17,"d":"€699.17"},"E015",{"$f":"IFERROR(VLOOKUP(F20839,Discounts!A:C,3,0),0)","v":0},{"v":699.17,"d":"€699.17"}]
[170840,31920,1,"Normal",{"v":115.7,"d":"€115.70"},"SD/SG",{"$f":"IFERROR(VLOOKUP(F20848,Discounts!A:C,3,0),0)","v":0},{"v":115.7,"d":"€115.70"}]
[170860,40450,2,"Normal",{"v":26.44,"d":"€26.44"},"SD/SG",{"$f":"IFERROR(VLOOKUP(F20857,Discounts!A:C,3,0),0)","v":0},{"v":26.44,"d":"€26.44"}]
[170890,40530,1,"Normal",{"v":88.43,"d":"€88.43"},"SD/SG",{"$f":"IFERROR(VLOOKUP(F20870,Discounts!A:C,3,0),0)","v":0},{"v":88.43,"d":"€88.43"}]
[170940,169110,1,"Normal",{"v":964.46,"d":"€964.46"},"E015",{"$f":"IFERROR(VLOOKUP(F20891,Discounts!A:C,3,0),0)","v":0},{"v":964.46,"d":"€964.46"}]
[170970,40520,1,"Normal",{"v":64.46,"d":"€64.46"},"SD/SG",{"$f":"IFERROR(VLOOKUP(F20903,Discounts!A:C,3,0),0)","v":0},{"v":64.46,"d":"€64.46"}]
[171000,31920,1,"Normal",{"v":115.7,"d":"€115.70"},"SD/SG",{"$f":"IFERROR(VLOOKUP(F20914,Discounts!A:C,3,0),0)","v":0},{"v":115.7,"d":"€115.70"}]
[171020,31920,1,"Normal",{"v":115.7,"d":"€115.70"},"SD/SG",{"$f":"IFERROR(VLOOKUP(F20923,Discounts!A:C,3,0),0)","v":0},{"v":115.7,"d":"€115.70"}]
[171060,31920,2,"Normal",{"v":231.4,"d":"€231.40"},"SD/SG",{"$f":"IFERROR(VLOOKUP(F20936,Discounts!A:C,3,0),0)","v":0},{"v":231.4,"d":"€231.40"}]
[171090,31920,2,"Normal",{"v":231.4,"d":"€231.40"},"SD/SG",{"$f":"IFERROR(VLOOKUP(F20945,Discounts!A:C,3,0),0)","v":0},{"v":231.4,"d":"€231.40"}]
[171670,171300,1,"Normal",{"v":442.98,"d":"€442.98"},"E016",{"$f":"IFERROR(VLOOKUP(F20956,Discounts!A:C,3,0),0)","v":0},{"v":442.98,"d":"€442.98"}]
[171780,40450,1,"Normal",{"v":13.22,"d":"€13.22"},"SD/SG",{"$f":"IFERROR(VLOOKUP(F20968,Discounts!A:C,3,0),0)","v":0},{"v":13.22,"d":"€13.22"}]
[171820,40520,1,"Normal",{"v":64.46,"d":"€64.46"},"SD/SG",{"$f":"IFERROR(VLOOKUP(F20989,Discounts!A:C,3,0),0)","v":0},{"v":64.46,"d":"€64.46"}]
[171850,33990,1,"Normal",{"v":102.48,"d":"€102.48"},"SD/SG",{"$f":"IFERROR(VLOOKUP(F21002,Discounts!A:C,3,0),0)","v":0},{"v":102.48,"d":"€102.48"}]
[171870,31920,2,"Normal",{"v":231.4,"d":"€231.40"},"SD/SG",{"$f":"IFERROR(VLOOKUP(F21011,Discounts!A:C,3,0),0)","v":0},{"v":231.4,"d":"€231.40"}]
[171880,40450,2,"Normal",{"v":26.44,"d":"€26.44"},"SD/SG",{"$f":"IFERROR(VLOOKUP(F21018,Discounts!A:C,3,0),0)","v":0},{"v":26.44,"d":"€26.44"}]
[171910,40520,2,"Normal",{"v":128.92,"d":"€128.92"},"SD/SG",{"$f":"IFERROR(VLOOKUP(F21034,Discounts!A:C,3,0),0)","v":0},{"v":128.92,"d":"€128.92"}]
[171930,40450,2,"Normal",{"v":26.44,"d":"€26.44"},"SD/SG",{"$f":"IFERROR(VLOOKUP(F21043,Discounts!A:C,3,0),0)","v":0},{"v":26.44,"d":"€26.44"}]
[171960,31920,2,"Normal",{"v":231.4,"d":"€231.40"},"SD/SG",{"$f":"IFERROR(VLOOKUP(F21056,Discounts!A:C,3,0),0)","v":0},{"v":231.4,"d":"€231.40"}]
[171970,171260,1,"Normal",{"v":492.56,"d":"€492.56"},"E016",{"$f":"IFERROR(VLOOKUP(F21065,Discounts!A:C,3,0),0)","v":0},{"v":492.56,"d":"€492.56"}]
[172030,40520,1,"Normal",{"v":64.46,"d":"€64.46"},"SD/SG",{"$f":"IFERROR(VLOOKUP(F21086,Discounts!A:C,3,0),0)","v":0},{"v":64.46,"d":"€64.46"}]
[172050,40450,1,"Normal",{"v":13.22,"d":"€13.22"},"SD/SG",{"$f":"IFERROR(VLOOKUP(F21095,Discounts!A:C,3,0),0)","v":0},{"v":13.22,"d":"€13.22"}]
[172080,40520,1,"Normal",{"v":64.46,"d":"€64.46"},"SD/SG",{"$f":"IFERROR(VLOOKUP(F21109,Discounts!A:C,3,0),0)","v":0},{"v":64.46,"d":"€64.46"}]
[172100,171160,1,"Normal",{"v":414.05,"d":"€414.05"},"E011",{"$f":"IFERROR(VLOOKUP(F21118,Discounts!A:C,3,0),0)","v":0},{"v":414.05,"d":"€414.05"}]
[172140,31920,1,"Normal",{"v":115.7,"d":"€115.70"},"SD/SG",{"$f":"IFERROR(VLOOKUP(F21131,Discounts!A:C,3,0),0)","v":0},{"v":115.7,"d":"€115.70"}]
[172160,40450,1,"Normal",{"v":13.22,"d":"€13.22"},"SD/SG",{"$f":"IFERROR(VLOOKUP(F21140,Discounts!A:C,3,0),0)","v":0},{"v":13.22,"d":"€13.22"}]
[172200,40520,1,"Normal",{"v":64.46,"d":"€64.46"},"SD/SG",{"$f":"IFERROR(VLOOKUP(F21157,Discounts!A:C,3,0),0)","v":0},{"v":64.46,"d":"€64.46"}]
[172220,31920,1,"Normal",{"v":115.7,"d":"€115.70"},"SD/SG",{"$f":"IFERROR(VLOOKUP(F21163,Discounts!A:C,3,0),0)","v":0},{"v":115.7,"d":"€115.70"}]
[172260,171330,1,"Normal",{"v":629.75,"d":"€629.75"},"E016",{"$f":"IFERROR(VLOOKUP(F21184,Discounts!A:C,3,0),0)","v":0},{"v":629.75,"d":"€629.75"}]
[172300,31920,1,"Normal",{"v":115.7,"d":"€115.70"},"SD/SG",{"$f":"IFERROR(VLOOKUP(F21197,Discounts!A:C,3,0),0)","v":0},{"v":115.7,"d":"€115.70"}]
[172320,40450,1,"Normal",{"v":13.22,"d":"€13.22"},"SD/SG",{"$f":"IFERROR(VLOOKUP(F21206,Discounts!A:C,3,0),0)","v":0},{"v":13.22,"d":"€13.22"}]
[172330,40450,1,"Normal",{"v":13.22,"d":"€13.22"},"SD/SG",{"$f":"IFERROR(VLOOKUP(F21210,Discounts!A:C,3,0),0)","v":0},{"v":13.22,"d":"€13.22"}]
[172370,40520,1,"Normal",{"v":64.46,"d":"€64.46"},"SD/SG",{"$f":"IFERROR(VLOOKUP(F21229,Discounts!A:C,3,0),0)","v":0},{"v":64.46,"d":"€64.46"}]
[172390,171490,1,"Normal",{"v":880.17,"d":"€880.17"},"E016",{"$f":"IFERROR(VLOOKUP(F21238,Discounts!A:C,3,0),0)","v":0},{"v":880.17,"d":"€880.17"}]
[172430,31920,1,"Normal",{"v":115.7,"d":"€115.70"},"SD/SG",{"$f":"IFERROR(VLOOKUP(F21251,Discounts!A:C,3,0),0)","v":0},{"v":115.7,"d":"€115.70"}]
[172450,40450,3,"Normal",{"v":39.66,"d":"€39.66"},"SD/SG",{"$f":"IFERROR(VLOOKUP(F21260,Discounts!A:C,3,0),0)","v":0},{"v":39.66,"d":"€39.66"}]
[172500,40520,1,"Normal",{"v":64.46,"d":"€64.46"},"SD/SG",{"$f":"IFERROR(VLOOKUP(F21281,Discounts!A:C,3,0),0)","v":0},{"v":64.46,"d":"€64.46"}]
[172520,31920,1,"Normal",{"v":115.7,"d":"€115.70"},"SD/SG",{"$f":"IFERROR(VLOOKUP(F21287,Discounts!A:C,3,0),0)","v":0},{"v":115.7,"d":"€115.70"}]
[172560,40450,1,"Normal",{"v":13.22,"d":"€13.22"},"SD/SG",{"$f":"IFERROR(VLOOKUP(F21304,Discounts!A:C,3,0),0)","v":0},{"v":13.22,"d":"€13.22"}]
[172590,40450,1,"Normal",{"v":13.22,"d":"€13.22"},"SD/SG",{"$f":"IFERROR(VLOOKUP(F21317,Discounts!A:C,3,0),0)","v":0},{"v":13.22,"d":"€13.22"}]
[172610,33990,1,"Normal",{"v":102.48,"d":"€102.48"},"SD/SG",{"$f":"IFERROR(VLOOKUP(F21326,Discounts!A:C,3,0),0)","v":0},{"v":102.48,"d":"€102.48"}]
[172630,31920,1,"Normal",{"v":115.7,"d":"€115.70"},"SD/SG",{"$f":"IFERROR(VLOOKUP(F21335,Discounts!A:C,3,0),0)","v":0},{"v":115.7,"d":"€115.70"}]
[172660,40520,1,"Normal",{"v":64.46,"d":"€64.46"},"SD/SG",{"$f":"IFERROR(VLOOKUP(F21349,Discounts!A:C,3,0),0)","v":0},{"v":64.46,"d":"€64.46"}]
[172680,40450,2,"Normal",{"v":26.44,"d":"€26.44"},"SD/SG",{"$f":"IFERROR(VLOOKUP(F21358,Discounts!A:C,3,0),0)","v":0},{"v":26.44,"d":"€26.44"}]
[173840,172920,1,"Normal",{"v":741.32,"d":"€741.32"},"E012",{"$f":"IFERROR(VLOOKUP(F21379,Discounts!A:C,3,0),0)","v":0},{"v":741.32,"d":"€741.32"}]
[173870,173610,1,"Normal",{"v":742.15,"d":"€742.15"},"E012",{"$f":"IFERROR(VLOOKUP(F21392,Discounts!A:C,3,0),0)","v":0},{"v":742.15,"d":"€742.15"}]
[173900,31920,1,"Normal",{"v":115.7,"d":"€115.70"},"SD/SG",{"$f":"IFERROR(VLOOKUP(F21401,Discounts!A:C,3,0),0)","v":0},{"v":115.7,"d":"€115.70"}]
[173920,173630,1,"Normal",{"v":1057.85,"d":"€1,057.85"},"E012",{"$f":"IFERROR(VLOOKUP(F21411,Discounts!A:C,3,0),0)","v":0},{"v":1057.85,"d":"€1,057.85"}]
[173960,173090,1,"Normal",{"v":1909.92,"d":"€1,909.92"},"E021",{"$f":"IFERROR(VLOOKUP(F21424,Discounts!A:C,3,0),0)","v":0},{"v":1909.92,"d":"€1,909.92"}]
[173990,172730,1,"Normal",{"v":520.66,"d":"€520.66"},"E012",{"$f":"IFERROR(VLOOKUP(F21433,Discounts!A:C,3,0),0)","v":0},{"v":520.66,"d":"€520.66"}]
[174040,31920,1,"Normal",{"v":115.7,"d":"€115.70"},"SD/SG",{"$f":"IFERROR(VLOOKUP(F21446,Discounts!A:C,3,0),0)","v":0},{"v":115.7,"d":"€115.70"}]
[174070,31920,1,"Normal",{"v":115.7,"d":"€115.70"},"SD/SG",{"$f":"IFERROR(VLOOKUP(F21455,Discounts!A:C,3,0),0)","v":0},{"v":115.7,"d":"€115.70"}]
[174130,40450,1,"Normal",{"v":13.22,"d":"€13.22"},"SD/SG",{"$f":"IFERROR(VLOOKUP(F21477,Discounts!A:C,3,0),0)","v":0},{"v":13.22,"d":"€13.22"}]
[174160,48600,1,"Normal",{"v":19.83,"d":"€19.83"},"SD/SG",{"$f":"IFERROR(VLOOKUP(F21490,Discounts!A:C,3,0),0)","v":0},{"v":19.83,"d":"€19.83"}]
[174190,31920,1,"Normal",{"v":115.7,"d":"€115.70"},"SD/SG",{"$f":"IFERROR(VLOOKUP(F21499,Discounts!A:C,3,0),0)","v":0},{"v":115.7,"d":"€115.70"}]
[174220,40450,1,"Normal",{"v":13.22,"d":"€13.22"},"SD/SG",{"$f":"IFERROR(VLOOKUP(F21512,Discounts!A:C,3,0),0)","v":0},{"v":13.22,"d":"€13.22"}]
[174250,31920,1,"Normal",{"v":115.7,"d":"€115.70"},"SD/SG",{"$f":"IFERROR(VLOOKUP(F21521,Discounts!A:C,3,0),0)","v":0},{"v":115.7,"d":"€115.70"}]
[174270,40450,1,"Normal",{"v":13.22,"d":"€13.22"},"SD/SG",{"$f":"IFERROR(VLOOKUP(F21530,Discounts!A:C,3,0),0)","v":0},{"v":13.22,"d":"€13.22"}]
[174300,40450,1,"Normal",{"v":13.22,"d":"€13.22"},"SD/SG",{"$f":"IFERROR(VLOOKUP(F21541,Discounts!A:C,3,0),0)","v":0},{"v":13.22,"d":"€13.22"}]
[174340,40450,2,"Normal",{"v":26.44,"d":"€26.44"},"SD/SG",{"$f":"IFERROR(VLOOKUP(F21553,Discounts!A:C,3,0),0)","v":0},{"v":26.44,"d":"€26.44"}]
[174380,40450,2,"Normal",{"v":26.44,"d":"€26.44"},"SD/SG",{"$f":"IFERROR(VLOOKUP(F21566,Discounts!A:C,3,0),0)","v":0},{"v":26.44,"d":"€26.44"}]
[174450,31920,1,"Normal",{"v":115.7,"d":"€115.70"},"SD/SG",{"$f":"IFERROR(VLOOKUP(F21587,Discounts!A:C,3,0),0)","v":0},{"v":115.7,"d":"€115.70"}]
[174480,31920,1,"Normal",{"v":115.7,"d":"€115.70"},"SD/SG",{"$f":"IFERROR(VLOOKUP(F21596,Discounts!A:C,3,0),0)","v":0},{"v":115.7,"d":"€115.70"}]
[174500,40450,3,"Normal",{"v":39.66,"d":"€39.66"},"SD/SG",{"$f":"IFERROR(VLOOKUP(F21603,Discounts!A:C,3,0),0)","v":0},{"v":39.66,"d":"€39.66"}]
[174550,173280,1,"Normal",{"v":871.9,"d":"€871.90"},"E012",{"$f":"IFERROR(VLOOKUP(F21619,Discounts!A:C,3,0),0)","v":0},{"v":871.9,"d":"€871.90"}]
[174580,173530,1,"Normal",{"v":896.69,"d":"€896.69"},"E012",{"$f":"IFERROR(VLOOKUP(F21628,Discounts!A:C,3,0),0)","v":0},{"v":896.69,"d":"€896.69"}]
[174630,31920,1,"Normal",{"v":115.7,"d":"€115.70"},"SD/SG",{"$f":"IFERROR(VLOOKUP(F21641,Discounts!A:C,3,0),0)","v":0},{"v":115.7,"d":"€115.70"}]
[174660,31920,1,"Normal",{"v":115.7,"d":"€115.70"},"SD/SG",{"$f":"IFERROR(VLOOKUP(F21650,Discounts!A:C,3,0),0)","v":0},{"v":115.7,"d":"€115.70"}]
[174710,31920,1,"Normal",{"v":115.7,"d":"€115.70"},"SD/SG",{"$f":"IFERROR(VLOOKUP(F21665,Discounts!A:C,3,0),0)","v":0},{"v":115.7,"d":"€115.70"}]
[174770,172990,1,"Normal",{"v":873.55,"d":"€873.55"},"E012",{"$f":"IFERROR(VLOOKUP(F21685,Discounts!A:C,3,0),0)","v":0},{"v":873.55,"d":"€873.55"}]
[174800,173480,1,"Normal",{"v":1145.45,"d":"€1,145.45"},"E012",{"$f":"IFERROR(VLOOKUP(F21694,Discounts!A:C,3,0),0)","v":0},{"v":1145.45,"d":"€1,145.45"}]
[174850,31920,1,"Normal",{"v":115.7,"d":"€115.70"},"SD/SG",{"$f":"IFERROR(VLOOKUP(F21707,Discounts!A:C,3,0),0)","v":0},{"v":115.7,"d":"€115.70"}]
[174870,40450,1,"Normal",{"v":13.22,"d":"€13.22"},"SD/SG",{"$f":"IFERROR(VLOOKUP(F21716,Discounts!A:C,3,0),0)","v":0},{"v":13.22,"d":"€13.22"}]
[174910,172890,1,"Normal",{"v":1192.56,"d":"€1,192.56"},"E012",{"$f":"IFERROR(VLOOKUP(F21729,Discounts!A:C,3,0),0)","v":0},{"v":1192.56,"d":"€1,192.56"}]
[174970,44440,2,"Normal",{"v":190.08,"d":"€190.08"},"SD/SG",{"$f":"IFERROR(VLOOKUP(F21746,Discounts!A:C,3,0),0)","v":0},{"v":190.08,"d":"€190.08"}]
[174980,31920,2,"Normal",{"v":231.4,"d":"€231.40"},"SD/SG",{"$f":"IFERROR(VLOOKUP(F21748,Discounts!A:C,3,0),0)","v":0},{"v":231.4,"d":"€231.40"}]
[175020,40450,1,"Normal",{"v":13.22,"d":"€13.22"},"SD/SG",{"$f":"IFERROR(VLOOKUP(F21761,Discounts!A:C,3,0),0)","v":0},{"v":13.22,"d":"€13.22"}]
[175770,34000,1,"Normal",{"v":125.62,"d":"€125.62"},"SD/SG",{"$f":"IFERROR(VLOOKUP(F21782,Discounts!A:C,3,0),0)","v":0},{"v":125.62,"d":"€125.62"}]
[175790,31920,1,"Normal",{"v":115.7,"d":"€115.70"},"SD/SG",{"$f":"IFERROR(VLOOKUP(F21791,Discounts!A:C,3,0),0)","v":0},{"v":115.7,"d":"€115.70"}]
[175800,31920,1,"Normal",{"v":115.7,"d":"€115.70"},"SD/SG",{"$f":"IFERROR(VLOOKUP(F21795,Discounts!A:C,3,0),0)","v":0},{"v":115.7,"d":"€115.70"}]
[175850,48600,1,"Normal",{"v":19.83,"d":"€19.83"},"SD/SG",{"$f":"IFERROR(VLOOKUP(F21814,Discounts!A:C,3,0),0)","v":0},{"v":19.83,"d":"€19.83"}]
[175890,175110,1,"Normal",{"v":718.18,"d":"€718.18"},"E013",{"$f":"IFERROR(VLOOKUP(F21827,Discounts!A:C,3,0),0)","v":0},{"v":718.18,"d":"€718.18"}]
[175920,31920,1,"Normal",{"v":115.7,"d":"€115.70"},"SD/SG",{"$f":"IFERROR(VLOOKUP(F21836,Discounts!A:C,3,0),0)","v":0},{"v":115.7,"d":"€115.70"}]
[175940,40450,1,"Normal",{"v":13.22,"d":"€13.22"},"SD/SG",{"$f":"IFERROR(VLOOKUP(F21845,Discounts!A:C,3,0),0)","v":0},{"v":13.22,"d":"€13.22"}]
[175970,40450,1,"Normal",{"v":13.22,"d":"€13.22"},"SD/SG",{"$f":"IFERROR(VLOOKUP(F21857,Discounts!A:C,3,0),0)","v":0},{"v":13.22,"d":"€13.22"}]
[176040,31920,1,"Normal",{"v":115.7,"d":"€115.70"},"SD/SG",{"$f":"IFERROR(VLOOKUP(F21880,Discounts!A:C,3,0),0)","v":0},{"v":115.7,"d":"€115.70"}]
[176070,31920,1,"Normal",{"v":115.7,"d":"€115.70"},"SD/SG",{"$f":"IFERROR(VLOOKUP(F21889,Discounts!A:C,3,0),0)","v":0},{"v":115.7,"d":"€115.70"}]
[176110,40450,1,"Normal",{"v":13.22,"d":"€13.22"},"SD/SG",{"$f":"IFERROR(VLOOKUP(F21902,Discounts!A:C,3,0),0)","v":0},{"v":13.22,"d":"€13.22"}]
[176130,40450,1,"Normal",{"v":13.22,"d":"€13.22"},"SD/SG",{"$f":"IFERROR(VLOOKUP(F21911,Discounts!A:C,3,0),0)","v":0},{"v":13.22,"d":"€13.22"}]
[176160,31920,1,"Normal",{"v":115.7,"d":"€115.70"},"SD/SG",{"$f":"IFERROR(VLOOKUP(F21919,Discounts!A:C,3,0),0)","v":0},{"v":115.7,"d":"€115.70"}]
[176210,31920,1,"Normal",{"v":115.7,"d":"€115.70"},"SD/SG",{"$f":"IFERROR(VLOOKUP(F21934,Discounts!A:C,3,0),0)","v":0},{"v":115.7,"d":"€115.70"}]
[176240,31920,1,"Normal",{"v":115.7,"d":"€115.70"},"SD/SG",{"$f":"IFERROR(VLOOKUP(F21943,Discounts!A:C,3,0),0)","v":0},{"v":115.7,"d":"€115.70"}]
[176280,40450,3,"Normal",{"v":39.66,"d":"€39.66"},"SD/SG",{"$f":"IFERROR(VLOOKUP(F21956,Discounts!A:C,3,0),0)","v":0},{"v":39.66,"d":"€39.66"}]
[176350,34000,1,"Normal",{"v":125.62,"d":"€125.62"},"SD/SG",{"$f":"IFERROR(VLOOKUP(F21977,Discounts!A:C,3,0),0)","v":0},{"v":125.62,"d":"€125.62"}]
[176350,40450,1,"Normal",{"v":13.22,"d":"€13.22"},"SD/SG",{"$f":"IFERROR(VLOOKUP(F21978,Discounts!A:C,3,0),0)","v":0},{"v":13.22,"d":"€13.22"}]
[176410,40450,1,"Normal",{"v":13.22,"d":"€13.22"},"SD/SG",{"$f":"IFERROR(VLOOKUP(F22000,Discounts!A:C,3,0),0)","v":0},{"v":13.22,"d":"€13.22"}]
[176440,40450,1,"Normal",{"v":13.22,"d":"€13.22"},"SD/SG",{"$f":"IFERROR(VLOOKUP(F22009,Discounts!A:C,3,0),0)","v":0},{"v":13.22,"d":"€13.22"}]
[176880,40520,1,"Normal",{"v":64.46,"d":"€64.46"},"SD/SG",{"$f":"IFERROR(VLOOKUP(F22022,Discounts!A:C,3,0),0)","v":0},{"v":64.46,"d":"€64.46"}]
[176900,176500,1,"Normal",{"v":744.72,"d":"€744.72"},"E013",{"$f":"IFERROR(VLOOKUP(F22031,Discounts!A:C,3,0),0)","v":0},{"v":744.72,"d":"€744.72"}]
[176930,31920,1,"Normal",{"v":115.7,"d":"€115.70"},"SD/SG",{"$f":"IFERROR(VLOOKUP(F22040,Discounts!A:C,3,0),0)","v":0},{"v":115.7,"d":"€115.70"}]
[176980,40520,1,"Normal",{"v":64.46,"d":"€64.46"},"SD/SG",{"$f":"IFERROR(VLOOKUP(F22062,Discounts!A:C,3,0),0)","v":0},{"v":64.46,"d":"€64.46"}]
[177010,176610,1,"Normal",{"v":837.11,"d":"€837.11"},"E013",{"$f":"IFERROR(VLOOKUP(F22075,Discounts!A:C,3,0),0)","v":0},{"v":837.11,"d":"€837.11"}]
[177020,31920,1,"Normal",{"v":115.7,"d":"€115.70"},"SD/SG",{"$f":"IFERROR(VLOOKUP(F22076,Discounts!A:C,3,0),0)","v":0},{"v":115.7,"d":"€115.70"}]
[177070,40450,1,"Normal",{"v":13.22,"d":"€13.22"},"SD/SG",{"$f":"IFERROR(VLOOKUP(F22097,Discounts!A:C,3,0),0)","v":0},{"v":13.22,"d":"€13.22"}]
[177090,40530,1,"Normal",{"v":88.43,"d":"€88.43"},"SD/SG",{"$f":"IFERROR(VLOOKUP(F22106,Discounts!A:C,3,0),0)","v":0},{"v":88.43,"d":"€88.43"}]
[177130,176740,1,"Normal",{"v":845.43,"d":"€845.43"},"E013",{"$f":"IFERROR(VLOOKUP(F22124,Discounts!A:C,3,0),0)","v":0},{"v":845.43,"d":"€845.43"}]
[177150,31920,1,"Normal",{"v":115.7,"d":"€115.70"},"SD/SG",{"$f":"IFERROR(VLOOKUP(F22129,Discounts!A:C,3,0),0)","v":0},{"v":115.7,"d":"€115.70"}]
[177180,40450,4,"Normal",{"v":52.88,"d":"€52.88"},"SD/SG",{"$f":"IFERROR(VLOOKUP(F22142,Discounts!A:C,3,0),0)","v":0},{"v":52.88,"d":"€52.88"}]
[177200,42300,1,"Normal",{"v":134.71,"d":"€134.71"},"SD/SG",{"$f":"IFERROR(VLOOKUP(F22151,Discounts!A:C,3,0),0)","v":0},{"v":134.71,"d":"€134.71"}]
[177250,176860,1,"Normal",{"v":1120.77,"d":"€1,120.77"},"E013",{"$f":"IFERROR(VLOOKUP(F22172,Discounts!A:C,3,0),0)","v":0},{"v":1120.77,"d":"€1,120.77"}]
[177260,31920,1,"Normal",{"v":115.7,"d":"€115.70"},"SD/SG",{"$f":"IFERROR(VLOOKUP(F22173,Discounts!A:C,3,0),0)","v":0},{"v":115.7,"d":"€115.70"}]
[180790,179450,2,"Normal",{"v":1138.84,"d":"€1,138.84"},"C010",{"$f":"IFERROR(VLOOKUP(F22192,Discounts!A:C,3,0),0)","v":0},{"v":1138.84,"d":"€1,138.84"}]
[180850,29760,1,"Normal",{"v":877.69,"d":"€877.69"},"LUXE",{"$f":"IFERROR(VLOOKUP(F22204,Discounts!A:C,3,0),0)","v":0},{"v":877.69,"d":"€877.69"}]
[180880,31470,1,"Normal",{"v":133.88,"d":"€133.88"},"LUXE",{"$f":"IFERROR(VLOOKUP(F22217,Discounts!A:C,3,0),0)","v":0},{"v":133.88,"d":"€133.88"}]
[180910,29720,1,"Normal",{"v":87.6,"d":"€87.60"},"LUXE",{"$f":"IFERROR(VLOOKUP(F22226,Discounts!A:C,3,0),0)","v":0},{"v":87.6,"d":"€87.60"}]
[180940,177690,1,"Normal",{"v":2598.35,"d":"€2,598.35"},"A010",{"$f":"IFERROR(VLOOKUP(F22239,Discounts!A:C,3,0),0)","v":0},{"v":2598.35,"d":"€2,598.35"}]
[180990,29720,1,"Normal",{"v":87.6,"d":"€87.60"},"LUXE",{"$f":"IFERROR(VLOOKUP(F22254,Discounts!A:C,3,0),0)","v":0},{"v":87.6,"d":"€87.60"}]
[181030,177330,1,"Normal",{"v":2432.23,"d":"€2,432.23"},"A015",{"$f":"IFERROR(VLOOKUP(F22270,Discounts!A:C,3,0),0)","v":0},{"v":2432.23,"d":"€2,432.23"}]
[181040,29720,1,"Normal",{"v":87.6,"d":"€87.60"},"LUXE",{"$f":"IFERROR(VLOOKUP(F22271,Discounts!A:C,3,0),0)","v":0},{"v":87.6,"d":"€87.60"}]
[181100,31470,1,"Normal",{"v":133.88,"d":"€133.88"},"LUXE",{"$f":"IFERROR(VLOOKUP(F22292,Discounts!A:C,3,0),0)","v":0},{"v":133.88,"d":"€133.88"}]
[181120,179990,1,"Normal",{"v":2016.53,"d":"€2,016.53"},"A010",{"$f":"IFERROR(VLOOKUP(F22301,Discounts!A:C,3,0),0)","v":0},{"v":2016.53,"d":"€2,016.53"}]
[181170,31470,1,"Normal",{"v":133.88,"d":"€133.88"},"LUXE",{"$f":"IFERROR(VLOOKUP(F22316,Discounts!A:C,3,0),0)","v":0},{"v":133.88,"d":"€133.88"}]
[181200,29710,1,"Normal",{"v":41.32,"d":"€41.32"},"LUXE",{"$f":"IFERROR(VLOOKUP(F22324,Discounts!A:C,3,0),0)","v":0},{"v":41.32,"d":"€41.32"}]
[181230,45730,1,"Normal",{"v":41.32,"d":"€41.32"},"LUXE",{"$f":"IFERROR(VLOOKUP(F22337,Discounts!A:C,3,0),0)","v":0},{"v":41.32,"d":"€41.32"}]
[181260,29710,1,"Normal",{"v":41.32,"d":"€41.32"},"LUXE",{"$f":"IFERROR(VLOOKUP(F22346,Discounts!A:C,3,0),0)","v":0},{"v":41.32,"d":"€41.32"}]
[181330,29710,1,"Normal",{"v":41.32,"d":"€41.32"},"LUXE",{"$f":"IFERROR(VLOOKUP(F22367,Discounts!A:C,3,0),0)","v":0},{"v":41.32,"d":"€41.32"}]
[181360,31640,1,"Normal",{"v":134.71,"d":"€134.71"},"LUXE",{"$f":"IFERROR(VLOOKUP(F22378,Discounts!A:C,3,0),0)","v":0},{"v":134.71,"d":"€134.71"}]
[181390,177990,1,"Normal",{"v":1832.23,"d":"€1,832.23"},"A010",{"$f":"IFERROR(VLOOKUP(F22390,Discounts!A:C,3,0),0)","v":0},{"v":1832.23,"d":"€1,832.23"}]
[181430,29710,1,"Normal",{"v":41.32,"d":"€41.32"},"LUXE",{"$f":"IFERROR(VLOOKUP(F22403,Discounts!A:C,3,0),0)","v":0},{"v":41.32,"d":"€41.32"}]
[181460,29710,1,"Normal",{"v":41.32,"d":"€41.32"},"LUXE",{"$f":"IFERROR(VLOOKUP(F22412,Discounts!A:C,3,0),0)","v":0},{"v":41.32,"d":"€41.32"}]
[181490,29710,1,"Normal",{"v":41.32,"d":"€41.32"},"LUXE",{"$f":"IFERROR(VLOOKUP(F22421,Discounts!A:C,3,0),0)","v":0},{"v":41.32,"d":"€41.32"}]
[181530,29710,1,"Normal",{"v":41.32,"d":"€41.32"},"LUXE",{"$f":"IFERROR(VLOOKUP(F22434,Discounts!A:C,3,0),0)","v":0},{"v":41.32,"d":"€41.32"}]
[181570,29710,1,"Normal",{"v":41.32,"d":"€41.32"},"LUXE",{"$f":"IFERROR(VLOOKUP(F22446,Discounts!A:C,3,0),0)","v":0},{"v":41.32,"d":"€41.32"}]
[181630,29710,1,"Normal",{"v":41.32,"d":"€41.32"},"LUXE",{"$f":"IFERROR(VLOOKUP(F22465,Discounts!A:C,3,0),0)","v":0},{"v":41.32,"d":"€41.32"}]
[181630,31470,1,"Normal",{"v":133.88,"d":"€133.88"},"LUXE",{"$f":"IFERROR(VLOOKUP(F22466,Discounts!A:C,3,0),0)","v":0},{"$f":"IF(D22466=\"Normal\",E22466*(1-G22466),SUMIF(A:A,B22466,H:H)*C22466)","v":{"v":133.88,"d":"€133.88"}}]
[181700,29710,1,"Normal",{"v":41.32,"d":"€41.32"},"LUXE",{"$f":"IFERROR(VLOOKUP(F22487,Discounts!A:C,3,0),0)","v":0},{"v":41.32,"d":"€41.32"}]
[181740,31470,1,"Normal",{"v":133.88,"d":"€133.88"},"LUXE",{"$f":"IFERROR(VLOOKUP(F22500,Discounts!A:C,3,0),0)","v":0},{"v":133.88,"d":"€133.88"}]
[181770,29710,1,"Normal",{"v":41.32,"d":"€41.32"},"LUXE",{"$f":"IFERROR(VLOOKUP(F22508,Discounts!A:C,3,0),0)","v":0},{"v":41.32,"d":"€41.32"}]
[181800,31640,1,"Normal",{"v":134.71,"d":"€134.71"},"LUXE",{"$f":"IFERROR(VLOOKUP(F22519,Discounts!A:C,3,0),0)","v":0},{"v":134.71,"d":"€134.71"}]
[181840,178360,1,"Normal",{"v":1214.88,"d":"€1,214.88"},"A010",{"$f":"IFERROR(VLOOKUP(F22532,Discounts!A:C,3,0),0)","v":0},{"v":1214.88,"d":"€1,214.88"}]
[181870,178640,1,"Normal",{"v":1952.89,"d":"€1,952.89"},"A010",{"$f":"IFERROR(VLOOKUP(F22541,Discounts!A:C,3,0),0)","v":0},{"v":1952.89,"d":"€1,952.89"}]
[181940,178710,1,"Normal",{"v":1621.49,"d":"€1,621.49"},"A010",{"$f":"IFERROR(VLOOKUP(F22562,Discounts!A:C,3,0),0)","v":0},{"v":1621.49,"d":"€1,621.49"}]
[181970,29720,1,"Normal",{"v":87.6,"d":"€87.60"},"LUXE",{"$f":"IFERROR(VLOOKUP(F22570,Discounts!A:C,3,0),0)","v":0},{"v":87.6,"d":"€87.60"}]
[182010,31470,1,"Normal",{"v":133.88,"d":"€133.88"},"LUXE",{"$f":"IFERROR(VLOOKUP(F22585,Discounts!A:C,3,0),0)","v":0},{"v":133.88,"d":"€133.88"}]
[182050,29710,1,"Normal",{"v":41.32,"d":"€41.32"},"LUXE",{"$f":"IFERROR(VLOOKUP(F22598,Discounts!A:C,3,0),0)","v":0},{"v":41.32,"d":"€41.32"}]
[182070,30510,2,"Normal",{"v":464.46,"d":"€464.46"},"O115",{"$f":"IFERROR(VLOOKUP(F22607,Discounts!A:C,3,0),0)","v":0},{"v":464.46,"d":"€464.46"}]
[182090,45730,1,"Normal",{"v":41.32,"d":"€41.32"},"LUXE",{"$f":"IFERROR(VLOOKUP(F22616,Discounts!A:C,3,0),0)","v":0},{"v":41.32,"d":"€41.32"}]
[182120,178440,1,"Normal",{"v":1573.55,"d":"€1,573.55"},"A010",{"$f":"IFERROR(VLOOKUP(F22629,Discounts!A:C,3,0),0)","v":0},{"v":1573.55,"d":"€1,573.55"}]
[182150,31470,1,"Normal",{"v":133.88,"d":"€133.88"},"LUXE",{"$f":"IFERROR(VLOOKUP(F22638,Discounts!A:C,3,0),0)","v":0},{"v":133.88,"d":"€133.88"}]
[182180,178490,1,"Normal",{"v":1647.93,"d":"€1,647.93"},"A010",{"$f":"IFERROR(VLOOKUP(F22652,Discounts!A:C,3,0),0)","v":0},{"v":1647.93,"d":"€1,647.93"}]
[182210,29710,1,"Normal",{"v":41.32,"d":"€41.32"},"LUXE",{"$f":"IFERROR(VLOOKUP(F22661,Discounts!A:C,3,0),0)","v":0},{"v":41.32,"d":"€41.32"}]
[182260,31470,1,"Normal",{"v":133.88,"d":"€133.88"},"LUXE",{"$f":"IFERROR(VLOOKUP(F22682,Discounts!A:C,3,0),0)","v":0},{"v":133.88,"d":"€133.88"}]
[182290,45730,1,"Normal",{"v":41.32,"d":"€41.32"},"LUXE",{"$f":"IFERROR(VLOOKUP(F22695,Discounts!A:C,3,0),0)","v":0},{"v":41.32,"d":"€41.32"}]
[182300,178600,1,"Normal",{"v":1690.91,"d":"€1,690.91"},"A010",{"$f":"IFERROR(VLOOKUP(F22700,Discounts!A:C,3,0),0)","v":0},{"v":1690.91,"d":"€1,690.91"}]
[182340,31470,1,"Normal",{"v":133.88,"d":"€133.88"},"LUXE",{"$f":"IFERROR(VLOOKUP(F22714,Discounts!A:C,3,0),0)","v":0},{"v":133.88,"d":"€133.88"}]
[182370,178860,1,"Normal",{"v":1561.98,"d":"€1,561.98"},"A010",{"$f":"IFERROR(VLOOKUP(F22727,Discounts!A:C,3,0),0)","v":0},{"v":1561.98,"d":"€1,561.98"}]
[182400,29710,1,"Normal",{"v":41.32,"d":"€41.32"},"LUXE",{"$f":"IFERROR(VLOOKUP(F22736,Discounts!A:C,3,0),0)","v":0},{"v":41.32,"d":"€41.32"}]
[182430,31470,1,"Normal",{"v":133.88,"d":"€133.88"},"LUXE",{"$f":"IFERROR(VLOOKUP(F22749,Discounts!A:C,3,0),0)","v":0},{"v":133.88,"d":"€133.88"}]
[182460,45730,1,"Normal",{"v":41.32,"d":"€41.32"},"LUXE",{"$f":"IFERROR(VLOOKUP(F22762,Discounts!A:C,3,0),0)","v":0},{"v":41.32,"d":"€41.32"}]
[182510,29710,1,"Normal",{"v":41.32,"d":"€41.32"},"LUXE",{"$f":"IFERROR(VLOOKUP(F22780,Discounts!A:C,3,0),0)","v":0},{"v":41.32,"d":"€41.32"}]
[182540,31470,1,"Normal",{"v":133.88,"d":"€133.88"},"LUXE",{"$f":"IFERROR(VLOOKUP(F22793,Discounts!A:C,3,0),0)","v":0},{"v":133.88,"d":"€133.88"}]
[182560,45730,1,"Normal",{"v":41.32,"d":"€41.32"},"LUXE",{"$f":"IFERROR(VLOOKUP(F22802,Discounts!A:C,3,0),0)","v":0},{"v":41.32,"d":"€41.32"}]
[182600,29710,1,"Normal",{"v":41.32,"d":"€41.32"},"LUXE",{"$f":"IFERROR(VLOOKUP(F22815,Discounts!A:C,3,0),0)","v":0},{"v":41.32,"d":"€41.32"}]
[182620,31470,1,"Normal",{"v":133.88,"d":"€133.88"},"LUXE",{"$f":"IFERROR(VLOOKUP(F22824,Discounts!A:C,3,0),0)","v":0},{"v":133.88,"d":"€133.88"}]
[182640,179110,1,"Normal",{"v":1794.21,"d":"€1,794.21"},"A010",{"$f":"IFERROR(VLOOKUP(F22834,Discounts!A:C,3,0),0)","v":0},{"v":1794.21,"d":"€1,794.21"}]
[182680,29710,1,"Normal",{"v":41.32,"d":"€41.32"},"LUXE",{"$f":"IFERROR(VLOOKUP(F22847,Discounts!A:C,3,0),0)","v":0},{"v":41.32,"d":"€41.32"}]
[182700,31470,1,"Normal",{"v":133.88,"d":"€133.88"},"LUXE",{"$f":"IFERROR(VLOOKUP(F22856,Discounts!A:C,3,0),0)","v":0},{"v":133.88,"d":"€133.88"}]
[182750,45730,1,"Normal",{"v":41.32,"d":"€41.32"},"LUXE",{"$f":"IFERROR(VLOOKUP(F22877,Discounts!A:C,3,0),0)","v":0},{"v":41.32,"d":"€41.32"}]
[182780,179240,1,"Normal",{"v":1587.6,"d":"€1,587.60"},"A010",{"$f":"IFERROR(VLOOKUP(F22890,Discounts!A:C,3,0),0)","v":0},{"v":1587.6,"d":"€1,587.60"}]
[182790,31470,1,"Normal",{"v":133.88,"d":"€133.88"},"LUXE",{"$f":"IFERROR(VLOOKUP(F22892,Discounts!A:C,3,0),0)","v":0},{"v":133.88,"d":"€133.88"}]
[182840,45730,1,"Normal",{"v":41.32,"d":"€41.32"},"LUXE",{"$f":"IFERROR(VLOOKUP(F22913,Discounts!A:C,3,0),0)","v":0},{"v":41.32,"d":"€41.32"}]
[182870,29710,1,"Normal",{"v":41.32,"d":"€41.32"},"LUXE",{"$f":"IFERROR(VLOOKUP(F22922,Discounts!A:C,3,0),0)","v":0},{"v":41.32,"d":"€41.32"}]
[182890,177480,1,"Normal",{"v":1842.15,"d":"€1,842.15"},"A010",{"$f":"IFERROR(VLOOKUP(F22931,Discounts!A:C,3,0),0)","v":0},{"v":1842.15,"d":"€1,842.15"}]
[182930,177510,1,"Normal",{"v":1659.5,"d":"€1,659.50"},"A010",{"$f":"IFERROR(VLOOKUP(F22944,Discounts!A:C,3,0),0)","v":0},{"v":1659.5,"d":"€1,659.50"}]
[182960,177300,1,"Normal",{"v":1562.81,"d":"€1,562.81"},"A015",{"$f":"IFERROR(VLOOKUP(F22954,Discounts!A:C,3,0),0)","v":0},{"v":1562.81,"d":"€1,562.81"}]
[183030,31470,1,"Normal",{"v":133.88,"d":"€133.88"},"LUXE",{"$f":"IFERROR(VLOOKUP(F22975,Discounts!A:C,3,0),0)","v":0},{"v":133.88,"d":"€133.88"}]
[183070,31640,1,"Normal",{"v":134.71,"d":"€134.71"},"LUXE",{"$f":"IFERROR(VLOOKUP(F22988,Discounts!A:C,3,0),0)","v":0},{"v":134.71,"d":"€134.71"}]
[183100,29710,1,"Normal",{"v":41.32,"d":"€41.32"},"LUXE",{"$f":"IFERROR(VLOOKUP(F22997,Discounts!A:C,3,0),0)","v":0},{"v":41.32,"d":"€41.32"}]
[183140,29710,1,"Normal",{"v":41.32,"d":"€41.32"},"LUXE",{"$f":"IFERROR(VLOOKUP(F23010,Discounts!A:C,3,0),0)","v":0},{"v":41.32,"d":"€41.32"}]
[183150,41600,1,"Normal",{"v":87.6,"d":"€87.60"},"LUXE",{"$f":"IFERROR(VLOOKUP(F23016,Discounts!A:C,3,0),0)","v":0},{"v":87.6,"d":"€87.60"}]
[183180,180060,1,"Normal",{"v":1357.85,"d":"€1,357.85"},"A015",{"$f":"IFERROR(VLOOKUP(F23029,Discounts!A:C,3,0),0)","v":0},{"v":1357.85,"d":"€1,357.85"}]
[183220,31470,1,"Normal",{"v":133.88,"d":"€133.88"},"LUXE",{"$f":"IFERROR(VLOOKUP(F23042,Discounts!A:C,3,0),0)","v":0},{"$f":"IF(D23042=\"Normal\",E23042*(1-G23042),SUMIF(A:A,B23042,H:H)*C23042)","v":{"v":133.88,"d":"€133.88"}}]
[183250,31640,1,"Normal",{"v":134.71,"d":"€134.71"},"LUXE",{"$f":"IFERROR(VLOOKUP(F23051,Discounts!A:C,3,0),0)","v":0},{"v":134.71,"d":"€134.71"}]
[183270,45730,1,"Normal",{"v":41.32,"d":"€41.32"},"LUXE",{"$f":"IFERROR(VLOOKUP(F23064,Discounts!A:C,3,0),0)","v":0},{"v":41.32,"d":"€41.32"}]
[183330,29720,2,"Normal",{"v":175.2,"d":"€175.20"},"LUXE",{"$f":"IFERROR(VLOOKUP(F23085,Discounts!A:C,3,0),0)","v":0},{"v":175.2,"d":"€175.20"}]
[183360,31470,2,"Normal",{"v":267.76,"d":"€267.76"},"LUXE",{"$f":"IFERROR(VLOOKUP(F23097,Discounts!A:C,3,0),0)","v":0},{"v":267.76,"d":"€267.76"}]
[183390,31470,2,"Normal",{"v":267.76,"d":"€267.76"},"LUXE",{"$f":"IFERROR(VLOOKUP(F23108,Discounts!A:C,3,0),0)","v":0},{"v":267.76,"d":"€267.76"}]
[183420,29720,2,"Normal",{"v":175.2,"d":"€175.20"},"LUXE",{"$f":"IFERROR(VLOOKUP(F23117,Discounts!A:C,3,0),0)","v":0},{"v":175.2,"d":"€175.20"}]
[183440,177730,2,"Normal",{"v":4712.4,"d":"€4,712.40"},"A010",{"$f":"IFERROR(VLOOKUP(F23126,Discounts!A:C,3,0),0)","v":0},{"v":4712.4,"d":"€4,712.40"}]
[183490,29720,2,"Normal",{"v":175.2,"d":"€175.20"},"LUXE",{"$f":"IFERROR(VLOOKUP(F23139,Discounts!A:C,3,0),0)","v":0},{"v":175.2,"d":"€175.20"}]
[183540,31470,2,"Normal",{"v":267.76,"d":"€267.76"},"LUXE",{"$f":"IFERROR(VLOOKUP(F23159,Discounts!A:C,3,0),0)","v":0},{"v":267.76,"d":"€267.76"}]
[183550,31470,2,"Normal",{"v":267.76,"d":"€267.76"},"LUXE",{"$f":"IFERROR(VLOOKUP(F23162,Discounts!A:C,3,0),0)","v":0},{"v":267.76,"d":"€267.76"}]
[183610,177840,2,"Normal",{"v":3476.04,"d":"€3,476.04"},"A010",{"$f":"IFERROR(VLOOKUP(F23183,Discounts!A:C,3,0),0)","v":0},{"v":3476.04,"d":"€3,476.04"}]
[183640,31470,2,"Normal",{"v":267.76,"d":"€267.76"},"LUXE",{"$f":"IFERROR(VLOOKUP(F23192,Discounts!A:C,3,0),0)","v":0},{"v":267.76,"d":"€267.76"}]
[183680,177910,2,"Normal",{"v":5358.68,"d":"€5,358.68"},"A010",{"$f":"IFERROR(VLOOKUP(F23205,Discounts!A:C,3,0),0)","v":0},{"v":5358.68,"d":"€5,358.68"}]
[183740,29710,2,"Normal",{"v":82.64,"d":"€82.64"},"LUXE",{"$f":"IFERROR(VLOOKUP(F23221,Discounts!A:C,3,0),0)","v":0},{"v":82.64,"d":"€82.64"}]
[183760,29710,2,"Normal",{"v":82.64,"d":"€82.64"},"LUXE",{"$f":"IFERROR(VLOOKUP(F23228,Discounts!A:C,3,0),0)","v":0},{"v":82.64,"d":"€82.64"}]
[183780,31470,2,"Normal",{"v":267.76,"d":"€267.76"},"LUXE",{"$f":"IFERROR(VLOOKUP(F23237,Discounts!A:C,3,0),0)","v":0},{"v":267.76,"d":"€267.76"}]
[183800,178030,2,"Normal",{"v":3557.02,"d":"€3,557.02"},"A010",{"$f":"IFERROR(VLOOKUP(F23246,Discounts!A:C,3,0),0)","v":0},{"v":3557.02,"d":"€3,557.02"}]
[183850,29710,2,"Normal",{"v":82.64,"d":"€82.64"},"LUXE",{"$f":"IFERROR(VLOOKUP(F23259,Discounts!A:C,3,0),0)","v":0},{"v":82.64,"d":"€82.64"}]
[183910,178120,2,"Normal",{"v":2502.48,"d":"€2,502.48"},"A010",{"$f":"IFERROR(VLOOKUP(F23280,Discounts!A:C,3,0),0)","v":0},{"v":2502.48,"d":"€2,502.48"}]
[183940,31470,2,"Normal",{"v":267.76,"d":"€267.76"},"LUXE",{"$f":"IFERROR(VLOOKUP(F23289,Discounts!A:C,3,0),0)","v":0},{"v":267.76,"d":"€267.76"}]
[183990,31470,2,"Normal",{"v":267.76,"d":"€267.76"},"LUXE",{"$f":"IFERROR(VLOOKUP(F23303,Discounts!A:C,3,0),0)","v":0},{"v":267.76,"d":"€267.76"}]
[184020,31470,2,"Normal",{"v":267.76,"d":"€267.76"},"LUXE",{"$f":"IFERROR(VLOOKUP(F23312,Discounts!A:C,3,0),0)","v":0},{"v":267.76,"d":"€267.76"}]
[184060,178250,2,"Normal",{"v":3033.06,"d":"€3,033.06"},"A010",{"$f":"IFERROR(VLOOKUP(F23325,Discounts!A:C,3,0),0)","v":0},{"v":3033.06,"d":"€3,033.06"}]
[184090,178270,2,"Normal",{"v":3654.54,"d":"€3,654.54"},"A010",{"$f":"IFERROR(VLOOKUP(F23334,Discounts!A:C,3,0),0)","v":0},{"v":3654.54,"d":"€3,654.54"}]
[184150,31470,2,"Normal",{"v":267.76,"d":"€267.76"},"LUXE",{"$f":"IFERROR(VLOOKUP(F23351,Discounts!A:C,3,0),0)","v":0},{"v":267.76,"d":"€267.76"}]
[184170,31470,2,"Normal",{"v":267.76,"d":"€267.76"},"LUXE",{"$f":"IFERROR(VLOOKUP(F23357,Discounts!A:C,3,0),0)","v":0},{"v":267.76,"d":"€267.76"}]
[184240,31470,2,"Normal",{"v":267.76,"d":"€267.76"},"LUXE",{"$f":"IFERROR(VLOOKUP(F23378,Discounts!A:C,3,0),0)","v":0},{"v":267.76,"d":"€267.76"}]
[184270,31470,2,"Normal",{"v":267.76,"d":"€267.76"},"LUXE",{"$f":"IFERROR(VLOOKUP(F23387,Discounts!A:C,3,0),0)","v":0},{"v":267.76,"d":"€267.76"}]
[184310,29710,2,"Normal",{"v":82.64,"d":"€82.64"},"LUXE",{"$f":"IFERROR(VLOOKUP(F23400,Discounts!A:C,3,0),0)","v":0},{"v":82.64,"d":"€82.64"}]
[184350,29710,2,"Normal",{"v":82.64,"d":"€82.64"},"LUXE",{"$f":"IFERROR(VLOOKUP(F23413,Discounts!A:C,3,0),0)","v":0},{"v":82.64,"d":"€82.64"}]
[184370,31470,2,"Normal",{"v":267.76,"d":"€267.76"},"LUXE",{"$f":"IFERROR(VLOOKUP(F23423,Discounts!A:C,3,0),0)","v":0},{"v":267.76,"d":"€267.76"}]
[184390,178400,2,"Normal",{"v":3009.92,"d":"€3,009.92"},"A010",{"$f":"IFERROR(VLOOKUP(F23432,Discounts!A:C,3,0),0)","v":0},{"v":3009.92,"d":"€3,009.92"}]
[184420,29710,2,"Normal",{"v":82.64,"d":"€82.64"},"LUXE",{"$f":"IFERROR(VLOOKUP(F23441,Discounts!A:C,3,0),0)","v":0},{"v":82.64,"d":"€82.64"}]
[184450,31470,2,"Normal",{"v":267.76,"d":"€267.76"},"LUXE",{"$f":"IFERROR(VLOOKUP(F23454,Discounts!A:C,3,0),0)","v":0},{"v":267.76,"d":"€267.76"}]
[184500,45730,2,"Normal",{"v":82.64,"d":"€82.64"},"LUXE",{"$f":"IFERROR(VLOOKUP(F23475,Discounts!A:C,3,0),0)","v":0},{"v":82.64,"d":"€82.64"}]
[184540,29710,2,"Normal",{"v":82.64,"d":"€82.64"},"LUXE",{"$f":"IFERROR(VLOOKUP(F23489,Discounts!A:C,3,0),0)","v":0},{"v":82.64,"d":"€82.64"}]
[184560,31470,2,"Normal",{"v":267.76,"d":"€267.76"},"LUXE",{"$f":"IFERROR(VLOOKUP(F23498,Discounts!A:C,3,0),0)","v":0},{"v":267.76,"d":"€267.76"}]
[184580,45730,2,"Normal",{"v":82.64,"d":"€82.64"},"LUXE",{"$f":"IFERROR(VLOOKUP(F23507,Discounts!A:C,3,0),0)","v":0},{"v":82.64,"d":"€82.64"}]
[184610,178620,2,"Normal",{"v":3123.96,"d":"€3,123.96"},"A010",{"$f":"IFERROR(VLOOKUP(F23520,Discounts!A:C,3,0),0)","v":0},{"v":3123.96,"d":"€3,123.96"}]
[184640,29710,2,"Normal",{"v":82.64,"d":"€82.64"},"LUXE",{"$f":"IFERROR(VLOOKUP(F23529,Discounts!A:C,3,0),0)","v":0},{"v":82.64,"d":"€82.64"}]
[184670,178870,2,"Normal",{"v":3520.66,"d":"€3,520.66"},"A010",{"$f":"IFERROR(VLOOKUP(F23543,Discounts!A:C,3,0),0)","v":0},{"v":3520.66,"d":"€3,520.66"}]
[184700,29710,2,"Normal",{"v":82.64,"d":"€82.64"},"LUXE",{"$f":"IFERROR(VLOOKUP(F23552,Discounts!A:C,3,0),0)","v":0},{"v":82.64,"d":"€82.64"}]
[184750,31470,2,"Normal",{"v":267.76,"d":"€267.76"},"LUXE",{"$f":"IFERROR(VLOOKUP(F23573,Discounts!A:C,3,0),0)","v":0},{"v":267.76,"d":"€267.76"}]
[184780,45730,2,"Normal",{"v":82.64,"d":"€82.64"},"LUXE",{"$f":"IFERROR(VLOOKUP(F23586,Discounts!A:C,3,0),0)","v":0},{"v":82.64,"d":"€82.64"}]
[184800,178990,2,"Normal",{"v":3978.52,"d":"€3,978.52"},"A010",{"$f":"IFERROR(VLOOKUP(F23595,Discounts!A:C,3,0),0)","v":0},{"v":3978.52,"d":"€3,978.52"}]
[184830,31470,2,"Normal",{"v":267.76,"d":"€267.76"},"LUXE",{"$f":"IFERROR(VLOOKUP(F23605,Discounts!A:C,3,0),0)","v":0},{"v":267.76,"d":"€267.76"}]
[184860,45730,2,"Normal",{"v":82.64,"d":"€82.64"},"LUXE",{"$f":"IFERROR(VLOOKUP(F23618,Discounts!A:C,3,0),0)","v":0},{"$f":"IF(D23618=\"Normal\",E23618*(1-G23618),SUMIF(A:A,B23618,H:H)*C23618)","v":{"v":82.64,"d":"€82.64"}}]
[184890,29710,2,"Normal",{"v":82.64,"d":"€82.64"},"LUXE",{"$f":"IFERROR(VLOOKUP(F23627,Discounts!A:C,3,0),0)","v":0},{"v":82.64,"d":"€82.64"}]
[184910,45730,2,"Normal",{"v":82.64,"d":"€82.64"},"LUXE",{"$f":"IFERROR(VLOOKUP(F23636,Discounts!A:C,3,0),0)","v":0},{"v":82.64,"d":"€82.64"}]
[184940,179130,2,"Normal",{"v":3295.86,"d":"€3,295.86"},"A010",{"$f":"IFERROR(VLOOKUP(F23649,Discounts!A:C,3,0),0)","v":0},{"v":3295.86,"d":"€3,295.86"}]
[184990,31470,2,"Normal",{"v":267.76,"d":"€267.76"},"LUXE",{"$f":"IFERROR(VLOOKUP(F23667,Discounts!A:C,3,0),0)","v":0},{"v":267.76,"d":"€267.76"}]
[185030,45730,2,"Normal",{"v":82.64,"d":"€82.64"},"LUXE",{"$f":"IFERROR(VLOOKUP(F23684,Discounts!A:C,3,0),0)","v":0},{"v":82.64,"d":"€82.64"}]
[185050,179230,2,"Normal",{"v":2803.3,"d":"€2,803.30"},"A010",{"$f":"IFERROR(VLOOKUP(F23693,Discounts!A:C,3,0),0)","v":0},{"v":2803.3,"d":"€2,803.30"}]
[185080,29710,2,"Normal",{"v":82.64,"d":"€82.64"},"LUXE",{"$f":"IFERROR(VLOOKUP(F23702,Discounts!A:C,3,0),0)","v":0},{"v":82.64,"d":"€82.64"}]
[185110,31470,2,"Normal",{"v":267.76,"d":"€267.76"},"LUXE",{"$f":"IFERROR(VLOOKUP(F23715,Discounts!A:C,3,0),0)","v":0},{"v":267.76,"d":"€267.76"}]
[185130,31470,2,"Normal",{"v":267.76,"d":"€267.76"},"LUXE",{"$f":"IFERROR(VLOOKUP(F23724,Discounts!A:C,3,0),0)","v":0},{"v":267.76,"d":"€267.76"}]
[185200,29710,2,"Normal",{"v":82.64,"d":"€82.64"},"LUXE",{"$f":"IFERROR(VLOOKUP(F23744,Discounts!A:C,3,0),0)","v":0},{"v":82.64,"d":"€82.64"}]
[185210,29710,2,"Normal",{"v":82.64,"d":"€82.64"},"LUXE",{"$f":"IFERROR(VLOOKUP(F23747,Discounts!A:C,3,0),0)","v":0},{"v":82.64,"d":"€82.64"}]
[185270,177620,2,"Normal",{"v":4527.28,"d":"€4,527.28"},"A010",{"$f":"IFERROR(VLOOKUP(F23768,Discounts!A:C,3,0),0)","v":0},{"v":4527.28,"d":"€4,527.28"}]
[185310,177270,2,"Normal",{"v":3125.62,"d":"€3,125.62"},"A015",{"$f":"IFERROR(VLOOKUP(F23781,Discounts!A:C,3,0),0)","v":0},{"v":3125.62,"d":"€3,125.62"}]
[185340,177660,2,"Normal",{"v":5099.18,"d":"€5,099.18"},"A010",{"$f":"IFERROR(VLOOKUP(F23790,Discounts!A:C,3,0),0)","v":0},{"v":5099.18,"d":"€5,099.18"}]
[185360,45730,2,"Normal",{"v":82.64,"d":"€82.64"},"LUXE",{"$f":"IFERROR(VLOOKUP(F23797,Discounts!A:C,3,0),0)","v":0},{"v":82.64,"d":"€82.64"}]
[185410,29720,2,"Normal",{"v":175.2,"d":"€175.20"},"LUXE",{"$f":"IFERROR(VLOOKUP(F23813,Discounts!A:C,3,0),0)","v":0},{"v":175.2,"d":"€175.20"}]
[185480,179590,2,"Normal",{"v":1238.02,"d":"€1,238.02"},"C010",{"$f":"IFERROR(VLOOKUP(F23822,Discounts!A:C,3,0),0)","v":0},{"v":1238.02,"d":"€1,238.02"}]
[185580,179390,2,"Normal",{"v":1528.92,"d":"€1,528.92"},"C010",{"$f":"IFERROR(VLOOKUP(F23835,Discounts!A:C,3,0),0)","v":0},{"v":1528.92,"d":"€1,528.92"}]
[185630,137810,2,"Normal",{"v":231.4,"d":"€231.40"},"LUXE",{"$f":"IFERROR(VLOOKUP(F23844,Discounts!A:C,3,0),0)","v":0},{"v":231.4,"d":"€231.40"}]
[185700,179680,2,"Normal",{"v":1595.04,"d":"€1,595.04"},"C010",{"$f":"IFERROR(VLOOKUP(F23859,Discounts!A:C,3,0),0)","v":0},{"v":1595.04,"d":"€1,595.04"}]
[185800,179360,1,"Normal",{"v":675.21,"d":"€675.21"},"C010",{"$f":"IFERROR(VLOOKUP(F23879,Discounts!A:C,3,0),0)","v":0},{"v":675.21,"d":"€675.21"}]
[185850,137810,1,"Normal",{"v":115.7,"d":"€115.70"},"LUXE",{"$f":"IFERROR(VLOOKUP(F23888,Discounts!A:C,3,0),0)","v":0},{"v":115.7,"d":"€115.70"}]
[185910,179470,1,"Normal",{"v":593.39,"d":"€593.39"},"C010",{"$f":"IFERROR(VLOOKUP(F23901,Discounts!A:C,3,0),0)","v":0},{"v":593.39,"d":"€593.39"}]
[185960,137810,1,"Normal",{"v":115.7,"d":"€115.70"},"LUXE",{"$f":"IFERROR(VLOOKUP(F23910,Discounts!A:C,3,0),0)","v":0},{"v":115.7,"d":"€115.70"}]
[186010,179570,1,"Normal",{"v":593.39,"d":"€593.39"},"C010",{"$f":"IFERROR(VLOOKUP(F23921,Discounts!A:C,3,0),0)","v":0},{"v":593.39,"d":"€593.39"}]
[186070,179630,1,"Normal",{"v":797.52,"d":"€797.52"},"C010",{"$f":"IFERROR(VLOOKUP(F23933,Discounts!A:C,3,0),0)","v":0},{"v":797.52,"d":"€797.52"}]
[186120,137810,1,"Normal",{"v":115.7,"d":"€115.70"},"LUXE",{"$f":"IFERROR(VLOOKUP(F23942,Discounts!A:C,3,0),0)","v":0},{"v":115.7,"d":"€115.70"}]
[186200,180600,1,"Normal",{"v":2643.8,"d":"€2,643.80"},"A010",{"$f":"IFERROR(VLOOKUP(F23963,Discounts!A:C,3,0),0)","v":0},{"v":2643.8,"d":"€2,643.80"}]
[186270,137810,2,"Normal",{"v":231.4,"d":"€231.40"},"LUXE",{"$f":"IFERROR(VLOOKUP(F23976,Discounts!A:C,3,0),0)","v":0},{"v":231.4,"d":"€231.40"}]
[186300,41620,1,"Normal",{"v":41.32,"d":"€41.32"},"LUXE",{"$f":"IFERROR(VLOOKUP(F23985,Discounts!A:C,3,0),0)","v":0},{"v":41.32,"d":"€41.32"}]
[186360,186330,2,"Combination",{"v":2790.06,"d":"€2,790.06"},"A010",{"$f":"IFERROR(VLOOKUP(F23998,Discounts!A:C,3,0),0)","v":0},{"v":2790.06,"d":"€2,790.06"}]
[186410,31470,1,"Normal",{"v":133.88,"d":"€133.88"},"LUXE",{"$f":"IFERROR(VLOOKUP(F24008,Discounts!A:C,3,0),0)","v":0},{"v":133.88,"d":"€133.88"}]
[186440,31470,2,"Normal",{"v":267.76,"d":"€267.76"},"LUXE",{"$f":"IFERROR(VLOOKUP(F24017,Discounts!A:C,3,0),0)","v":0},{"v":267.76,"d":"€267.76"}]
[186490,180720,1,"Normal",{"v":605.79,"d":"€605.79"},"C010",{"$f":"IFERROR(VLOOKUP(F24030,Discounts!A:C,3,0),0)","v":0},{"v":605.79,"d":"€605.79"}]
[186560,137810,2,"Normal",{"v":231.4,"d":"€231.40"},"LUXE",{"$f":"IFERROR(VLOOKUP(F24039,Discounts!A:C,3,0),0)","v":0},{"v":231.4,"d":"€231.40"}]
[186620,34260,1,"Normal",{"v":249.59,"d":"€249.59"},"LUXE",{"$f":"IFERROR(VLOOKUP(F24051,Discounts!A:C,3,0),0)","v":0},{"v":249.59,"d":"€249.59"}]
[186730,179480,1,"Normal",{"v":806.61,"d":"€806.61"},"C010",{"$f":"IFERROR(VLOOKUP(F24074,Discounts!A:C,3,0),0)","v":0},{"v":806.61,"d":"€806.61"}]
[186780,34260,1,"Normal",{"v":249.59,"d":"€249.59"},"LUXE",{"$f":"IFERROR(VLOOKUP(F24083,Discounts!A:C,3,0),0)","v":0},{"v":249.59,"d":"€249.59"}]
[186840,179590,1,"Normal",{"v":619.01,"d":"€619.01"},"C010",{"$f":"IFERROR(VLOOKUP(F24096,Discounts!A:C,3,0),0)","v":0},{"v":619.01,"d":"€619.01"}]
[186890,34260,1,"Normal",{"v":249.59,"d":"€249.59"},"LUXE",{"$f":"IFERROR(VLOOKUP(F24105,Discounts!A:C,3,0),0)","v":0},{"v":249.59,"d":"€249.59"}]
[186930,34260,1,"Normal",{"v":249.59,"d":"€249.59"},"LUXE",{"$f":"IFERROR(VLOOKUP(F24113,Discounts!A:C,3,0),0)","v":0},{"v":249.59,"d":"€249.59"}]
[187000,186650,2,"Combination",{"v":1533.9,"d":"€1,533.90"},"C010",{"$f":"IFERROR(VLOOKUP(F24128,Discounts!A:C,3,0),0)","v":0},{"v":1533.9,"d":"€1,533.90"}]
[187050,137810,2,"Normal",{"v":231.4,"d":"€231.40"},"LUXE",{"$f":"IFERROR(VLOOKUP(F24137,Discounts!A:C,3,0),0)","v":0},{"v":231.4,"d":"€231.40"}]
[187110,179760,1,"Normal",{"v":1377.69,"d":"€1,377.69"},"C010",{"$f":"IFERROR(VLOOKUP(F24150,Discounts!A:C,3,0),0)","v":0},{"v":1377.69,"d":"€1,377.69"}]
[187220,34260,1,"Normal",{"v":249.59,"d":"€249.59"},"LUXE",{"$f":"IFERROR(VLOOKUP(F24171,Discounts!A:C,3,0),0)","v":0},{"v":249.59,"d":"€249.59"}]
[187260,177380,1,"Normal",{"v":2114.88,"d":"€2,114.88"},"A015",{"$f":"IFERROR(VLOOKUP(F24180,Discounts!A:C,3,0),0)","v":0},{"v":2114.88,"d":"€2,114.88"}]
[187310,177430,1,"Normal",{"v":1990.08,"d":"€1,990.08"},"A015",{"$f":"IFERROR(VLOOKUP(F24190,Discounts!A:C,3,0),0)","v":0},{"v":1990.08,"d":"€1,990.08"}]
[187380,34260,1,"Normal",{"v":249.59,"d":"€249.59"},"LUXE",{"$f":"IFERROR(VLOOKUP(F24203,Discounts!A:C,3,0),0)","v":0},{"v":249.59,"d":"€249.59"}]
[187420,177570,1,"Normal",{"v":2792.56,"d":"€2,792.56"},"A010",{"$f":"IFERROR(VLOOKUP(F24212,Discounts!A:C,3,0),0)","v":0},{"v":2792.56,"d":"€2,792.56"}]
[187490,34260,1,"Normal",{"v":249.59,"d":"€249.59"},"LUXE",{"$f":"IFERROR(VLOOKUP(F24225,Discounts!A:C,3,0),0)","v":0},{"v":249.59,"d":"€249.59"}]
[187530,177710,1,"Normal",{"v":2356.2,"d":"€2,356.20"},"A010",{"$f":"IFERROR(VLOOKUP(F24234,Discounts!A:C,3,0),0)","v":0},{"v":2356.2,"d":"€2,356.20"}]
[187620,177870,1,"Normal",{"v":1214.88,"d":"€1,214.88"},"A010",{"$f":"IFERROR(VLOOKUP(F24252,Discounts!A:C,3,0),0)","v":0},{"v":1214.88,"d":"€1,214.88"}]
[187710,34260,1,"Normal",{"v":249.59,"d":"€249.59"},"LUXE",{"$f":"IFERROR(VLOOKUP(F24269,Discounts!A:C,3,0),0)","v":0},{"v":249.59,"d":"€249.59"}]
[187750,178040,1,"Normal",{"v":1778.51,"d":"€1,778.51"},"A010",{"$f":"IFERROR(VLOOKUP(F24278,Discounts!A:C,3,0),0)","v":0},{"v":1778.51,"d":"€1,778.51"}]
[187820,34260,1,"Normal",{"v":249.59,"d":"€249.59"},"LUXE",{"$f":"IFERROR(VLOOKUP(F24291,Discounts!A:C,3,0),0)","v":0},{"v":249.59,"d":"€249.59"}]
[187860,178240,1,"Normal",{"v":1122.31,"d":"€1,122.31"},"A010",{"$f":"IFERROR(VLOOKUP(F24300,Discounts!A:C,3,0),0)","v":0},{"v":1122.31,"d":"€1,122.31"}]
[187950,178330,1,"Normal",{"v":1193.39,"d":"€1,193.39"},"A010",{"$f":"IFERROR(VLOOKUP(F24318,Discounts!A:C,3,0),0)","v":0},{"v":1193.39,"d":"€1,193.39"}]
[187980,34260,1,"Normal",{"v":249.59,"d":"€249.59"},"LUXE",{"$f":"IFERROR(VLOOKUP(F24323,Discounts!A:C,3,0),0)","v":0},{"v":249.59,"d":"€249.59"}]
[188020,178400,1,"Normal",{"v":1504.96,"d":"€1,504.96"},"A010",{"$f":"IFERROR(VLOOKUP(F24332,Discounts!A:C,3,0),0)","v":0},{"v":1504.96,"d":"€1,504.96"}]
[188090,34260,1,"Normal",{"v":249.59,"d":"€249.59"},"LUXE",{"$f":"IFERROR(VLOOKUP(F24345,Discounts!A:C,3,0),0)","v":0},{"v":249.59,"d":"€249.59"}]
[188190,178570,1,"Normal",{"v":1647.93,"d":"€1,647.93"},"A010",{"$f":"IFERROR(VLOOKUP(F24366,Discounts!A:C,3,0),0)","v":0},{"v":1647.93,"d":"€1,647.93"}]
[188200,34260,1,"Normal",{"v":249.59,"d":"€249.59"},"LUXE",{"$f":"IFERROR(VLOOKUP(F24367,Discounts!A:C,3,0),0)","v":0},{"v":249.59,"d":"€249.59"}]
[188310,34260,1,"Normal",{"v":249.59,"d":"€249.59"},"LUXE",{"$f":"IFERROR(VLOOKUP(F24389,Discounts!A:C,3,0),0)","v":0},{"v":249.59,"d":"€249.59"}]
[188350,178730,1,"Normal",{"v":1761.98,"d":"€1,761.98"},"A010",{"$f":"IFERROR(VLOOKUP(F24398,Discounts!A:C,3,0),0)","v":0},{"v":1761.98,"d":"€1,761.98"}]
[188420,34260,1,"Normal",{"v":249.59,"d":"€249.59"},"LUXE",{"$f":"IFERROR(VLOOKUP(F24411,Discounts!A:C,3,0),0)","v":0},{"v":249.59,"d":"€249.59"}]
[188460,178890,1,"Normal",{"v":1876.03,"d":"€1,876.03"},"A010",{"$f":"IFERROR(VLOOKUP(F24420,Discounts!A:C,3,0),0)","v":0},{"v":1876.03,"d":"€1,876.03"}]
[188510,34260,1,"Normal",{"v":249.59,"d":"€249.59"},"LUXE",{"$f":"IFERROR(VLOOKUP(F24429,Discounts!A:C,3,0),0)","v":0},{"v":249.59,"d":"€249.59"}]
[188580,179010,1,"Normal",{"v":1393.39,"d":"€1,393.39"},"A010",{"$f":"IFERROR(VLOOKUP(F24444,Discounts!A:C,3,0),0)","v":0},{"v":1393.39,"d":"€1,393.39"}]
[188680,179110,1,"Normal",{"v":1794.21,"d":"€1,794.21"},"A010",{"$f":"IFERROR(VLOOKUP(F24464,Discounts!A:C,3,0),0)","v":0},{"v":1794.21,"d":"€1,794.21"}]
[188730,34260,1,"Normal",{"v":249.59,"d":"€249.59"},"LUXE",{"$f":"IFERROR(VLOOKUP(F24473,Discounts!A:C,3,0),0)","v":0},{"v":249.59,"d":"€249.59"}]
[188790,179220,1,"Normal",{"v":1597.52,"d":"€1,597.52"},"A010",{"$f":"IFERROR(VLOOKUP(F24486,Discounts!A:C,3,0),0)","v":0},{"v":1597.52,"d":"€1,597.52"}]
[188840,34260,1,"Normal",{"v":249.59,"d":"€249.59"},"LUXE",{"$f":"IFERROR(VLOOKUP(F24495,Discounts!A:C,3,0),0)","v":0},{"v":249.59,"d":"€249.59"}]
[188890,179800,1,"Normal",{"v":1936.36,"d":"€1,936.36"},"A010",{"$f":"IFERROR(VLOOKUP(F24506,Discounts!A:C,3,0),0)","v":0},{"v":1936.36,"d":"€1,936.36"}]
[188950,179860,1,"Normal",{"v":1967.77,"d":"€1,967.77"},"A010",{"$f":"IFERROR(VLOOKUP(F24518,Discounts!A:C,3,0),0)","v":0},{"v":1967.77,"d":"€1,967.77"}]
[189000,34260,1,"Normal",{"v":249.59,"d":"€249.59"},"LUXE",{"$f":"IFERROR(VLOOKUP(F24527,Discounts!A:C,3,0),0)","v":0},{"v":249.59,"d":"€249.59"}]
[189060,180000,1,"Normal",{"v":2016.53,"d":"€2,016.53"},"A010",{"$f":"IFERROR(VLOOKUP(F24540,Discounts!A:C,3,0),0)","v":0},{"v":2016.53,"d":"€2,016.53"}]
[189170,34260,1,"Normal",{"v":249.59,"d":"€249.59"},"LUXE",{"$f":"IFERROR(VLOOKUP(F24561,Discounts!A:C,3,0),0)","v":0},{"v":249.59,"d":"€249.59"}]
[189200,180200,1,"Normal",{"v":1650.41,"d":"€1,650.41"},"A010",{"$f":"IFERROR(VLOOKUP(F24568,Discounts!A:C,3,0),0)","v":0},{"v":1650.41,"d":"€1,650.41"}]
[189290,34260,1,"Normal",{"v":249.59,"d":"€249.59"},"LUXE",{"$f":"IFERROR(VLOOKUP(F24584,Discounts!A:C,3,0),0)","v":0},{"v":249.59,"d":"€249.59"}]
[189380,34260,1,"Normal",{"v":249.59,"d":"€249.59"},"LUXE",{"$f":"IFERROR(VLOOKUP(F24593,Discounts!A:C,3,0),0)","v":0},{"v":249.59,"d":"€249.59"}]
[189480,34260,1,"Normal",{"v":249.59,"d":"€249.59"},"LUXE",{"$f":"IFERROR(VLOOKUP(F24606,Discounts!A:C,3,0),0)","v":0},{"v":249.59,"d":"€249.59"}]
[189500,188920,1,"Combination",{"v":1987.61,"d":"€1,987.61"},"A010",{"$f":"IFERROR(VLOOKUP(F24615,Discounts!A:C,3,0),0)","v":0},{"v":1987.61,"d":"€1,987.61"}]
[189530,29720,1,"Normal",{"v":87.6,"d":"€87.60"},"LUXE",{"$f":"IFERROR(VLOOKUP(F24624,Discounts!A:C,3,0),0)","v":0},{"v":87.6,"d":"€87.60"}]
[189560,29720,1,"Normal",{"v":87.6,"d":"€87.60"},"LUXE",{"$f":"IFERROR(VLOOKUP(F24636,Discounts!A:C,3,0),0)","v":0},{"v":87.6,"d":"€87.60"}]
[189620,187250,1,"Combination",{"v":2272.73,"d":"€2,272.73"},"A015",{"$f":"IFERROR(VLOOKUP(F24659,Discounts!A:C,3,0),0)","v":0},{"v":2272.73,"d":"€2,272.73"}]
[189630,29720,1,"Normal",{"v":87.6,"d":"€87.60"},"LUXE",{"$f":"IFERROR(VLOOKUP(F24660,Discounts!A:C,3,0),0)","v":0},{"v":87.6,"d":"€87.60"}]
[189690,29720,1,"Normal",{"v":87.6,"d":"€87.60"},"LUXE",{"$f":"IFERROR(VLOOKUP(F24681,Discounts!A:C,3,0),0)","v":0},{"v":87.6,"d":"€87.60"}]
[189710,187320,1,"Combination",{"v":2482.65,"d":"€2,482.65"},"A015",{"$f":"IFERROR(VLOOKUP(F24690,Discounts!A:C,3,0),0)","v":0},{"v":2482.65,"d":"€2,482.65"}]
[189740,29710,1,"Normal",{"v":41.32,"d":"€41.32"},"LUXE",{"$f":"IFERROR(VLOOKUP(F24698,Discounts!A:C,3,0),0)","v":0},{"v":41.32,"d":"€41.32"}]
[189780,31470,1,"Normal",{"v":133.88,"d":"€133.88"},"LUXE",{"$f":"IFERROR(VLOOKUP(F24713,Discounts!A:C,3,0),0)","v":0},{"v":133.88,"d":"€133.88"}]
[189810,31470,1,"Normal",{"v":133.88,"d":"€133.88"},"LUXE",{"$f":"IFERROR(VLOOKUP(F24722,Discounts!A:C,3,0),0)","v":0},{"v":133.88,"d":"€133.88"}]
[189850,31470,1,"Normal",{"v":133.88,"d":"€133.88"},"LUXE",{"$f":"IFERROR(VLOOKUP(F24735,Discounts!A:C,3,0),0)","v":0},{"v":133.88,"d":"€133.88"}]
[189920,29710,1,"Normal",{"v":41.32,"d":"€41.32"},"LUXE",{"$f":"IFERROR(VLOOKUP(F24756,Discounts!A:C,3,0),0)","v":0},{"v":41.32,"d":"€41.32"}]
[189930,31470,1,"Normal",{"v":133.88,"d":"€133.88"},"LUXE",{"$f":"IFERROR(VLOOKUP(F24760,Discounts!A:C,3,0),0)","v":0},{"v":133.88,"d":"€133.88"}]
[189980,189000,1,"Combination",{"v":2740.5,"d":"€2,740.50"},"A010",{"$f":"IFERROR(VLOOKUP(F24779,Discounts!A:C,3,0),0)","v":0},{"v":2740.5,"d":"€2,740.50"}]
[190010,29910,1,"Normal",{"v":585.12,"d":"€585.12"},"P105",{"$f":"IFERROR(VLOOKUP(F24788,Discounts!A:C,3,0),0)","v":0},{"v":585.12,"d":"€585.12"}]
[190050,29720,1,"Normal",{"v":87.6,"d":"€87.60"},"LUXE",{"$f":"IFERROR(VLOOKUP(F24801,Discounts!A:C,3,0),0)","v":0},{"v":87.6,"d":"€87.60"}]
[190070,31470,1,"Normal",{"v":133.88,"d":"€133.88"},"LUXE",{"$f":"IFERROR(VLOOKUP(F24810,Discounts!A:C,3,0),0)","v":0},{"v":133.88,"d":"€133.88"}]
[190100,189060,1,"Combination",{"v":2266.12,"d":"€2,266.12"},"A010",{"$f":"IFERROR(VLOOKUP(F24823,Discounts!A:C,3,0),0)","v":0},{"v":2266.12,"d":"€2,266.12"}]
[190150,187610,1,"Combination",{"v":1464.47,"d":"€1,464.47"},"A010",{"$f":"IFERROR(VLOOKUP(F24841,Discounts!A:C,3,0),0)","v":0},{"v":1464.47,"d":"€1,464.47"}]
[190200,29710,1,"Normal",{"v":41.32,"d":"€41.32"},"LUXE",{"$f":"IFERROR(VLOOKUP(F24854,Discounts!A:C,3,0),0)","v":0},{"v":41.32,"d":"€41.32"}]
[190200,31470,1,"Normal",{"v":133.88,"d":"€133.88"},"LUXE",{"$f":"IFERROR(VLOOKUP(F24855,Discounts!A:C,3,0),0)","v":0},{"v":133.88,"d":"€133.88"}]
[190260,31470,1,"Normal",{"v":133.88,"d":"€133.88"},"LUXE",{"$f":"IFERROR(VLOOKUP(F24876,Discounts!A:C,3,0),0)","v":0},{"v":133.88,"d":"€133.88"}]
[190280,187740,1,"Combination",{"v":2028.1,"d":"€2,028.10"},"A010",{"$f":"IFERROR(VLOOKUP(F24885,Discounts!A:C,3,0),0)","v":0},{"v":2028.1,"d":"€2,028.10"}]
[190340,31470,1,"Normal",{"v":133.88,"d":"€133.88"},"LUXE",{"$f":"IFERROR(VLOOKUP(F24903,Discounts!A:C,3,0),0)","v":0},{"v":133.88,"d":"€133.88"}]
[190360,29710,1,"Normal",{"v":41.32,"d":"€41.32"},"LUXE",{"$f":"IFERROR(VLOOKUP(F24908,Discounts!A:C,3,0),0)","v":0},{"v":41.32,"d":"€41.32"}]
[190400,31470,1,"Normal",{"v":133.88,"d":"€133.88"},"LUXE",{"$f":"IFERROR(VLOOKUP(F24921,Discounts!A:C,3,0),0)","v":0},{"v":133.88,"d":"€133.88"}]
[190430,31470,1,"Normal",{"v":133.88,"d":"€133.88"},"LUXE",{"$f":"IFERROR(VLOOKUP(F24930,Discounts!A:C,3,0),0)","v":0},{"v":133.88,"d":"€133.88"}]
[190500,31470,1,"Normal",{"v":133.88,"d":"€133.88"},"LUXE",{"$f":"IFERROR(VLOOKUP(F24951,Discounts!A:C,3,0),0)","v":0},{"v":133.88,"d":"€133.88"}]
[190500,187930,1,"Combination",{"v":2541.33,"d":"€2,541.33"},"A010",{"$f":"IFERROR(VLOOKUP(F24952,Discounts!A:C,3,0),0)","v":0},{"v":2541.33,"d":"€2,541.33"}]
[190580,29710,1,"Normal",{"v":41.32,"d":"€41.32"},"LUXE",{"$f":"IFERROR(VLOOKUP(F24974,Discounts!A:C,3,0),0)","v":0},{"v":41.32,"d":"€41.32"}]
[190620,31470,1,"Normal",{"v":133.88,"d":"€133.88"},"LUXE",{"$f":"IFERROR(VLOOKUP(F24987,Discounts!A:C,3,0),0)","v":0},{"v":133.88,"d":"€133.88"}]
[190650,30480,7,"Normal",{"v":890.89,"d":"€890.89"},"O115",{"$f":"IFERROR(VLOOKUP(F24996,Discounts!A:C,3,0),0)","v":0},{"v":890.89,"d":"€890.89"}]
[190670,188360,1,"Combination",{"v":2016.53,"d":"€2,016.53"},"A010",{"$f":"IFERROR(VLOOKUP(F25005,Discounts!A:C,3,0),0)","v":0},{"v":2016.53,"d":"€2,016.53"}]
[190700,188390,1,"Combination",{"v":1936.37,"d":"€1,936.37"},"A010",{"$f":"IFERROR(VLOOKUP(F25014,Discounts!A:C,3,0),0)","v":0},{"v":1936.37,"d":"€1,936.37"}]
[190740,31470,1,"Normal",{"v":133.88,"d":"€133.88"},"LUXE",{"$f":"IFERROR(VLOOKUP(F25028,Discounts!A:C,3,0),0)","v":0},{"v":133.88,"d":"€133.88"}]
[190790,45730,1,"Normal",{"v":41.32,"d":"€41.32"},"LUXE",{"$f":"IFERROR(VLOOKUP(F25049,Discounts!A:C,3,0),0)","v":0},{"v":41.32,"d":"€41.32"}]
[190790,188100,1,"Combination",{"v":1837.19,"d":"€1,837.19"},"A010",{"$f":"IFERROR(VLOOKUP(F25050,Discounts!A:C,3,0),0)","v":0},{"v":1837.1899999999998,"d":"€1,837.19"}]
[190850,29710,1,"Normal",{"v":41.32,"d":"€41.32"},"LUXE",{"$f":"IFERROR(VLOOKUP(F25071,Discounts!A:C,3,0),0)","v":0},{"v":41.32,"d":"€41.32"}]
[190880,31470,1,"Normal",{"v":133.88,"d":"€133.88"},"LUXE",{"$f":"IFERROR(VLOOKUP(F25084,Discounts!A:C,3,0),0)","v":0},{"v":133.88,"d":"€133.88"}]
[190910,29710,1,"Normal",{"v":41.32,"d":"€41.32"},"LUXE",{"$f":"IFERROR(VLOOKUP(F25095,Discounts!A:C,3,0),0)","v":0},{"v":41.32,"d":"€41.32"}]
[190930,29710,1,"Normal",{"v":41.32,"d":"€41.32"},"LUXE",{"$f":"IFERROR(VLOOKUP(F25103,Discounts!A:C,3,0),0)","v":0},{"v":41.32,"d":"€41.32"}]
[190960,31470,1,"Normal",{"v":133.88,"d":"€133.88"},"LUXE",{"$f":"IFERROR(VLOOKUP(F25116,Discounts!A:C,3,0),0)","v":0},{"v":133.88,"d":"€133.88"}]
[190980,45730,1,"Normal",{"v":41.32,"d":"€41.32"},"LUXE",{"$f":"IFERROR(VLOOKUP(F25125,Discounts!A:C,3,0),0)","v":0},{"v":41.32,"d":"€41.32"}]
[191030,188490,1,"Combination",{"v":2078.52,"d":"€2,078.52"},"A010",{"$f":"IFERROR(VLOOKUP(F25146,Discounts!A:C,3,0),0)","v":0},{"v":2078.52,"d":"€2,078.52"}]
[191060,45730,1,"Normal",{"v":41.32,"d":"€41.32"},"LUXE",{"$f":"IFERROR(VLOOKUP(F25157,Discounts!A:C,3,0),0)","v":0},{"v":41.32,"d":"€41.32"}]
[191090,45730,1,"Normal",{"v":41.32,"d":"€41.32"},"LUXE",{"$f":"IFERROR(VLOOKUP(F25169,Discounts!A:C,3,0),0)","v":0},{"v":41.32,"d":"€41.32"}]
[191120,188580,1,"Combination",{"v":1642.98,"d":"€1,642.98"},"A010",{"$f":"IFERROR(VLOOKUP(F25182,Discounts!A:C,3,0),0)","v":0},{"v":1642.98,"d":"€1,642.98"}]
[191150,29710,1,"Normal",{"v":41.32,"d":"€41.32"},"LUXE",{"$f":"IFERROR(VLOOKUP(F25191,Discounts!A:C,3,0),0)","v":0},{"v":41.32,"d":"€41.32"}]
[191170,31470,1,"Normal",{"v":133.88,"d":"€133.88"},"LUXE",{"$f":"IFERROR(VLOOKUP(F25200,Discounts!A:C,3,0),0)","v":0},{"v":133.88,"d":"€133.88"}]
[191220,29710,1,"Normal",{"v":41.32,"d":"€41.32"},"LUXE",{"$f":"IFERROR(VLOOKUP(F25219,Discounts!A:C,3,0),0)","v":0},{"v":41.32,"d":"€41.32"}]
[191230,29710,1,"Normal",{"v":41.32,"d":"€41.32"},"LUXE",{"$f":"IFERROR(VLOOKUP(F25223,Discounts!A:C,3,0),0)","v":0},{"v":41.32,"d":"€41.32"}]
[191260,31470,1,"Normal",{"v":133.88,"d":"€133.88"},"LUXE",{"$f":"IFERROR(VLOOKUP(F25236,Discounts!A:C,3,0),0)","v":0},{"v":133.88,"d":"€133.88"}]
[191280,45730,1,"Normal",{"v":41.32,"d":"€41.32"},"LUXE",{"$f":"IFERROR(VLOOKUP(F25245,Discounts!A:C,3,0),0)","v":0},{"v":41.32,"d":"€41.32"}]
[191330,188790,1,"Combination",{"v":1847.11,"d":"€1,847.11"},"A010",{"$f":"IFERROR(VLOOKUP(F25266,Discounts!A:C,3,0),0)","v":0},{"v":1847.11,"d":"€1,847.11"}]
[191370,29710,1,"Normal",{"v":41.32,"d":"€41.32"},"LUXE",{"$f":"IFERROR(VLOOKUP(F25279,Discounts!A:C,3,0),0)","v":0},{"v":41.32,"d":"€41.32"}]
[191390,29710,1,"Normal",{"v":41.32,"d":"€41.32"},"LUXE",{"$f":"IFERROR(VLOOKUP(F25287,Discounts!A:C,3,0),0)","v":0},{"v":41.32,"d":"€41.32"}]
[191410,188870,1,"Combination",{"v":1987.61,"d":"€1,987.61"},"A010",{"$f":"IFERROR(VLOOKUP(F25298,Discounts!A:C,3,0),0)","v":0},{"v":1987.61,"d":"€1,987.61"}]
[191450,29760,1,"Normal",{"v":877.69,"d":"€877.69"},"LUXE",{"$f":"IFERROR(VLOOKUP(F25311,Discounts!A:C,3,0),0)","v":0},{"v":877.69,"d":"€877.69"}]
[191470,41600,1,"Normal",{"v":87.6,"d":"€87.60"},"LUXE",{"$f":"IFERROR(VLOOKUP(F25320,Discounts!A:C,3,0),0)","v":0},{"v":87.6,"d":"€87.60"}]
[191500,41610,1,"Normal",{"v":41.32,"d":"€41.32"},"LUXE",{"$f":"IFERROR(VLOOKUP(F25333,Discounts!A:C,3,0),0)","v":0},{"v":41.32,"d":"€41.32"}]
[191550,31640,1,"Normal",{"v":134.71,"d":"€134.71"},"LUXE",{"$f":"IFERROR(VLOOKUP(F25349,Discounts!A:C,3,0),0)","v":0},{"v":134.71,"d":"€134.71"}]
[191590,186590,1,"Combination",{"v":965.29,"d":"€965.29"},"C010",{"$f":"IFERROR(VLOOKUP(F25364,Discounts!A:C,3,0),0)","v":0},{"v":965.2900000000001,"d":"€965.29"}]
[191660,137810,1,"Normal",{"v":115.7,"d":"€115.70"},"LUXE",{"$f":"IFERROR(VLOOKUP(F25377,Discounts!A:C,3,0),0)","v":0},{"v":115.7,"d":"€115.70"}]
[191700,186700,1,"Combination",{"v":819.01,"d":"€819.01"},"C010",{"$f":"IFERROR(VLOOKUP(F25386,Discounts!A:C,3,0),0)","v":0},{"v":819.01,"d":"€819.01"}]
[191750,137810,1,"Normal",{"v":115.7,"d":"€115.70"},"LUXE",{"$f":"IFERROR(VLOOKUP(F25395,Discounts!A:C,3,0),0)","v":0},{"v":115.7,"d":"€115.70"}]
[191830,137810,1,"Normal",{"v":115.7,"d":"€115.70"},"LUXE",{"$f":"IFERROR(VLOOKUP(F25411,Discounts!A:C,3,0),0)","v":0},{"v":115.7,"d":"€115.70"}]
[191860,186860,1,"Combination",{"v":895.04,"d":"€895.04"},"C010",{"$f":"IFERROR(VLOOKUP(F25418,Discounts!A:C,3,0),0)","v":0},{"v":895.0400000000001,"d":"€895.04"}]
[191930,137810,1,"Normal",{"v":115.7,"d":"€115.70"},"LUXE",{"$f":"IFERROR(VLOOKUP(F25431,Discounts!A:C,3,0),0)","v":0},{"v":115.7,"d":"€115.70"}]
[191970,186970,1,"Combination",{"v":1177.69,"d":"€1,177.69"},"C010",{"$f":"IFERROR(VLOOKUP(F25440,Discounts!A:C,3,0),0)","v":0},{"v":1177.69,"d":"€1,177.69"}]
[192080,34260,1,"Normal",{"v":249.59,"d":"€249.59"},"LUXE",{"$f":"IFERROR(VLOOKUP(F25461,Discounts!A:C,3,0),0)","v":0},{"v":249.59,"d":"€249.59"}]
[192130,31470,1,"Normal",{"v":133.88,"d":"€133.88"},"LUXE",{"$f":"IFERROR(VLOOKUP(F25473,Discounts!A:C,3,0),0)","v":0},{"v":133.88,"d":"€133.88"}]
[192170,29710,1,"Normal",{"v":41.32,"d":"€41.32"},"LUXE",{"$f":"IFERROR(VLOOKUP(F25484,Discounts!A:C,3,0),0)","v":0},{"v":41.32,"d":"€41.32"}]
[192220,34260,1,"Normal",{"v":249.59,"d":"€249.59"},"LUXE",{"$f":"IFERROR(VLOOKUP(F25497,Discounts!A:C,3,0),0)","v":0},{"v":249.59,"d":"€249.59"}]
[192260,137810,1,"Normal",{"v":115.7,"d":"€115.70"},"LUXE",{"$f":"IFERROR(VLOOKUP(F25506,Discounts!A:C,3,0),0)","v":0},{"v":115.7,"d":"€115.70"}]
[192300,186510,1,"Normal",{"v":533.88,"d":"€533.88"},"C010",{"$f":"IFERROR(VLOOKUP(F25515,Discounts!A:C,3,0),0)","v":0},{"v":533.88,"d":"€533.88"}]
[193120,192710,1,"Normal",{"v":432.23,"d":"€432.23"},"E015",{"$f":"IFERROR(VLOOKUP(F25528,Discounts!A:C,3,0),0)","v":0},{"v":432.23,"d":"€432.23"}]
[193200,31050,1,"Normal",{"v":149.1,"d":"€149.10"},"SD/SG",{"$f":"IFERROR(VLOOKUP(F25541,Discounts!A:C,3,0),0)","v":0},{"v":149.1,"d":"€149.10"}]
[193240,40970,1,"Normal",{"v":58.68,"d":"€58.68"},"SD/SG",{"$f":"IFERROR(VLOOKUP(F25559,Discounts!A:C,3,0),0)","v":0},{"v":58.68,"d":"€58.68"}]
[193270,193180,1,"Normal",{"v":709.09,"d":"€709.09"},"D010",{"$f":"IFERROR(VLOOKUP(F25572,Discounts!A:C,3,0),0)","v":0},{"v":709.09,"d":"€709.09"}]
[193300,31110,1,"Normal",{"v":282.3,"d":"€282.30"},"SD/SG",{"$f":"IFERROR(VLOOKUP(F25581,Discounts!A:C,3,0),0)","v":0},{"v":282.3,"d":"€282.30"}]
[193330,40970,1,"Normal",{"v":58.68,"d":"€58.68"},"SD/SG",{"$f":"IFERROR(VLOOKUP(F25594,Discounts!A:C,3,0),0)","v":0},{"v":58.68,"d":"€58.68"}]
[193350,40970,1,"Normal",{"v":58.68,"d":"€58.68"},"SD/SG",{"$f":"IFERROR(VLOOKUP(F25603,Discounts!A:C,3,0),0)","v":0},{"v":58.68,"d":"€58.68"}]
[193380,31170,1,"Normal",{"v":306.51,"d":"€306.51"},"SD/SG",{"$f":"IFERROR(VLOOKUP(F25613,Discounts!A:C,3,0),0)","v":0},{"v":306.51,"d":"€306.51"}]
[193410,40970,1,"Normal",{"v":58.68,"d":"€58.68"},"SD/SG",{"$f":"IFERROR(VLOOKUP(F25626,Discounts!A:C,3,0),0)","v":0},{"v":58.68,"d":"€58.68"}]
[193430,163150,1,"Normal",{"v":272.05,"d":"€272.05"},"SD/SG",{"$f":"IFERROR(VLOOKUP(F25635,Discounts!A:C,3,0),0)","v":0},{"v":272.05,"d":"€272.05"}]
[193460,193180,1,"Normal",{"v":709.09,"d":"€709.09"},"D010",{"$f":"IFERROR(VLOOKUP(F25648,Discounts!A:C,3,0),0)","v":0},{"v":709.09,"d":"€709.09"}]
[193510,31270,1,"Normal",{"v":412.69,"d":"€412.69"},"SD/SG",{"$f":"IFERROR(VLOOKUP(F25665,Discounts!A:C,3,0),0)","v":0},{"v":412.69,"d":"€412.69"}]
[193540,49960,1,"Normal",{"v":472.73,"d":"€472.73"},"SD/SG",{"$f":"IFERROR(VLOOKUP(F25679,Discounts!A:C,3,0),0)","v":0},{"v":472.73,"d":"€472.73"}]
[193570,193180,1,"Normal",{"v":709.09,"d":"€709.09"},"D010",{"$f":"IFERROR(VLOOKUP(F25692,Discounts!A:C,3,0),0)","v":0},{"v":709.09,"d":"€709.09"}]
[193600,32060,1,"Normal",{"v":115.7,"d":"€115.70"},"SD/SG",{"$f":"IFERROR(VLOOKUP(F25701,Discounts!A:C,3,0),0)","v":0},{"v":115.7,"d":"€115.70"}]
[193620,40970,1,"Normal",{"v":58.68,"d":"€58.68"},"SD/SG",{"$f":"IFERROR(VLOOKUP(F25710,Discounts!A:C,3,0),0)","v":0},{"v":58.68,"d":"€58.68"}]
[193790,31640,1,"Normal",{"v":134.71,"d":"€134.71"},"LUXE",{"$f":"IFERROR(VLOOKUP(F25723,Discounts!A:C,3,0),0)","v":0},{"v":134.71,"d":"€134.71"}]
[193820,31640,1,"Normal",{"v":134.71,"d":"€134.71"},"LUXE",{"$f":"IFERROR(VLOOKUP(F25733,Discounts!A:C,3,0),0)","v":0},{"v":134.71,"d":"€134.71"}]
[193850,44940,5,"Normal",{"v":380.15,"d":"€380.15"},"LUXE",{"$f":"IFERROR(VLOOKUP(F25746,Discounts!A:C,3,0),0)","v":0},{"v":380.15,"d":"€380.15"}]
[193910,43810,1,"Normal",{"v":275.21,"d":"€275.21"},"P106",{"$f":"IFERROR(VLOOKUP(F25767,Discounts!A:C,3,0),0)","v":0},{"v":275.21,"d":"€275.21"}]
[193940,29720,1,"Normal",{"v":87.6,"d":"€87.60"},"LUXE",{"$f":"IFERROR(VLOOKUP(F25776,Discounts!A:C,3,0),0)","v":0},{"v":87.6,"d":"€87.60"}]
[198570,31920,1,"Normal",{"v":115.7,"d":"€115.70"},"SD/SG",{"$f":"IFERROR(VLOOKUP(F25789,Discounts!A:C,3,0),0)","v":0},{"v":115.7,"d":"€115.70"}]
[198590,31920,1,"Normal",{"v":115.7,"d":"€115.70"},"SD/SG",{"$f":"IFERROR(VLOOKUP(F25795,Discounts!A:C,3,0),0)","v":0},{"v":115.7,"d":"€115.70"}]
[198620,196070,1,"Normal",{"v":675.21,"d":"€675.21"},"C010",{"$f":"IFERROR(VLOOKUP(F25808,Discounts!A:C,3,0),0)","v":0},{"v":675.21,"d":"€675.21"}]
[198690,34260,1,"Normal",{"v":249.59,"d":"€249.59"},"LUXE",{"$f":"IFERROR(VLOOKUP(F25821,Discounts!A:C,3,0),0)","v":0},{"v":249.59,"d":"€249.59"}]
[198730,196180,1,"Normal",{"v":593.39,"d":"€593.39"},"C010",{"$f":"IFERROR(VLOOKUP(F25830,Discounts!A:C,3,0),0)","v":0},{"v":593.39,"d":"€593.39"}]
[198800,34260,1,"Normal",{"v":249.59,"d":"€249.59"},"LUXE",{"$f":"IFERROR(VLOOKUP(F25843,Discounts!A:C,3,0),0)","v":0},{"v":249.59,"d":"€249.59"}]
[198870,34260,1,"Normal",{"v":249.59,"d":"€249.59"},"LUXE",{"$f":"IFERROR(VLOOKUP(F25857,Discounts!A:C,3,0),0)","v":0},{"v":249.59,"d":"€249.59"}]
[198950,194340,1,"Normal",{"v":2133.88,"d":"€2,133.88"},"A010",{"$f":"IFERROR(VLOOKUP(F25874,Discounts!A:C,3,0),0)","v":0},{"v":2133.88,"d":"€2,133.88"}]
[199020,34260,1,"Normal",{"v":249.59,"d":"€249.59"},"LUXE",{"$f":"IFERROR(VLOOKUP(F25887,Discounts!A:C,3,0),0)","v":0},{"v":249.59,"d":"€249.59"}]
[199060,195000,1,"Normal",{"v":2291.74,"d":"€2,291.74"},"A010",{"$f":"IFERROR(VLOOKUP(F25896,Discounts!A:C,3,0),0)","v":0},{"v":2291.74,"d":"€2,291.74"}]
[199130,34260,1,"Normal",{"v":249.59,"d":"€249.59"},"LUXE",{"$f":"IFERROR(VLOOKUP(F25909,Discounts!A:C,3,0),0)","v":0},{"v":249.59,"d":"€249.59"}]
[199180,34260,1,"Normal",{"v":249.59,"d":"€249.59"},"LUXE",{"$f":"IFERROR(VLOOKUP(F25919,Discounts!A:C,3,0),0)","v":0},{"v":249.59,"d":"€249.59"}]
[199220,195870,1,"Normal",{"v":1438.02,"d":"€1,438.02"},"A010",{"$f":"IFERROR(VLOOKUP(F25928,Discounts!A:C,3,0),0)","v":0},{"v":1438.02,"d":"€1,438.02"}]
[199290,34260,1,"Normal",{"v":249.59,"d":"€249.59"},"LUXE",{"$f":"IFERROR(VLOOKUP(F25941,Discounts!A:C,3,0),0)","v":0},{"v":249.59,"d":"€249.59"}]
[199390,197040,1,"Normal",{"v":1217.36,"d":"€1,217.36"},"A010",{"$f":"IFERROR(VLOOKUP(F25962,Discounts!A:C,3,0),0)","v":0},{"v":1217.36,"d":"€1,217.36"}]
[199440,34260,1,"Normal",{"v":249.59,"d":"€249.59"},"LUXE",{"$f":"IFERROR(VLOOKUP(F25971,Discounts!A:C,3,0),0)","v":0},{"v":249.59,"d":"€249.59"}]
[199500,199470,1,"Normal",{"v":422.49,"d":"€422.49"},"B015",{"$f":"IFERROR(VLOOKUP(F25984,Discounts!A:C,3,0),0)","v":0},{"v":422.49,"d":"€422.49"}]
[199560,105710,1,"Normal",{"v":73.57,"d":"€73.57"},"LUXE",{"$f":"IFERROR(VLOOKUP(F26000,Discounts!A:C,3,0),0)","v":0},{"v":73.57,"d":"€73.57"}]
[199580,199530,1,"Combination",{"v":434.89,"d":"€434.89"},"B015",{"$f":"IFERROR(VLOOKUP(F26007,Discounts!A:C,3,0),0)","v":0},{"v":434.89,"d":"€434.89"}]
[199670,199640,1,"Normal",{"v":415.98,"d":"€415.98"},"B015",{"$f":"IFERROR(VLOOKUP(F26016,Discounts!A:C,3,0),0)","v":0},{"v":415.98,"d":"€415.98"}]
[199700,199640,1,"Normal",{"v":415.98,"d":"€415.98"},"B015",{"$f":"IFERROR(VLOOKUP(F26025,Discounts!A:C,3,0),0)","v":0},{"v":415.98,"d":"€415.98"}]
[199750,105710,1,"Normal",{"v":73.57,"d":"€73.57"},"LUXE",{"$f":"IFERROR(VLOOKUP(F26038,Discounts!A:C,3,0),0)","v":0},{"v":73.57,"d":"€73.57"}]
[199840,199950,1,"Normal",{"v":348.07,"d":"€348.07"},"P109",{"$f":"IFERROR(VLOOKUP(F26049,Discounts!A:C,3,0),0)","v":0},{"v":348.07,"d":"€348.07"}]
[199990,105710,1,"Normal",{"v":73.57,"d":"€73.57"},"LUXE",{"$f":"IFERROR(VLOOKUP(F26073,Discounts!A:C,3,0),0)","v":0},{"v":73.57,"d":"€73.57"}]
[200020,105710,1,"Normal",{"v":73.57,"d":"€73.57"},"LUXE",{"$f":"IFERROR(VLOOKUP(F26082,Discounts!A:C,3,0),0)","v":0},{"v":73.57,"d":"€73.57"}]
[200050,200040,1,"Combination",{"v":434.89,"d":"€434.89"},"B015",{"$f":"IFERROR(VLOOKUP(F26091,Discounts!A:C,3,0),0)","v":0},{"v":434.89,"d":"€434.89"}]
[200090,200140,1,"Normal",{"v":433.71,"d":"€433.71"},"P109",{"$f":"IFERROR(VLOOKUP(F26104,Discounts!A:C,3,0),0)","v":0},{"v":433.71,"d":"€433.71"}]
[200180,105720,1,"Normal",{"v":79.16,"d":"€79.16"},"LUXE",{"$f":"IFERROR(VLOOKUP(F26111,Discounts!A:C,3,0),0)","v":0},{"v":79.16,"d":"€79.16"}]
[200220,200210,1,"Combination",{"v":454.41,"d":"€454.41"},"B015",{"$f":"IFERROR(VLOOKUP(F26123,Discounts!A:C,3,0),0)","v":0},{"v":454.40999999999997,"d":"€454.41"}]
[200260,200310,1,"Normal",{"v":433.71,"d":"€433.71"},"P109",{"$f":"IFERROR(VLOOKUP(F26136,Discounts!A:C,3,0),0)","v":0},{"v":433.71,"d":"€433.71"}]
[200400,105710,1,"Normal",{"v":73.57,"d":"€73.57"},"LUXE",{"$f":"IFERROR(VLOOKUP(F26157,Discounts!A:C,3,0),0)","v":0},{"v":73.57,"d":"€73.57"}]
[200500,200490,1,"Normal",{"v":622.13,"d":"€622.13"},"B015",{"$f":"IFERROR(VLOOKUP(F26170,Discounts!A:C,3,0),0)","v":0},{"v":622.13,"d":"€622.13"}]
[200530,200490,1,"Normal",{"v":622.13,"d":"€622.13"},"B015",{"$f":"IFERROR(VLOOKUP(F26179,Discounts!A:C,3,0),0)","v":0},{"v":622.13,"d":"€622.13"}]
[200580,105710,1,"Normal",{"v":73.57,"d":"€73.57"},"LUXE",{"$f":"IFERROR(VLOOKUP(F26192,Discounts!A:C,3,0),0)","v":0},{"v":73.57,"d":"€73.57"}]
[200670,200660,1,"Normal",{"v":583.09,"d":"€583.09"},"B015",{"$f":"IFERROR(VLOOKUP(F26202,Discounts!A:C,3,0),0)","v":0},{"v":583.09,"d":"€583.09"}]
[200700,200660,1,"Normal",{"v":583.09,"d":"€583.09"},"B015",{"$f":"IFERROR(VLOOKUP(F26211,Discounts!A:C,3,0),0)","v":0},{"v":583.09,"d":"€583.09"}]
[200730,200780,1,"Normal",{"v":184.43,"d":"€184.43"},"P109",{"$f":"IFERROR(VLOOKUP(F26220,Discounts!A:C,3,0),0)","v":0},{"v":184.43,"d":"€184.43"}]
[200840,105700,1,"Normal",{"v":67.98,"d":"€67.98"},"LUXE",{"$f":"IFERROR(VLOOKUP(F26233,Discounts!A:C,3,0),0)","v":0},{"v":67.98,"d":"€67.98"}]
[200910,200890,1,"Combination",{"v":615.01,"d":"€615.01"},"B015",{"$f":"IFERROR(VLOOKUP(F26254,Discounts!A:C,3,0),0)","v":0},{"v":615.01,"d":"€615.01"}]
[201020,105690,1,"Normal",{"v":62.39,"d":"€62.39"},"LUXE",{"$f":"IFERROR(VLOOKUP(F26268,Discounts!A:C,3,0),0)","v":0},{"v":62.39,"d":"€62.39"}]
[201050,105690,1,"Normal",{"v":62.39,"d":"€62.39"},"LUXE",{"$f":"IFERROR(VLOOKUP(F26277,Discounts!A:C,3,0),0)","v":0},{"v":62.39,"d":"€62.39"}]
[201080,201060,1,"Combination",{"v":795.14,"d":"€795.14"},"B015",{"$f":"IFERROR(VLOOKUP(F26286,Discounts!A:C,3,0),0)","v":0},{"v":795.14,"d":"€795.14"}]
[201180,40400,1,"Normal",{"v":47.93,"d":"€47.93"},"SD/SG",{"$f":"IFERROR(VLOOKUP(F26299,Discounts!A:C,3,0),0)","v":0},{"v":47.93,"d":"€47.93"}]
[201280,201390,1,"Normal",{"v":348.07,"d":"€348.07"},"P109",{"$f":"IFERROR(VLOOKUP(F26316,Discounts!A:C,3,0),0)","v":0},{"v":348.07,"d":"€348.07"}]
[201310,105700,1,"Normal",{"v":67.98,"d":"€67.98"},"LUXE",{"$f":"IFERROR(VLOOKUP(F26322,Discounts!A:C,3,0),0)","v":0},{"v":67.98,"d":"€67.98"}]
[201340,105700,1,"Normal",{"v":67.98,"d":"€67.98"},"LUXE",{"$f":"IFERROR(VLOOKUP(F26331,Discounts!A:C,3,0),0)","v":0},{"v":67.98,"d":"€67.98"}]
[201480,201430,1,"Normal",{"v":499.37,"d":"€499.37"},"B015",{"$f":"IFERROR(VLOOKUP(F26352,Discounts!A:C,3,0),0)","v":0},{"v":499.37,"d":"€499.37"}]
[201530,105710,1,"Normal",{"v":73.57,"d":"€73.57"},"LUXE",{"$f":"IFERROR(VLOOKUP(F26365,Discounts!A:C,3,0),0)","v":0},{"v":73.57,"d":"€73.57"}]
[201630,201600,1,"Normal",{"v":505.5,"d":"€505.50"},"B015",{"$f":"IFERROR(VLOOKUP(F26378,Discounts!A:C,3,0),0)","v":0},{"v":505.5,"d":"€505.50"}]
[201630,201740,1,"Normal",{"v":232.05,"d":"€232.05"},"P109",{"$f":"IFERROR(VLOOKUP(F26379,Discounts!A:C,3,0),0)","v":0},{"v":232.05,"d":"€232.05"}]
[201640,105690,1,"Normal",{"v":62.39,"d":"€62.39"},"LUXE",{"$f":"IFERROR(VLOOKUP(F26380,Discounts!A:C,3,0),0)","v":0},{"v":62.39,"d":"€62.39"}]
[201640,201600,1,"Normal",{"v":505.5,"d":"€505.50"},"B015",{"$f":"IFERROR(VLOOKUP(F26381,Discounts!A:C,3,0),0)","v":0},{"v":505.5,"d":"€505.50"}]
[201640,201750,1,"Normal",{"v":232.05,"d":"€232.05"},"P109",{"$f":"IFERROR(VLOOKUP(F26382,Discounts!A:C,3,0),0)","v":0},{"v":232.05,"d":"€232.05"}]
[201650,105690,1,"Normal",{"v":62.39,"d":"€62.39"},"LUXE",{"$f":"IFERROR(VLOOKUP(F26383,Discounts!A:C,3,0),0)","v":0},{"v":62.39,"d":"€62.39"}]
[201650,201600,1,"Normal",{"v":505.5,"d":"€505.50"},"B015",{"$f":"IFERROR(VLOOKUP(F26384,Discounts!A:C,3,0),0)","v":0},{"v":505.5,"d":"€505.50"}]
[201650,201760,1,"Normal",{"v":289.14,"d":"€289.14"},"P109",{"$f":"IFERROR(VLOOKUP(F26385,Discounts!A:C,3,0),0)","v":0},{"v":289.14,"d":"€289.14"}]
[201660,106730,1,"Normal",{"v":12.4,"d":"€12.40"},"LUXE",{"$f":"IFERROR(VLOOKUP(F26386,Discounts!A:C,3,0),0)","v":0},{"v":12.4,"d":"€12.40"}]
[201660,201600,1,"Normal",{"v":505.5,"d":"€505.50"},"B015",{"$f":"IFERROR(VLOOKUP(F26387,Discounts!A:C,3,0),0)","v":0},{"v":505.5,"d":"€505.50"}]
[201670,105690,1,"Normal",{"v":62.39,"d":"€62.39"},"LUXE",{"$f":"IFERROR(VLOOKUP(F26388,Discounts!A:C,3,0),0)","v":0},{"v":62.39,"d":"€62.39"}]
[201670,201660,1,"Combination",{"v":517.9,"d":"€517.90"},"B015",{"$f":"IFERROR(VLOOKUP(F26389,Discounts!A:C,3,0),0)","v":0},{"v":517.9,"d":"€517.90"}]
[201670,201720,1,"Normal",{"v":122.95,"d":"€122.95"},"P109",{"$f":"IFERROR(VLOOKUP(F26390,Discounts!A:C,3,0),0)","v":0},{"v":122.95,"d":"€122.95"}]
[201680,105690,1,"Normal",{"v":62.39,"d":"€62.39"},"LUXE",{"$f":"IFERROR(VLOOKUP(F26391,Discounts!A:C,3,0),0)","v":0},{"v":62.39,"d":"€62.39"}]
[201680,201660,1,"Combination",{"v":517.9,"d":"€517.90"},"B015",{"$f":"IFERROR(VLOOKUP(F26392,Discounts!A:C,3,0),0)","v":0},{"v":517.9,"d":"€517.90"}]
[201680,201730,1,"Normal",{"v":198.05,"d":"€198.05"},"P109",{"$f":"IFERROR(VLOOKUP(F26393,Discounts!A:C,3,0),0)","v":0},{"v":198.05,"d":"€198.05"}]
[201690,105690,1,"Normal",{"v":62.39,"d":"€62.39"},"LUXE",{"$f":"IFERROR(VLOOKUP(F26394,Discounts!A:C,3,0),0)","v":0},{"v":62.39,"d":"€62.39"}]
[201690,201660,1,"Combination",{"v":517.9,"d":"€517.90"},"B015",{"$f":"IFERROR(VLOOKUP(F26395,Discounts!A:C,3,0),0)","v":0},{"v":517.9,"d":"€517.90"}]
[201690,201740,1,"Normal",{"v":232.05,"d":"€232.05"},"P109",{"$f":"IFERROR(VLOOKUP(F26396,Discounts!A:C,3,0),0)","v":0},{"v":232.05,"d":"€232.05"}]
[201700,105690,1,"Normal",{"v":62.39,"d":"€62.39"},"LUXE",{"$f":"IFERROR(VLOOKUP(F26397,Discounts!A:C,3,0),0)","v":0},{"v":62.39,"d":"€62.39"}]
[201700,201660,1,"Combination",{"v":517.9,"d":"€517.90"},"B015",{"$f":"IFERROR(VLOOKUP(F26398,Discounts!A:C,3,0),0)","v":0},{"v":517.9,"d":"€517.90"}]
[201700,201750,1,"Normal",{"v":232.05,"d":"€232.05"},"P109",{"$f":"IFERROR(VLOOKUP(F26399,Discounts!A:C,3,0),0)","v":0},{"v":232.05,"d":"€232.05"}]
[201710,105690,1,"Normal",{"v":62.39,"d":"€62.39"},"LUXE",{"$f":"IFERROR(VLOOKUP(F26400,Discounts!A:C,3,0),0)","v":0},{"v":62.39,"d":"€62.39"}]
[201710,201660,1,"Combination",{"v":517.9,"d":"€517.90"},"B015",{"$f":"IFERROR(VLOOKUP(F26401,Discounts!A:C,3,0),0)","v":0},{"v":517.9,"d":"€517.90"}]
[201710,201760,1,"Normal",{"v":289.14,"d":"€289.14"},"P109",{"$f":"IFERROR(VLOOKUP(F26402,Discounts!A:C,3,0),0)","v":0},{"v":289.14,"d":"€289.14"}]
[201780,105700,1,"Normal",{"v":67.98,"d":"€67.98"},"LUXE",{"$f":"IFERROR(VLOOKUP(F26403,Discounts!A:C,3,0),0)","v":0},{"v":67.98,"d":"€67.98"}]
[201780,201770,1,"Normal",{"v":534.33,"d":"€534.33"},"B015",{"$f":"IFERROR(VLOOKUP(F26404,Discounts!A:C,3,0),0)","v":0},{"v":534.33,"d":"€534.33"}]
[201780,201890,1,"Normal",{"v":138.32,"d":"€138.32"},"P109",{"$f":"IFERROR(VLOOKUP(F26405,Discounts!A:C,3,0),0)","v":0},{"v":138.32,"d":"€138.32"}]
[201790,105700,1,"Normal",{"v":67.98,"d":"€67.98"},"LUXE",{"$f":"IFERROR(VLOOKUP(F26406,Discounts!A:C,3,0),0)","v":0},{"v":67.98,"d":"€67.98"}]
[201790,201770,1,"Normal",{"v":534.33,"d":"€534.33"},"B015",{"$f":"IFERROR(VLOOKUP(F26407,Discounts!A:C,3,0),0)","v":0},{"v":534.33,"d":"€534.33"}]
[201790,201900,1,"Normal",{"v":222.8,"d":"€222.80"},"P109",{"$f":"IFERROR(VLOOKUP(F26408,Discounts!A:C,3,0),0)","v":0},{"v":222.8,"d":"€222.80"}]
[201800,105700,1,"Normal",{"v":67.98,"d":"€67.98"},"LUXE",{"$f":"IFERROR(VLOOKUP(F26409,Discounts!A:C,3,0),0)","v":0},{"v":67.98,"d":"€67.98"}]
[201800,201770,1,"Normal",{"v":534.33,"d":"€534.33"},"B015",{"$f":"IFERROR(VLOOKUP(F26410,Discounts!A:C,3,0),0)","v":0},{"v":534.33,"d":"€534.33"}]
[201800,201910,1,"Normal",{"v":261.05,"d":"€261.05"},"P109",{"$f":"IFERROR(VLOOKUP(F26411,Discounts!A:C,3,0),0)","v":0},{"v":261.05,"d":"€261.05"}]
[201810,105700,1,"Normal",{"v":67.98,"d":"€67.98"},"LUXE",{"$f":"IFERROR(VLOOKUP(F26412,Discounts!A:C,3,0),0)","v":0},{"v":67.98,"d":"€67.98"}]
[201810,201770,1,"Normal",{"v":534.33,"d":"€534.33"},"B015",{"$f":"IFERROR(VLOOKUP(F26413,Discounts!A:C,3,0),0)","v":0},{"v":534.33,"d":"€534.33"}]
[201810,201920,1,"Normal",{"v":261.05,"d":"€261.05"},"P109",{"$f":"IFERROR(VLOOKUP(F26414,Discounts!A:C,3,0),0)","v":0},{"v":261.05,"d":"€261.05"}]
[201820,105700,1,"Normal",{"v":67.98,"d":"€67.98"},"LUXE",{"$f":"IFERROR(VLOOKUP(F26415,Discounts!A:C,3,0),0)","v":0},{"v":67.98,"d":"€67.98"}]
[201820,201770,1,"Normal",{"v":534.33,"d":"€534.33"},"B015",{"$f":"IFERROR(VLOOKUP(F26416,Discounts!A:C,3,0),0)","v":0},{"v":534.33,"d":"€534.33"}]
[201820,201930,1,"Normal",{"v":325.28,"d":"€325.28"},"P109",{"$f":"IFERROR(VLOOKUP(F26417,Discounts!A:C,3,0),0)","v":0},{"v":325.28,"d":"€325.28"}]
[201830,106730,1,"Normal",{"v":12.4,"d":"€12.40"},"LUXE",{"$f":"IFERROR(VLOOKUP(F26418,Discounts!A:C,3,0),0)","v":0},{"v":12.4,"d":"€12.40"}]
[201830,201770,1,"Normal",{"v":534.33,"d":"€534.33"},"B015",{"$f":"IFERROR(VLOOKUP(F26419,Discounts!A:C,3,0),0)","v":0},{"v":534.33,"d":"€534.33"}]
[201840,105700,1,"Normal",{"v":67.98,"d":"€67.98"},"LUXE",{"$f":"IFERROR(VLOOKUP(F26420,Discounts!A:C,3,0),0)","v":0},{"v":67.98,"d":"€67.98"}]
[201840,201830,1,"Combination",{"v":546.73,"d":"€546.73"},"B015",{"$f":"IFERROR(VLOOKUP(F26421,Discounts!A:C,3,0),0)","v":0},{"v":546.73,"d":"€546.73"}]
[201840,201890,1,"Normal",{"v":138.32,"d":"€138.32"},"P109",{"$f":"IFERROR(VLOOKUP(F26422,Discounts!A:C,3,0),0)","v":0},{"v":138.32,"d":"€138.32"}]
[201850,105700,1,"Normal",{"v":67.98,"d":"€67.98"},"LUXE",{"$f":"IFERROR(VLOOKUP(F26423,Discounts!A:C,3,0),0)","v":0},{"v":67.98,"d":"€67.98"}]
[201850,201830,1,"Combination",{"v":546.73,"d":"€546.73"},"B015",{"$f":"IFERROR(VLOOKUP(F26424,Discounts!A:C,3,0),0)","v":0},{"v":546.73,"d":"€546.73"}]
[201850,201900,1,"Normal",{"v":222.8,"d":"€222.80"},"P109",{"$f":"IFERROR(VLOOKUP(F26425,Discounts!A:C,3,0),0)","v":0},{"v":222.8,"d":"€222.80"}]
[201860,105700,1,"Normal",{"v":67.98,"d":"€67.98"},"LUXE",{"$f":"IFERROR(VLOOKUP(F26426,Discounts!A:C,3,0),0)","v":0},{"v":67.98,"d":"€67.98"}]
[201860,201830,1,"Combination",{"v":546.73,"d":"€546.73"},"B015",{"$f":"IFERROR(VLOOKUP(F26427,Discounts!A:C,3,0),0)","v":0},{"v":546.73,"d":"€546.73"}]
[201860,201910,1,"Normal",{"v":261.05,"d":"€261.05"},"P109",{"$f":"IFERROR(VLOOKUP(F26428,Discounts!A:C,3,0),0)","v":0},{"v":261.05,"d":"€261.05"}]
[201870,105700,1,"Normal",{"v":67.98,"d":"€67.98"},"LUXE",{"$f":"IFERROR(VLOOKUP(F26429,Discounts!A:C,3,0),0)","v":0},{"v":67.98,"d":"€67.98"}]
[201870,201830,1,"Combination",{"v":546.73,"d":"€546.73"},"B015",{"$f":"IFERROR(VLOOKUP(F26430,Discounts!A:C,3,0),0)","v":0},{"v":546.73,"d":"€546.73"}]
[201870,201920,1,"Normal",{"v":261.05,"d":"€261.05"},"P109",{"$f":"IFERROR(VLOOKUP(F26431,Discounts!A:C,3,0),0)","v":0},{"v":261.05,"d":"€261.05"}]
[201880,105700,1,"Normal",{"v":67.98,"d":"€67.98"},"LUXE",{"$f":"IFERROR(VLOOKUP(F26432,Discounts!A:C,3,0),0)","v":0},{"v":67.98,"d":"€67.98"}]
[201880,201830,1,"Combination",{"v":546.73,"d":"€546.73"},"B015",{"$f":"IFERROR(VLOOKUP(F26433,Discounts!A:C,3,0),0)","v":0},{"v":546.73,"d":"€546.73"}]
[201880,201930,1,"Normal",{"v":325.28,"d":"€325.28"},"P109",{"$f":"IFERROR(VLOOKUP(F26434,Discounts!A:C,3,0),0)","v":0},{"$f":"IF(D26434=\"Normal\",E26434*(1-G26434),SUMIF(A:A,B26434,H:H)*C26434)","v":{"v":325.28,"d":"€325.28"}}]
[201950,105710,1,"Normal",{"v":73.57,"d":"€73.57"},"LUXE",{"$f":"IFERROR(VLOOKUP(F26435,Discounts!A:C,3,0),0)","v":0},{"v":73.57,"d":"€73.57"}]
[201950,201940,1,"Normal",{"v":545.34,"d":"€545.34"},"B015",{"$f":"IFERROR(VLOOKUP(F26436,Discounts!A:C,3,0),0)","v":0},{"v":545.34,"d":"€545.34"}]
[201950,202060,1,"Normal",{"v":184.43,"d":"€184.43"},"P109",{"$f":"IFERROR(VLOOKUP(F26437,Discounts!A:C,3,0),0)","v":0},{"v":184.43,"d":"€184.43"}]
[201960,105710,1,"Normal",{"v":73.57,"d":"€73.57"},"LUXE",{"$f":"IFERROR(VLOOKUP(F26438,Discounts!A:C,3,0),0)","v":0},{"v":73.57,"d":"€73.57"}]
[201960,201940,1,"Normal",{"v":545.34,"d":"€545.34"},"B015",{"$f":"IFERROR(VLOOKUP(F26439,Discounts!A:C,3,0),0)","v":0},{"v":545.34,"d":"€545.34"}]
[201960,202070,1,"Normal",{"v":297.07,"d":"€297.07"},"P109",{"$f":"IFERROR(VLOOKUP(F26440,Discounts!A:C,3,0),0)","v":0},{"v":297.07,"d":"€297.07"}]
[201970,105710,1,"Normal",{"v":73.57,"d":"€73.57"},"LUXE",{"$f":"IFERROR(VLOOKUP(F26441,Discounts!A:C,3,0),0)","v":0},{"v":73.57,"d":"€73.57"}]
[201970,201940,1,"Normal",{"v":545.34,"d":"€545.34"},"B015",{"$f":"IFERROR(VLOOKUP(F26442,Discounts!A:C,3,0),0)","v":0},{"v":545.34,"d":"€545.34"}]
[201970,202080,1,"Normal",{"v":348.07,"d":"€348.07"},"P109",{"$f":"IFERROR(VLOOKUP(F26443,Discounts!A:C,3,0),0)","v":0},{"v":348.07,"d":"€348.07"}]
[201980,105710,1,"Normal",{"v":73.57,"d":"€73.57"},"LUXE",{"$f":"IFERROR(VLOOKUP(F26444,Discounts!A:C,3,0),0)","v":0},{"v":73.57,"d":"€73.57"}]
[201980,201940,1,"Normal",{"v":545.34,"d":"€545.34"},"B015",{"$f":"IFERROR(VLOOKUP(F26445,Discounts!A:C,3,0),0)","v":0},{"v":545.34,"d":"€545.34"}]
[201980,202090,1,"Normal",{"v":348.07,"d":"€348.07"},"P109",{"$f":"IFERROR(VLOOKUP(F26446,Discounts!A:C,3,0),0)","v":0},{"v":348.07,"d":"€348.07"}]
[201990,105710,1,"Normal",{"v":73.57,"d":"€73.57"},"LUXE",{"$f":"IFERROR(VLOOKUP(F26447,Discounts!A:C,3,0),0)","v":0},{"v":73.57,"d":"€73.57"}]
[201990,201940,1,"Normal",{"v":545.34,"d":"€545.34"},"B015",{"$f":"IFERROR(VLOOKUP(F26448,Discounts!A:C,3,0),0)","v":0},{"v":545.34,"d":"€545.34"}]
[201990,202100,1,"Normal",{"v":433.71,"d":"€433.71"},"P109",{"$f":"IFERROR(VLOOKUP(F26449,Discounts!A:C,3,0),0)","v":0},{"v":433.71,"d":"€433.71"}]
[202000,106730,1,"Normal",{"v":12.4,"d":"€12.40"},"LUXE",{"$f":"IFERROR(VLOOKUP(F26450,Discounts!A:C,3,0),0)","v":0},{"v":12.4,"d":"€12.40"}]
[202000,201940,1,"Normal",{"v":545.34,"d":"€545.34"},"B015",{"$f":"IFERROR(VLOOKUP(F26451,Discounts!A:C,3,0),0)","v":0},{"v":545.34,"d":"€545.34"}]
[202010,105710,1,"Normal",{"v":73.57,"d":"€73.57"},"LUXE",{"$f":"IFERROR(VLOOKUP(F26452,Discounts!A:C,3,0),0)","v":0},{"v":73.57,"d":"€73.57"}]
[202010,202000,1,"Combination",{"v":557.74,"d":"€557.74"},"B015",{"$f":"IFERROR(VLOOKUP(F26453,Discounts!A:C,3,0),0)","v":0},{"v":557.74,"d":"€557.74"}]
[202010,202060,1,"Normal",{"v":184.43,"d":"€184.43"},"P109",{"$f":"IFERROR(VLOOKUP(F26454,Discounts!A:C,3,0),0)","v":0},{"v":184.43,"d":"€184.43"}]
[202020,105710,1,"Normal",{"v":73.57,"d":"€73.57"},"LUXE",{"$f":"IFERROR(VLOOKUP(F26455,Discounts!A:C,3,0),0)","v":0},{"v":73.57,"d":"€73.57"}]
[202020,202000,1,"Combination",{"v":557.74,"d":"€557.74"},"B015",{"$f":"IFERROR(VLOOKUP(F26456,Discounts!A:C,3,0),0)","v":0},{"v":557.74,"d":"€557.74"}]
[202020,202070,1,"Normal",{"v":297.07,"d":"€297.07"},"P109",{"$f":"IFERROR(VLOOKUP(F26457,Discounts!A:C,3,0),0)","v":0},{"v":297.07,"d":"€297.07"}]
[202030,105710,1,"Normal",{"v":73.57,"d":"€73.57"},"LUXE",{"$f":"IFERROR(VLOOKUP(F26458,Discounts!A:C,3,0),0)","v":0},{"v":73.57,"d":"€73.57"}]
[202030,202000,1,"Combination",{"v":557.74,"d":"€557.74"},"B015",{"$f":"IFERROR(VLOOKUP(F26459,Discounts!A:C,3,0),0)","v":0},{"v":557.74,"d":"€557.74"}]
[202030,202080,1,"Normal",{"v":348.07,"d":"€348.07"},"P109",{"$f":"IFERROR(VLOOKUP(F26460,Discounts!A:C,3,0),0)","v":0},{"v":348.07,"d":"€348.07"}]
[202040,105710,1,"Normal",{"v":73.57,"d":"€73.57"},"LUXE",{"$f":"IFERROR(VLOOKUP(F26461,Discounts!A:C,3,0),0)","v":0},{"v":73.57,"d":"€73.57"}]
[202040,202000,1,"Combination",{"v":557.74,"d":"€557.74"},"B015",{"$f":"IFERROR(VLOOKUP(F26462,Discounts!A:C,3,0),0)","v":0},{"v":557.74,"d":"€557.74"}]
[202040,202090,1,"Normal",{"v":348.07,"d":"€348.07"},"P109",{"$f":"IFERROR(VLOOKUP(F26463,Discounts!A:C,3,0),0)","v":0},{"v":348.07,"d":"€348.07"}]
[202050,105710,1,"Normal",{"v":73.57,"d":"€73.57"},"LUXE",{"$f":"IFERROR(VLOOKUP(F26464,Discounts!A:C,3,0),0)","v":0},{"v":73.57,"d":"€73.57"}]
[202050,202000,1,"Combination",{"v":557.74,"d":"€557.74"},"B015",{"$f":"IFERROR(VLOOKUP(F26465,Discounts!A:C,3,0),0)","v":0},{"v":557.74,"d":"€557.74"}]
[202050,202100,1,"Normal",{"v":433.71,"d":"€433.71"},"P109",{"$f":"IFERROR(VLOOKUP(F26466,Discounts!A:C,3,0),0)","v":0},{"v":433.71,"d":"€433.71"}]
[202120,105720,1,"Normal",{"v":79.16,"d":"€79.16"},"LUXE",{"$f":"IFERROR(VLOOKUP(F26467,Discounts!A:C,3,0),0)","v":0},{"v":79.16,"d":"€79.16"}]
[202120,202110,1,"Normal",{"v":563.79,"d":"€563.79"},"B015",{"$f":"IFERROR(VLOOKUP(F26468,Discounts!A:C,3,0),0)","v":0},{"v":563.79,"d":"€563.79"}]
[202120,202230,1,"Normal",{"v":184.43,"d":"€184.43"},"P109",{"$f":"IFERROR(VLOOKUP(F26469,Discounts!A:C,3,0),0)","v":0},{"v":184.43,"d":"€184.43"}]
[202130,105720,1,"Normal",{"v":79.16,"d":"€79.16"},"LUXE",{"$f":"IFERROR(VLOOKUP(F26470,Discounts!A:C,3,0),0)","v":0},{"v":79.16,"d":"€79.16"}]
[202130,202110,1,"Normal",{"v":563.79,"d":"€563.79"},"B015",{"$f":"IFERROR(VLOOKUP(F26471,Discounts!A:C,3,0),0)","v":0},{"v":563.79,"d":"€563.79"}]
[202130,202240,1,"Normal",{"v":297.07,"d":"€297.07"},"P109",{"$f":"IFERROR(VLOOKUP(F26472,Discounts!A:C,3,0),0)","v":0},{"v":297.07,"d":"€297.07"}]
[202140,105720,1,"Normal",{"v":79.16,"d":"€79.16"},"LUXE",{"$f":"IFERROR(VLOOKUP(F26473,Discounts!A:C,3,0),0)","v":0},{"v":79.16,"d":"€79.16"}]
[202140,202110,1,"Normal",{"v":563.79,"d":"€563.79"},"B015",{"$f":"IFERROR(VLOOKUP(F26474,Discounts!A:C,3,0),0)","v":0},{"v":563.79,"d":"€563.79"}]
[202140,202250,1,"Normal",{"v":348.07,"d":"€348.07"},"P109",{"$f":"IFERROR(VLOOKUP(F26475,Discounts!A:C,3,0),0)","v":0},{"v":348.07,"d":"€348.07"}]
[202150,105720,1,"Normal",{"v":79.16,"d":"€79.16"},"LUXE",{"$f":"IFERROR(VLOOKUP(F26476,Discounts!A:C,3,0),0)","v":0},{"v":79.16,"d":"€79.16"}]
[202150,202110,1,"Normal",{"v":563.79,"d":"€563.79"},"B015",{"$f":"IFERROR(VLOOKUP(F26477,Discounts!A:C,3,0),0)","v":0},{"v":563.79,"d":"€563.79"}]
[202150,202260,1,"Normal",{"v":348.07,"d":"€348.07"},"P109",{"$f":"IFERROR(VLOOKUP(F26478,Discounts!A:C,3,0),0)","v":0},{"v":348.07,"d":"€348.07"}]
[202160,105720,1,"Normal",{"v":79.16,"d":"€79.16"},"LUXE",{"$f":"IFERROR(VLOOKUP(F26479,Discounts!A:C,3,0),0)","v":0},{"v":79.16,"d":"€79.16"}]
[202160,202110,1,"Normal",{"v":563.79,"d":"€563.79"},"B015",{"$f":"IFERROR(VLOOKUP(F26480,Discounts!A:C,3,0),0)","v":0},{"v":563.79,"d":"€563.79"}]
[202160,202270,1,"Normal",{"v":433.71,"d":"€433.71"},"P109",{"$f":"IFERROR(VLOOKUP(F26481,Discounts!A:C,3,0),0)","v":0},{"v":433.71,"d":"€433.71"}]
[202170,106730,1,"Normal",{"v":12.4,"d":"€12.40"},"LUXE",{"$f":"IFERROR(VLOOKUP(F26482,Discounts!A:C,3,0),0)","v":0},{"v":12.4,"d":"€12.40"}]
[202170,202110,1,"Normal",{"v":563.79,"d":"€563.79"},"B015",{"$f":"IFERROR(VLOOKUP(F26483,Discounts!A:C,3,0),0)","v":0},{"v":563.79,"d":"€563.79"}]
[202180,105720,1,"Normal",{"v":79.16,"d":"€79.16"},"LUXE",{"$f":"IFERROR(VLOOKUP(F26484,Discounts!A:C,3,0),0)","v":0},{"v":79.16,"d":"€79.16"}]
[202180,202170,1,"Combination",{"v":576.19,"d":"€576.19"},"B015",{"$f":"IFERROR(VLOOKUP(F26485,Discounts!A:C,3,0),0)","v":0},{"v":576.1899999999999,"d":"€576.19"}]
[202180,202230,1,"Normal",{"v":184.43,"d":"€184.43"},"P109",{"$f":"IFERROR(VLOOKUP(F26486,Discounts!A:C,3,0),0)","v":0},{"v":184.43,"d":"€184.43"}]
[202190,105720,1,"Normal",{"v":79.16,"d":"€79.16"},"LUXE",{"$f":"IFERROR(VLOOKUP(F26487,Discounts!A:C,3,0),0)","v":0},{"v":79.16,"d":"€79.16"}]
[202190,202170,1,"Combination",{"v":576.19,"d":"€576.19"},"B015",{"$f":"IFERROR(VLOOKUP(F26488,Discounts!A:C,3,0),0)","v":0},{"v":576.1899999999999,"d":"€576.19"}]
[202190,202240,1,"Normal",{"v":297.07,"d":"€297.07"},"P109",{"$f":"IFERROR(VLOOKUP(F26489,Discounts!A:C,3,0),0)","v":0},{"v":297.07,"d":"€297.07"}]
[202200,105720,1,"Normal",{"v":79.16,"d":"€79.16"},"LUXE",{"$f":"IFERROR(VLOOKUP(F26490,Discounts!A:C,3,0),0)","v":0},{"v":79.16,"d":"€79.16"}]
[202200,202170,1,"Combination",{"v":576.19,"d":"€576.19"},"B015",{"$f":"IFERROR(VLOOKUP(F26491,Discounts!A:C,3,0),0)","v":0},{"v":576.1899999999999,"d":"€576.19"}]
[202200,202250,1,"Normal",{"v":348.07,"d":"€348.07"},"P109",{"$f":"IFERROR(VLOOKUP(F26492,Discounts!A:C,3,0),0)","v":0},{"v":348.07,"d":"€348.07"}]
[202210,105720,1,"Normal",{"v":79.16,"d":"€79.16"},"LUXE",{"$f":"IFERROR(VLOOKUP(F26493,Discounts!A:C,3,0),0)","v":0},{"v":79.16,"d":"€79.16"}]
[202210,202170,1,"Combination",{"v":576.19,"d":"€576.19"},"B015",{"$f":"IFERROR(VLOOKUP(F26494,Discounts!A:C,3,0),0)","v":0},{"v":576.1899999999999,"d":"€576.19"}]
[202210,202260,1,"Normal",{"v":348.07,"d":"€348.07"},"P109",{"$f":"IFERROR(VLOOKUP(F26495,Discounts!A:C,3,0),0)","v":0},{"v":348.07,"d":"€348.07"}]
[202220,105720,1,"Normal",{"v":79.16,"d":"€79.16"},"LUXE",{"$f":"IFERROR(VLOOKUP(F26496,Discounts!A:C,3,0),0)","v":0},{"v":79.16,"d":"€79.16"}]
[202220,202170,1,"Combination",{"v":576.19,"d":"€576.19"},"B015",{"$f":"IFERROR(VLOOKUP(F26497,Discounts!A:C,3,0),0)","v":0},{"v":576.1899999999999,"d":"€576.19"}]
[202220,202270,1,"Normal",{"v":433.71,"d":"€433.71"},"P109",{"$f":"IFERROR(VLOOKUP(F26498,Discounts!A:C,3,0),0)","v":0},{"$f":"IF(D26498=\"Normal\",E26498*(1-G26498),SUMIF(A:A,B26498,H:H)*C26498)","v":{"v":433.71,"d":"€433.71"}}]
[202290,105710,1,"Normal",{"v":73.57,"d":"€73.57"},"LUXE",{"$f":"IFERROR(VLOOKUP(F26499,Discounts!A:C,3,0),0)","v":0},{"v":73.57,"d":"€73.57"}]
[202290,202280,1,"Normal",{"v":484.48,"d":"€484.48"},"B015",{"$f":"IFERROR(VLOOKUP(F26500,Discounts!A:C,3,0),0)","v":0},{"v":484.48,"d":"€484.48"}]
[202290,202400,1,"Normal",{"v":184.43,"d":"€184.43"},"P109",{"$f":"IFERROR(VLOOKUP(F26501,Discounts!A:C,3,0),0)","v":0},{"v":184.43,"d":"€184.43"}]
[202300,105710,1,"Normal",{"v":73.57,"d":"€73.57"},"LUXE",{"$f":"IFERROR(VLOOKUP(F26502,Discounts!A:C,3,0),0)","v":0},{"v":73.57,"d":"€73.57"}]
[202300,202280,1,"Normal",{"v":484.48,"d":"€484.48"},"B015",{"$f":"IFERROR(VLOOKUP(F26503,Discounts!A:C,3,0),0)","v":0},{"v":484.48,"d":"€484.48"}]
[202300,202410,1,"Normal",{"v":297.07,"d":"€297.07"},"P109",{"$f":"IFERROR(VLOOKUP(F26504,Discounts!A:C,3,0),0)","v":0},{"v":297.07,"d":"€297.07"}]
[202310,105710,1,"Normal",{"v":73.57,"d":"€73.57"},"LUXE",{"$f":"IFERROR(VLOOKUP(F26505,Discounts!A:C,3,0),0)","v":0},{"v":73.57,"d":"€73.57"}]
[202310,202280,1,"Normal",{"v":484.48,"d":"€484.48"},"B015",{"$f":"IFERROR(VLOOKUP(F26506,Discounts!A:C,3,0),0)","v":0},{"v":484.48,"d":"€484.48"}]
[202310,202420,1,"Normal",{"v":348.07,"d":"€348.07"},"P109",{"$f":"IFERROR(VLOOKUP(F26507,Discounts!A:C,3,0),0)","v":0},{"v":348.07,"d":"€348.07"}]
[202320,105710,1,"Normal",{"v":73.57,"d":"€73.57"},"LUXE",{"$f":"IFERROR(VLOOKUP(F26508,Discounts!A:C,3,0),0)","v":0},{"v":73.57,"d":"€73.57"}]
[202320,202280,1,"Normal",{"v":484.48,"d":"€484.48"},"B015",{"$f":"IFERROR(VLOOKUP(F26509,Discounts!A:C,3,0),0)","v":0},{"v":484.48,"d":"€484.48"}]
[202320,202430,1,"Normal",{"v":348.07,"d":"€348.07"},"P109",{"$f":"IFERROR(VLOOKUP(F26510,Discounts!A:C,3,0),0)","v":0},{"v":348.07,"d":"€348.07"}]
[202330,105710,1,"Normal",{"v":73.57,"d":"€73.57"},"LUXE",{"$f":"IFERROR(VLOOKUP(F26511,Discounts!A:C,3,0),0)","v":0},{"v":73.57,"d":"€73.57"}]
[202330,202280,1,"Normal",{"v":484.48,"d":"€484.48"},"B015",{"$f":"IFERROR(VLOOKUP(F26512,Discounts!A:C,3,0),0)","v":0},{"v":484.48,"d":"€484.48"}]
[202330,202440,1,"Normal",{"v":433.71,"d":"€433.71"},"P109",{"$f":"IFERROR(VLOOKUP(F26513,Discounts!A:C,3,0),0)","v":0},{"v":433.71,"d":"€433.71"}]
[202340,106730,1,"Normal",{"v":12.4,"d":"€12.40"},"LUXE",{"$f":"IFERROR(VLOOKUP(F26514,Discounts!A:C,3,0),0)","v":0},{"v":12.4,"d":"€12.40"}]
[202340,202280,1,"Normal",{"v":484.48,"d":"€484.48"},"B015",{"$f":"IFERROR(VLOOKUP(F26515,Discounts!A:C,3,0),0)","v":0},{"v":484.48,"d":"€484.48"}]
[202350,105710,1,"Normal",{"v":73.57,"d":"€73.57"},"LUXE",{"$f":"IFERROR(VLOOKUP(F26516,Discounts!A:C,3,0),0)","v":0},{"v":73.57,"d":"€73.57"}]
[202350,202340,1,"Combination",{"v":496.88,"d":"€496.88"},"B015",{"$f":"IFERROR(VLOOKUP(F26517,Discounts!A:C,3,0),0)","v":0},{"v":496.88,"d":"€496.88"}]
[202350,202400,1,"Normal",{"v":184.43,"d":"€184.43"},"P109",{"$f":"IFERROR(VLOOKUP(F26518,Discounts!A:C,3,0),0)","v":0},{"v":184.43,"d":"€184.43"}]
[202360,105710,1,"Normal",{"v":73.57,"d":"€73.57"},"LUXE",{"$f":"IFERROR(VLOOKUP(F26519,Discounts!A:C,3,0),0)","v":0},{"v":73.57,"d":"€73.57"}]
[202360,202340,1,"Combination",{"v":496.88,"d":"€496.88"},"B015",{"$f":"IFERROR(VLOOKUP(F26520,Discounts!A:C,3,0),0)","v":0},{"v":496.88,"d":"€496.88"}]
[202360,202410,1,"Normal",{"v":297.07,"d":"€297.07"},"P109",{"$f":"IFERROR(VLOOKUP(F26521,Discounts!A:C,3,0),0)","v":0},{"v":297.07,"d":"€297.07"}]
[202370,105710,1,"Normal",{"v":73.57,"d":"€73.57"},"LUXE",{"$f":"IFERROR(VLOOKUP(F26522,Discounts!A:C,3,0),0)","v":0},{"v":73.57,"d":"€73.57"}]
[202370,202340,1,"Combination",{"v":496.88,"d":"€496.88"},"B015",{"$f":"IFERROR(VLOOKUP(F26523,Discounts!A:C,3,0),0)","v":0},{"v":496.88,"d":"€496.88"}]
[202370,202420,1,"Normal",{"v":348.07,"d":"€348.07"},"P109",{"$f":"IFERROR(VLOOKUP(F26524,Discounts!A:C,3,0),0)","v":0},{"v":348.07,"d":"€348.07"}]
[202380,105710,1,"Normal",{"v":73.57,"d":"€73.57"},"LUXE",{"$f":"IFERROR(VLOOKUP(F26525,Discounts!A:C,3,0),0)","v":0},{"v":73.57,"d":"€73.57"}]
[202380,202340,1,"Combination",{"v":496.88,"d":"€496.88"},"B015",{"$f":"IFERROR(VLOOKUP(F26526,Discounts!A:C,3,0),0)","v":0},{"v":496.88,"d":"€496.88"}]
[202380,202430,1,"Normal",{"v":348.07,"d":"€348.07"},"P109",{"$f":"IFERROR(VLOOKUP(F26527,Discounts!A:C,3,0),0)","v":0},{"v":348.07,"d":"€348.07"}]
[202390,105710,1,"Normal",{"v":73.57,"d":"€73.57"},"LUXE",{"$f":"IFERROR(VLOOKUP(F26528,Discounts!A:C,3,0),0)","v":0},{"v":73.57,"d":"€73.57"}]
[202390,202340,1,"Combination",{"v":496.88,"d":"€496.88"},"B015",{"$f":"IFERROR(VLOOKUP(F26529,Discounts!A:C,3,0),0)","v":0},{"v":496.88,"d":"€496.88"}]
[202390,202440,1,"Normal",{"v":433.71,"d":"€433.71"},"P109",{"$f":"IFERROR(VLOOKUP(F26530,Discounts!A:C,3,0),0)","v":0},{"v":433.71,"d":"€433.71"}]
[202460,105730,1,"Normal",{"v":84.75,"d":"€84.75"},"LUXE",{"$f":"IFERROR(VLOOKUP(F26531,Discounts!A:C,3,0),0)","v":0},{"v":84.75,"d":"€84.75"}]
[202460,202450,1,"Normal",{"v":534.69,"d":"€534.69"},"B015",{"$f":"IFERROR(VLOOKUP(F26532,Discounts!A:C,3,0),0)","v":0},{"v":534.69,"d":"€534.69"}]
[202460,202570,1,"Normal",{"v":184.43,"d":"€184.43"},"P109",{"$f":"IFERROR(VLOOKUP(F26533,Discounts!A:C,3,0),0)","v":0},{"v":184.43,"d":"€184.43"}]
[202470,105730,1,"Normal",{"v":84.75,"d":"€84.75"},"LUXE",{"$f":"IFERROR(VLOOKUP(F26534,Discounts!A:C,3,0),0)","v":0},{"v":84.75,"d":"€84.75"}]
[202470,202450,1,"Normal",{"v":534.69,"d":"€534.69"},"B015",{"$f":"IFERROR(VLOOKUP(F26535,Discounts!A:C,3,0),0)","v":0},{"v":534.69,"d":"€534.69"}]
[202470,202580,1,"Normal",{"v":297.07,"d":"€297.07"},"P109",{"$f":"IFERROR(VLOOKUP(F26536,Discounts!A:C,3,0),0)","v":0},{"v":297.07,"d":"€297.07"}]
[202480,105730,1,"Normal",{"v":84.75,"d":"€84.75"},"LUXE",{"$f":"IFERROR(VLOOKUP(F26537,Discounts!A:C,3,0),0)","v":0},{"v":84.75,"d":"€84.75"}]
[202480,202450,1,"Normal",{"v":534.69,"d":"€534.69"},"B015",{"$f":"IFERROR(VLOOKUP(F26538,Discounts!A:C,3,0),0)","v":0},{"v":534.69,"d":"€534.69"}]
[202480,202590,1,"Normal",{"v":348.07,"d":"€348.07"},"P109",{"$f":"IFERROR(VLOOKUP(F26539,Discounts!A:C,3,0),0)","v":0},{"v":348.07,"d":"€348.07"}]
[202490,105730,1,"Normal",{"v":84.75,"d":"€84.75"},"LUXE",{"$f":"IFERROR(VLOOKUP(F26540,Discounts!A:C,3,0),0)","v":0},{"v":84.75,"d":"€84.75"}]
[202490,202450,1,"Normal",{"v":534.69,"d":"€534.69"},"B015",{"$f":"IFERROR(VLOOKUP(F26541,Discounts!A:C,3,0),0)","v":0},{"v":534.69,"d":"€534.69"}]
[202490,202600,1,"Normal",{"v":348.07,"d":"€348.07"},"P109",{"$f":"IFERROR(VLOOKUP(F26542,Discounts!A:C,3,0),0)","v":0},{"v":348.07,"d":"€348.07"}]
[202500,105730,1,"Normal",{"v":84.75,"d":"€84.75"},"LUXE",{"$f":"IFERROR(VLOOKUP(F26543,Discounts!A:C,3,0),0)","v":0},{"v":84.75,"d":"€84.75"}]
[202500,202450,1,"Normal",{"v":534.69,"d":"€534.69"},"B015",{"$f":"IFERROR(VLOOKUP(F26544,Discounts!A:C,3,0),0)","v":0},{"v":534.69,"d":"€534.69"}]
[202500,202610,1,"Normal",{"v":433.71,"d":"€433.71"},"P109",{"$f":"IFERROR(VLOOKUP(F26545,Discounts!A:C,3,0),0)","v":0},{"v":433.71,"d":"€433.71"}]
[202510,106730,1,"Normal",{"v":12.4,"d":"€12.40"},"LUXE",{"$f":"IFERROR(VLOOKUP(F26546,Discounts!A:C,3,0),0)","v":0},{"v":12.4,"d":"€12.40"}]
[202510,202450,1,"Normal",{"v":534.69,"d":"€534.69"},"B015",{"$f":"IFERROR(VLOOKUP(F26547,Discounts!A:C,3,0),0)","v":0},{"v":534.69,"d":"€534.69"}]
[202520,105730,1,"Normal",{"v":84.75,"d":"€84.75"},"LUXE",{"$f":"IFERROR(VLOOKUP(F26548,Discounts!A:C,3,0),0)","v":0},{"v":84.75,"d":"€84.75"}]
[202520,202510,1,"Combination",{"v":547.09,"d":"€547.09"},"B015",{"$f":"IFERROR(VLOOKUP(F26549,Discounts!A:C,3,0),0)","v":0},{"v":547.09,"d":"€547.09"}]
[202520,202570,1,"Normal",{"v":184.43,"d":"€184.43"},"P109",{"$f":"IFERROR(VLOOKUP(F26550,Discounts!A:C,3,0),0)","v":0},{"v":184.43,"d":"€184.43"}]
[202530,105730,1,"Normal",{"v":84.75,"d":"€84.75"},"LUXE",{"$f":"IFERROR(VLOOKUP(F26551,Discounts!A:C,3,0),0)","v":0},{"v":84.75,"d":"€84.75"}]
[202530,202510,1,"Combination",{"v":547.09,"d":"€547.09"},"B015",{"$f":"IFERROR(VLOOKUP(F26552,Discounts!A:C,3,0),0)","v":0},{"v":547.09,"d":"€547.09"}]
[202530,202580,1,"Normal",{"v":297.07,"d":"€297.07"},"P109",{"$f":"IFERROR(VLOOKUP(F26553,Discounts!A:C,3,0),0)","v":0},{"v":297.07,"d":"€297.07"}]
[202540,105730,1,"Normal",{"v":84.75,"d":"€84.75"},"LUXE",{"$f":"IFERROR(VLOOKUP(F26554,Discounts!A:C,3,0),0)","v":0},{"v":84.75,"d":"€84.75"}]
[202540,202510,1,"Combination",{"v":547.09,"d":"€547.09"},"B015",{"$f":"IFERROR(VLOOKUP(F26555,Discounts!A:C,3,0),0)","v":0},{"v":547.09,"d":"€547.09"}]
[202540,202590,1,"Normal",{"v":348.07,"d":"€348.07"},"P109",{"$f":"IFERROR(VLOOKUP(F26556,Discounts!A:C,3,0),0)","v":0},{"v":348.07,"d":"€348.07"}]
[202550,105730,1,"Normal",{"v":84.75,"d":"€84.75"},"LUXE",{"$f":"IFERROR(VLOOKUP(F26557,Discounts!A:C,3,0),0)","v":0},{"v":84.75,"d":"€84.75"}]
[202550,202510,1,"Combination",{"v":547.09,"d":"€547.09"},"B015",{"$f":"IFERROR(VLOOKUP(F26558,Discounts!A:C,3,0),0)","v":0},{"v":547.09,"d":"€547.09"}]
[202550,202600,1,"Normal",{"v":348.07,"d":"€348.07"},"P109",{"$f":"IFERROR(VLOOKUP(F26559,Discounts!A:C,3,0),0)","v":0},{"v":348.07,"d":"€348.07"}]
[202560,105730,1,"Normal",{"v":84.75,"d":"€84.75"},"LUXE",{"$f":"IFERROR(VLOOKUP(F26560,Discounts!A:C,3,0),0)","v":0},{"v":84.75,"d":"€84.75"}]
[202560,202510,1,"Combination",{"v":547.09,"d":"€547.09"},"B015",{"$f":"IFERROR(VLOOKUP(F26561,Discounts!A:C,3,0),0)","v":0},{"v":547.09,"d":"€547.09"}]
[202560,202610,1,"Normal",{"v":433.71,"d":"€433.71"},"P109",{"$f":"IFERROR(VLOOKUP(F26562,Discounts!A:C,3,0),0)","v":0},{"$f":"IF(D26562=\"Normal\",E26562*(1-G26562),SUMIF(A:A,B26562,H:H)*C26562)","v":{"v":433.71,"d":"€433.71"}}]
[202630,105710,1,"Normal",{"v":73.57,"d":"€73.57"},"LUXE",{"$f":"IFERROR(VLOOKUP(F26563,Discounts!A:C,3,0),0)","v":0},{"v":73.57,"d":"€73.57"}]
[202630,202620,1,"Normal",{"v":484.48,"d":"€484.48"},"B015",{"$f":"IFERROR(VLOOKUP(F26564,Discounts!A:C,3,0),0)","v":0},{"v":484.48,"d":"€484.48"}]
[202630,202740,1,"Normal",{"v":184.43,"d":"€184.43"},"P109",{"$f":"IFERROR(VLOOKUP(F26565,Discounts!A:C,3,0),0)","v":0},{"v":184.43,"d":"€184.43"}]
[202640,105710,1,"Normal",{"v":73.57,"d":"€73.57"},"LUXE",{"$f":"IFERROR(VLOOKUP(F26566,Discounts!A:C,3,0),0)","v":0},{"v":73.57,"d":"€73.57"}]
[202640,202620,1,"Normal",{"v":484.48,"d":"€484.48"},"B015",{"$f":"IFERROR(VLOOKUP(F26567,Discounts!A:C,3,0),0)","v":0},{"v":484.48,"d":"€484.48"}]
[202640,202750,1,"Normal",{"v":297.07,"d":"€297.07"},"P109",{"$f":"IFERROR(VLOOKUP(F26568,Discounts!A:C,3,0),0)","v":0},{"v":297.07,"d":"€297.07"}]
[202650,105710,1,"Normal",{"v":73.57,"d":"€73.57"},"LUXE",{"$f":"IFERROR(VLOOKUP(F26569,Discounts!A:C,3,0),0)","v":0},{"v":73.57,"d":"€73.57"}]
[202650,202620,1,"Normal",{"v":484.48,"d":"€484.48"},"B015",{"$f":"IFERROR(VLOOKUP(F26570,Discounts!A:C,3,0),0)","v":0},{"v":484.48,"d":"€484.48"}]
[202650,202760,1,"Normal",{"v":348.07,"d":"€348.07"},"P109",{"$f":"IFERROR(VLOOKUP(F26571,Discounts!A:C,3,0),0)","v":0},{"v":348.07,"d":"€348.07"}]
[202660,105710,1,"Normal",{"v":73.57,"d":"€73.57"},"LUXE",{"$f":"IFERROR(VLOOKUP(F26572,Discounts!A:C,3,0),0)","v":0},{"v":73.57,"d":"€73.57"}]
[202660,202620,1,"Normal",{"v":484.48,"d":"€484.48"},"B015",{"$f":"IFERROR(VLOOKUP(F26573,Discounts!A:C,3,0),0)","v":0},{"v":484.48,"d":"€484.48"}]
[202660,202770,1,"Normal",{"v":348.07,"d":"€348.07"},"P109",{"$f":"IFERROR(VLOOKUP(F26574,Discounts!A:C,3,0),0)","v":0},{"v":348.07,"d":"€348.07"}]
[202670,105710,1,"Normal",{"v":73.57,"d":"€73.57"},"LUXE",{"$f":"IFERROR(VLOOKUP(F26575,Discounts!A:C,3,0),0)","v":0},{"v":73.57,"d":"€73.57"}]
[202670,202620,1,"Normal",{"v":484.48,"d":"€484.48"},"B015",{"$f":"IFERROR(VLOOKUP(F26576,Discounts!A:C,3,0),0)","v":0},{"v":484.48,"d":"€484.48"}]
[202670,202780,1,"Normal",{"v":433.71,"d":"€433.71"},"P109",{"$f":"IFERROR(VLOOKUP(F26577,Discounts!A:C,3,0),0)","v":0},{"v":433.71,"d":"€433.71"}]
[202680,106730,1,"Normal",{"v":12.4,"d":"€12.40"},"LUXE",{"$f":"IFERROR(VLOOKUP(F26578,Discounts!A:C,3,0),0)","v":0},{"v":12.4,"d":"€12.40"}]
[202680,202620,1,"Normal",{"v":484.48,"d":"€484.48"},"B015",{"$f":"IFERROR(VLOOKUP(F26579,Discounts!A:C,3,0),0)","v":0},{"v":484.48,"d":"€484.48"}]
[202690,105710,1,"Normal",{"v":73.57,"d":"€73.57"},"LUXE",{"$f":"IFERROR(VLOOKUP(F26580,Discounts!A:C,3,0),0)","v":0},{"v":73.57,"d":"€73.57"}]
[202690,202680,1,"Combination",{"v":496.88,"d":"€496.88"},"B015",{"$f":"IFERROR(VLOOKUP(F26581,Discounts!A:C,3,0),0)","v":0},{"v":496.88,"d":"€496.88"}]
[202690,202740,1,"Normal",{"v":184.43,"d":"€184.43"},"P109",{"$f":"IFERROR(VLOOKUP(F26582,Discounts!A:C,3,0),0)","v":0},{"v":184.43,"d":"€184.43"}]
[202700,105710,1,"Normal",{"v":73.57,"d":"€73.57"},"LUXE",{"$f":"IFERROR(VLOOKUP(F26583,Discounts!A:C,3,0),0)","v":0},{"v":73.57,"d":"€73.57"}]
[202700,202680,1,"Combination",{"v":496.88,"d":"€496.88"},"B015",{"$f":"IFERROR(VLOOKUP(F26584,Discounts!A:C,3,0),0)","v":0},{"v":496.88,"d":"€496.88"}]
[202700,202750,1,"Normal",{"v":297.07,"d":"€297.07"},"P109",{"$f":"IFERROR(VLOOKUP(F26585,Discounts!A:C,3,0),0)","v":0},{"v":297.07,"d":"€297.07"}]
[202710,105710,1,"Normal",{"v":73.57,"d":"€73.57"},"LUXE",{"$f":"IFERROR(VLOOKUP(F26586,Discounts!A:C,3,0),0)","v":0},{"v":73.57,"d":"€73.57"}]
[202710,202680,1,"Combination",{"v":496.88,"d":"€496.88"},"B015",{"$f":"IFERROR(VLOOKUP(F26587,Discounts!A:C,3,0),0)","v":0},{"v":496.88,"d":"€496.88"}]
[202710,202760,1,"Normal",{"v":348.07,"d":"€348.07"},"P109",{"$f":"IFERROR(VLOOKUP(F26588,Discounts!A:C,3,0),0)","v":0},{"v":348.07,"d":"€348.07"}]
[202720,105710,1,"Normal",{"v":73.57,"d":"€73.57"},"LUXE",{"$f":"IFERROR(VLOOKUP(F26589,Discounts!A:C,3,0),0)","v":0},{"v":73.57,"d":"€73.57"}]
[202720,202680,1,"Combination",{"v":496.88,"d":"€496.88"},"B015",{"$f":"IFERROR(VLOOKUP(F26590,Discounts!A:C,3,0),0)","v":0},{"v":496.88,"d":"€496.88"}]
[202720,202770,1,"Normal",{"v":348.07,"d":"€348.07"},"P109",{"$f":"IFERROR(VLOOKUP(F26591,Discounts!A:C,3,0),0)","v":0},{"v":348.07,"d":"€348.07"}]
[202730,105710,1,"Normal",{"v":73.57,"d":"€73.57"},"LUXE",{"$f":"IFERROR(VLOOKUP(F26592,Discounts!A:C,3,0),0)","v":0},{"v":73.57,"d":"€73.57"}]
[202730,202680,1,"Combination",{"v":496.88,"d":"€496.88"},"B015",{"$f":"IFERROR(VLOOKUP(F26593,Discounts!A:C,3,0),0)","v":0},{"v":496.88,"d":"€496.88"}]
[202730,202780,1,"Normal",{"v":433.71,"d":"€433.71"},"P109",{"$f":"IFERROR(VLOOKUP(F26594,Discounts!A:C,3,0),0)","v":0},{"v":433.71,"d":"€433.71"}]
[202800,105750,1,"Normal",{"v":101.52,"d":"€101.52"},"LUXE",{"$f":"IFERROR(VLOOKUP(F26595,Discounts!A:C,3,0),0)","v":0},{"v":101.52,"d":"€101.52"}]
[202800,202790,1,"Normal",{"v":649.31,"d":"€649.31"},"B015",{"$f":"IFERROR(VLOOKUP(F26596,Discounts!A:C,3,0),0)","v":0},{"v":649.31,"d":"€649.31"}]
[202800,202910,1,"Normal",{"v":184.43,"d":"€184.43"},"P109",{"$f":"IFERROR(VLOOKUP(F26597,Discounts!A:C,3,0),0)","v":0},{"v":184.43,"d":"€184.43"}]
[202810,105750,1,"Normal",{"v":101.52,"d":"€101.52"},"LUXE",{"$f":"IFERROR(VLOOKUP(F26598,Discounts!A:C,3,0),0)","v":0},{"v":101.52,"d":"€101.52"}]
[202810,202790,1,"Normal",{"v":649.31,"d":"€649.31"},"B015",{"$f":"IFERROR(VLOOKUP(F26599,Discounts!A:C,3,0),0)","v":0},{"v":649.31,"d":"€649.31"}]
[202810,202920,1,"Normal",{"v":297.07,"d":"€297.07"},"P109",{"$f":"IFERROR(VLOOKUP(F26600,Discounts!A:C,3,0),0)","v":0},{"v":297.07,"d":"€297.07"}]
[202820,105750,1,"Normal",{"v":101.52,"d":"€101.52"},"LUXE",{"$f":"IFERROR(VLOOKUP(F26601,Discounts!A:C,3,0),0)","v":0},{"v":101.52,"d":"€101.52"}]
[202820,202790,1,"Normal",{"v":649.31,"d":"€649.31"},"B015",{"$f":"IFERROR(VLOOKUP(F26602,Discounts!A:C,3,0),0)","v":0},{"v":649.31,"d":"€649.31"}]
[202820,202930,1,"Normal",{"v":348.07,"d":"€348.07"},"P109",{"$f":"IFERROR(VLOOKUP(F26603,Discounts!A:C,3,0),0)","v":0},{"v":348.07,"d":"€348.07"}]
[202830,105750,1,"Normal",{"v":101.52,"d":"€101.52"},"LUXE",{"$f":"IFERROR(VLOOKUP(F26604,Discounts!A:C,3,0),0)","v":0},{"v":101.52,"d":"€101.52"}]
[202830,202790,1,"Normal",{"v":649.31,"d":"€649.31"},"B015",{"$f":"IFERROR(VLOOKUP(F26605,Discounts!A:C,3,0),0)","v":0},{"v":649.31,"d":"€649.31"}]
[202830,202940,1,"Normal",{"v":348.07,"d":"€348.07"},"P109",{"$f":"IFERROR(VLOOKUP(F26606,Discounts!A:C,3,0),0)","v":0},{"v":348.07,"d":"€348.07"}]
[202840,105750,1,"Normal",{"v":101.52,"d":"€101.52"},"LUXE",{"$f":"IFERROR(VLOOKUP(F26607,Discounts!A:C,3,0),0)","v":0},{"v":101.52,"d":"€101.52"}]
[202840,202790,1,"Normal",{"v":649.31,"d":"€649.31"},"B015",{"$f":"IFERROR(VLOOKUP(F26608,Discounts!A:C,3,0),0)","v":0},{"v":649.31,"d":"€649.31"}]
[202840,202950,1,"Normal",{"v":433.71,"d":"€433.71"},"P109",{"$f":"IFERROR(VLOOKUP(F26609,Discounts!A:C,3,0),0)","v":0},{"v":433.71,"d":"€433.71"}]
[202850,106730,1,"Normal",{"v":12.4,"d":"€12.40"},"LUXE",{"$f":"IFERROR(VLOOKUP(F26610,Discounts!A:C,3,0),0)","v":0},{"v":12.4,"d":"€12.40"}]
[202850,202790,1,"Normal",{"v":649.31,"d":"€649.31"},"B015",{"$f":"IFERROR(VLOOKUP(F26611,Discounts!A:C,3,0),0)","v":0},{"v":649.31,"d":"€649.31"}]
[202860,105750,1,"Normal",{"v":101.52,"d":"€101.52"},"LUXE",{"$f":"IFERROR(VLOOKUP(F26612,Discounts!A:C,3,0),0)","v":0},{"v":101.52,"d":"€101.52"}]
[202860,202850,1,"Combination",{"v":661.71,"d":"€661.71"},"B015",{"$f":"IFERROR(VLOOKUP(F26613,Discounts!A:C,3,0),0)","v":0},{"v":661.7099999999999,"d":"€661.71"}]
[202860,202910,1,"Normal",{"v":184.43,"d":"€184.43"},"P109",{"$f":"IFERROR(VLOOKUP(F26614,Discounts!A:C,3,0),0)","v":0},{"v":184.43,"d":"€184.43"}]
[202870,105750,1,"Normal",{"v":101.52,"d":"€101.52"},"LUXE",{"$f":"IFERROR(VLOOKUP(F26615,Discounts!A:C,3,0),0)","v":0},{"v":101.52,"d":"€101.52"}]
[202870,202850,1,"Combination",{"v":661.71,"d":"€661.71"},"B015",{"$f":"IFERROR(VLOOKUP(F26616,Discounts!A:C,3,0),0)","v":0},{"v":661.7099999999999,"d":"€661.71"}]
[202870,202920,1,"Normal",{"v":297.07,"d":"€297.07"},"P109",{"$f":"IFERROR(VLOOKUP(F26617,Discounts!A:C,3,0),0)","v":0},{"v":297.07,"d":"€297.07"}]
[202880,105750,1,"Normal",{"v":101.52,"d":"€101.52"},"LUXE",{"$f":"IFERROR(VLOOKUP(F26618,Discounts!A:C,3,0),0)","v":0},{"v":101.52,"d":"€101.52"}]
[202880,202850,1,"Combination",{"v":661.71,"d":"€661.71"},"B015",{"$f":"IFERROR(VLOOKUP(F26619,Discounts!A:C,3,0),0)","v":0},{"v":661.7099999999999,"d":"€661.71"}]
[202880,202930,1,"Normal",{"v":348.07,"d":"€348.07"},"P109",{"$f":"IFERROR(VLOOKUP(F26620,Discounts!A:C,3,0),0)","v":0},{"v":348.07,"d":"€348.07"}]
[202890,105750,1,"Normal",{"v":101.52,"d":"€101.52"},"LUXE",{"$f":"IFERROR(VLOOKUP(F26621,Discounts!A:C,3,0),0)","v":0},{"v":101.52,"d":"€101.52"}]
[202890,202850,1,"Combination",{"v":661.71,"d":"€661.71"},"B015",{"$f":"IFERROR(VLOOKUP(F26622,Discounts!A:C,3,0),0)","v":0},{"v":661.7099999999999,"d":"€661.71"}]
[202890,202940,1,"Normal",{"v":348.07,"d":"€348.07"},"P109",{"$f":"IFERROR(VLOOKUP(F26623,Discounts!A:C,3,0),0)","v":0},{"v":348.07,"d":"€348.07"}]
[202900,105750,1,"Normal",{"v":101.52,"d":"€101.52"},"LUXE",{"$f":"IFERROR(VLOOKUP(F26624,Discounts!A:C,3,0),0)","v":0},{"v":101.52,"d":"€101.52"}]
[202900,202850,1,"Combination",{"v":661.71,"d":"€661.71"},"B015",{"$f":"IFERROR(VLOOKUP(F26625,Discounts!A:C,3,0),0)","v":0},{"v":661.7099999999999,"d":"€661.71"}]
[202900,202950,1,"Normal",{"v":433.71,"d":"€433.71"},"P109",{"$f":"IFERROR(VLOOKUP(F26626,Discounts!A:C,3,0),0)","v":0},{"$f":"IF(D26626=\"Normal\",E26626*(1-G26626),SUMIF(A:A,B26626,H:H)*C26626)","v":{"v":433.71,"d":"€433.71"}}]
[202970,105740,1,"Normal",{"v":95.93,"d":"€95.93"},"LUXE",{"$f":"IFERROR(VLOOKUP(F26627,Discounts!A:C,3,0),0)","v":0},{"v":95.93,"d":"€95.93"}]
[202970,202960,1,"Normal",{"v":607.21,"d":"€607.21"},"B015",{"$f":"IFERROR(VLOOKUP(F26628,Discounts!A:C,3,0),0)","v":0},{"v":607.21,"d":"€607.21"}]
[202970,203080,1,"Normal",{"v":184.43,"d":"€184.43"},"P109",{"$f":"IFERROR(VLOOKUP(F26629,Discounts!A:C,3,0),0)","v":0},{"v":184.43,"d":"€184.43"}]
[202980,105740,1,"Normal",{"v":95.93,"d":"€95.93"},"LUXE",{"$f":"IFERROR(VLOOKUP(F26630,Discounts!A:C,3,0),0)","v":0},{"v":95.93,"d":"€95.93"}]
[202980,202960,1,"Normal",{"v":607.21,"d":"€607.21"},"B015",{"$f":"IFERROR(VLOOKUP(F26631,Discounts!A:C,3,0),0)","v":0},{"v":607.21,"d":"€607.21"}]
[202980,203090,1,"Normal",{"v":297.07,"d":"€297.07"},"P109",{"$f":"IFERROR(VLOOKUP(F26632,Discounts!A:C,3,0),0)","v":0},{"v":297.07,"d":"€297.07"}]
[202990,105740,1,"Normal",{"v":95.93,"d":"€95.93"},"LUXE",{"$f":"IFERROR(VLOOKUP(F26633,Discounts!A:C,3,0),0)","v":0},{"v":95.93,"d":"€95.93"}]
[202990,202960,1,"Normal",{"v":607.21,"d":"€607.21"},"B015",{"$f":"IFERROR(VLOOKUP(F26634,Discounts!A:C,3,0),0)","v":0},{"v":607.21,"d":"€607.21"}]
[202990,203100,1,"Normal",{"v":348.07,"d":"€348.07"},"P109",{"$f":"IFERROR(VLOOKUP(F26635,Discounts!A:C,3,0),0)","v":0},{"v":348.07,"d":"€348.07"}]
[203000,105740,1,"Normal",{"v":95.93,"d":"€95.93"},"LUXE",{"$f":"IFERROR(VLOOKUP(F26636,Discounts!A:C,3,0),0)","v":0},{"v":95.93,"d":"€95.93"}]
[203000,202960,1,"Normal",{"v":607.21,"d":"€607.21"},"B015",{"$f":"IFERROR(VLOOKUP(F26637,Discounts!A:C,3,0),0)","v":0},{"v":607.21,"d":"€607.21"}]
[203000,203110,1,"Normal",{"v":348.07,"d":"€348.07"},"P109",{"$f":"IFERROR(VLOOKUP(F26638,Discounts!A:C,3,0),0)","v":0},{"v":348.07,"d":"€348.07"}]
[203010,105740,1,"Normal",{"v":95.93,"d":"€95.93"},"LUXE",{"$f":"IFERROR(VLOOKUP(F26639,Discounts!A:C,3,0),0)","v":0},{"v":95.93,"d":"€95.93"}]
[203010,202960,1,"Normal",{"v":607.21,"d":"€607.21"},"B015",{"$f":"IFERROR(VLOOKUP(F26640,Discounts!A:C,3,0),0)","v":0},{"v":607.21,"d":"€607.21"}]
[203010,203120,1,"Normal",{"v":433.71,"d":"€433.71"},"P109",{"$f":"IFERROR(VLOOKUP(F26641,Discounts!A:C,3,0),0)","v":0},{"v":433.71,"d":"€433.71"}]
[203020,106730,1,"Normal",{"v":12.4,"d":"€12.40"},"LUXE",{"$f":"IFERROR(VLOOKUP(F26642,Discounts!A:C,3,0),0)","v":0},{"v":12.4,"d":"€12.40"}]
[203020,202960,1,"Normal",{"v":607.21,"d":"€607.21"},"B015",{"$f":"IFERROR(VLOOKUP(F26643,Discounts!A:C,3,0),0)","v":0},{"v":607.21,"d":"€607.21"}]
[203030,105740,1,"Normal",{"v":95.93,"d":"€95.93"},"LUXE",{"$f":"IFERROR(VLOOKUP(F26644,Discounts!A:C,3,0),0)","v":0},{"v":95.93,"d":"€95.93"}]
[203030,203020,1,"Combination",{"v":619.61,"d":"€619.61"},"B015",{"$f":"IFERROR(VLOOKUP(F26645,Discounts!A:C,3,0),0)","v":0},{"v":619.61,"d":"€619.61"}]
[203030,203080,1,"Normal",{"v":184.43,"d":"€184.43"},"P109",{"$f":"IFERROR(VLOOKUP(F26646,Discounts!A:C,3,0),0)","v":0},{"v":184.43,"d":"€184.43"}]
[203040,105740,1,"Normal",{"v":95.93,"d":"€95.93"},"LUXE",{"$f":"IFERROR(VLOOKUP(F26647,Discounts!A:C,3,0),0)","v":0},{"v":95.93,"d":"€95.93"}]
[203040,203020,1,"Combination",{"v":619.61,"d":"€619.61"},"B015",{"$f":"IFERROR(VLOOKUP(F26648,Discounts!A:C,3,0),0)","v":0},{"v":619.61,"d":"€619.61"}]
[203040,203090,1,"Normal",{"v":297.07,"d":"€297.07"},"P109",{"$f":"IFERROR(VLOOKUP(F26649,Discounts!A:C,3,0),0)","v":0},{"v":297.07,"d":"€297.07"}]
[203050,105740,1,"Normal",{"v":95.93,"d":"€95.93"},"LUXE",{"$f":"IFERROR(VLOOKUP(F26650,Discounts!A:C,3,0),0)","v":0},{"v":95.93,"d":"€95.93"}]
[203050,203020,1,"Combination",{"v":619.61,"d":"€619.61"},"B015",{"$f":"IFERROR(VLOOKUP(F26651,Discounts!A:C,3,0),0)","v":0},{"v":619.61,"d":"€619.61"}]
[203050,203100,1,"Normal",{"v":348.07,"d":"€348.07"},"P109",{"$f":"IFERROR(VLOOKUP(F26652,Discounts!A:C,3,0),0)","v":0},{"v":348.07,"d":"€348.07"}]
[203060,105740,1,"Normal",{"v":95.93,"d":"€95.93"},"LUXE",{"$f":"IFERROR(VLOOKUP(F26653,Discounts!A:C,3,0),0)","v":0},{"v":95.93,"d":"€95.93"}]
[203060,203020,1,"Combination",{"v":619.61,"d":"€619.61"},"B015",{"$f":"IFERROR(VLOOKUP(F26654,Discounts!A:C,3,0),0)","v":0},{"v":619.61,"d":"€619.61"}]
[203060,203110,1,"Normal",{"v":348.07,"d":"€348.07"},"P109",{"$f":"IFERROR(VLOOKUP(F26655,Discounts!A:C,3,0),0)","v":0},{"v":348.07,"d":"€348.07"}]
[203070,105740,1,"Normal",{"v":95.93,"d":"€95.93"},"LUXE",{"$f":"IFERROR(VLOOKUP(F26656,Discounts!A:C,3,0),0)","v":0},{"v":95.93,"d":"€95.93"}]
[203070,203020,1,"Combination",{"v":619.61,"d":"€619.61"},"B015",{"$f":"IFERROR(VLOOKUP(F26657,Discounts!A:C,3,0),0)","v":0},{"v":619.61,"d":"€619.61"}]
[203070,203120,1,"Normal",{"v":433.71,"d":"€433.71"},"P109",{"$f":"IFERROR(VLOOKUP(F26658,Discounts!A:C,3,0),0)","v":0},{"v":433.71,"d":"€433.71"}]
[203140,105710,1,"Normal",{"v":73.57,"d":"€73.57"},"LUXE",{"$f":"IFERROR(VLOOKUP(F26659,Discounts!A:C,3,0),0)","v":0},{"v":73.57,"d":"€73.57"}]
[203140,203130,1,"Normal",{"v":499.37,"d":"€499.37"},"B015",{"$f":"IFERROR(VLOOKUP(F26660,Discounts!A:C,3,0),0)","v":0},{"v":499.37,"d":"€499.37"}]
[203140,203190,1,"Normal",{"v":184.43,"d":"€184.43"},"P109",{"$f":"IFERROR(VLOOKUP(F26661,Discounts!A:C,3,0),0)","v":0},{"v":184.43,"d":"€184.43"}]
[203150,105710,1,"Normal",{"v":73.57,"d":"€73.57"},"LUXE",{"$f":"IFERROR(VLOOKUP(F26662,Discounts!A:C,3,0),0)","v":0},{"v":73.57,"d":"€73.57"}]
[203150,203130,1,"Normal",{"v":499.37,"d":"€499.37"},"B015",{"$f":"IFERROR(VLOOKUP(F26663,Discounts!A:C,3,0),0)","v":0},{"v":499.37,"d":"€499.37"}]
[203150,203200,1,"Normal",{"v":297.07,"d":"€297.07"},"P109",{"$f":"IFERROR(VLOOKUP(F26664,Discounts!A:C,3,0),0)","v":0},{"v":297.07,"d":"€297.07"}]
[203160,105710,1,"Normal",{"v":73.57,"d":"€73.57"},"LUXE",{"$f":"IFERROR(VLOOKUP(F26665,Discounts!A:C,3,0),0)","v":0},{"v":73.57,"d":"€73.57"}]
[203160,203130,1,"Normal",{"v":499.37,"d":"€499.37"},"B015",{"$f":"IFERROR(VLOOKUP(F26666,Discounts!A:C,3,0),0)","v":0},{"v":499.37,"d":"€499.37"}]
[203160,203210,1,"Normal",{"v":348.07,"d":"€348.07"},"P109",{"$f":"IFERROR(VLOOKUP(F26667,Discounts!A:C,3,0),0)","v":0},{"v":348.07,"d":"€348.07"}]
[203170,105710,1,"Normal",{"v":73.57,"d":"€73.57"},"LUXE",{"$f":"IFERROR(VLOOKUP(F26668,Discounts!A:C,3,0),0)","v":0},{"v":73.57,"d":"€73.57"}]
[203170,203130,1,"Normal",{"v":499.37,"d":"€499.37"},"B015",{"$f":"IFERROR(VLOOKUP(F26669,Discounts!A:C,3,0),0)","v":0},{"v":499.37,"d":"€499.37"}]
[203170,203220,1,"Normal",{"v":348.07,"d":"€348.07"},"P109",{"$f":"IFERROR(VLOOKUP(F26670,Discounts!A:C,3,0),0)","v":0},{"v":348.07,"d":"€348.07"}]
[203180,105710,1,"Normal",{"v":73.57,"d":"€73.57"},"LUXE",{"$f":"IFERROR(VLOOKUP(F26671,Discounts!A:C,3,0),0)","v":0},{"v":73.57,"d":"€73.57"}]
[203180,203130,1,"Normal",{"v":499.37,"d":"€499.37"},"B015",{"$f":"IFERROR(VLOOKUP(F26672,Discounts!A:C,3,0),0)","v":0},{"v":499.37,"d":"€499.37"}]
[203180,203230,1,"Normal",{"v":433.71,"d":"€433.71"},"P109",{"$f":"IFERROR(VLOOKUP(F26673,Discounts!A:C,3,0),0)","v":0},{"v":433.71,"d":"€433.71"}]
[203250,105720,1,"Normal",{"v":79.16,"d":"€79.16"},"LUXE",{"$f":"IFERROR(VLOOKUP(F26674,Discounts!A:C,3,0),0)","v":0},{"v":79.16,"d":"€79.16"}]
[203250,203240,1,"Normal",{"v":563.79,"d":"€563.79"},"B015",{"$f":"IFERROR(VLOOKUP(F26675,Discounts!A:C,3,0),0)","v":0},{"v":563.79,"d":"€563.79"}]
[203250,203300,1,"Normal",{"v":184.43,"d":"€184.43"},"P109",{"$f":"IFERROR(VLOOKUP(F26676,Discounts!A:C,3,0),0)","v":0},{"v":184.43,"d":"€184.43"}]
[203260,105720,1,"Normal",{"v":79.16,"d":"€79.16"},"LUXE",{"$f":"IFERROR(VLOOKUP(F26677,Discounts!A:C,3,0),0)","v":0},{"v":79.16,"d":"€79.16"}]
[203260,203240,1,"Normal",{"v":563.79,"d":"€563.79"},"B015",{"$f":"IFERROR(VLOOKUP(F26678,Discounts!A:C,3,0),0)","v":0},{"v":563.79,"d":"€563.79"}]
[203260,203310,1,"Normal",{"v":297.07,"d":"€297.07"},"P109",{"$f":"IFERROR(VLOOKUP(F26679,Discounts!A:C,3,0),0)","v":0},{"v":297.07,"d":"€297.07"}]
[203270,105720,1,"Normal",{"v":79.16,"d":"€79.16"},"LUXE",{"$f":"IFERROR(VLOOKUP(F26680,Discounts!A:C,3,0),0)","v":0},{"v":79.16,"d":"€79.16"}]
[203270,203240,1,"Normal",{"v":563.79,"d":"€563.79"},"B015",{"$f":"IFERROR(VLOOKUP(F26681,Discounts!A:C,3,0),0)","v":0},{"v":563.79,"d":"€563.79"}]
[203270,203320,1,"Normal",{"v":348.07,"d":"€348.07"},"P109",{"$f":"IFERROR(VLOOKUP(F26682,Discounts!A:C,3,0),0)","v":0},{"v":348.07,"d":"€348.07"}]
[203280,105720,1,"Normal",{"v":79.16,"d":"€79.16"},"LUXE",{"$f":"IFERROR(VLOOKUP(F26683,Discounts!A:C,3,0),0)","v":0},{"v":79.16,"d":"€79.16"}]
[203280,203240,1,"Normal",{"v":563.79,"d":"€563.79"},"B015",{"$f":"IFERROR(VLOOKUP(F26684,Discounts!A:C,3,0),0)","v":0},{"v":563.79,"d":"€563.79"}]
[203280,203330,1,"Normal",{"v":348.07,"d":"€348.07"},"P109",{"$f":"IFERROR(VLOOKUP(F26685,Discounts!A:C,3,0),0)","v":0},{"v":348.07,"d":"€348.07"}]
[203290,105720,1,"Normal",{"v":79.16,"d":"€79.16"},"LUXE",{"$f":"IFERROR(VLOOKUP(F26686,Discounts!A:C,3,0),0)","v":0},{"v":79.16,"d":"€79.16"}]
[203290,203240,1,"Normal",{"v":563.79,"d":"€563.79"},"B015",{"$f":"IFERROR(VLOOKUP(F26687,Discounts!A:C,3,0),0)","v":0},{"v":563.79,"d":"€563.79"}]
[203290,203340,1,"Normal",{"v":433.71,"d":"€433.71"},"P109",{"$f":"IFERROR(VLOOKUP(F26688,Discounts!A:C,3,0),0)","v":0},{"v":433.71,"d":"€433.71"}]
[203360,105750,1,"Normal",{"v":101.52,"d":"€101.52"},"LUXE",{"$f":"IFERROR(VLOOKUP(F26689,Discounts!A:C,3,0),0)","v":0},{"v":101.52,"d":"€101.52"}]
[203360,203350,1,"Normal",{"v":649.31,"d":"€649.31"},"B015",{"$f":"IFERROR(VLOOKUP(F26690,Discounts!A:C,3,0),0)","v":0},{"$f":"IF(D26690=\"Normal\",E26690*(1-G26690),SUMIF(A:A,B26690,H:H)*C26690)","v":{"v":649.31,"d":"€649.31"}}]
[203360,203410,1,"Normal",{"v":184.43,"d":"€184.43"},"P109",{"$f":"IFERROR(VLOOKUP(F26691,Discounts!A:C,3,0),0)","v":0},{"v":184.43,"d":"€184.43"}]
[203370,105750,1,"Normal",{"v":101.52,"d":"€101.52"},"LUXE",{"$f":"IFERROR(VLOOKUP(F26692,Discounts!A:C,3,0),0)","v":0},{"v":101.52,"d":"€101.52"}]
[203370,203350,1,"Normal",{"v":649.31,"d":"€649.31"},"B015",{"$f":"IFERROR(VLOOKUP(F26693,Discounts!A:C,3,0),0)","v":0},{"v":649.31,"d":"€649.31"}]
[203370,203420,1,"Normal",{"v":297.07,"d":"€297.07"},"P109",{"$f":"IFERROR(VLOOKUP(F26694,Discounts!A:C,3,0),0)","v":0},{"v":297.07,"d":"€297.07"}]
[203380,105750,1,"Normal",{"v":101.52,"d":"€101.52"},"LUXE",{"$f":"IFERROR(VLOOKUP(F26695,Discounts!A:C,3,0),0)","v":0},{"v":101.52,"d":"€101.52"}]
[203380,203350,1,"Normal",{"v":649.31,"d":"€649.31"},"B015",{"$f":"IFERROR(VLOOKUP(F26696,Discounts!A:C,3,0),0)","v":0},{"v":649.31,"d":"€649.31"}]
[203380,203430,1,"Normal",{"v":348.07,"d":"€348.07"},"P109",{"$f":"IFERROR(VLOOKUP(F26697,Discounts!A:C,3,0),0)","v":0},{"v":348.07,"d":"€348.07"}]
[203390,105750,1,"Normal",{"v":101.52,"d":"€101.52"},"LUXE",{"$f":"IFERROR(VLOOKUP(F26698,Discounts!A:C,3,0),0)","v":0},{"v":101.52,"d":"€101.52"}]
[203390,203350,1,"Normal",{"v":649.31,"d":"€649.31"},"B015",{"$f":"IFERROR(VLOOKUP(F26699,Discounts!A:C,3,0),0)","v":0},{"v":649.31,"d":"€649.31"}]
[203390,203440,1,"Normal",{"v":348.07,"d":"€348.07"},"P109",{"$f":"IFERROR(VLOOKUP(F26700,Discounts!A:C,3,0),0)","v":0},{"v":348.07,"d":"€348.07"}]
[203400,105750,1,"Normal",{"v":101.52,"d":"€101.52"},"LUXE",{"$f":"IFERROR(VLOOKUP(F26701,Discounts!A:C,3,0),0)","v":0},{"v":101.52,"d":"€101.52"}]
[203400,203350,1,"Normal",{"v":649.31,"d":"€649.31"},"B015",{"$f":"IFERROR(VLOOKUP(F26702,Discounts!A:C,3,0),0)","v":0},{"v":649.31,"d":"€649.31"}]
[203400,203450,1,"Normal",{"v":433.71,"d":"€433.71"},"P109",{"$f":"IFERROR(VLOOKUP(F26703,Discounts!A:C,3,0),0)","v":0},{"v":433.71,"d":"€433.71"}]
[203470,105700,1,"Normal",{"v":67.98,"d":"€67.98"},"LUXE",{"$f":"IFERROR(VLOOKUP(F26704,Discounts!A:C,3,0),0)","v":0},{"v":67.98,"d":"€67.98"}]
[203470,203460,1,"Normal",{"v":534.33,"d":"€534.33"},"B015",{"$f":"IFERROR(VLOOKUP(F26705,Discounts!A:C,3,0),0)","v":0},{"v":534.33,"d":"€534.33"}]
[203470,203520,1,"Normal",{"v":138.32,"d":"€138.32"},"P109",{"$f":"IFERROR(VLOOKUP(F26706,Discounts!A:C,3,0),0)","v":0},{"v":138.32,"d":"€138.32"}]
[203480,105700,1,"Normal",{"v":67.98,"d":"€67.98"},"LUXE",{"$f":"IFERROR(VLOOKUP(F26707,Discounts!A:C,3,0),0)","v":0},{"v":67.98,"d":"€67.98"}]
[203480,203460,1,"Normal",{"v":534.33,"d":"€534.33"},"B015",{"$f":"IFERROR(VLOOKUP(F26708,Discounts!A:C,3,0),0)","v":0},{"v":534.33,"d":"€534.33"}]
[203480,203530,1,"Normal",{"v":222.8,"d":"€222.80"},"P109",{"$f":"IFERROR(VLOOKUP(F26709,Discounts!A:C,3,0),0)","v":0},{"v":222.8,"d":"€222.80"}]
[203490,105700,1,"Normal",{"v":67.98,"d":"€67.98"},"LUXE",{"$f":"IFERROR(VLOOKUP(F26710,Discounts!A:C,3,0),0)","v":0},{"v":67.98,"d":"€67.98"}]
[203490,203460,1,"Normal",{"v":534.33,"d":"€534.33"},"B015",{"$f":"IFERROR(VLOOKUP(F26711,Discounts!A:C,3,0),0)","v":0},{"v":534.33,"d":"€534.33"}]
[203490,203540,1,"Normal",{"v":261.05,"d":"€261.05"},"P109",{"$f":"IFERROR(VLOOKUP(F26712,Discounts!A:C,3,0),0)","v":0},{"v":261.05,"d":"€261.05"}]
[203500,105700,1,"Normal",{"v":67.98,"d":"€67.98"},"LUXE",{"$f":"IFERROR(VLOOKUP(F26713,Discounts!A:C,3,0),0)","v":0},{"v":67.98,"d":"€67.98"}]
[203500,203460,1,"Normal",{"v":534.33,"d":"€534.33"},"B015",{"$f":"IFERROR(VLOOKUP(F26714,Discounts!A:C,3,0),0)","v":0},{"v":534.33,"d":"€534.33"}]
[203500,203550,1,"Normal",{"v":261.05,"d":"€261.05"},"P109",{"$f":"IFERROR(VLOOKUP(F26715,Discounts!A:C,3,0),0)","v":0},{"v":261.05,"d":"€261.05"}]
[203510,105700,1,"Normal",{"v":67.98,"d":"€67.98"},"LUXE",{"$f":"IFERROR(VLOOKUP(F26716,Discounts!A:C,3,0),0)","v":0},{"v":67.98,"d":"€67.98"}]
[203510,203460,1,"Normal",{"v":534.33,"d":"€534.33"},"B015",{"$f":"IFERROR(VLOOKUP(F26717,Discounts!A:C,3,0),0)","v":0},{"v":534.33,"d":"€534.33"}]
[203510,203560,1,"Normal",{"v":325.28,"d":"€325.28"},"P109",{"$f":"IFERROR(VLOOKUP(F26718,Discounts!A:C,3,0),0)","v":0},{"v":325.28,"d":"€325.28"}]
[203580,105710,1,"Normal",{"v":73.57,"d":"€73.57"},"LUXE",{"$f":"IFERROR(VLOOKUP(F26719,Discounts!A:C,3,0),0)","v":0},{"v":73.57,"d":"€73.57"}]
[203580,203570,1,"Normal",{"v":491.93,"d":"€491.93"},"B015",{"$f":"IFERROR(VLOOKUP(F26720,Discounts!A:C,3,0),0)","v":0},{"v":491.93,"d":"€491.93"}]
[203580,203690,1,"Normal",{"v":184.43,"d":"€184.43"},"P109",{"$f":"IFERROR(VLOOKUP(F26721,Discounts!A:C,3,0),0)","v":0},{"v":184.43,"d":"€184.43"}]
[203590,105710,1,"Normal",{"v":73.57,"d":"€73.57"},"LUXE",{"$f":"IFERROR(VLOOKUP(F26722,Discounts!A:C,3,0),0)","v":0},{"v":73.57,"d":"€73.57"}]
[203590,203570,1,"Normal",{"v":491.93,"d":"€491.93"},"B015",{"$f":"IFERROR(VLOOKUP(F26723,Discounts!A:C,3,0),0)","v":0},{"v":491.93,"d":"€491.93"}]
[203590,203700,1,"Normal",{"v":297.07,"d":"€297.07"},"P109",{"$f":"IFERROR(VLOOKUP(F26724,Discounts!A:C,3,0),0)","v":0},{"v":297.07,"d":"€297.07"}]
[203600,105710,1,"Normal",{"v":73.57,"d":"€73.57"},"LUXE",{"$f":"IFERROR(VLOOKUP(F26725,Discounts!A:C,3,0),0)","v":0},{"v":73.57,"d":"€73.57"}]
[203600,203570,1,"Normal",{"v":491.93,"d":"€491.93"},"B015",{"$f":"IFERROR(VLOOKUP(F26726,Discounts!A:C,3,0),0)","v":0},{"v":491.93,"d":"€491.93"}]
[203600,203710,1,"Normal",{"v":348.07,"d":"€348.07"},"P109",{"$f":"IFERROR(VLOOKUP(F26727,Discounts!A:C,3,0),0)","v":0},{"v":348.07,"d":"€348.07"}]
[203610,105710,1,"Normal",{"v":73.57,"d":"€73.57"},"LUXE",{"$f":"IFERROR(VLOOKUP(F26728,Discounts!A:C,3,0),0)","v":0},{"v":73.57,"d":"€73.57"}]
[203610,203570,1,"Normal",{"v":491.93,"d":"€491.93"},"B015",{"$f":"IFERROR(VLOOKUP(F26729,Discounts!A:C,3,0),0)","v":0},{"v":491.93,"d":"€491.93"}]
[203610,203720,1,"Normal",{"v":348.07,"d":"€348.07"},"P109",{"$f":"IFERROR(VLOOKUP(F26730,Discounts!A:C,3,0),0)","v":0},{"v":348.07,"d":"€348.07"}]
[203620,105710,1,"Normal",{"v":73.57,"d":"€73.57"},"LUXE",{"$f":"IFERROR(VLOOKUP(F26731,Discounts!A:C,3,0),0)","v":0},{"v":73.57,"d":"€73.57"}]
[203620,203570,1,"Normal",{"v":491.93,"d":"€491.93"},"B015",{"$f":"IFERROR(VLOOKUP(F26732,Discounts!A:C,3,0),0)","v":0},{"v":491.93,"d":"€491.93"}]
[203620,203730,1,"Normal",{"v":433.71,"d":"€433.71"},"P109",{"$f":"IFERROR(VLOOKUP(F26733,Discounts!A:C,3,0),0)","v":0},{"v":433.71,"d":"€433.71"}]
[203630,106730,1,"Normal",{"v":12.4,"d":"€12.40"},"LUXE",{"$f":"IFERROR(VLOOKUP(F26734,Discounts!A:C,3,0),0)","v":0},{"v":12.4,"d":"€12.40"}]
[203630,203570,1,"Normal",{"v":491.93,"d":"€491.93"},"B015",{"$f":"IFERROR(VLOOKUP(F26735,Discounts!A:C,3,0),0)","v":0},{"v":491.93,"d":"€491.93"}]
[203640,105710,1,"Normal",{"v":73.57,"d":"€73.57"},"LUXE",{"$f":"IFERROR(VLOOKUP(F26736,Discounts!A:C,3,0),0)","v":0},{"v":73.57,"d":"€73.57"}]
[203640,203630,1,"Combination",{"v":504.33,"d":"€504.33"},"B015",{"$f":"IFERROR(VLOOKUP(F26737,Discounts!A:C,3,0),0)","v":0},{"v":504.33,"d":"€504.33"}]
[203640,203690,1,"Normal",{"v":184.43,"d":"€184.43"},"P109",{"$f":"IFERROR(VLOOKUP(F26738,Discounts!A:C,3,0),0)","v":0},{"v":184.43,"d":"€184.43"}]
[203650,105710,1,"Normal",{"v":73.57,"d":"€73.57"},"LUXE",{"$f":"IFERROR(VLOOKUP(F26739,Discounts!A:C,3,0),0)","v":0},{"v":73.57,"d":"€73.57"}]
[203650,203630,1,"Combination",{"v":504.33,"d":"€504.33"},"B015",{"$f":"IFERROR(VLOOKUP(F26740,Discounts!A:C,3,0),0)","v":0},{"v":504.33,"d":"€504.33"}]
[203650,203700,1,"Normal",{"v":297.07,"d":"€297.07"},"P109",{"$f":"IFERROR(VLOOKUP(F26741,Discounts!A:C,3,0),0)","v":0},{"v":297.07,"d":"€297.07"}]
[203660,105710,1,"Normal",{"v":73.57,"d":"€73.57"},"LUXE",{"$f":"IFERROR(VLOOKUP(F26742,Discounts!A:C,3,0),0)","v":0},{"v":73.57,"d":"€73.57"}]
[203660,203630,1,"Combination",{"v":504.33,"d":"€504.33"},"B015",{"$f":"IFERROR(VLOOKUP(F26743,Discounts!A:C,3,0),0)","v":0},{"v":504.33,"d":"€504.33"}]
[203660,203710,1,"Normal",{"v":348.07,"d":"€348.07"},"P109",{"$f":"IFERROR(VLOOKUP(F26744,Discounts!A:C,3,0),0)","v":0},{"v":348.07,"d":"€348.07"}]
[203670,105710,1,"Normal",{"v":73.57,"d":"€73.57"},"LUXE",{"$f":"IFERROR(VLOOKUP(F26745,Discounts!A:C,3,0),0)","v":0},{"v":73.57,"d":"€73.57"}]
[203670,203630,1,"Combination",{"v":504.33,"d":"€504.33"},"B015",{"$f":"IFERROR(VLOOKUP(F26746,Discounts!A:C,3,0),0)","v":0},{"v":504.33,"d":"€504.33"}]
[203670,203720,1,"Normal",{"v":348.07,"d":"€348.07"},"P109",{"$f":"IFERROR(VLOOKUP(F26747,Discounts!A:C,3,0),0)","v":0},{"v":348.07,"d":"€348.07"}]
[203680,105710,1,"Normal",{"v":73.57,"d":"€73.57"},"LUXE",{"$f":"IFERROR(VLOOKUP(F26748,Discounts!A:C,3,0),0)","v":0},{"v":73.57,"d":"€73.57"}]
[203680,203630,1,"Combination",{"v":504.33,"d":"€504.33"},"B015",{"$f":"IFERROR(VLOOKUP(F26749,Discounts!A:C,3,0),0)","v":0},{"v":504.33,"d":"€504.33"}]
[203680,203730,1,"Normal",{"v":433.71,"d":"€433.71"},"P109",{"$f":"IFERROR(VLOOKUP(F26750,Discounts!A:C,3,0),0)","v":0},{"v":433.71,"d":"€433.71"}]
[203750,105710,1,"Normal",{"v":73.57,"d":"€73.57"},"LUXE",{"$f":"IFERROR(VLOOKUP(F26751,Discounts!A:C,3,0),0)","v":0},{"v":73.57,"d":"€73.57"}]
[203750,203740,1,"Normal",{"v":484.48,"d":"€484.48"},"B015",{"$f":"IFERROR(VLOOKUP(F26752,Discounts!A:C,3,0),0)","v":0},{"v":484.48,"d":"€484.48"}]
[203750,203860,1,"Normal",{"v":184.43,"d":"€184.43"},"P109",{"$f":"IFERROR(VLOOKUP(F26753,Discounts!A:C,3,0),0)","v":0},{"v":184.43,"d":"€184.43"}]
[203760,105710,1,"Normal",{"v":73.57,"d":"€73.57"},"LUXE",{"$f":"IFERROR(VLOOKUP(F26754,Discounts!A:C,3,0),0)","v":0},{"$f":"IF(D26754=\"Normal\",E26754*(1-G26754),SUMIF(A:A,B26754,H:H)*C26754)","v":{"v":73.57,"d":"€73.57"}}]
[203760,203740,1,"Normal",{"v":484.48,"d":"€484.48"},"B015",{"$f":"IFERROR(VLOOKUP(F26755,Discounts!A:C,3,0),0)","v":0},{"v":484.48,"d":"€484.48"}]
[203760,203870,1,"Normal",{"v":297.07,"d":"€297.07"},"P109",{"$f":"IFERROR(VLOOKUP(F26756,Discounts!A:C,3,0),0)","v":0},{"v":297.07,"d":"€297.07"}]
[203770,105710,1,"Normal",{"v":73.57,"d":"€73.57"},"LUXE",{"$f":"IFERROR(VLOOKUP(F26757,Discounts!A:C,3,0),0)","v":0},{"v":73.57,"d":"€73.57"}]
[203770,203740,1,"Normal",{"v":484.48,"d":"€484.48"},"B015",{"$f":"IFERROR(VLOOKUP(F26758,Discounts!A:C,3,0),0)","v":0},{"v":484.48,"d":"€484.48"}]
[203770,203880,1,"Normal",{"v":348.07,"d":"€348.07"},"P109",{"$f":"IFERROR(VLOOKUP(F26759,Discounts!A:C,3,0),0)","v":0},{"v":348.07,"d":"€348.07"}]
[203780,105710,1,"Normal",{"v":73.57,"d":"€73.57"},"LUXE",{"$f":"IFERROR(VLOOKUP(F26760,Discounts!A:C,3,0),0)","v":0},{"v":73.57,"d":"€73.57"}]
[203780,203740,1,"Normal",{"v":484.48,"d":"€484.48"},"B015",{"$f":"IFERROR(VLOOKUP(F26761,Discounts!A:C,3,0),0)","v":0},{"v":484.48,"d":"€484.48"}]
[203780,203890,1,"Normal",{"v":348.07,"d":"€348.07"},"P109",{"$f":"IFERROR(VLOOKUP(F26762,Discounts!A:C,3,0),0)","v":0},{"v":348.07,"d":"€348.07"}]
[203790,105710,1,"Normal",{"v":73.57,"d":"€73.57"},"LUXE",{"$f":"IFERROR(VLOOKUP(F26763,Discounts!A:C,3,0),0)","v":0},{"v":73.57,"d":"€73.57"}]
[203790,203740,1,"Normal",{"v":484.48,"d":"€484.48"},"B015",{"$f":"IFERROR(VLOOKUP(F26764,Discounts!A:C,3,0),0)","v":0},{"v":484.48,"d":"€484.48"}]
[203790,203900,1,"Normal",{"v":433.71,"d":"€433.71"},"P109",{"$f":"IFERROR(VLOOKUP(F26765,Discounts!A:C,3,0),0)","v":0},{"v":433.71,"d":"€433.71"}]
[203800,106730,1,"Normal",{"v":12.4,"d":"€12.40"},"LUXE",{"$f":"IFERROR(VLOOKUP(F26766,Discounts!A:C,3,0),0)","v":0},{"v":12.4,"d":"€12.40"}]
[203800,203740,1,"Normal",{"v":484.48,"d":"€484.48"},"B015",{"$f":"IFERROR(VLOOKUP(F26767,Discounts!A:C,3,0),0)","v":0},{"v":484.48,"d":"€484.48"}]
[203810,105710,1,"Normal",{"v":73.57,"d":"€73.57"},"LUXE",{"$f":"IFERROR(VLOOKUP(F26768,Discounts!A:C,3,0),0)","v":0},{"v":73.57,"d":"€73.57"}]
[203810,203800,1,"Combination",{"v":496.88,"d":"€496.88"},"B015",{"$f":"IFERROR(VLOOKUP(F26769,Discounts!A:C,3,0),0)","v":0},{"v":496.88,"d":"€496.88"}]
[203810,203860,1,"Normal",{"v":184.43,"d":"€184.43"},"P109",{"$f":"IFERROR(VLOOKUP(F26770,Discounts!A:C,3,0),0)","v":0},{"v":184.43,"d":"€184.43"}]
[203820,105710,1,"Normal",{"v":73.57,"d":"€73.57"},"LUXE",{"$f":"IFERROR(VLOOKUP(F26771,Discounts!A:C,3,0),0)","v":0},{"v":73.57,"d":"€73.57"}]
[203820,203800,1,"Combination",{"v":496.88,"d":"€496.88"},"B015",{"$f":"IFERROR(VLOOKUP(F26772,Discounts!A:C,3,0),0)","v":0},{"v":496.88,"d":"€496.88"}]
[203820,203870,1,"Normal",{"v":297.07,"d":"€297.07"},"P109",{"$f":"IFERROR(VLOOKUP(F26773,Discounts!A:C,3,0),0)","v":0},{"v":297.07,"d":"€297.07"}]
[203830,105710,1,"Normal",{"v":73.57,"d":"€73.57"},"LUXE",{"$f":"IFERROR(VLOOKUP(F26774,Discounts!A:C,3,0),0)","v":0},{"v":73.57,"d":"€73.57"}]
[203830,203800,1,"Combination",{"v":496.88,"d":"€496.88"},"B015",{"$f":"IFERROR(VLOOKUP(F26775,Discounts!A:C,3,0),0)","v":0},{"v":496.88,"d":"€496.88"}]
[203830,203880,1,"Normal",{"v":348.07,"d":"€348.07"},"P109",{"$f":"IFERROR(VLOOKUP(F26776,Discounts!A:C,3,0),0)","v":0},{"v":348.07,"d":"€348.07"}]
[203840,105710,1,"Normal",{"v":73.57,"d":"€73.57"},"LUXE",{"$f":"IFERROR(VLOOKUP(F26777,Discounts!A:C,3,0),0)","v":0},{"v":73.57,"d":"€73.57"}]
[203840,203800,1,"Combination",{"v":496.88,"d":"€496.88"},"B015",{"$f":"IFERROR(VLOOKUP(F26778,Discounts!A:C,3,0),0)","v":0},{"v":496.88,"d":"€496.88"}]
[203840,203890,1,"Normal",{"v":348.07,"d":"€348.07"},"P109",{"$f":"IFERROR(VLOOKUP(F26779,Discounts!A:C,3,0),0)","v":0},{"v":348.07,"d":"€348.07"}]
[203850,105710,1,"Normal",{"v":73.57,"d":"€73.57"},"LUXE",{"$f":"IFERROR(VLOOKUP(F26780,Discounts!A:C,3,0),0)","v":0},{"v":73.57,"d":"€73.57"}]
[203850,203800,1,"Combination",{"v":496.88,"d":"€496.88"},"B015",{"$f":"IFERROR(VLOOKUP(F26781,Discounts!A:C,3,0),0)","v":0},{"v":496.88,"d":"€496.88"}]
[203850,203900,1,"Normal",{"v":433.71,"d":"€433.71"},"P109",{"$f":"IFERROR(VLOOKUP(F26782,Discounts!A:C,3,0),0)","v":0},{"v":433.71,"d":"€433.71"}]
[203920,105720,1,"Normal",{"v":79.16,"d":"€79.16"},"LUXE",{"$f":"IFERROR(VLOOKUP(F26783,Discounts!A:C,3,0),0)","v":0},{"v":79.16,"d":"€79.16"}]
[203920,203910,1,"Normal",{"v":513.31,"d":"€513.31"},"B015",{"$f":"IFERROR(VLOOKUP(F26784,Discounts!A:C,3,0),0)","v":0},{"v":513.31,"d":"€513.31"}]
[203920,204030,1,"Normal",{"v":184.43,"d":"€184.43"},"P109",{"$f":"IFERROR(VLOOKUP(F26785,Discounts!A:C,3,0),0)","v":0},{"v":184.43,"d":"€184.43"}]
[203930,105720,1,"Normal",{"v":79.16,"d":"€79.16"},"LUXE",{"$f":"IFERROR(VLOOKUP(F26786,Discounts!A:C,3,0),0)","v":0},{"v":79.16,"d":"€79.16"}]
[203930,203910,1,"Normal",{"v":513.31,"d":"€513.31"},"B015",{"$f":"IFERROR(VLOOKUP(F26787,Discounts!A:C,3,0),0)","v":0},{"v":513.31,"d":"€513.31"}]
[203930,204040,1,"Normal",{"v":297.07,"d":"€297.07"},"P109",{"$f":"IFERROR(VLOOKUP(F26788,Discounts!A:C,3,0),0)","v":0},{"v":297.07,"d":"€297.07"}]
[203940,105720,1,"Normal",{"v":79.16,"d":"€79.16"},"LUXE",{"$f":"IFERROR(VLOOKUP(F26789,Discounts!A:C,3,0),0)","v":0},{"v":79.16,"d":"€79.16"}]
[203940,203910,1,"Normal",{"v":513.31,"d":"€513.31"},"B015",{"$f":"IFERROR(VLOOKUP(F26790,Discounts!A:C,3,0),0)","v":0},{"v":513.31,"d":"€513.31"}]
[203940,204050,1,"Normal",{"v":348.07,"d":"€348.07"},"P109",{"$f":"IFERROR(VLOOKUP(F26791,Discounts!A:C,3,0),0)","v":0},{"v":348.07,"d":"€348.07"}]
[203950,105720,1,"Normal",{"v":79.16,"d":"€79.16"},"LUXE",{"$f":"IFERROR(VLOOKUP(F26792,Discounts!A:C,3,0),0)","v":0},{"v":79.16,"d":"€79.16"}]
[203950,203910,1,"Normal",{"v":513.31,"d":"€513.31"},"B015",{"$f":"IFERROR(VLOOKUP(F26793,Discounts!A:C,3,0),0)","v":0},{"v":513.31,"d":"€513.31"}]
[203950,204060,1,"Normal",{"v":348.07,"d":"€348.07"},"P109",{"$f":"IFERROR(VLOOKUP(F26794,Discounts!A:C,3,0),0)","v":0},{"v":348.07,"d":"€348.07"}]
[203960,105720,1,"Normal",{"v":79.16,"d":"€79.16"},"LUXE",{"$f":"IFERROR(VLOOKUP(F26795,Discounts!A:C,3,0),0)","v":0},{"v":79.16,"d":"€79.16"}]
[203960,203910,1,"Normal",{"v":513.31,"d":"€513.31"},"B015",{"$f":"IFERROR(VLOOKUP(F26796,Discounts!A:C,3,0),0)","v":0},{"v":513.31,"d":"€513.31"}]
[203960,204070,1,"Normal",{"v":433.71,"d":"€433.71"},"P109",{"$f":"IFERROR(VLOOKUP(F26797,Discounts!A:C,3,0),0)","v":0},{"v":433.71,"d":"€433.71"}]
[203970,106730,1,"Normal",{"v":12.4,"d":"€12.40"},"LUXE",{"$f":"IFERROR(VLOOKUP(F26798,Discounts!A:C,3,0),0)","v":0},{"v":12.4,"d":"€12.40"}]
[203970,203910,1,"Normal",{"v":513.31,"d":"€513.31"},"B015",{"$f":"IFERROR(VLOOKUP(F26799,Discounts!A:C,3,0),0)","v":0},{"v":513.31,"d":"€513.31"}]
[203980,105720,1,"Normal",{"v":79.16,"d":"€79.16"},"LUXE",{"$f":"IFERROR(VLOOKUP(F26800,Discounts!A:C,3,0),0)","v":0},{"v":79.16,"d":"€79.16"}]
[203980,203970,1,"Combination",{"v":525.71,"d":"€525.71"},"B015",{"$f":"IFERROR(VLOOKUP(F26801,Discounts!A:C,3,0),0)","v":0},{"v":525.7099999999999,"d":"€525.71"}]
[203980,204030,1,"Normal",{"v":184.43,"d":"€184.43"},"P109",{"$f":"IFERROR(VLOOKUP(F26802,Discounts!A:C,3,0),0)","v":0},{"v":184.43,"d":"€184.43"}]
[203990,105720,1,"Normal",{"v":79.16,"d":"€79.16"},"LUXE",{"$f":"IFERROR(VLOOKUP(F26803,Discounts!A:C,3,0),0)","v":0},{"v":79.16,"d":"€79.16"}]
[203990,203970,1,"Combination",{"v":525.71,"d":"€525.71"},"B015",{"$f":"IFERROR(VLOOKUP(F26804,Discounts!A:C,3,0),0)","v":0},{"v":525.7099999999999,"d":"€525.71"}]
[203990,204040,1,"Normal",{"v":297.07,"d":"€297.07"},"P109",{"$f":"IFERROR(VLOOKUP(F26805,Discounts!A:C,3,0),0)","v":0},{"v":297.07,"d":"€297.07"}]
[204000,105720,1,"Normal",{"v":79.16,"d":"€79.16"},"LUXE",{"$f":"IFERROR(VLOOKUP(F26806,Discounts!A:C,3,0),0)","v":0},{"v":79.16,"d":"€79.16"}]
[204000,203970,1,"Combination",{"v":525.71,"d":"€525.71"},"B015",{"$f":"IFERROR(VLOOKUP(F26807,Discounts!A:C,3,0),0)","v":0},{"v":525.7099999999999,"d":"€525.71"}]
[204000,204050,1,"Normal",{"v":348.07,"d":"€348.07"},"P109",{"$f":"IFERROR(VLOOKUP(F26808,Discounts!A:C,3,0),0)","v":0},{"v":348.07,"d":"€348.07"}]
[204010,105720,1,"Normal",{"v":79.16,"d":"€79.16"},"LUXE",{"$f":"IFERROR(VLOOKUP(F26809,Discounts!A:C,3,0),0)","v":0},{"v":79.16,"d":"€79.16"}]
[204010,203970,1,"Combination",{"v":525.71,"d":"€525.71"},"B015",{"$f":"IFERROR(VLOOKUP(F26810,Discounts!A:C,3,0),0)","v":0},{"v":525.7099999999999,"d":"€525.71"}]
[204010,204060,1,"Normal",{"v":348.07,"d":"€348.07"},"P109",{"$f":"IFERROR(VLOOKUP(F26811,Discounts!A:C,3,0),0)","v":0},{"v":348.07,"d":"€348.07"}]
[204020,105720,1,"Normal",{"v":79.16,"d":"€79.16"},"LUXE",{"$f":"IFERROR(VLOOKUP(F26812,Discounts!A:C,3,0),0)","v":0},{"v":79.16,"d":"€79.16"}]
[204020,203970,1,"Combination",{"v":525.71,"d":"€525.71"},"B015",{"$f":"IFERROR(VLOOKUP(F26813,Discounts!A:C,3,0),0)","v":0},{"v":525.7099999999999,"d":"€525.71"}]
[204020,204070,1,"Normal",{"v":433.71,"d":"€433.71"},"P109",{"$f":"IFERROR(VLOOKUP(F26814,Discounts!A:C,3,0),0)","v":0},{"v":433.71,"d":"€433.71"}]
[204090,105710,1,"Normal",{"v":73.57,"d":"€73.57"},"LUXE",{"$f":"IFERROR(VLOOKUP(F26815,Discounts!A:C,3,0),0)","v":0},{"v":73.57,"d":"€73.57"}]
[204090,204080,1,"Normal",{"v":491.93,"d":"€491.93"},"B015",{"$f":"IFERROR(VLOOKUP(F26816,Discounts!A:C,3,0),0)","v":0},{"v":491.93,"d":"€491.93"}]
[204090,204200,1,"Normal",{"v":184.43,"d":"€184.43"},"P109",{"$f":"IFERROR(VLOOKUP(F26817,Discounts!A:C,3,0),0)","v":0},{"v":184.43,"d":"€184.43"}]
[204100,105710,1,"Normal",{"v":73.57,"d":"€73.57"},"LUXE",{"$f":"IFERROR(VLOOKUP(F26818,Discounts!A:C,3,0),0)","v":0},{"$f":"IF(D26818=\"Normal\",E26818*(1-G26818),SUMIF(A:A,B26818,H:H)*C26818)","v":{"v":73.57,"d":"€73.57"}}]
[204100,204080,1,"Normal",{"v":491.93,"d":"€491.93"},"B015",{"$f":"IFERROR(VLOOKUP(F26819,Discounts!A:C,3,0),0)","v":0},{"v":491.93,"d":"€491.93"}]
[204100,204210,1,"Normal",{"v":297.07,"d":"€297.07"},"P109",{"$f":"IFERROR(VLOOKUP(F26820,Discounts!A:C,3,0),0)","v":0},{"v":297.07,"d":"€297.07"}]
[204110,105710,1,"Normal",{"v":73.57,"d":"€73.57"},"LUXE",{"$f":"IFERROR(VLOOKUP(F26821,Discounts!A:C,3,0),0)","v":0},{"v":73.57,"d":"€73.57"}]
[204110,204080,1,"Normal",{"v":491.93,"d":"€491.93"},"B015",{"$f":"IFERROR(VLOOKUP(F26822,Discounts!A:C,3,0),0)","v":0},{"v":491.93,"d":"€491.93"}]
[204110,204220,1,"Normal",{"v":348.07,"d":"€348.07"},"P109",{"$f":"IFERROR(VLOOKUP(F26823,Discounts!A:C,3,0),0)","v":0},{"v":348.07,"d":"€348.07"}]
[204120,105710,1,"Normal",{"v":73.57,"d":"€73.57"},"LUXE",{"$f":"IFERROR(VLOOKUP(F26824,Discounts!A:C,3,0),0)","v":0},{"v":73.57,"d":"€73.57"}]
[204120,204080,1,"Normal",{"v":491.93,"d":"€491.93"},"B015",{"$f":"IFERROR(VLOOKUP(F26825,Discounts!A:C,3,0),0)","v":0},{"v":491.93,"d":"€491.93"}]
[204120,204230,1,"Normal",{"v":348.07,"d":"€348.07"},"P109",{"$f":"IFERROR(VLOOKUP(F26826,Discounts!A:C,3,0),0)","v":0},{"v":348.07,"d":"€348.07"}]
[204130,105710,1,"Normal",{"v":73.57,"d":"€73.57"},"LUXE",{"$f":"IFERROR(VLOOKUP(F26827,Discounts!A:C,3,0),0)","v":0},{"v":73.57,"d":"€73.57"}]
[204130,204080,1,"Normal",{"v":491.93,"d":"€491.93"},"B015",{"$f":"IFERROR(VLOOKUP(F26828,Discounts!A:C,3,0),0)","v":0},{"v":491.93,"d":"€491.93"}]
[204130,204240,1,"Normal",{"v":433.71,"d":"€433.71"},"P109",{"$f":"IFERROR(VLOOKUP(F26829,Discounts!A:C,3,0),0)","v":0},{"v":433.71,"d":"€433.71"}]
[204140,106730,1,"Normal",{"v":12.4,"d":"€12.40"},"LUXE",{"$f":"IFERROR(VLOOKUP(F26830,Discounts!A:C,3,0),0)","v":0},{"v":12.4,"d":"€12.40"}]
[204140,204080,1,"Normal",{"v":491.93,"d":"€491.93"},"B015",{"$f":"IFERROR(VLOOKUP(F26831,Discounts!A:C,3,0),0)","v":0},{"v":491.93,"d":"€491.93"}]
[204150,105710,1,"Normal",{"v":73.57,"d":"€73.57"},"LUXE",{"$f":"IFERROR(VLOOKUP(F26832,Discounts!A:C,3,0),0)","v":0},{"v":73.57,"d":"€73.57"}]
[204150,204140,1,"Combination",{"v":504.33,"d":"€504.33"},"B015",{"$f":"IFERROR(VLOOKUP(F26833,Discounts!A:C,3,0),0)","v":0},{"v":504.33,"d":"€504.33"}]
[204150,204200,1,"Normal",{"v":184.43,"d":"€184.43"},"P109",{"$f":"IFERROR(VLOOKUP(F26834,Discounts!A:C,3,0),0)","v":0},{"v":184.43,"d":"€184.43"}]
[204160,105710,1,"Normal",{"v":73.57,"d":"€73.57"},"LUXE",{"$f":"IFERROR(VLOOKUP(F26835,Discounts!A:C,3,0),0)","v":0},{"v":73.57,"d":"€73.57"}]
[204160,204140,1,"Combination",{"v":504.33,"d":"€504.33"},"B015",{"$f":"IFERROR(VLOOKUP(F26836,Discounts!A:C,3,0),0)","v":0},{"v":504.33,"d":"€504.33"}]
[204160,204210,1,"Normal",{"v":297.07,"d":"€297.07"},"P109",{"$f":"IFERROR(VLOOKUP(F26837,Discounts!A:C,3,0),0)","v":0},{"v":297.07,"d":"€297.07"}]
[204170,105710,1,"Normal",{"v":73.57,"d":"€73.57"},"LUXE",{"$f":"IFERROR(VLOOKUP(F26838,Discounts!A:C,3,0),0)","v":0},{"v":73.57,"d":"€73.57"}]
[204170,204140,1,"Combination",{"v":504.33,"d":"€504.33"},"B015",{"$f":"IFERROR(VLOOKUP(F26839,Discounts!A:C,3,0),0)","v":0},{"v":504.33,"d":"€504.33"}]
[204170,204220,1,"Normal",{"v":348.07,"d":"€348.07"},"P109",{"$f":"IFERROR(VLOOKUP(F26840,Discounts!A:C,3,0),0)","v":0},{"v":348.07,"d":"€348.07"}]
[204180,105710,1,"Normal",{"v":73.57,"d":"€73.57"},"LUXE",{"$f":"IFERROR(VLOOKUP(F26841,Discounts!A:C,3,0),0)","v":0},{"v":73.57,"d":"€73.57"}]
[204180,204140,1,"Combination",{"v":504.33,"d":"€504.33"},"B015",{"$f":"IFERROR(VLOOKUP(F26842,Discounts!A:C,3,0),0)","v":0},{"v":504.33,"d":"€504.33"}]
[204180,204230,1,"Normal",{"v":348.07,"d":"€348.07"},"P109",{"$f":"IFERROR(VLOOKUP(F26843,Discounts!A:C,3,0),0)","v":0},{"v":348.07,"d":"€348.07"}]
[204190,105710,1,"Normal",{"v":73.57,"d":"€73.57"},"LUXE",{"$f":"IFERROR(VLOOKUP(F26844,Discounts!A:C,3,0),0)","v":0},{"v":73.57,"d":"€73.57"}]
[204190,204140,1,"Combination",{"v":504.33,"d":"€504.33"},"B015",{"$f":"IFERROR(VLOOKUP(F26845,Discounts!A:C,3,0),0)","v":0},{"v":504.33,"d":"€504.33"}]
[204190,204240,1,"Normal",{"v":433.71,"d":"€433.71"},"P109",{"$f":"IFERROR(VLOOKUP(F26846,Discounts!A:C,3,0),0)","v":0},{"v":433.71,"d":"€433.71"}]
[204260,105720,1,"Normal",{"v":79.16,"d":"€79.16"},"LUXE",{"$f":"IFERROR(VLOOKUP(F26847,Discounts!A:C,3,0),0)","v":0},{"v":79.16,"d":"€79.16"}]
[204260,204250,1,"Normal",{"v":513.31,"d":"€513.31"},"B015",{"$f":"IFERROR(VLOOKUP(F26848,Discounts!A:C,3,0),0)","v":0},{"v":513.31,"d":"€513.31"}]
[204260,204370,1,"Normal",{"v":184.43,"d":"€184.43"},"P109",{"$f":"IFERROR(VLOOKUP(F26849,Discounts!A:C,3,0),0)","v":0},{"v":184.43,"d":"€184.43"}]
[204270,105720,1,"Normal",{"v":79.16,"d":"€79.16"},"LUXE",{"$f":"IFERROR(VLOOKUP(F26850,Discounts!A:C,3,0),0)","v":0},{"v":79.16,"d":"€79.16"}]
[204270,204250,1,"Normal",{"v":513.31,"d":"€513.31"},"B015",{"$f":"IFERROR(VLOOKUP(F26851,Discounts!A:C,3,0),0)","v":0},{"v":513.31,"d":"€513.31"}]
[204270,204380,1,"Normal",{"v":297.07,"d":"€297.07"},"P109",{"$f":"IFERROR(VLOOKUP(F26852,Discounts!A:C,3,0),0)","v":0},{"v":297.07,"d":"€297.07"}]
[204280,105720,1,"Normal",{"v":79.16,"d":"€79.16"},"LUXE",{"$f":"IFERROR(VLOOKUP(F26853,Discounts!A:C,3,0),0)","v":0},{"v":79.16,"d":"€79.16"}]
[204280,204250,1,"Normal",{"v":513.31,"d":"€513.31"},"B015",{"$f":"IFERROR(VLOOKUP(F26854,Discounts!A:C,3,0),0)","v":0},{"v":513.31,"d":"€513.31"}]
[204280,204390,1,"Normal",{"v":348.07,"d":"€348.07"},"P109",{"$f":"IFERROR(VLOOKUP(F26855,Discounts!A:C,3,0),0)","v":0},{"v":348.07,"d":"€348.07"}]
[204290,105720,1,"Normal",{"v":79.16,"d":"€79.16"},"LUXE",{"$f":"IFERROR(VLOOKUP(F26856,Discounts!A:C,3,0),0)","v":0},{"v":79.16,"d":"€79.16"}]
[204290,204250,1,"Normal",{"v":513.31,"d":"€513.31"},"B015",{"$f":"IFERROR(VLOOKUP(F26857,Discounts!A:C,3,0),0)","v":0},{"v":513.31,"d":"€513.31"}]
[204290,204400,1,"Normal",{"v":348.07,"d":"€348.07"},"P109",{"$f":"IFERROR(VLOOKUP(F26858,Discounts!A:C,3,0),0)","v":0},{"v":348.07,"d":"€348.07"}]
[204300,105720,1,"Normal",{"v":79.16,"d":"€79.16"},"LUXE",{"$f":"IFERROR(VLOOKUP(F26859,Discounts!A:C,3,0),0)","v":0},{"v":79.16,"d":"€79.16"}]
[204300,204250,1,"Normal",{"v":513.31,"d":"€513.31"},"B015",{"$f":"IFERROR(VLOOKUP(F26860,Discounts!A:C,3,0),0)","v":0},{"v":513.31,"d":"€513.31"}]
[204300,204410,1,"Normal",{"v":433.71,"d":"€433.71"},"P109",{"$f":"IFERROR(VLOOKUP(F26861,Discounts!A:C,3,0),0)","v":0},{"v":433.71,"d":"€433.71"}]
[204310,106730,1,"Normal",{"v":12.4,"d":"€12.40"},"LUXE",{"$f":"IFERROR(VLOOKUP(F26862,Discounts!A:C,3,0),0)","v":0},{"v":12.4,"d":"€12.40"}]
[204310,204250,1,"Normal",{"v":513.31,"d":"€513.31"},"B015",{"$f":"IFERROR(VLOOKUP(F26863,Discounts!A:C,3,0),0)","v":0},{"v":513.31,"d":"€513.31"}]
[204320,105720,1,"Normal",{"v":79.16,"d":"€79.16"},"LUXE",{"$f":"IFERROR(VLOOKUP(F26864,Discounts!A:C,3,0),0)","v":0},{"v":79.16,"d":"€79.16"}]
[204320,204310,1,"Combination",{"v":525.71,"d":"€525.71"},"B015",{"$f":"IFERROR(VLOOKUP(F26865,Discounts!A:C,3,0),0)","v":0},{"v":525.7099999999999,"d":"€525.71"}]
[204320,204370,1,"Normal",{"v":184.43,"d":"€184.43"},"P109",{"$f":"IFERROR(VLOOKUP(F26866,Discounts!A:C,3,0),0)","v":0},{"v":184.43,"d":"€184.43"}]
[204330,105720,1,"Normal",{"v":79.16,"d":"€79.16"},"LUXE",{"$f":"IFERROR(VLOOKUP(F26867,Discounts!A:C,3,0),0)","v":0},{"v":79.16,"d":"€79.16"}]
[204330,204310,1,"Combination",{"v":525.71,"d":"€525.71"},"B015",{"$f":"IFERROR(VLOOKUP(F26868,Discounts!A:C,3,0),0)","v":0},{"v":525.7099999999999,"d":"€525.71"}]
[204330,204380,1,"Normal",{"v":297.07,"d":"€297.07"},"P109",{"$f":"IFERROR(VLOOKUP(F26869,Discounts!A:C,3,0),0)","v":0},{"v":297.07,"d":"€297.07"}]
[204340,105720,1,"Normal",{"v":79.16,"d":"€79.16"},"LUXE",{"$f":"IFERROR(VLOOKUP(F26870,Discounts!A:C,3,0),0)","v":0},{"v":79.16,"d":"€79.16"}]
[204340,204310,1,"Combination",{"v":525.71,"d":"€525.71"},"B015",{"$f":"IFERROR(VLOOKUP(F26871,Discounts!A:C,3,0),0)","v":0},{"v":525.7099999999999,"d":"€525.71"}]
[204340,204390,1,"Normal",{"v":348.07,"d":"€348.07"},"P109",{"$f":"IFERROR(VLOOKUP(F26872,Discounts!A:C,3,0),0)","v":0},{"v":348.07,"d":"€348.07"}]
[204350,105720,1,"Normal",{"v":79.16,"d":"€79.16"},"LUXE",{"$f":"IFERROR(VLOOKUP(F26873,Discounts!A:C,3,0),0)","v":0},{"v":79.16,"d":"€79.16"}]
[204350,204310,1,"Combination",{"v":525.71,"d":"€525.71"},"B015",{"$f":"IFERROR(VLOOKUP(F26874,Discounts!A:C,3,0),0)","v":0},{"v":525.7099999999999,"d":"€525.71"}]
[204350,204400,1,"Normal",{"v":348.07,"d":"€348.07"},"P109",{"$f":"IFERROR(VLOOKUP(F26875,Discounts!A:C,3,0),0)","v":0},{"v":348.07,"d":"€348.07"}]
[204360,105720,1,"Normal",{"v":79.16,"d":"€79.16"},"LUXE",{"$f":"IFERROR(VLOOKUP(F26876,Discounts!A:C,3,0),0)","v":0},{"v":79.16,"d":"€79.16"}]
[204360,204310,1,"Combination",{"v":525.71,"d":"€525.71"},"B015",{"$f":"IFERROR(VLOOKUP(F26877,Discounts!A:C,3,0),0)","v":0},{"v":525.7099999999999,"d":"€525.71"}]
[204360,204410,1,"Normal",{"v":433.71,"d":"€433.71"},"P109",{"$f":"IFERROR(VLOOKUP(F26878,Discounts!A:C,3,0),0)","v":0},{"v":433.71,"d":"€433.71"}]

{"sheet":"Discounts","index":1,"n_rows":71,"n_cols":3,"rows_kept":71}
["Code","Omschrijving","Korting"]
["Code","Description",{"v":0,"d":"0%"}]
["A010","Voordeuren / Duetdeuren",{"v":0,"d":"0%"}]
["A015","Vroeg-Nederlandse modellen",{"v":0,"d":"0%"}]
["A050","Voordeuren voorraad",{"v":0,"d":"0%"}]
["A055","Vroeg Ned. modellen voorraad",{"v":0,"d":"0%"}]
["A090","Specials voordeuren",{"v":0,"d":"0%"}]
["A095","Specials Vroeg Ned. modellen",{"v":0,"d":"0%"}]
["B010","Binnendeuren",{"v":0,"d":"0%"}]
["B015","Maatwerk Living Doors",{"v":0,"d":"0%"}]
["B055","Living Doors",{"v":0,"d":"0%"}]
["B055-1","Living Doors",{"v":0,"d":"0%"}]
["B090","Specials binnendeuren",{"v":0,"d":"0%"}]
["B095","Specials Living Doors",{"v":0,"d":"0%"}]
["C010","Terrasdeuren",{"v":0,"d":"0%"}]
["C050","Terrasdeuren voorraad",{"v":0,"d":"0%"}]
["C090","Specials terrasdeuren",{"v":0,"d":"0%"}]
["D010","Vlakke deuren StabielGarant",{"v":0,"d":"0%"}]
["D050","Vlakke deuren StabielGarant vr",{"v":0,"d":"0%"}]
["D060","Alumaxx",{"v":0,"d":"0%"}]
["E010","SD merbau maatwerk",{"v":0,"d":"0%"}]
["E011","SD meranti en HW maatwerk",{"v":0,"d":"0%"}]
["E012","SD 54 mm deuren Merbau",{"v":0,"d":"0%"}]
["E013","SD 54 mm deuren niet Merbau",{"v":0,"d":"0%"}]
["E015","SD brede stijl Merbau",{"v":0,"d":"0%"}]
["E016","SD brede stijl niet Merbau",{"v":0,"d":"0%"}]
["E020","SD garage Merbau 38 mm",{"v":0,"d":"0%"}]
["E021","SD garage Merbau 54 mm",{"v":0,"d":"0%"}]
["E022","SD garage niet Merbau 38 mm",{"v":0,"d":"0%"}]
["E023","SD garage niet Merbau 54 mm",{"v":0,"d":"0%"}]
["E050","SD merbau smalle stijl vrd",{"v":0,"d":"0%"}]
["E051","SD meranti smalle stijl vrd",{"v":0,"d":"0%"}]
["E052","SD mb sm. stijl vrd UITLOPEND",{"v":0,"d":"0%"}]
["E055","SD merbau brede stijl vrd",{"v":0,"d":"0%"}]
["E056","SD HW brede stijl vrd",{"v":0,"d":"0%"}]
["E057","SD merbau brede stijl 54mm vrd",{"v":0,"d":"0%"}]
["E058","SD HW brede stijl 54mm vrd",{"v":0,"d":"0%"}]
["E059","SD FSC HW brede stijl 54mm vrd",{"v":0,"d":"0%"}]
["E061","SD FSC meranti smalle st. vrd",{"v":0,"d":"0%"}]
["E065","SD FSC meranti brede st. vrd",{"v":0,"d":"0%"}]
["E075","SD FSC PHW brede st. vrd",{"v":0,"d":"0%"}]
["E090","Specials SD",{"v":0,"d":"0%"}]
["E095","SD TC geisoleerd",{"v":0,"d":"0%"}]
["H100","Ramen",{"v":0,"d":"0%"}]
["J100","Kozijnen",{"v":0,"d":"0%"}]
["K600","Raamprofielen",{"v":0,"d":"0%"}]
["LUXE","WAP",{"v":0,"d":"0%"}]
["O100","Hang- & sluitwerk sierbeslag",{"v":0,"d":"0%"}]
["O105","Uitlopend hang&sluit",{"v":0,"d":"0%"}]
["O110","Life Time beslag binnen",{"v":0,"d":"0%"}]
["O115","Life time beslag buiten",{"v":0,"d":"0%"}]
["O500","Hang- & sluitwerk sloten",{"v":0,"d":"0%"}]
["O505","Af te monteren sluitwerk",{"v":0,"d":"0%"}]
["P100","Glas / Speciaal hang/sluitwerk",{"v":0,"d":"0%"}]
["P101","Ingekocht hang en sluitwerk",{"v":0,"d":"0%"}]
["P102","Ingekocht h&s voorraad",{"v":0,"d":"0%"}]
["P104","Glas voor stapeldorpeldeuren",{"v":0,"d":"0%"}]
["P105","Glas voor vroeg Ned modellen",{"v":0,"d":"0%"}]
["P106","Glas voor overige luxe deuren",{"v":0,"d":"0%"}]
["P107","Glas / Panelen  Living Doors",{"v":0,"d":"0%"}]
["P108","Glas voor ramen",{"v":0,"d":"0%"}]
["P109","Maatwerkglas Living Doors",{"v":0,"d":"0%"}]
["P111","Maatwerkglas SD/SG",{"v":0,"d":"0%"}]
["R100","Lijstwerk uit voorraad",{"v":0,"d":"0%"}]
["SD/SG","WAP",{"v":0,"d":"0%"}]
["SERVICE","Services",{"v":0,"d":"0%"}]
["VE001","Meranti kozijn",{"v":0,"d":"0%"}]
["VE002","FSC meranti kozijn",{"v":0,"d":"0%"}]
["W100","Catalogi",{"v":0,"d":"0%"}]
["W120","Diversen",{"v":0,"d":"0%"}]
["W125","Verpakking",{"v":0,"d":"0%"}]

{"sheet":"Report","index":2,"n_rows":8021,"n_cols":32,"rows_kept":2250,"cut":true,"bounds":{"rows_first":1000,"rows_last":250,"rows_between":1000,"halvings":1}}
["WK Code","Type","EAN number","Base unit of measure","Description","Description 2","Description 3","Product type","Product sub type","Model group","Model Subgroup","Door Model","Type","Subtype","Replenishment","Type of wood","FSC","Doorblade type","Finish","Height","Width","Thickness","Design","XL","Rebate","Fire resistance","Gross price","Gross price incl VAT","Nett price",null,"Brandline","Discount group"]
[8718528022504,"Artikel",8718528022504,"STUKS","WK042, 780x2015x38, bwh 244","PEFC-CS PHW","V:RAL9010, vent.sl., isogl., solid/FJ","DEUR","BALKON","BALKON","BS","042","","","Inventory","PHW",false,"","RAL 9010",2015,780,38,"",false,false,false,383.47,464,{"$f":"ROUND(AA2*(1-VLOOKUP(AF2,Discount[],3,0)),2)","v":383.47},null,18030,"E055"]
[8718528022528,"Artikel",8718528022528,"STUKS","WK042, 780x2115x38, bwh 244","PEFC-CS PHW","V:RAL9010, vent.sl., isogl., solid/FJ","DEUR","BALKON","BALKON","BS","042","","","Inventory","PHW",false,"","RAL 9010",2115,780,38,"",false,false,false,383.47,464,{"$f":"ROUND(AA3*(1-VLOOKUP(AF3,Discount[],3,0)),2)","v":383.47},null,18030,"E055"]
[8718528022542,"Artikel",8718528022542,"STUKS","WK042, 830x2015x38, bwh 244","PEFC-CS PHW","V:RAL9010, vent.sl., isogl., solid/FJ","DEUR","BALKON","BALKON","BS","042","","","Inventory","PHW",false,"","RAL 9010",2015,830,38,"",false,false,false,383.47,464,{"$f":"ROUND(AA4*(1-VLOOKUP(AF4,Discount[],3,0)),2)","v":383.47},null,18030,"E055"]
[8718528022566,"Artikel",8718528022566,"STUKS","WK042, 830x2115x38, bwh 244","PEFC-CS PHW","V:RAL9010, vent.sl., isogl., solid/FJ","DEUR","BALKON","BALKON","BS","042","","","Inventory","PHW",false,"","RAL 9010",2115,830,38,"",false,false,false,383.47,464,{"$f":"ROUND(AA5*(1-VLOOKUP(AF5,Discount[],3,0)),2)","v":383.47},null,18030,"E055"]
[8718528022665,"Artikel",8718528022665,"STUKS","WK042, 930x2015x38, bwh 244","PEFC-CS PHW","V:RAL9010, vent.sl., isogl., solid/FJ","DEUR","BALKON","BALKON","BS","042","","","Inventory","PHW",false,"","RAL 9010",2015,930,38,"",false,false,false,383.47,464,{"$f":"ROUND(AA6*(1-VLOOKUP(AF6,Discount[],3,0)),2)","v":383.47},null,18030,"E055"]
[8718528022726,"Artikel",8718528022726,"STUKS","WK043, 780x2015x38, bwh 349","PEFC-CS PHW","V:RAL9010, vent.sl., isogl., solid/FJ","DEUR","BALKON","BALKON","BS","043","","","Inventory","PHW",false,"","RAL 9010",2015,780,38,"",false,false,false,404.13,489,{"$f":"ROUND(AA7*(1-VLOOKUP(AF7,Discount[],3,0)),2)","v":404.13},null,18040,"E055"]
[8718528022757,"Artikel",8718528022757,"STUKS","WK043, 780x2115x38, bwh 349","PEFC-CS PHW","V:RAL9010, vent.sl., isogl., solid/FJ","DEUR","BALKON","BALKON","BS","043","","","Inventory","PHW",false,"","RAL 9010",2115,780,38,"",false,false,false,404.13,489,{"$f":"ROUND(AA8*(1-VLOOKUP(AF8,Discount[],3,0)),2)","v":404.13},null,18040,"E055"]
[8718528022788,"Artikel",8718528022788,"STUKS","WK043, 830x2015x38, bwh 349","PEFC-CS PHW","V:RAL9010, vent.sl., isogl., solid/FJ","DEUR","BALKON","BALKON","BS","043","","","Inventory","PHW",false,"","RAL 9010",2015,830,38,"",false,false,false,404.13,489,{"$f":"ROUND(AA9*(1-VLOOKUP(AF9,Discount[],3,0)),2)","v":404.13},null,18040,"E055"]
[8718528022818,"Artikel",8718528022818,"STUKS","WK043, 830x2115x38, bwh 349","PEFC-CS PHW","V:RAL9010, vent.sl., isogl., solid/FJ","DEUR","BALKON","BALKON","BS","043","","","Inventory","PHW",false,"","RAL 9010",2115,830,38,"",false,false,false,404.13,489,{"$f":"ROUND(AA10*(1-VLOOKUP(AF10,Discount[],3,0)),2)","v":404.13},null,18040,"E055"]
[8718528022900,"Artikel",8718528022900,"STUKS","WK043, 880x2115x38, bwh 349","PEFC-CS PHW","V:RAL9010, vent.sl., isogl., solid/FJ","DEUR","BALKON","BALKON","BS","043","","","Inventory","PHW",false,"","RAL 9010",2115,880,38,"",false,false,false,404.13,489,{"$f":"ROUND(AA11*(1-VLOOKUP(AF11,Discount[],3,0)),2)","v":404.13},null,18040,"E055"]
[8718528022993,"Artikel",8718528022993,"STUKS","WK043, 930x2115x38, bwh 349","PEFC-CS PHW","V:RAL9010, vent.sl., isogl., solid/FJ","DEUR","BALKON","BALKON","BS","043","","","Inventory","PHW",false,"","RAL 9010",2115,930,38,"",false,false,false,404.13,489,{"$f":"ROUND(AA12*(1-VLOOKUP(AF12,Discount[],3,0)),2)","v":404.13},null,18040,"E055"]
[8718528023853,"Artikel",8718528023853,"STUKS","WK043, 730x2115x38, bwh 349","PEFC-CS PHW","V:RAL9010, vent.sl., isogl., solid/FJ","DEUR","BALKON","BALKON","BS","043","","","Inventory","PHW",false,"","RAL 9010",2115,730,38,"",false,false,false,404.13,489,{"$f":"ROUND(AA13*(1-VLOOKUP(AF13,Discount[],3,0)),2)","v":404.13},null,18040,"E055"]
[8718528219904,"Artikel",8718528219904,"STUKS","WK043, 880x2115x38, bwh 349","PEFC-CS PHW, NON-KOMO","V:RAL9010, vent.sl., isogl., solid/FJ","DEUR","BALKON","BALKON","BS","043","","","Inventory","PHW",false,"","RAL 9010",2115,880,38,"",false,false,false,404.13,489,{"$f":"ROUND(AA14*(1-VLOOKUP(AF14,Discount[],3,0)),2)","v":404.13},null,18040,"E055"]
[8718528220269,"Artikel",8718528220269,"STUKS","WK043, 880x2015x38, bwh 349","PEFC-CS PHW, NON-KOMO","V:RAL9010, vent.sl., isogl., solid/FJ","DEUR","BALKON","BALKON","BS","043","","","Inventory","PHW",false,"","RAL 9010",2015,880,38,"",false,false,false,404.13,489,{"$f":"ROUND(AA15*(1-VLOOKUP(AF15,Discount[],3,0)),2)","v":404.13},null,18040,"E055"]
[8718528023877,"Artikel",8718528023877,"STUKS","WK044, 780x2115x38, bwh 454","PEFC-CS PHW","V:RAL9010, vent.sl., isogl., solid/FJ","DEUR","BALKON","BALKON","BS","044","","","Inventory","PHW",false,"","RAL 9010",2115,780,38,"",false,false,false,423.96,513,{"$f":"ROUND(AA16*(1-VLOOKUP(AF16,Discount[],3,0)),2)","v":423.96},null,18050,"E055"]
[8718528023884,"Artikel",8718528023884,"STUKS","WK044, 830x2015x38, bwh 454","PEFC-CS PHW","V:RAL9010, vent.sl., isogl., solid/FJ","DEUR","BALKON","BALKON","BS","044","","","Inventory","PHW",false,"","RAL 9010",2015,830,38,"",false,false,false,423.96,513,{"$f":"ROUND(AA17*(1-VLOOKUP(AF17,Discount[],3,0)),2)","v":423.96},null,18050,"E055"]
[8718528023891,"Artikel",8718528023891,"STUKS","WK044, 830x2115x38, bwh 454","PEFC-CS PHW","V:RAL9010, vent.sl., isogl., solid/FJ","DEUR","BALKON","BALKON","BS","044","","","Inventory","PHW",false,"","RAL 9010",2115,830,38,"",false,false,false,423.96,513,{"$f":"ROUND(AA18*(1-VLOOKUP(AF18,Discount[],3,0)),2)","v":423.96},null,18050,"E055"]
[8718528023907,"Artikel",8718528023907,"STUKS","WK044, 880x2015x38, bwh 454","PEFC-CS PHW","V:RAL9010, vent.sl., isogl., solid/FJ","DEUR","BALKON","BALKON","BS","044","","","Inventory","PHW",false,"","RAL 9010",2015,880,38,"",false,false,false,423.96,513,{"$f":"ROUND(AA19*(1-VLOOKUP(AF19,Discount[],3,0)),2)","v":423.96},null,18050,"E055"]
[8718528220450,"Artikel",8718528220450,"STUKS","WK044, 780x2115x38, bwh 454","PEFC-CS PHW, NON-KOMO","V:RAL9010, vent.sl., isogl., solid/FJ","DEUR","BALKON","BALKON","BS","044","","","Inventory","PHW",false,"","RAL 9010",2115,780,38,"",false,false,false,423.96,513,{"$f":"ROUND(AA20*(1-VLOOKUP(AF20,Discount[],3,0)),2)","v":423.96},null,18050,"E055"]
[8718528023051,"Artikel",8718528023051,"STUKS","WK046, 780x2015x38, bwh 664","PEFC-CS PHW","V:RAL9010, vent.sl., isogl., solid/FJ","DEUR","BALKON","BALKON","BS","046","","","Inventory","PHW",false,"","RAL 9010",2015,780,38,"",false,false,false,464.46,562,{"$f":"ROUND(AA21*(1-VLOOKUP(AF21,Discount[],3,0)),2)","v":464.46},null,18060,"E055"]
[8718528023112,"Artikel",8718528023112,"STUKS","WK046, 830x2015x38, bwh 664","PEFC-CS PHW","V:RAL9010, vent.sl., isogl., solid/FJ","DEUR","BALKON","BALKON","BS","046","","","Inventory","PHW",false,"","RAL 9010",2015,830,38,"",false,false,false,464.46,562,{"$f":"ROUND(AA22*(1-VLOOKUP(AF22,Discount[],3,0)),2)","v":464.46},null,18060,"E055"]
[8718528023143,"Artikel",8718528023143,"STUKS","WK046, 830x2115x38, bwh 664","PEFC-CS PHW","V:RAL9010, vent.sl., isogl., solid/FJ","DEUR","BALKON","BALKON","BS","046","","","Inventory","PHW",false,"","RAL 9010",2115,830,38,"",false,false,false,464.46,562,{"$f":"ROUND(AA23*(1-VLOOKUP(AF23,Discount[],3,0)),2)","v":464.46},null,18060,"E055"]
[8718528023235,"Artikel",8718528023235,"STUKS","WK046, 930x2015x38, bwh 664","PEFC-CS PHW","V:RAL9010, vent.sl., isogl., solid/FJ","DEUR","BALKON","BALKON","BS","046","","","Inventory","PHW",false,"","RAL 9010",2015,930,38,"",false,false,false,464.46,562,{"$f":"ROUND(AA24*(1-VLOOKUP(AF24,Discount[],3,0)),2)","v":464.46},null,18060,"E055"]
[8718528023266,"Artikel",8718528023266,"STUKS","WK046, 930x2115x38, bwh 664","PEFC-CS PHW","V:RAL9010, vent.sl., isogl., solid/FJ","DEUR","BALKON","BALKON","BS","046","","","Inventory","PHW",false,"","RAL 9010",2115,930,38,"",false,false,false,464.46,562,{"$f":"ROUND(AA25*(1-VLOOKUP(AF25,Discount[],3,0)),2)","v":464.46},null,18060,"E055"]
[8718528023297,"Artikel",8718528023297,"STUKS","WK048, 780x2015x38, bwh 874","PEFC-CS PHW","V:RAL9010, vent.sl., isogl., solid/FJ","DEUR","BALKON","BALKON","BS","048","","","Inventory","PHW",false,"","RAL 9010",2015,780,38,"",false,false,false,505.78,612,{"$f":"ROUND(AA26*(1-VLOOKUP(AF26,Discount[],3,0)),2)","v":505.78},null,18070,"E055"]
[8718528023358,"Artikel",8718528023358,"STUKS","WK048, 830x2015x38, bwh 874","PEFC-CS PHW","V:RAL9010, vent.sl., isogl., solid/FJ","DEUR","BALKON","BALKON","BS","048","","","Inventory","PHW",false,"","RAL 9010",2015,830,38,"",false,false,false,505.78,612,{"$f":"ROUND(AA27*(1-VLOOKUP(AF27,Discount[],3,0)),2)","v":505.78},null,18070,"E055"]
[8718528023440,"Artikel",8718528023440,"STUKS","WK048, 880x2115x38, bwh 874","PEFC-CS PHW","V:RAL9010, vent.sl., isogl., solid/FJ","DEUR","BALKON","BALKON","BS","048","","","Inventory","PHW",false,"","RAL 9010",2115,880,38,"",false,false,false,505.78,612,{"$f":"ROUND(AA28*(1-VLOOKUP(AF28,Discount[],3,0)),2)","v":505.78},null,18070,"E055"]
[8718528023495,"Artikel",8718528023495,"STUKS","WK048, 930x2015x38, bwh 874","PEFC-CS PHW","V:RAL9010, vent.sl., isogl., solid/FJ","DEUR","BALKON","BALKON","BS","048","","","Inventory","PHW",false,"","RAL 9010",2015,930,38,"",false,false,false,505.78,612,{"$f":"ROUND(AA29*(1-VLOOKUP(AF29,Discount[],3,0)),2)","v":505.78},null,18070,"E055"]
[8718528023525,"Artikel",8718528023525,"STUKS","WK048, 930x2115x38, bwh 874","PEFC-CS PHW","V:RAL9010, vent.sl., isogl., solid/FJ","DEUR","BALKON","BALKON","BS","048","","","Inventory","PHW",false,"","RAL 9010",2115,930,38,"",false,false,false,505.78,612,{"$f":"ROUND(AA30*(1-VLOOKUP(AF30,Discount[],3,0)),2)","v":505.78},null,18070,"E055"]
[8718528025284,"Artikel",8718528025284,"STUKS","WK042, 830x2015x38, bwh 244","FSC® cert. Premium Hardwood","V:RAL9010, vent.sl., isogl., FSC Mix 70% CU-COC 800339","DEUR","BALKON","BALKON","BS","042","","","Inventory","FSCPHW",true,"","RAL 9010",2015,830,38,"",false,false,false,430.58,521,{"$f":"ROUND(AA31*(1-VLOOKUP(AF31,Discount[],3,0)),2)","v":430.58},null,18080,"E075"]
[8718528025291,"Artikel",8718528025291,"STUKS","WK042, 830x2115x38, bwh 244","FSC® cert. Premium Hardwood","V:RAL9010, vent.sl., isogl., FSC Mix 70% CU-COC 800339","DEUR","BALKON","BALKON","BS","042","","","Inventory","FSCPHW",true,"","RAL 9010",2115,830,38,"",false,false,false,430.58,521,{"$f":"ROUND(AA32*(1-VLOOKUP(AF32,Discount[],3,0)),2)","v":430.58},null,18080,"E075"]
[8718528025307,"Artikel",8718528025307,"STUKS","WK042, 880x2015x38, bwh 244","FSC® cert. Premium Hardwood","V:RAL9010, vent.sl., isogl., FSC Mix 70% CU-COC 800339","DEUR","BALKON","BALKON","BS","042","","","Inventory","FSCPHW",true,"","RAL 9010",2015,880,38,"",false,false,false,430.58,521,{"$f":"ROUND(AA33*(1-VLOOKUP(AF33,Discount[],3,0)),2)","v":430.58},null,18080,"E075"]
[8718528025314,"Artikel",8718528025314,"STUKS","WK042, 880x2115x38, bwh 244","FSC® cert. Premium Hardwood","V:RAL9010, vent.sl., isogl., FSC Mix 70% CU-COC 800339","DEUR","BALKON","BALKON","BS","042","","","Inventory","FSCPHW",true,"","RAL 9010",2115,880,38,"",false,false,false,430.58,521,{"$f":"ROUND(AA34*(1-VLOOKUP(AF34,Discount[],3,0)),2)","v":430.58},null,18080,"E075"]
[8718528025321,"Artikel",8718528025321,"STUKS","WK042, 930x2015x38, bwh 244","FSC® cert. Premium Hardwood","V:RAL9010, vent.sl., isogl., FSC Mix 70% CU-COC 800339","DEUR","BALKON","BALKON","BS","042","","","Inventory","FSCPHW",true,"","RAL 9010",2015,930,38,"",false,false,false,430.58,521,{"$f":"ROUND(AA35*(1-VLOOKUP(AF35,Discount[],3,0)),2)","v":430.58},null,18080,"E075"]
[8718528025338,"Artikel",8718528025338,"STUKS","WK042, 930x2115x38, bwh 244","FSC® cert. Premium Hardwood","V:RAL9010, vent.sl., isogl., FSC Mix 70% CU-COC 800339","DEUR","BALKON","BALKON","BS","042","","","Inventory","FSCPHW",true,"","RAL 9010",2115,930,38,"",false,false,false,430.58,521,{"$f":"ROUND(AA36*(1-VLOOKUP(AF36,Discount[],3,0)),2)","v":430.58},null,18080,"E075"]
[8718528345207,"Artikel",8718528345207,"STUKS","WK042, 780x2015x38, bwh 244","FSC® cert. PHW KOMO","V:RAL9010, vent.sl., isogl., solid/FJ","DEUR","BALKON","BALKON","BS","042","","","Inventory","FSCPHW",true,"","RAL 9010",0,0,38,"",false,false,false,430.58,521,{"$f":"ROUND(AA37*(1-VLOOKUP(AF37,Discount[],3,0)),2)","v":430.58},null,18080,"E075"]
[8718528345269,"Artikel",8718528345269,"STUKS","WK042, 780x2115x38, bwh 244","FSC® cert. PHW KOMO","V:RAL9010, vent.sl., isogl., solid/FJ","DEUR","BALKON","BALKON","BS","042","","","Inventory","FSCPHW",true,"","RAL 9010",0,0,38,"",false,false,false,430.58,521,{"$f":"ROUND(AA38*(1-VLOOKUP(AF38,Discount[],3,0)),2)","v":430.58},null,18080,"E075"]
[8718528024508,"Artikel",8718528024508,"STUKS","WK043, 780x2015x38, bwh 349","FSC® cert. Premium Hardwood","V:RAL9010, vent.sl., isogl., FSC Mix 70% CU-COC 800339","DEUR","BALKON","BALKON","BS","043","","","Inventory","FSCPHW",true,"","RAL 9010",2015,780,38,"",false,false,false,453.72,549,{"$f":"ROUND(AA39*(1-VLOOKUP(AF39,Discount[],3,0)),2)","v":453.72},null,18090,"E075"]
[8718528024515,"Artikel",8718528024515,"STUKS","WK043, 780x2115x38, bwh 349","FSC® cert. Premium Hardwood","V:RAL9010, vent.sl., isogl., FSC Mix 70% CU-COC 800339","DEUR","BALKON","BALKON","BS","043","","","Inventory","FSCPHW",true,"","RAL 9010",2115,780,38,"",false,false,false,453.72,549,{"$f":"ROUND(AA40*(1-VLOOKUP(AF40,Discount[],3,0)),2)","v":453.72},null,18090,"E075"]
[8718528024522,"Artikel",8718528024522,"STUKS","WK043, 830x2015x38, bwh 349","FSC® cert. Premium Hardwood","V:RAL9010, vent.sl., isogl., FSC Mix 70% CU-COC 800339","DEUR","BALKON","BALKON","BS","043","","","Inventory","FSCPHW",true,"","RAL 9010",2015,830,38,"",false,false,false,453.72,549,{"$f":"ROUND(AA41*(1-VLOOKUP(AF41,Discount[],3,0)),2)","v":453.72},null,18090,"E075"]
[8718528024539,"Artikel",8718528024539,"STUKS","WK043, 830x2115x38, bwh 349","FSC® cert. Premium Hardwood","V:RAL9010, vent.sl., isogl., FSC Mix 70% CU-COC 800339","DEUR","BALKON","BALKON","BS","043","","","Inventory","FSCPHW",true,"","RAL 9010",2115,830,38,"",false,false,false,453.72,549,{"$f":"ROUND(AA42*(1-VLOOKUP(AF42,Discount[],3,0)),2)","v":453.72},null,18090,"E075"]
[8718528024546,"Artikel",8718528024546,"STUKS","WK043, 880x2015x38, bwh 349","FSC® cert. Premium Hardwood","V:RAL9010, vent.sl., isogl., FSC Mix 70% CU-COC 800339","DEUR","BALKON","BALKON","BS","043","","","Inventory","FSCPHW",true,"","RAL 9010",2015,880,38,"",false,false,false,453.72,549,{"$f":"ROUND(AA43*(1-VLOOKUP(AF43,Discount[],3,0)),2)","v":453.72},null,18090,"E075"]
[8718528024553,"Artikel",8718528024553,"STUKS","WK043, 880x2115x38, bwh 349","FSC® cert. Premium Hardwood","V:RAL9010, vent.sl., isogl., FSC Mix 70% CU-COC 800339","DEUR","BALKON","BALKON","BS","043","","","Inventory","FSCPHW",true,"","RAL 9010",2115,880,38,"",false,false,false,453.72,549,{"$f":"ROUND(AA44*(1-VLOOKUP(AF44,Discount[],3,0)),2)","v":453.72},null,18090,"E075"]
[8718528024560,"Artikel",8718528024560,"STUKS","WK043, 930x2015x38, bwh 349","FSC® cert. Premium Hardwood","V:RAL9010, vent.sl., isogl., FSC Mix 70% CU-COC 800339","DEUR","BALKON","BALKON","BS","043","","","Inventory","FSCPHW",true,"","RAL 9010",2015,930,38,"",false,false,false,453.72,549,{"$f":"ROUND(AA45*(1-VLOOKUP(AF45,Discount[],3,0)),2)","v":453.72},null,18090,"E075"]
[8718528024577,"Artikel",8718528024577,"STUKS","WK043, 930x2115x38, bwh 349","FSC® cert. Premium Hardwood","V:RAL9010, vent.sl., isogl., FSC Mix 70% CU-COC 800339","DEUR","BALKON","BALKON","BS","043","","","Inventory","FSCPHW",true,"","RAL 9010",2115,930,38,"",false,false,false,453.72,549,{"$f":"ROUND(AA46*(1-VLOOKUP(AF46,Discount[],3,0)),2)","v":453.72},null,18090,"E075"]
[8718528345290,"Artikel",8718528345290,"STUKS","WK043, 730x2015x38, bwh 349","FSC® cert. PHW KOMO","V:RAL9010, vent.sl., isogl., solid/FJ","DEUR","BALKON","BALKON","BS","043","","","Inventory","FSCPHW",true,"","RAL 9010",0,0,38,"",false,false,false,453.72,549,{"$f":"ROUND(AA47*(1-VLOOKUP(AF47,Discount[],3,0)),2)","v":453.72},null,18090,"E075"]
[8718528345320,"Artikel",8718528345320,"STUKS","WK043, 730x2115x38, bwh 349","FSC® cert. PHW KOMO","V:RAL9010, vent.sl., isogl., solid/FJ","DEUR","BALKON","BALKON","BS","043","","","Inventory","FSCPHW",true,"","RAL 9010",0,0,38,"",false,false,false,453.72,549,{"$f":"ROUND(AA48*(1-VLOOKUP(AF48,Discount[],3,0)),2)","v":453.72},null,18090,"E075"]
[8718528025376,"Artikel",8718528025376,"STUKS","WK044, 830x2015x38, bwh 454","FSC® cert. Premium Hardwood","V:RAL9010, vent.sl., isogl., FSC Mix 70% CU-COC 800339","DEUR","BALKON","BALKON","BS","044","","","Inventory","FSCPHW",true,"","RAL 9010",2015,830,38,"",false,false,false,475.2,575,{"$f":"ROUND(AA49*(1-VLOOKUP(AF49,Discount[],3,0)),2)","v":475.2},null,18100,"E075"]
[8718528025383,"Artikel",8718528025383,"STUKS","WK044, 830x2115x38, bwh 454","FSC® cert. Premium Hardwood","V:RAL9010, vent.sl., isogl., FSC Mix 70% CU-COC 800339","DEUR","BALKON","BALKON","BS","044","","","Inventory","FSCPHW",true,"","RAL 9010",2115,830,38,"",false,false,false,475.2,575,{"$f":"ROUND(AA50*(1-VLOOKUP(AF50,Discount[],3,0)),2)","v":475.2},null,18100,"E075"]
[8718528025390,"Artikel",8718528025390,"STUKS","WK044, 880x2015x38, bwh 454","FSC® cert. Premium Hardwood","V:RAL9010, vent.sl., isogl., FSC Mix 70% CU-COC 800339","DEUR","BALKON","BALKON","BS","044","","","Inventory","FSCPHW",true,"","RAL 9010",2015,880,38,"",false,false,false,475.2,575,{"$f":"ROUND(AA51*(1-VLOOKUP(AF51,Discount[],3,0)),2)","v":475.2},null,18100,"E075"]
[8718528025406,"Artikel",8718528025406,"STUKS","WK044, 880x2115x38, bwh 454","FSC® cert. Premium Hardwood","V:RAL9010, vent.sl., isogl., FSC Mix 70% CU-COC 800339","DEUR","BALKON","BALKON","BS","044","","","Inventory","FSCPHW",true,"","RAL 9010",2115,880,38,"",false,false,false,475.2,575,{"$f":"ROUND(AA52*(1-VLOOKUP(AF52,Discount[],3,0)),2)","v":475.2},null,18100,"E075"]
[8718528025413,"Artikel",8718528025413,"STUKS","WK044, 930x2015x38, bwh 454","FSC® cert. Premium Hardwood","V:RAL9010, vent.sl., isogl., FSC Mix 70% CU-COC 800339","DEUR","BALKON","BALKON","BS","044","","","Inventory","FSCPHW",true,"","RAL 9010",2015,930,38,"",false,false,false,475.2,575,{"$f":"ROUND(AA53*(1-VLOOKUP(AF53,Discount[],3,0)),2)","v":475.2},null,18100,"E075"]
[8718528025420,"Artikel",8718528025420,"STUKS","WK044, 930x2115x38, bwh 454","FSC® cert. Premium Hardwood","V:RAL9010, vent.sl., isogl., FSC Mix 70% CU-COC 800339","DEUR","BALKON","BALKON","BS","044","","","Inventory","FSCPHW",true,"","RAL 9010",2115,930,38,"",false,false,false,475.2,575,{"$f":"ROUND(AA54*(1-VLOOKUP(AF54,Discount[],3,0)),2)","v":475.2},null,18100,"E075"]
[8718528345351,"Artikel",8718528345351,"STUKS","WK044, 780x2015x38, bwh 454","FSC® cert. PHW KOMO","V:RAL9010, vent.sl., isogl., solid/FJ","DEUR","BALKON","BALKON","BS","044","","","Inventory","FSCPHW",true,"","RAL 9010",0,0,38,"",false,false,false,475.2,575,{"$f":"ROUND(AA55*(1-VLOOKUP(AF55,Discount[],3,0)),2)","v":475.2},null,18100,"E075"]
[8718528345382,"Artikel",8718528345382,"STUKS","WK044, 780x2115x38, bwh 454","FSC® cert. PHW KOMO","V:RAL9010, vent.sl., isogl., solid/FJ","DEUR","BALKON","BALKON","BS","044","","","Inventory","FSCPHW",true,"","RAL 9010",0,0,38,"",false,false,false,475.2,575,{"$f":"ROUND(AA56*(1-VLOOKUP(AF56,Discount[],3,0)),2)","v":475.2},null,18100,"E075"]
[8718528024614,"Artikel",8718528024614,"STUKS","WK046, 830x2015x38, bwh 664","FSC® cert. Premium Hardwood","V:RAL9010, vent.sl., isogl., FSC Mix 70% CU-COC 800339","DEUR","BALKON","BALKON","BS","046","","","Inventory","FSCPHW",true,"","RAL 9010",2015,830,38,"",false,false,false,523.14,633,{"$f":"ROUND(AA57*(1-VLOOKUP(AF57,Discount[],3,0)),2)","v":523.14},null,18110,"E075"]
[8718528024621,"Artikel",8718528024621,"STUKS","WK046, 830x2115x38, bwh 664","FSC® cert. Premium Hardwood","V:RAL9010, vent.sl., isogl., FSC Mix 70% CU-COC 800339","DEUR","BALKON","BALKON","BS","046","","","Inventory","FSCPHW",true,"","RAL 9010",2115,830,38,"",false,false,false,523.14,633,{"$f":"ROUND(AA58*(1-VLOOKUP(AF58,Discount[],3,0)),2)","v":523.14},null,18110,"E075"]
[8718528024638,"Artikel",8718528024638,"STUKS","WK046, 880x2015x38, bwh 664","FSC® cert. Premium Hardwood","V:RAL9010, vent.sl., isogl., FSC Mix 70% CU-COC 800339","DEUR","BALKON","BALKON","BS","046","","","Inventory","FSCPHW",true,"","RAL 9010",2015,880,38,"",false,false,false,523.14,633,{"$f":"ROUND(AA59*(1-VLOOKUP(AF59,Discount[],3,0)),2)","v":523.14},null,18110,"E075"]
[8718528024645,"Artikel",8718528024645,"STUKS","WK046, 880x2115x38, bwh 664","FSC® cert. Premium Hardwood","V:RAL9010, vent.sl., isogl., FSC Mix 70% CU-COC 800339","DEUR","BALKON","BALKON","BS","046","","","Inventory","FSCPHW",true,"","RAL 9010",2115,880,38,"",false,false,false,523.14,633,{"$f":"ROUND(AA60*(1-VLOOKUP(AF60,Discount[],3,0)),2)","v":523.14},null,18110,"E075"]
[8718528024652,"Artikel",8718528024652,"STUKS","WK046, 930x2015x38, bwh 664","FSC® cert. Premium Hardwood","V:RAL9010, vent.sl., isogl., FSC Mix 70% CU-COC 800339","DEUR","BALKON","BALKON","BS","046","","","Inventory","FSCPHW",true,"","RAL 9010",2015,930,38,"",false,false,false,523.14,633,{"$f":"ROUND(AA61*(1-VLOOKUP(AF61,Discount[],3,0)),2)","v":523.14},null,18110,"E075"]
[8718528024669,"Artikel",8718528024669,"STUKS","WK046, 930x2115x38, bwh 664","FSC® cert. Premium Hardwood","V:RAL9010, vent.sl., isogl., FSC Mix 70% CU-COC 800339","DEUR","BALKON","BALKON","BS","046","","","Inventory","FSCPHW",true,"","RAL 9010",2115,930,38,"",false,false,false,523.14,633,{"$f":"ROUND(AA62*(1-VLOOKUP(AF62,Discount[],3,0)),2)","v":523.14},null,18110,"E075"]
[8718528345412,"Artikel",8718528345412,"STUKS","WK046, 780x2015x38, bwh 664","FSC® cert. PHW KOMO","V:RAL9010, vent.sl., isogl., solid/FJ","DEUR","BALKON","BALKON","BS","046","","","Inventory","FSCPHW",true,"","RAL 9010",0,0,38,"",false,false,false,523.14,633,{"$f":"ROUND(AA63*(1-VLOOKUP(AF63,Discount[],3,0)),2)","v":523.14},null,18110,"E075"]
[8718528345443,"Artikel",8718528345443,"STUKS","WK046, 780x2115x38, bwh 664","FSC® cert. PHW KOMO","V:RAL9010, vent.sl., isogl., solid/FJ","DEUR","BALKON","BALKON","BS","046","","","Inventory","FSCPHW",true,"","RAL 9010",0,0,38,"",false,false,false,523.14,633,{"$f":"ROUND(AA64*(1-VLOOKUP(AF64,Discount[],3,0)),2)","v":523.14},null,18110,"E075"]
[8718528024690,"Artikel",8718528024690,"STUKS","WK048, 830x2015x38, bwh 874","FSC® cert. Premium Hardwood","V:RAL9010, vent.sl., isogl., FSC Mix 70% CU-COC 800339","DEUR","BALKON","BALKON","BS","048","","","Inventory","FSCPHW",true,"","RAL 9010",2015,830,38,"",false,false,false,569.42,689,{"$f":"ROUND(AA65*(1-VLOOKUP(AF65,Discount[],3,0)),2)","v":569.42},null,18130,"E075"]
[8718528024706,"Artikel",8718528024706,"STUKS","WK048, 830x2115x38, bwh 874","FSC® cert. Premium Hardwood","V:RAL9010, vent.sl., isogl., FSC Mix 70% CU-COC 800339","DEUR","BALKON","BALKON","BS","048","","","Inventory","FSCPHW",true,"","RAL 9010",2115,830,38,"",false,false,false,569.42,689,{"$f":"ROUND(AA66*(1-VLOOKUP(AF66,Discount[],3,0)),2)","v":569.42},null,18130,"E075"]
[8718528024713,"Artikel",8718528024713,"STUKS","WK048, 880x2015x38, bwh 874","FSC® cert. Premium Hardwood","V:RAL9010, vent.sl., isogl., FSC Mix 70% CU-COC 800339","DEUR","BALKON","BALKON","BS","048","","","Inventory","FSCPHW",true,"","RAL 9010",2015,880,38,"",false,false,false,569.42,689,{"$f":"ROUND(AA67*(1-VLOOKUP(AF67,Discount[],3,0)),2)","v":569.42},null,18130,"E075"]
[8718528024720,"Artikel",8718528024720,"STUKS","WK048, 880x2115x38, bwh 874","FSC® cert. Premium Hardwood","V:RAL9010, vent.sl., isogl., FSC Mix 70% CU-COC 800339","DEUR","BALKON","BALKON","BS","048","","","Inventory","FSCPHW",true,"","RAL 9010",2115,880,38,"",false,false,false,569.42,689,{"$f":"ROUND(AA68*(1-VLOOKUP(AF68,Discount[],3,0)),2)","v":569.42},null,18130,"E075"]
[8718528024737,"Artikel",8718528024737,"STUKS","WK048, 930x2015x38, bwh 874","FSC® cert. Premium Hardwood","V:RAL9010, vent.sl., isogl., FSC Mix 70% CU-COC 800339","DEUR","BALKON","BALKON","BS","048","","","Inventory","FSCPHW",true,"","RAL 9010",2015,930,38,"",false,false,false,569.42,689,{"$f":"ROUND(AA69*(1-VLOOKUP(AF69,Discount[],3,0)),2)","v":569.42},null,18130,"E075"]
[8718528024744,"Artikel",8718528024744,"STUKS","WK048, 930x2115x38, bwh 874","FSC® cert. Premium Hardwood","V:RAL9010, vent.sl., isogl., FSC Mix 70% CU-COC 800339","DEUR","BALKON","BALKON","BS","048","","","Inventory","FSCPHW",true,"","RAL 9010",2115,930,38,"",false,false,false,569.42,689,{"$f":"ROUND(AA70*(1-VLOOKUP(AF70,Discount[],3,0)),2)","v":569.42},null,18130,"E075"]
[8718528345474,"Artikel",8718528345474,"STUKS","WK048, 780x2015x38, bwh 874","FSC® cert. PHW KOMO","V:RAL9010, vent.sl., isogl., solid/FJ","DEUR","BALKON","BALKON","BS","048","","","Inventory","FSCPHW",true,"","RAL 9010",0,0,38,"",false,false,false,569.42,689,{"$f":"ROUND(AA71*(1-VLOOKUP(AF71,Discount[],3,0)),2)","v":569.42},null,18130,"E075"]
[8718528345504,"Artikel",8718528345504,"STUKS","WK048, 780x2115x38, bwh 874","FSC® cert. PHW KOMO","V:RAL9010, vent.sl., isogl., solid/FJ","DEUR","BALKON","BALKON","BS","048","","","Inventory","FSCPHW",true,"","RAL 9010",0,0,38,"",false,false,false,569.42,689,{"$f":"ROUND(AA72*(1-VLOOKUP(AF72,Discount[],3,0)),2)","v":569.42},null,18130,"E075"]
[8718528024850,"Artikel",8718528024850,"STUKS","WK042, 830x2015x38, bwh 244","FSC® cert. Hardwood","V:RAL7035,vent.sl.,isogl.,solid/FJ,FSC Mix 70% CU-COC 800339","DEUR","BALKON","BALKON","BS","042","","","Inventory","FSCHW",true,"","RAL 7035",2015,830,38,"",false,false,false,373.55,452,{"$f":"ROUND(AA73*(1-VLOOKUP(AF73,Discount[],3,0)),2)","v":373.55},null,18140,"E065"]
[8718528024867,"Artikel",8718528024867,"STUKS","WK042, 830x2115x38, bwh 244","FSC® cert. Hardwood","V:RAL7035,vent.sl.,isogl.,solid/FJ,FSC Mix 70% CU-COC 800339","DEUR","BALKON","BALKON","BS","042","","","Inventory","FSCHW",true,"","RAL 7035",2115,830,38,"",false,false,false,373.55,452,{"$f":"ROUND(AA74*(1-VLOOKUP(AF74,Discount[],3,0)),2)","v":373.55},null,18140,"E065"]
[8718528024874,"Artikel",8718528024874,"STUKS","WK042, 880x2015x38, bwh 244","FSC® cert. Hardwood","V:RAL7035,vent.sl.,isogl.,solid/FJ,FSC Mix 70% CU-COC 800339","DEUR","BALKON","BALKON","BS","042","","","Inventory","FSCHW",true,"","RAL 7035",2015,880,38,"",false,false,false,373.55,452,{"$f":"ROUND(AA75*(1-VLOOKUP(AF75,Discount[],3,0)),2)","v":373.55},null,18140,"E065"]
[8718528024881,"Artikel",8718528024881,"STUKS","WK042, 880x2115x38, bwh 244","FSC® cert. Hardwood","V:RAL7035,vent.sl.,isogl.,solid/FJ,FSC Mix 70% CU-COC 800339","DEUR","BALKON","BALKON","BS","042","","","Inventory","FSCHW",true,"","RAL 7035",2115,880,38,"",false,false,false,373.55,452,{"$f":"ROUND(AA76*(1-VLOOKUP(AF76,Discount[],3,0)),2)","v":373.55},null,18140,"E065"]
[8718528024898,"Artikel",8718528024898,"STUKS","WK042, 930x2015x38, bwh 244","FSC® cert. Hardwood","V:RAL7035,vent.sl.,isogl.,solid/FJ,FSC Mix 70% CU-COC 800339","DEUR","BALKON","BALKON","BS","042","","","Inventory","FSCHW",true,"","RAL 7035",2015,930,38,"",false,false,false,373.55,452,{"$f":"ROUND(AA77*(1-VLOOKUP(AF77,Discount[],3,0)),2)","v":373.55},null,18140,"E065"]
[8718528024904,"Artikel",8718528024904,"STUKS","WK042, 930x2115x38, bwh 244","FSC® cert. Hardwood","V:RAL7035,vent.sl.,isogl.,solid/FJ,FSC Mix 70% CU-COC 800339","DEUR","BALKON","BALKON","BS","042","","","Inventory","FSCHW",true,"","RAL 7035",2115,930,38,"",false,false,false,373.55,452,{"$f":"ROUND(AA78*(1-VLOOKUP(AF78,Discount[],3,0)),2)","v":373.55},null,18140,"E065"]
[8718528219959,"Artikel",8718528219959,"STUKS","WK042, 930x2115x38, bwh 244","FSC® cert. Hardwood NON-KOMO","V:RAL7035,vent.sl.,isogl.,solid/FJ,FSC Mix 70% CU-COC 800339","DEUR","BALKON","BALKON","BS","042","","","Inventory","FSCHW",true,"","RAL 7035",2115,930,38,"",false,false,false,373.55,452,{"$f":"ROUND(AA79*(1-VLOOKUP(AF79,Discount[],3,0)),2)","v":373.55},null,18140,"E065"]
[8718528220627,"Artikel",8718528220627,"STUKS","WK042, 830x2015x38, bwh 244","FSC® cert. Hardwood NON-KOMO","V:RAL7035,vent.sl.,isogl.,solid/FJ,FSC Mix 70% CU-COC 800339","DEUR","BALKON","BALKON","BS","042","","","Inventory","FSCHW",true,"","RAL 7035",2015,830,38,"",false,false,false,373.55,452,{"$f":"ROUND(AA80*(1-VLOOKUP(AF80,Discount[],3,0)),2)","v":373.55},null,18140,"E065"]
[8718528220634,"Artikel",8718528220634,"STUKS","WK042, 830x2115x38, bwh 244","FSC® cert. Hardwood NON-KOMO","V:RAL7035,vent.sl.,isogl.,solid/FJ,FSC Mix 70% CU-COC 800339","DEUR","BALKON","BALKON","BS","042","","","Inventory","FSCHW",true,"","RAL 7035",2115,830,38,"",false,false,false,373.55,452,{"$f":"ROUND(AA81*(1-VLOOKUP(AF81,Discount[],3,0)),2)","v":373.55},null,18140,"E065"]
[8718528220641,"Artikel",8718528220641,"STUKS","WK042, 880x2115x38, bwh 244","FSC® cert. Hardwood NON-KOMO","V:RAL7035,vent.sl.,isogl.,solid/FJ,FSC Mix 70% CU-COC 800339","DEUR","BALKON","BALKON","BS","042","","","Inventory","FSCHW",true,"","RAL 7035",2115,880,38,"",false,false,false,373.55,452,{"$f":"ROUND(AA82*(1-VLOOKUP(AF82,Discount[],3,0)),2)","v":373.55},null,18140,"E065"]
[8718528345115,"Artikel",8718528345115,"STUKS","WK042, 730x2015x38, bwh 244","FSC® cert. Hardwood KOMO","V:RAL7035, vent.sl., isogl., solid/FJ","DEUR","BALKON","BALKON","BS","042","","","Inventory","FSCHW",true,"","RAL 7035",0,0,38,"",false,false,false,373.55,452,{"$f":"ROUND(AA83*(1-VLOOKUP(AF83,Discount[],3,0)),2)","v":373.55},null,18140,"E065"]
[8718528345146,"Artikel",8718528345146,"STUKS","WK042, 730x2115x38, bwh 244","FSC® cert. Hardwood KOMO","V:RAL7035, vent.sl., isogl., solid/FJ","DEUR","BALKON","BALKON","BS","042","","","Inventory","FSCHW",true,"","RAL 7035",0,0,38,"",false,false,false,373.55,452,{"$f":"ROUND(AA84*(1-VLOOKUP(AF84,Discount[],3,0)),2)","v":373.55},null,18140,"E065"]
[8718528345177,"Artikel",8718528345177,"STUKS","WK042, 780x2015x38, bwh 244","FSC® cert. Hardwood KOMO","V:RAL7035, vent.sl., isogl., solid/FJ","DEUR","BALKON","BALKON","BS","042","","","Inventory","FSCHW",true,"","RAL 7035",0,0,38,"",false,false,false,373.55,452,{"$f":"ROUND(AA85*(1-VLOOKUP(AF85,Discount[],3,0)),2)","v":373.55},null,18140,"E065"]
[8718528345238,"Artikel",8718528345238,"STUKS","WK042, 780x2115x38, bwh 244","FSC® cert. Hardwood KOMO","V:RAL7035, vent.sl., isogl., solid/FJ","DEUR","BALKON","BALKON","BS","042","","","Inventory","FSCHW",true,"","RAL 7035",0,0,38,"",false,false,false,373.55,452,{"$f":"ROUND(AA86*(1-VLOOKUP(AF86,Discount[],3,0)),2)","v":373.55},null,18140,"E065"]
[8718528024942,"Artikel",8718528024942,"STUKS","WK043, 830x2015x38, bwh 349","FSC® cert. Hardwood","V:RAL7035,vent.sl.,isogl.,solid/FJ,FSC Mix 70% CU-COC 800339","DEUR","BALKON","BALKON","BS","043","","","Inventory","FSCHW",true,"","RAL 7035",2015,830,38,"",false,false,false,393.39,476,{"$f":"ROUND(AA87*(1-VLOOKUP(AF87,Discount[],3,0)),2)","v":393.39},null,18150,"E065"]
[8718528024959,"Artikel",8718528024959,"STUKS","WK043, 830x2115x38, bwh 349","FSC® cert. Hardwood","V:RAL7035,vent.sl.,isogl.,solid/FJ,FSC Mix 70% CU-COC 800339","DEUR","BALKON","BALKON","BS","043","","","Inventory","FSCHW",true,"","RAL 7035",2115,830,38,"",false,false,false,393.39,476,{"$f":"ROUND(AA88*(1-VLOOKUP(AF88,Discount[],3,0)),2)","v":393.39},null,18150,"E065"]
[8718528024966,"Artikel",8718528024966,"STUKS","WK043, 880x2015x38, bwh 349","FSC® cert. Hardwood","V:RAL7035,vent.sl.,isogl.,solid/FJ,FSC Mix 70% CU-COC 800339","DEUR","BALKON","BALKON","BS","043","","","Inventory","FSCHW",true,"","RAL 7035",2015,880,38,"",false,false,false,393.39,476,{"$f":"ROUND(AA89*(1-VLOOKUP(AF89,Discount[],3,0)),2)","v":393.39},null,18150,"E065"]
[8718528024973,"Artikel",8718528024973,"STUKS","WK043, 880x2115x38, bwh 349","FSC® cert. Hardwood","V:RAL7035,vent.sl.,isogl.,solid/FJ,FSC Mix 70% CU-COC 800339","DEUR","BALKON","BALKON","BS","043","","","Inventory","FSCHW",true,"","RAL 7035",2115,880,38,"",false,false,false,393.39,476,{"$f":"ROUND(AA90*(1-VLOOKUP(AF90,Discount[],3,0)),2)","v":393.39},null,18150,"E065"]
[8718528024980,"Artikel",8718528024980,"STUKS","WK043, 930x2015x38, bwh 349","FSC® cert. Hardwood","V:RAL7035,vent.sl.,isogl.,solid/FJ,FSC Mix 70% CU-COC 800339","DEUR","BALKON","BALKON","BS","043","","","Inventory","FSCHW",true,"","RAL 7035",2015,930,38,"",false,false,false,393.39,476,{"$f":"ROUND(AA91*(1-VLOOKUP(AF91,Discount[],3,0)),2)","v":393.39},null,18150,"E065"]
[8718528024997,"Artikel",8718528024997,"STUKS","WK043, 930x2115x38, bwh 349","FSC® cert. Hardwood","V:RAL7035,vent.sl.,isogl.,solid/FJ,FSC Mix 70% CU-COC 800339","DEUR","BALKON","BALKON","BS","043","","","Inventory","FSCHW",true,"","RAL 7035",2115,930,38,"",false,false,false,393.39,476,{"$f":"ROUND(AA92*(1-VLOOKUP(AF92,Discount[],3,0)),2)","v":393.39},null,18150,"E065"]
[8718528219973,"Artikel",8718528219973,"STUKS","WK043, 830x2115x38, bwh 349","FSC® cert. Hardwood NON-KOMO","V:RAL7035,vent.sl.,isogl.,solid/FJ,FSC Mix 70% CU-COC 800339","DEUR","BALKON","BALKON","BS","043","","","Inventory","FSCHW",true,"","RAL 7035",2115,830,38,"",false,false,false,393.39,476,{"$f":"ROUND(AA93*(1-VLOOKUP(AF93,Discount[],3,0)),2)","v":393.39},null,18150,"E065"]
[8718528219980,"Artikel",8718528219980,"STUKS","WK043, 880x2115x38, bwh 349","FSC® cert. Hardwood NON-KOMO","V:RAL7035,vent.sl.,isogl.,solid/FJ,FSC Mix 70% CU-COC 800339","DEUR","BALKON","BALKON","BS","043","","","Inventory","FSCHW",true,"","RAL 7035",2115,880,38,"",false,false,false,393.39,476,{"$f":"ROUND(AA94*(1-VLOOKUP(AF94,Discount[],3,0)),2)","v":393.39},null,18150,"E065"]
[8718528220665,"Artikel",8718528220665,"STUKS","WK043, 880x2015x38, bwh 349","FSC® cert. Hardwood NON-KOMO","V:RAL7035,vent.sl.,isogl.,solid/FJ,FSC Mix 70% CU-COC 800339","DEUR","BALKON","BALKON","BS","043","","","Inventory","FSCHW",true,"","RAL 7035",2015,880,38,"",false,false,false,393.39,476,{"$f":"ROUND(AA95*(1-VLOOKUP(AF95,Discount[],3,0)),2)","v":393.39},null,18150,"E065"]
[8718528220672,"Artikel",8718528220672,"STUKS","WK043, 930x2015x38, bwh 349","FSC® cert. Hardwood NON-KOMO","V:RAL7035,vent.sl.,isogl.,solid/FJ,FSC Mix 70% CU-COC 800339","DEUR","BALKON","BALKON","BS","043","","","Inventory","FSCHW",true,"","RAL 7035",2015,930,38,"",false,false,false,393.39,476,{"$f":"ROUND(AA96*(1-VLOOKUP(AF96,Discount[],3,0)),2)","v":393.39},null,18150,"E065"]
[8718528025031,"Artikel",8718528025031,"STUKS","WK044, 830x2015x38, bwh 454","FSC® cert. Hardwood","V:RAL7035,vent.sl.,isogl.,solid/FJ,FSC Mix 70% CU-COC 800339","DEUR","BALKON","BALKON","BS","044","","","Inventory","FSCHW",true,"","RAL 7035",2015,830,38,"",false,false,false,412.39,499,{"$f":"ROUND(AA97*(1-VLOOKUP(AF97,Discount[],3,0)),2)","v":412.39},null,18160,"E065"]
[8718528025048,"Artikel",8718528025048,"STUKS","WK044, 830x2115x38, bwh 454","FSC® cert. Hardwood","V:RAL7035,vent.sl.,isogl.,solid/FJ,FSC Mix 70% CU-COC 800339","DEUR","BALKON","BALKON","BS","044","","","Inventory","FSCHW",true,"","RAL 7035",2115,830,38,"",false,false,false,412.39,499,{"$f":"ROUND(AA98*(1-VLOOKUP(AF98,Discount[],3,0)),2)","v":412.39},null,18160,"E065"]
[8718528025055,"Artikel",8718528025055,"STUKS","WK044, 880x2015x38, bwh 454","FSC® cert. Hardwood","V:RAL7035,vent.sl.,isogl.,solid/FJ,FSC Mix 70% CU-COC 800339","DEUR","BALKON","BALKON","BS","044","","","Inventory","FSCHW",true,"","RAL 7035",2015,880,38,"",false,false,false,412.39,499,{"$f":"ROUND(AA99*(1-VLOOKUP(AF99,Discount[],3,0)),2)","v":412.39},null,18160,"E065"]
[8718528025062,"Artikel",8718528025062,"STUKS","WK044, 880x2115x38, bwh 454","FSC® cert. Hardwood","V:RAL7035,vent.sl.,isogl.,solid/FJ,FSC Mix 70% CU-COC 800339","DEUR","BALKON","BALKON","BS","044","","","Inventory","FSCHW",true,"","RAL 7035",2115,880,38,"",false,false,false,412.39,499,{"$f":"ROUND(AA100*(1-VLOOKUP(AF100,Discount[],3,0)),2)","v":412.39},null,18160,"E065"]
[8718528025079,"Artikel",8718528025079,"STUKS","WK044, 930x2015x38, bwh 454","FSC® cert. Hardwood","V:RAL7035,vent.sl.,isogl.,solid/FJ,FSC Mix 70% CU-COC 800339","DEUR","BALKON","BALKON","BS","044","","","Inventory","FSCHW",true,"","RAL 7035",2015,930,38,"",false,false,false,412.39,499,{"$f":"ROUND(AA101*(1-VLOOKUP(AF101,Discount[],3,0)),2)","v":412.39},null,18160,"E065"]
[8718528025086,"Artikel",8718528025086,"STUKS","WK044, 930x2115x38, bwh 454","FSC® cert. Hardwood","V:RAL7035,vent.sl.,isogl.,solid/FJ,FSC Mix 70% CU-COC 800339","DEUR","BALKON","BALKON","BS","044","","","Inventory","FSCHW",true,"","RAL 7035",2115,930,38,"",false,false,false,412.39,499,{"$f":"ROUND(AA102*(1-VLOOKUP(AF102,Discount[],3,0)),2)","v":412.39},null,18160,"E065"]
[8718528220726,"Artikel",8718528220726,"STUKS","WK044, 880x2115x38, bwh 454","FSC® cert. Hardwood NON-KOMO","V:RAL7035,vent.sl.,isogl.,solid/FJ,FSC Mix 70% CU-COC 800339","DEUR","BALKON","BALKON","BS","044","","","Inventory","FSCHW",true,"","RAL 7035",2115,880,38,"",false,false,false,412.39,499,{"$f":"ROUND(AA103*(1-VLOOKUP(AF103,Discount[],3,0)),2)","v":412.39},null,18160,"E065"]
[8718528025123,"Artikel",8718528025123,"STUKS","WK046, 830x2015x38, bwh 664","FSC® cert. Hardwood","V:RAL7035,vent.sl.,isogl.,solid/FJ,FSC Mix 70% CU-COC 800339","DEUR","BALKON","BALKON","BS","046","","","Inventory","FSCHW",true,"","RAL 7035",2015,830,38,"",false,false,false,450.41,545,{"$f":"ROUND(AA104*(1-VLOOKUP(AF104,Discount[],3,0)),2)","v":450.41},null,18170,"E065"]
[8718528025130,"Artikel",8718528025130,"STUKS","WK046, 830x2115x38, bwh 664","FSC® cert. Hardwood","V:RAL7035,vent.sl.,isogl.,solid/FJ,FSC Mix 70% CU-COC 800339","DEUR","BALKON","BALKON","BS","046","","","Inventory","FSCHW",true,"","RAL 7035",2115,830,38,"",false,false,false,450.41,545,{"$f":"ROUND(AA105*(1-VLOOKUP(AF105,Discount[],3,0)),2)","v":450.41},null,18170,"E065"]
[8718528025147,"Artikel",8718528025147,"STUKS","WK046, 880x2015x38, bwh 664","FSC® cert. Hardwood","V:RAL7035,vent.sl.,isogl.,solid/FJ,FSC Mix 70% CU-COC 800339","DEUR","BALKON","BALKON","BS","046","","","Inventory","FSCHW",true,"","RAL 7035",2015,880,38,"",false,false,false,450.41,545,{"$f":"ROUND(AA106*(1-VLOOKUP(AF106,Discount[],3,0)),2)","v":450.41},null,18170,"E065"]
[8718528025154,"Artikel",8718528025154,"STUKS","WK046, 880x2115x38, bwh 664","FSC® cert. Hardwood","V:RAL7035,vent.sl.,isogl.,solid/FJ,FSC Mix 70% CU-COC 800339","DEUR","BALKON","BALKON","BS","046","","","Inventory","FSCHW",true,"","RAL 7035",2115,880,38,"",false,false,false,450.41,545,{"$f":"ROUND(AA107*(1-VLOOKUP(AF107,Discount[],3,0)),2)","v":450.41},null,18170,"E065"]
[8718528025161,"Artikel",8718528025161,"STUKS","WK046, 930x2015x38, bwh 664","FSC® cert. Hardwood","V:RAL7035,vent.sl.,isogl.,solid/FJ,FSC Mix 70% CU-COC 800339","DEUR","BALKON","BALKON","BS","046","","","Inventory","FSCHW",true,"","RAL 7035",2015,930,38,"",false,false,false,450.41,545,{"$f":"ROUND(AA108*(1-VLOOKUP(AF108,Discount[],3,0)),2)","v":450.41},null,18170,"E065"]
[8718528025178,"Artikel",8718528025178,"STUKS","WK046, 930x2115x38, bwh 664","FSC® cert. Hardwood","V:RAL7035,vent.sl.,isogl.,solid/FJ,FSC Mix 70% CU-COC 800339","DEUR","BALKON","BALKON","BS","046","","","Inventory","FSCHW",true,"","RAL 7035",2115,930,38,"",false,false,false,450.41,545,{"$f":"ROUND(AA109*(1-VLOOKUP(AF109,Discount[],3,0)),2)","v":450.41},null,18170,"E065"]
[8718528220771,"Artikel",8718528220771,"STUKS","WK046, 880x2115x38, bwh 664","FSC® cert. Hardwood NON-KOMO","V:RAL7035,vent.sl.,isogl.,solid/FJ,FSC Mix 70% CU-COC 800339","DEUR","BALKON","BALKON","BS","046","","","Inventory","FSCHW",true,"","RAL 7035",2115,880,38,"",false,false,false,450.41,545,{"$f":"ROUND(AA110*(1-VLOOKUP(AF110,Discount[],3,0)),2)","v":450.41},null,18170,"E065"]
[8718528025208,"Artikel",8718528025208,"STUKS","WK048, 830x2015x38, bwh 874","FSC® cert. Hardwood","V:RAL7035,vent.sl.,isogl.,solid/FJ,FSC Mix 70% CU-COC 800339","DEUR","BALKON","BALKON","BS","048","","","Inventory","FSCHW",true,"","RAL 7035",2015,830,38,"",false,false,false,486.77,589,{"$f":"ROUND(AA111*(1-VLOOKUP(AF111,Discount[],3,0)),2)","v":486.77},null,18180,"E065"]
[8718528025215,"Artikel",8718528025215,"STUKS","WK048, 830x2115x38, bwh 874","FSC® cert. Hardwood","V:RAL7035,vent.sl.,isogl.,solid/FJ,FSC Mix 70% CU-COC 800339","DEUR","BALKON","BALKON","BS","048","","","Inventory","FSCHW",true,"","RAL 7035",2115,830,38,"",false,false,false,486.77,589,{"$f":"ROUND(AA112*(1-VLOOKUP(AF112,Discount[],3,0)),2)","v":486.77},null,18180,"E065"]
[8718528025222,"Artikel",8718528025222,"STUKS","WK048, 880x2015x38, bwh 874","FSC® cert. Hardwood","V:RAL7035,vent.sl.,isogl.,solid/FJ,FSC Mix 70% CU-COC 800339","DEUR","BALKON","BALKON","BS","048","","","Inventory","FSCHW",true,"","RAL 7035",2015,880,38,"",false,false,false,486.77,589,{"$f":"ROUND(AA113*(1-VLOOKUP(AF113,Discount[],3,0)),2)","v":486.77},null,18180,"E065"]
[8718528025239,"Artikel",8718528025239,"STUKS","WK048, 880x2115x38, bwh 874","FSC® cert. Hardwood","V:RAL7035,vent.sl.,isogl.,solid/FJ,FSC Mix 70% CU-COC 800339","DEUR","BALKON","BALKON","BS","048","","","Inventory","FSCHW",true,"","RAL 7035",2115,880,38,"",false,false,false,486.77,589,{"$f":"ROUND(AA114*(1-VLOOKUP(AF114,Discount[],3,0)),2)","v":486.77},null,18180,"E065"]
[8718528025246,"Artikel",8718528025246,"STUKS","WK048, 930x2015x38, bwh 874","FSC® cert. Hardwood","V:RAL7035,vent.sl.,isogl.,solid/FJ,FSC Mix 70% CU-COC 800339","DEUR","BALKON","BALKON","BS","048","","","Inventory","FSCHW",true,"","RAL 7035",2015,930,38,"",false,false,false,486.77,589,{"$f":"ROUND(AA115*(1-VLOOKUP(AF115,Discount[],3,0)),2)","v":486.77},null,18180,"E065"]
[8718528025253,"Artikel",8718528025253,"STUKS","WK048, 930x2115x38, bwh 874","FSC® cert. Hardwood","V:RAL7035,vent.sl.,isogl.,solid/FJ,FSC Mix 70% CU-COC 800339","DEUR","BALKON","BALKON","BS","048","","","Inventory","FSCHW",true,"","RAL 7035",2115,930,38,"",false,false,false,486.77,589,{"$f":"ROUND(AA116*(1-VLOOKUP(AF116,Discount[],3,0)),2)","v":486.77},null,18180,"E065"]
[8718528220832,"Artikel",8718528220832,"STUKS","WK048, 930x2015x38, bwh 874","FSC® cert. Hardwood NON-KOMO","V:RAL7035,vent.sl.,isogl.,solid/FJ,FSC Mix 70% CU-COC 800339","DEUR","BALKON","BALKON","BS","048","","","Inventory","FSCHW",true,"","RAL 7035",2015,930,38,"",false,false,false,486.77,589,{"$f":"ROUND(AA117*(1-VLOOKUP(AF117,Discount[],3,0)),2)","v":486.77},null,18180,"E065"]
[8718528219850,"Artikel",8718528219850,"STUKS","WK042XL, 930x2340x38, bwh 269","PEFC-CS PHW, NON-KOMO","V:RAL9010, vent.sl., isogl., solid/FJ","DEUR","BALKON","BALKON","BS","042","","","Inventory","PHW",false,"","RAL 9010",2340,930,38,"",true,false,false,445.45,539,{"$f":"ROUND(AA118*(1-VLOOKUP(AF118,Discount[],3,0)),2)","v":445.45},null,18240,"E055"]
[8718528220375,"Artikel",8718528220375,"STUKS","WK042XL, 830x2340x38, bwh 269","PEFC-CS PHW, NON-KOMO","V:RAL9010, vent.sl., isogl., solid/FJ","DEUR","BALKON","BALKON","BS","042","","","Inventory","PHW",false,"","RAL 9010",2340,830,38,"",true,false,false,445.45,539,{"$f":"ROUND(AA119*(1-VLOOKUP(AF119,Discount[],3,0)),2)","v":445.45},null,18240,"E055"]
[8718528022849,"Artikel",8718528022849,"STUKS","WK043XL, 830x2340x38, bwh 374","PEFC-CS PHW","V:RAL9010, vent.sl., isogl., solid/FJ","DEUR","BALKON","BALKON","BS","043","","","Inventory","PHW",false,"","RAL 9010",2340,830,38,"",true,false,false,464.46,562,{"$f":"ROUND(AA120*(1-VLOOKUP(AF120,Discount[],3,0)),2)","v":464.46},null,18250,"E055"]
[8718528023037,"Artikel",8718528023037,"STUKS","WK043XL, 930x2340x38, bwh 374","PEFC-CS PHW","V:RAL9010, vent.sl., isogl., solid/FJ","DEUR","BALKON","BALKON","BS","043","","","Inventory","PHW",false,"","RAL 9010",2340,930,38,"",true,false,false,464.46,562,{"$f":"ROUND(AA121*(1-VLOOKUP(AF121,Discount[],3,0)),2)","v":464.46},null,18250,"E055"]
[8718528220276,"Artikel",8718528220276,"STUKS","WK043XL, 880x2340x38, bwh 374","PEFC-CS PHW, NON-KOMO","V:RAL9010, vent.sl., isogl., solid/FJ","DEUR","BALKON","BALKON","BS","043","","","Inventory","PHW",false,"","RAL 9010",2340,880,38,"",true,false,false,464.46,562,{"$f":"ROUND(AA122*(1-VLOOKUP(AF122,Discount[],3,0)),2)","v":464.46},null,18250,"E055"]
[8718528023945,"Artikel",8718528023945,"STUKS","WK044XL, 830x2340x38, bwh 479","PEFC-CS PHW","V:RAL9010, vent.sl., isogl., solid/FJ","DEUR","BALKON","BALKON","BS","044","","","Inventory","PHW",false,"","RAL 9010",2340,830,38,"",true,false,false,485.95,588,{"$f":"ROUND(AA123*(1-VLOOKUP(AF123,Discount[],3,0)),2)","v":485.95},null,18260,"E055"]
[8718528023952,"Artikel",8718528023952,"STUKS","WK044XL, 880x2340x38, bwh 479","PEFC-CS PHW","V:RAL9010, vent.sl., isogl., solid/FJ","DEUR","BALKON","BALKON","BS","044","","","Inventory","PHW",false,"","RAL 9010",2340,880,38,"",true,false,false,485.95,588,{"$f":"ROUND(AA124*(1-VLOOKUP(AF124,Discount[],3,0)),2)","v":485.95},null,18260,"E055"]
[8718528023990,"Artikel",8718528023990,"STUKS","WK046XL, 880x2340x38, bwh 689","PEFC-CS PHW","V:RAL9010, vent.sl., isogl., solid/FJ","DEUR","BALKON","BALKON","BS","046","","","Inventory","PHW",false,"","RAL 9010",2340,880,38,"",true,false,false,525.62,636,{"$f":"ROUND(AA125*(1-VLOOKUP(AF125,Discount[],3,0)),2)","v":525.62},null,18270,"E055"]
[8718528023471,"Artikel",8718528023471,"STUKS","WK048XL, 880x2340x38, bwh 899","PEFC-CS PHW","V:RAL9010, vent.sl., isogl., solid/FJ","DEUR","BALKON","BALKON","BS","048","","","Inventory","PHW",false,"","RAL 9010",2340,880,38,"",true,false,false,562.81,681,{"$f":"ROUND(AA126*(1-VLOOKUP(AF126,Discount[],3,0)),2)","v":562.81},null,18280,"E055"]
[8718528220245,"Artikel",8718528220245,"STUKS","WK048XL, 930x2340x38, bwh 899","PEFC-CS PHW, NON-KOMO","V:RAL9010, vent.sl., isogl., solid/FJ","DEUR","BALKON","BALKON","BS","048","","","Inventory","PHW",false,"","RAL 9010",2340,930,38,"",true,false,false,562.81,681,{"$f":"ROUND(AA127*(1-VLOOKUP(AF127,Discount[],3,0)),2)","v":562.81},null,18280,"E055"]
[8718528220429,"Artikel",8718528220429,"STUKS","WK048XL, 880x2340x38, bwh 899","PEFC-CS PHW, NON-KOMO","V:RAL9010, vent.sl., isogl., solid/FJ","DEUR","BALKON","BALKON","BS","048","","","Inventory","PHW",false,"","RAL 9010",2340,880,38,"",true,false,false,562.81,681,{"$f":"ROUND(AA128*(1-VLOOKUP(AF128,Discount[],3,0)),2)","v":562.81},null,18280,"E055"]
[8718528025345,"Artikel",8718528025345,"STUKS","WK042XL, 830x2340x38, bwh 269","FSC® cert. Premium Hardwood","V:RAL9010, vent.sl., isogl., FSC Mix 70% CU-COC 800339","DEUR","BALKON","BALKON","BS","042","","","Inventory","FSCPHW",true,"","RAL 9010",2340,830,38,"",true,false,false,500.82,606,{"$f":"ROUND(AA129*(1-VLOOKUP(AF129,Discount[],3,0)),2)","v":500.82},null,18290,"E075"]
[8718528025352,"Artikel",8718528025352,"STUKS","WK042XL, 880x2340x38, bwh 269","FSC® cert. Premium Hardwood","V:RAL9010, vent.sl., isogl., FSC Mix 70% CU-COC 800339","DEUR","BALKON","BALKON","BS","042","","","Inventory","FSCPHW",true,"","RAL 9010",2340,880,38,"",true,false,false,500.82,606,{"$f":"ROUND(AA130*(1-VLOOKUP(AF130,Discount[],3,0)),2)","v":500.82},null,18290,"E075"]
[8718528025369,"Artikel",8718528025369,"STUKS","WK042XL, 930x2340x38, bwh 269","FSC® cert. Premium Hardwood","V:RAL9010, vent.sl., isogl., FSC Mix 70% CU-COC 800339","DEUR","BALKON","BALKON","BS","042","","","Inventory","FSCPHW",true,"","RAL 9010",2340,930,38,"",true,false,false,500.82,606,{"$f":"ROUND(AA131*(1-VLOOKUP(AF131,Discount[],3,0)),2)","v":500.82},null,18290,"E075"]
[8718528024584,"Artikel",8718528024584,"STUKS","WK043XL, 830x2340x38, bwh 374","FSC® cert. Premium Hardwood","V:RAL9010, vent.sl., isogl., FSC Mix 70% CU-COC 800339","DEUR","BALKON","BALKON","BS","043","","","Inventory","FSCPHW",true,"","RAL 9010",2340,830,38,"",true,false,false,523.14,633,{"$f":"ROUND(AA132*(1-VLOOKUP(AF132,Discount[],3,0)),2)","v":523.14},null,18300,"E075"]
[8718528024591,"Artikel",8718528024591,"STUKS","WK043XL, 880x2340x38, bwh 374","FSC® cert. Premium Hardwood","V:RAL9010, vent.sl., isogl., FSC Mix 70% CU-COC 800339","DEUR","BALKON","BALKON","BS","043","","","Inventory","FSCPHW",true,"","RAL 9010",2340,880,38,"",true,false,false,523.14,633,{"$f":"ROUND(AA133*(1-VLOOKUP(AF133,Discount[],3,0)),2)","v":523.14},null,18300,"E075"]
[8718528024607,"Artikel",8718528024607,"STUKS","WK043XL, 930x2340x38, bwh 374","FSC® cert. Premium Hardwood","V:RAL9010, vent.sl., isogl., FSC Mix 70% CU-COC 800339","DEUR","BALKON","BALKON","BS","043","","","Inventory","FSCPHW",true,"","RAL 9010",2340,930,38,"",true,false,false,523.14,633,{"$f":"ROUND(AA134*(1-VLOOKUP(AF134,Discount[],3,0)),2)","v":523.14},null,18300,"E075"]
[8718528025437,"Artikel",8718528025437,"STUKS","WK044XL, 830x2340x38, bwh 479","FSC® cert. Premium Hardwood","V:RAL9010, vent.sl., isogl., FSC Mix 70% CU-COC 800339","DEUR","BALKON","BALKON","BS","044","","","Inventory","FSCPHW",true,"","RAL 9010",2340,830,38,"",true,false,false,547.1,662,{"$f":"ROUND(AA135*(1-VLOOKUP(AF135,Discount[],3,0)),2)","v":547.1},null,18310,"E075"]
[8718528025444,"Artikel",8718528025444,"STUKS","WK044XL, 880x2340x38, bwh 479","FSC® cert. Premium Hardwood","V:RAL9010, vent.sl., isogl., FSC Mix 70% CU-COC 800339","DEUR","BALKON","BALKON","BS","044","","","Inventory","FSCPHW",true,"","RAL 9010",2340,880,38,"",true,false,false,547.1,662,{"$f":"ROUND(AA136*(1-VLOOKUP(AF136,Discount[],3,0)),2)","v":547.1},null,18310,"E075"]
[8718528025451,"Artikel",8718528025451,"STUKS","WK044XL, 930x2340x38, bwh 479","FSC® cert. Premium Hardwood","V:RAL9010, vent.sl., isogl., FSC Mix 70% CU-COC 800339","DEUR","BALKON","BALKON","BS","044","","","Inventory","FSCPHW",true,"","RAL 9010",2340,930,38,"",true,false,false,547.1,662,{"$f":"ROUND(AA137*(1-VLOOKUP(AF137,Discount[],3,0)),2)","v":547.1},null,18310,"E075"]
[8718528024676,"Artikel",8718528024676,"STUKS","WK046XL, 880x2340x38, bwh 689","FSC® cert. Premium Hardwood","V:RAL9010, vent.sl., isogl., FSC Mix 70% CU-COC 800339","DEUR","BALKON","BALKON","BS","046","","","Inventory","FSCPHW",true,"","RAL 9010",2340,880,38,"",true,false,false,592.56,717,{"$f":"ROUND(AA138*(1-VLOOKUP(AF138,Discount[],3,0)),2)","v":592.56},null,18320,"E075"]
[8718528024683,"Artikel",8718528024683,"STUKS","WK046XL, 930x2340x38, bwh 689","FSC® cert. Premium Hardwood","V:RAL9010, vent.sl., isogl., FSC Mix 70% CU-COC 800339","DEUR","BALKON","BALKON","BS","046","","","Inventory","FSCPHW",true,"","RAL 9010",2340,930,38,"",true,false,false,592.56,717,{"$f":"ROUND(AA139*(1-VLOOKUP(AF139,Discount[],3,0)),2)","v":592.56},null,18320,"E075"]
[8718528024751,"Artikel",8718528024751,"STUKS","WK048XL, 880x2340x38, bwh 899","FSC® cert. Premium Hardwood","V:RAL9010, vent.sl., isogl., FSC Mix 70% CU-COC 800339","DEUR","BALKON","BALKON","BS","048","","","Inventory","FSCPHW",true,"","RAL 9010",2340,880,38,"",true,false,false,638.01,772,{"$f":"ROUND(AA140*(1-VLOOKUP(AF140,Discount[],3,0)),2)","v":638.01},null,18330,"E075"]
[8718528024768,"Artikel",8718528024768,"STUKS","WK048XL, 930x2340x38, bwh 899","FSC® cert. Premium Hardwood","V:RAL9010, vent.sl., isogl., FSC Mix 70% CU-COC 800339","DEUR","BALKON","BALKON","BS","048","","","Inventory","FSCPHW",true,"","RAL 9010",2340,930,38,"",true,false,false,638.01,772,{"$f":"ROUND(AA141*(1-VLOOKUP(AF141,Discount[],3,0)),2)","v":638.01},null,18330,"E075"]
[8718528024911,"Artikel",8718528024911,"STUKS","WK042XL, 830x2340x38, bwh 269","FSC® cert. Hardwood","V:RAL7035,vent.sl.,isogl.,solid/FJ,FSC Mix 70% CU-COC 800339","DEUR","BALKON","BALKON","BS","042","","","Inventory","FSCHW",true,"","RAL 7035",2340,830,38,"",true,false,false,419.01,507,{"$f":"ROUND(AA142*(1-VLOOKUP(AF142,Discount[],3,0)),2)","v":419.01},null,18340,"E065"]
[8718528024928,"Artikel",8718528024928,"STUKS","WK042XL, 880x2340x38, bwh 269","FSC® cert. Hardwood","V:RAL7035,vent.sl.,isogl.,solid/FJ,FSC Mix 70% CU-COC 800339","DEUR","BALKON","BALKON","BS","042","","","Inventory","FSCHW",true,"","RAL 7035",2340,880,38,"",true,false,false,419.01,507,{"$f":"ROUND(AA143*(1-VLOOKUP(AF143,Discount[],3,0)),2)","v":419.01},null,18340,"E065"]
[8718528024935,"Artikel",8718528024935,"STUKS","WK042XL, 930x2340x38, bwh 269","FSC® cert. Hardwood","V:RAL7035,vent.sl.,isogl.,solid/FJ,FSC Mix 70% CU-COC 800339","DEUR","BALKON","BALKON","BS","042","","","Inventory","FSCHW",true,"","RAL 7035",2340,930,38,"",true,false,false,419.01,507,{"$f":"ROUND(AA144*(1-VLOOKUP(AF144,Discount[],3,0)),2)","v":419.01},null,18340,"E065"]
[8718528025000,"Artikel",8718528025000,"STUKS","WK043XL, 830x2340x38, bwh 374","FSC® cert. Hardwood","V:RAL7035,vent.sl.,isogl.,solid/FJ,FSC Mix 70% CU-COC 800339","DEUR","BALKON","BALKON","BS","043","","","Inventory","FSCHW",true,"","RAL 7035",2340,830,38,"",true,false,false,436.36,528,{"$f":"ROUND(AA145*(1-VLOOKUP(AF145,Discount[],3,0)),2)","v":436.36},null,18350,"E065"]
[8718528025017,"Artikel",8718528025017,"STUKS","WK043XL, 880x2340x38, bwh 374","FSC® cert. Hardwood","V:RAL7035,vent.sl.,isogl.,solid/FJ,FSC Mix 70% CU-COC 800339","DEUR","BALKON","BALKON","BS","043","","","Inventory","FSCHW",true,"","RAL 7035",2340,880,38,"",true,false,false,436.36,528,{"$f":"ROUND(AA146*(1-VLOOKUP(AF146,Discount[],3,0)),2)","v":436.36},null,18350,"E065"]
[8718528025024,"Artikel",8718528025024,"STUKS","WK043XL, 930x2340x38, bwh 374","FSC® cert. Hardwood","V:RAL7035,vent.sl.,isogl.,solid/FJ,FSC Mix 70% CU-COC 800339","DEUR","BALKON","BALKON","BS","043","","","Inventory","FSCHW",true,"","RAL 7035",2340,930,38,"",true,false,false,436.36,528,{"$f":"ROUND(AA147*(1-VLOOKUP(AF147,Discount[],3,0)),2)","v":436.36},null,18350,"E065"]
[8718528025093,"Artikel",8718528025093,"STUKS","WK044XL, 830x2340x38, bwh 479","FSC® cert. Hardwood","V:RAL7035,vent.sl.,isogl.,solid/FJ,FSC Mix 70% CU-COC 800339","DEUR","BALKON","BALKON","BS","044","","","Inventory","FSCHW",true,"","RAL 7035",2340,830,38,"",true,false,false,455.37,551,{"$f":"ROUND(AA148*(1-VLOOKUP(AF148,Discount[],3,0)),2)","v":455.37},null,18360,"E065"]
[8718528025109,"Artikel",8718528025109,"STUKS","WK044XL, 880x2340x38, bwh 479","FSC® cert. Hardwood","V:RAL7035,vent.sl.,isogl.,solid/FJ,FSC Mix 70% CU-COC 800339","DEUR","BALKON","BALKON","BS","044","","","Inventory","FSCHW",true,"","RAL 7035",2340,880,38,"",true,false,false,455.37,551,{"$f":"ROUND(AA149*(1-VLOOKUP(AF149,Discount[],3,0)),2)","v":455.37},null,18360,"E065"]
[8718528025116,"Artikel",8718528025116,"STUKS","WK044XL, 930x2340x38, bwh 479","FSC® cert. Hardwood","V:RAL7035,vent.sl.,isogl.,solid/FJ,FSC Mix 70% CU-COC 800339","DEUR","BALKON","BALKON","BS","044","","","Inventory","FSCHW",true,"","RAL 7035",2340,930,38,"",true,false,false,455.37,551,{"$f":"ROUND(AA150*(1-VLOOKUP(AF150,Discount[],3,0)),2)","v":455.37},null,18360,"E065"]
[8718528025185,"Artikel",8718528025185,"STUKS","WK046XL, 880x2340x38, bwh 689","FSC® cert. Hardwood","V:RAL7035,vent.sl.,isogl.,solid/FJ,FSC Mix 70% CU-COC 800339","DEUR","BALKON","BALKON","BS","046","","","Inventory","FSCHW",true,"","RAL 7035",2340,880,38,"",true,false,false,494.21,598,{"$f":"ROUND(AA151*(1-VLOOKUP(AF151,Discount[],3,0)),2)","v":494.21},null,18370,"E065"]
[8718528025192,"Artikel",8718528025192,"STUKS","WK046XL, 930x2340x38, bwh 689","FSC® cert. Hardwood","V:RAL7035,vent.sl.,isogl.,solid/FJ,FSC Mix 70% CU-COC 800339","DEUR","BALKON","BALKON","BS","046","","","Inventory","FSCHW",true,"","RAL 7035",2340,930,38,"",true,false,false,494.21,598,{"$f":"ROUND(AA152*(1-VLOOKUP(AF152,Discount[],3,0)),2)","v":494.21},null,18370,"E065"]
[8718528025260,"Artikel",8718528025260,"STUKS","WK048XL, 880x2340x38, bwh 899","FSC® cert. Hardwood","V:RAL7035,vent.sl.,isogl.,solid/FJ,FSC Mix 70% CU-COC 800339","DEUR","BALKON","BALKON","BS","048","","","Inventory","FSCHW",true,"","RAL 7035",2340,880,38,"",true,false,false,533.06,645,{"$f":"ROUND(AA153*(1-VLOOKUP(AF153,Discount[],3,0)),2)","v":533.06},null,18380,"E065"]
[8718528025277,"Artikel",8718528025277,"STUKS","WK048XL, 930x2340x38, bwh 899","FSC® cert. Hardwood","V:RAL7035,vent.sl.,isogl.,solid/FJ,FSC Mix 70% CU-COC 800339","DEUR","BALKON","BALKON","BS","048","","","Inventory","FSCHW",true,"","RAL 7035",2340,930,38,"",true,false,false,533.06,645,{"$f":"ROUND(AA154*(1-VLOOKUP(AF154,Discount[],3,0)),2)","v":533.06},null,18380,"E065"]
[8718528220849,"Artikel",8718528220849,"STUKS","WK048XL, 930x2340x38, bwh 899","FSC® cert. Hardwood NON-KOMO","V:RAL7035,vent.sl.,isogl.,solid/FJ,FSC Mix 70% CU-COC 800339","DEUR","BALKON","BALKON","BS","048","","","Inventory","FSCHW",true,"","RAL 7035",2340,930,38,"",true,false,false,533.06,645,{"$f":"ROUND(AA155*(1-VLOOKUP(AF155,Discount[],3,0)),2)","v":533.06},null,18380,"E065"]
[8718528028926,"Artikel",8718528028926,"STUKS","HR++ Top i+ 33.1*-13-4 gehard","Argon u=1,2 WK 042 780x2015","","GLAS","","BALKON","BS","042","BLANK","ISO VEILIGHEIDSGLAS","Inventory","",false,"","",0,0,0,"",false,false,false,242.98,294,{"$f":"ROUND(AA156*(1-VLOOKUP(AF156,Discount[],3,0)),2)","v":242.98},null,19430,"P104"]
[8718528028933,"Artikel",8718528028933,"STUKS","HR++ Top i+ 33.1*-13-4 gehard","Argon u=1,2 WK 042 780x2115","","GLAS","","BALKON","BS","042","BLANK","ISO VEILIGHEIDSGLAS","Inventory","",false,"","",0,0,0,"",false,false,false,242.98,294,{"$f":"ROUND(AA157*(1-VLOOKUP(AF157,Discount[],3,0)),2)","v":242.98},null,19430,"P104"]
[8718528028940,"Artikel",8718528028940,"STUKS","HR++ Top i+ 33.1*-13-4 gehard","Argon u=1,2 WK 042 830x2015","","GLAS","","BALKON","BS","042","BLANK","ISO VEILIGHEIDSGLAS","Inventory","",false,"","",0,0,0,"",false,false,false,242.98,294,{"$f":"ROUND(AA158*(1-VLOOKUP(AF158,Discount[],3,0)),2)","v":242.98},null,19430,"P104"]
[8718528028957,"Artikel",8718528028957,"STUKS","HR++ Top i+ 33.1*-13-4 gehard","Argon u=1,2 WK 042 830x2115","","GLAS","","BALKON","BS","042","BLANK","ISO VEILIGHEIDSGLAS","Inventory","",false,"","",0,0,0,"",false,false,false,242.98,294,{"$f":"ROUND(AA159*(1-VLOOKUP(AF159,Discount[],3,0)),2)","v":242.98},null,19430,"P104"]
[8718528028964,"Artikel",8718528028964,"STUKS","HR++ Top i+ 33.1*-13-4 gehard","Argon u=1,2 WK 042 880x2015","","GLAS","","BALKON","BS","042","BLANK","ISO VEILIGHEIDSGLAS","Inventory","",false,"","",0,0,0,"",false,false,false,242.98,294,{"$f":"ROUND(AA160*(1-VLOOKUP(AF160,Discount[],3,0)),2)","v":242.98},null,19430,"P104"]
[8718528028971,"Artikel",8718528028971,"STUKS","HR++ Top i+ 33.1*-13-4 gehard","Argon u=1,2 WK 042 880x2115","","GLAS","","BALKON","BS","042","BLANK","ISO VEILIGHEIDSGLAS","Inventory","",false,"","",0,0,0,"",false,false,false,242.98,294,{"$f":"ROUND(AA161*(1-VLOOKUP(AF161,Discount[],3,0)),2)","v":242.98},null,19430,"P104"]
[8718528028988,"Artikel",8718528028988,"STUKS","HR++ Top i+ 33.1*-13-4 gehard","Argon u=1,2 WK 042 930x2015","","GLAS","","BALKON","BS","042","BLANK","ISO VEILIGHEIDSGLAS","Inventory","",false,"","",0,0,0,"",false,false,false,242.98,294,{"$f":"ROUND(AA162*(1-VLOOKUP(AF162,Discount[],3,0)),2)","v":242.98},null,19430,"P104"]
[8718528028995,"Artikel",8718528028995,"STUKS","HR++ Top i+ 33.1*-13-4 gehard","Argon u=1,2 WK 042 930x2115","","GLAS","","BALKON","BS","042","BLANK","ISO VEILIGHEIDSGLAS","Inventory","",false,"","",0,0,0,"",false,false,false,242.98,294,{"$f":"ROUND(AA163*(1-VLOOKUP(AF163,Discount[],3,0)),2)","v":242.98},null,19430,"P104"]
[8718528157466,"Artikel",8718528157466,"STUKS","HR++ Top i+ 33.1*-13-4 gehard","Argon u=1,2 WK 042 630x2015","","GLAS","","BALKON","BS","042","BLANK","ISO VEILIGHEIDSGLAS","Inventory","",false,"","",0,0,0,"",false,false,false,242.98,294,{"$f":"ROUND(AA164*(1-VLOOKUP(AF164,Discount[],3,0)),2)","v":242.98},null,19430,"P104"]
[8718528157473,"Artikel",8718528157473,"STUKS","HR++ Top i+ 33.1*-13-4 gehard","Argon u=1,2 WK 042 630x2115","","GLAS","","BALKON","BS","042","BLANK","ISO VEILIGHEIDSGLAS","Inventory","",false,"","",0,0,0,"",false,false,false,242.98,294,{"$f":"ROUND(AA165*(1-VLOOKUP(AF165,Discount[],3,0)),2)","v":242.98},null,19430,"P104"]
[8718528157480,"Artikel",8718528157480,"STUKS","HR++ Top i+ 33.1*-13-4 gehard","Argon u=1,2 WK 042 680x2015","","GLAS","","BALKON","BS","042","BLANK","ISO VEILIGHEIDSGLAS","Inventory","",false,"","",0,0,0,"",false,false,false,242.98,294,{"$f":"ROUND(AA166*(1-VLOOKUP(AF166,Discount[],3,0)),2)","v":242.98},null,19430,"P104"]
[8718528157497,"Artikel",8718528157497,"STUKS","HR++ Top i+ 33.1*-13-4 gehard","Argon u=1,2 WK 042 680x2115","","GLAS","","BALKON","BS","042","BLANK","ISO VEILIGHEIDSGLAS","Inventory","",false,"","",0,0,0,"",false,false,false,242.98,294,{"$f":"ROUND(AA167*(1-VLOOKUP(AF167,Discount[],3,0)),2)","v":242.98},null,19430,"P104"]
[8718528157503,"Artikel",8718528157503,"STUKS","HR++ Top i+ 33.1*-13-4 gehard","Argon u=1,2 WK 042 730x2015","","GLAS","","BALKON","BS","042","BLANK","ISO VEILIGHEIDSGLAS","Inventory","",false,"","",0,0,0,"",false,false,false,242.98,294,{"$f":"ROUND(AA168*(1-VLOOKUP(AF168,Discount[],3,0)),2)","v":242.98},null,19430,"P104"]
[8718528157510,"Artikel",8718528157510,"STUKS","HR++ Top i+ 33.1*-13-4 gehard","Argon u=1,2 WK 042 730x2115","","GLAS","","BALKON","BS","042","BLANK","ISO VEILIGHEIDSGLAS","Inventory","",false,"","",0,0,0,"",false,false,false,242.98,294,{"$f":"ROUND(AA169*(1-VLOOKUP(AF169,Discount[],3,0)),2)","v":242.98},null,19430,"P104"]
[8718528029039,"Artikel",8718528029039,"STUKS","HR++ Top i+ 33.1*-13-4 gehard","Argon u=1,2 WK 043 730x2015","","GLAS","","BALKON","BS","043","BLANK","ISO VEILIGHEIDSGLAS","Inventory","",false,"","",0,0,0,"",false,false,false,234.71,284,{"$f":"ROUND(AA170*(1-VLOOKUP(AF170,Discount[],3,0)),2)","v":234.71},null,19440,"P104"]
[8718528029046,"Artikel",8718528029046,"STUKS","HR++ Top i+ 33.1*-13-4 gehard","Argon u=1,2 WK 043 730x2115","","GLAS","","BALKON","BS","043","BLANK","ISO VEILIGHEIDSGLAS","Inventory","",false,"","",0,0,0,"",false,false,false,234.71,284,{"$f":"ROUND(AA171*(1-VLOOKUP(AF171,Discount[],3,0)),2)","v":234.71},null,19440,"P104"]
[8718528029053,"Artikel",8718528029053,"STUKS","HR++ Top i+ 33.1*-13-4 gehard","Argon u=1,2 WK 043 780x2015","","GLAS","","BALKON","BS","043","BLANK","ISO VEILIGHEIDSGLAS","Inventory","",false,"","",0,0,0,"",false,false,false,234.71,284,{"$f":"ROUND(AA172*(1-VLOOKUP(AF172,Discount[],3,0)),2)","v":234.71},null,19440,"P104"]
[8718528029060,"Artikel",8718528029060,"STUKS","HR++ Top i+ 33.1*-13-4 gehard","Argon u=1,2 WK 043 780x2115","","GLAS","","BALKON","BS","043","BLANK","ISO VEILIGHEIDSGLAS","Inventory","",false,"","",0,0,0,"",false,false,false,234.71,284,{"$f":"ROUND(AA173*(1-VLOOKUP(AF173,Discount[],3,0)),2)","v":234.71},null,19440,"P104"]
[8718528029077,"Artikel",8718528029077,"STUKS","HR++ Top i+ 33.1*-13-4 gehard","Argon u=1,2 WK 043 830x2015","","GLAS","","BALKON","BS","043","BLANK","ISO VEILIGHEIDSGLAS","Inventory","",false,"","",0,0,0,"",false,false,false,234.71,284,{"$f":"ROUND(AA174*(1-VLOOKUP(AF174,Discount[],3,0)),2)","v":234.71},null,19440,"P104"]
[8718528029084,"Artikel",8718528029084,"STUKS","HR++ Top i+ 33.1*-13-4 gehard","Argon u=1,2 WK 043 830x2115","","GLAS","","BALKON","BS","043","BLANK","ISO VEILIGHEIDSGLAS","Inventory","",false,"","",0,0,0,"",false,false,false,234.71,284,{"$f":"ROUND(AA175*(1-VLOOKUP(AF175,Discount[],3,0)),2)","v":234.71},null,19440,"P104"]
[8718528029091,"Artikel",8718528029091,"STUKS","HR++ Top i+ 33.1*-13-4 gehard","Argon u=1,2 WK 043 880x2015","","GLAS","","BALKON","BS","043","BLANK","ISO VEILIGHEIDSGLAS","Inventory","",false,"","",0,0,0,"",false,false,false,234.71,284,{"$f":"ROUND(AA176*(1-VLOOKUP(AF176,Discount[],3,0)),2)","v":234.71},null,19440,"P104"]
[8718528029107,"Artikel",8718528029107,"STUKS","HR++ Top i+ 33.1*-13-4 gehard","Argon u=1,2 WK 043 880x2115","","GLAS","","BALKON","BS","043","BLANK","ISO VEILIGHEIDSGLAS","Inventory","",false,"","",0,0,0,"",false,false,false,234.71,284,{"$f":"ROUND(AA177*(1-VLOOKUP(AF177,Discount[],3,0)),2)","v":234.71},null,19440,"P104"]
[8718528029114,"Artikel",8718528029114,"STUKS","HR++ Top i+ 33.1*-13-4 gehard","Argon u=1,2 WK 043 930x2015","","GLAS","","BALKON","BS","043","BLANK","ISO VEILIGHEIDSGLAS","Inventory","",false,"","",0,0,0,"",false,false,false,234.71,284,{"$f":"ROUND(AA178*(1-VLOOKUP(AF178,Discount[],3,0)),2)","v":234.71},null,19440,"P104"]
[8718528029121,"Artikel",8718528029121,"STUKS","HR++ Top i+ 33.1*-13-4 gehard","Argon u=1,2 WK 043 930x2115","","GLAS","","BALKON","BS","044","BLANK","ISO VEILIGHEIDSGLAS","Inventory","",false,"","",0,0,0,"",false,false,false,224.79,272,{"$f":"ROUND(AA179*(1-VLOOKUP(AF179,Discount[],3,0)),2)","v":224.79},null,19450,"P104"]
[8718528029169,"Artikel",8718528029169,"STUKS","HR++ Top i+ 33.1*-13-4 gehard","Argon u=1,2 WK 044 780x2015","","GLAS","","BALKON","BS","044","BLANK","ISO VEILIGHEIDSGLAS","Inventory","",false,"","",0,0,0,"",false,false,false,224.79,272,{"$f":"ROUND(AA180*(1-VLOOKUP(AF180,Discount[],3,0)),2)","v":224.79},null,19450,"P104"]
[8718528029176,"Artikel",8718528029176,"STUKS","HR++ Top i+ 33.1*-13-4 gehard","Argon u=1,2 WK 044 780x2115","","GLAS","","BALKON","BS","044","BLANK","ISO VEILIGHEIDSGLAS","Inventory","",false,"","",0,0,0,"",false,false,false,224.79,272,{"$f":"ROUND(AA181*(1-VLOOKUP(AF181,Discount[],3,0)),2)","v":224.79},null,19450,"P104"]
[8718528029183,"Artikel",8718528029183,"STUKS","HR++ Top i+ 33.1*-13-4 gehard","Argon u=1,2 WK 044 830x2015","","GLAS","","BALKON","BS","044","BLANK","ISO VEILIGHEIDSGLAS","Inventory","",false,"","",0,0,0,"",false,false,false,224.79,272,{"$f":"ROUND(AA182*(1-VLOOKUP(AF182,Discount[],3,0)),2)","v":224.79},null,19450,"P104"]
[8718528029190,"Artikel",8718528029190,"STUKS","HR++ Top i+ 33.1*-13-4 gehard","Argon u=1,2 WK 044 830x2115","","GLAS","","BALKON","BS","044","BLANK","ISO VEILIGHEIDSGLAS","Inventory","",false,"","",0,0,0,"",false,false,false,224.79,272,{"$f":"ROUND(AA183*(1-VLOOKUP(AF183,Discount[],3,0)),2)","v":224.79},null,19450,"P104"]
[8718528029206,"Artikel",8718528029206,"STUKS","HR++ Top i+ 33.1*-13-4 gehard","Argon u=1,2 Wk 044 880x2015","","GLAS","","BALKON","BS","044","BLANK","ISO VEILIGHEIDSGLAS","Inventory","",false,"","",0,0,0,"",false,false,false,224.79,272,{"$f":"ROUND(AA184*(1-VLOOKUP(AF184,Discount[],3,0)),2)","v":224.79},null,19450,"P104"]
[8718528029213,"Artikel",8718528029213,"STUKS","HR++ Top i+ 33.1*-13-4 gehard","Argon u=1,2 880x2115","WK044 / WK8041 / WK8141","GLAS","","BALKON","BS","044","BLANK","ISO VEILIGHEIDSGLAS","Inventory","",false,"","",0,0,0,"",false,false,false,224.79,272,{"$f":"ROUND(AA185*(1-VLOOKUP(AF185,Discount[],3,0)),2)","v":224.79},null,19450,"P104"]
[8718528029220,"Artikel",8718528029220,"STUKS","HR++ Top i+ 33.1*-13-4 gehard","Argon u=1,2 WK 044 930x2015","","GLAS","","BALKON","BS","044","BLANK","ISO VEILIGHEIDSGLAS","Inventory","",false,"","",0,0,0,"",false,false,false,224.79,272,{"$f":"ROUND(AA186*(1-VLOOKUP(AF186,Discount[],3,0)),2)","v":224.79},null,19450,"P104"]
[8718528029237,"Artikel",8718528029237,"STUKS","HR++ Top i+ 33.1*-13-4 gehard","Argon u=1,2 930x2115","WK044 / WK8041 / WK8141","GLAS","","BALKON","BS","044","BLANK","ISO VEILIGHEIDSGLAS","Inventory","",false,"","",0,0,0,"",false,false,false,224.79,272,{"$f":"ROUND(AA187*(1-VLOOKUP(AF187,Discount[],3,0)),2)","v":224.79},null,19450,"P104"]
[8718528029275,"Artikel",8718528029275,"STUKS","HR++ Top i+ 33.1*-13-4 gehard","Argon u=1,2 WK 046 780x2015","","GLAS","","BALKON","BS","046","BLANK","ISO VEILIGHEIDSGLAS","Inventory","",false,"","",0,0,0,"",false,false,false,203.31,246,{"$f":"ROUND(AA188*(1-VLOOKUP(AF188,Discount[],3,0)),2)","v":203.31},null,19460,"P104"]
[8718528029282,"Artikel",8718528029282,"STUKS","HR++ Top i+ 33.1*-13-4 gehard","Argon u=1,2 WK 046 780x2115","","GLAS","","BALKON","BS","046","BLANK","ISO VEILIGHEIDSGLAS","Inventory","",false,"","",0,0,0,"",false,false,false,203.31,246,{"$f":"ROUND(AA189*(1-VLOOKUP(AF189,Discount[],3,0)),2)","v":203.31},null,19460,"P104"]
[8718528029299,"Artikel",8718528029299,"STUKS","HR++ Top i+ 33.1*-13-4 gehard","Argon u=1,2 Wk 046 830x2015","","GLAS","","BALKON","BS","046","BLANK","ISO VEILIGHEIDSGLAS","Inventory","",false,"","",0,0,0,"",false,false,false,203.31,246,{"$f":"ROUND(AA190*(1-VLOOKUP(AF190,Discount[],3,0)),2)","v":203.31},null,19460,"P104"]
[8718528029305,"Artikel",8718528029305,"STUKS","HR++ Top i+ 33.1*-13-4 gehard","Argon u=1,2 WK 046 830x2115","","GLAS","","BALKON","BS","046","BLANK","ISO VEILIGHEIDSGLAS","Inventory","",false,"","",0,0,0,"",false,false,false,203.31,246,{"$f":"ROUND(AA191*(1-VLOOKUP(AF191,Discount[],3,0)),2)","v":203.31},null,19460,"P104"]
[8718528029312,"Artikel",8718528029312,"STUKS","HR++ Top i+ 33.1*-13-4 gehard","Argon u=1,2 WK 046 880x2015","","GLAS","","BALKON","BS","046","BLANK","ISO VEILIGHEIDSGLAS","Inventory","",false,"","",0,0,0,"",false,false,false,203.31,246,{"$f":"ROUND(AA192*(1-VLOOKUP(AF192,Discount[],3,0)),2)","v":203.31},null,19460,"P104"]
[8718528029329,"Artikel",8718528029329,"STUKS","HR++ Top i+ 33.1*-13-4 gehard","Argon u=1,2 880x2115","WK046 / WK8061 / WK8161","GLAS","","BALKON","BS","046","BLANK","ISO VEILIGHEIDSGLAS","Inventory","",false,"","",0,0,0,"",false,false,false,203.31,246,{"$f":"ROUND(AA193*(1-VLOOKUP(AF193,Discount[],3,0)),2)","v":203.31},null,19460,"P104"]
[8718528029336,"Artikel",8718528029336,"STUKS","HR++ Top i+ 33.1*-13-4 gehard","Argon u=1,2 WK 046 930x2015","","GLAS","","BALKON","BS","046","BLANK","ISO VEILIGHEIDSGLAS","Inventory","",false,"","",0,0,0,"",false,false,false,203.31,246,{"$f":"ROUND(AA194*(1-VLOOKUP(AF194,Discount[],3,0)),2)","v":203.31},null,19460,"P104"]
[8718528029343,"Artikel",8718528029343,"STUKS","HR++ Top i+ 33.1*-13-4 gehard","Argon u=1,2 930x2115","WK046 / WK8061 / WK8161","GLAS","","BALKON","BS","046","BLANK","ISO VEILIGHEIDSGLAS","Inventory","",false,"","",0,0,0,"",false,false,false,203.31,246,{"$f":"ROUND(AA195*(1-VLOOKUP(AF195,Discount[],3,0)),2)","v":203.31},null,19460,"P104"]
[8718528029459,"Artikel",8718528029459,"STUKS","HR++ 4-14-*4 Top i+","Argon u=1,2 WK 048 780x2015","","GLAS","","BALKON","BS","048","BLANK","ISOLATIEGLAS","Inventory","",false,"","",0,0,0,"",false,false,false,114.05,138,{"$f":"ROUND(AA196*(1-VLOOKUP(AF196,Discount[],3,0)),2)","v":114.05},null,19470,"P104"]
[8718528029466,"Artikel",8718528029466,"STUKS","HR++ 4-14-*4 Top i+","Argon u=1,2 WK048 780x2115","","GLAS","","BALKON","BS","048","BLANK","ISOLATIEGLAS","Inventory","",false,"","",0,0,0,"",false,false,false,114.05,138,{"$f":"ROUND(AA197*(1-VLOOKUP(AF197,Discount[],3,0)),2)","v":114.05},null,19470,"P104"]
[8718528029473,"Artikel",8718528029473,"STUKS","HR++ 4-14-*4 Top i+","Argon u=1,2 WK048 830x2015","","GLAS","","BALKON","BS","048","BLANK","ISOLATIEGLAS","Inventory","",false,"","",0,0,0,"",false,false,false,114.05,138,{"$f":"ROUND(AA198*(1-VLOOKUP(AF198,Discount[],3,0)),2)","v":114.05},null,19470,"P104"]
[8718528029480,"Artikel",8718528029480,"STUKS","HR++ 4-14-*4 Top i+","Argon u=1,2 WK 048 830x2115","","GLAS","","BALKON","BS","048","BLANK","ISOLATIEGLAS","Inventory","",false,"","",0,0,0,"",false,false,false,114.05,138,{"$f":"ROUND(AA199*(1-VLOOKUP(AF199,Discount[],3,0)),2)","v":114.05},null,19470,"P104"]
[8718528029497,"Artikel",8718528029497,"STUKS","HR++ 4-14-*4 Top i+","Argon u=1,2 WK 048 880x2015","","GLAS","","BALKON","BS","048","BLANK","ISOLATIEGLAS","Inventory","",false,"","",0,0,0,"",false,false,false,114.05,138,{"$f":"ROUND(AA200*(1-VLOOKUP(AF200,Discount[],3,0)),2)","v":114.05},null,19470,"P104"]
[8718528029503,"Artikel",8718528029503,"STUKS","HR++ 4-14-*4 Top i+","Argon u=1,2 880x2115","WK048 / WK8081 / WK8181","GLAS","","BALKON","BS","048","BLANK","ISOLATIEGLAS","Inventory","",false,"","",0,0,0,"",false,false,false,114.05,138,{"$f":"ROUND(AA201*(1-VLOOKUP(AF201,Discount[],3,0)),2)","v":114.05},null,19470,"P104"]
[8718528029510,"Artikel",8718528029510,"STUKS","HR++ 4-14-*4 Top i+","Argon u=1,2 WK 048 930x2015","","GLAS","","BALKON","BS","048","BLANK","ISOLATIEGLAS","Inventory","",false,"","",0,0,0,"",false,false,false,114.05,138,{"$f":"ROUND(AA202*(1-VLOOKUP(AF202,Discount[],3,0)),2)","v":114.05},null,19470,"P104"]
[8718528029527,"Artikel",8718528029527,"STUKS","HR++ 4-14-*4 Top i+","Argon u=1,2 930x2115","WK048 / WK8081 / WK8181","GLAS","","BALKON","BS","048","BLANK","ISOLATIEGLAS","Inventory","",false,"","",0,0,0,"",false,false,false,114.05,138,{"$f":"ROUND(AA203*(1-VLOOKUP(AF203,Discount[],3,0)),2)","v":114.05},null,19470,"P104"]
[8718528029008,"Artikel",8718528029008,"STUKS","HR++ Top i+ 33.1*-13-4 gehard","Argon u=1,2 WK 042 830x2340","","GLAS","","BALKON","BS","042","BLANK","ISO VEILIGHEIDSGLAS","Inventory","",false,"","",0,0,0,"",true,false,false,284.3,344,{"$f":"ROUND(AA204*(1-VLOOKUP(AF204,Discount[],3,0)),2)","v":284.3},null,19480,"P104"]
[8718528029015,"Artikel",8718528029015,"STUKS","HR++ Top i+ 33.1*-13-4 gehard","Argon u=1,2 WK 042 880x2340","","GLAS","","BALKON","BS","042","BLANK","ISO VEILIGHEIDSGLAS","Inventory","",false,"","",0,0,0,"",true,false,false,284.3,344,{"$f":"ROUND(AA205*(1-VLOOKUP(AF205,Discount[],3,0)),2)","v":284.3},null,19480,"P104"]
[8718528029022,"Artikel",8718528029022,"STUKS","HR++ Top i+ 33.1*-13-4 gehard","Argon u=1,2 WK 042 930x2340","","GLAS","","BALKON","BS","042","BLANK","ISO VEILIGHEIDSGLAS","Inventory","",false,"","",0,0,0,"",true,false,false,284.3,344,{"$f":"ROUND(AA206*(1-VLOOKUP(AF206,Discount[],3,0)),2)","v":284.3},null,19480,"P104"]
[8718528029138,"Artikel",8718528029138,"STUKS","HR++ Top i+ 33.1*-13-4 gehard","Argon u=1,2 WK 043 830x2340","","GLAS","","BALKON","BS","043","BLANK","ISO VEILIGHEIDSGLAS","Inventory","",false,"","",0,0,0,"",true,false,false,276.03,334,{"$f":"ROUND(AA207*(1-VLOOKUP(AF207,Discount[],3,0)),2)","v":276.03},null,19490,"P104"]
[8718528029145,"Artikel",8718528029145,"STUKS","HR++ Top i+ 33.1*-13-4 gehard","Argon u=1,2 WK 043 880x2340","","GLAS","","BALKON","BS","043","BLANK","ISO VEILIGHEIDSGLAS","Inventory","",false,"","",0,0,0,"",true,false,false,276.03,334,{"$f":"ROUND(AA208*(1-VLOOKUP(AF208,Discount[],3,0)),2)","v":276.03},null,19490,"P104"]
[8718528029152,"Artikel",8718528029152,"STUKS","HR++ Top i+ 33.1*-13-4 gehard","Argon u=1,2 WK 043 930x2340","","GLAS","","BALKON","BS","043","BLANK","ISO VEILIGHEIDSGLAS","Inventory","",false,"","",0,0,0,"",true,false,false,276.03,334,{"$f":"ROUND(AA209*(1-VLOOKUP(AF209,Discount[],3,0)),2)","v":276.03},null,19490,"P104"]
[8718528029244,"Artikel",8718528029244,"STUKS","HR++ Top i+ 33.1*-13-4 gehard","Argon u=1,2 WK 044 830x2340","","GLAS","","BALKON","BS","044","BLANK","ISO VEILIGHEIDSGLAS","Inventory","",false,"","",0,0,0,"",true,false,false,270.25,327,{"$f":"ROUND(AA210*(1-VLOOKUP(AF210,Discount[],3,0)),2)","v":270.25},null,19500,"P104"]
[8718528029251,"Artikel",8718528029251,"STUKS","HR++ Top i+ 33.1*-13-4 gehard","Argon u=1,2 WK 044 880x2340","","GLAS","","BALKON","BS","044","BLANK","ISO VEILIGHEIDSGLAS","Inventory","",false,"","",0,0,0,"",true,false,false,270.25,327,{"$f":"ROUND(AA211*(1-VLOOKUP(AF211,Discount[],3,0)),2)","v":270.25},null,19500,"P104"]
[8718528029268,"Artikel",8718528029268,"STUKS","HR++ Top i+ 33.1*-13-4 gehard","Argon u=1,2 930x2340","WK044 / WK8041 / WK8141","GLAS","","BALKON","BS","044","BLANK","ISO VEILIGHEIDSGLAS","Inventory","",false,"","",0,0,0,"",true,false,false,270.25,327,{"$f":"ROUND(AA212*(1-VLOOKUP(AF212,Discount[],3,0)),2)","v":270.25},null,19500,"P104"]
[8718528029350,"Artikel",8718528029350,"STUKS","HR++ Top i+ 33.1*-13-4 gehard","Argon u=1,2 Wk 046 880x2340","","GLAS","","BALKON","BS","046","BLANK","ISO VEILIGHEIDSGLAS","Inventory","",false,"","",0,0,0,"",true,false,false,256.2,310,{"$f":"ROUND(AA213*(1-VLOOKUP(AF213,Discount[],3,0)),2)","v":256.2},null,19510,"P104"]
[8718528029367,"Artikel",8718528029367,"STUKS","HR++ Top i+ 33.1*-13-4 gehard","Argon u=1,2 930x2340","WK046 / WK8061 / WK8161","GLAS","","BALKON","BS","046","BLANK","ISO VEILIGHEIDSGLAS","Inventory","",false,"","",0,0,0,"",true,false,false,256.2,310,{"$f":"ROUND(AA214*(1-VLOOKUP(AF214,Discount[],3,0)),2)","v":256.2},null,19510,"P104"]
[8718528029534,"Artikel",8718528029534,"STUKS","HR++ 4-14-*4 Top i+","Argon u=1,2 WK 048 880x2340","","GLAS","","BALKON","BS","048","BLANK","ISOLATIEGLAS","Inventory","",false,"","",0,0,0,"",true,false,false,136.36,165,{"$f":"ROUND(AA215*(1-VLOOKUP(AF215,Discount[],3,0)),2)","v":136.36},null,19520,"P104"]
[8718528029541,"Artikel",8718528029541,"STUKS","HR++ 4-14-*4 Top i+","Argon u=1,2 930x2340","WK048 / WK8081 / WK8181","GLAS","","BALKON","BS","048","BLANK","ISOLATIEGLAS","Inventory","",false,"","",0,0,0,"",true,false,false,136.36,165,{"$f":"ROUND(AA216*(1-VLOOKUP(AF216,Discount[],3,0)),2)","v":136.36},null,19520,"P104"]
[8718528039038,"Artikel",8718528039038,"STUKS","Voordeurknop Sky PVD Gold","","","HENS","BESLAG","","","","VOORDEURKNOP","SKY","Inventory","",false,"","",0,0,0,"",false,false,false,139.67,169,{"$f":"ROUND(AA217*(1-VLOOKUP(AF217,Discount[],3,0)),2)","v":139.67},null,24770,"O115"]
[8718528039052,"Artikel",8718528039052,"STUKS","Voordeurknop Mistral PVD Gold","","","HENS","BESLAG","","","","VOORDEURKNOP","MISTRAL","Inventory","",false,"","",0,0,0,"",false,false,false,102.48,124,{"$f":"ROUND(AA218*(1-VLOOKUP(AF218,Discount[],3,0)),2)","v":102.48},null,24780,"O115"]
[8718528039267,"Artikel",8718528039267,"STUKS","Briefplaat River PVD Gold","","","HENS","BESLAG","","","","BRIEFPLAAT","RIVER","Inventory","",false,"","",0,0,0,"",false,false,false,219.01,265,{"$f":"ROUND(AA219*(1-VLOOKUP(AF219,Discount[],3,0)),2)","v":219.01},null,24810,"O115"]
[8718528038871,"Artikel",8718528038871,"STUKS","Deurkruk Frost PVD Gold","links","","HENS","BESLAG","","","","DEURKRUK LIFETIME","FROST","Inventory","",false,"","",0,0,0,"",false,false,false,118.18,143,{"$f":"ROUND(AA220*(1-VLOOKUP(AF220,Discount[],3,0)),2)","v":118.18},null,24830,"O115"]
[8718528038888,"Artikel",8718528038888,"STUKS","Deurkruk Frost PVD Gold","rechts","","HENS","BESLAG","","","","DEURKRUK LIFETIME","FROST","Inventory","",false,"","",0,0,0,"",false,false,false,118.18,143,{"$f":"ROUND(AA221*(1-VLOOKUP(AF221,Discount[],3,0)),2)","v":118.18},null,24830,"O115"]
[8718528059029,"Artikel",8718528059029,"STUKS","Deurkruk Breeze PVD Gold","rechts","","HENS","BESLAG","","","","DEURKRUK LIFETIME","BREEZE","Inventory","",false,"","",0,0,0,"",false,false,false,85.12,103,{"$f":"ROUND(AA222*(1-VLOOKUP(AF222,Discount[],3,0)),2)","v":85.12},null,24840,"O115"]
[8718528156773,"Artikel",8718528156773,"STUKS","Deurkruk Breeze PVD Gold","L/R","","HENS","BESLAG","","","","DEURKRUK LIFETIME","BREEZE","Inventory","",false,"","",0,0,0,"",false,false,false,85.12,103,{"$f":"ROUND(AA223*(1-VLOOKUP(AF223,Discount[],3,0)),2)","v":85.12},null,24840,"O115"]
[8718528058831,"Artikel",8718528058831,"STUKS","Deurkruk Bubble PVD Gold","links + rechts","","HENS","BESLAG","","","","DEURKRUK LIFETIME","BUBBLE","Inventory","",false,"","",0,0,0,"",false,false,false,81.82,99,{"$f":"ROUND(AA224*(1-VLOOKUP(AF224,Discount[],3,0)),2)","v":81.82},null,24850,"O115"]
[8718528040881,"Artikel",8718528040881,"STUKS","Deurklopper Spring PVD Gold","","","HENS","BESLAG","","","","DEURKLOPPER","SPRING","Inventory","",false,"","",0,0,0,"",false,false,false,228.93,277,{"$f":"ROUND(AA225*(1-VLOOKUP(AF225,Discount[],3,0)),2)","v":228.93},null,24860,"O115"]
[8718528096024,"Artikel",8718528096024,"STUKS","Los binnenrozet PVD Gold","met ktb (52 mm)","","HENS","BESLAG","","","","LOS BINNENROZET","","Inventory","",false,"","",0,0,0,"",false,false,false,24.79,30,{"$f":"ROUND(AA226*(1-VLOOKUP(AF226,Discount[],3,0)),2)","v":24.79},null,24870,"O115"]
[8718528040799,"Artikel",8718528040799,"STUKS","Beldrukker Cool PVD Gold","","","HENS","BESLAG","","","","BELDRUKKER","COOL","Inventory","",false,"","",0,0,0,"",false,false,false,52.07,63,{"$f":"ROUND(AA227*(1-VLOOKUP(AF227,Discount[],3,0)),2)","v":52.07},null,24880,"O115"]
[8718528040836,"Artikel",8718528040836,"STUKS","Beldrukker Sunny PVD Gold","","","HENS","BESLAG","","","","BELDRUKKER","SUNNY","Inventory","",false,"","",0,0,0,"",false,false,false,52.07,63,{"$f":"ROUND(AA228*(1-VLOOKUP(AF228,Discount[],3,0)),2)","v":52.07},null,24890,"O115"]
[8718528053546,"Artikel",8718528053546,"STUKS","HR++ 4-14-*4 Top i+","Argon u=1,2 WK 042 780x2015","","GLAS","","BALKON","BS","042","BLANK","ISOLATIEGLAS","Inventory","",false,"","",0,0,0,"",false,false,false,147.11,178,{"$f":"ROUND(AA229*(1-VLOOKUP(AF229,Discount[],3,0)),2)","v":147.11},null,34270,"P104"]
[8718528053560,"Artikel",8718528053560,"STUKS","HR++ 4-14-*4 Top i+","Argon u=1,2 WK 042 780x2115","","GLAS","","BALKON","BS","042","BLANK","ISOLATIEGLAS","Inventory","",false,"","",0,0,0,"",false,false,false,147.11,178,{"$f":"ROUND(AA230*(1-VLOOKUP(AF230,Discount[],3,0)),2)","v":147.11},null,34270,"P104"]
[8718528053584,"Artikel",8718528053584,"STUKS","HR++ 4-14-*4 Top i+","Argon u=1,2 WK 042 830x2015","","GLAS","","BALKON","BS","042","BLANK","ISOLATIEGLAS","Inventory","",false,"","",0,0,0,"",false,false,false,147.11,178,{"$f":"ROUND(AA231*(1-VLOOKUP(AF231,Discount[],3,0)),2)","v":147.11},null,34270,"P104"]
[8718528053607,"Artikel",8718528053607,"STUKS","HR++ 4-14-*4 Top i+","Argon u=1,2 WK 042 830x2115","","GLAS","","BALKON","BS","042","BLANK","ISOLATIEGLAS","Inventory","",false,"","",0,0,0,"",false,false,false,147.11,178,{"$f":"ROUND(AA232*(1-VLOOKUP(AF232,Discount[],3,0)),2)","v":147.11},null,34270,"P104"]
[8718528053621,"Artikel",8718528053621,"STUKS","HR++ 4-14-*4 Top i+","Argon u=1,2 WK 042 880x2015","","GLAS","","BALKON","BS","042","BLANK","ISOLATIEGLAS","Inventory","",false,"","",0,0,0,"",false,false,false,147.11,178,{"$f":"ROUND(AA233*(1-VLOOKUP(AF233,Discount[],3,0)),2)","v":147.11},null,34270,"P104"]
[8718528053645,"Artikel",8718528053645,"STUKS","HR++ 4-14-*4 Top i+","Argon u=1,2 WK 042 880x2115","","GLAS","","BALKON","BS","042","BLANK","ISOLATIEGLAS","Inventory","",false,"","",0,0,0,"",false,false,false,147.11,178,{"$f":"ROUND(AA234*(1-VLOOKUP(AF234,Discount[],3,0)),2)","v":147.11},null,34270,"P104"]
[8718528053669,"Artikel",8718528053669,"STUKS","HR++ 4-14-*4 Top i+","Argon u=1,2 WK 042 930x2015","","GLAS","","BALKON","BS","042","BLANK","ISOLATIEGLAS","Inventory","",false,"","",0,0,0,"",false,false,false,147.11,178,{"$f":"ROUND(AA235*(1-VLOOKUP(AF235,Discount[],3,0)),2)","v":147.11},null,34270,"P104"]
[8718528053683,"Artikel",8718528053683,"STUKS","HR++ 4-14-*4 Top i+","Argon u=1,2 WK 042 930x2115","","GLAS","","BALKON","BS","042","BLANK","ISOLATIEGLAS","Inventory","",false,"","",0,0,0,"",false,false,false,147.11,178,{"$f":"ROUND(AA236*(1-VLOOKUP(AF236,Discount[],3,0)),2)","v":147.11},null,34270,"P104"]
[8718528157527,"Artikel",8718528157527,"STUKS","HR++ 4-14-*4 Top i+","Argon u=1,2 WK 042 630x2015","","GLAS","","BALKON","BS","042","BLANK","ISOLATIEGLAS","Inventory","",false,"","",0,0,0,"",false,false,false,147.11,178,{"$f":"ROUND(AA237*(1-VLOOKUP(AF237,Discount[],3,0)),2)","v":147.11},null,34270,"P104"]
[8718528157534,"Artikel",8718528157534,"STUKS","HR++ 4-14-*4 Top i+","Argon u=1,2 WK 042 630x2115","","GLAS","","BALKON","BS","042","BLANK","ISOLATIEGLAS","Inventory","",false,"","",0,0,0,"",false,false,false,147.11,178,{"$f":"ROUND(AA238*(1-VLOOKUP(AF238,Discount[],3,0)),2)","v":147.11},null,34270,"P104"]
[8718528157541,"Artikel",8718528157541,"STUKS","HR++ 4-14-*4 Top i+","Argon u=1,2 WK 042 680x2015","","GLAS","","BALKON","BS","042","BLANK","ISOLATIEGLAS","Inventory","",false,"","",0,0,0,"",false,false,false,147.11,178,{"$f":"ROUND(AA239*(1-VLOOKUP(AF239,Discount[],3,0)),2)","v":147.11},null,34270,"P104"]
[8718528157558,"Artikel",8718528157558,"STUKS","HR++ 4-14-*4 Top i+","Argon u=1,2 WK 042 680x2115","","GLAS","","BALKON","BS","042","BLANK","ISOLATIEGLAS","Inventory","",false,"","",0,0,0,"",false,false,false,147.11,178,{"$f":"ROUND(AA240*(1-VLOOKUP(AF240,Discount[],3,0)),2)","v":147.11},null,34270,"P104"]
[8718528157565,"Artikel",8718528157565,"STUKS","HR++ 4-14-*4 Top i+","Argon u=1,2 WK 042 730x2015","","GLAS","","BALKON","BS","042","BLANK","ISOLATIEGLAS","Inventory","",false,"","",0,0,0,"",false,false,false,147.11,178,{"$f":"ROUND(AA241*(1-VLOOKUP(AF241,Discount[],3,0)),2)","v":147.11},null,34270,"P104"]
[8718528157572,"Artikel",8718528157572,"STUKS","HR++ 4-14-*4 Top i+","Argon u=1,2 WK 042 730x2115","","GLAS","","BALKON","BS","042","BLANK","ISOLATIEGLAS","Inventory","",false,"","",0,0,0,"",false,false,false,147.11,178,{"$f":"ROUND(AA242*(1-VLOOKUP(AF242,Discount[],3,0)),2)","v":147.11},null,34270,"P104"]
[8718528053768,"Artikel",8718528053768,"STUKS","HR++ 4-14-*4 Top i+","Argon u=1,2 WK 043 730x2015","","GLAS","","BALKON","BS","043","BLANK","ISOLATIEGLAS","Inventory","",false,"","",0,0,0,"",false,false,false,142.98,173,{"$f":"ROUND(AA243*(1-VLOOKUP(AF243,Discount[],3,0)),2)","v":142.98},null,34280,"P104"]
[8718528053782,"Artikel",8718528053782,"STUKS","HR++ 4-14-*4 Top i+","Argon u=1,2 WK 043 730x2115","","GLAS","","BALKON","BS","043","BLANK","ISOLATIEGLAS","Inventory","",false,"","",0,0,0,"",false,false,false,142.98,173,{"$f":"ROUND(AA244*(1-VLOOKUP(AF244,Discount[],3,0)),2)","v":142.98},null,34280,"P104"]
[8718528053805,"Artikel",8718528053805,"STUKS","HR++ 4-14-*4 Top i+","Argon u=1,2 WK 043 780x2015","","GLAS","","BALKON","BS","043","BLANK","ISOLATIEGLAS","Inventory","",false,"","",0,0,0,"",false,false,false,142.98,173,{"$f":"ROUND(AA245*(1-VLOOKUP(AF245,Discount[],3,0)),2)","v":142.98},null,34280,"P104"]
[8718528053829,"Artikel",8718528053829,"STUKS","HR++ 4-14-*4 Top i+","Argon u=1,2 WK 043 780x2115","","GLAS","","BALKON","BS","043","BLANK","ISOLATIEGLAS","Inventory","",false,"","",0,0,0,"",false,false,false,142.98,173,{"$f":"ROUND(AA246*(1-VLOOKUP(AF246,Discount[],3,0)),2)","v":142.98},null,34280,"P104"]
[8718528053843,"Artikel",8718528053843,"STUKS","HR++ 4-14-*4 Top i+","Argon u=1,2 WK 043 830x2015","","GLAS","","BALKON","BS","043","BLANK","ISOLATIEGLAS","Inventory","",false,"","",0,0,0,"",false,false,false,142.98,173,{"$f":"ROUND(AA247*(1-VLOOKUP(AF247,Discount[],3,0)),2)","v":142.98},null,34280,"P104"]
[8718528053867,"Artikel",8718528053867,"STUKS","HR++ 4-14-*4 Top i+","Argon u=1,2 WK 043 830x2115","","GLAS","","BALKON","BS","043","BLANK","ISOLATIEGLAS","Inventory","",false,"","",0,0,0,"",false,false,false,142.98,173,{"$f":"ROUND(AA248*(1-VLOOKUP(AF248,Discount[],3,0)),2)","v":142.98},null,34280,"P104"]
[8718528053881,"Artikel",8718528053881,"STUKS","HR++ 4-14-*4 Top i+","Argon u=1,2 WK 043 880x2015","","GLAS","","BALKON","BS","043","BLANK","ISOLATIEGLAS","Inventory","",false,"","",0,0,0,"",false,false,false,142.98,173,{"$f":"ROUND(AA249*(1-VLOOKUP(AF249,Discount[],3,0)),2)","v":142.98},null,34280,"P104"]
[8718528053904,"Artikel",8718528053904,"STUKS","HR++ 4-14-*4 Top i+","Argon u=1,2 WK 043 880x2115","","GLAS","","BALKON","BS","043","BLANK","ISOLATIEGLAS","Inventory","",false,"","",0,0,0,"",false,false,false,142.98,173,{"$f":"ROUND(AA250*(1-VLOOKUP(AF250,Discount[],3,0)),2)","v":142.98},null,34280,"P104"]
[8718528053928,"Artikel",8718528053928,"STUKS","HR++ 4-14-*4 Top i+","Argon u=1,2 WK 043 930x2015","","GLAS","","BALKON","BS","043","BLANK","ISOLATIEGLAS","Inventory","",false,"","",0,0,0,"",false,false,false,142.98,173,{"$f":"ROUND(AA251*(1-VLOOKUP(AF251,Discount[],3,0)),2)","v":142.98},null,34280,"P104"]
[8718528053942,"Artikel",8718528053942,"STUKS","HR++ 4-14-*4 Top i+","Argon u=1,2 WK 043 930x2115","","GLAS","","BALKON","BS","043","BLANK","ISOLATIEGLAS","Inventory","",false,"","",0,0,0,"",false,false,false,142.98,173,{"$f":"ROUND(AA252*(1-VLOOKUP(AF252,Discount[],3,0)),2)","v":142.98},null,34280,"P104"]
[8718528054024,"Artikel",8718528054024,"STUKS","HR++ 4-14-*4 Top i+","Argon u=1,2 WK 044 780x2015","","GLAS","","BALKON","BS","044","BLANK","ISOLATIEGLAS","Inventory","",false,"","",0,0,0,"",false,false,false,137.19,166,{"$f":"ROUND(AA253*(1-VLOOKUP(AF253,Discount[],3,0)),2)","v":137.19},null,34290,"P104"]
[8718528054048,"Artikel",8718528054048,"STUKS","HR++ 4-14-*4 Top i+","Argon u=1,2 WK 044 780x2115","","GLAS","","BALKON","BS","044","BLANK","ISOLATIEGLAS","Inventory","",false,"","",0,0,0,"",false,false,false,137.19,166,{"$f":"ROUND(AA254*(1-VLOOKUP(AF254,Discount[],3,0)),2)","v":137.19},null,34290,"P104"]
[8718528054062,"Artikel",8718528054062,"STUKS","HR++ 4-14-*4 Top i+","Argon u=1,2 WK 044 830x2015","","GLAS","","BALKON","BS","044","BLANK","ISOLATIEGLAS","Inventory","",false,"","",0,0,0,"",false,false,false,137.19,166,{"$f":"ROUND(AA255*(1-VLOOKUP(AF255,Discount[],3,0)),2)","v":137.19},null,34290,"P104"]
[8718528054086,"Artikel",8718528054086,"STUKS","HR++ 4-14-*4 Top i+","Argon u=1,2 WK 044 830x2115","","GLAS","","BALKON","BS","044","BLANK","ISOLATIEGLAS","Inventory","",false,"","",0,0,0,"",false,false,false,137.19,166,{"$f":"ROUND(AA256*(1-VLOOKUP(AF256,Discount[],3,0)),2)","v":137.19},null,34290,"P104"]
[8718528054109,"Artikel",8718528054109,"STUKS","HR++ 4-14-*4 Top i+","Argon u=1,2 WK 044 880x2015","","GLAS","","BALKON","BS","044","BLANK","ISOLATIEGLAS","Inventory","",false,"","",0,0,0,"",false,false,false,137.19,166,{"$f":"ROUND(AA257*(1-VLOOKUP(AF257,Discount[],3,0)),2)","v":137.19},null,34290,"P104"]
[8718528054123,"Artikel",8718528054123,"STUKS","HR++ 4-14-*4 Top i+","Argon u=1,2 880x2115","WK044 / WK8041 / WK8141","GLAS","","BALKON","BS","044","BLANK","ISOLATIEGLAS","Inventory","",false,"","",0,0,0,"",false,false,false,137.19,166,{"$f":"ROUND(AA258*(1-VLOOKUP(AF258,Discount[],3,0)),2)","v":137.19},null,34290,"P104"]
[8718528054147,"Artikel",8718528054147,"STUKS","HR++ 4-14-*4 Top i+","Argon u=1,2 WK 044 930x2015","","GLAS","","BALKON","BS","044","BLANK","ISOLATIEGLAS","Inventory","",false,"","",0,0,0,"",false,false,false,137.19,166,{"$f":"ROUND(AA259*(1-VLOOKUP(AF259,Discount[],3,0)),2)","v":137.19},null,34290,"P104"]
[8718528054161,"Artikel",8718528054161,"STUKS","HR++ 4-14-*4 Top i+","Argon u=1,2 930x2115","WK044 / WK8041 / WK8141","GLAS","","BALKON","BS","044","BLANK","ISOLATIEGLAS","Inventory","",false,"","",0,0,0,"",false,false,false,137.19,166,{"$f":"ROUND(AA260*(1-VLOOKUP(AF260,Discount[],3,0)),2)","v":137.19},null,34290,"P104"]
[8718528054246,"Artikel",8718528054246,"STUKS","HR++ 4-14-*4 Top i+","Argon u=1,2 WK 046 780x2015","","GLAS","","BALKON","BS","046","BLANK","ISOLATIEGLAS","Inventory","",false,"","",0,0,0,"",false,false,false,124.79,151,{"$f":"ROUND(AA261*(1-VLOOKUP(AF261,Discount[],3,0)),2)","v":124.79},null,34300,"P104"]
[8718528054260,"Artikel",8718528054260,"STUKS","HR++ 4-14-*4 Top i+","Argon u=1,2 WK 046 780x2115","","GLAS","","BALKON","BS","046","BLANK","ISOLATIEGLAS","Inventory","",false,"","",0,0,0,"",false,false,false,124.79,151,{"$f":"ROUND(AA262*(1-VLOOKUP(AF262,Discount[],3,0)),2)","v":124.79},null,34300,"P104"]
[8718528054284,"Artikel",8718528054284,"STUKS","HR++ 4-14-*4 Top i+","Argon u=1,2 WK 046 830x2015","","GLAS","","BALKON","BS","046","BLANK","ISOLATIEGLAS","Inventory","",false,"","",0,0,0,"",false,false,false,124.79,151,{"$f":"ROUND(AA263*(1-VLOOKUP(AF263,Discount[],3,0)),2)","v":124.79},null,34300,"P104"]
[8718528054307,"Artikel",8718528054307,"STUKS","HR++ 4-14-*4 Top i+","Argon u=1,2 WK 046 830x2115","","GLAS","","BALKON","BS","046","BLANK","ISOLATIEGLAS","Inventory","",false,"","",0,0,0,"",false,false,false,124.79,151,{"$f":"ROUND(AA264*(1-VLOOKUP(AF264,Discount[],3,0)),2)","v":124.79},null,34300,"P104"]
[8718528054321,"Artikel",8718528054321,"STUKS","HR++ 4-14-*4 Top i+","Argon u=1,2 WK 046 880x2015","","GLAS","","BALKON","BS","046","BLANK","ISOLATIEGLAS","Inventory","",false,"","",0,0,0,"",false,false,false,124.79,151,{"$f":"ROUND(AA265*(1-VLOOKUP(AF265,Discount[],3,0)),2)","v":124.79},null,34300,"P104"]
[8718528054345,"Artikel",8718528054345,"STUKS","HR++ 4-14-*4 Top i+","Argon u=1,2 880x2115","WK046 / WK8061 / WK8161","GLAS","","BALKON","BS","046","BLANK","ISOLATIEGLAS","Inventory","",false,"","",0,0,0,"",false,false,false,124.79,151,{"$f":"ROUND(AA266*(1-VLOOKUP(AF266,Discount[],3,0)),2)","v":124.79},null,34300,"P104"]
[8718528054369,"Artikel",8718528054369,"STUKS","HR++ 4-14-*4 Top i+","Argon u=1,2 WK046 930x2015","","GLAS","","BALKON","BS","046","BLANK","ISOLATIEGLAS","Inventory","",false,"","",0,0,0,"",false,false,false,124.79,151,{"$f":"ROUND(AA267*(1-VLOOKUP(AF267,Discount[],3,0)),2)","v":124.79},null,34300,"P104"]
[8718528054383,"Artikel",8718528054383,"STUKS","HR++ 4-14-*4 Top i+","Argon u=1,2 930x2115","WK046 / WK8061 / WK8161","GLAS","","BALKON","BS","046","BLANK","ISOLATIEGLAS","Inventory","",false,"","",0,0,0,"",false,false,false,124.79,151,{"$f":"ROUND(AA268*(1-VLOOKUP(AF268,Discount[],3,0)),2)","v":124.79},null,34300,"P104"]
[8718528053706,"Artikel",8718528053706,"STUKS","HR++ 4-14-*4 Top i+","Argon u=1,2 WK 042 830x2340","","GLAS","","BALKON","BS","042","BLANK","ISOLATIEGLAS","Inventory","",false,"","",0,0,0,"",true,false,false,170.25,206,{"$f":"ROUND(AA269*(1-VLOOKUP(AF269,Discount[],3,0)),2)","v":170.25},null,34310,"P104"]
[8718528053720,"Artikel",8718528053720,"STUKS","HR++ 4-14-*4 Top i+","Argon u=1,2 WK 042 880x2340","","GLAS","","BALKON","BS","042","BLANK","ISOLATIEGLAS","Inventory","",false,"","",0,0,0,"",true,false,false,170.25,206,{"$f":"ROUND(AA270*(1-VLOOKUP(AF270,Discount[],3,0)),2)","v":170.25},null,34310,"P104"]
[8718528053744,"Artikel",8718528053744,"STUKS","HR++ 4-14-*4 Top i+","Argon u=1,2 WK 042 930x2340","","GLAS","","BALKON","BS","042","BLANK","ISOLATIEGLAS","Inventory","",false,"","",0,0,0,"",true,false,false,170.25,206,{"$f":"ROUND(AA271*(1-VLOOKUP(AF271,Discount[],3,0)),2)","v":170.25},null,34310,"P104"]
[8718528053966,"Artikel",8718528053966,"STUKS","HR++ 4-14-*4 Top i+","Argon u=1,2 WK 043 830x2340","","GLAS","","BALKON","BS","043","BLANK","ISOLATIEGLAS","Inventory","",false,"","",0,0,0,"",true,false,false,165.29,200,{"$f":"ROUND(AA272*(1-VLOOKUP(AF272,Discount[],3,0)),2)","v":165.29},null,34320,"P104"]
[8718528053980,"Artikel",8718528053980,"STUKS","HR++ 4-14-*4 Top i+","Argon u=1,2 WK 043 880x2340","","GLAS","","BALKON","BS","043","BLANK","ISOLATIEGLAS","Inventory","",false,"","",0,0,0,"",true,false,false,165.29,200,{"$f":"ROUND(AA273*(1-VLOOKUP(AF273,Discount[],3,0)),2)","v":165.29},null,34320,"P104"]
[8718528054000,"Artikel",8718528054000,"STUKS","HR++ 4-14-*4 Top i+","Argon u=1,2 WK 043 930x2340","","GLAS","","BALKON","BS","043","BLANK","ISOLATIEGLAS","Inventory","",false,"","",0,0,0,"",true,false,false,165.29,200,{"$f":"ROUND(AA274*(1-VLOOKUP(AF274,Discount[],3,0)),2)","v":165.29},null,34320,"P104"]
[8718528054185,"Artikel",8718528054185,"STUKS","HR++ 4-14-*4 Top i+","Argon u=1,2 WK 044 830x2340","","GLAS","","BALKON","BS","044","BLANK","ISOLATIEGLAS","Inventory","",false,"","",0,0,0,"",true,false,false,158.68,192,{"$f":"ROUND(AA275*(1-VLOOKUP(AF275,Discount[],3,0)),2)","v":158.68},null,34330,"P104"]
[8718528054208,"Artikel",8718528054208,"STUKS","HR++ 4-14-*4 Top i+","Argon u=1,2 WK 044 880x2340","","GLAS","","BALKON","BS","044","BLANK","ISOLATIEGLAS","Inventory","",false,"","",0,0,0,"",true,false,false,158.68,192,{"$f":"ROUND(AA276*(1-VLOOKUP(AF276,Discount[],3,0)),2)","v":158.68},null,34330,"P104"]
[8718528054222,"Artikel",8718528054222,"STUKS","HR++ 4-14-*4 Top i+","Argon u=1,2 930x2340","WK044 / WK8041 / WK8141","GLAS","","BALKON","BS","044","BLANK","ISOLATIEGLAS","Inventory","",false,"","",0,0,0,"",true,false,false,158.68,192,{"$f":"ROUND(AA277*(1-VLOOKUP(AF277,Discount[],3,0)),2)","v":158.68},null,34330,"P104"]
[8718528054406,"Artikel",8718528054406,"STUKS","HR++ 4-14-*4 Top i+","Argon u=1,2 WK 046 880x2340","","GLAS","","BALKON","BS","046","BLANK","ISOLATIEGLAS","Inventory","",false,"","",0,0,0,"",true,false,false,147.11,178,{"$f":"ROUND(AA278*(1-VLOOKUP(AF278,Discount[],3,0)),2)","v":147.11},null,34340,"P104"]
[8718528054420,"Artikel",8718528054420,"STUKS","HR++ 4-14-*4 Top i+","Argon u=1,2 930x2340","WK046 / WK8061 / WK8161","GLAS","","BALKON","BS","046","BLANK","ISOLATIEGLAS","Inventory","",false,"","",0,0,0,"",true,false,false,147.11,178,{"$f":"ROUND(AA279*(1-VLOOKUP(AF279,Discount[],3,0)),2)","v":147.11},null,34340,"P104"]
[8718528339701,"Artikel",8718528339701,"STUKS","Buva deurbalk 8012 binnendr.","L=2115 mm excl sluitplaat","","HENS","SLOTEN","","","","BUVA DEURBALK","","Inventory","",false,"","",0,0,0,"",false,false,false,223.97,271,{"$f":"ROUND(AA280*(1-VLOOKUP(AF280,Discount[],3,0)),2)","v":223.97},null,40180,"O505"]
[8718528020449,"Artikel",8718528020449,"STUKS","Buva deurbalk 8012 binnendr.","L=2250 mm excl sluitplaat","","HENS","SLOTEN","","","","BUVA DEURBALK","","Inventory","",false,"","",0,0,0,"",false,false,false,223.97,271,{"$f":"ROUND(AA281*(1-VLOOKUP(AF281,Discount[],3,0)),2)","v":223.97},null,40180,"O505"]
[8718528020456,"Artikel",8718528020456,"STUKS","Buva deurbalk 8012 binnendr.","L=2400 mm excl sluitplaat","","HENS","SLOTEN","","","","BUVA DEURBALK","","Inventory","",false,"","",0,0,0,"",false,false,false,223.97,271,{"$f":"ROUND(AA282*(1-VLOOKUP(AF282,Discount[],3,0)),2)","v":223.97},null,40180,"O505"]
[8718528020463,"Artikel",8718528020463,"STUKS","Buva deurbalk 8034 buitendr.","L=2073 mm excl sluitplaat","","HENS","SLOTEN","","","","BUVA DEURBALK","","Inventory","",false,"","",0,0,0,"",false,false,false,223.97,271,{"$f":"ROUND(AA283*(1-VLOOKUP(AF283,Discount[],3,0)),2)","v":223.97},null,40180,"O505"]
[8718528020470,"Artikel",8718528020470,"STUKS","Buva deurbalk 8034 buitendr.","L=2250 mm excl sluitplaat","","HENS","SLOTEN","","","","BUVA DEURBALK","","Inventory","",false,"","",0,0,0,"",false,false,false,223.97,271,{"$f":"ROUND(AA284*(1-VLOOKUP(AF284,Discount[],3,0)),2)","v":223.97},null,40180,"O505"]
[8718528020487,"Artikel",8718528020487,"STUKS","Buva deurbalk 8034 buitendr.","L=2400 mm excl sluitplaat","","HENS","SLOTEN","","","","BUVA DEURBALK","","Inventory","",false,"","",0,0,0,"",false,false,false,223.97,271,{"$f":"ROUND(AA285*(1-VLOOKUP(AF285,Discount[],3,0)),2)","v":223.97},null,40180,"O505"]
[8718528020494,"Artikel",8718528020494,"STUKS","Buva deurbalk 8034 buitendr.","L=2600 mm excl sluitplaat","","HENS","SLOTEN","","","","BUVA DEURBALK","","Inventory","",false,"","",0,0,0,"",false,false,false,223.97,271,{"$f":"ROUND(AA286*(1-VLOOKUP(AF286,Discount[],3,0)),2)","v":223.97},null,40180,"O505"]
[8718528020500,"Artikel",8718528020500,"STUKS","Buva duoslot tbv L1/L3","","","HENS","SLOTEN","LUXBUITEN","","","SLOT","DUO SLOT","Inventory","",false,"","",0,0,0,"",false,false,false,258.68,313,{"$f":"ROUND(AA287*(1-VLOOKUP(AF287,Discount[],3,0)),2)","v":258.68},null,40650,"O505"]
[8718528020517,"Artikel",8718528020517,"STUKS","Buva duoslot tbv R2/R4","","","HENS","SLOTEN","LUXBUITEN","","","SLOT","DUO SLOT","Inventory","",false,"","",0,0,0,"",false,false,false,258.68,313,{"$f":"ROUND(AA288*(1-VLOOKUP(AF288,Discount[],3,0)),2)","v":258.68},null,40650,"O505"]
[8718528232002,"Artikel",8718528232002,"STUKS","MultiFin Gen2 F20-55-72 SB","vpl 1772 afg.dr 2 + 4","","HENS","SLOTEN","LUXBUITEN","","","SLOT","BUVA 6220/7220 SB","Inventory","",false,"","",0,0,0,"",false,false,false,138.02,167,{"$f":"ROUND(AA289*(1-VLOOKUP(AF289,Discount[],3,0)),2)","v":138.02},null,40750,"O500"]
[8718528232026,"Artikel",8718528232026,"STUKS","MultiFin Gen2 F20-55-72 SB","vpl 1772 afg.dr 1 + 3","","HENS","SLOTEN","LUXBUITEN","","","SLOT","BUVA 6220/7220 SB","Inventory","",false,"","",0,0,0,"",false,false,false,138.02,167,{"$f":"ROUND(AA290*(1-VLOOKUP(AF290,Discount[],3,0)),2)","v":138.02},null,40750,"O500"]
[8718528232088,"Artikel",8718528232088,"STUKS","MultiFin Gen2 F20-55-72 SB","vpl 2090 afg.dr 2 + 4","","HENS","SLOTEN","LUXBUITEN","","","SLOT","BUVA 6220/7220 SB","Inventory","",false,"","",0,0,0,"",false,false,false,138.02,167,{"$f":"ROUND(AA291*(1-VLOOKUP(AF291,Discount[],3,0)),2)","v":138.02},null,40750,"O500"]
[8718528232101,"Artikel",8718528232101,"STUKS","MultiFin Gen2 F20-55-72 SB","vpl 2090 afg.dr 1 + 3","","HENS","SLOTEN","LUXBUITEN","","","SLOT","BUVA 6220/7220 SB","Inventory","",false,"","",0,0,0,"",false,false,false,138.02,167,{"$f":"ROUND(AA292*(1-VLOOKUP(AF292,Discount[],3,0)),2)","v":138.02},null,40750,"O500"]
[8718528232163,"Artikel",8718528232163,"STUKS","MultiFin Gen2 F20-55-72 SB","vpl 1772 afg.dr 2 + 4","","HENS","SLOTEN","LUXBUITEN","","","SLOT","BUVA 6220/7220 SB","Inventory","",false,"","",0,0,0,"",false,false,false,138.02,167,{"$f":"ROUND(AA293*(1-VLOOKUP(AF293,Discount[],3,0)),2)","v":138.02},null,40750,"O500"]
[8718528232187,"Artikel",8718528232187,"STUKS","MultiFin Gen2 F20-55-72 SB","vpl 1772 afg.dr 1 + 3","","HENS","SLOTEN","LUXBUITEN","","","SLOT","BUVA 6220/7220 SB","Inventory","",false,"","",0,0,0,"",false,false,false,138.02,167,{"$f":"ROUND(AA294*(1-VLOOKUP(AF294,Discount[],3,0)),2)","v":138.02},null,40750,"O500"]
[8718528232248,"Artikel",8718528232248,"STUKS","MultiFin Gen2 F20-55-72 SB","vpl 2090 afg.dr 2 + 4","","HENS","SLOTEN","LUXBUITEN","","","SLOT","BUVA 6220/7220 SB","Inventory","",false,"","",0,0,0,"",false,false,false,138.02,167,{"$f":"ROUND(AA295*(1-VLOOKUP(AF295,Discount[],3,0)),2)","v":138.02},null,40750,"O500"]
[8718528232262,"Artikel",8718528232262,"STUKS","MultiFin Gen2 F20-55-72 SB","vpl 2090 afg.dr 1 + 3","","HENS","SLOTEN","LUXBUITEN","","","SLOT","BUVA 6220/7220 SB","Inventory","",false,"","",0,0,0,"",false,false,false,138.02,167,{"$f":"ROUND(AA296*(1-VLOOKUP(AF296,Discount[],3,0)),2)","v":138.02},null,40750,"O500"]
[8718528157053,"Artikel",8718528157053,"STUKS","SLIM tbv Buva 6220/7220/6320","*uitsluitend voor RDC*","see drawing 5386-09 v4","ACCESSOIRES","OVERIG","","","","INFREESMAL","","Inventory","",false,"","",0,0,0,"",false,false,false,82.64,100,{"$f":"ROUND(AA297*(1-VLOOKUP(AF297,Discount[],3,0)),2)","v":82.64},null,40980,"SD/SG"]
[8718528157060,"Artikel",8718528157060,"STUKS","SLIM tbv Buva 6220/7220/6320","","","ACCESSOIRES","OVERIG","","","","INFREESMAL","","Inventory","",false,"","",0,0,0,"",false,false,false,82.64,100,{"$f":"ROUND(AA298*(1-VLOOKUP(AF298,Discount[],3,0)),2)","v":82.64},null,40980,"SD/SG"]
[8718528231456,"Artikel",8718528231456,"STUKS","SLIM tbv Buva 6220/7220/6320S","SEN","","ACCESSOIRES","OVERIG","","","","INFREESMAL","","Inventory","",false,"","",0,0,0,"",false,false,false,82.64,100,{"$f":"ROUND(AA299*(1-VLOOKUP(AF299,Discount[],3,0)),2)","v":82.64},null,40980,"SD/SG"]
[8718528231463,"Artikel",8718528231463,"STUKS","SLIM tbv Buva 6220/7220/6320S","SEN *uitsluitend voor RDC*","","ACCESSOIRES","OVERIG","","","","INFREESMAL","","Inventory","",false,"","",0,0,0,"",false,false,false,82.64,100,{"$f":"ROUND(AA300*(1-VLOOKUP(AF300,Discount[],3,0)),2)","v":82.64},null,40980,"SD/SG"]
[8718528157077,"Artikel",8718528157077,"STUKS","SLIM tbv Buva 6220 DUO","","","ACCESSOIRES","OVERIG","","","","INFREESMAL","","Inventory","",false,"","",0,0,0,"",false,false,false,82.64,100,{"$f":"ROUND(AA301*(1-VLOOKUP(AF301,Discount[],3,0)),2)","v":82.64},null,40980,"SD/SG"]
[8718528297858,"Artikel",8718528297858,"STUKS","SLIM tbv Nemef 4900","*uitsluitend voor RDC*","","ACCESSOIRES","OVERIG","","","","INFREESMAL","","Inventory","",false,"","",0,0,0,"",false,false,false,82.64,100,{"$f":"ROUND(AA302*(1-VLOOKUP(AF302,Discount[],3,0)),2)","v":82.64},null,40980,"SD/SG"]
[8718528231470,"Artikel",8718528231470,"STUKS","SLIM tbv Buva Ergonomic","","","ACCESSOIRES","OVERIG","","","","INFREESMAL","","Inventory","",false,"","",0,0,0,"",false,false,false,82.64,100,{"$f":"ROUND(AA303*(1-VLOOKUP(AF303,Discount[],3,0)),2)","v":82.64},null,40980,"SD/SG"]
[8718528297841,"Artikel",8718528297841,"STUKS","SLIM tbv Buva 6220/7220/6320","*uitsluitend voor RDC*","","ACCESSOIRES","OVERIG","","","","INFREESMAL","","Inventory","",false,"","",0,0,0,"",false,false,false,82.64,100,{"$f":"ROUND(AA304*(1-VLOOKUP(AF304,Discount[],3,0)),2)","v":82.64},null,40980,"SD/SG"]
[8718528297865,"Artikel",8718528297865,"STUKS","SLIM tbv KFV 4500-4900 W268","*uitsluitend voor RDC*","","ACCESSOIRES","OVERIG","","","","INFREESMAL","","Inventory","",false,"","",0,0,0,"",false,false,false,82.64,100,{"$f":"ROUND(AA305*(1-VLOOKUP(AF305,Discount[],3,0)),2)","v":82.64},null,40980,"SD/SG"]
[8718528231562,"Artikel",8718528231562,"STUKS","SLIM tbv KFV 5500S W269/W270","","","ACCESSOIRES","OVERIG","","","","INFREESMAL","","Inventory","",false,"","",0,0,0,"",false,false,false,82.64,100,{"$f":"ROUND(AA306*(1-VLOOKUP(AF306,Discount[],3,0)),2)","v":82.64},null,40980,"SD/SG"]
[8718528232958,"Artikel",8718528232958,"STUKS","SLIM tbv Buva MultiFin","acc. drawing 0888-21","","ACCESSOIRES","OVERIG","","","","INFREESMAL","","Inventory","",false,"","",0,0,0,"",false,false,false,82.64,100,{"$f":"ROUND(AA307*(1-VLOOKUP(AF307,Discount[],3,0)),2)","v":82.64},null,40980,"SD/SG"]
[8718528356166,"Artikel",8718528356166,"STUKS","Sluitkom infreesmal","tbv Renovatie Multifin Gen2","sluitkom 6025+ en 2x InLine+bijzetkommen vlgs tek.5046-24","ACCESSOIRES","OVERIG","","","","INFREESMAL","","Inventory","",false,"","",0,0,0,"",false,false,false,82.64,100,{"$f":"ROUND(AA308*(1-VLOOKUP(AF308,Discount[],3,0)),2)","v":82.64},null,40980,"SD/SG"]
[8718528103753,"Artikel",8718528103753,"STUKS","HR+ 4-10-*4 Top i+ Argon u=1,5","WK 1111-1118","880x2115, glasmaat:470x915mm","GLAS","","LUXBUITEN","VNM","1115","BLANK","ISOLATIEGLAS","Inventory","",false,"","",0,0,0,"",false,false,false,109.09,132,{"$f":"ROUND(AA309*(1-VLOOKUP(AF309,Discount[],3,0)),2)","v":109.09},null,41580,"P105"]
[8718528103760,"Artikel",8718528103760,"STUKS","HR+ 4-10-*4 Top i+ Argon u=1,5","WK 1111-1118","930x2115, glasmaat:470x915mm","GLAS","","LUXBUITEN","VNM","1115","BLANK","ISOLATIEGLAS","Inventory","",false,"","",0,0,0,"",false,false,false,109.09,132,{"$f":"ROUND(AA310*(1-VLOOKUP(AF310,Discount[],3,0)),2)","v":109.09},null,41580,"P105"]
[8718528157237,"Artikel",8718528157237,"STUKS","HR+ 4-10-*4 Top i+ Argon u=1,5","WK 1111-1118","930x2115, glasmaat:470x915mm","GLAS","","LUXBUITEN","VNM","1115","BLANK","ISOLATIEGLAS","Inventory","",false,"","",0,0,0,"",false,false,false,109.09,132,{"$f":"ROUND(AA311*(1-VLOOKUP(AF311,Discount[],3,0)),2)","v":109.09},null,41580,"P105"]
[8718528157244,"Artikel",8718528157244,"STUKS","HR+ 4-10-*4 Top i+ Argon u=1,5","WK 1434 880x2115","","GLAS","","LUXBUITEN","DD","1434","BLANK","ISOLATIEGLAS","Inventory","",false,"","",0,0,0,"",false,false,false,256.2,310,{"$f":"ROUND(AA312*(1-VLOOKUP(AF312,Discount[],3,0)),2)","v":256.2},null,43760,"P106"]
[8718528338469,"Artikel",8718528338469,"STUKS","HR+ 4-10-*4 Top i+ Argon u=1,5","WK 1434 930x2115","","GLAS","","LUXBUITEN","DD","1434","BLANK","ISOLATIEGLAS","Inventory","",false,"","",0,0,0,"",false,false,false,256.2,310,{"$f":"ROUND(AA313*(1-VLOOKUP(AF313,Discount[],3,0)),2)","v":256.2},null,43760,"P106"]
[8718528338483,"Artikel",8718528338483,"STUKS","HR+ 4-10-*4 Top i+ Argon u=1,5","WK 1434 930x2340","","GLAS","","LUXBUITEN","DD","1434","BLANK","ISOLATIEGLAS","Inventory","",false,"","",0,0,0,"",false,false,false,256.2,310,{"$f":"ROUND(AA314*(1-VLOOKUP(AF314,Discount[],3,0)),2)","v":256.2},null,43760,"P106"]
[8718528103777,"Artikel",8718528103777,"STUKS","HR+ 4-10-*4 Top i+ Argon u=1,5","WK 1435 930x2115","","GLAS","","LUXBUITEN","VD","1435","BLANK","ISOLATIEGLAS","Inventory","",false,"","",0,0,0,"",false,false,false,156.2,189,{"$f":"ROUND(AA315*(1-VLOOKUP(AF315,Discount[],3,0)),2)","v":156.2},null,43770,"P106"]
[8718528103784,"Artikel",8718528103784,"STUKS","HR+ 4-10-*4 Top i+ Argon u=1,5","WK 1545 880x2115","","GLAS","","LUXBUITEN","VD","1545","BLANK","ISOLATIEGLAS","Inventory","",false,"","",0,0,0,"",false,false,false,113.22,137,{"$f":"ROUND(AA316*(1-VLOOKUP(AF316,Discount[],3,0)),2)","v":113.22},null,43780,"P106"]
[8718528315392,"Artikel",8718528315392,"STUKS","HR+ 4-10-*4 Top i+ Argon u=1,5","WK1545 930x2115","","GLAS","","LUXBUITEN","VD","1545","BLANK","ISOLATIEGLAS","Inventory","",false,"","",0,0,0,"",false,false,false,113.22,137,{"$f":"ROUND(AA317*(1-VLOOKUP(AF317,Discount[],3,0)),2)","v":113.22},null,43780,"P106"]
[8718528133644,"Artikel",8718528133644,"STUKS","HR+ 4-10-*4 Top i+ Argon u=1,5","WK1546 930x2115","Glasmaat: 190 x 1069mm","GLAS","","LUXBUITEN","VD","1546","BLANK","ISOLATIEGLAS","Inventory","",false,"","",0,0,0,"",false,false,false,80.17,97,{"$f":"ROUND(AA318*(1-VLOOKUP(AF318,Discount[],3,0)),2)","v":80.17},null,43790,"P106"]
[8718528103791,"Artikel",8718528103791,"STUKS","HR+ 4-10-*4 Top i+ Argon u=1,5","WK 1546 930x2340","","GLAS","","LUXBUITEN","VD","1546","BLANK","ISOLATIEGLAS","Inventory","",false,"","",0,0,0,"",false,false,false,80.17,97,{"$f":"ROUND(AA319*(1-VLOOKUP(AF319,Discount[],3,0)),2)","v":80.17},null,43790,"P106"]
[8718528103807,"Artikel",8718528103807,"STUKS","HR+ 4-10-*4 Top i+ Argon u=1,5","WK 1547 880x2115","","GLAS","","LUXBUITEN","VD","1547","BLANK","ISOLATIEGLAS","Inventory","",false,"","",0,0,0,"",false,false,false,201.65,244,{"$f":"ROUND(AA320*(1-VLOOKUP(AF320,Discount[],3,0)),2)","v":201.65},null,43800,"P106"]
[8718528157251,"Artikel",8718528157251,"STUKS","HR+ 4-10-*4 Top i+ Argon u=1,5","WK 1547 930x2115","","GLAS","","LUXBUITEN","VD","1547","BLANK","ISOLATIEGLAS","Inventory","",false,"","",0,0,0,"",false,false,false,201.65,244,{"$f":"ROUND(AA321*(1-VLOOKUP(AF321,Discount[],3,0)),2)","v":201.65},null,43800,"P106"]
[8718528115510,"Artikel",8718528115510,"STUKS","Glas-in-lood model 1546-1","1 ruit, d=25 mm, U=1,4","","GLAS","","LUXBUITEN","VD","1546-1","GLAS-IN-LOOD","","Inventory","",false,"","",0,0,0,"",false,false,false,275.21,333,{"$f":"ROUND(AA322*(1-VLOOKUP(AF322,Discount[],3,0)),2)","v":275.21},null,43810,"P106"]
[8718528157268,"Artikel",8718528157268,"STUKS","HR+ 4-10-*4 Top i+ Argon u=1,5","WK 1901 880x2115","","GLAS","","LUXBUITEN","VD","1901","BLANK","ISOLATIEGLAS","Inventory","",false,"","",0,0,0,"",false,false,false,109.09,132,{"$f":"ROUND(AA323*(1-VLOOKUP(AF323,Discount[],3,0)),2)","v":109.09},null,43820,"P106"]
[8718528103838,"Artikel",8718528103838,"STUKS","HR+ 4-10-*4 Top i+ Argon u=1,5","WK 1901 930x2115","","GLAS","","LUXBUITEN","VD","1901","BLANK","ISOLATIEGLAS","Inventory","",false,"","",0,0,0,"",false,false,false,109.09,132,{"$f":"ROUND(AA324*(1-VLOOKUP(AF324,Discount[],3,0)),2)","v":109.09},null,43820,"P106"]
[8718528133798,"Artikel",8718528133798,"STUKS","HR+ 4-10-*4 Top i+ Argon u=1,5","WK 1902 880x2115","","GLAS","","LUXBUITEN","VD","1902","BLANK","ISOLATIEGLAS","Inventory","",false,"","",0,0,0,"",false,false,false,109.09,132,{"$f":"ROUND(AA325*(1-VLOOKUP(AF325,Discount[],3,0)),2)","v":109.09},null,43830,"P106"]
[8718528133804,"Artikel",8718528133804,"STUKS","HR+ 4-10-*4 Top i+ Argon u=1,5","WK 1902 930x2115","","GLAS","","LUXBUITEN","VD","1902","BLANK","ISOLATIEGLAS","Inventory","",false,"","",0,0,0,"",false,false,false,109.09,132,{"$f":"ROUND(AA326*(1-VLOOKUP(AF326,Discount[],3,0)),2)","v":109.09},null,43830,"P106"]
[8718528157275,"Artikel",8718528157275,"STUKS","Blank isolatieglas tbv WK1903","880x2115","","GLAS","","LUXBUITEN","VD","1903","BLANK","ISOLATIEGLAS","Inventory","",false,"","",0,0,0,"",false,false,false,130.58,158,{"$f":"ROUND(AA327*(1-VLOOKUP(AF327,Discount[],3,0)),2)","v":130.58},null,43840,"P106"]
[8718528157282,"Artikel",8718528157282,"STUKS","Blank isolatieglas tbv WK1903","930x2115","","GLAS","","LUXBUITEN","VD","1903","BLANK","ISOLATIEGLAS","Inventory","",false,"","",0,0,0,"",false,false,false,130.58,158,{"$f":"ROUND(AA328*(1-VLOOKUP(AF328,Discount[],3,0)),2)","v":130.58},null,43840,"P106"]
[8718528157299,"Artikel",8718528157299,"STUKS","Blank isolatieglas tbv WK1903","880x2340","","GLAS","","LUXBUITEN","VD","1903","BLANK","ISOLATIEGLAS","Inventory","",false,"","",0,0,0,"",false,false,false,130.58,158,{"$f":"ROUND(AA329*(1-VLOOKUP(AF329,Discount[],3,0)),2)","v":130.58},null,43840,"P106"]
[8718528157305,"Artikel",8718528157305,"STUKS","Blank isolatieglas tbv WK1903","930x2340","","GLAS","","LUXBUITEN","VD","1903","BLANK","ISOLATIEGLAS","Inventory","",false,"","",0,0,0,"",false,false,false,130.58,158,{"$f":"ROUND(AA330*(1-VLOOKUP(AF330,Discount[],3,0)),2)","v":130.58},null,43840,"P106"]
[8718528103821,"Artikel",8718528103821,"STUKS","HR+ 4-10-*4 Top i+ Argon u=1,5","WK 1931 880x2115","","GLAS","","LUXBUITEN","VD","1931","BLANK","ISOLATIEGLAS","Inventory","",false,"","",0,0,0,"",false,false,false,79.34,96,{"$f":"ROUND(AA331*(1-VLOOKUP(AF331,Discount[],3,0)),2)","v":79.34},null,43850,"P106"]
[8718528103845,"Artikel",8718528103845,"STUKS","HR+ 4-10-*4 Top i+ Argon u=1,5","WK 1932 880x2115","","GLAS","","LUXBUITEN","VD","1932","BLANK","ISOLATIEGLAS","Inventory","",false,"","",0,0,0,"",false,false,false,79.34,96,{"$f":"ROUND(AA332*(1-VLOOKUP(AF332,Discount[],3,0)),2)","v":79.34},null,43860,"P106"]
[8718528133811,"Artikel",8718528133811,"STUKS","HR+ 4-10-*4 Top i+ Argon u=1,5","WK 1932 930x2115","","GLAS","","LUXBUITEN","VD","1932","BLANK","ISOLATIEGLAS","Inventory","",false,"","",0,0,0,"",false,false,false,79.34,96,{"$f":"ROUND(AA333*(1-VLOOKUP(AF333,Discount[],3,0)),2)","v":79.34},null,43860,"P106"]
[8718528133828,"Artikel",8718528133828,"STUKS","HR+ 4-10-*4 Top i+ Argon u=1,5","WK 1932 880x2340","","GLAS","","LUXBUITEN","VD","1932","BLANK","ISOLATIEGLAS","Inventory","",false,"","",0,0,0,"",false,false,false,79.34,96,{"$f":"ROUND(AA334*(1-VLOOKUP(AF334,Discount[],3,0)),2)","v":79.34},null,43860,"P106"]
[8718528338506,"Artikel",8718528338506,"STUKS","HR+ 4-10-*4 Top i+ Argon u=1,5","WK 1932 930x2340","","GLAS","","LUXBUITEN","VD","1932","BLANK","ISOLATIEGLAS","Inventory","",false,"","",0,0,0,"",false,false,false,79.34,96,{"$f":"ROUND(AA335*(1-VLOOKUP(AF335,Discount[],3,0)),2)","v":79.34},null,43860,"P106"]
[8718528315415,"Artikel",8718528315415,"STUKS","HR+ 4-10-*4 Top i+ Argon u=1,5","WK 1933 880x2115","","GLAS","","LUXBUITEN","VD","1933","BLANK","ISOLATIEGLAS","Inventory","",false,"","",0,0,0,"",false,false,false,130.58,158,{"$f":"ROUND(AA336*(1-VLOOKUP(AF336,Discount[],3,0)),2)","v":130.58},null,43870,"P106"]
[8718528315422,"Artikel",8718528315422,"STUKS","HR+ 4-10-*4 Top i+ Argon u=1,5","WK 1933 930x2115","","GLAS","","LUXBUITEN","VD","1933","BLANK","ISOLATIEGLAS","Inventory","",false,"","",0,0,0,"",false,false,false,130.58,158,{"$f":"ROUND(AA337*(1-VLOOKUP(AF337,Discount[],3,0)),2)","v":130.58},null,43870,"P106"]
[8718528315439,"Artikel",8718528315439,"STUKS","HR+ 4-10-*4 Top i+ Argon u=1,5","WK 1933 880x2340","","GLAS","","LUXBUITEN","VD","1933","BLANK","ISOLATIEGLAS","Inventory","",false,"","",0,0,0,"",false,false,false,130.58,158,{"$f":"ROUND(AA338*(1-VLOOKUP(AF338,Discount[],3,0)),2)","v":130.58},null,43870,"P106"]
[8718528315446,"Artikel",8718528315446,"STUKS","HR+ 4-10-*4 Top i+ Argon u=1,5","WK 1933 930x2340","","GLAS","","LUXBUITEN","VD","1933","BLANK","ISOLATIEGLAS","Inventory","",false,"","",0,0,0,"",false,false,false,130.58,158,{"$f":"ROUND(AA339*(1-VLOOKUP(AF339,Discount[],3,0)),2)","v":130.58},null,43870,"P106"]
[8718528103852,"Artikel",8718528103852,"STUKS","HR+ 4-10-*4 Top i+ Argon u=1,5","WK 1961 930x2115","","GLAS","","LUXBUITEN","VD","1961","BLANK","ISOLATIEGLAS","Inventory","",false,"","",0,0,0,"",false,false,false,180.17,218,{"$f":"ROUND(AA340*(1-VLOOKUP(AF340,Discount[],3,0)),2)","v":180.17},null,43880,"P106"]
[8718528103869,"Artikel",8718528103869,"STUKS","HR+ 4-10-*4 Top i+ Argon u=1,5","WK 1962 930x2115","","GLAS","","LUXBUITEN","VD","1962","BLANK","ISOLATIEGLAS","Inventory","",false,"","",0,0,0,"",false,false,false,79.34,96,{"$f":"ROUND(AA341*(1-VLOOKUP(AF341,Discount[],3,0)),2)","v":79.34},null,43890,"P106"]
[8718528103876,"Artikel",8718528103876,"STUKS","HR+ 4-10-*4 Top i+ Argon u=1,5","WK 2003 880x2115","","GLAS","","LUXBUITEN","VD","2003","BLANK","ISOLATIEGLAS","Inventory","",false,"","",0,0,0,"",false,false,false,231.4,280,{"$f":"ROUND(AA342*(1-VLOOKUP(AF342,Discount[],3,0)),2)","v":231.4},null,43900,"P106"]
[8718528103883,"Artikel",8718528103883,"STUKS","HR+ 4-10-*4 Top i+ Argon u=1,5","WK 2031 930x2115","","GLAS","","LUXBUITEN","VD","2031","BLANK","ISOLATIEGLAS","Inventory","",false,"","",0,0,0,"",false,false,false,79.34,96,{"$f":"ROUND(AA343*(1-VLOOKUP(AF343,Discount[],3,0)),2)","v":79.34},null,43920,"P106"]
[8718528157312,"Artikel",8718528157312,"STUKS","Blank isolatieglas tbv WK1904","880x2115","","GLAS","","LUXBUITEN","VD","1904","BLANK","ISOLATIEGLAS","Inventory","",false,"","",0,0,0,"",false,false,false,130.58,158,{"$f":"ROUND(AA344*(1-VLOOKUP(AF344,Discount[],3,0)),2)","v":130.58},null,43930,"P106"]
[8718528157329,"Artikel",8718528157329,"STUKS","Blank isolatieglas tbv WK1904","930x2115","","GLAS","","LUXBUITEN","VD","1904","BLANK","ISOLATIEGLAS","Inventory","",false,"","",0,0,0,"",false,false,false,130.58,158,{"$f":"ROUND(AA345*(1-VLOOKUP(AF345,Discount[],3,0)),2)","v":130.58},null,43930,"P106"]
[8718528157336,"Artikel",8718528157336,"STUKS","Blank isolatieglas tbv WK1904","880x2340","","GLAS","","LUXBUITEN","VD","1904","BLANK","ISOLATIEGLAS","Inventory","",false,"","",0,0,0,"",false,false,false,130.58,158,{"$f":"ROUND(AA346*(1-VLOOKUP(AF346,Discount[],3,0)),2)","v":130.58},null,43930,"P106"]
[8718528157343,"Artikel",8718528157343,"STUKS","Blank isolatieglas tbv WK1904","930x2340","","GLAS","","LUXBUITEN","VD","1904","BLANK","ISOLATIEGLAS","Inventory","",false,"","",0,0,0,"",false,false,false,130.58,158,{"$f":"ROUND(AA347*(1-VLOOKUP(AF347,Discount[],3,0)),2)","v":130.58},null,43930,"P106"]
[8718528058701,"Artikel",8718528058701,"STUKS","Veiligheidsrozetten Gold","met ktb","","HENS","BESLAG","","","","VEILIGHEIDSROZET","","Inventory","",false,"","",0,0,0,"",false,false,false,149.59,181,{"$f":"ROUND(AA348*(1-VLOOKUP(AF348,Discount[],3,0)),2)","v":149.59},null,45020,"O115"]
[8718528058770,"Artikel",8718528058770,"STUKS","Beldrukker Cloud PVD Chrome","","","HENS","BESLAG","","","","BELDRUKKER","CLOUD","Inventory","",false,"","",0,0,0,"",false,false,false,87.6,106,{"$f":"ROUND(AA349*(1-VLOOKUP(AF349,Discount[],3,0)),2)","v":87.6},null,45060,"O115"]
[8718528058664,"Artikel",8718528058664,"STUKS","Beldrukker Disc RVS","","","HENS","BESLAG","","","","BELDRUKKER","DISC","Inventory","",false,"","",0,0,0,"RVS",false,false,false,46.28,56,{"$f":"ROUND(AA350*(1-VLOOKUP(AF350,Discount[],3,0)),2)","v":46.28},null,45070,"O115"]
[8718528058787,"Artikel",8718528058787,"STUKS","Beldrukker Spot RVS","","","HENS","BESLAG","","","","BELDRUKKER","SPOT","Inventory","",false,"","",0,0,0,"RVS",false,false,false,57.02,69,{"$f":"ROUND(AA351*(1-VLOOKUP(AF351,Discount[],3,0)),2)","v":57.02},null,45080,"O115"]
[8718528307373,"Artikel",8718528307373,"STUKS","Briefplaat Flow RVS","","","HENS","BESLAG","","","","BRIEFPLAAT","FLOW","Inventory","",false,"","",0,0,0,"RVS",false,false,false,106.61,129,{"$f":"ROUND(AA352*(1-VLOOKUP(AF352,Discount[],3,0)),2)","v":106.61},null,45090,"O115"]
[8718528307335,"Artikel",8718528307335,"STUKS","Briefplaat River RVS","","","HENS","BESLAG","","","","BRIEFPLAAT","RIVER","Inventory","",false,"","",0,0,0,"RVS",false,false,false,115.7,140,{"$f":"ROUND(AA353*(1-VLOOKUP(AF353,Discount[],3,0)),2)","v":115.7},null,45100,"O115"]
[8718528058817,"Artikel",8718528058817,"STUKS","Tochtborstel met afdekplaat","Ocean PVD Gold","","HENS","BESLAG","","","","TOCHTBORSTEL","OCEAN","Inventory","",false,"","",0,0,0,"",false,false,false,147.11,178,{"$f":"ROUND(AA354*(1-VLOOKUP(AF354,Discount[],3,0)),2)","v":147.11},null,45110,"O115"]
[8718528307359,"Artikel",8718528307359,"STUKS","Tochtborstel Stream RVS","vierkant","","HENS","BESLAG","","","","TOCHTBORSTEL","STREAM","Inventory","",false,"","",0,0,0,"RVS",false,false,false,70.25,85,{"$f":"ROUND(AA355*(1-VLOOKUP(AF355,Discount[],3,0)),2)","v":70.25},null,45120,"O115"]
[8718528307397,"Artikel",8718528307397,"STUKS","Tochtborstel Shore RVS","rond","","HENS","BESLAG","","","","TOCHTBORSTEL","SHORE","Inventory","",false,"","",0,0,0,"RVS",false,false,false,70.25,85,{"$f":"ROUND(AA356*(1-VLOOKUP(AF356,Discount[],3,0)),2)","v":70.25},null,45130,"O115"]
[8718528307205,"Artikel",8718528307205,"STUKS","Voordeurknop Stone RVS","","","HENS","BESLAG","","","","VOORDEURKNOP","STONE","Inventory","",false,"","",0,0,0,"RVS",false,false,false,57.02,69,{"$f":"ROUND(AA357*(1-VLOOKUP(AF357,Discount[],3,0)),2)","v":57.02},null,45140,"O115"]
[8718528307229,"Artikel",8718528307229,"STUKS","Voordeurknop Block RVS","","","HENS","BESLAG","","","","VOORDEURKNOP","BLOCK","Inventory","",false,"","",0,0,0,"RVS",false,false,false,65.29,79,{"$f":"ROUND(AA358*(1-VLOOKUP(AF358,Discount[],3,0)),2)","v":65.29},null,45150,"O115"]
[8718528059135,"Artikel",8718528059135,"STUKS","Deurgreep Smart RVS 700 mm","","","HENS","BESLAG","","","","DEURGREEP","SMART","Inventory","",false,"","",0,0,0,"RVS",false,false,false,103.31,125,{"$f":"ROUND(AA359*(1-VLOOKUP(AF359,Discount[],3,0)),2)","v":103.31},null,45170,"O115"]
[8718528307298,"Artikel",8718528307298,"STUKS","Deurgreep Smart RVS 700 mm","","","HENS","BESLAG","","","","DEURGREEP","SMART","Inventory","",false,"","",0,0,0,"RVS",false,false,false,103.31,125,{"$f":"ROUND(AA360*(1-VLOOKUP(AF360,Discount[],3,0)),2)","v":103.31},null,45170,"O115"]
[8718528307274,"Artikel",8718528307274,"STUKS","Deurgreep Smart RVS 400 mm","","","HENS","BESLAG","","","","DEURGREEP","SMART","Inventory","",false,"","",0,0,0,"RVS",false,false,false,63.64,77,{"$f":"ROUND(AA361*(1-VLOOKUP(AF361,Discount[],3,0)),2)","v":63.64},null,45180,"O115"]
[8718528046005,"Artikel",8718528046005,"STUKS","Deurgreep Channel RVS 300mm","","","HENS","BESLAG","","","","DEURGREEP","CHANNEL","Inventory","",false,"","",0,0,0,"RVS",false,false,false,86.78,105,{"$f":"ROUND(AA362*(1-VLOOKUP(AF362,Discount[],3,0)),2)","v":86.78},null,45190,"O115"]
[8718528307311,"Artikel",8718528307311,"STUKS","Deurgreep Channel RVS 300mm","","","HENS","BESLAG","","","","DEURGREEP","CHANNEL","Inventory","",false,"","",0,0,0,"RVS",false,false,false,86.78,105,{"$f":"ROUND(AA363*(1-VLOOKUP(AF363,Discount[],3,0)),2)","v":86.78},null,45190,"O115"]
[8718528058688,"Artikel",8718528058688,"STUKS","Kierstandhouder Lock RVS","","","HENS","BESLAG","","","","KIERSTANDHOUDER","LOCK","Inventory","",false,"","",0,0,0,"RVS",false,false,false,68.6,83,{"$f":"ROUND(AA364*(1-VLOOKUP(AF364,Discount[],3,0)),2)","v":68.6},null,45200,"O115"]
[8718528065143,"Artikel",8718528065143,"STUKS","TriComfort®FSC® 935x2340 40mm","inkortbaar tot 815x2220",", FSC Mix 70% CU-COC 800339","DEUR","VLAK","VLAK","TC","3100","","","Inventory","FSCMTI",true,"","",2340,935,40,"",false,false,false,547.11,662,{"$f":"ROUND(AA365*(1-VLOOKUP(AF365,Discount[],3,0)),2)","v":547.11},null,45220,"D050"]
[8718528058916,"Artikel",8718528058916,"STUKS","Invisible scharnier Medium","mat chroom, afm. 111x29mm","","HENS","BESLAG","","","","SCHARNIER","","Inventory","",false,"","",0,0,0,"",false,false,false,70.25,85,{"$f":"ROUND(AA366*(1-VLOOKUP(AF366,Discount[],3,0)),2)","v":70.25},null,48450,"O500"]
[8718528075418,"Artikel",8718528075418,"STUKS","TriComfort®FSC® 935x2340 54mm","inkortbaar tot 815x2220",", FSC Mix 70% CU-COC 800339","DEUR","VLAK","VLAK","TC","3100","","","Inventory","FSCMTI",true,"","",0,0,54,"",false,false,false,614.05,743,{"$f":"ROUND(AA367*(1-VLOOKUP(AF367,Discount[],3,0)),2)","v":614.05},null,48460,"D050"]
[8718528230480,"Artikel",8718528230480,"STUKS","Set brandwerende slotplaatjes","hoofdkast pc 55 (set 4)","","HENS","SLOTEN","","","","BRANDW. PLAATJES","","Inventory","",false,"","",0,0,0,"",false,false,false,19.01,23,{"$f":"ROUND(AA368*(1-VLOOKUP(AF368,Discount[],3,0)),2)","v":19.01},null,49200,"O505"]
[8718528230497,"Artikel",8718528230497,"STUKS","Set brandwerende slotplaatjes","hoofdkast pc 72 (set 1)","","HENS","SLOTEN","","","","BRANDW. PLAATJES","","Inventory","",false,"","",0,0,0,"",false,false,false,19.01,23,{"$f":"ROUND(AA369*(1-VLOOKUP(AF369,Discount[],3,0)),2)","v":19.01},null,49200,"O505"]
[8718528306444,"Artikel",8718528306444,"STUKS","Set brandwerende slotplaatjes","hoofdkast pc 92 (set 17)","","HENS","SLOTEN","","","","BRANDW. PLAATJES","","Inventory","",false,"","",0,0,0,"",false,false,false,19.01,23,{"$f":"ROUND(AA370*(1-VLOOKUP(AF370,Discount[],3,0)),2)","v":19.01},null,49200,"O505"]
[8718528102824,"Artikel",8718528102824,"STUKS","BSW VH GL 818, 89x89x3mm","afgerond, compleet","","HENS","SCHARNIER","","","","SCHARNIER","BUVA","Inventory","",false,"","",0,0,0,"",false,false,false,9.09,11,{"$f":"ROUND(AA371*(1-VLOOKUP(AF371,Discount[],3,0)),2)","v":9.09},null,49250,"O505"]
[8718528102862,"Artikel",8718528102862,"STUKS","Buva Atlas scharnier 89x89 ai","NW gelagerd deurhelft","","HENS","SCHARNIER","","","","SCHARNIER","BUVA","Inventory","",false,"","",0,0,0,"",false,false,false,9.09,11,{"$f":"ROUND(AA372*(1-VLOOKUP(AF372,Discount[],3,0)),2)","v":9.09},null,49250,"O505"]
[8718528102879,"Artikel",8718528102879,"STUKS","Buva Atlas scharnier 89x89 ai","NW gelagerd compleet","","HENS","SCHARNIER","","","","SCHARNIER","BUVA","Inventory","",false,"","",0,0,0,"",false,false,false,9.09,11,{"$f":"ROUND(AA373*(1-VLOOKUP(AF373,Discount[],3,0)),2)","v":9.09},null,49250,"O505"]
[8718528106396,"Artikel",8718528106396,"STUKS","S2 scharnier 89x80x3 Optimaxx","extra doorgezet Dr 2+4 compl.","","HENS","SCHARNIER","","","","SCHARNIER","BUVA","Inventory","",false,"","",0,0,0,"",false,false,false,9.09,11,{"$f":"ROUND(AA374*(1-VLOOKUP(AF374,Discount[],3,0)),2)","v":9.09},null,49250,"O505"]
[8718528102749,"Artikel",8718528102749,"STUKS","Axa Smart Easyfix Topc. 89x89","1687-09-23/7V compleet","","HENS","SCHARNIER","","","","SCHARNIER","AXA","Inventory","",false,"","",0,0,0,"",false,false,false,9.09,11,{"$f":"ROUND(AA375*(1-VLOOKUP(AF375,Discount[],3,0)),2)","v":9.09},null,49260,"O505"]
[8718528102787,"Artikel",8718528102787,"STUKS","Axa Smart Easyfix Topc. 89x89","1687-09-23/7V deurhelft","","HENS","SCHARNIER","","","","SCHARNIER","AXA","Inventory","",false,"","",0,0,0,"",false,false,false,9.09,11,{"$f":"ROUND(AA376*(1-VLOOKUP(AF376,Discount[],3,0)),2)","v":9.09},null,49260,"O505"]
[8718528102794,"Artikel",8718528102794,"STUKS","Axa Smart Easyfix Topc. 89x89","1687-09-23/7V kozijnhelft","","HENS","SCHARNIER","","","","SCHARNIER","AXA","Inventory","",false,"","",0,0,0,"",false,false,false,9.09,11,{"$f":"ROUND(AA377*(1-VLOOKUP(AF377,Discount[],3,0)),2)","v":9.09},null,49260,"O505"]
[8718528102923,"Artikel",8718528102923,"STUKS","Axa Smart Easyfix 89x102 RENO","links, Al","","HENS","SCHARNIER","","","","SCHARNIER","AXA","Inventory","",false,"","",0,0,0,"",false,false,false,9.09,11,{"$f":"ROUND(AA378*(1-VLOOKUP(AF378,Discount[],3,0)),2)","v":9.09},null,49260,"O505"]
[8718528102930,"Artikel",8718528102930,"STUKS","Axa Smart Easyfix 89x102 RENO","rechts, Al","","HENS","SCHARNIER","","","","SCHARNIER","AXA","Inventory","",false,"","",0,0,0,"",false,false,false,9.09,11,{"$f":"ROUND(AA379*(1-VLOOKUP(AF379,Discount[],3,0)),2)","v":9.09},null,49260,"O505"]
[8718528106372,"Artikel",8718528106372,"STUKS","AxaSmart 1677-09-23/7 topcoat","89x89x3 compleet","","HENS","SCHARNIER","","","","SCHARNIER","AXA","Inventory","",false,"","",0,0,0,"",false,false,false,9.09,11,{"$f":"ROUND(AA380*(1-VLOOKUP(AF380,Discount[],3,0)),2)","v":9.09},null,49260,"O505"]
[8718528106358,"Artikel",8718528106358,"STUKS","S2 classic H600 KB F20-55-92","V02/07 vpl 1988 afgerond","Dr 1t/m4","HENS","SLOTEN","","","","SLOT","S2","Inventory","",false,"","",0,0,0,"",false,false,false,111.57,135,{"$f":"ROUND(AA381*(1-VLOOKUP(AF381,Discount[],3,0)),2)","v":111.57},null,49330,"O505"]
[8718528102527,"Artikel",8718528102527,"STUKS","Fuhr bovensluitstuk 312 t.b.v.","Fuhr 841","","HENS","SLOTEN","","","","BOVENSLUITSTUK","FUHR","Inventory","",false,"","",0,0,0,"",false,false,false,32.23,39,{"$f":"ROUND(AA382*(1-VLOOKUP(AF382,Discount[],3,0)),2)","v":32.23},null,53050,"O505"]
[8718528102541,"Artikel",8718528102541,"STUKS","Oploopplaat voor dagschoot","7 mm t.b.v. Fuhr 841","","HENS","SLOTEN","","","","OPLOOPPLAAT","FUHR","Inventory","",false,"","",0,0,0,"",false,false,false,4.13,5,{"$f":"ROUND(AA383*(1-VLOOKUP(AF383,Discount[],3,0)),2)","v":4.13},null,53060,"O505"]
[8718528020821,"Artikel",8718528020821,"SET","Set sluitpotten tbv Buva","Ergo-Duo","1x1478040+1x1478042+2x1478941+2x1478942","HENS","SLOTEN","","","","SLUITPOTTEN","BUVA","Inventory","",false,"","",0,0,0,"",false,false,false,41.32,50,{"$f":"ROUND(AA384*(1-VLOOKUP(AF384,Discount[],3,0)),2)","v":41.32},null,53070,"O505"]
[8718528086537,"Artikel",8718528086537,"STUKS","PVD-cleanerset","","","HENS","BESLAG","","","","","","Inventory","",false,"","",0,0,0,"",false,false,false,48.76,59,{"$f":"ROUND(AA385*(1-VLOOKUP(AF385,Discount[],3,0)),2)","v":48.76},null,53410,"O100"]
[8718528039076,"Artikel",8718528039076,"STUKS","Voordeurknop Mistral PVD","Bronze","","HENS","BESLAG","","","","VOORDEURKNOP","MISTRAL","Inventory","",false,"","",0,0,0,"",false,false,false,102.48,124,{"$f":"ROUND(AA386*(1-VLOOKUP(AF386,Discount[],3,0)),2)","v":102.48},null,53610,"O115"]
[8718528044841,"Artikel",8718528044841,"STUKS","Voordeurknop Mistral PVD","Nickel","","HENS","BESLAG","","","","VOORDEURKNOP","MISTRAL","Inventory","",false,"","",0,0,0,"",false,false,false,102.48,124,{"$f":"ROUND(AA387*(1-VLOOKUP(AF387,Discount[],3,0)),2)","v":102.48},null,53620,"O115"]
[8718528058947,"Artikel",8718528058947,"STUKS","Voordeurknop Mistral PVD","Chrome","","HENS","BESLAG","","","","VOORDEURKNOP","MISTRAL","Inventory","",false,"","",0,0,0,"",false,false,false,102.48,124,{"$f":"ROUND(AA388*(1-VLOOKUP(AF388,Discount[],3,0)),2)","v":102.48},null,53630,"O115"]
[8718528039045,"Artikel",8718528039045,"STUKS","Voordeurknop Sky PVD Bronze","","","HENS","BESLAG","","","","VOORDEURKNOP","SKY","Inventory","",false,"","",0,0,0,"",false,false,false,139.67,169,{"$f":"ROUND(AA389*(1-VLOOKUP(AF389,Discount[],3,0)),2)","v":139.67},null,53640,"O115"]
[8718528058954,"Artikel",8718528058954,"STUKS","Voordeurknop Sky PVD Nickel","","","HENS","BESLAG","","","","VOORDEURKNOP","SKY","Inventory","",false,"","",0,0,0,"",false,false,false,139.67,169,{"$f":"ROUND(AA390*(1-VLOOKUP(AF390,Discount[],3,0)),2)","v":139.67},null,53650,"O115"]
[8718528058961,"Artikel",8718528058961,"STUKS","Voordeurknop Sky PVD Chrome","","","HENS","BESLAG","","","","VOORDEURKNOP","SKY","Inventory","",false,"","",0,0,0,"",false,false,false,139.67,169,{"$f":"ROUND(AA391*(1-VLOOKUP(AF391,Discount[],3,0)),2)","v":139.67},null,53660,"O115"]
[8718528058718,"Artikel",8718528058718,"STUKS","Veiligheidsrozetten Bronze","met ktb","","HENS","BESLAG","","","","VEILIGHEIDSROZET","","Inventory","",false,"","",0,0,0,"",false,false,false,149.59,181,{"$f":"ROUND(AA392*(1-VLOOKUP(AF392,Discount[],3,0)),2)","v":149.59},null,53700,"O115"]
[8718528058725,"Artikel",8718528058725,"STUKS","Veiligheidsrozetten Nickel","met ktb","","HENS","BESLAG","","","","VEILIGHEIDSROZET","","Inventory","",false,"","",0,0,0,"",false,false,false,149.59,181,{"$f":"ROUND(AA393*(1-VLOOKUP(AF393,Discount[],3,0)),2)","v":149.59},null,53710,"O115"]
[8718528058732,"Artikel",8718528058732,"STUKS","Veiligheidsrozetten Chrome","met ktb","","HENS","BESLAG","","","","VEILIGHEIDSROZET","","Inventory","",false,"","",0,0,0,"",false,false,false,149.59,181,{"$f":"ROUND(AA394*(1-VLOOKUP(AF394,Discount[],3,0)),2)","v":149.59},null,53720,"O115"]
[8718528058749,"Artikel",8718528058749,"STUKS","Veiligheidsrozetten PVD Chrome","vierkant","","HENS","BESLAG","","","","VEILIGHEIDSROZET","","Inventory","",false,"","",0,0,0,"",false,false,false,174.38,211,{"$f":"ROUND(AA395*(1-VLOOKUP(AF395,Discount[],3,0)),2)","v":174.38},null,53730,"O115"]
[8718528134238,"Artikel",8718528134238,"STUKS","Veiligheidsrozet PVD Chrome","vierkant met ktb","","HENS","BESLAG","","","","VEILIGHEIDSROZET","","Inventory","",false,"","",0,0,0,"",false,false,false,174.38,211,{"$f":"ROUND(AA396*(1-VLOOKUP(AF396,Discount[],3,0)),2)","v":174.38},null,53730,"O115"]
[8718528040812,"Artikel",8718528040812,"STUKS","Beldrukker Cool PVD Bronze","","","HENS","BESLAG","","","","BELDRUKKER","COOL","Inventory","",false,"","",0,0,0,"",false,false,false,52.07,63,{"$f":"ROUND(AA397*(1-VLOOKUP(AF397,Discount[],3,0)),2)","v":52.07},null,53740,"O115"]
[8718528044865,"Artikel",8718528044865,"STUKS","Beldrukker Cool PVD Nickel","","","HENS","BESLAG","","","","BELDRUKKER","COOL","Inventory","",false,"","",0,0,0,"",false,false,false,52.07,63,{"$f":"ROUND(AA398*(1-VLOOKUP(AF398,Discount[],3,0)),2)","v":52.07},null,53750,"O115"]
[8718528040850,"Artikel",8718528040850,"STUKS","Beldrukker Sunny PVD Bronze","","","HENS","BESLAG","","","","BELDRUKKER","SUNNY","Inventory","",false,"","",0,0,0,"",false,false,false,52.07,63,{"$f":"ROUND(AA399*(1-VLOOKUP(AF399,Discount[],3,0)),2)","v":52.07},null,53760,"O115"]
[8718528044858,"Artikel",8718528044858,"STUKS","Beldrukker Sunny PVD Nickel","","","HENS","BESLAG","","","","BELDRUKKER","SUNNY","Inventory","",false,"","",0,0,0,"",false,false,false,52.07,63,{"$f":"ROUND(AA400*(1-VLOOKUP(AF400,Discount[],3,0)),2)","v":52.07},null,53770,"O115"]
[8718528058763,"Artikel",8718528058763,"STUKS","Beldrukker Sunny PVD Chrome","","","HENS","BESLAG","","","","BELDRUKKER","SUNNY","Inventory","",false,"","",0,0,0,"",false,false,false,52.07,63,{"$f":"ROUND(AA401*(1-VLOOKUP(AF401,Discount[],3,0)),2)","v":52.07},null,53780,"O115"]
[8718528040904,"Artikel",8718528040904,"STUKS","Deurklopper Spring PVD Bronze","","","HENS","BESLAG","","","","DEURKLOPPER","SPRING","Inventory","",false,"","",0,0,0,"",false,false,false,228.93,277,{"$f":"ROUND(AA402*(1-VLOOKUP(AF402,Discount[],3,0)),2)","v":228.93},null,53790,"O115"]
[8718528044926,"Artikel",8718528044926,"STUKS","Deurklopper Spring PVD Nickel","","","HENS","BESLAG","","","","DEURKLOPPER","SPRING","Inventory","",false,"","",0,0,0,"",false,false,false,228.93,277,{"$f":"ROUND(AA403*(1-VLOOKUP(AF403,Discount[],3,0)),2)","v":228.93},null,53800,"O115"]
[8718528058596,"Artikel",8718528058596,"STUKS","Deurklopper Spring PVD Chrome","","","HENS","BESLAG","","","","DEURKLOPPER","SPRING","Inventory","",false,"","",0,0,0,"",false,false,false,228.93,277,{"$f":"ROUND(AA404*(1-VLOOKUP(AF404,Discount[],3,0)),2)","v":228.93},null,53810,"O115"]
[8718528039281,"Artikel",8718528039281,"STUKS","Briefplaat River PVD Bronze","","","HENS","BESLAG","","","","BRIEFPLAAT","RIVER","Inventory","",false,"","",0,0,0,"",false,false,false,219.01,265,{"$f":"ROUND(AA405*(1-VLOOKUP(AF405,Discount[],3,0)),2)","v":219.01},null,53820,"O115"]
[8718528044902,"Artikel",8718528044902,"STUKS","Briefplaat River PVD Nickel","","","HENS","BESLAG","","","","BRIEFPLAAT","RIVER","Inventory","",false,"","",0,0,0,"",false,false,false,219.01,265,{"$f":"ROUND(AA406*(1-VLOOKUP(AF406,Discount[],3,0)),2)","v":219.01},null,53830,"O115"]
[8718528058985,"Artikel",8718528058985,"STUKS","Briefplaat River PVD Chrome","","","HENS","BESLAG","","","","BRIEFPLAAT","RIVER","Inventory","",false,"","",0,0,0,"",false,false,false,219.01,265,{"$f":"ROUND(AA407*(1-VLOOKUP(AF407,Discount[],3,0)),2)","v":219.01},null,53840,"O115"]
[8718528058794,"Artikel",8718528058794,"STUKS","Tochtborstel met afdekplaat","Ocean PVD Bronze","","HENS","BESLAG","","","","TOCHTBORSTEL","OCEAN","Inventory","",false,"","",0,0,0,"",false,false,false,147.11,178,{"$f":"ROUND(AA408*(1-VLOOKUP(AF408,Discount[],3,0)),2)","v":147.11},null,53880,"O115"]
[8718528058824,"Artikel",8718528058824,"STUKS","Tochtborstel met afdekplaat","Ocean PVD Nickel","","HENS","BESLAG","","","","TOCHTBORSTEL","OCEAN","Inventory","",false,"","",0,0,0,"",false,false,false,147.11,178,{"$f":"ROUND(AA409*(1-VLOOKUP(AF409,Discount[],3,0)),2)","v":147.11},null,53890,"O115"]
[8718528058800,"Artikel",8718528058800,"STUKS","Tochtborstel met afdekplaat","Ocean PVD Chrome","","HENS","BESLAG","","","","TOCHTBORSTEL","OCEAN","Inventory","",false,"","",0,0,0,"",false,false,false,147.11,178,{"$f":"ROUND(AA410*(1-VLOOKUP(AF410,Discount[],3,0)),2)","v":147.11},null,53900,"O115"]
[8718528038918,"Artikel",8718528038918,"STUKS","Deurkruk Frost PVD Bronze","links","","HENS","BESLAG","","","","DEURKRUK LIFETIME","FROST","Inventory","",false,"","",0,0,0,"",false,false,false,118.18,143,{"$f":"ROUND(AA411*(1-VLOOKUP(AF411,Discount[],3,0)),2)","v":118.18},null,53910,"O115"]
[8718528038925,"Artikel",8718528038925,"STUKS","Deurkruk Frost PVD Bronze","rechts","","HENS","BESLAG","","","","DEURKRUK LIFETIME","FROST","Inventory","",false,"","",0,0,0,"",false,false,false,118.18,143,{"$f":"ROUND(AA412*(1-VLOOKUP(AF412,Discount[],3,0)),2)","v":118.18},null,53910,"O115"]
[8718528044872,"Artikel",8718528044872,"STUKS","Deurkruk Frost PVD Nickel","links","","HENS","BESLAG","","","","DEURKRUK LIFETIME","FROST","Inventory","",false,"","",0,0,0,"",false,false,false,118.18,143,{"$f":"ROUND(AA413*(1-VLOOKUP(AF413,Discount[],3,0)),2)","v":118.18},null,53920,"O115"]
[8718528044889,"Artikel",8718528044889,"STUKS","Deurkruk Frost PVD Nickel","rechts","","HENS","BESLAG","","","","DEURKRUK LIFETIME","FROST","Inventory","",false,"","",0,0,0,"",false,false,false,118.18,143,{"$f":"ROUND(AA414*(1-VLOOKUP(AF414,Discount[],3,0)),2)","v":118.18},null,53920,"O115"]
[8718528058923,"Artikel",8718528058923,"STUKS","Deurkruk Frost PVD Chrome","links","","HENS","BESLAG","","","","DEURKRUK LIFETIME","FROST","Inventory","",false,"","",0,0,0,"",false,false,false,118.18,143,{"$f":"ROUND(AA415*(1-VLOOKUP(AF415,Discount[],3,0)),2)","v":118.18},null,53930,"O115"]
[8718528058930,"Artikel",8718528058930,"STUKS","Deurkruk Frost PVD Chrome","rechts","","HENS","BESLAG","","","","DEURKRUK LIFETIME","FROST","Inventory","",false,"","",0,0,0,"",false,false,false,118.18,143,{"$f":"ROUND(AA416*(1-VLOOKUP(AF416,Discount[],3,0)),2)","v":118.18},null,53930,"O115"]
[8718528058848,"Artikel",8718528058848,"STUKS","Deurkruk Bubble PVD Bronze","links + rechts","","HENS","BESLAG","","","","DEURKRUK LIFETIME","BUBBLE","Inventory","",false,"","",0,0,0,"",false,false,false,81.82,99,{"$f":"ROUND(AA417*(1-VLOOKUP(AF417,Discount[],3,0)),2)","v":81.82},null,53940,"O115"]
[8718528058855,"Artikel",8718528058855,"STUKS","Deurkruk Bubble PVD Nickel","links + rechts","","HENS","BESLAG","LUXBUITEN","","","DEURKRUK LIFETIME","BUBBLE","Inventory","",false,"","",0,0,0,"",false,false,false,81.82,99,{"$f":"ROUND(AA418*(1-VLOOKUP(AF418,Discount[],3,0)),2)","v":81.82},null,53950,"O115"]
[8718528156759,"Artikel",8718528156759,"STUKS","Deurkruk Breeze PVD Bronze","L/R","","HENS","BESLAG","LUXBUITEN","","","DEURKRUK LIFETIME","BREEZE","Inventory","",false,"","",0,0,0,"",false,false,false,85.12,103,{"$f":"ROUND(AA419*(1-VLOOKUP(AF419,Discount[],3,0)),2)","v":85.12},null,53960,"O115"]
[8718528156797,"Artikel",8718528156797,"STUKS","Deurkruk Breeze PVD Nickel","L/R","","HENS","BESLAG","LUXBUITEN","","","DEURKRUK LIFETIME","BREEZE","Inventory","",false,"","",0,0,0,"",false,false,false,85.12,103,{"$f":"ROUND(AA420*(1-VLOOKUP(AF420,Discount[],3,0)),2)","v":85.12},null,53970,"O115"]
[8718528059074,"Artikel",8718528059074,"STUKS","Deurkruk Breeze PVD Chrome","links","","HENS","BESLAG","LUXBUITEN","","","DEURKRUK LIFETIME","BREEZE","Inventory","",false,"","",0,0,0,"",false,false,false,85.12,103,{"$f":"ROUND(AA421*(1-VLOOKUP(AF421,Discount[],3,0)),2)","v":85.12},null,53980,"O115"]
[8718528059081,"Artikel",8718528059081,"STUKS","Deurkruk Breeze PVD Chrome","rechts","","HENS","BESLAG","LUXBUITEN","","","DEURKRUK LIFETIME","BREEZE","Inventory","",false,"","",0,0,0,"",false,false,false,85.12,103,{"$f":"ROUND(AA422*(1-VLOOKUP(AF422,Discount[],3,0)),2)","v":85.12},null,53980,"O115"]
[8718528156827,"Artikel",8718528156827,"STUKS","Deurkruk Breeze PVD Chrome","L/R","","HENS","BESLAG","LUXBUITEN","","","DEURKRUK LIFETIME","BREEZE","Inventory","",false,"","",0,0,0,"",false,false,false,85.12,103,{"$f":"ROUND(AA423*(1-VLOOKUP(AF423,Discount[],3,0)),2)","v":85.12},null,53980,"O115"]
[8718528103098,"Artikel",8718528103098,"STUKS","Los binnenrozet PVD Bronze","met ktb (52 mm)","","HENS","BESLAG","LUXBUITEN","","","LOS BINNENROZET","","Inventory","",false,"","",0,0,0,"",false,false,false,24.79,30,{"$f":"ROUND(AA424*(1-VLOOKUP(AF424,Discount[],3,0)),2)","v":24.79},null,53990,"O115"]
[8718528103074,"Artikel",8718528103074,"STUKS","Los binnenrozet PVD Nickel","met ktb (52 mm)","","HENS","BESLAG","LUXBUITEN","","","LOS BINNENROZET","","Inventory","",false,"","",0,0,0,"",false,false,false,24.79,30,{"$f":"ROUND(AA425*(1-VLOOKUP(AF425,Discount[],3,0)),2)","v":24.79},null,54000,"O115"]
[8718528103081,"Artikel",8718528103081,"STUKS","Los binnenrozet PVD Chrome","met ktb (52 mm)","","HENS","BESLAG","LUXBUITEN","","","LOS BINNENROZET","","Inventory","",false,"","",0,0,0,"",false,false,false,24.79,30,{"$f":"ROUND(AA426*(1-VLOOKUP(AF426,Discount[],3,0)),2)","v":24.79},null,54010,"O115"]
[8718528102596,"Artikel",8718528102596,"STUKS","VTS scharnierplaatje 1mm","transparant","","HENS","SCHARNIER","","","","","","Inventory","",false,"","",0,0,0,"",false,false,false,2.48,3,{"$f":"ROUND(AA427*(1-VLOOKUP(AF427,Discount[],3,0)),2)","v":2.48},null,54050,"O505"]
[8718528106402,"Artikel",8718528106402,"STUKS","Fuhr 841-N stolplijst U26x2087","T3 tbv loopdeur Dr.2+4","","HENS","SLOTEN","","","","SLOT","FUHR","Inventory","",false,"","",0,0,0,"",false,false,false,210.74,255,{"$f":"ROUND(AA428*(1-VLOOKUP(AF428,Discount[],3,0)),2)","v":210.74},null,54080,"O505"]
[8718528106419,"Artikel",8718528106419,"STUKS","Fuhr 841-N stolplijst U26x2087","T3 tbv loopdeur Dr.1+3","","HENS","SLOTEN","","","","SLOT","FUHR","Inventory","",false,"","",0,0,0,"",false,false,false,210.74,255,{"$f":"ROUND(AA429*(1-VLOOKUP(AF429,Discount[],3,0)),2)","v":210.74},null,54080,"O505"]
[8718528102534,"Artikel",8718528102534,"STUKS","Fuhr bovensluitstuk 612 t.b.v.","Fuhr 841","","HENS","SLOTEN","","","","BOVENSLUITSTUK","FUHR","Inventory","",false,"","",0,0,0,"",false,false,false,65.29,79,{"$f":"ROUND(AA430*(1-VLOOKUP(AF430,Discount[],3,0)),2)","v":65.29},null,54090,"O505"]
[8718528086551,"Artikel",8718528086551,"STUKS","Deurkruk Bubble PVD Chrome","L/R","","HENS","BESLAG","LUXBUITEN","","","DEURKRUK LIFETIME","BUBBLE","Inventory","",false,"","",0,0,0,"",false,false,false,81.82,99,{"$f":"ROUND(AA431*(1-VLOOKUP(AF431,Discount[],3,0)),2)","v":81.82},null,54310,"O115"]
[8718528086575,"Artikel",8718528086575,"STUKS","Briefplaat Lake Inox","","","HENS","BESLAG","LUXBUITEN","","","BRIEFPLAAT","LAKE","Inventory","",false,"","",0,0,0,"",false,false,false,49.59,60,{"$f":"ROUND(AA432*(1-VLOOKUP(AF432,Discount[],3,0)),2)","v":49.59},null,54320,"O115"]
[8718528086582,"Artikel",8718528086582,"STUKS","Tochtborstel met afdekplaat","Creek Inox","","HENS","BESLAG","LUXBUITEN","","","TOCHTBORSTEL","CREEK","Inventory","",false,"","",0,0,0,"",false,false,false,75.21,91,{"$f":"ROUND(AA433*(1-VLOOKUP(AF433,Discount[],3,0)),2)","v":75.21},null,54330,"O115"]
[8718528307182,"Artikel",8718528307182,"STUKS","Deurkrukstel Kosmos RVS","L/R","","HENS","BESLAG","LUXBUITEN","","","DEURKRUK LIFETIME","KOSMOS","Inventory","",false,"","",0,0,0,"RVS",false,false,false,61.98,75,{"$f":"ROUND(AA434*(1-VLOOKUP(AF434,Discount[],3,0)),2)","v":61.98},null,54350,"O110"]
[8718528335918,"Artikel",8718528335918,"STUKS","Deurkruk Kosmos RVS Rechts","","","HENS","BESLAG","LUXBUITEN","","","DEURKRUK LIFETIME","KOSMOS","Inventory","",false,"","",0,0,0,"RVS",false,false,false,61.98,75,{"$f":"ROUND(AA435*(1-VLOOKUP(AF435,Discount[],3,0)),2)","v":61.98},null,54350,"O110"]
[8718528335970,"Artikel",8718528335970,"STUKS","Deurkruk Kosmos RVS Links","","","HENS","BESLAG","LUXBUITEN","","","DEURKRUK LIFETIME","KOSMOS","Inventory","",false,"","",0,0,0,"RVS",false,false,false,61.98,75,{"$f":"ROUND(AA436*(1-VLOOKUP(AF436,Discount[],3,0)),2)","v":61.98},null,54350,"O110"]
[8718528086995,"Artikel",8718528086995,"STUKS","Driehoeksgreep RVS","","","HENS","BESLAG","LUXBUITEN","","","DRIEHOEKSGREEP","","Inventory","",false,"","",0,0,0,"RVS",false,false,false,219.83,266,{"$f":"ROUND(AA437*(1-VLOOKUP(AF437,Discount[],3,0)),2)","v":219.83},null,54900,"O115"]
[8718528134078,"Artikel",8718528134078,"STUKS","AC9201 (model WK6030) aanslagl","ten behoeve van binnendeuren","standaard, set a 2 stuks wit gegrond L=2450","ACCESSOIRES","AANSLAGLATTEN","","","","SLAGLATTEN","","Inventory","",false,"","",0,0,0,"",false,false,false,61.16,74,{"$f":"ROUND(AA438*(1-VLOOKUP(AF438,Discount[],3,0)),2)","v":61.16},null,57450,"R100"]
[8718528096055,"Artikel",8718528096055,"STUKS","WK042, 630x2015x38, bwh 244","PEFC-CS HW","V:RAL7035, vent.sl., isogl., solid/FJ","DEUR","BALKON","BALKON","BS","042","","","Inventory","HW",false,"","RAL 7035",2015,630,38,"",false,false,false,328.1,397,{"$f":"ROUND(AA439*(1-VLOOKUP(AF439,Discount[],3,0)),2)","v":328.1},null,57470,"E056"]
[8718528096062,"Artikel",8718528096062,"STUKS","WK042, 630x2115x38, bwh 244","PEFC-CS HW","V:RAL7035, vent.sl., isogl., solid/FJ","DEUR","BALKON","BALKON","BS","042","","","Inventory","HW",false,"","RAL 7035",2115,630,38,"",false,false,false,328.1,397,{"$f":"ROUND(AA440*(1-VLOOKUP(AF440,Discount[],3,0)),2)","v":328.1},null,57470,"E056"]
[8718528096109,"Artikel",8718528096109,"STUKS","WK042, 730x2115x38, bwh 244","PEFC-CS HW","V:RAL7035, vent.sl., isogl., solid/FJ","DEUR","BALKON","BALKON","BS","042","","","Inventory","HW",false,"","RAL 7035",2115,730,38,"",false,false,false,328.1,397,{"$f":"ROUND(AA441*(1-VLOOKUP(AF441,Discount[],3,0)),2)","v":328.1},null,57470,"E056"]
[8718528096116,"Artikel",8718528096116,"STUKS","WK042, 780x2015x38, bwh 244","PEFC-CS HW","V:RAL7035, vent.sl., isogl., solid/FJ","DEUR","BALKON","BALKON","BS","042","","","Inventory","HW",false,"","RAL 7035",2015,780,38,"",false,false,false,328.1,397,{"$f":"ROUND(AA442*(1-VLOOKUP(AF442,Discount[],3,0)),2)","v":328.1},null,57470,"E056"]
[8718528096123,"Artikel",8718528096123,"STUKS","WK042, 780x2115x38, bwh 244","PEFC-CS HW","V:RAL7035, vent.sl., isogl., solid/FJ","DEUR","BALKON","BALKON","BS","042","","","Inventory","HW",false,"","RAL 7035",2115,780,38,"",false,false,false,328.1,397,{"$f":"ROUND(AA443*(1-VLOOKUP(AF443,Discount[],3,0)),2)","v":328.1},null,57470,"E056"]
[8718528096130,"Artikel",8718528096130,"STUKS","WK042, 830x2015x38, bwh 244","PEFC-CS HW","V:RAL7035, vent.sl., isogl., solid/FJ","DEUR","BALKON","BALKON","BS","042","","","Inventory","HW",false,"","RAL 7035",2015,830,38,"",false,false,false,328.1,397,{"$f":"ROUND(AA444*(1-VLOOKUP(AF444,Discount[],3,0)),2)","v":328.1},null,57470,"E056"]
[8718528096147,"Artikel",8718528096147,"STUKS","WK042, 830x2115x38, bwh 244","PEFC-CS HW","V:RAL7035, vent.sl., isogl., solid/FJ","DEUR","BALKON","BALKON","BS","042","","","Inventory","HW",false,"","RAL 7035",2115,830,38,"",false,false,false,328.1,397,{"$f":"ROUND(AA445*(1-VLOOKUP(AF445,Discount[],3,0)),2)","v":328.1},null,57470,"E056"]
[8718528096161,"Artikel",8718528096161,"STUKS","WK042, 880x2115x38, bwh 244","PEFC-CS HW","V:RAL7035, vent.sl., isogl., solid/FJ","DEUR","BALKON","BALKON","BS","042","","","Inventory","HW",false,"","RAL 7035",2115,880,38,"",false,false,false,328.1,397,{"$f":"ROUND(AA446*(1-VLOOKUP(AF446,Discount[],3,0)),2)","v":328.1},null,57470,"E056"]
[8718528096178,"Artikel",8718528096178,"STUKS","WK042, 930x2015x38, bwh 244","PEFC-CS HW","V:RAL7035, vent.sl., isogl., solid/FJ","DEUR","BALKON","BALKON","BS","042","","","Inventory","HW",false,"","RAL 7035",2015,930,38,"",false,false,false,328.1,397,{"$f":"ROUND(AA447*(1-VLOOKUP(AF447,Discount[],3,0)),2)","v":328.1},null,57470,"E056"]
[8718528096185,"Artikel",8718528096185,"STUKS","WK042, 930x2115x38, bwh 244","PEFC-CS HW","V:RAL7035, vent.sl., isogl., solid/FJ","DEUR","BALKON","BALKON","BS","042","","","Inventory","HW",false,"","RAL 7035",2115,930,38,"",false,false,false,328.1,397,{"$f":"ROUND(AA448*(1-VLOOKUP(AF448,Discount[],3,0)),2)","v":328.1},null,57470,"E056"]
[8718528220030,"Artikel",8718528220030,"STUKS","WK042, 930x2115x38, bwh 244","PEFC-CS HW, NON-KOMO","V:RAL7035, vent.sl., isogl., solid/FJ","DEUR","BALKON","BALKON","BS","042","","","Inventory","HW",false,"","RAL 7035",2115,930,38,"",false,false,false,328.1,397,{"$f":"ROUND(AA449*(1-VLOOKUP(AF449,Discount[],3,0)),2)","v":328.1},null,57470,"E056"]
[8718528220887,"Artikel",8718528220887,"STUKS","WK042, 730x2015x38, bwh 244","PEFC-CS HW, NON-KOMO","V:RAL7035, vent.sl., isogl., solid/FJ","DEUR","BALKON","BALKON","BS","042","","","Inventory","HW",false,"","RAL 7035",2015,730,38,"",false,false,false,328.1,397,{"$f":"ROUND(AA450*(1-VLOOKUP(AF450,Discount[],3,0)),2)","v":328.1},null,57470,"E056"]
[8718528220894,"Artikel",8718528220894,"STUKS","WK042, 730x2115x38, bwh 244","PEFC-CS HW, NON-KOMO","V:RAL7035, vent.sl., isogl., solid/FJ","DEUR","BALKON","BALKON","BS","042","","","Inventory","HW",false,"","RAL 7035",2115,730,38,"",false,false,false,328.1,397,{"$f":"ROUND(AA451*(1-VLOOKUP(AF451,Discount[],3,0)),2)","v":328.1},null,57470,"E056"]
[8718528220948,"Artikel",8718528220948,"STUKS","WK042, 880x2115x38, bwh 244","PEFC-CS HW, NON-KOMO","V:RAL7035, vent.sl., isogl., solid/FJ","DEUR","BALKON","BALKON","BS","042","","","Inventory","HW",false,"","RAL 7035",2115,880,38,"",false,false,false,328.1,397,{"$f":"ROUND(AA452*(1-VLOOKUP(AF452,Discount[],3,0)),2)","v":328.1},null,57470,"E056"]
[8718528096192,"Artikel",8718528096192,"STUKS","WK042XL, 830x2340x38, bwh 269","PEFC-CS HW","V:RAL7035, vent.sl., isogl., solid/FJ","DEUR","BALKON","BALKON","BS","042","","","Inventory","HW",false,"","RAL 7035",2340,830,38,"",true,false,false,363.63,440,{"$f":"ROUND(AA453*(1-VLOOKUP(AF453,Discount[],3,0)),2)","v":363.63},null,57480,"E056"]
[8718528096208,"Artikel",8718528096208,"STUKS","WK042XL, 880x2340x38, bwh 269","PEFC-CS HW","V:RAL7035, vent.sl., isogl., solid/FJ","DEUR","BALKON","BALKON","BS","042","","","Inventory","HW",false,"","RAL 7035",2340,880,38,"",true,false,false,363.63,440,{"$f":"ROUND(AA454*(1-VLOOKUP(AF454,Discount[],3,0)),2)","v":363.63},null,57480,"E056"]
[8718528096215,"Artikel",8718528096215,"STUKS","WK042XL, 930x2340x38, bwh 269","PEFC-CS HW","V:RAL7035, vent.sl., isogl., solid/FJ","DEUR","BALKON","BALKON","BS","042","","","Inventory","HW",false,"","RAL 7035",2340,930,38,"",true,false,false,363.63,440,{"$f":"ROUND(AA455*(1-VLOOKUP(AF455,Discount[],3,0)),2)","v":363.63},null,57480,"E056"]
[8718528220047,"Artikel",8718528220047,"STUKS","WK042XL, 930x2340x38, bwh 269","PEFC-CS HW, NON-KOMO","V:RAL7035, vent.sl., isogl., solid/FJ","DEUR","BALKON","BALKON","BS","042","","","Inventory","HW",false,"","RAL 7035",2340,930,38,"",true,false,false,363.63,440,{"$f":"ROUND(AA456*(1-VLOOKUP(AF456,Discount[],3,0)),2)","v":363.63},null,57480,"E056"]
[8718528220955,"Artikel",8718528220955,"STUKS","WK042XL, 830x2340x38, bwh 269","PEFC-CS HW, NON-KOMO","V:RAL7035, vent.sl., isogl., solid/FJ","DEUR","BALKON","BALKON","BS","042","","","Inventory","HW",false,"","RAL 7035",2340,830,38,"",true,false,false,363.63,440,{"$f":"ROUND(AA457*(1-VLOOKUP(AF457,Discount[],3,0)),2)","v":363.63},null,57480,"E056"]
[8718528096222,"Artikel",8718528096222,"STUKS","WK046, 830x2015x38, bwh 664","PEFC-CS HW","V:RAL7035, vent.sl., isogl., solid/FJ","DEUR","BALKON","BALKON","BS","046","","","Inventory","HW",false,"","RAL 7035",2015,830,38,"",false,false,false,392.56,475,{"$f":"ROUND(AA458*(1-VLOOKUP(AF458,Discount[],3,0)),2)","v":392.56},null,57490,"E056"]
[8718528096239,"Artikel",8718528096239,"STUKS","WK046, 830x2115x38, bwh 664","PEFC-CS HW","V:RAL7035, vent.sl., isogl., solid/FJ","DEUR","BALKON","BALKON","BS","046","","","Inventory","HW",false,"","RAL 7035",2115,830,38,"",false,false,false,392.56,475,{"$f":"ROUND(AA459*(1-VLOOKUP(AF459,Discount[],3,0)),2)","v":392.56},null,57490,"E056"]
[8718528096246,"Artikel",8718528096246,"STUKS","WK046, 880x2015x38, bwh 664","PEFC-CS HW","V:RAL7035, vent.sl., isogl., solid/FJ","DEUR","BALKON","BALKON","BS","046","","","Inventory","HW",false,"","RAL 7035",2015,880,38,"",false,false,false,392.56,475,{"$f":"ROUND(AA460*(1-VLOOKUP(AF460,Discount[],3,0)),2)","v":392.56},null,57490,"E056"]
[8718528096260,"Artikel",8718528096260,"STUKS","WK046, 930x2015x38, bwh 664","PEFC-CS HW","V:RAL7035, vent.sl., isogl., solid/FJ","DEUR","BALKON","BALKON","BS","046","","","Inventory","HW",false,"","RAL 7035",2015,930,38,"",false,false,false,392.56,475,{"$f":"ROUND(AA461*(1-VLOOKUP(AF461,Discount[],3,0)),2)","v":392.56},null,57490,"E056"]
[8718528096277,"Artikel",8718528096277,"STUKS","WK046, 930x2115x38, bwh 664","PEFC-CS HW","V:RAL7035, vent.sl., isogl., solid/FJ","DEUR","BALKON","BALKON","BS","046","","","Inventory","HW",false,"","RAL 7035",2115,930,38,"",false,false,false,392.56,475,{"$f":"ROUND(AA462*(1-VLOOKUP(AF462,Discount[],3,0)),2)","v":392.56},null,57490,"E056"]
[8718528220078,"Artikel",8718528220078,"STUKS","WK046, 880x2115x38, bwh 664","PEFC-CS HW, NON-KOMO","V:RAL7035, vent.sl., isogl., solid/FJ","DEUR","BALKON","BALKON","BS","046","","","Inventory","HW",false,"","RAL 7035",2115,880,38,"",false,false,false,392.56,475,{"$f":"ROUND(AA463*(1-VLOOKUP(AF463,Discount[],3,0)),2)","v":392.56},null,57490,"E056"]
[8718528220085,"Artikel",8718528220085,"STUKS","WK046, 930x2015x38, bwh 664","PEFC-CS HW, NON-KOMO","V:RAL7035, vent.sl., isogl., solid/FJ","DEUR","BALKON","BALKON","BS","046","","","Inventory","HW",false,"","RAL 7035",2015,930,38,"",false,false,false,392.56,475,{"$f":"ROUND(AA464*(1-VLOOKUP(AF464,Discount[],3,0)),2)","v":392.56},null,57490,"E056"]
[8718528220962,"Artikel",8718528220962,"STUKS","WK046, 880x2015x38, bwh 664","PEFC-CS HW, NON-KOMO","V:RAL7035, vent.sl., isogl., solid/FJ","DEUR","BALKON","BALKON","BS","046","","","Inventory","HW",false,"","RAL 7035",2015,880,38,"",false,false,false,392.56,475,{"$f":"ROUND(AA465*(1-VLOOKUP(AF465,Discount[],3,0)),2)","v":392.56},null,57490,"E056"]
[8718528220979,"Artikel",8718528220979,"STUKS","WK046, 930x2115x38, bwh 664","PEFC-CS HW, NON-KOMO","V:RAL7035, vent.sl., isogl., solid/FJ","DEUR","BALKON","BALKON","BS","046","","","Inventory","HW",false,"","RAL 7035",2115,930,38,"",false,false,false,392.56,475,{"$f":"ROUND(AA466*(1-VLOOKUP(AF466,Discount[],3,0)),2)","v":392.56},null,57490,"E056"]
[8718528096291,"Artikel",8718528096291,"STUKS","WK046XL, 930x2340x38, bwh 689","PEFC-CS HW","V:RAL7035, vent.sl., isogl., solid/FJ","DEUR","BALKON","BALKON","BS","046","","","Inventory","HW",false,"","RAL 7035",2340,930,38,"",true,false,false,427.27,517,{"$f":"ROUND(AA467*(1-VLOOKUP(AF467,Discount[],3,0)),2)","v":427.27},null,57500,"E056"]
[8718528096307,"Artikel",8718528096307,"STUKS","WK048, 830x2015x38, bwh 874","PEFC-CS HW","V:RAL7035, vent.sl., isogl., solid/FJ","DEUR","BALKON","BALKON","BS","048","","","Inventory","HW",false,"","RAL 7035",2015,830,38,"",false,false,false,421.49,510,{"$f":"ROUND(AA468*(1-VLOOKUP(AF468,Discount[],3,0)),2)","v":421.49},null,57510,"E056"]
[8718528096314,"Artikel",8718528096314,"STUKS","WK048, 830x2115x38, bwh 874","PEFC-CS HW","V:RAL7035, vent.sl., isogl., solid/FJ","DEUR","BALKON","BALKON","BS","048","","","Inventory","HW",false,"","RAL 7035",2115,830,38,"",false,false,false,421.49,510,{"$f":"ROUND(AA469*(1-VLOOKUP(AF469,Discount[],3,0)),2)","v":421.49},null,57510,"E056"]
[8718528096338,"Artikel",8718528096338,"STUKS","WK048, 880x2115x38, bwh 874","PEFC-CS HW","V:RAL7035, vent.sl., isogl., solid/FJ","DEUR","BALKON","BALKON","BS","048","","","Inventory","HW",false,"","RAL 7035",2115,880,38,"",false,false,false,421.49,510,{"$f":"ROUND(AA470*(1-VLOOKUP(AF470,Discount[],3,0)),2)","v":421.49},null,57510,"E056"]
[8718528096345,"Artikel",8718528096345,"STUKS","WK048, 930x2015x38, bwh 874","PEFC-CS HW","V:RAL7035, vent.sl., isogl., solid/FJ","DEUR","BALKON","BALKON","BS","048","","","Inventory","HW",false,"","RAL 7035",2015,930,38,"",false,false,false,421.49,510,{"$f":"ROUND(AA471*(1-VLOOKUP(AF471,Discount[],3,0)),2)","v":421.49},null,57510,"E056"]
[8718528096352,"Artikel",8718528096352,"STUKS","WK048, 930x2115x38, bwh 874","PEFC-CS HW","V:RAL7035, vent.sl., isogl., solid/FJ","DEUR","BALKON","BALKON","BS","048","","","Inventory","HW",false,"","RAL 7035",2115,930,38,"",false,false,false,421.49,510,{"$f":"ROUND(AA472*(1-VLOOKUP(AF472,Discount[],3,0)),2)","v":421.49},null,57510,"E056"]
[8718528096369,"Artikel",8718528096369,"STUKS","WK048XL, 880x2340x38, bwh 899","PEFC-CS HW","V:RAL7035, vent.sl., isogl., solid/FJ","DEUR","BALKON","BALKON","BS","048","","","Inventory","HW",false,"","RAL 7035",2340,880,38,"",true,false,false,460.33,557,{"$f":"ROUND(AA473*(1-VLOOKUP(AF473,Discount[],3,0)),2)","v":460.33},null,57520,"E056"]
[8718528096376,"Artikel",8718528096376,"STUKS","WK048XL, 930x2340x38, bwh 899","PEFC-CS HW","V:RAL7035, vent.sl., isogl., solid/FJ","DEUR","BALKON","BALKON","BS","048","","","Inventory","HW",false,"","RAL 7035",2340,930,38,"",true,false,false,460.33,557,{"$f":"ROUND(AA474*(1-VLOOKUP(AF474,Discount[],3,0)),2)","v":460.33},null,57520,"E056"]
[8718528220986,"Artikel",8718528220986,"STUKS","WK048XL, 930x2340x38, bwh 899","PEFC-CS HW, NON-KOMO","V:RAL7035, vent.sl., isogl., solid/FJ","DEUR","BALKON","BALKON","BS","048","","","Inventory","HW",false,"","RAL 7035",2340,930,38,"",true,false,false,460.33,557,{"$f":"ROUND(AA475*(1-VLOOKUP(AF475,Discount[],3,0)),2)","v":460.33},null,57520,"E056"]
[8718528096390,"Artikel",8718528096390,"STUKS","Toiletgarnituur Chrome rond","","","HENS","BESLAG","BINNEN","","","TOILETGARNITUUR","ROND","Inventory","",false,"","",0,0,0,"",false,false,false,46.28,56,{"$f":"ROUND(AA476*(1-VLOOKUP(AF476,Discount[],3,0)),2)","v":46.28},null,103060,"O110"]
[8718528096406,"Artikel",8718528096406,"SET","Set sleutelrozetten Chrome","rond","","HENS","BESLAG","BINNEN","","","SLEUTELROZET","","Inventory","",false,"","",0,0,0,"",false,false,false,16.53,20,{"$f":"ROUND(AA477*(1-VLOOKUP(AF477,Discount[],3,0)),2)","v":16.53},null,103070,"O110"]
[8718528096413,"Artikel",8718528096413,"SET","Set cilinderrozetten Chrome","rond","","HENS","BESLAG","BINNEN","","","CILINDERROZET","","Inventory","",false,"","",0,0,0,"",false,false,false,16.53,20,{"$f":"ROUND(AA478*(1-VLOOKUP(AF478,Discount[],3,0)),2)","v":16.53},null,103080,"O110"]
[8718528019405,"Artikel",8718528019405,"STUKS","WK65010 C3 stomp","wit 830x2015 slg/vpl","FSC Mix 70% CU-COC 800339","DEUR","BINNEN","BINNEN","MODERN","65010","","","Inventory","",true,"STOMP","",2015,830,38,"",false,false,false,451.24,546,{"$f":"ROUND(AA479*(1-VLOOKUP(AF479,Discount[],3,0)),2)","v":451.24},null,103630,"B055"]
[8718528019436,"Artikel",8718528019436,"STUKS","WK65010 C3 stomp","wit 830x2115 slg/vpl","FSC Mix 70% CU-COC 800339","DEUR","BINNEN","BINNEN","MODERN","65010","","","Inventory","",true,"STOMP","",2115,830,38,"",false,false,false,451.24,546,{"$f":"ROUND(AA480*(1-VLOOKUP(AF480,Discount[],3,0)),2)","v":451.24},null,103630,"B055"]
[8718528019467,"Artikel",8718528019467,"STUKS","WK65010 XL C3 stomp","wit 830x2315 slg/vpl","FSC Mix 70% CU-COC 800339","DEUR","BINNEN","BINNEN","MODERN","65010","","","Inventory","",true,"STOMP","",2315,830,38,"",false,false,false,451.24,546,{"$f":"ROUND(AA481*(1-VLOOKUP(AF481,Discount[],3,0)),2)","v":451.24},null,103630,"B055"]
[8718528019498,"Artikel",8718528019498,"STUKS","WK65010 C3 stomp","wit 880x2015 slg/vpl","FSC Mix 70% CU-COC 800339","DEUR","BINNEN","BINNEN","MODERN","65010","","","Inventory","",true,"STOMP","",2015,880,38,"",false,false,false,451.24,546,{"$f":"ROUND(AA482*(1-VLOOKUP(AF482,Discount[],3,0)),2)","v":451.24},null,103630,"B055"]
[8718528019504,"Artikel",8718528019504,"STUKS","WK65010 C3 stomp","wit 880x2115 slg/vpl","FSC Mix 70% CU-COC 800339","DEUR","BINNEN","BINNEN","MODERN","65010","","","Inventory","",true,"STOMP","",2115,880,38,"",false,false,false,451.24,546,{"$f":"ROUND(AA483*(1-VLOOKUP(AF483,Discount[],3,0)),2)","v":451.24},null,103630,"B055"]
[8718528019535,"Artikel",8718528019535,"STUKS","WK65010 XL C3 stomp","wit 880x2315 slg/vpl","FSC Mix 70% CU-COC 800339","DEUR","BINNEN","BINNEN","MODERN","65010","","","Inventory","",true,"STOMP","",2315,880,38,"",false,false,false,451.24,546,{"$f":"ROUND(AA484*(1-VLOOKUP(AF484,Discount[],3,0)),2)","v":451.24},null,103630,"B055"]
[8718528019566,"Artikel",8718528019566,"STUKS","WK65010 C3 stomp","wit 930x2015 slg/vpl","FSC Mix 70% CU-COC 800339","DEUR","BINNEN","BINNEN","MODERN","65010","","","Inventory","",true,"STOMP","",2015,930,38,"",false,false,false,451.24,546,{"$f":"ROUND(AA485*(1-VLOOKUP(AF485,Discount[],3,0)),2)","v":451.24},null,103630,"B055"]
[8718528019573,"Artikel",8718528019573,"STUKS","WK65010 C3 stomp","wit 930x2115 slg/vpl","FSC Mix 70% CU-COC 800339","DEUR","BINNEN","BINNEN","MODERN","65010","","","Inventory","",true,"STOMP","",2115,930,38,"",false,false,false,451.24,546,{"$f":"ROUND(AA486*(1-VLOOKUP(AF486,Discount[],3,0)),2)","v":451.24},null,103630,"B055"]
[8718528019603,"Artikel",8718528019603,"STUKS","WK65010 XL C3 stomp","wit 930x2315 slg/vpl","FSC Mix 70% CU-COC 800339","DEUR","BINNEN","BINNEN","MODERN","65010","","","Inventory","",true,"STOMP","",2315,930,38,"",false,false,false,451.24,546,{"$f":"ROUND(AA487*(1-VLOOKUP(AF487,Discount[],3,0)),2)","v":451.24},null,103630,"B055"]
[8718528101490,"Artikel",8718528101490,"STUKS","WK65010 C3 stomp","wit 730x2015 slg/vpl","FSC Mix 70% CU-COC 800339","DEUR","BINNEN","BINNEN","MODERN","65010","","","Inventory","",true,"STOMP","",2015,730,38,"",false,false,false,451.24,546,{"$f":"ROUND(AA488*(1-VLOOKUP(AF488,Discount[],3,0)),2)","v":451.24},null,103630,"B055"]
[8718528101506,"Artikel",8718528101506,"STUKS","WK65010 C3 stomp","wit 730x2115 slg/vpl","FSC Mix 70% CU-COC 800339","DEUR","BINNEN","BINNEN","MODERN","65010","","","Inventory","",true,"STOMP","",2115,730,38,"",false,false,false,451.24,546,{"$f":"ROUND(AA489*(1-VLOOKUP(AF489,Discount[],3,0)),2)","v":451.24},null,103630,"B055"]
[8718528101513,"Artikel",8718528101513,"STUKS","WK65010 XL C3 stomp","wit 730x2315 slg/vpl","FSC Mix 70% CU-COC 800339","DEUR","BINNEN","BINNEN","MODERN","65010","","","Inventory","",true,"STOMP","",2315,730,38,"",false,false,false,451.24,546,{"$f":"ROUND(AA490*(1-VLOOKUP(AF490,Discount[],3,0)),2)","v":451.24},null,103630,"B055"]
[8718528101520,"Artikel",8718528101520,"STUKS","WK65010 C3 stomp","wit 780x2015 slg/vpl","FSC Mix 70% CU-COC 800339","DEUR","BINNEN","BINNEN","MODERN","65010","","","Inventory","",true,"STOMP","",2015,780,38,"",false,false,false,451.24,546,{"$f":"ROUND(AA491*(1-VLOOKUP(AF491,Discount[],3,0)),2)","v":451.24},null,103630,"B055"]
[8718528101537,"Artikel",8718528101537,"STUKS","WK65010 C3 stomp","wit 780x2115 slg/vpl","FSC Mix 70% CU-COC 800339","DEUR","BINNEN","BINNEN","MODERN","65010","","","Inventory","",true,"STOMP","",2115,780,38,"",false,false,false,451.24,546,{"$f":"ROUND(AA492*(1-VLOOKUP(AF492,Discount[],3,0)),2)","v":451.24},null,103630,"B055"]
[8718528101544,"Artikel",8718528101544,"STUKS","WK65010 XL C3 stomp","wit 780x2315 slg/vpl","FSC Mix 70% CU-COC 800339","DEUR","BINNEN","BINNEN","MODERN","65010","","","Inventory","",true,"STOMP","",2315,780,38,"",false,false,false,451.24,546,{"$f":"ROUND(AA493*(1-VLOOKUP(AF493,Discount[],3,0)),2)","v":451.24},null,103630,"B055"]
[8718528011362,"Artikel",8718528011362,"STUKS","WK6511 A1 stomp","wit 630x2015 slg/vpl","FSC Mix 70% CU-COC 800339","DEUR","BINNEN","BINNEN","MODERN","6511","","","Inventory","",true,"STOMP","",2015,630,38,"",false,false,false,323.38,391,{"$f":"ROUND(AA494*(1-VLOOKUP(AF494,Discount[],3,0)),2)","v":323.38},null,103640,"B055"]
[8718528011393,"Artikel",8718528011393,"STUKS","WK6511 A1 stomp","wit 630x2115 slg/vpl","FSC Mix 70% CU-COC 800339","DEUR","BINNEN","BINNEN","MODERN","6511","","","Inventory","",true,"STOMP","",2115,630,38,"",false,false,false,323.38,391,{"$f":"ROUND(AA495*(1-VLOOKUP(AF495,Discount[],3,0)),2)","v":323.38},null,103640,"B055"]
[8718528011423,"Artikel",8718528011423,"STUKS","WK6511 A1 stomp","wit 680x2015 slg/vpl","FSC Mix 70% CU-COC 800339","DEUR","BINNEN","BINNEN","MODERN","6511","","","Inventory","",true,"STOMP","",2015,680,38,"",false,false,false,323.38,391,{"$f":"ROUND(AA496*(1-VLOOKUP(AF496,Discount[],3,0)),2)","v":323.38},null,103640,"B055"]
[8718528011454,"Artikel",8718528011454,"STUKS","WK6511 A1 stomp","wit 680x2115 slg/vpl","FSC Mix 70% CU-COC 800339","DEUR","BINNEN","BINNEN","MODERN","6511","","","Inventory","",true,"STOMP","",2115,680,38,"",false,false,false,323.38,391,{"$f":"ROUND(AA497*(1-VLOOKUP(AF497,Discount[],3,0)),2)","v":323.38},null,103640,"B055"]
[8718528011485,"Artikel",8718528011485,"STUKS","WK6511 A1 stomp","wit 730x2015 slg/vpl","FSC Mix 70% CU-COC 800339","DEUR","BINNEN","BINNEN","MODERN","6511","","","Inventory","",true,"STOMP","",2015,730,38,"",false,false,false,323.38,391,{"$f":"ROUND(AA498*(1-VLOOKUP(AF498,Discount[],3,0)),2)","v":323.38},null,103640,"B055"]
[8718528011515,"Artikel",8718528011515,"STUKS","WK6511 A1 stomp","wit 730x2115 slg/vpl","FSC Mix 70% CU-COC 800339","DEUR","BINNEN","BINNEN","MODERN","6511","","","Inventory","",true,"STOMP","",2115,730,38,"",false,false,false,323.38,391,{"$f":"ROUND(AA499*(1-VLOOKUP(AF499,Discount[],3,0)),2)","v":323.38},null,103640,"B055"]
[8718528011546,"Artikel",8718528011546,"STUKS","WK6511 XL A1 stomp","wit 730x2315 slg/vpl","FSC Mix 70% CU-COC 800339","DEUR","BINNEN","BINNEN","MODERN","6511","","","Inventory","",true,"STOMP","",2315,730,38,"",false,false,false,323.38,391,{"$f":"ROUND(AA500*(1-VLOOKUP(AF500,Discount[],3,0)),2)","v":323.38},null,103640,"B055"]
[8718528011577,"Artikel",8718528011577,"STUKS","WK6511 A1 stomp","wit 780x2015 slg/vpl","FSC Mix 70% CU-COC 800339","DEUR","BINNEN","BINNEN","MODERN","6511","","","Inventory","",true,"STOMP","",2015,780,38,"",false,false,false,323.38,391,{"$f":"ROUND(AA501*(1-VLOOKUP(AF501,Discount[],3,0)),2)","v":323.38},null,103640,"B055"]
[8718528011607,"Artikel",8718528011607,"STUKS","WK6511 A1 stomp","wit 780x2115 slg/vpl","FSC Mix 70% CU-COC 800339","DEUR","BINNEN","BINNEN","MODERN","6511","","","Inventory","",true,"STOMP","",2115,780,38,"",false,false,false,323.38,391,{"$f":"ROUND(AA502*(1-VLOOKUP(AF502,Discount[],3,0)),2)","v":323.38},null,103640,"B055"]
[8718528011638,"Artikel",8718528011638,"STUKS","WK6511 XL A1 stomp","wit 780x2315 slg/vpl","FSC Mix 70% CU-COC 800339","DEUR","BINNEN","BINNEN","MODERN","6511","","","Inventory","",true,"STOMP","",2315,780,38,"",false,false,false,323.38,391,{"$f":"ROUND(AA503*(1-VLOOKUP(AF503,Discount[],3,0)),2)","v":323.38},null,103640,"B055"]
[8718528011669,"Artikel",8718528011669,"STUKS","WK6511 A1 stomp","wit 830x2015 slg/vpl","FSC Mix 70% CU-COC 800339","DEUR","BINNEN","BINNEN","MODERN","6511","","","Inventory","",true,"STOMP","",2015,830,38,"",false,false,false,323.38,391,{"$f":"ROUND(AA504*(1-VLOOKUP(AF504,Discount[],3,0)),2)","v":323.38},null,103640,"B055"]
[8718528011690,"Artikel",8718528011690,"STUKS","WK6511 A1 stomp","wit 830x2115 slg/vpl","FSC Mix 70% CU-COC 800339","DEUR","BINNEN","BINNEN","MODERN","6511","","","Inventory","",true,"STOMP","",2115,830,38,"",false,false,false,323.38,391,{"$f":"ROUND(AA505*(1-VLOOKUP(AF505,Discount[],3,0)),2)","v":323.38},null,103640,"B055"]
[8718528011720,"Artikel",8718528011720,"STUKS","WK6511 XL A1 stomp","wit 830x2315 slg/vpl","FSC Mix 70% CU-COC 800339","DEUR","BINNEN","BINNEN","MODERN","6511","","","Inventory","",true,"STOMP","",2315,830,38,"",false,false,false,323.38,391,{"$f":"ROUND(AA506*(1-VLOOKUP(AF506,Discount[],3,0)),2)","v":323.38},null,103640,"B055"]
[8718528011751,"Artikel",8718528011751,"STUKS","WK6511 A1 stomp","wit 880x2015 slg/vpl","FSC Mix 70% CU-COC 800339","DEUR","BINNEN","BINNEN","MODERN","6511","","","Inventory","",true,"STOMP","",2015,880,38,"",false,false,false,323.38,391,{"$f":"ROUND(AA507*(1-VLOOKUP(AF507,Discount[],3,0)),2)","v":323.38},null,103640,"B055"]
[8718528011768,"Artikel",8718528011768,"STUKS","WK6511 A1 stomp","wit 880x2115 slg/vpl","FSC Mix 70% CU-COC 800339","DEUR","BINNEN","BINNEN","MODERN","6511","","","Inventory","",true,"STOMP","",2115,880,38,"",false,false,false,323.38,391,{"$f":"ROUND(AA508*(1-VLOOKUP(AF508,Discount[],3,0)),2)","v":323.38},null,103640,"B055"]
[8718528011799,"Artikel",8718528011799,"STUKS","WK6511 XL A1 stomp","wit 880x2315 slg/vpl","FSC Mix 70% CU-COC 800339","DEUR","BINNEN","BINNEN","MODERN","6511","","","Inventory","",true,"STOMP","",2315,880,38,"",false,false,false,323.38,391,{"$f":"ROUND(AA509*(1-VLOOKUP(AF509,Discount[],3,0)),2)","v":323.38},null,103640,"B055"]
[8718528011829,"Artikel",8718528011829,"STUKS","WK6511 A1 stomp","wit 930x2015 slg/vpl","FSC Mix 70% CU-COC 800339","DEUR","BINNEN","BINNEN","MODERN","6511","","","Inventory","",true,"STOMP","",2015,930,38,"",false,false,false,323.38,391,{"$f":"ROUND(AA510*(1-VLOOKUP(AF510,Discount[],3,0)),2)","v":323.38},null,103640,"B055"]
[8718528011836,"Artikel",8718528011836,"STUKS","WK6511 A1 stomp","wit 930x2115 slg/vpl","FSC Mix 70% CU-COC 800339","DEUR","BINNEN","BINNEN","MODERN","6511","","","Inventory","",true,"STOMP","",2115,930,38,"",false,false,false,323.38,391,{"$f":"ROUND(AA511*(1-VLOOKUP(AF511,Discount[],3,0)),2)","v":323.38},null,103640,"B055"]
[8718528011867,"Artikel",8718528011867,"STUKS","WK6511 XL A1 stomp","wit 930x2315 slg/vpl","FSC Mix 70% CU-COC 800339","DEUR","BINNEN","BINNEN","MODERN","6511","","","Inventory","",true,"STOMP","",2315,930,38,"",false,false,false,323.38,391,{"$f":"ROUND(AA512*(1-VLOOKUP(AF512,Discount[],3,0)),2)","v":323.38},null,103640,"B055"]
[8718528099735,"Artikel",8718528099735,"STUKS","WK6511 XL A1 stomp","wit 630x2315 slg/vpl","FSC Mix 70% CU-COC 800339","DEUR","BINNEN","BINNEN","MODERN","6511","","","Inventory","",true,"STOMP","",2315,630,38,"",false,false,false,323.38,391,{"$f":"ROUND(AA513*(1-VLOOKUP(AF513,Discount[],3,0)),2)","v":323.38},null,103640,"B055"]
[8718528099742,"Artikel",8718528099742,"STUKS","WK6511 XL A1 stomp","wit 680x2315 slg/vpl","FSC Mix 70% CU-COC 800339","DEUR","BINNEN","BINNEN","MODERN","6511","","","Inventory","",true,"STOMP","",2315,680,38,"",false,false,false,323.38,391,{"$f":"ROUND(AA514*(1-VLOOKUP(AF514,Discount[],3,0)),2)","v":323.38},null,103640,"B055"]
[8718528011898,"Artikel",8718528011898,"STUKS","WK6512 A stomp","wit 730x2015 slg/vpl","FSC Mix 70% CU-COC 800339","DEUR","BINNEN","BINNEN","MODERN","6512","","","Inventory","",true,"STOMP","",2015,730,38,"",false,false,false,368.53,446,{"$f":"ROUND(AA515*(1-VLOOKUP(AF515,Discount[],3,0)),2)","v":368.53},null,103650,"B055"]
[8718528011904,"Artikel",8718528011904,"STUKS","WK6512 A stomp","wit 730x2115 slg/vpl","FSC Mix 70% CU-COC 800339","DEUR","BINNEN","BINNEN","MODERN","6512","","","Inventory","",true,"STOMP","",2115,730,38,"",false,false,false,368.53,446,{"$f":"ROUND(AA516*(1-VLOOKUP(AF516,Discount[],3,0)),2)","v":368.53},null,103650,"B055"]
[8718528011911,"Artikel",8718528011911,"STUKS","WK6512 XL A stomp","wit 730x2315 slg/vpl","FSC Mix 70% CU-COC 800339","DEUR","BINNEN","BINNEN","MODERN","6512","","","Inventory","",true,"STOMP","",2315,730,38,"",false,false,false,368.53,446,{"$f":"ROUND(AA517*(1-VLOOKUP(AF517,Discount[],3,0)),2)","v":368.53},null,103650,"B055"]
[8718528011928,"Artikel",8718528011928,"STUKS","WK6512 A stomp","wit 780x2015 slg/vpl","FSC Mix 70% CU-COC 800339","DEUR","BINNEN","BINNEN","MODERN","6512","","","Inventory","",true,"STOMP","",2015,780,38,"",false,false,false,368.53,446,{"$f":"ROUND(AA518*(1-VLOOKUP(AF518,Discount[],3,0)),2)","v":368.53},null,103650,"B055"]
[8718528011959,"Artikel",8718528011959,"STUKS","WK6512 A stomp","wit 780x2115 slg/vpl","FSC Mix 70% CU-COC 800339","DEUR","BINNEN","BINNEN","MODERN","6512","","","Inventory","",true,"STOMP","",2115,780,38,"",false,false,false,368.53,446,{"$f":"ROUND(AA519*(1-VLOOKUP(AF519,Discount[],3,0)),2)","v":368.53},null,103650,"B055"]
[8718528011966,"Artikel",8718528011966,"STUKS","WK6512 XL A stomp","wit 780x2315 slg/vpl","FSC Mix 70% CU-COC 800339","DEUR","BINNEN","BINNEN","MODERN","6512","","","Inventory","",true,"STOMP","",2315,780,38,"",false,false,false,368.53,446,{"$f":"ROUND(AA520*(1-VLOOKUP(AF520,Discount[],3,0)),2)","v":368.53},null,103650,"B055"]
[8718528011973,"Artikel",8718528011973,"STUKS","WK6512 A stomp","wit 830x2015 slg/vpl","FSC Mix 70% CU-COC 800339","DEUR","BINNEN","BINNEN","MODERN","6512","","","Inventory","",true,"STOMP","",2015,830,38,"",false,false,false,368.53,446,{"$f":"ROUND(AA521*(1-VLOOKUP(AF521,Discount[],3,0)),2)","v":368.53},null,103650,"B055"]
[8718528012000,"Artikel",8718528012000,"STUKS","WK6512 A stomp","wit 830x2115 slg/vpl","FSC Mix 70% CU-COC 800339","DEUR","BINNEN","BINNEN","MODERN","6512","","","Inventory","",true,"STOMP","",2115,830,38,"",false,false,false,368.53,446,{"$f":"ROUND(AA522*(1-VLOOKUP(AF522,Discount[],3,0)),2)","v":368.53},null,103650,"B055"]
[8718528012031,"Artikel",8718528012031,"STUKS","WK6512 XL A stomp","wit 830x2315 slg/vpl","FSC Mix 70% CU-COC 800339","DEUR","BINNEN","BINNEN","MODERN","6512","","","Inventory","",true,"STOMP","",2315,830,38,"",false,false,false,368.53,446,{"$f":"ROUND(AA523*(1-VLOOKUP(AF523,Discount[],3,0)),2)","v":368.53},null,103650,"B055"]
[8718528012062,"Artikel",8718528012062,"STUKS","WK6512 A stomp","wit 880x2015 slg/vpl","FSC Mix 70% CU-COC 800339","DEUR","BINNEN","BINNEN","MODERN","6512","","","Inventory","",true,"STOMP","",2015,880,38,"",false,false,false,368.53,446,{"$f":"ROUND(AA524*(1-VLOOKUP(AF524,Discount[],3,0)),2)","v":368.53},null,103650,"B055"]
[8718528012079,"Artikel",8718528012079,"STUKS","WK6512 A stomp","wit 880x2115 slg/vpl","FSC Mix 70% CU-COC 800339","DEUR","BINNEN","BINNEN","MODERN","6512","","","Inventory","",true,"STOMP","",2115,880,38,"",false,false,false,368.53,446,{"$f":"ROUND(AA525*(1-VLOOKUP(AF525,Discount[],3,0)),2)","v":368.53},null,103650,"B055"]
[8718528012109,"Artikel",8718528012109,"STUKS","WK6512 XL A stomp","wit 880x2315 slg/vpl","FSC Mix 70% CU-COC 800339","DEUR","BINNEN","BINNEN","MODERN","6512","","","Inventory","",true,"STOMP","",2315,880,38,"",false,false,false,368.53,446,{"$f":"ROUND(AA526*(1-VLOOKUP(AF526,Discount[],3,0)),2)","v":368.53},null,103650,"B055"]
[8718528012130,"Artikel",8718528012130,"STUKS","WK6512 A stomp","wit 930x2015 slg/vpl","FSC Mix 70% CU-COC 800339","DEUR","BINNEN","BINNEN","MODERN","6512","","","Inventory","",true,"STOMP","",2015,930,38,"",false,false,false,368.53,446,{"$f":"ROUND(AA527*(1-VLOOKUP(AF527,Discount[],3,0)),2)","v":368.53},null,103650,"B055"]
[8718528012147,"Artikel",8718528012147,"STUKS","WK6512 A stomp","wit 930x2115 slg/vpl","FSC Mix 70% CU-COC 800339","DEUR","BINNEN","BINNEN","MODERN","6512","","","Inventory","",true,"STOMP","",2115,930,38,"",false,false,false,368.53,446,{"$f":"ROUND(AA528*(1-VLOOKUP(AF528,Discount[],3,0)),2)","v":368.53},null,103650,"B055"]
[8718528012178,"Artikel",8718528012178,"STUKS","WK6512 XL A stomp","wit 930x2315 slg/vpl","FSC Mix 70% CU-COC 800339","DEUR","BINNEN","BINNEN","MODERN","6512","","","Inventory","",true,"STOMP","",2315,930,38,"",false,false,false,368.53,446,{"$f":"ROUND(AA529*(1-VLOOKUP(AF529,Discount[],3,0)),2)","v":368.53},null,103650,"B055"]
[8718528099759,"Artikel",8718528099759,"STUKS","WK6512 A stomp","wit 630x2015 slg/vpl","FSC Mix 70% CU-COC 800339","DEUR","BINNEN","BINNEN","MODERN","6512","","","Inventory","",true,"STOMP","",2015,630,38,"",false,false,false,368.53,446,{"$f":"ROUND(AA530*(1-VLOOKUP(AF530,Discount[],3,0)),2)","v":368.53},null,103650,"B055"]
[8718528099766,"Artikel",8718528099766,"STUKS","WK6512 A stomp","wit 630x2115 slg/vpl","FSC Mix 70% CU-COC 800339","DEUR","BINNEN","BINNEN","MODERN","6512","","","Inventory","",true,"STOMP","",2115,630,38,"",false,false,false,368.53,446,{"$f":"ROUND(AA531*(1-VLOOKUP(AF531,Discount[],3,0)),2)","v":368.53},null,103650,"B055"]
[8718528099773,"Artikel",8718528099773,"STUKS","WK6512 XL A stomp","wit 630x2315 slg/vpl","FSC Mix 70% CU-COC 800339","DEUR","BINNEN","BINNEN","MODERN","6512","","","Inventory","",true,"STOMP","",2315,630,38,"",false,false,false,368.53,446,{"$f":"ROUND(AA532*(1-VLOOKUP(AF532,Discount[],3,0)),2)","v":368.53},null,103650,"B055"]
[8718528099780,"Artikel",8718528099780,"STUKS","WK6512 A stomp","wit 680x2015 slg/vpl","FSC Mix 70% CU-COC 800339","DEUR","BINNEN","BINNEN","MODERN","6512","","","Inventory","",true,"STOMP","",2015,680,38,"",false,false,false,368.53,446,{"$f":"ROUND(AA533*(1-VLOOKUP(AF533,Discount[],3,0)),2)","v":368.53},null,103650,"B055"]
[8718528099797,"Artikel",8718528099797,"STUKS","WK6512 A stomp","wit 680x2115 slg/vpl","FSC Mix 70% CU-COC 800339","DEUR","BINNEN","BINNEN","MODERN","6512","","","Inventory","",true,"STOMP","",2115,680,38,"",false,false,false,368.53,446,{"$f":"ROUND(AA534*(1-VLOOKUP(AF534,Discount[],3,0)),2)","v":368.53},null,103650,"B055"]
[8718528099803,"Artikel",8718528099803,"STUKS","WK6512 XL A stomp","wit 680x2315 slg/vpl","FSC Mix 70% CU-COC 800339","DEUR","BINNEN","BINNEN","MODERN","6512","","","Inventory","",true,"STOMP","",2315,680,38,"",false,false,false,368.53,446,{"$f":"ROUND(AA535*(1-VLOOKUP(AF535,Discount[],3,0)),2)","v":368.53},null,103650,"B055"]
[8718528012208,"Artikel",8718528012208,"STUKS","WK6513 A stomp","wit 630x2015 slg/vpl","FSC Mix 70% CU-COC 800339","DEUR","BINNEN","BINNEN","MODERN","6513","","","Inventory","",true,"STOMP","",2015,630,38,"",false,false,false,347.07,420,{"$f":"ROUND(AA536*(1-VLOOKUP(AF536,Discount[],3,0)),2)","v":347.07},null,103660,"B055"]
[8718528012239,"Artikel",8718528012239,"STUKS","WK6513 A stomp","wit 630x2115 slg/vpl","FSC Mix 70% CU-COC 800339","DEUR","BINNEN","BINNEN","MODERN","6513","","","Inventory","",true,"STOMP","",2115,630,38,"",false,false,false,347.07,420,{"$f":"ROUND(AA537*(1-VLOOKUP(AF537,Discount[],3,0)),2)","v":347.07},null,103660,"B055"]
[8718528012260,"Artikel",8718528012260,"STUKS","WK6513 A stomp","wit 680x2015 slg/vpl","FSC Mix 70% CU-COC 800339","DEUR","BINNEN","BINNEN","MODERN","6513","","","Inventory","",true,"STOMP","",2015,680,38,"",false,false,false,347.07,420,{"$f":"ROUND(AA538*(1-VLOOKUP(AF538,Discount[],3,0)),2)","v":347.07},null,103660,"B055"]
[8718528012291,"Artikel",8718528012291,"STUKS","WK6513 A stomp","wit 680x2115 slg/vpl","FSC Mix 70% CU-COC 800339","DEUR","BINNEN","BINNEN","MODERN","6513","","","Inventory","",true,"STOMP","",2115,680,38,"",false,false,false,347.07,420,{"$f":"ROUND(AA539*(1-VLOOKUP(AF539,Discount[],3,0)),2)","v":347.07},null,103660,"B055"]
[8718528012321,"Artikel",8718528012321,"STUKS","WK6513 A stomp","wit 730x2015 slg/vpl","FSC Mix 70% CU-COC 800339","DEUR","BINNEN","BINNEN","MODERN","6513","","","Inventory","",true,"STOMP","",2015,730,38,"",false,false,false,347.07,420,{"$f":"ROUND(AA540*(1-VLOOKUP(AF540,Discount[],3,0)),2)","v":347.07},null,103660,"B055"]
[8718528012352,"Artikel",8718528012352,"STUKS","WK6513 A stomp","wit 730x2115 slg/vpl","FSC Mix 70% CU-COC 800339","DEUR","BINNEN","BINNEN","MODERN","6513","","","Inventory","",true,"STOMP","",2115,730,38,"",false,false,false,347.07,420,{"$f":"ROUND(AA541*(1-VLOOKUP(AF541,Discount[],3,0)),2)","v":347.07},null,103660,"B055"]
[8718528012383,"Artikel",8718528012383,"STUKS","WK6513 XL A stomp","wit 730x2315 slg/vpl","FSC Mix 70% CU-COC 800339","DEUR","BINNEN","BINNEN","MODERN","6513","","","Inventory","",true,"STOMP","",2315,730,38,"",false,false,false,347.07,420,{"$f":"ROUND(AA542*(1-VLOOKUP(AF542,Discount[],3,0)),2)","v":347.07},null,103660,"B055"]
[8718528012413,"Artikel",8718528012413,"STUKS","WK6513 A stomp","wit 780x2015 slg/vpl","FSC Mix 70% CU-COC 800339","DEUR","BINNEN","BINNEN","MODERN","6513","","","Inventory","",true,"STOMP","",2015,780,38,"",false,false,false,347.07,420,{"$f":"ROUND(AA543*(1-VLOOKUP(AF543,Discount[],3,0)),2)","v":347.07},null,103660,"B055"]
[8718528012444,"Artikel",8718528012444,"STUKS","WK6513 A stomp","wit 780x2115 slg/vpl","FSC Mix 70% CU-COC 800339","DEUR","BINNEN","BINNEN","MODERN","6513","","","Inventory","",true,"STOMP","",2115,780,38,"",false,false,false,347.07,420,{"$f":"ROUND(AA544*(1-VLOOKUP(AF544,Discount[],3,0)),2)","v":347.07},null,103660,"B055"]
[8718528012475,"Artikel",8718528012475,"STUKS","WK6513 XL A stomp","wit 780x2315 slg/vpl","FSC Mix 70% CU-COC 800339","DEUR","BINNEN","BINNEN","MODERN","6513","","","Inventory","",true,"STOMP","",2315,780,38,"",false,false,false,347.07,420,{"$f":"ROUND(AA545*(1-VLOOKUP(AF545,Discount[],3,0)),2)","v":347.07},null,103660,"B055"]
[8718528012505,"Artikel",8718528012505,"STUKS","WK6513 A stomp","wit 830x2015 slg/vpl","FSC Mix 70% CU-COC 800339","DEUR","BINNEN","BINNEN","MODERN","6513","","","Inventory","",true,"STOMP","",2015,830,38,"",false,false,false,347.07,420,{"$f":"ROUND(AA546*(1-VLOOKUP(AF546,Discount[],3,0)),2)","v":347.07},null,103660,"B055"]
[8718528012536,"Artikel",8718528012536,"STUKS","WK6513 A stomp","wit 830x2115 slg/vpl","FSC Mix 70% CU-COC 800339","DEUR","BINNEN","BINNEN","MODERN","6513","","","Inventory","",true,"STOMP","",2115,830,38,"",false,false,false,347.07,420,{"$f":"ROUND(AA547*(1-VLOOKUP(AF547,Discount[],3,0)),2)","v":347.07},null,103660,"B055"]
[8718528012567,"Artikel",8718528012567,"STUKS","WK6513 XL A stomp","wit 830x2315 slg/vpl","FSC Mix 70% CU-COC 800339","DEUR","BINNEN","BINNEN","MODERN","6513","","","Inventory","",true,"STOMP","",2315,830,38,"",false,false,false,347.07,420,{"$f":"ROUND(AA548*(1-VLOOKUP(AF548,Discount[],3,0)),2)","v":347.07},null,103660,"B055"]
[8718528012598,"Artikel",8718528012598,"STUKS","WK6513 A stomp","wit 880x2015 slg/vpl","FSC Mix 70% CU-COC 800339","DEUR","BINNEN","BINNEN","MODERN","6513","","","Inventory","",true,"STOMP","",2015,880,38,"",false,false,false,347.07,420,{"$f":"ROUND(AA549*(1-VLOOKUP(AF549,Discount[],3,0)),2)","v":347.07},null,103660,"B055"]
[8718528012604,"Artikel",8718528012604,"STUKS","WK6513 A stomp","wit 880x2115 slg/vpl","FSC Mix 70% CU-COC 800339","DEUR","BINNEN","BINNEN","MODERN","6513","","","Inventory","",true,"STOMP","",2115,880,38,"",false,false,false,347.07,420,{"$f":"ROUND(AA550*(1-VLOOKUP(AF550,Discount[],3,0)),2)","v":347.07},null,103660,"B055"]
[8718528012635,"Artikel",8718528012635,"STUKS","WK6513 XL A stomp","wit 880x2315 slg/vpl","FSC Mix 70% CU-COC 800339","DEUR","BINNEN","BINNEN","MODERN","6513","","","Inventory","",true,"STOMP","",2315,880,38,"",false,false,false,347.07,420,{"$f":"ROUND(AA551*(1-VLOOKUP(AF551,Discount[],3,0)),2)","v":347.07},null,103660,"B055"]
[8718528012666,"Artikel",8718528012666,"STUKS","WK6513 A stomp","wit 930x2015 slg/vpl","FSC Mix 70% CU-COC 800339","DEUR","BINNEN","BINNEN","MODERN","6513","","","Inventory","",true,"STOMP","",2015,930,38,"",false,false,false,347.07,420,{"$f":"ROUND(AA552*(1-VLOOKUP(AF552,Discount[],3,0)),2)","v":347.07},null,103660,"B055"]
[8718528012673,"Artikel",8718528012673,"STUKS","WK6513 A stomp","wit 930x2115 slg/vpl","FSC Mix 70% CU-COC 800339","DEUR","BINNEN","BINNEN","MODERN","6513","","","Inventory","",true,"STOMP","",2115,930,38,"",false,false,false,347.07,420,{"$f":"ROUND(AA553*(1-VLOOKUP(AF553,Discount[],3,0)),2)","v":347.07},null,103660,"B055"]
[8718528012703,"Artikel",8718528012703,"STUKS","WK6513 XL A stomp","wit 930x2315 slg/vpl","FSC Mix 70% CU-COC 800339","DEUR","BINNEN","BINNEN","MODERN","6513","","","Inventory","",true,"STOMP","",2315,930,38,"",false,false,false,347.07,420,{"$f":"ROUND(AA554*(1-VLOOKUP(AF554,Discount[],3,0)),2)","v":347.07},null,103660,"B055"]
[8718528099810,"Artikel",8718528099810,"STUKS","WK6513 XL A stomp","wit 630x2315 slg/vpl","FSC Mix 70% CU-COC 800339","DEUR","BINNEN","BINNEN","MODERN","6513","","","Inventory","",true,"STOMP","",2315,630,38,"",false,false,false,347.07,420,{"$f":"ROUND(AA555*(1-VLOOKUP(AF555,Discount[],3,0)),2)","v":347.07},null,103660,"B055"]
[8718528099827,"Artikel",8718528099827,"STUKS","WK6513 XL A stomp","wit 680x2315 slg/vpl","FSC Mix 70% CU-COC 800339","DEUR","BINNEN","BINNEN","MODERN","6513","","","Inventory","",true,"STOMP","",2315,680,38,"",false,false,false,347.07,420,{"$f":"ROUND(AA556*(1-VLOOKUP(AF556,Discount[],3,0)),2)","v":347.07},null,103660,"B055"]
[8718528012734,"Artikel",8718528012734,"STUKS","WK6514 A1 stomp","wit 630x2015 slg/vpl","FSC Mix 70% CU-COC 800339","DEUR","BINNEN","BINNEN","MODERN","6514","","","Inventory","",true,"STOMP","",2015,630,38,"",false,false,false,390.9,473,{"$f":"ROUND(AA557*(1-VLOOKUP(AF557,Discount[],3,0)),2)","v":390.9},null,103670,"B055"]
[8718528012765,"Artikel",8718528012765,"STUKS","WK6514 A1 stomp","wit 630x2115 slg/vpl","FSC Mix 70% CU-COC 800339","DEUR","BINNEN","BINNEN","MODERN","6514","","","Inventory","",true,"STOMP","",2115,630,38,"",false,false,false,390.9,473,{"$f":"ROUND(AA558*(1-VLOOKUP(AF558,Discount[],3,0)),2)","v":390.9},null,103670,"B055"]
[8718528012796,"Artikel",8718528012796,"STUKS","WK6514 A1 stomp","wit 680x2015 slg/vpl","FSC Mix 70% CU-COC 800339","DEUR","BINNEN","BINNEN","MODERN","6514","","","Inventory","",true,"STOMP","",2015,680,38,"",false,false,false,390.9,473,{"$f":"ROUND(AA559*(1-VLOOKUP(AF559,Discount[],3,0)),2)","v":390.9},null,103670,"B055"]
[8718528012826,"Artikel",8718528012826,"STUKS","WK6514 A1 stomp","wit 680x2115 slg/vpl","FSC Mix 70% CU-COC 800339","DEUR","BINNEN","BINNEN","MODERN","6514","","","Inventory","",true,"STOMP","",2115,680,38,"",false,false,false,390.9,473,{"$f":"ROUND(AA560*(1-VLOOKUP(AF560,Discount[],3,0)),2)","v":390.9},null,103670,"B055"]
[8718528012857,"Artikel",8718528012857,"STUKS","WK6514 A1 stomp","wit 730x2015 slg/vpl","FSC Mix 70% CU-COC 800339","DEUR","BINNEN","BINNEN","MODERN","6514","","","Inventory","",true,"STOMP","",2015,730,38,"",false,false,false,390.9,473,{"$f":"ROUND(AA561*(1-VLOOKUP(AF561,Discount[],3,0)),2)","v":390.9},null,103670,"B055"]
[8718528012888,"Artikel",8718528012888,"STUKS","WK6514 A1 stomp","wit 730x2115 slg/vpl","FSC Mix 70% CU-COC 800339","DEUR","BINNEN","BINNEN","MODERN","6514","","","Inventory","",true,"STOMP","",2115,730,38,"",false,false,false,390.9,473,{"$f":"ROUND(AA562*(1-VLOOKUP(AF562,Discount[],3,0)),2)","v":390.9},null,103670,"B055"]
[8718528012918,"Artikel",8718528012918,"STUKS","WK6514 XL A1 stomp","wit 730x2315 slg/vpl","FSC Mix 70% CU-COC 800339","DEUR","BINNEN","BINNEN","MODERN","6514","","","Inventory","",true,"STOMP","",2315,730,38,"",false,false,false,390.9,473,{"$f":"ROUND(AA563*(1-VLOOKUP(AF563,Discount[],3,0)),2)","v":390.9},null,103670,"B055"]
[8718528012949,"Artikel",8718528012949,"STUKS","WK6514 A1 stomp","wit 780x2015 slg/vpl","FSC Mix 70% CU-COC 800339","DEUR","BINNEN","BINNEN","MODERN","6514","","","Inventory","",true,"STOMP","",2015,780,38,"",false,false,false,390.9,473,{"$f":"ROUND(AA564*(1-VLOOKUP(AF564,Discount[],3,0)),2)","v":390.9},null,103670,"B055"]
[8718528012970,"Artikel",8718528012970,"STUKS","WK6514 A1 stomp","wit 780x2115 slg/vpl","FSC Mix 70% CU-COC 800339","DEUR","BINNEN","BINNEN","MODERN","6514","","","Inventory","",true,"STOMP","",2115,780,38,"",false,false,false,390.9,473,{"$f":"ROUND(AA565*(1-VLOOKUP(AF565,Discount[],3,0)),2)","v":390.9},null,103670,"B055"]
[8718528013007,"Artikel",8718528013007,"STUKS","WK6514 XL A1 stomp","wit 780x2315 slg/vpl","FSC Mix 70% CU-COC 800339","DEUR","BINNEN","BINNEN","MODERN","6514","","","Inventory","",true,"STOMP","",2315,780,38,"",false,false,false,390.9,473,{"$f":"ROUND(AA566*(1-VLOOKUP(AF566,Discount[],3,0)),2)","v":390.9},null,103670,"B055"]
[8718528013038,"Artikel",8718528013038,"STUKS","WK6514 A1 stomp","wit 830x2015 slg/vpl","FSC Mix 70% CU-COC 800339","DEUR","BINNEN","BINNEN","MODERN","6514","","","Inventory","",true,"STOMP","",2015,830,38,"",false,false,false,390.9,473,{"$f":"ROUND(AA567*(1-VLOOKUP(AF567,Discount[],3,0)),2)","v":390.9},null,103670,"B055"]
[8718528013069,"Artikel",8718528013069,"STUKS","WK6514 A1 stomp","wit 830x2115 slg/vpl","FSC Mix 70% CU-COC 800339","DEUR","BINNEN","BINNEN","MODERN","6514","","","Inventory","",true,"STOMP","",2115,830,38,"",false,false,false,390.9,473,{"$f":"ROUND(AA568*(1-VLOOKUP(AF568,Discount[],3,0)),2)","v":390.9},null,103670,"B055"]
[8718528013090,"Artikel",8718528013090,"STUKS","WK6514 XL A1 stomp","wit 830x2315 slg/vpl","FSC Mix 70% CU-COC 800339","DEUR","BINNEN","BINNEN","MODERN","6514","","","Inventory","",true,"STOMP","",2315,830,38,"",false,false,false,390.9,473,{"$f":"ROUND(AA569*(1-VLOOKUP(AF569,Discount[],3,0)),2)","v":390.9},null,103670,"B055"]
[8718528013120,"Artikel",8718528013120,"STUKS","WK6514 A1 stomp","wit 880x2015 slg/vpl","FSC Mix 70% CU-COC 800339","DEUR","BINNEN","BINNEN","MODERN","6514","","","Inventory","",true,"STOMP","",2015,880,38,"",false,false,false,390.9,473,{"$f":"ROUND(AA570*(1-VLOOKUP(AF570,Discount[],3,0)),2)","v":390.9},null,103670,"B055"]
[8718528013137,"Artikel",8718528013137,"STUKS","WK6514 A1 stomp","wit 880x2115 slg/vpl","FSC Mix 70% CU-COC 800339","DEUR","BINNEN","BINNEN","MODERN","6514","","","Inventory","",true,"STOMP","",2115,880,38,"",false,false,false,390.9,473,{"$f":"ROUND(AA571*(1-VLOOKUP(AF571,Discount[],3,0)),2)","v":390.9},null,103670,"B055"]
[8718528013168,"Artikel",8718528013168,"STUKS","WK6514 XL A1 stomp","wit 880x2315 slg/vpl","FSC Mix 70% CU-COC 800339","DEUR","BINNEN","BINNEN","MODERN","6514","","","Inventory","",true,"STOMP","",2315,880,38,"",false,false,false,390.9,473,{"$f":"ROUND(AA572*(1-VLOOKUP(AF572,Discount[],3,0)),2)","v":390.9},null,103670,"B055"]
[8718528013199,"Artikel",8718528013199,"STUKS","WK6514 A1 stomp","wit 930x2015 slg/vpl","FSC Mix 70% CU-COC 800339","DEUR","BINNEN","BINNEN","MODERN","6514","","","Inventory","",true,"STOMP","",2015,930,38,"",false,false,false,390.9,473,{"$f":"ROUND(AA573*(1-VLOOKUP(AF573,Discount[],3,0)),2)","v":390.9},null,103670,"B055"]
[8718528013205,"Artikel",8718528013205,"STUKS","WK6514 A1 stomp","wit 930x2115 slg/vpl","FSC Mix 70% CU-COC 800339","DEUR","BINNEN","BINNEN","MODERN","6514","","","Inventory","",true,"STOMP","",2115,930,38,"",false,false,false,390.9,473,{"$f":"ROUND(AA574*(1-VLOOKUP(AF574,Discount[],3,0)),2)","v":390.9},null,103670,"B055"]
[8718528013236,"Artikel",8718528013236,"STUKS","WK6514 XL A1 stomp","wit 930x2315 slg/vpl","FSC Mix 70% CU-COC 800339","DEUR","BINNEN","BINNEN","MODERN","6514","","","Inventory","",true,"STOMP","",2315,930,38,"",false,false,false,390.9,473,{"$f":"ROUND(AA575*(1-VLOOKUP(AF575,Discount[],3,0)),2)","v":390.9},null,103670,"B055"]
[8718528099834,"Artikel",8718528099834,"STUKS","WK6514 XL A1 stomp","wit 630x2315 slg/vpl","FSC Mix 70% CU-COC 800339","DEUR","BINNEN","BINNEN","MODERN","6514","","","Inventory","",true,"STOMP","",2315,630,38,"",false,false,false,390.9,473,{"$f":"ROUND(AA576*(1-VLOOKUP(AF576,Discount[],3,0)),2)","v":390.9},null,103670,"B055"]
[8718528099841,"Artikel",8718528099841,"STUKS","WK6514 XL A1 stomp","wit 680x2315 slg/vpl","FSC Mix 70% CU-COC 800339","DEUR","BINNEN","BINNEN","MODERN","6514","","","Inventory","",true,"STOMP","",2315,680,38,"",false,false,false,390.9,473,{"$f":"ROUND(AA577*(1-VLOOKUP(AF577,Discount[],3,0)),2)","v":390.9},null,103670,"B055"]
[8718528013267,"Artikel",8718528013267,"STUKS","WK6521 A1 stomp","wit 630x2015 slg/vpl","FSC Mix 70% CU-COC 800339","DEUR","BINNEN","BINNEN","MODERN","6521","","","Inventory","",true,"STOMP","",2015,630,38,"",false,false,false,349.28,423,{"$f":"ROUND(AA578*(1-VLOOKUP(AF578,Discount[],3,0)),2)","v":349.28},null,103690,"B055"]
[8718528013298,"Artikel",8718528013298,"STUKS","WK6521 A1 stomp","wit 630x2115 slg/vpl","FSC Mix 70% CU-COC 800339","DEUR","BINNEN","BINNEN","MODERN","6521","","","Inventory","",true,"STOMP","",2115,630,38,"",false,false,false,349.28,423,{"$f":"ROUND(AA579*(1-VLOOKUP(AF579,Discount[],3,0)),2)","v":349.28},null,103690,"B055"]
[8718528013328,"Artikel",8718528013328,"STUKS","WK6521 A1 stomp","wit 680x2015 slg/vpl","FSC Mix 70% CU-COC 800339","DEUR","BINNEN","BINNEN","MODERN","6521","","","Inventory","",true,"STOMP","",2015,680,38,"",false,false,false,349.28,423,{"$f":"ROUND(AA580*(1-VLOOKUP(AF580,Discount[],3,0)),2)","v":349.28},null,103690,"B055"]
[8718528013359,"Artikel",8718528013359,"STUKS","WK6521 A1 stomp","wit 680x2115 slg/vpl","FSC Mix 70% CU-COC 800339","DEUR","BINNEN","BINNEN","MODERN","6521","","","Inventory","",true,"STOMP","",2115,680,38,"",false,false,false,349.28,423,{"$f":"ROUND(AA581*(1-VLOOKUP(AF581,Discount[],3,0)),2)","v":349.28},null,103690,"B055"]
[8718528013380,"Artikel",8718528013380,"STUKS","WK6521 A1 stomp","wit 730x2015 slg/vpl","FSC Mix 70% CU-COC 800339","DEUR","BINNEN","BINNEN","MODERN","6521","","","Inventory","",true,"STOMP","",2015,730,38,"",false,false,false,349.28,423,{"$f":"ROUND(AA582*(1-VLOOKUP(AF582,Discount[],3,0)),2)","v":349.28},null,103690,"B055"]
[8718528013410,"Artikel",8718528013410,"STUKS","WK6521 A1 stomp","wit 730x2115 slg/vpl","FSC Mix 70% CU-COC 800339","DEUR","BINNEN","BINNEN","MODERN","6521","","","Inventory","",true,"STOMP","",2115,730,38,"",false,false,false,349.28,423,{"$f":"ROUND(AA583*(1-VLOOKUP(AF583,Discount[],3,0)),2)","v":349.28},null,103690,"B055"]
[8718528013441,"Artikel",8718528013441,"STUKS","WK6521 XL A1 stomp","wit 730x2315 slg/vpl","FSC Mix 70% CU-COC 800339","DEUR","BINNEN","BINNEN","MODERN","6521","","","Inventory","",true,"STOMP","",2315,730,38,"",false,false,false,349.28,423,{"$f":"ROUND(AA584*(1-VLOOKUP(AF584,Discount[],3,0)),2)","v":349.28},null,103690,"B055"]
[8718528013472,"Artikel",8718528013472,"STUKS","WK6521 A1 stomp","wit 780x2015 slg/vpl","FSC Mix 70% CU-COC 800339","DEUR","BINNEN","BINNEN","MODERN","6521","","","Inventory","",true,"STOMP","",2015,780,38,"",false,false,false,349.28,423,{"$f":"ROUND(AA585*(1-VLOOKUP(AF585,Discount[],3,0)),2)","v":349.28},null,103690,"B055"]
[8718528013502,"Artikel",8718528013502,"STUKS","WK6521 A1 stomp","wit 780x2115 slg/vpl","FSC Mix 70% CU-COC 800339","DEUR","BINNEN","BINNEN","MODERN","6521","","","Inventory","",true,"STOMP","",2115,780,38,"",false,false,false,349.28,423,{"$f":"ROUND(AA586*(1-VLOOKUP(AF586,Discount[],3,0)),2)","v":349.28},null,103690,"B055"]
[8718528013533,"Artikel",8718528013533,"STUKS","WK6521 XL A1 stomp","wit 780x2315 slg/vpl","FSC Mix 70% CU-COC 800339","DEUR","BINNEN","BINNEN","MODERN","6521","","","Inventory","",true,"STOMP","",2315,780,38,"",false,false,false,349.28,423,{"$f":"ROUND(AA587*(1-VLOOKUP(AF587,Discount[],3,0)),2)","v":349.28},null,103690,"B055"]
[8718528013564,"Artikel",8718528013564,"STUKS","WK6521 A1 stomp","wit 830x2015 slg/vpl","FSC Mix 70% CU-COC 800339","DEUR","BINNEN","BINNEN","MODERN","6521","","","Inventory","",true,"STOMP","",2015,830,38,"",false,false,false,349.28,423,{"$f":"ROUND(AA588*(1-VLOOKUP(AF588,Discount[],3,0)),2)","v":349.28},null,103690,"B055"]
[8718528013595,"Artikel",8718528013595,"STUKS","WK6521 A1 stomp","wit 830x2115 slg/vpl","FSC Mix 70% CU-COC 800339","DEUR","BINNEN","BINNEN","MODERN","6521","","","Inventory","",true,"STOMP","",2115,830,38,"",false,false,false,349.28,423,{"$f":"ROUND(AA589*(1-VLOOKUP(AF589,Discount[],3,0)),2)","v":349.28},null,103690,"B055"]
[8718528013625,"Artikel",8718528013625,"STUKS","WK6521 XL A1 stomp","wit 830x2315 slg/vpl","FSC Mix 70% CU-COC 800339","DEUR","BINNEN","BINNEN","MODERN","6521","","","Inventory","",true,"STOMP","",2315,830,38,"",false,false,false,349.28,423,{"$f":"ROUND(AA590*(1-VLOOKUP(AF590,Discount[],3,0)),2)","v":349.28},null,103690,"B055"]
[8718528013656,"Artikel",8718528013656,"STUKS","WK6521 A1 stomp","wit 880x2015 slg/vpl","FSC Mix 70% CU-COC 800339","DEUR","BINNEN","BINNEN","MODERN","6521","","","Inventory","",true,"STOMP","",2015,880,38,"",false,false,false,349.28,423,{"$f":"ROUND(AA591*(1-VLOOKUP(AF591,Discount[],3,0)),2)","v":349.28},null,103690,"B055"]
[8718528013663,"Artikel",8718528013663,"STUKS","WK6521 A1 stomp","wit 880x2115 slg/vpl","FSC Mix 70% CU-COC 800339","DEUR","BINNEN","BINNEN","MODERN","6521","","","Inventory","",true,"STOMP","",2115,880,38,"",false,false,false,349.28,423,{"$f":"ROUND(AA592*(1-VLOOKUP(AF592,Discount[],3,0)),2)","v":349.28},null,103690,"B055"]
[8718528013694,"Artikel",8718528013694,"STUKS","WK6521 XL A1 stomp","wit 880x2315 slg/vpl","FSC Mix 70% CU-COC 800339","DEUR","BINNEN","BINNEN","MODERN","6521","","","Inventory","",true,"STOMP","",2315,880,38,"",false,false,false,349.28,423,{"$f":"ROUND(AA593*(1-VLOOKUP(AF593,Discount[],3,0)),2)","v":349.28},null,103690,"B055"]
[8718528013724,"Artikel",8718528013724,"STUKS","WK6521 A1 stomp","wit 930x2015 slg/vpl","FSC Mix 70% CU-COC 800339","DEUR","BINNEN","BINNEN","MODERN","6521","","","Inventory","",true,"STOMP","",2015,930,38,"",false,false,false,349.28,423,{"$f":"ROUND(AA594*(1-VLOOKUP(AF594,Discount[],3,0)),2)","v":349.28},null,103690,"B055"]
[8718528013731,"Artikel",8718528013731,"STUKS","WK6521 A1 stomp","wit 930x2115 slg/vpl","FSC Mix 70% CU-COC 800339","DEUR","BINNEN","BINNEN","MODERN","6521","","","Inventory","",true,"STOMP","",2115,930,38,"",false,false,false,349.28,423,{"$f":"ROUND(AA595*(1-VLOOKUP(AF595,Discount[],3,0)),2)","v":349.28},null,103690,"B055"]
[8718528013762,"Artikel",8718528013762,"STUKS","WK6521 XL A1 stomp","wit 930x2315 slg/vpl","FSC Mix 70% CU-COC 800339","DEUR","BINNEN","BINNEN","MODERN","6521","","","Inventory","",true,"STOMP","",2315,930,38,"",false,false,false,349.28,423,{"$f":"ROUND(AA596*(1-VLOOKUP(AF596,Discount[],3,0)),2)","v":349.28},null,103690,"B055"]
[8718528099964,"Artikel",8718528099964,"STUKS","WK6521 XL A1 stomp","wit 630x2315 slg/vpl","FSC Mix 70% CU-COC 800339","DEUR","BINNEN","BINNEN","MODERN","6521","","","Inventory","",true,"STOMP","",2315,630,38,"",false,false,false,349.28,423,{"$f":"ROUND(AA597*(1-VLOOKUP(AF597,Discount[],3,0)),2)","v":349.28},null,103690,"B055"]
[8718528099971,"Artikel",8718528099971,"STUKS","WK6521 XL A1 stomp","wit 680x2315 slg/vpl","FSC Mix 70% CU-COC 800339","DEUR","BINNEN","BINNEN","MODERN","6521","","","Inventory","",true,"STOMP","",2315,680,38,"",false,false,false,349.28,423,{"$f":"ROUND(AA598*(1-VLOOKUP(AF598,Discount[],3,0)),2)","v":349.28},null,103690,"B055"]
[8718528013793,"Artikel",8718528013793,"STUKS","WK6522 A1 stomp","wit 780x2015 slg/vpl","FSC Mix 70% CU-COC 800339","DEUR","BINNEN","BINNEN","MODERN","6522","","","Inventory","",true,"STOMP","",2015,780,38,"",false,false,false,382.01,462,{"$f":"ROUND(AA599*(1-VLOOKUP(AF599,Discount[],3,0)),2)","v":382.01},null,103700,"B055"]
[8718528013823,"Artikel",8718528013823,"STUKS","WK6522 A1 stomp","wit 830x2015 slg/vpl","FSC Mix 70% CU-COC 800339","DEUR","BINNEN","BINNEN","MODERN","6522","","","Inventory","",true,"STOMP","",2015,830,38,"",false,false,false,382.01,462,{"$f":"ROUND(AA600*(1-VLOOKUP(AF600,Discount[],3,0)),2)","v":382.01},null,103700,"B055"]
[8718528013854,"Artikel",8718528013854,"STUKS","WK6522 A1 stomp","wit 830x2115 slg/vpl","FSC Mix 70% CU-COC 800339","DEUR","BINNEN","BINNEN","MODERN","6522","","","Inventory","",true,"STOMP","",2115,830,38,"",false,false,false,382.01,462,{"$f":"ROUND(AA601*(1-VLOOKUP(AF601,Discount[],3,0)),2)","v":382.01},null,103700,"B055"]
[8718528013885,"Artikel",8718528013885,"STUKS","WK6522 XL A1 stomp","wit 830x2315 slg/vpl","FSC Mix 70% CU-COC 800339","DEUR","BINNEN","BINNEN","MODERN","6522","","","Inventory","",true,"STOMP","",2315,830,38,"",false,false,false,382.01,462,{"$f":"ROUND(AA602*(1-VLOOKUP(AF602,Discount[],3,0)),2)","v":382.01},null,103700,"B055"]
[8718528013915,"Artikel",8718528013915,"STUKS","WK6522 A1 stomp","wit 880x2015 slg/vpl","FSC Mix 70% CU-COC 800339","DEUR","BINNEN","BINNEN","MODERN","6522","","","Inventory","",true,"STOMP","",2015,880,38,"",false,false,false,382.01,462,{"$f":"ROUND(AA603*(1-VLOOKUP(AF603,Discount[],3,0)),2)","v":382.01},null,103700,"B055"]
[8718528013922,"Artikel",8718528013922,"STUKS","WK6522 A1 stomp","wit 880x2115 slg/vpl","FSC Mix 70% CU-COC 800339","DEUR","BINNEN","BINNEN","MODERN","6522","","","Inventory","",true,"STOMP","",2115,880,38,"",false,false,false,382.01,462,{"$f":"ROUND(AA604*(1-VLOOKUP(AF604,Discount[],3,0)),2)","v":382.01},null,103700,"B055"]
[8718528013953,"Artikel",8718528013953,"STUKS","WK6522 XL A1 stomp","wit 880x2315 slg/vpl","FSC Mix 70% CU-COC 800339","DEUR","BINNEN","BINNEN","MODERN","6522","","","Inventory","",true,"STOMP","",2315,880,38,"",false,false,false,382.01,462,{"$f":"ROUND(AA605*(1-VLOOKUP(AF605,Discount[],3,0)),2)","v":382.01},null,103700,"B055"]
[8718528013984,"Artikel",8718528013984,"STUKS","WK6522 A1 stomp","wit 930x2015 slg/vpl","FSC Mix 70% CU-COC 800339","DEUR","BINNEN","BINNEN","MODERN","6522","","","Inventory","",true,"STOMP","",2015,930,38,"",false,false,false,382.01,462,{"$f":"ROUND(AA606*(1-VLOOKUP(AF606,Discount[],3,0)),2)","v":382.01},null,103700,"B055"]
[8718528013991,"Artikel",8718528013991,"STUKS","WK6522 A1 stomp","wit 930x2115 slg/vpl","FSC Mix 70% CU-COC 800339","DEUR","BINNEN","BINNEN","MODERN","6522","","","Inventory","",true,"STOMP","",2115,930,38,"",false,false,false,382.01,462,{"$f":"ROUND(AA607*(1-VLOOKUP(AF607,Discount[],3,0)),2)","v":382.01},null,103700,"B055"]
[8718528014028,"Artikel",8718528014028,"STUKS","WK6522 XL A1 stomp","wit 930x2315 slg/vpl","FSC Mix 70% CU-COC 800339","DEUR","BINNEN","BINNEN","MODERN","6522","","","Inventory","",true,"STOMP","",2315,930,38,"",false,false,false,382.01,462,{"$f":"ROUND(AA608*(1-VLOOKUP(AF608,Discount[],3,0)),2)","v":382.01},null,103700,"B055"]
[8718528099988,"Artikel",8718528099988,"STUKS","WK6522 A1 stomp","wit 630x2015 slg/vpl","FSC Mix 70% CU-COC 800339","DEUR","BINNEN","BINNEN","MODERN","6522","","","Inventory","",true,"STOMP","",2015,630,38,"",false,false,false,382.01,462,{"$f":"ROUND(AA609*(1-VLOOKUP(AF609,Discount[],3,0)),2)","v":382.01},null,103700,"B055"]
[8718528099995,"Artikel",8718528099995,"STUKS","WK6522 A1 stomp","wit 630x2115 slg/vpl","FSC Mix 70% CU-COC 800339","DEUR","BINNEN","BINNEN","MODERN","6522","","","Inventory","",true,"STOMP","",2115,630,38,"",false,false,false,382.01,462,{"$f":"ROUND(AA610*(1-VLOOKUP(AF610,Discount[],3,0)),2)","v":382.01},null,103700,"B055"]
[8718528100004,"Artikel",8718528100004,"STUKS","WK6522 XL A1 stomp","wit 630x2315 slg/vpl","FSC Mix 70% CU-COC 800339","DEUR","BINNEN","BINNEN","MODERN","6522","","","Inventory","",true,"STOMP","",2315,630,38,"",false,false,false,382.01,462,{"$f":"ROUND(AA611*(1-VLOOKUP(AF611,Discount[],3,0)),2)","v":382.01},null,103700,"B055"]
[8718528100011,"Artikel",8718528100011,"STUKS","WK6522 A1 stomp","wit 680x2015 slg/vpl","FSC Mix 70% CU-COC 800339","DEUR","BINNEN","BINNEN","MODERN","6522","","","Inventory","",true,"STOMP","",2015,680,38,"",false,false,false,382.01,462,{"$f":"ROUND(AA612*(1-VLOOKUP(AF612,Discount[],3,0)),2)","v":382.01},null,103700,"B055"]
[8718528100028,"Artikel",8718528100028,"STUKS","WK6522 A1 stomp","wit 680x2115 slg/vpl","FSC Mix 70% CU-COC 800339","DEUR","BINNEN","BINNEN","MODERN","6522","","","Inventory","",true,"STOMP","",2115,680,38,"",false,false,false,382.01,462,{"$f":"ROUND(AA613*(1-VLOOKUP(AF613,Discount[],3,0)),2)","v":382.01},null,103700,"B055"]
[8718528100035,"Artikel",8718528100035,"STUKS","WK6522 XL A1 stomp","wit 680x2315 slg/vpl","FSC Mix 70% CU-COC 800339","DEUR","BINNEN","BINNEN","MODERN","6522","","","Inventory","",true,"STOMP","",2315,680,38,"",false,false,false,382.01,462,{"$f":"ROUND(AA614*(1-VLOOKUP(AF614,Discount[],3,0)),2)","v":382.01},null,103700,"B055"]
[8718528100042,"Artikel",8718528100042,"STUKS","WK6522 A1 stomp","wit 730x2015 slg/vpl","FSC Mix 70% CU-COC 800339","DEUR","BINNEN","BINNEN","MODERN","6522","","","Inventory","",true,"STOMP","",2015,730,38,"",false,false,false,382.01,462,{"$f":"ROUND(AA615*(1-VLOOKUP(AF615,Discount[],3,0)),2)","v":382.01},null,103700,"B055"]
[8718528100059,"Artikel",8718528100059,"STUKS","WK6522 A1 stomp","wit 730x2115 slg/vpl","FSC Mix 70% CU-COC 800339","DEUR","BINNEN","BINNEN","MODERN","6522","","","Inventory","",true,"STOMP","",2115,730,38,"",false,false,false,382.01,462,{"$f":"ROUND(AA616*(1-VLOOKUP(AF616,Discount[],3,0)),2)","v":382.01},null,103700,"B055"]
[8718528100066,"Artikel",8718528100066,"STUKS","WK6522 XL A1 stomp","wit 730x2315 slg/vpl","FSC Mix 70% CU-COC 800339","DEUR","BINNEN","BINNEN","MODERN","6522","","","Inventory","",true,"STOMP","",2315,730,38,"",false,false,false,382.01,462,{"$f":"ROUND(AA617*(1-VLOOKUP(AF617,Discount[],3,0)),2)","v":382.01},null,103700,"B055"]
[8718528100073,"Artikel",8718528100073,"STUKS","WK6522 A1 stomp","wit 780x2115 slg/vpl","FSC Mix 70% CU-COC 800339","DEUR","BINNEN","BINNEN","MODERN","6522","","","Inventory","",true,"STOMP","",2115,780,38,"",false,false,false,382.01,462,{"$f":"ROUND(AA618*(1-VLOOKUP(AF618,Discount[],3,0)),2)","v":382.01},null,103700,"B055"]
[8718528100080,"Artikel",8718528100080,"STUKS","WK6522 XL A1 stomp","wit 780x2315 slg/vpl","FSC Mix 70% CU-COC 800339","DEUR","BINNEN","BINNEN","MODERN","6522","","","Inventory","",true,"STOMP","",2315,780,38,"",false,false,false,382.01,462,{"$f":"ROUND(AA619*(1-VLOOKUP(AF619,Discount[],3,0)),2)","v":382.01},null,103700,"B055"]
[8718528014059,"Artikel",8718528014059,"STUKS","WK6531 A1 stomp","wit 730x2015 slg/vpl","FSC Mix 70% CU-COC 800339","DEUR","BINNEN","BINNEN","MODERN","6531","","","Inventory","",true,"STOMP","",2015,730,38,"",false,false,false,386.44,468,{"$f":"ROUND(AA620*(1-VLOOKUP(AF620,Discount[],3,0)),2)","v":386.44},null,103710,"B055"]
[8718528014080,"Artikel",8718528014080,"STUKS","WK6531 A1 stomp","wit 730x2115 slg/vpl","FSC Mix 70% CU-COC 800339","DEUR","BINNEN","BINNEN","MODERN","6531","","","Inventory","",true,"STOMP","",2115,730,38,"",false,false,false,386.44,468,{"$f":"ROUND(AA621*(1-VLOOKUP(AF621,Discount[],3,0)),2)","v":386.44},null,103710,"B055"]
[8718528014110,"Artikel",8718528014110,"STUKS","WK6531 XL A1 stomp","wit 730x2315 slg/vpl","FSC Mix 70% CU-COC 800339","DEUR","BINNEN","BINNEN","MODERN","6531","","","Inventory","",true,"STOMP","",2315,730,38,"",false,false,false,386.44,468,{"$f":"ROUND(AA622*(1-VLOOKUP(AF622,Discount[],3,0)),2)","v":386.44},null,103710,"B055"]
[8718528014141,"Artikel",8718528014141,"STUKS","WK6531 A1 stomp","wit 780x2015 slg/vpl","FSC Mix 70% CU-COC 800339","DEUR","BINNEN","BINNEN","MODERN","6531","","","Inventory","",true,"STOMP","",2015,780,38,"",false,false,false,386.44,468,{"$f":"ROUND(AA623*(1-VLOOKUP(AF623,Discount[],3,0)),2)","v":386.44},null,103710,"B055"]
[8718528014172,"Artikel",8718528014172,"STUKS","WK6531 A1 stomp","wit 780x2115 slg/vpl","FSC Mix 70% CU-COC 800339","DEUR","BINNEN","BINNEN","MODERN","6531","","","Inventory","",true,"STOMP","",2115,780,38,"",false,false,false,386.44,468,{"$f":"ROUND(AA624*(1-VLOOKUP(AF624,Discount[],3,0)),2)","v":386.44},null,103710,"B055"]
[8718528014202,"Artikel",8718528014202,"STUKS","WK6531 XL A1 stomp","wit 780x2315 slg/vpl","FSC Mix 70% CU-COC 800339","DEUR","BINNEN","BINNEN","MODERN","6531","","","Inventory","",true,"STOMP","",2315,780,38,"",false,false,false,386.44,468,{"$f":"ROUND(AA625*(1-VLOOKUP(AF625,Discount[],3,0)),2)","v":386.44},null,103710,"B055"]
[8718528014233,"Artikel",8718528014233,"STUKS","WK6531 A1 stomp","wit 830x2015 slg/vpl","FSC Mix 70% CU-COC 800339","DEUR","BINNEN","BINNEN","MODERN","6531","","","Inventory","",true,"STOMP","",2015,830,38,"",false,false,false,386.44,468,{"$f":"ROUND(AA626*(1-VLOOKUP(AF626,Discount[],3,0)),2)","v":386.44},null,103710,"B055"]
[8718528014264,"Artikel",8718528014264,"STUKS","WK6531 A1 stomp","wit 830x2115 slg/vpl","FSC Mix 70% CU-COC 800339","DEUR","BINNEN","BINNEN","MODERN","6531","","","Inventory","",true,"STOMP","",2115,830,38,"",false,false,false,386.44,468,{"$f":"ROUND(AA627*(1-VLOOKUP(AF627,Discount[],3,0)),2)","v":386.44},null,103710,"B055"]
[8718528014295,"Artikel",8718528014295,"STUKS","WK6531 XL A1 stomp","wit 830x2315 slg/vpl","FSC Mix 70% CU-COC 800339","DEUR","BINNEN","BINNEN","MODERN","6531","","","Inventory","",true,"STOMP","",2315,830,38,"",false,false,false,386.44,468,{"$f":"ROUND(AA628*(1-VLOOKUP(AF628,Discount[],3,0)),2)","v":386.44},null,103710,"B055"]
[8718528014325,"Artikel",8718528014325,"STUKS","WK6531 A1 stomp","wit 880x2015 slg/vpl","FSC Mix 70% CU-COC 800339","DEUR","BINNEN","BINNEN","MODERN","6531","","","Inventory","",true,"STOMP","",2015,880,38,"",false,false,false,386.44,468,{"$f":"ROUND(AA629*(1-VLOOKUP(AF629,Discount[],3,0)),2)","v":386.44},null,103710,"B055"]
[8718528014332,"Artikel",8718528014332,"STUKS","WK6531 A1 stomp","wit 880x2115 slg/vpl","FSC Mix 70% CU-COC 800339","DEUR","BINNEN","BINNEN","MODERN","6531","","","Inventory","",true,"STOMP","",2115,880,38,"",false,false,false,386.44,468,{"$f":"ROUND(AA630*(1-VLOOKUP(AF630,Discount[],3,0)),2)","v":386.44},null,103710,"B055"]
[8718528014363,"Artikel",8718528014363,"STUKS","WK6531 XL A1 stomp","wit 880x2315 slg/vpl","FSC Mix 70% CU-COC 800339","DEUR","BINNEN","BINNEN","MODERN","6531","","","Inventory","",true,"STOMP","",2315,880,38,"",false,false,false,386.44,468,{"$f":"ROUND(AA631*(1-VLOOKUP(AF631,Discount[],3,0)),2)","v":386.44},null,103710,"B055"]
[8718528014394,"Artikel",8718528014394,"STUKS","WK6531 A1 stomp","wit 930x2015 slg/vpl","FSC Mix 70% CU-COC 800339","DEUR","BINNEN","BINNEN","MODERN","6531","","","Inventory","",true,"STOMP","",2015,930,38,"",false,false,false,386.44,468,{"$f":"ROUND(AA632*(1-VLOOKUP(AF632,Discount[],3,0)),2)","v":386.44},null,103710,"B055"]
[8718528014400,"Artikel",8718528014400,"STUKS","WK6531 A1 stomp","wit 930x2115 slg/vpl","FSC Mix 70% CU-COC 800339","DEUR","BINNEN","BINNEN","MODERN","6531","","","Inventory","",true,"STOMP","",2115,930,38,"",false,false,false,386.44,468,{"$f":"ROUND(AA633*(1-VLOOKUP(AF633,Discount[],3,0)),2)","v":386.44},null,103710,"B055"]
[8718528014431,"Artikel",8718528014431,"STUKS","WK6531 XL A1 stomp","wit 930x2315 slg/vpl","FSC Mix 70% CU-COC 800339","DEUR","BINNEN","BINNEN","MODERN","6531","","","Inventory","",true,"STOMP","",2315,930,38,"",false,false,false,386.44,468,{"$f":"ROUND(AA634*(1-VLOOKUP(AF634,Discount[],3,0)),2)","v":386.44},null,103710,"B055"]
[8718528056509,"Artikel",8718528056509,"STUKS","WK6531 A1 stomp","wit 630x2015 slg/vpl","FSC Mix 70% CU-COC 800339","DEUR","BINNEN","BINNEN","MODERN","6531","","","Inventory","",true,"STOMP","",2015,630,38,"",false,false,false,386.44,468,{"$f":"ROUND(AA635*(1-VLOOKUP(AF635,Discount[],3,0)),2)","v":386.44},null,103710,"B055"]
[8718528056561,"Artikel",8718528056561,"STUKS","WK6531 A1 stomp","wit 630x2115 slg/vpl","FSC Mix 70% CU-COC 800339","DEUR","BINNEN","BINNEN","MODERN","6531","","","Inventory","",true,"STOMP","",2115,630,38,"",false,false,false,386.44,468,{"$f":"ROUND(AA636*(1-VLOOKUP(AF636,Discount[],3,0)),2)","v":386.44},null,103710,"B055"]
[8718528056622,"Artikel",8718528056622,"STUKS","WK6531 A1 stomp","wit 680x2015 slg/vpl","FSC Mix 70% CU-COC 800339","DEUR","BINNEN","BINNEN","MODERN","6531","","","Inventory","",true,"STOMP","",2015,680,38,"",false,false,false,386.44,468,{"$f":"ROUND(AA637*(1-VLOOKUP(AF637,Discount[],3,0)),2)","v":386.44},null,103710,"B055"]
[8718528056684,"Artikel",8718528056684,"STUKS","WK6531 A1 stomp","wit 680x2115 slg/vpl","FSC Mix 70% CU-COC 800339","DEUR","BINNEN","BINNEN","MODERN","6531","","","Inventory","",true,"STOMP","",2115,680,38,"",false,false,false,386.44,468,{"$f":"ROUND(AA638*(1-VLOOKUP(AF638,Discount[],3,0)),2)","v":386.44},null,103710,"B055"]
[8718528100097,"Artikel",8718528100097,"STUKS","WK6531 XL A1 stomp","wit 630x2315 slg/vpl","FSC Mix 70% CU-COC 800339","DEUR","BINNEN","BINNEN","MODERN","6531","","","Inventory","",true,"STOMP","",2315,630,38,"",false,false,false,386.44,468,{"$f":"ROUND(AA639*(1-VLOOKUP(AF639,Discount[],3,0)),2)","v":386.44},null,103710,"B055"]
[8718528100103,"Artikel",8718528100103,"STUKS","WK6531 XL A1 stomp","wit 680x2315 slg/vpl","FSC Mix 70% CU-COC 800339","DEUR","BINNEN","BINNEN","MODERN","6531","","","Inventory","",true,"STOMP","",2315,680,38,"",false,false,false,386.44,468,{"$f":"ROUND(AA640*(1-VLOOKUP(AF640,Discount[],3,0)),2)","v":386.44},null,103710,"B055"]
[8718528014462,"Artikel",8718528014462,"STUKS","WK6532 A1 stomp","wit 780x2015 slg/vpl","FSC Mix 70% CU-COC 800339","DEUR","BINNEN","BINNEN","MODERN","6532","","","Inventory","",true,"STOMP","",2015,780,38,"",false,false,false,395.49,479,{"$f":"ROUND(AA641*(1-VLOOKUP(AF641,Discount[],3,0)),2)","v":395.49},null,103720,"B055"]
[8718528014493,"Artikel",8718528014493,"STUKS","WK6532 A1 stomp","wit 830x2015 slg/vpl","FSC Mix 70% CU-COC 800339","DEUR","BINNEN","BINNEN","MODERN","6532","","","Inventory","",true,"STOMP","",2015,830,38,"",false,false,false,395.49,479,{"$f":"ROUND(AA642*(1-VLOOKUP(AF642,Discount[],3,0)),2)","v":395.49},null,103720,"B055"]
[8718528014523,"Artikel",8718528014523,"STUKS","WK6532 A1 stomp","wit 830x2115 slg/vpl","FSC Mix 70% CU-COC 800339","DEUR","BINNEN","BINNEN","MODERN","6532","","","Inventory","",true,"STOMP","",2115,830,38,"",false,false,false,395.49,479,{"$f":"ROUND(AA643*(1-VLOOKUP(AF643,Discount[],3,0)),2)","v":395.49},null,103720,"B055"]
[8718528014554,"Artikel",8718528014554,"STUKS","WK6532 XL A1 stomp","wit 830x2315 slg/vpl","FSC Mix 70% CU-COC 800339","DEUR","BINNEN","BINNEN","MODERN","6532","","","Inventory","",true,"STOMP","",2315,830,38,"",false,false,false,395.49,479,{"$f":"ROUND(AA644*(1-VLOOKUP(AF644,Discount[],3,0)),2)","v":395.49},null,103720,"B055"]
[8718528014585,"Artikel",8718528014585,"STUKS","WK6532 A1 stomp","wit 880x2015 slg/vpl","FSC Mix 70% CU-COC 800339","DEUR","BINNEN","BINNEN","MODERN","6532","","","Inventory","",true,"STOMP","",2015,880,38,"",false,false,false,395.49,479,{"$f":"ROUND(AA645*(1-VLOOKUP(AF645,Discount[],3,0)),2)","v":395.49},null,103720,"B055"]
[8718528014592,"Artikel",8718528014592,"STUKS","WK6532 A1 stomp","wit 880x2115 slg/vpl","FSC Mix 70% CU-COC 800339","DEUR","BINNEN","BINNEN","MODERN","6532","","","Inventory","",true,"STOMP","",2115,880,38,"",false,false,false,395.49,479,{"$f":"ROUND(AA646*(1-VLOOKUP(AF646,Discount[],3,0)),2)","v":395.49},null,103720,"B055"]
[8718528014622,"Artikel",8718528014622,"STUKS","WK6532 XL A1 stomp","wit 880x2315 slg/vpl","FSC Mix 70% CU-COC 800339","DEUR","BINNEN","BINNEN","MODERN","6532","","","Inventory","",true,"STOMP","",2315,880,38,"",false,false,false,395.49,479,{"$f":"ROUND(AA647*(1-VLOOKUP(AF647,Discount[],3,0)),2)","v":395.49},null,103720,"B055"]
[8718528014653,"Artikel",8718528014653,"STUKS","WK6532 A1 stomp","wit 930x2015 slg/vpl","FSC Mix 70% CU-COC 800339","DEUR","BINNEN","BINNEN","MODERN","6532","","","Inventory","",true,"STOMP","",2015,930,38,"",false,false,false,395.49,479,{"$f":"ROUND(AA648*(1-VLOOKUP(AF648,Discount[],3,0)),2)","v":395.49},null,103720,"B055"]
[8718528014660,"Artikel",8718528014660,"STUKS","WK6532 A1 stomp","wit 930x2115 slg/vpl","FSC Mix 70% CU-COC 800339","DEUR","BINNEN","BINNEN","MODERN","6532","","","Inventory","",true,"STOMP","",2115,930,38,"",false,false,false,395.49,479,{"$f":"ROUND(AA649*(1-VLOOKUP(AF649,Discount[],3,0)),2)","v":395.49},null,103720,"B055"]
[8718528014691,"Artikel",8718528014691,"STUKS","WK6532 XL A1 stomp","wit 930x2315 slg/vpl","FSC Mix 70% CU-COC 800339","DEUR","BINNEN","BINNEN","MODERN","6532","","","Inventory","",true,"STOMP","",2315,930,38,"",false,false,false,395.49,479,{"$f":"ROUND(AA650*(1-VLOOKUP(AF650,Discount[],3,0)),2)","v":395.49},null,103720,"B055"]
[8718528100110,"Artikel",8718528100110,"STUKS","WK6532 A1 stomp","wit 630x2015 slg/vpl","FSC Mix 70% CU-COC 800339","DEUR","BINNEN","BINNEN","MODERN","6532","","","Inventory","",true,"STOMP","",2015,630,38,"",false,false,false,395.49,479,{"$f":"ROUND(AA651*(1-VLOOKUP(AF651,Discount[],3,0)),2)","v":395.49},null,103720,"B055"]
[8718528100127,"Artikel",8718528100127,"STUKS","WK6532 A1 stomp","wit 630x2115 slg/vpl","FSC Mix 70% CU-COC 800339","DEUR","BINNEN","BINNEN","MODERN","6532","","","Inventory","",true,"STOMP","",2115,630,38,"",false,false,false,395.49,479,{"$f":"ROUND(AA652*(1-VLOOKUP(AF652,Discount[],3,0)),2)","v":395.49},null,103720,"B055"]
[8718528100134,"Artikel",8718528100134,"STUKS","WK6532 XL A1 stomp","wit 630x2315 slg/vpl","FSC Mix 70% CU-COC 800339","DEUR","BINNEN","BINNEN","MODERN","6532","","","Inventory","",true,"STOMP","",2315,630,38,"",false,false,false,395.49,479,{"$f":"ROUND(AA653*(1-VLOOKUP(AF653,Discount[],3,0)),2)","v":395.49},null,103720,"B055"]
[8718528100141,"Artikel",8718528100141,"STUKS","WK6532 A1 stomp","wit 680x2015 slg/vpl","FSC Mix 70% CU-COC 800339","DEUR","BINNEN","BINNEN","MODERN","6532","","","Inventory","",true,"STOMP","",2015,680,38,"",false,false,false,395.49,479,{"$f":"ROUND(AA654*(1-VLOOKUP(AF654,Discount[],3,0)),2)","v":395.49},null,103720,"B055"]
[8718528100158,"Artikel",8718528100158,"STUKS","WK6532 A1 stomp","wit 680x2115 slg/vpl","FSC Mix 70% CU-COC 800339","DEUR","BINNEN","BINNEN","MODERN","6532","","","Inventory","",true,"STOMP","",2115,680,38,"",false,false,false,395.49,479,{"$f":"ROUND(AA655*(1-VLOOKUP(AF655,Discount[],3,0)),2)","v":395.49},null,103720,"B055"]
[8718528100165,"Artikel",8718528100165,"STUKS","WK6532 XL A1 stomp","wit 680x2315 slg/vpl","FSC Mix 70% CU-COC 800339","DEUR","BINNEN","BINNEN","MODERN","6532","","","Inventory","",true,"STOMP","",2315,680,38,"",false,false,false,395.49,479,{"$f":"ROUND(AA656*(1-VLOOKUP(AF656,Discount[],3,0)),2)","v":395.49},null,103720,"B055"]
[8718528100172,"Artikel",8718528100172,"STUKS","WK6532 A1 stomp","wit 730x2015 slg/vpl","FSC Mix 70% CU-COC 800339","DEUR","BINNEN","BINNEN","MODERN","6532","","","Inventory","",true,"STOMP","",2015,730,38,"",false,false,false,395.49,479,{"$f":"ROUND(AA657*(1-VLOOKUP(AF657,Discount[],3,0)),2)","v":395.49},null,103720,"B055"]
[8718528100189,"Artikel",8718528100189,"STUKS","WK6532 A1 stomp","wit 730x2115 slg/vpl","FSC Mix 70% CU-COC 800339","DEUR","BINNEN","BINNEN","MODERN","6532","","","Inventory","",true,"STOMP","",2115,730,38,"",false,false,false,395.49,479,{"$f":"ROUND(AA658*(1-VLOOKUP(AF658,Discount[],3,0)),2)","v":395.49},null,103720,"B055"]
[8718528100196,"Artikel",8718528100196,"STUKS","WK6532 XL A1 stomp","wit 730x2315 slg/vpl","FSC Mix 70% CU-COC 800339","DEUR","BINNEN","BINNEN","MODERN","6532","","","Inventory","",true,"STOMP","",2315,730,38,"",false,false,false,395.49,479,{"$f":"ROUND(AA659*(1-VLOOKUP(AF659,Discount[],3,0)),2)","v":395.49},null,103720,"B055"]
[8718528100202,"Artikel",8718528100202,"STUKS","WK6532 A1 stomp","wit 780x2115 slg/vpl","FSC Mix 70% CU-COC 800339","DEUR","BINNEN","BINNEN","MODERN","6532","","","Inventory","",true,"STOMP","",2115,780,38,"",false,false,false,395.49,479,{"$f":"ROUND(AA660*(1-VLOOKUP(AF660,Discount[],3,0)),2)","v":395.49},null,103720,"B055"]
[8718528100219,"Artikel",8718528100219,"STUKS","WK6532 XL A1 stomp","wit 780x2315 slg/vpl","FSC Mix 70% CU-COC 800339","DEUR","BINNEN","BINNEN","MODERN","6532","","","Inventory","",true,"STOMP","",2315,780,38,"",false,false,false,395.49,479,{"$f":"ROUND(AA661*(1-VLOOKUP(AF661,Discount[],3,0)),2)","v":395.49},null,103720,"B055"]
[8718528016633,"Artikel",8718528016633,"STUKS","WK6533 A1 stomp","wit 780x2015 slg/vpl","FSC Mix 70% CU-COC 800339","DEUR","BINNEN","BINNEN","MODERN","6533","","","Inventory","",true,"STOMP","",2015,780,38,"",false,false,false,372.94,451,{"$f":"ROUND(AA662*(1-VLOOKUP(AF662,Discount[],3,0)),2)","v":372.94},null,103730,"B055"]
[8718528016664,"Artikel",8718528016664,"STUKS","WK6533 A1 stomp","wit 830x2015 slg/vpl","FSC Mix 70% CU-COC 800339","DEUR","BINNEN","BINNEN","MODERN","6533","","","Inventory","",true,"STOMP","",2015,830,38,"",false,false,false,372.94,451,{"$f":"ROUND(AA663*(1-VLOOKUP(AF663,Discount[],3,0)),2)","v":372.94},null,103730,"B055"]
[8718528016695,"Artikel",8718528016695,"STUKS","WK6533 A1 stomp","wit 830x2115 slg/vpl","FSC Mix 70% CU-COC 800339","DEUR","BINNEN","BINNEN","MODERN","6533","","","Inventory","",true,"STOMP","",2115,830,38,"",false,false,false,372.94,451,{"$f":"ROUND(AA664*(1-VLOOKUP(AF664,Discount[],3,0)),2)","v":372.94},null,103730,"B055"]
[8718528016725,"Artikel",8718528016725,"STUKS","WK6533 XL A1 stomp","wit 830x2315 slg/vpl","FSC Mix 70% CU-COC 800339","DEUR","BINNEN","BINNEN","MODERN","6533","","","Inventory","",true,"STOMP","",2315,830,38,"",false,false,false,372.94,451,{"$f":"ROUND(AA665*(1-VLOOKUP(AF665,Discount[],3,0)),2)","v":372.94},null,103730,"B055"]
[8718528016756,"Artikel",8718528016756,"STUKS","WK6533 A1 stomp","wit 880x2015 slg/vpl","FSC Mix 70% CU-COC 800339","DEUR","BINNEN","BINNEN","MODERN","6533","","","Inventory","",true,"STOMP","",2015,880,38,"",false,false,false,372.94,451,{"$f":"ROUND(AA666*(1-VLOOKUP(AF666,Discount[],3,0)),2)","v":372.94},null,103730,"B055"]
[8718528016763,"Artikel",8718528016763,"STUKS","WK6533 A1 stomp","wit 880x2115 slg/vpl","FSC Mix 70% CU-COC 800339","DEUR","BINNEN","BINNEN","MODERN","6533","","","Inventory","",true,"STOMP","",2115,880,38,"",false,false,false,372.94,451,{"$f":"ROUND(AA667*(1-VLOOKUP(AF667,Discount[],3,0)),2)","v":372.94},null,103730,"B055"]
[8718528016794,"Artikel",8718528016794,"STUKS","WK6533 XL A1 stomp","wit 880x2315 slg/vpl","FSC Mix 70% CU-COC 800339","DEUR","BINNEN","BINNEN","MODERN","6533","","","Inventory","",true,"STOMP","",2315,880,38,"",false,false,false,372.94,451,{"$f":"ROUND(AA668*(1-VLOOKUP(AF668,Discount[],3,0)),2)","v":372.94},null,103730,"B055"]
[8718528016824,"Artikel",8718528016824,"STUKS","WK6533 A1 stomp","wit 930x2015 slg/vpl","FSC Mix 70% CU-COC 800339","DEUR","BINNEN","BINNEN","MODERN","6533","","","Inventory","",true,"STOMP","",2015,930,38,"",false,false,false,372.94,451,{"$f":"ROUND(AA669*(1-VLOOKUP(AF669,Discount[],3,0)),2)","v":372.94},null,103730,"B055"]
[8718528016831,"Artikel",8718528016831,"STUKS","WK6533 A1 stomp","wit 930x2115 slg/vpl","FSC Mix 70% CU-COC 800339","DEUR","BINNEN","BINNEN","MODERN","6533","","","Inventory","",true,"STOMP","",2115,930,38,"",false,false,false,372.94,451,{"$f":"ROUND(AA670*(1-VLOOKUP(AF670,Discount[],3,0)),2)","v":372.94},null,103730,"B055"]
[8718528016862,"Artikel",8718528016862,"STUKS","WK6533 XL A1 stomp","wit 930x2315 slg/vpl","FSC Mix 70% CU-COC 800339","DEUR","BINNEN","BINNEN","MODERN","6533","","","Inventory","",true,"STOMP","",2315,930,38,"",false,false,false,372.94,451,{"$f":"ROUND(AA671*(1-VLOOKUP(AF671,Discount[],3,0)),2)","v":372.94},null,103730,"B055"]
[8718528100226,"Artikel",8718528100226,"STUKS","WK6533 A1 stomp","wit 630x2015 slg/vpl","FSC Mix 70% CU-COC 800339","DEUR","BINNEN","BINNEN","MODERN","6533","","","Inventory","",true,"STOMP","",2015,630,38,"",false,false,false,372.94,451,{"$f":"ROUND(AA672*(1-VLOOKUP(AF672,Discount[],3,0)),2)","v":372.94},null,103730,"B055"]
[8718528100233,"Artikel",8718528100233,"STUKS","WK6533 A1 stomp","wit 630x2115 slg/vpl","FSC Mix 70% CU-COC 800339","DEUR","BINNEN","BINNEN","MODERN","6533","","","Inventory","",true,"STOMP","",2115,630,38,"",false,false,false,372.94,451,{"$f":"ROUND(AA673*(1-VLOOKUP(AF673,Discount[],3,0)),2)","v":372.94},null,103730,"B055"]
[8718528100240,"Artikel",8718528100240,"STUKS","WK6533 XL A1 stomp","wit 630x2315 slg/vpl","FSC Mix 70% CU-COC 800339","DEUR","BINNEN","BINNEN","MODERN","6533","","","Inventory","",true,"STOMP","",2315,630,38,"",false,false,false,372.94,451,{"$f":"ROUND(AA674*(1-VLOOKUP(AF674,Discount[],3,0)),2)","v":372.94},null,103730,"B055"]
[8718528100257,"Artikel",8718528100257,"STUKS","WK6533 A1 stomp","wit 680x2015 slg/vpl","FSC Mix 70% CU-COC 800339","DEUR","BINNEN","BINNEN","MODERN","6533","","","Inventory","",true,"STOMP","",2015,680,38,"",false,false,false,372.94,451,{"$f":"ROUND(AA675*(1-VLOOKUP(AF675,Discount[],3,0)),2)","v":372.94},null,103730,"B055"]
[8718528100264,"Artikel",8718528100264,"STUKS","WK6533 A1 stomp","wit 680x2115 slg/vpl","FSC Mix 70% CU-COC 800339","DEUR","BINNEN","BINNEN","MODERN","6533","","","Inventory","",true,"STOMP","",2115,680,38,"",false,false,false,372.94,451,{"$f":"ROUND(AA676*(1-VLOOKUP(AF676,Discount[],3,0)),2)","v":372.94},null,103730,"B055"]
[8718528100271,"Artikel",8718528100271,"STUKS","WK6533 XL A1 stomp","wit 680x2315 slg/vpl","FSC Mix 70% CU-COC 800339","DEUR","BINNEN","BINNEN","MODERN","6533","","","Inventory","",true,"STOMP","",2315,680,38,"",false,false,false,372.94,451,{"$f":"ROUND(AA677*(1-VLOOKUP(AF677,Discount[],3,0)),2)","v":372.94},null,103730,"B055"]
[8718528100288,"Artikel",8718528100288,"STUKS","WK6533 A1 stomp","wit 730x2015 slg/vpl","FSC Mix 70% CU-COC 800339","DEUR","BINNEN","BINNEN","MODERN","6533","","","Inventory","",true,"STOMP","",2015,730,38,"",false,false,false,372.94,451,{"$f":"ROUND(AA678*(1-VLOOKUP(AF678,Discount[],3,0)),2)","v":372.94},null,103730,"B055"]
[8718528100295,"Artikel",8718528100295,"STUKS","WK6533 A1 stomp","wit 730x2115 slg/vpl","FSC Mix 70% CU-COC 800339","DEUR","BINNEN","BINNEN","MODERN","6533","","","Inventory","",true,"STOMP","",2115,730,38,"",false,false,false,372.94,451,{"$f":"ROUND(AA679*(1-VLOOKUP(AF679,Discount[],3,0)),2)","v":372.94},null,103730,"B055"]
[8718528100301,"Artikel",8718528100301,"STUKS","WK6533 XL A1 stomp","wit 730x2315 slg/vpl","FSC Mix 70% CU-COC 800339","DEUR","BINNEN","BINNEN","MODERN","6533","","","Inventory","",true,"STOMP","",2315,730,38,"",false,false,false,372.94,451,{"$f":"ROUND(AA680*(1-VLOOKUP(AF680,Discount[],3,0)),2)","v":372.94},null,103730,"B055"]
[8718528100318,"Artikel",8718528100318,"STUKS","WK6533 A1 stomp","wit 780x2115 slg/vpl","FSC Mix 70% CU-COC 800339","DEUR","BINNEN","BINNEN","MODERN","6533","","","Inventory","",true,"STOMP","",2115,780,38,"",false,false,false,372.94,451,{"$f":"ROUND(AA681*(1-VLOOKUP(AF681,Discount[],3,0)),2)","v":372.94},null,103730,"B055"]
[8718528100325,"Artikel",8718528100325,"STUKS","WK6533 XL A1 stomp","wit 780x2315 slg/vpl","FSC Mix 70% CU-COC 800339","DEUR","BINNEN","BINNEN","MODERN","6533","","","Inventory","",true,"STOMP","",2315,780,38,"",false,false,false,372.94,451,{"$f":"ROUND(AA682*(1-VLOOKUP(AF682,Discount[],3,0)),2)","v":372.94},null,103730,"B055"]
[8718528014721,"Artikel",8718528014721,"STUKS","WK6541 A1 stomp","wit 730x2015 slg/vpl","FSC Mix 70% CU-COC 800339","DEUR","BINNEN","BINNEN","MODERN","6541","","","Inventory","",true,"STOMP","",2015,730,38,"",false,false,false,423.6,513,{"$f":"ROUND(AA683*(1-VLOOKUP(AF683,Discount[],3,0)),2)","v":423.6},null,103740,"B055"]
[8718528014752,"Artikel",8718528014752,"STUKS","WK6541 A1 stomp","wit 730x2115 slg/vpl","FSC Mix 70% CU-COC 800339","DEUR","BINNEN","BINNEN","MODERN","6541","","","Inventory","",true,"STOMP","",2115,730,38,"",false,false,false,423.6,513,{"$f":"ROUND(AA684*(1-VLOOKUP(AF684,Discount[],3,0)),2)","v":423.6},null,103740,"B055"]
[8718528014783,"Artikel",8718528014783,"STUKS","WK6541 XL A1 stomp","wit 730x2315 slg/vpl","FSC Mix 70% CU-COC 800339","DEUR","BINNEN","BINNEN","MODERN","6541","","","Inventory","",true,"STOMP","",2315,730,38,"",false,false,false,423.6,513,{"$f":"ROUND(AA685*(1-VLOOKUP(AF685,Discount[],3,0)),2)","v":423.6},null,103740,"B055"]
[8718528014813,"Artikel",8718528014813,"STUKS","WK6541 A1 stomp","wit 780x2015 slg/vpl","FSC Mix 70% CU-COC 800339","DEUR","BINNEN","BINNEN","MODERN","6541","","","Inventory","",true,"STOMP","",2015,780,38,"",false,false,false,423.6,513,{"$f":"ROUND(AA686*(1-VLOOKUP(AF686,Discount[],3,0)),2)","v":423.6},null,103740,"B055"]
[8718528014844,"Artikel",8718528014844,"STUKS","WK6541 A1 stomp","wit 780x2115 slg/vpl","FSC Mix 70% CU-COC 800339","DEUR","BINNEN","BINNEN","MODERN","6541","","","Inventory","",true,"STOMP","",2115,780,38,"",false,false,false,423.6,513,{"$f":"ROUND(AA687*(1-VLOOKUP(AF687,Discount[],3,0)),2)","v":423.6},null,103740,"B055"]
[8718528014875,"Artikel",8718528014875,"STUKS","WK6541 XL A1 stomp","wit 780x2315 slg/vpl","FSC Mix 70% CU-COC 800339","DEUR","BINNEN","BINNEN","MODERN","6541","","","Inventory","",true,"STOMP","",2315,780,38,"",false,false,false,423.6,513,{"$f":"ROUND(AA688*(1-VLOOKUP(AF688,Discount[],3,0)),2)","v":423.6},null,103740,"B055"]
[8718528014905,"Artikel",8718528014905,"STUKS","WK6541 A1 stomp","wit 830x2015 slg/vpl","FSC Mix 70% CU-COC 800339","DEUR","BINNEN","BINNEN","MODERN","6541","","","Inventory","",true,"STOMP","",2015,830,38,"",false,false,false,423.6,513,{"$f":"ROUND(AA689*(1-VLOOKUP(AF689,Discount[],3,0)),2)","v":423.6},null,103740,"B055"]
[8718528014936,"Artikel",8718528014936,"STUKS","WK6541 A1 stomp","wit 830x2115 slg/vpl","FSC Mix 70% CU-COC 800339","DEUR","BINNEN","BINNEN","MODERN","6541","","","Inventory","",true,"STOMP","",2115,830,38,"",false,false,false,423.6,513,{"$f":"ROUND(AA690*(1-VLOOKUP(AF690,Discount[],3,0)),2)","v":423.6},null,103740,"B055"]
[8718528014967,"Artikel",8718528014967,"STUKS","WK6541 XL A1 stomp","wit 830x2315 slg/vpl","FSC Mix 70% CU-COC 800339","DEUR","BINNEN","BINNEN","MODERN","6541","","","Inventory","",true,"STOMP","",2315,830,38,"",false,false,false,423.6,513,{"$f":"ROUND(AA691*(1-VLOOKUP(AF691,Discount[],3,0)),2)","v":423.6},null,103740,"B055"]
[8718528014998,"Artikel",8718528014998,"STUKS","WK6541 A1 stomp","wit 880x2015 slg/vpl","FSC Mix 70% CU-COC 800339","DEUR","BINNEN","BINNEN","MODERN","6541","","","Inventory","",true,"STOMP","",2015,880,38,"",false,false,false,423.6,513,{"$f":"ROUND(AA692*(1-VLOOKUP(AF692,Discount[],3,0)),2)","v":423.6},null,103740,"B055"]
[8718528015001,"Artikel",8718528015001,"STUKS","WK6541 A1 stomp","wit 880x2115 slg/vpl","FSC Mix 70% CU-COC 800339","DEUR","BINNEN","BINNEN","MODERN","6541","","","Inventory","",true,"STOMP","",2115,880,38,"",false,false,false,423.6,513,{"$f":"ROUND(AA693*(1-VLOOKUP(AF693,Discount[],3,0)),2)","v":423.6},null,103740,"B055"]
[8718528015032,"Artikel",8718528015032,"STUKS","WK6541 XL A1 stomp","wit 880x2315 slg/vpl","FSC Mix 70% CU-COC 800339","DEUR","BINNEN","BINNEN","MODERN","6541","","","Inventory","",true,"STOMP","",2315,880,38,"",false,false,false,423.6,513,{"$f":"ROUND(AA694*(1-VLOOKUP(AF694,Discount[],3,0)),2)","v":423.6},null,103740,"B055"]
[8718528015063,"Artikel",8718528015063,"STUKS","WK6541 A1 stomp","wit 930x2015 slg/vpl","FSC Mix 70% CU-COC 800339","DEUR","BINNEN","BINNEN","MODERN","6541","","","Inventory","",true,"STOMP","",2015,930,38,"",false,false,false,423.6,513,{"$f":"ROUND(AA695*(1-VLOOKUP(AF695,Discount[],3,0)),2)","v":423.6},null,103740,"B055"]
[8718528015070,"Artikel",8718528015070,"STUKS","WK6541 A1 stomp","wit 930x2115 slg/vpl","FSC Mix 70% CU-COC 800339","DEUR","BINNEN","BINNEN","MODERN","6541","","","Inventory","",true,"STOMP","",2115,930,38,"",false,false,false,423.6,513,{"$f":"ROUND(AA696*(1-VLOOKUP(AF696,Discount[],3,0)),2)","v":423.6},null,103740,"B055"]
[8718528015100,"Artikel",8718528015100,"STUKS","WK6541 XL A1 stomp","wit 930x2315 slg/vpl","FSC Mix 70% CU-COC 800339","DEUR","BINNEN","BINNEN","MODERN","6541","","","Inventory","",true,"STOMP","",2315,930,38,"",false,false,false,423.6,513,{"$f":"ROUND(AA697*(1-VLOOKUP(AF697,Discount[],3,0)),2)","v":423.6},null,103740,"B055"]
[8718528100332,"Artikel",8718528100332,"STUKS","WK6541 A1 stomp","wit 630x2015 slg/vpl","FSC Mix 70% CU-COC 800339","DEUR","BINNEN","BINNEN","MODERN","6541","","","Inventory","",true,"STOMP","",2015,630,38,"",false,false,false,423.6,513,{"$f":"ROUND(AA698*(1-VLOOKUP(AF698,Discount[],3,0)),2)","v":423.6},null,103740,"B055"]
[8718528100349,"Artikel",8718528100349,"STUKS","WK6541 A1 stomp","wit 630x2115 slg/vpl","FSC Mix 70% CU-COC 800339","DEUR","BINNEN","BINNEN","MODERN","6541","","","Inventory","",true,"STOMP","",2115,630,38,"",false,false,false,423.6,513,{"$f":"ROUND(AA699*(1-VLOOKUP(AF699,Discount[],3,0)),2)","v":423.6},null,103740,"B055"]
[8718528100356,"Artikel",8718528100356,"STUKS","WK6541 XL A1 stomp","wit 630x2315 slg/vpl","FSC Mix 70% CU-COC 800339","DEUR","BINNEN","BINNEN","MODERN","6541","","","Inventory","",true,"STOMP","",2315,630,38,"",false,false,false,423.6,513,{"$f":"ROUND(AA700*(1-VLOOKUP(AF700,Discount[],3,0)),2)","v":423.6},null,103740,"B055"]
[8718528100363,"Artikel",8718528100363,"STUKS","WK6541 A1 stomp","wit 680x2015 slg/vpl","FSC Mix 70% CU-COC 800339","DEUR","BINNEN","BINNEN","MODERN","6541","","","Inventory","",true,"STOMP","",2015,680,38,"",false,false,false,423.6,513,{"$f":"ROUND(AA701*(1-VLOOKUP(AF701,Discount[],3,0)),2)","v":423.6},null,103740,"B055"]
[8718528100370,"Artikel",8718528100370,"STUKS","WK6541 A1 stomp","wit 680x2115 slg/vpl","FSC Mix 70% CU-COC 800339","DEUR","BINNEN","BINNEN","MODERN","6541","","","Inventory","",true,"STOMP","",2115,680,38,"",false,false,false,423.6,513,{"$f":"ROUND(AA702*(1-VLOOKUP(AF702,Discount[],3,0)),2)","v":423.6},null,103740,"B055"]
[8718528100387,"Artikel",8718528100387,"STUKS","WK6541 XL A1 stomp","wit 680x2315 slg/vpl","FSC Mix 70% CU-COC 800339","DEUR","BINNEN","BINNEN","MODERN","6541","","","Inventory","",true,"STOMP","",2315,680,38,"",false,false,false,423.6,513,{"$f":"ROUND(AA703*(1-VLOOKUP(AF703,Discount[],3,0)),2)","v":423.6},null,103740,"B055"]
[8718528015131,"Artikel",8718528015131,"STUKS","WK6542 A1 stomp","wit 780x2015 slg/vpl","FSC Mix 70% CU-COC 800339","DEUR","BINNEN","BINNEN","MODERN","6542","","","Inventory","",true,"STOMP","",2015,780,38,"",false,false,false,406.75,492,{"$f":"ROUND(AA704*(1-VLOOKUP(AF704,Discount[],3,0)),2)","v":406.75},null,103750,"B055"]
[8718528015162,"Artikel",8718528015162,"STUKS","WK6542 A1 stomp","wit 830x2015 slg/vpl","FSC Mix 70% CU-COC 800339","DEUR","BINNEN","BINNEN","MODERN","6542","","","Inventory","",true,"STOMP","",2015,830,38,"",false,false,false,406.75,492,{"$f":"ROUND(AA705*(1-VLOOKUP(AF705,Discount[],3,0)),2)","v":406.75},null,103750,"B055"]
[8718528015193,"Artikel",8718528015193,"STUKS","WK6542 A1 stomp","wit 830x2115 slg/vpl","FSC Mix 70% CU-COC 800339","DEUR","BINNEN","BINNEN","MODERN","6542","","","Inventory","",true,"STOMP","",2115,830,38,"",false,false,false,406.75,492,{"$f":"ROUND(AA706*(1-VLOOKUP(AF706,Discount[],3,0)),2)","v":406.75},null,103750,"B055"]
[8718528015223,"Artikel",8718528015223,"STUKS","WK6542 XL A1 stomp","wit 830x2315 slg/vpl","FSC Mix 70% CU-COC 800339","DEUR","BINNEN","BINNEN","MODERN","6542","","","Inventory","",true,"STOMP","",2315,830,38,"",false,false,false,406.75,492,{"$f":"ROUND(AA707*(1-VLOOKUP(AF707,Discount[],3,0)),2)","v":406.75},null,103750,"B055"]
[8718528015254,"Artikel",8718528015254,"STUKS","WK6542 A1 stomp","wit 880x2015 slg/vpl","FSC Mix 70% CU-COC 800339","DEUR","BINNEN","BINNEN","MODERN","6542","","","Inventory","",true,"STOMP","",2015,880,38,"",false,false,false,406.75,492,{"$f":"ROUND(AA708*(1-VLOOKUP(AF708,Discount[],3,0)),2)","v":406.75},null,103750,"B055"]
[8718528015261,"Artikel",8718528015261,"STUKS","WK6542 A1 stomp","wit 880x2115 slg/vpl","FSC Mix 70% CU-COC 800339","DEUR","BINNEN","BINNEN","MODERN","6542","","","Inventory","",true,"STOMP","",2115,880,38,"",false,false,false,406.75,492,{"$f":"ROUND(AA709*(1-VLOOKUP(AF709,Discount[],3,0)),2)","v":406.75},null,103750,"B055"]
[8718528015292,"Artikel",8718528015292,"STUKS","WK6542 XL A1 stomp","wit 880x2315 slg/vpl","FSC Mix 70% CU-COC 800339","DEUR","BINNEN","BINNEN","MODERN","6542","","","Inventory","",true,"STOMP","",2315,880,38,"",false,false,false,406.75,492,{"$f":"ROUND(AA710*(1-VLOOKUP(AF710,Discount[],3,0)),2)","v":406.75},null,103750,"B055"]
[8718528015322,"Artikel",8718528015322,"STUKS","WK6542 A1 stomp","wit 930x2015 slg/vpl","FSC Mix 70% CU-COC 800339","DEUR","BINNEN","BINNEN","MODERN","6542","","","Inventory","",true,"STOMP","",2015,930,38,"",false,false,false,406.75,492,{"$f":"ROUND(AA711*(1-VLOOKUP(AF711,Discount[],3,0)),2)","v":406.75},null,103750,"B055"]
[8718528015339,"Artikel",8718528015339,"STUKS","WK6542 A1 stomp","wit 930x2115 slg/vpl","FSC Mix 70% CU-COC 800339","DEUR","BINNEN","BINNEN","MODERN","6542","","","Inventory","",true,"STOMP","",2115,930,38,"",false,false,false,406.75,492,{"$f":"ROUND(AA712*(1-VLOOKUP(AF712,Discount[],3,0)),2)","v":406.75},null,103750,"B055"]
[8718528015360,"Artikel",8718528015360,"STUKS","WK6542 XL A1 stomp","wit 930x2315 slg/vpl","FSC Mix 70% CU-COC 800339","DEUR","BINNEN","BINNEN","MODERN","6542","","","Inventory","",true,"STOMP","",2315,930,38,"",false,false,false,406.75,492,{"$f":"ROUND(AA713*(1-VLOOKUP(AF713,Discount[],3,0)),2)","v":406.75},null,103750,"B055"]
[8718528100394,"Artikel",8718528100394,"STUKS","WK6542 A1 stomp","wit 630x2015 slg/vpl","FSC Mix 70% CU-COC 800339","DEUR","BINNEN","BINNEN","MODERN","6542","","","Inventory","",true,"STOMP","",2015,630,38,"",false,false,false,406.75,492,{"$f":"ROUND(AA714*(1-VLOOKUP(AF714,Discount[],3,0)),2)","v":406.75},null,103750,"B055"]
[8718528100400,"Artikel",8718528100400,"STUKS","WK6542 A1 stomp","wit 630x2115 slg/vpl","FSC Mix 70% CU-COC 800339","DEUR","BINNEN","BINNEN","MODERN","6542","","","Inventory","",true,"STOMP","",2115,630,38,"",false,false,false,406.75,492,{"$f":"ROUND(AA715*(1-VLOOKUP(AF715,Discount[],3,0)),2)","v":406.75},null,103750,"B055"]
[8718528100417,"Artikel",8718528100417,"STUKS","WK6542 XL A1 stomp","wit 630x2315 slg/vpl","FSC Mix 70% CU-COC 800339","DEUR","BINNEN","BINNEN","MODERN","6542","","","Inventory","",true,"STOMP","",2315,630,38,"",false,false,false,406.75,492,{"$f":"ROUND(AA716*(1-VLOOKUP(AF716,Discount[],3,0)),2)","v":406.75},null,103750,"B055"]
[8718528100424,"Artikel",8718528100424,"STUKS","WK6542 A1 stomp","wit 680x2015 slg/vpl","FSC Mix 70% CU-COC 800339","DEUR","BINNEN","BINNEN","MODERN","6542","","","Inventory","",true,"STOMP","",2015,680,38,"",false,false,false,406.75,492,{"$f":"ROUND(AA717*(1-VLOOKUP(AF717,Discount[],3,0)),2)","v":406.75},null,103750,"B055"]
[8718528100431,"Artikel",8718528100431,"STUKS","WK6542 A1 stomp","wit 680x2115 slg/vpl","FSC Mix 70% CU-COC 800339","DEUR","BINNEN","BINNEN","MODERN","6542","","","Inventory","",true,"STOMP","",2115,680,38,"",false,false,false,406.75,492,{"$f":"ROUND(AA718*(1-VLOOKUP(AF718,Discount[],3,0)),2)","v":406.75},null,103750,"B055"]
[8718528100448,"Artikel",8718528100448,"STUKS","WK6542 XL A1 stomp","wit 680x2315 slg/vpl","FSC Mix 70% CU-COC 800339","DEUR","BINNEN","BINNEN","MODERN","6542","","","Inventory","",true,"STOMP","",2315,680,38,"",false,false,false,406.75,492,{"$f":"ROUND(AA719*(1-VLOOKUP(AF719,Discount[],3,0)),2)","v":406.75},null,103750,"B055"]
[8718528100455,"Artikel",8718528100455,"STUKS","WK6542 A1 stomp","wit 730x2015 slg/vpl","FSC Mix 70% CU-COC 800339","DEUR","BINNEN","BINNEN","MODERN","6542","","","Inventory","",true,"STOMP","",2015,730,38,"",false,false,false,406.75,492,{"$f":"ROUND(AA720*(1-VLOOKUP(AF720,Discount[],3,0)),2)","v":406.75},null,103750,"B055"]
[8718528100462,"Artikel",8718528100462,"STUKS","WK6542 A1 stomp","wit 730x2115 slg/vpl","FSC Mix 70% CU-COC 800339","DEUR","BINNEN","BINNEN","MODERN","6542","","","Inventory","",true,"STOMP","",2115,730,38,"",false,false,false,406.75,492,{"$f":"ROUND(AA721*(1-VLOOKUP(AF721,Discount[],3,0)),2)","v":406.75},null,103750,"B055"]
[8718528100479,"Artikel",8718528100479,"STUKS","WK6542 XL A1 stomp","wit 730x2315 slg/vpl","FSC Mix 70% CU-COC 800339","DEUR","BINNEN","BINNEN","MODERN","6542","","","Inventory","",true,"STOMP","",2315,730,38,"",false,false,false,406.75,492,{"$f":"ROUND(AA722*(1-VLOOKUP(AF722,Discount[],3,0)),2)","v":406.75},null,103750,"B055"]
[8718528100486,"Artikel",8718528100486,"STUKS","WK6542 A1 stomp","wit 780x2115 slg/vpl","FSC Mix 70% CU-COC 800339","DEUR","BINNEN","BINNEN","MODERN","6542","","","Inventory","",true,"STOMP","",2115,780,38,"",false,false,false,406.75,492,{"$f":"ROUND(AA723*(1-VLOOKUP(AF723,Discount[],3,0)),2)","v":406.75},null,103750,"B055"]
[8718528100493,"Artikel",8718528100493,"STUKS","WK6542 XL A1 stomp","wit 780x2315 slg/vpl","FSC Mix 70% CU-COC 800339","DEUR","BINNEN","BINNEN","MODERN","6542","","","Inventory","",true,"STOMP","",2315,780,38,"",false,false,false,406.75,492,{"$f":"ROUND(AA724*(1-VLOOKUP(AF724,Discount[],3,0)),2)","v":406.75},null,103750,"B055"]
[8718528015391,"Artikel",8718528015391,"STUKS","WK6551 A1 stomp","wit 730x2015 slg/vpl","FSC Mix 70% CU-COC 800339","DEUR","BINNEN","BINNEN","MODERN","6551","","","Inventory","",true,"STOMP","",2015,730,38,"",false,false,false,386.44,468,{"$f":"ROUND(AA725*(1-VLOOKUP(AF725,Discount[],3,0)),2)","v":386.44},null,103760,"B055"]
[8718528015421,"Artikel",8718528015421,"STUKS","WK6551 A1 stomp","wit 730x2115 slg/vpl","FSC Mix 70% CU-COC 800339","DEUR","BINNEN","BINNEN","MODERN","6551","","","Inventory","",true,"STOMP","",2115,730,38,"",false,false,false,386.44,468,{"$f":"ROUND(AA726*(1-VLOOKUP(AF726,Discount[],3,0)),2)","v":386.44},null,103760,"B055"]
[8718528015452,"Artikel",8718528015452,"STUKS","WK6551 XL A1 stomp","wit 730x2315 slg/vpl","FSC Mix 70% CU-COC 800339","DEUR","BINNEN","BINNEN","MODERN","6551","","","Inventory","",true,"STOMP","",2315,730,38,"",false,false,false,386.44,468,{"$f":"ROUND(AA727*(1-VLOOKUP(AF727,Discount[],3,0)),2)","v":386.44},null,103760,"B055"]
[8718528015483,"Artikel",8718528015483,"STUKS","WK6551 A1 stomp","wit 780x2015 slg/vpl","FSC Mix 70% CU-COC 800339","DEUR","BINNEN","BINNEN","MODERN","6551","","","Inventory","",true,"STOMP","",2015,780,38,"",false,false,false,386.44,468,{"$f":"ROUND(AA728*(1-VLOOKUP(AF728,Discount[],3,0)),2)","v":386.44},null,103760,"B055"]
[8718528015513,"Artikel",8718528015513,"STUKS","WK6551 A1 stomp","wit 780x2115 slg/vpl","FSC Mix 70% CU-COC 800339","DEUR","BINNEN","BINNEN","MODERN","6551","","","Inventory","",true,"STOMP","",2115,780,38,"",false,false,false,386.44,468,{"$f":"ROUND(AA729*(1-VLOOKUP(AF729,Discount[],3,0)),2)","v":386.44},null,103760,"B055"]
[8718528015544,"Artikel",8718528015544,"STUKS","WK6551 XL A1 stomp","wit 780x2315 slg/vpl","FSC Mix 70% CU-COC 800339","DEUR","BINNEN","BINNEN","MODERN","6551","","","Inventory","",true,"STOMP","",2315,780,38,"",false,false,false,386.44,468,{"$f":"ROUND(AA730*(1-VLOOKUP(AF730,Discount[],3,0)),2)","v":386.44},null,103760,"B055"]
[8718528015575,"Artikel",8718528015575,"STUKS","WK6551 A1 stomp","wit 830x2015 slg/vpl","FSC Mix 70% CU-COC 800339","DEUR","BINNEN","BINNEN","MODERN","6551","","","Inventory","",true,"STOMP","",2015,830,38,"",false,false,false,386.44,468,{"$f":"ROUND(AA731*(1-VLOOKUP(AF731,Discount[],3,0)),2)","v":386.44},null,103760,"B055"]
[8718528015605,"Artikel",8718528015605,"STUKS","WK6551 A1 stomp","wit 830x2115 slg/vpl","FSC Mix 70% CU-COC 800339","DEUR","BINNEN","BINNEN","MODERN","6551","","","Inventory","",true,"STOMP","",2115,830,38,"",false,false,false,386.44,468,{"$f":"ROUND(AA732*(1-VLOOKUP(AF732,Discount[],3,0)),2)","v":386.44},null,103760,"B055"]
[8718528015636,"Artikel",8718528015636,"STUKS","WK6551 XL A1 stomp","wit 830x2315 slg/vpl","FSC Mix 70% CU-COC 800339","DEUR","BINNEN","BINNEN","MODERN","6551","","","Inventory","",true,"STOMP","",2315,830,38,"",false,false,false,386.44,468,{"$f":"ROUND(AA733*(1-VLOOKUP(AF733,Discount[],3,0)),2)","v":386.44},null,103760,"B055"]
[8718528015667,"Artikel",8718528015667,"STUKS","WK6551 A1 stomp","wit 880x2015 slg/vpl","FSC Mix 70% CU-COC 800339","DEUR","BINNEN","BINNEN","MODERN","6551","","","Inventory","",true,"STOMP","",2015,880,38,"",false,false,false,386.44,468,{"$f":"ROUND(AA734*(1-VLOOKUP(AF734,Discount[],3,0)),2)","v":386.44},null,103760,"B055"]
[8718528015674,"Artikel",8718528015674,"STUKS","WK6551 A1 stomp","wit 880x2115 slg/vpl","FSC Mix 70% CU-COC 800339","DEUR","BINNEN","BINNEN","MODERN","6551","","","Inventory","",true,"STOMP","",2115,880,38,"",false,false,false,386.44,468,{"$f":"ROUND(AA735*(1-VLOOKUP(AF735,Discount[],3,0)),2)","v":386.44},null,103760,"B055"]
[8718528015704,"Artikel",8718528015704,"STUKS","WK6551 XL A1 stomp","wit 880x2315 slg/vpl","FSC Mix 70% CU-COC 800339","DEUR","BINNEN","BINNEN","MODERN","6551","","","Inventory","",true,"STOMP","",2315,880,38,"",false,false,false,386.44,468,{"$f":"ROUND(AA736*(1-VLOOKUP(AF736,Discount[],3,0)),2)","v":386.44},null,103760,"B055"]
[8718528015735,"Artikel",8718528015735,"STUKS","WK6551 A1 stomp","wit 930x2015 slg/vpl","FSC Mix 70% CU-COC 800339","DEUR","BINNEN","BINNEN","MODERN","6551","","","Inventory","",true,"STOMP","",2015,930,38,"",false,false,false,386.44,468,{"$f":"ROUND(AA737*(1-VLOOKUP(AF737,Discount[],3,0)),2)","v":386.44},null,103760,"B055"]
[8718528015742,"Artikel",8718528015742,"STUKS","WK6551 A1 stomp","wit 930x2115 slg/vpl","FSC Mix 70% CU-COC 800339","DEUR","BINNEN","BINNEN","MODERN","6551","","","Inventory","",true,"STOMP","",2115,930,38,"",false,false,false,386.44,468,{"$f":"ROUND(AA738*(1-VLOOKUP(AF738,Discount[],3,0)),2)","v":386.44},null,103760,"B055"]
[8718528015773,"Artikel",8718528015773,"STUKS","WK6551 XL A1 stomp","wit 930x2315 slg/vpl","FSC Mix 70% CU-COC 800339","DEUR","BINNEN","BINNEN","MODERN","6551","","","Inventory","",true,"STOMP","",2315,930,38,"",false,false,false,386.44,468,{"$f":"ROUND(AA739*(1-VLOOKUP(AF739,Discount[],3,0)),2)","v":386.44},null,103760,"B055"]
[8718528100509,"Artikel",8718528100509,"STUKS","WK6551 A1 stomp","wit 630x2015 slg/vpl","FSC Mix 70% CU-COC 800339","DEUR","BINNEN","BINNEN","MODERN","6551","","","Inventory","",true,"STOMP","",2015,630,38,"",false,false,false,386.44,468,{"$f":"ROUND(AA740*(1-VLOOKUP(AF740,Discount[],3,0)),2)","v":386.44},null,103760,"B055"]
[8718528100516,"Artikel",8718528100516,"STUKS","WK6551 A1 stomp","wit 630x2115 slg/vpl","FSC Mix 70% CU-COC 800339","DEUR","BINNEN","BINNEN","MODERN","6551","","","Inventory","",true,"STOMP","",2115,630,38,"",false,false,false,386.44,468,{"$f":"ROUND(AA741*(1-VLOOKUP(AF741,Discount[],3,0)),2)","v":386.44},null,103760,"B055"]
[8718528100523,"Artikel",8718528100523,"STUKS","WK6551 XL A1 stomp","wit 630x2315 slg/vpl","FSC Mix 70% CU-COC 800339","DEUR","BINNEN","BINNEN","MODERN","6551","","","Inventory","",true,"STOMP","",2315,630,38,"",false,false,false,386.44,468,{"$f":"ROUND(AA742*(1-VLOOKUP(AF742,Discount[],3,0)),2)","v":386.44},null,103760,"B055"]
[8718528100530,"Artikel",8718528100530,"STUKS","WK6551 A1 stomp","wit 680x2015 slg/vpl","FSC Mix 70% CU-COC 800339","DEUR","BINNEN","BINNEN","MODERN","6551","","","Inventory","",true,"STOMP","",2015,680,38,"",false,false,false,386.44,468,{"$f":"ROUND(AA743*(1-VLOOKUP(AF743,Discount[],3,0)),2)","v":386.44},null,103760,"B055"]
[8718528100547,"Artikel",8718528100547,"STUKS","WK6551 A1 stomp","wit 680x2115 slg/vpl","FSC Mix 70% CU-COC 800339","DEUR","BINNEN","BINNEN","MODERN","6551","","","Inventory","",true,"STOMP","",2115,680,38,"",false,false,false,386.44,468,{"$f":"ROUND(AA744*(1-VLOOKUP(AF744,Discount[],3,0)),2)","v":386.44},null,103760,"B055"]
[8718528100554,"Artikel",8718528100554,"STUKS","WK6551 XL A1 stomp","wit 680x2315 slg/vpl","FSC Mix 70% CU-COC 800339","DEUR","BINNEN","BINNEN","MODERN","6551","","","Inventory","",true,"STOMP","",2315,680,38,"",false,false,false,386.44,468,{"$f":"ROUND(AA745*(1-VLOOKUP(AF745,Discount[],3,0)),2)","v":386.44},null,103760,"B055"]
[8718528015803,"Artikel",8718528015803,"STUKS","WK6552 A1 stomp","wit 780x2015 slg/vpl","FSC Mix 70% CU-COC 800339","DEUR","BINNEN","BINNEN","MODERN","6552","","","Inventory","",true,"STOMP","",2015,780,38,"",false,false,false,359.44,435,{"$f":"ROUND(AA746*(1-VLOOKUP(AF746,Discount[],3,0)),2)","v":359.44},null,103770,"B055"]
[8718528015834,"Artikel",8718528015834,"STUKS","WK6552 A1 stomp","wit 830x2015 slg/vpl","FSC Mix 70% CU-COC 800339","DEUR","BINNEN","BINNEN","MODERN","6552","","","Inventory","",true,"STOMP","",2015,830,38,"",false,false,false,359.44,435,{"$f":"ROUND(AA747*(1-VLOOKUP(AF747,Discount[],3,0)),2)","v":359.44},null,103770,"B055"]
[8718528015865,"Artikel",8718528015865,"STUKS","WK6552 A1 stomp","wit 830x2115 slg/vpl","FSC Mix 70% CU-COC 800339","DEUR","BINNEN","BINNEN","MODERN","6552","","","Inventory","",true,"STOMP","",2115,830,38,"",false,false,false,359.44,435,{"$f":"ROUND(AA748*(1-VLOOKUP(AF748,Discount[],3,0)),2)","v":359.44},null,103770,"B055"]
[8718528015896,"Artikel",8718528015896,"STUKS","WK6552 XL A1 stomp","wit 830x2315 slg/vpl","FSC Mix 70% CU-COC 800339","DEUR","BINNEN","BINNEN","MODERN","6552","","","Inventory","",true,"STOMP","",2315,830,38,"",false,false,false,359.44,435,{"$f":"ROUND(AA749*(1-VLOOKUP(AF749,Discount[],3,0)),2)","v":359.44},null,103770,"B055"]
[8718528015926,"Artikel",8718528015926,"STUKS","WK6552 A1 stomp","wit 880x2015 slg/vpl","FSC Mix 70% CU-COC 800339","DEUR","BINNEN","BINNEN","MODERN","6552","","","Inventory","",true,"STOMP","",2015,880,38,"",false,false,false,359.44,435,{"$f":"ROUND(AA750*(1-VLOOKUP(AF750,Discount[],3,0)),2)","v":359.44},null,103770,"B055"]
[8718528015933,"Artikel",8718528015933,"STUKS","WK6552 A1 stomp","wit 880x2115 slg/vpl","FSC Mix 70% CU-COC 800339","DEUR","BINNEN","BINNEN","MODERN","6552","","","Inventory","",true,"STOMP","",2115,880,38,"",false,false,false,359.44,435,{"$f":"ROUND(AA751*(1-VLOOKUP(AF751,Discount[],3,0)),2)","v":359.44},null,103770,"B055"]
[8718528015964,"Artikel",8718528015964,"STUKS","WK6552 XL A1 stomp","wit 880x2315 slg/vpl","FSC Mix 70% CU-COC 800339","DEUR","BINNEN","BINNEN","MODERN","6552","","","Inventory","",true,"STOMP","",2315,880,38,"",false,false,false,359.44,435,{"$f":"ROUND(AA752*(1-VLOOKUP(AF752,Discount[],3,0)),2)","v":359.44},null,103770,"B055"]
[8718528015995,"Artikel",8718528015995,"STUKS","WK6552 A1 stomp","wit 930x2015 slg/vpl","FSC Mix 70% CU-COC 800339","DEUR","BINNEN","BINNEN","MODERN","6552","","","Inventory","",true,"STOMP","",2015,930,38,"",false,false,false,359.44,435,{"$f":"ROUND(AA753*(1-VLOOKUP(AF753,Discount[],3,0)),2)","v":359.44},null,103770,"B055"]
[8718528016008,"Artikel",8718528016008,"STUKS","WK6552 A1 stomp","wit 930x2115 slg/vpl","FSC Mix 70% CU-COC 800339","DEUR","BINNEN","BINNEN","MODERN","6552","","","Inventory","",true,"STOMP","",2115,930,38,"",false,false,false,359.44,435,{"$f":"ROUND(AA754*(1-VLOOKUP(AF754,Discount[],3,0)),2)","v":359.44},null,103770,"B055"]
[8718528016039,"Artikel",8718528016039,"STUKS","WK6552 XL A1 stomp","wit 930x2315 slg/vpl","FSC Mix 70% CU-COC 800339","DEUR","BINNEN","BINNEN","MODERN","6552","","","Inventory","",true,"STOMP","",2315,930,38,"",false,false,false,359.44,435,{"$f":"ROUND(AA755*(1-VLOOKUP(AF755,Discount[],3,0)),2)","v":359.44},null,103770,"B055"]
[8718528100561,"Artikel",8718528100561,"STUKS","WK6552 A1 stomp","wit 630x2015 slg/vpl","FSC Mix 70% CU-COC 800339","DEUR","BINNEN","BINNEN","MODERN","6552","","","Inventory","",true,"STOMP","",2015,630,38,"",false,false,false,359.44,435,{"$f":"ROUND(AA756*(1-VLOOKUP(AF756,Discount[],3,0)),2)","v":359.44},null,103770,"B055"]
[8718528100578,"Artikel",8718528100578,"STUKS","WK6552 A1 stomp","wit 630x2115 slg/vpl","FSC Mix 70% CU-COC 800339","DEUR","BINNEN","BINNEN","MODERN","6552","","","Inventory","",true,"STOMP","",2115,630,38,"",false,false,false,359.44,435,{"$f":"ROUND(AA757*(1-VLOOKUP(AF757,Discount[],3,0)),2)","v":359.44},null,103770,"B055"]
[8718528100585,"Artikel",8718528100585,"STUKS","WK6552 XL A1 stomp","wit 630x2315 slg/vpl","FSC Mix 70% CU-COC 800339","DEUR","BINNEN","BINNEN","MODERN","6552","","","Inventory","",true,"STOMP","",2315,630,38,"",false,false,false,359.44,435,{"$f":"ROUND(AA758*(1-VLOOKUP(AF758,Discount[],3,0)),2)","v":359.44},null,103770,"B055"]
[8718528100592,"Artikel",8718528100592,"STUKS","WK6552 A1 stomp","wit 680x2015 slg/vpl","FSC Mix 70% CU-COC 800339","DEUR","BINNEN","BINNEN","MODERN","6552","","","Inventory","",true,"STOMP","",2015,680,38,"",false,false,false,359.44,435,{"$f":"ROUND(AA759*(1-VLOOKUP(AF759,Discount[],3,0)),2)","v":359.44},null,103770,"B055"]
[8718528100608,"Artikel",8718528100608,"STUKS","WK6552 A1 stomp","wit 680x2115 slg/vpl","FSC Mix 70% CU-COC 800339","DEUR","BINNEN","BINNEN","MODERN","6552","","","Inventory","",true,"STOMP","",2115,680,38,"",false,false,false,359.44,435,{"$f":"ROUND(AA760*(1-VLOOKUP(AF760,Discount[],3,0)),2)","v":359.44},null,103770,"B055"]
[8718528100615,"Artikel",8718528100615,"STUKS","WK6552 XL A1 stomp","wit 680x2315 slg/vpl","FSC Mix 70% CU-COC 800339","DEUR","BINNEN","BINNEN","MODERN","6552","","","Inventory","",true,"STOMP","",2315,680,38,"",false,false,false,359.44,435,{"$f":"ROUND(AA761*(1-VLOOKUP(AF761,Discount[],3,0)),2)","v":359.44},null,103770,"B055"]
[8718528100622,"Artikel",8718528100622,"STUKS","WK6552 A1 stomp","wit 730x2015 slg/vpl","FSC Mix 70% CU-COC 800339","DEUR","BINNEN","BINNEN","MODERN","6552","","","Inventory","",true,"STOMP","",2015,730,38,"",false,false,false,359.44,435,{"$f":"ROUND(AA762*(1-VLOOKUP(AF762,Discount[],3,0)),2)","v":359.44},null,103770,"B055"]
[8718528100639,"Artikel",8718528100639,"STUKS","WK6552 A1 stomp","wit 730x2115 slg/vpl","FSC Mix 70% CU-COC 800339","DEUR","BINNEN","BINNEN","MODERN","6552","","","Inventory","",true,"STOMP","",2115,730,38,"",false,false,false,359.44,435,{"$f":"ROUND(AA763*(1-VLOOKUP(AF763,Discount[],3,0)),2)","v":359.44},null,103770,"B055"]
[8718528100646,"Artikel",8718528100646,"STUKS","WK6552 XL A1 stomp","wit 730x2315 slg/vpl","FSC Mix 70% CU-COC 800339","DEUR","BINNEN","BINNEN","MODERN","6552","","","Inventory","",true,"STOMP","",2315,730,38,"",false,false,false,359.44,435,{"$f":"ROUND(AA764*(1-VLOOKUP(AF764,Discount[],3,0)),2)","v":359.44},null,103770,"B055"]
[8718528100653,"Artikel",8718528100653,"STUKS","WK6552 A1 stomp","wit 780x2115 slg/vpl","FSC Mix 70% CU-COC 800339","DEUR","BINNEN","BINNEN","MODERN","6552","","","Inventory","",true,"STOMP","",2115,780,38,"",false,false,false,359.44,435,{"$f":"ROUND(AA765*(1-VLOOKUP(AF765,Discount[],3,0)),2)","v":359.44},null,103770,"B055"]
[8718528100660,"Artikel",8718528100660,"STUKS","WK6552 XL A1 stomp","wit 780x2315 slg/vpl","FSC Mix 70% CU-COC 800339","DEUR","BINNEN","BINNEN","MODERN","6552","","","Inventory","",true,"STOMP","",2315,780,38,"",false,false,false,359.44,435,{"$f":"ROUND(AA766*(1-VLOOKUP(AF766,Discount[],3,0)),2)","v":359.44},null,103770,"B055"]
[8718528016060,"Artikel",8718528016060,"STUKS","WK6562 A1 stomp","wit 730x2015 slg/vpl","FSC Mix 70% CU-COC 800339","DEUR","BINNEN","BINNEN","MODERN","6562","","","Inventory","",true,"STOMP","",2015,730,38,"",false,false,false,404.56,490,{"$f":"ROUND(AA767*(1-VLOOKUP(AF767,Discount[],3,0)),2)","v":404.56},null,103780,"B055"]
[8718528016077,"Artikel",8718528016077,"STUKS","WK6562 A1 stomp","wit 730x2115 slg/vpl","FSC Mix 70% CU-COC 800339","DEUR","BINNEN","BINNEN","MODERN","6562","","","Inventory","",true,"STOMP","",2115,730,38,"",false,false,false,404.56,490,{"$f":"ROUND(AA768*(1-VLOOKUP(AF768,Discount[],3,0)),2)","v":404.56},null,103780,"B055"]
[8718528016084,"Artikel",8718528016084,"STUKS","WK6562 XL A1 stomp","wit 730x2315 slg/vpl","FSC Mix 70% CU-COC 800339","DEUR","BINNEN","BINNEN","MODERN","6562","","","Inventory","",true,"STOMP","",2315,730,38,"",false,false,false,404.56,490,{"$f":"ROUND(AA769*(1-VLOOKUP(AF769,Discount[],3,0)),2)","v":404.56},null,103780,"B055"]
[8718528016091,"Artikel",8718528016091,"STUKS","WK6562 A1 stomp","wit 780x2015 slg/vpl","FSC Mix 70% CU-COC 800339","DEUR","BINNEN","BINNEN","MODERN","6562","","","Inventory","",true,"STOMP","",2015,780,38,"",false,false,false,404.56,490,{"$f":"ROUND(AA770*(1-VLOOKUP(AF770,Discount[],3,0)),2)","v":404.56},null,103780,"B055"]
[8718528016121,"Artikel",8718528016121,"STUKS","WK6562 A1 stomp","wit 780x2115 slg/vpl","FSC Mix 70% CU-COC 800339","DEUR","BINNEN","BINNEN","MODERN","6562","","","Inventory","",true,"STOMP","",2115,780,38,"",false,false,false,404.56,490,{"$f":"ROUND(AA771*(1-VLOOKUP(AF771,Discount[],3,0)),2)","v":404.56},null,103780,"B055"]
[8718528016138,"Artikel",8718528016138,"STUKS","WK6562 XL A1 stomp","wit 780x2315 slg/vpl","FSC Mix 70% CU-COC 800339","DEUR","BINNEN","BINNEN","MODERN","6562","","","Inventory","",true,"STOMP","",2315,780,38,"",false,false,false,404.56,490,{"$f":"ROUND(AA772*(1-VLOOKUP(AF772,Discount[],3,0)),2)","v":404.56},null,103780,"B055"]
[8718528016145,"Artikel",8718528016145,"STUKS","WK6562 A1 stomp","wit 830x2015 slg/vpl","FSC Mix 70% CU-COC 800339","DEUR","BINNEN","BINNEN","MODERN","6562","","","Inventory","",true,"STOMP","",2015,830,38,"",false,false,false,404.56,490,{"$f":"ROUND(AA773*(1-VLOOKUP(AF773,Discount[],3,0)),2)","v":404.56},null,103780,"B055"]
[8718528016176,"Artikel",8718528016176,"STUKS","WK6562 A1 stomp","wit 830x2115 slg/vpl","FSC Mix 70% CU-COC 800339","DEUR","BINNEN","BINNEN","MODERN","6562","","","Inventory","",true,"STOMP","",2115,830,38,"",false,false,false,404.56,490,{"$f":"ROUND(AA774*(1-VLOOKUP(AF774,Discount[],3,0)),2)","v":404.56},null,103780,"B055"]
[8718528016206,"Artikel",8718528016206,"STUKS","WK6562 XL A1 stomp","wit 830x2315 slg/vpl","FSC Mix 70% CU-COC 800339","DEUR","BINNEN","BINNEN","MODERN","6562","","","Inventory","",true,"STOMP","",2315,830,38,"",false,false,false,404.56,490,{"$f":"ROUND(AA775*(1-VLOOKUP(AF775,Discount[],3,0)),2)","v":404.56},null,103780,"B055"]
[8718528016237,"Artikel",8718528016237,"STUKS","WK6562 A1 stomp","wit 880x2015 slg/vpl","FSC Mix 70% CU-COC 800339","DEUR","BINNEN","BINNEN","MODERN","6562","","","Inventory","",true,"STOMP","",2015,880,38,"",false,false,false,404.56,490,{"$f":"ROUND(AA776*(1-VLOOKUP(AF776,Discount[],3,0)),2)","v":404.56},null,103780,"B055"]
[8718528016244,"Artikel",8718528016244,"STUKS","WK6562 A1 stomp","wit 880x2115 slg/vpl","FSC Mix 70% CU-COC 800339","DEUR","BINNEN","BINNEN","MODERN","6562","","","Inventory","",true,"STOMP","",2115,880,38,"",false,false,false,404.56,490,{"$f":"ROUND(AA777*(1-VLOOKUP(AF777,Discount[],3,0)),2)","v":404.56},null,103780,"B055"]
[8718528016275,"Artikel",8718528016275,"STUKS","WK6562 XL A1 stomp","wit 880x2315 slg/vpl","FSC Mix 70% CU-COC 800339","DEUR","BINNEN","BINNEN","MODERN","6562","","","Inventory","",true,"STOMP","",2315,880,38,"",false,false,false,404.56,490,{"$f":"ROUND(AA778*(1-VLOOKUP(AF778,Discount[],3,0)),2)","v":404.56},null,103780,"B055"]
[8718528016305,"Artikel",8718528016305,"STUKS","WK6562 A1 stomp","wit 930x2015 slg/vpl","FSC Mix 70% CU-COC 800339","DEUR","BINNEN","BINNEN","MODERN","6562","","","Inventory","",true,"STOMP","",2015,930,38,"",false,false,false,404.56,490,{"$f":"ROUND(AA779*(1-VLOOKUP(AF779,Discount[],3,0)),2)","v":404.56},null,103780,"B055"]
[8718528016312,"Artikel",8718528016312,"STUKS","WK6562 A1 stomp","wit 930x2115 slg/vpl","FSC Mix 70% CU-COC 800339","DEUR","BINNEN","BINNEN","MODERN","6562","","","Inventory","",true,"STOMP","",2115,930,38,"",false,false,false,404.56,490,{"$f":"ROUND(AA780*(1-VLOOKUP(AF780,Discount[],3,0)),2)","v":404.56},null,103780,"B055"]
[8718528016343,"Artikel",8718528016343,"STUKS","WK6562 XL A1 stomp","wit 930x2315 slg/vpl","FSC Mix 70% CU-COC 800339","DEUR","BINNEN","BINNEN","MODERN","6562","","","Inventory","",true,"STOMP","",2315,930,38,"",false,false,false,404.56,490,{"$f":"ROUND(AA781*(1-VLOOKUP(AF781,Discount[],3,0)),2)","v":404.56},null,103780,"B055"]
[8718528100677,"Artikel",8718528100677,"STUKS","WK6562 A1 stomp","wit 630x2015 slg/vpl","FSC Mix 70% CU-COC 800339","DEUR","BINNEN","BINNEN","MODERN","6562","","","Inventory","",true,"STOMP","",2015,630,38,"",false,false,false,404.56,490,{"$f":"ROUND(AA782*(1-VLOOKUP(AF782,Discount[],3,0)),2)","v":404.56},null,103780,"B055"]
[8718528100684,"Artikel",8718528100684,"STUKS","WK6562 A1 stomp","wit 630x2115 slg/vpl","FSC Mix 70% CU-COC 800339","DEUR","BINNEN","BINNEN","MODERN","6562","","","Inventory","",true,"STOMP","",2115,630,38,"",false,false,false,404.56,490,{"$f":"ROUND(AA783*(1-VLOOKUP(AF783,Discount[],3,0)),2)","v":404.56},null,103780,"B055"]
[8718528100691,"Artikel",8718528100691,"STUKS","WK6562 XL A1 stomp","wit 630x2315 slg/vpl","FSC Mix 70% CU-COC 800339","DEUR","BINNEN","BINNEN","MODERN","6562","","","Inventory","",true,"STOMP","",2315,630,38,"",false,false,false,404.56,490,{"$f":"ROUND(AA784*(1-VLOOKUP(AF784,Discount[],3,0)),2)","v":404.56},null,103780,"B055"]
[8718528100707,"Artikel",8718528100707,"STUKS","WK6562 A1 stomp","wit 680x2015 slg/vpl","FSC Mix 70% CU-COC 800339","DEUR","BINNEN","BINNEN","MODERN","6562","","","Inventory","",true,"STOMP","",2015,680,38,"",false,false,false,404.56,490,{"$f":"ROUND(AA785*(1-VLOOKUP(AF785,Discount[],3,0)),2)","v":404.56},null,103780,"B055"]
[8718528100714,"Artikel",8718528100714,"STUKS","WK6562 A1 stomp","wit 680x2115 slg/vpl","FSC Mix 70% CU-COC 800339","DEUR","BINNEN","BINNEN","MODERN","6562","","","Inventory","",true,"STOMP","",2115,680,38,"",false,false,false,404.56,490,{"$f":"ROUND(AA786*(1-VLOOKUP(AF786,Discount[],3,0)),2)","v":404.56},null,103780,"B055"]
[8718528100721,"Artikel",8718528100721,"STUKS","WK6562 XL A1 stomp","wit 680x2315 slg/vpl","FSC Mix 70% CU-COC 800339","DEUR","BINNEN","BINNEN","MODERN","6562","","","Inventory","",true,"STOMP","",2315,680,38,"",false,false,false,404.56,490,{"$f":"ROUND(AA787*(1-VLOOKUP(AF787,Discount[],3,0)),2)","v":404.56},null,103780,"B055"]
[8718528016893,"Artikel",8718528016893,"STUKS","WK6571 A1 stomp","wit 730x2015 slg/vpl","FSC Mix 70% CU-COC 800339","DEUR","BINNEN","BINNEN","MODERN","6571","","","Inventory","",true,"STOMP","",2015,730,38,"",false,false,false,360.54,436,{"$f":"ROUND(AA788*(1-VLOOKUP(AF788,Discount[],3,0)),2)","v":360.54},null,103790,"B055"]
[8718528016923,"Artikel",8718528016923,"STUKS","WK6571 A1 stomp","wit 730x2115 slg/vpl","FSC Mix 70% CU-COC 800339","DEUR","BINNEN","BINNEN","MODERN","6571","","","Inventory","",true,"STOMP","",2115,730,38,"",false,false,false,360.54,436,{"$f":"ROUND(AA789*(1-VLOOKUP(AF789,Discount[],3,0)),2)","v":360.54},null,103790,"B055"]
[8718528016954,"Artikel",8718528016954,"STUKS","WK6571 XL A1 stomp","wit 730x2315 slg/vpl","FSC Mix 70% CU-COC 800339","DEUR","BINNEN","BINNEN","MODERN","6571","","","Inventory","",true,"STOMP","",2315,730,38,"",false,false,false,360.54,436,{"$f":"ROUND(AA790*(1-VLOOKUP(AF790,Discount[],3,0)),2)","v":360.54},null,103790,"B055"]
[8718528016985,"Artikel",8718528016985,"STUKS","WK6571 A1 stomp","wit 780x2015 slg/vpl","FSC Mix 70% CU-COC 800339","DEUR","BINNEN","BINNEN","MODERN","6571","","","Inventory","",true,"STOMP","",2015,780,38,"",false,false,false,360.54,436,{"$f":"ROUND(AA791*(1-VLOOKUP(AF791,Discount[],3,0)),2)","v":360.54},null,103790,"B055"]
[8718528017012,"Artikel",8718528017012,"STUKS","WK6571 A1 stomp","wit 780x2115 slg/vpl","FSC Mix 70% CU-COC 800339","DEUR","BINNEN","BINNEN","MODERN","6571","","","Inventory","",true,"STOMP","",2115,780,38,"",false,false,false,360.54,436,{"$f":"ROUND(AA792*(1-VLOOKUP(AF792,Discount[],3,0)),2)","v":360.54},null,103790,"B055"]
[8718528017043,"Artikel",8718528017043,"STUKS","WK6571 XL A1 stomp","wit 780x2315 slg/vpl","FSC Mix 70% CU-COC 800339","DEUR","BINNEN","BINNEN","MODERN","6571","","","Inventory","",true,"STOMP","",2315,780,38,"",false,false,false,360.54,436,{"$f":"ROUND(AA793*(1-VLOOKUP(AF793,Discount[],3,0)),2)","v":360.54},null,103790,"B055"]
[8718528017074,"Artikel",8718528017074,"STUKS","WK6571 A1 stomp","wit 830x2015 slg/vpl","FSC Mix 70% CU-COC 800339","DEUR","BINNEN","BINNEN","MODERN","6571","","","Inventory","",true,"STOMP","",2015,830,38,"",false,false,false,360.54,436,{"$f":"ROUND(AA794*(1-VLOOKUP(AF794,Discount[],3,0)),2)","v":360.54},null,103790,"B055"]
[8718528017104,"Artikel",8718528017104,"STUKS","WK6571 A1 stomp","wit 830x2115 slg/vpl","FSC Mix 70% CU-COC 800339","DEUR","BINNEN","BINNEN","MODERN","6571","","","Inventory","",true,"STOMP","",2115,830,38,"",false,false,false,360.54,436,{"$f":"ROUND(AA795*(1-VLOOKUP(AF795,Discount[],3,0)),2)","v":360.54},null,103790,"B055"]
[8718528017135,"Artikel",8718528017135,"STUKS","WK6571 XL A1 stomp","wit 830x2315 slg/vpl","FSC Mix 70% CU-COC 800339","DEUR","BINNEN","BINNEN","MODERN","6571","","","Inventory","",true,"STOMP","",2315,830,38,"",false,false,false,360.54,436,{"$f":"ROUND(AA796*(1-VLOOKUP(AF796,Discount[],3,0)),2)","v":360.54},null,103790,"B055"]
[8718528017166,"Artikel",8718528017166,"STUKS","WK6571 A1 stomp","wit 880x2015 slg/vpl","FSC Mix 70% CU-COC 800339","DEUR","BINNEN","BINNEN","MODERN","6571","","","Inventory","",true,"STOMP","",2015,880,38,"",false,false,false,360.54,436,{"$f":"ROUND(AA797*(1-VLOOKUP(AF797,Discount[],3,0)),2)","v":360.54},null,103790,"B055"]
[8718528017173,"Artikel",8718528017173,"STUKS","WK6571 A1 stomp","wit 880x2115 slg/vpl","FSC Mix 70% CU-COC 800339","DEUR","BINNEN","BINNEN","MODERN","6571","","","Inventory","",true,"STOMP","",2115,880,38,"",false,false,false,360.54,436,{"$f":"ROUND(AA798*(1-VLOOKUP(AF798,Discount[],3,0)),2)","v":360.54},null,103790,"B055"]
[8718528017203,"Artikel",8718528017203,"STUKS","WK6571 XL A1 stomp","wit 880x2315 slg/vpl","FSC Mix 70% CU-COC 800339","DEUR","BINNEN","BINNEN","MODERN","6571","","","Inventory","",true,"STOMP","",2315,880,38,"",false,false,false,360.54,436,{"$f":"ROUND(AA799*(1-VLOOKUP(AF799,Discount[],3,0)),2)","v":360.54},null,103790,"B055"]
[8718528017234,"Artikel",8718528017234,"STUKS","WK6571 A1 stomp","wit 930x2015 slg/vpl","FSC Mix 70% CU-COC 800339","DEUR","BINNEN","BINNEN","MODERN","6571","","","Inventory","",true,"STOMP","",2015,930,38,"",false,false,false,360.54,436,{"$f":"ROUND(AA800*(1-VLOOKUP(AF800,Discount[],3,0)),2)","v":360.54},null,103790,"B055"]
[8718528017241,"Artikel",8718528017241,"STUKS","WK6571 A1 stomp","wit 930x2115 slg/vpl","FSC Mix 70% CU-COC 800339","DEUR","BINNEN","BINNEN","MODERN","6571","","","Inventory","",true,"STOMP","",2115,930,38,"",false,false,false,360.54,436,{"$f":"ROUND(AA801*(1-VLOOKUP(AF801,Discount[],3,0)),2)","v":360.54},null,103790,"B055"]
[8718528017272,"Artikel",8718528017272,"STUKS","WK6571 XL A1 stomp","wit 930x2315 slg/vpl","FSC Mix 70% CU-COC 800339","DEUR","BINNEN","BINNEN","MODERN","6571","","","Inventory","",true,"STOMP","",2315,930,38,"",false,false,false,360.54,436,{"$f":"ROUND(AA802*(1-VLOOKUP(AF802,Discount[],3,0)),2)","v":360.54},null,103790,"B055"]
[8718528100738,"Artikel",8718528100738,"STUKS","WK6571 A1 stomp","wit 630x2015 slg/vpl","FSC Mix 70% CU-COC 800339","DEUR","BINNEN","BINNEN","MODERN","6571","","","Inventory","",true,"STOMP","",2015,630,38,"",false,false,false,360.54,436,{"$f":"ROUND(AA803*(1-VLOOKUP(AF803,Discount[],3,0)),2)","v":360.54},null,103790,"B055"]
[8718528100745,"Artikel",8718528100745,"STUKS","WK6571 A1 stomp","wit 630x2115 slg/vpl","FSC Mix 70% CU-COC 800339","DEUR","BINNEN","BINNEN","MODERN","6571","","","Inventory","",true,"STOMP","",2115,630,38,"",false,false,false,360.54,436,{"$f":"ROUND(AA804*(1-VLOOKUP(AF804,Discount[],3,0)),2)","v":360.54},null,103790,"B055"]
[8718528100752,"Artikel",8718528100752,"STUKS","WK6571 XL A1 stomp","wit 630x2315 slg/vpl","FSC Mix 70% CU-COC 800339","DEUR","BINNEN","BINNEN","MODERN","6571","","","Inventory","",true,"STOMP","",2315,630,38,"",false,false,false,360.54,436,{"$f":"ROUND(AA805*(1-VLOOKUP(AF805,Discount[],3,0)),2)","v":360.54},null,103790,"B055"]
[8718528100769,"Artikel",8718528100769,"STUKS","WK6571 A1 stomp","wit 680x2015 slg/vpl","FSC Mix 70% CU-COC 800339","DEUR","BINNEN","BINNEN","MODERN","6571","","","Inventory","",true,"STOMP","",2015,680,38,"",false,false,false,360.54,436,{"$f":"ROUND(AA806*(1-VLOOKUP(AF806,Discount[],3,0)),2)","v":360.54},null,103790,"B055"]
[8718528100776,"Artikel",8718528100776,"STUKS","WK6571 A1 stomp","wit 680x2115 slg/vpl","FSC Mix 70% CU-COC 800339","DEUR","BINNEN","BINNEN","MODERN","6571","","","Inventory","",true,"STOMP","",2115,680,38,"",false,false,false,360.54,436,{"$f":"ROUND(AA807*(1-VLOOKUP(AF807,Discount[],3,0)),2)","v":360.54},null,103790,"B055"]
[8718528100783,"Artikel",8718528100783,"STUKS","WK6571 XL A1 stomp","wit 680x2315 slg/vpl","FSC Mix 70% CU-COC 800339","DEUR","BINNEN","BINNEN","MODERN","6571","","","Inventory","",true,"STOMP","",2315,680,38,"",false,false,false,360.54,436,{"$f":"ROUND(AA808*(1-VLOOKUP(AF808,Discount[],3,0)),2)","v":360.54},null,103790,"B055"]
[8718528017302,"Artikel",8718528017302,"STUKS","WK6572 A stomp","wit 780x2015 slg/vpl","FSC Mix 70% CU-COC 800339","DEUR","BINNEN","BINNEN","MODERN","6572","","","Inventory","",true,"STOMP","",2015,780,38,"",false,false,false,323.41,391,{"$f":"ROUND(AA809*(1-VLOOKUP(AF809,Discount[],3,0)),2)","v":323.41},null,103800,"B055"]
[8718528017333,"Artikel",8718528017333,"STUKS","WK6572 A stomp","wit 830x2015 slg/vpl","FSC Mix 70% CU-COC 800339","DEUR","BINNEN","BINNEN","MODERN","6572","","","Inventory","",true,"STOMP","",2015,830,38,"",false,false,false,323.41,391,{"$f":"ROUND(AA810*(1-VLOOKUP(AF810,Discount[],3,0)),2)","v":323.41},null,103800,"B055"]
[8718528017364,"Artikel",8718528017364,"STUKS","WK6572 A stomp","wit 830x2115 slg/vpl","FSC Mix 70% CU-COC 800339","DEUR","BINNEN","BINNEN","MODERN","6572","","","Inventory","",true,"STOMP","",2115,830,38,"",false,false,false,323.41,391,{"$f":"ROUND(AA811*(1-VLOOKUP(AF811,Discount[],3,0)),2)","v":323.41},null,103800,"B055"]
[8718528017395,"Artikel",8718528017395,"STUKS","WK6572 XL A stomp","wit 830x2315 slg/vpl","FSC Mix 70% CU-COC 800339","DEUR","BINNEN","BINNEN","MODERN","6572","","","Inventory","",true,"STOMP","",2315,830,38,"",false,false,false,323.41,391,{"$f":"ROUND(AA812*(1-VLOOKUP(AF812,Discount[],3,0)),2)","v":323.41},null,103800,"B055"]
[8718528017425,"Artikel",8718528017425,"STUKS","WK6572 A stomp","wit 880x2015 slg/vpl","FSC Mix 70% CU-COC 800339","DEUR","BINNEN","BINNEN","MODERN","6572","","","Inventory","",true,"STOMP","",2015,880,38,"",false,false,false,323.41,391,{"$f":"ROUND(AA813*(1-VLOOKUP(AF813,Discount[],3,0)),2)","v":323.41},null,103800,"B055"]
[8718528017432,"Artikel",8718528017432,"STUKS","WK6572 A stomp","wit 880x2115 slg/vpl","FSC Mix 70% CU-COC 800339","DEUR","BINNEN","BINNEN","MODERN","6572","","","Inventory","",true,"STOMP","",2115,880,38,"",false,false,false,323.41,391,{"$f":"ROUND(AA814*(1-VLOOKUP(AF814,Discount[],3,0)),2)","v":323.41},null,103800,"B055"]
[8718528017463,"Artikel",8718528017463,"STUKS","WK6572 XL A stomp","wit 880x2315 slg/vpl","FSC Mix 70% CU-COC 800339","DEUR","BINNEN","BINNEN","MODERN","6572","","","Inventory","",true,"STOMP","",2315,880,38,"",false,false,false,323.41,391,{"$f":"ROUND(AA815*(1-VLOOKUP(AF815,Discount[],3,0)),2)","v":323.41},null,103800,"B055"]
[8718528017494,"Artikel",8718528017494,"STUKS","WK6572 A stomp","wit 930x2015 slg/vpl","FSC Mix 70% CU-COC 800339","DEUR","BINNEN","BINNEN","MODERN","6572","","","Inventory","",true,"STOMP","",2015,930,38,"",false,false,false,323.41,391,{"$f":"ROUND(AA816*(1-VLOOKUP(AF816,Discount[],3,0)),2)","v":323.41},null,103800,"B055"]
[8718528017500,"Artikel",8718528017500,"STUKS","WK6572 A stomp","wit 930x2115 slg/vpl","FSC Mix 70% CU-COC 800339","DEUR","BINNEN","BINNEN","MODERN","6572","","","Inventory","",true,"STOMP","",2115,930,38,"",false,false,false,323.41,391,{"$f":"ROUND(AA817*(1-VLOOKUP(AF817,Discount[],3,0)),2)","v":323.41},null,103800,"B055"]
[8718528017531,"Artikel",8718528017531,"STUKS","WK6572 XL A stomp","wit 930x2315 slg/vpl","FSC Mix 70% CU-COC 800339","DEUR","BINNEN","BINNEN","MODERN","6572","","","Inventory","",true,"STOMP","",2315,930,38,"",false,false,false,323.41,391,{"$f":"ROUND(AA818*(1-VLOOKUP(AF818,Discount[],3,0)),2)","v":323.41},null,103800,"B055"]
[8718528100790,"Artikel",8718528100790,"STUKS","WK6572 A stomp","wit 630x2015 slg/vpl","FSC Mix 70% CU-COC 800339","DEUR","BINNEN","BINNEN","MODERN","6572","","","Inventory","",true,"STOMP","",2015,630,38,"",false,false,false,323.41,391,{"$f":"ROUND(AA819*(1-VLOOKUP(AF819,Discount[],3,0)),2)","v":323.41},null,103800,"B055"]
[8718528100806,"Artikel",8718528100806,"STUKS","WK6572 A stomp","wit 630x2115 slg/vpl","FSC Mix 70% CU-COC 800339","DEUR","BINNEN","BINNEN","MODERN","6572","","","Inventory","",true,"STOMP","",2115,630,38,"",false,false,false,323.41,391,{"$f":"ROUND(AA820*(1-VLOOKUP(AF820,Discount[],3,0)),2)","v":323.41},null,103800,"B055"]
[8718528100813,"Artikel",8718528100813,"STUKS","WK6572 XL A stomp","wit 630x2315 slg/vpl","FSC Mix 70% CU-COC 800339","DEUR","BINNEN","BINNEN","MODERN","6572","","","Inventory","",true,"STOMP","",2315,630,38,"",false,false,false,323.41,391,{"$f":"ROUND(AA821*(1-VLOOKUP(AF821,Discount[],3,0)),2)","v":323.41},null,103800,"B055"]
[8718528100820,"Artikel",8718528100820,"STUKS","WK6572 A stomp","wit 680x2015 slg/vpl","FSC Mix 70% CU-COC 800339","DEUR","BINNEN","BINNEN","MODERN","6572","","","Inventory","",true,"STOMP","",2015,680,38,"",false,false,false,323.41,391,{"$f":"ROUND(AA822*(1-VLOOKUP(AF822,Discount[],3,0)),2)","v":323.41},null,103800,"B055"]
[8718528100837,"Artikel",8718528100837,"STUKS","WK6572 A stomp","wit 680x2115 slg/vpl","FSC Mix 70% CU-COC 800339","DEUR","BINNEN","BINNEN","MODERN","6572","","","Inventory","",true,"STOMP","",2115,680,38,"",false,false,false,323.41,391,{"$f":"ROUND(AA823*(1-VLOOKUP(AF823,Discount[],3,0)),2)","v":323.41},null,103800,"B055"]
[8718528100844,"Artikel",8718528100844,"STUKS","WK6572 XL A stomp","wit 680x2315 slg/vpl","FSC Mix 70% CU-COC 800339","DEUR","BINNEN","BINNEN","MODERN","6572","","","Inventory","",true,"STOMP","",2315,680,38,"",false,false,false,323.41,391,{"$f":"ROUND(AA824*(1-VLOOKUP(AF824,Discount[],3,0)),2)","v":323.41},null,103800,"B055"]
[8718528100851,"Artikel",8718528100851,"STUKS","WK6572 A stomp","wit 730x2015 slg/vpl","FSC Mix 70% CU-COC 800339","DEUR","BINNEN","BINNEN","MODERN","6572","","","Inventory","",true,"STOMP","",2015,730,38,"",false,false,false,323.41,391,{"$f":"ROUND(AA825*(1-VLOOKUP(AF825,Discount[],3,0)),2)","v":323.41},null,103800,"B055"]
[8718528100868,"Artikel",8718528100868,"STUKS","WK6572 A stomp","wit 730x2115 slg/vpl","FSC Mix 70% CU-COC 800339","DEUR","BINNEN","BINNEN","MODERN","6572","","","Inventory","",true,"STOMP","",2115,730,38,"",false,false,false,323.41,391,{"$f":"ROUND(AA826*(1-VLOOKUP(AF826,Discount[],3,0)),2)","v":323.41},null,103800,"B055"]
[8718528100875,"Artikel",8718528100875,"STUKS","WK6572 XL A stomp","wit 730x2315 slg/vpl","FSC Mix 70% CU-COC 800339","DEUR","BINNEN","BINNEN","MODERN","6572","","","Inventory","",true,"STOMP","",2315,730,38,"",false,false,false,323.41,391,{"$f":"ROUND(AA827*(1-VLOOKUP(AF827,Discount[],3,0)),2)","v":323.41},null,103800,"B055"]
[8718528100882,"Artikel",8718528100882,"STUKS","WK6572 A stomp","wit 780x2115 slg/vpl","FSC Mix 70% CU-COC 800339","DEUR","BINNEN","BINNEN","MODERN","6572","","","Inventory","",true,"STOMP","",2115,780,38,"",false,false,false,323.41,391,{"$f":"ROUND(AA828*(1-VLOOKUP(AF828,Discount[],3,0)),2)","v":323.41},null,103800,"B055"]
[8718528100899,"Artikel",8718528100899,"STUKS","WK6572 XL A stomp","wit 780x2315 slg/vpl","FSC Mix 70% CU-COC 800339","DEUR","BINNEN","BINNEN","MODERN","6572","","","Inventory","",true,"STOMP","",2315,780,38,"",false,false,false,323.41,391,{"$f":"ROUND(AA829*(1-VLOOKUP(AF829,Discount[],3,0)),2)","v":323.41},null,103800,"B055"]
[8718528122457,"Artikel",8718528122457,"STUKS","Facetglas blank tbv 6512","630 x 2015 set a 8 ruiten","","GLAS","","BINNEN","MODERN","6512","FACETGLAS BLANK","","Inventory","",false,"","",0,0,0,"",false,false,false,205.92,249,{"$f":"ROUND(AA830*(1-VLOOKUP(AF830,Discount[],3,0)),2)","v":205.92},null,104270,"P107"]
[8718528122464,"Artikel",8718528122464,"STUKS","Facetglas blank tbv 6512","630 x 2115 set a 8 ruiten","","GLAS","","BINNEN","MODERN","6512","FACETGLAS BLANK","","Inventory","",false,"","",0,0,0,"",false,false,false,205.92,249,{"$f":"ROUND(AA831*(1-VLOOKUP(AF831,Discount[],3,0)),2)","v":205.92},null,104270,"P107"]
[8718528122471,"Artikel",8718528122471,"STUKS","Facetglas blank tbv 6512","680 x 2015 set a 8 ruiten","","GLAS","","BINNEN","MODERN","6512","FACETGLAS BLANK","","Inventory","",false,"","",0,0,0,"",false,false,false,205.92,249,{"$f":"ROUND(AA832*(1-VLOOKUP(AF832,Discount[],3,0)),2)","v":205.92},null,104270,"P107"]
[8718528122488,"Artikel",8718528122488,"STUKS","Facetglas blank tbv 6512","680 x 2115 set a 8 ruiten","","GLAS","","BINNEN","MODERN","6512","FACETGLAS BLANK","","Inventory","",false,"","",0,0,0,"",false,false,false,205.92,249,{"$f":"ROUND(AA833*(1-VLOOKUP(AF833,Discount[],3,0)),2)","v":205.92},null,104270,"P107"]
[8718528122495,"Artikel",8718528122495,"STUKS","Facetglas blank tbv 6512","630 x 2315 set a 8 ruiten","","GLAS","","BINNEN","MODERN","6512","FACETGLAS BLANK","","Inventory","",false,"","",0,0,0,"",false,false,false,205.92,249,{"$f":"ROUND(AA834*(1-VLOOKUP(AF834,Discount[],3,0)),2)","v":205.92},null,104270,"P107"]
[8718528122501,"Artikel",8718528122501,"STUKS","Facetglas blank tbv 6512","680 x 2315 set a 8 ruiten","","GLAS","","BINNEN","MODERN","6512","FACETGLAS BLANK","","Inventory","",false,"","",0,0,0,"",false,false,false,205.92,249,{"$f":"ROUND(AA835*(1-VLOOKUP(AF835,Discount[],3,0)),2)","v":205.92},null,104270,"P107"]
[8718528029558,"Artikel",8718528029558,"STUKS","Facetglas blank tbv 6512","780x2015 set a 8 ruiten","","GLAS","","BINNEN","MODERN","6512","FACETGLAS BLANK","","Inventory","",false,"","",0,0,0,"",false,false,false,205.92,249,{"$f":"ROUND(AA836*(1-VLOOKUP(AF836,Discount[],3,0)),2)","v":205.92},null,104270,"P107"]
[8718528029565,"Artikel",8718528029565,"STUKS","Facetglas blank tbv 6512","780x2115 set a 8 ruiten","","GLAS","","BINNEN","MODERN","6512","FACETGLAS BLANK","","Inventory","",false,"","",543,370,0,"",false,false,false,205.92,249,{"$f":"ROUND(AA837*(1-VLOOKUP(AF837,Discount[],3,0)),2)","v":205.92},null,104270,"P107"]
[8718528029572,"Artikel",8718528029572,"STUKS","Facetglas blank tbv 6512","830x2015 set a 8 ruiten","","GLAS","","BINNEN","MODERN","6512","FACETGLAS BLANK","","Inventory","",false,"","",518,395,0,"",false,false,false,205.92,249,{"$f":"ROUND(AA838*(1-VLOOKUP(AF838,Discount[],3,0)),2)","v":205.92},null,104270,"P107"]
[8718528029589,"Artikel",8718528029589,"STUKS","Facetglas blank tbv 6512","830x2115 set a 8 ruiten","","GLAS","","BINNEN","MODERN","6512","FACETGLAS BLANK","","Inventory","",false,"","",543,395,0,"",false,false,false,205.92,249,{"$f":"ROUND(AA839*(1-VLOOKUP(AF839,Discount[],3,0)),2)","v":205.92},null,104270,"P107"]
[8718528029596,"Artikel",8718528029596,"STUKS","Facetglas blank tbv 6512","880x2015 set a 8 ruiten","","GLAS","","BINNEN","MODERN","6512","FACETGLAS BLANK","","Inventory","",false,"","",518,420,0,"",false,false,false,205.92,249,{"$f":"ROUND(AA840*(1-VLOOKUP(AF840,Discount[],3,0)),2)","v":205.92},null,104270,"P107"]
[8718528029602,"Artikel",8718528029602,"STUKS","Facetglas blank tbv 6512","880x2115 set a 8 ruiten","","GLAS","","BINNEN","MODERN","6512","FACETGLAS BLANK","","Inventory","",false,"","",543,420,0,"",false,false,false,205.92,249,{"$f":"ROUND(AA841*(1-VLOOKUP(AF841,Discount[],3,0)),2)","v":205.92},null,104270,"P107"]
[8718528029619,"Artikel",8718528029619,"STUKS","Facetglas blank tbv 6512","930x2015 set a 8 ruiten","","GLAS","","BINNEN","MODERN","6512","FACETGLAS BLANK","","Inventory","",false,"","",518,445,0,"",false,false,false,205.92,249,{"$f":"ROUND(AA842*(1-VLOOKUP(AF842,Discount[],3,0)),2)","v":205.92},null,104270,"P107"]
[8718528029626,"Artikel",8718528029626,"STUKS","Facetglas blank tbv 6512","930x2115 set a 8 ruiten","","GLAS","","BINNEN","MODERN","6512","FACETGLAS BLANK","","Inventory","",false,"","",543,445,0,"",false,false,false,205.92,249,{"$f":"ROUND(AA843*(1-VLOOKUP(AF843,Discount[],3,0)),2)","v":205.92},null,104270,"P107"]
[8718528029633,"Artikel",8718528029633,"STUKS","Facetglas blank tbv 6512","730x2015 set a 8 ruiten","","GLAS","","BINNEN","MODERN","6512","FACETGLAS BLANK","","Inventory","",false,"","",518,345,0,"",false,false,false,205.92,249,{"$f":"ROUND(AA844*(1-VLOOKUP(AF844,Discount[],3,0)),2)","v":205.92},null,104270,"P107"]
[8718528029640,"Artikel",8718528029640,"STUKS","Facetglas blank tbv 6512","730x2115 set a 8 ruiten","","GLAS","","BINNEN","MODERN","6512","FACETGLAS BLANK","","Inventory","",false,"","",543,345,0,"",false,false,false,205.92,249,{"$f":"ROUND(AA845*(1-VLOOKUP(AF845,Discount[],3,0)),2)","v":205.92},null,104270,"P107"]
[8718528030509,"Artikel",8718528030509,"STUKS","Facetglas blank tbv 6512","780x2315 set a 8 ruiten","","GLAS","","BINNEN","MODERN","6512","FACETGLAS BLANK","","Inventory","",false,"","",585,363,0,"",false,false,false,205.92,249,{"$f":"ROUND(AA846*(1-VLOOKUP(AF846,Discount[],3,0)),2)","v":205.92},null,104270,"P107"]
[8718528030516,"Artikel",8718528030516,"STUKS","Facetglas blank tbv 6512","830x2315 set a 8 ruiten","","GLAS","","BINNEN","MODERN","6512","FACETGLAS BLANK","","Inventory","",false,"","",585,388,0,"",false,false,false,205.92,249,{"$f":"ROUND(AA847*(1-VLOOKUP(AF847,Discount[],3,0)),2)","v":205.92},null,104270,"P107"]
[8718528030523,"Artikel",8718528030523,"STUKS","Facetglas blank tbv 6512","880x2315 set a 8 ruiten","","GLAS","","BINNEN","MODERN","6512","FACETGLAS BLANK","","Inventory","",false,"","",585,413,0,"",false,false,false,205.92,249,{"$f":"ROUND(AA848*(1-VLOOKUP(AF848,Discount[],3,0)),2)","v":205.92},null,104270,"P107"]
[8718528030530,"Artikel",8718528030530,"STUKS","Facetglas blank tbv 6512","930x2315 set a 8 ruiten","","GLAS","","BINNEN","MODERN","6512","FACETGLAS BLANK","","Inventory","",false,"","",585,438,0,"",false,false,false,205.92,249,{"$f":"ROUND(AA849*(1-VLOOKUP(AF849,Discount[],3,0)),2)","v":205.92},null,104270,"P107"]
[8718528030547,"Artikel",8718528030547,"STUKS","Facetglas blank tbv 6512","730x2315 set a 8 ruiten","","GLAS","","BINNEN","MODERN","6512","FACETGLAS BLANK","","Inventory","",false,"","",585,338,0,"",false,false,false,205.92,249,{"$f":"ROUND(AA850*(1-VLOOKUP(AF850,Discount[],3,0)),2)","v":205.92},null,104270,"P107"]
[8718528122518,"Artikel",8718528122518,"STUKS","Facetglas mat tbv 6512","630 x 2015 set a 8 ruiten","","GLAS","","BINNEN","MODERN","6512","FACETGLAS MAT","","Inventory","",false,"","",0,0,0,"",false,false,false,316.78,383,{"$f":"ROUND(AA851*(1-VLOOKUP(AF851,Discount[],3,0)),2)","v":316.78},null,104280,"P107"]
[8718528122525,"Artikel",8718528122525,"STUKS","Facetglas mat tbv 6512","630 x 2115 set a 8 ruiten","","GLAS","","BINNEN","MODERN","6512","FACETGLAS MAT","","Inventory","",false,"","",0,0,0,"",false,false,false,316.78,383,{"$f":"ROUND(AA852*(1-VLOOKUP(AF852,Discount[],3,0)),2)","v":316.78},null,104280,"P107"]
[8718528122532,"Artikel",8718528122532,"STUKS","Facetglas mat tbv 6512","680 x 2015 set a 8 ruiten","","GLAS","","BINNEN","MODERN","6512","FACETGLAS MAT","","Inventory","",false,"","",0,0,0,"",false,false,false,316.78,383,{"$f":"ROUND(AA853*(1-VLOOKUP(AF853,Discount[],3,0)),2)","v":316.78},null,104280,"P107"]
[8718528122549,"Artikel",8718528122549,"STUKS","Facetglas mat tbv 6512","680 x 2115 set a 8 ruiten","","GLAS","","BINNEN","MODERN","6512","FACETGLAS MAT","","Inventory","",false,"","",0,0,0,"",false,false,false,316.78,383,{"$f":"ROUND(AA854*(1-VLOOKUP(AF854,Discount[],3,0)),2)","v":316.78},null,104280,"P107"]
[8718528122556,"Artikel",8718528122556,"STUKS","Facetglas mat tbv 6512","630 x 2315 set a 8 ruiten","","GLAS","","BINNEN","MODERN","6512","FACETGLAS MAT","","Inventory","",false,"","",0,0,0,"",false,false,false,316.78,383,{"$f":"ROUND(AA855*(1-VLOOKUP(AF855,Discount[],3,0)),2)","v":316.78},null,104280,"P107"]
[8718528122563,"Artikel",8718528122563,"STUKS","Facetglas mat tbv 6512","680 x 2315 set a 8 ruiten","","GLAS","","BINNEN","MODERN","6512","FACETGLAS MAT","","Inventory","",false,"","",0,0,0,"",false,false,false,316.78,383,{"$f":"ROUND(AA856*(1-VLOOKUP(AF856,Discount[],3,0)),2)","v":316.78},null,104280,"P107"]
[8718528029657,"Artikel",8718528029657,"STUKS","Facetglas mat tbv 6512","780x2015 set a 8 ruiten","","GLAS","","BINNEN","MODERN","6512","FACETGLAS MAT","","Inventory","",false,"","",518,370,0,"",false,false,false,316.78,383,{"$f":"ROUND(AA857*(1-VLOOKUP(AF857,Discount[],3,0)),2)","v":316.78},null,104280,"P107"]
[8718528029664,"Artikel",8718528029664,"STUKS","Facetglas mat tbv 6512","780x2115 set a 8 ruiten","","GLAS","","BINNEN","MODERN","6512","FACETGLAS MAT","","Inventory","",false,"","",543,370,0,"",false,false,false,316.78,383,{"$f":"ROUND(AA858*(1-VLOOKUP(AF858,Discount[],3,0)),2)","v":316.78},null,104280,"P107"]
[8718528029671,"Artikel",8718528029671,"STUKS","Facetglas mat tbv 6512","830x2015 set a 8 ruiten","","GLAS","","BINNEN","MODERN","6512","FACETGLAS MAT","","Inventory","",false,"","",518,395,0,"",false,false,false,316.78,383,{"$f":"ROUND(AA859*(1-VLOOKUP(AF859,Discount[],3,0)),2)","v":316.78},null,104280,"P107"]
[8718528029688,"Artikel",8718528029688,"STUKS","Facetglas mat tbv 6512","830x2115 set a 8 ruiten","","GLAS","","BINNEN","MODERN","6512","FACETGLAS MAT","","Inventory","",false,"","",543,395,0,"",false,false,false,316.78,383,{"$f":"ROUND(AA860*(1-VLOOKUP(AF860,Discount[],3,0)),2)","v":316.78},null,104280,"P107"]
[8718528029695,"Artikel",8718528029695,"STUKS","Facetglas mat tbv 6512","880x2015 set a 8 ruiten","","GLAS","","BINNEN","MODERN","6512","FACETGLAS MAT","","Inventory","",false,"","",518,420,0,"",false,false,false,316.78,383,{"$f":"ROUND(AA861*(1-VLOOKUP(AF861,Discount[],3,0)),2)","v":316.78},null,104280,"P107"]
[8718528029701,"Artikel",8718528029701,"STUKS","Facetglas mat tbv 6512","880x2115 set a 8 ruiten","","GLAS","","BINNEN","MODERN","6512","FACETGLAS MAT","","Inventory","",false,"","",543,420,0,"",false,false,false,316.78,383,{"$f":"ROUND(AA862*(1-VLOOKUP(AF862,Discount[],3,0)),2)","v":316.78},null,104280,"P107"]
[8718528029718,"Artikel",8718528029718,"STUKS","Facetglas mat tbv 6512","930x2015 set a 8 ruiten","","GLAS","","BINNEN","MODERN","6512","FACETGLAS MAT","","Inventory","",false,"","",518,445,0,"",false,false,false,316.78,383,{"$f":"ROUND(AA863*(1-VLOOKUP(AF863,Discount[],3,0)),2)","v":316.78},null,104280,"P107"]
[8718528029725,"Artikel",8718528029725,"STUKS","Facetglas mat tbv 6512","930x2115 set a 8 ruiten","","GLAS","","BINNEN","MODERN","6512","FACETGLAS MAT","","Inventory","",false,"","",543,445,0,"",false,false,false,316.78,383,{"$f":"ROUND(AA864*(1-VLOOKUP(AF864,Discount[],3,0)),2)","v":316.78},null,104280,"P107"]
[8718528029732,"Artikel",8718528029732,"STUKS","Facetglas mat tbv 6512","730x2015 set a 8 ruiten","","GLAS","","BINNEN","MODERN","6512","FACETGLAS MAT","","Inventory","",false,"","",518,345,0,"",false,false,false,316.78,383,{"$f":"ROUND(AA865*(1-VLOOKUP(AF865,Discount[],3,0)),2)","v":316.78},null,104280,"P107"]
[8718528029749,"Artikel",8718528029749,"STUKS","Facetglas mat tbv 6512","730x2115 set a 8 ruiten","","GLAS","","BINNEN","MODERN","6512","FACETGLAS MAT","","Inventory","",false,"","",543,345,0,"",false,false,false,316.78,383,{"$f":"ROUND(AA866*(1-VLOOKUP(AF866,Discount[],3,0)),2)","v":316.78},null,104280,"P107"]
[8718528030554,"Artikel",8718528030554,"STUKS","Facetglas mat tbv 6512","780x2315 set a 8 ruiten","","GLAS","","BINNEN","MODERN","6512","FACETGLAS MAT","","Inventory","",false,"","",585,363,0,"",false,false,false,316.78,383,{"$f":"ROUND(AA867*(1-VLOOKUP(AF867,Discount[],3,0)),2)","v":316.78},null,104280,"P107"]
[8718528030561,"Artikel",8718528030561,"STUKS","Facetglas mat tbv 6512","830x2315 set a 8 ruiten","","GLAS","","BINNEN","MODERN","6512","FACETGLAS MAT","","Inventory","",false,"","",585,388,0,"",false,false,false,316.78,383,{"$f":"ROUND(AA868*(1-VLOOKUP(AF868,Discount[],3,0)),2)","v":316.78},null,104280,"P107"]
[8718528030578,"Artikel",8718528030578,"STUKS","Facetglas mat tbv 6512","880x2315 set a 8 ruiten","","GLAS","","BINNEN","MODERN","6512","FACETGLAS MAT","","Inventory","",false,"","",585,413,0,"",false,false,false,316.78,383,{"$f":"ROUND(AA869*(1-VLOOKUP(AF869,Discount[],3,0)),2)","v":316.78},null,104280,"P107"]
[8718528030585,"Artikel",8718528030585,"STUKS","Facetglas mat tbv 6512","930x2315 set a 8 ruiten","","GLAS","","BINNEN","MODERN","6512","FACETGLAS MAT","","Inventory","",false,"","",585,438,0,"",false,false,false,316.78,383,{"$f":"ROUND(AA870*(1-VLOOKUP(AF870,Discount[],3,0)),2)","v":316.78},null,104280,"P107"]
[8718528030592,"Artikel",8718528030592,"STUKS","Facetglas mat tbv 6512","730x2315 set a 8 ruiten","","GLAS","","BINNEN","MODERN","6512","FACETGLAS MAT","","Inventory","",false,"","",585,338,0,"",false,false,false,316.78,383,{"$f":"ROUND(AA871*(1-VLOOKUP(AF871,Discount[],3,0)),2)","v":316.78},null,104280,"P107"]
[8718528122570,"Artikel",8718528122570,"STUKS","Blank glas tbv 6512","630 x 2015 set a 8 ruiten","","GLAS","","BINNEN","MODERN","6512","BLANK","","Inventory","",false,"","",0,0,0,"",false,false,false,146.95,178,{"$f":"ROUND(AA872*(1-VLOOKUP(AF872,Discount[],3,0)),2)","v":146.95},null,104290,"P107"]
[8718528122587,"Artikel",8718528122587,"STUKS","Blank glas tbv 6512","630 x 2115 set a 8 ruiten","","GLAS","","BINNEN","MODERN","6512","BLANK","","Inventory","",false,"","",0,0,0,"",false,false,false,146.95,178,{"$f":"ROUND(AA873*(1-VLOOKUP(AF873,Discount[],3,0)),2)","v":146.95},null,104290,"P107"]
[8718528122594,"Artikel",8718528122594,"STUKS","Blank glas tbv 6512","680 x 2015 set a 8 ruiten","","GLAS","","BINNEN","MODERN","6512","BLANK","","Inventory","",false,"","",0,0,0,"",false,false,false,146.95,178,{"$f":"ROUND(AA874*(1-VLOOKUP(AF874,Discount[],3,0)),2)","v":146.95},null,104290,"P107"]
[8718528122600,"Artikel",8718528122600,"STUKS","Blank glas tbv 6512","680 x 2115 set a 8 ruiten","","GLAS","","BINNEN","MODERN","6512","BLANK","","Inventory","",false,"","",0,0,0,"",false,false,false,146.95,178,{"$f":"ROUND(AA875*(1-VLOOKUP(AF875,Discount[],3,0)),2)","v":146.95},null,104290,"P107"]
[8718528122617,"Artikel",8718528122617,"STUKS","Blank glas tbv 6512","630 x 2315 set a 8 ruiten","","GLAS","","BINNEN","MODERN","6512","BLANK","","Inventory","",false,"","",0,0,0,"",false,false,false,146.95,178,{"$f":"ROUND(AA876*(1-VLOOKUP(AF876,Discount[],3,0)),2)","v":146.95},null,104290,"P107"]
[8718528122624,"Artikel",8718528122624,"STUKS","Blank glas tbv 6512","680 x 2315 set a 8 ruiten","","GLAS","","BINNEN","MODERN","6512","BLANK","","Inventory","",false,"","",0,0,0,"",false,false,false,146.95,178,{"$f":"ROUND(AA877*(1-VLOOKUP(AF877,Discount[],3,0)),2)","v":146.95},null,104290,"P107"]
[8718528031148,"Artikel",8718528031148,"STUKS","Blank glas tbv 6512","780x2015 set a 8 ruiten","","GLAS","","BINNEN","MODERN","6512","BLANK","","Inventory","",false,"","",518,370,0,"",false,false,false,146.95,178,{"$f":"ROUND(AA878*(1-VLOOKUP(AF878,Discount[],3,0)),2)","v":146.95},null,104290,"P107"]
[8718528031155,"Artikel",8718528031155,"STUKS","Blank glas tbv 6512","780x2115 set a 8 ruiten","","GLAS","","BINNEN","MODERN","6512","BLANK","","Inventory","",false,"","",543,370,0,"",false,false,false,146.95,178,{"$f":"ROUND(AA879*(1-VLOOKUP(AF879,Discount[],3,0)),2)","v":146.95},null,104290,"P107"]
[8718528031162,"Artikel",8718528031162,"STUKS","Blank glas tbv 6512","830x2015 set a 8 ruiten","","GLAS","","BINNEN","MODERN","6512","BLANK","","Inventory","",false,"","",518,395,0,"",false,false,false,146.95,178,{"$f":"ROUND(AA880*(1-VLOOKUP(AF880,Discount[],3,0)),2)","v":146.95},null,104290,"P107"]
[8718528031179,"Artikel",8718528031179,"STUKS","Blank glas tbv 6512","830x2115 set a 8 ruiten","","GLAS","","BINNEN","MODERN","6512","BLANK","","Inventory","",false,"","",543,395,0,"",false,false,false,146.95,178,{"$f":"ROUND(AA881*(1-VLOOKUP(AF881,Discount[],3,0)),2)","v":146.95},null,104290,"P107"]
[8718528031186,"Artikel",8718528031186,"STUKS","Blank glas tbv 6512","880x2015 set a 8 ruiten","","GLAS","","BINNEN","MODERN","6512","BLANK","","Inventory","",false,"","",518,420,0,"",false,false,false,146.95,178,{"$f":"ROUND(AA882*(1-VLOOKUP(AF882,Discount[],3,0)),2)","v":146.95},null,104290,"P107"]
[8718528031193,"Artikel",8718528031193,"STUKS","Blank glas tbv 6512","880x2115 set a 8 ruiten","","GLAS","","BINNEN","MODERN","6512","BLANK","","Inventory","",false,"","",543,420,0,"",false,false,false,146.95,178,{"$f":"ROUND(AA883*(1-VLOOKUP(AF883,Discount[],3,0)),2)","v":146.95},null,104290,"P107"]
[8718528031209,"Artikel",8718528031209,"STUKS","Blank glas tbv 6512","930x2015 set a 8 ruiten","","GLAS","","BINNEN","MODERN","6512","BLANK","","Inventory","",false,"","",518,445,0,"",false,false,false,146.95,178,{"$f":"ROUND(AA884*(1-VLOOKUP(AF884,Discount[],3,0)),2)","v":146.95},null,104290,"P107"]
[8718528031216,"Artikel",8718528031216,"STUKS","Blank glas tbv 6512","930x2115 set a 8 ruiten","","GLAS","","BINNEN","MODERN","6512","BLANK","","Inventory","",false,"","",543,445,0,"",false,false,false,146.95,178,{"$f":"ROUND(AA885*(1-VLOOKUP(AF885,Discount[],3,0)),2)","v":146.95},null,104290,"P107"]
[8718528031223,"Artikel",8718528031223,"STUKS","Blank glas tbv 6512","730x2015 set a 8 ruiten","","GLAS","","BINNEN","MODERN","6512","BLANK","","Inventory","",false,"","",518,345,0,"",false,false,false,146.95,178,{"$f":"ROUND(AA886*(1-VLOOKUP(AF886,Discount[],3,0)),2)","v":146.95},null,104290,"P107"]
[8718528031230,"Artikel",8718528031230,"STUKS","Blank glas tbv 6512","730x2115 set a 8 ruiten","","GLAS","","BINNEN","MODERN","6512","BLANK","","Inventory","",false,"","",543,345,0,"",false,false,false,146.95,178,{"$f":"ROUND(AA887*(1-VLOOKUP(AF887,Discount[],3,0)),2)","v":146.95},null,104290,"P107"]
[8718528031247,"Artikel",8718528031247,"STUKS","Blank glas tbv 6512","780x2315 set a 8 ruiten","","GLAS","","BINNEN","MODERN","6512","BLANK","","Inventory","",false,"","",585,363,0,"",false,false,false,146.95,178,{"$f":"ROUND(AA888*(1-VLOOKUP(AF888,Discount[],3,0)),2)","v":146.95},null,104290,"P107"]
[8718528031254,"Artikel",8718528031254,"STUKS","Blank glas tbv 6512","830x2315 set a 8 ruiten","","GLAS","","BINNEN","MODERN","6512","BLANK","","Inventory","",false,"","",585,388,0,"",false,false,false,146.95,178,{"$f":"ROUND(AA889*(1-VLOOKUP(AF889,Discount[],3,0)),2)","v":146.95},null,104290,"P107"]
[8718528031261,"Artikel",8718528031261,"STUKS","Blank glas tbv 6512","880x2315 set a 8 ruiten","","GLAS","","BINNEN","MODERN","6512","BLANK","","Inventory","",false,"","",585,413,0,"",false,false,false,146.95,178,{"$f":"ROUND(AA890*(1-VLOOKUP(AF890,Discount[],3,0)),2)","v":146.95},null,104290,"P107"]
[8718528031278,"Artikel",8718528031278,"STUKS","Blank glas tbv 6512","930x2315 set a 8 ruiten","","GLAS","","BINNEN","MODERN","6512","BLANK","","Inventory","",false,"","",585,438,0,"",false,false,false,146.95,178,{"$f":"ROUND(AA891*(1-VLOOKUP(AF891,Discount[],3,0)),2)","v":146.95},null,104290,"P107"]
[8718528031285,"Artikel",8718528031285,"STUKS","Blank glas tbv 6512","730x2315 set a 8 ruiten","","GLAS","","BINNEN","MODERN","6512","BLANK","","Inventory","",false,"","",585,338,0,"",false,false,false,146.95,178,{"$f":"ROUND(AA892*(1-VLOOKUP(AF892,Discount[],3,0)),2)","v":146.95},null,104290,"P107"]
[8718528029756,"Artikel",8718528029756,"STUKS","Facetglas blank tbv 6513","780x2015 set a 4 ruiten","","GLAS","","BINNEN","MODERN","6513","FACETGLAS BLANK","","Inventory","",false,"","",492,659,0,"",false,false,false,205.92,249,{"$f":"ROUND(AA893*(1-VLOOKUP(AF893,Discount[],3,0)),2)","v":205.92},null,104300,"P107"]
[8718528029763,"Artikel",8718528029763,"STUKS","Facetglas blank tbv 6513","830x2015 set a 4 ruiten","","GLAS","","BINNEN","MODERN","6513","FACETGLAS BLANK","","Inventory","",false,"","",492,709,0,"",false,false,false,205.92,249,{"$f":"ROUND(AA894*(1-VLOOKUP(AF894,Discount[],3,0)),2)","v":205.92},null,104300,"P107"]
[8718528029770,"Artikel",8718528029770,"STUKS","Facetglas blank tbv 6513","830x2115 set a 4 ruiten","","GLAS","","BINNEN","MODERN","6513","FACETGLAS BLANK","","Inventory","",false,"","",517,709,0,"",false,false,false,205.92,249,{"$f":"ROUND(AA895*(1-VLOOKUP(AF895,Discount[],3,0)),2)","v":205.92},null,104300,"P107"]
[8718528029787,"Artikel",8718528029787,"STUKS","Facetglas blank tbv 6513","880x2015 set a 4 ruiten","","GLAS","","BINNEN","MODERN","6513","FACETGLAS BLANK","","Inventory","",false,"","",492,759,0,"",false,false,false,205.92,249,{"$f":"ROUND(AA896*(1-VLOOKUP(AF896,Discount[],3,0)),2)","v":205.92},null,104300,"P107"]
[8718528029794,"Artikel",8718528029794,"STUKS","Facetglas blank tbv 6513","880x2115 set a 4 ruiten","","GLAS","","BINNEN","MODERN","6513","FACETGLAS BLANK","","Inventory","",false,"","",517,759,0,"",false,false,false,205.92,249,{"$f":"ROUND(AA897*(1-VLOOKUP(AF897,Discount[],3,0)),2)","v":205.92},null,104300,"P107"]
[8718528029800,"Artikel",8718528029800,"STUKS","Facetglas blank tbv 6513","930x2015 set a 4 ruiten","","GLAS","","BINNEN","MODERN","6513","FACETGLAS BLANK","","Inventory","",false,"","",492,809,0,"",false,false,false,205.92,249,{"$f":"ROUND(AA898*(1-VLOOKUP(AF898,Discount[],3,0)),2)","v":205.92},null,104300,"P107"]
[8718528029817,"Artikel",8718528029817,"STUKS","Facetglas blank tbv 6513","930x2115 set a 4 ruiten","","GLAS","","BINNEN","MODERN","6513","FACETGLAS BLANK","","Inventory","",false,"","",517,809,0,"",false,false,false,205.92,249,{"$f":"ROUND(AA899*(1-VLOOKUP(AF899,Discount[],3,0)),2)","v":205.92},null,104300,"P107"]
[8718528030608,"Artikel",8718528030608,"STUKS","Facetglas blank tbv 6513","830x2315 set a 4 ruiten","","GLAS","","BINNEN","MODERN","6513","FACETGLAS BLANK","","Inventory","",false,"","",559,695,0,"",false,false,false,205.92,249,{"$f":"ROUND(AA900*(1-VLOOKUP(AF900,Discount[],3,0)),2)","v":205.92},null,104300,"P107"]
[8718528030615,"Artikel",8718528030615,"STUKS","Facetglas blank tbv 6513","880x2315 set a 4 ruiten","","GLAS","","BINNEN","MODERN","6513","FACETGLAS BLANK","","Inventory","",false,"","",559,745,0,"",false,false,false,205.92,249,{"$f":"ROUND(AA901*(1-VLOOKUP(AF901,Discount[],3,0)),2)","v":205.92},null,104300,"P107"]
[8718528030622,"Artikel",8718528030622,"STUKS","Facetglas blank tbv 6513","930x2315 set a 4 ruiten","","GLAS","","BINNEN","MODERN","6513","FACETGLAS BLANK","","Inventory","",false,"","",559,795,0,"",false,false,false,205.92,249,{"$f":"ROUND(AA902*(1-VLOOKUP(AF902,Discount[],3,0)),2)","v":205.92},null,104300,"P107"]
[8718528029824,"Artikel",8718528029824,"STUKS","Facetglas mat tbv 6513","780x2015 set a 4 ruiten","","GLAS","","BINNEN","MODERN","6513","FACETGLAS MAT","","Inventory","",false,"","",492,659,0,"",false,false,false,316.78,383,{"$f":"ROUND(AA903*(1-VLOOKUP(AF903,Discount[],3,0)),2)","v":316.78},null,104310,"P107"]
[8718528029831,"Artikel",8718528029831,"STUKS","Facetglas mat tbv 6513","830x2015 set a 4 ruiten","","GLAS","","BINNEN","MODERN","6513","FACETGLAS MAT","","Inventory","",false,"","",492,709,0,"",false,false,false,316.78,383,{"$f":"ROUND(AA904*(1-VLOOKUP(AF904,Discount[],3,0)),2)","v":316.78},null,104310,"P107"]
[8718528029848,"Artikel",8718528029848,"STUKS","Facetglas mat tbv 6513","830x2115 set a 4 ruiten","","GLAS","","BINNEN","MODERN","6513","FACETGLAS MAT","","Inventory","",false,"","",517,709,0,"",false,false,false,316.78,383,{"$f":"ROUND(AA905*(1-VLOOKUP(AF905,Discount[],3,0)),2)","v":316.78},null,104310,"P107"]
[8718528029855,"Artikel",8718528029855,"STUKS","Facetglas mat tbv 6513","880x2015 set a 4 ruiten","","GLAS","","BINNEN","MODERN","6513","FACETGLAS MAT","","Inventory","",false,"","",492,759,0,"",false,false,false,316.78,383,{"$f":"ROUND(AA906*(1-VLOOKUP(AF906,Discount[],3,0)),2)","v":316.78},null,104310,"P107"]
[8718528029862,"Artikel",8718528029862,"STUKS","Facetglas mat tbv 6513","880x2115 set a 4 ruiten","","GLAS","","BINNEN","MODERN","6513","FACETGLAS MAT","","Inventory","",false,"","",517,759,0,"",false,false,false,316.78,383,{"$f":"ROUND(AA907*(1-VLOOKUP(AF907,Discount[],3,0)),2)","v":316.78},null,104310,"P107"]
[8718528029879,"Artikel",8718528029879,"STUKS","Facetglas mat tbv 6513","930x2015 set a 4 ruiten","","GLAS","","BINNEN","MODERN","6513","FACETGLAS MAT","","Inventory","",false,"","",492,809,0,"",false,false,false,316.78,383,{"$f":"ROUND(AA908*(1-VLOOKUP(AF908,Discount[],3,0)),2)","v":316.78},null,104310,"P107"]
[8718528029886,"Artikel",8718528029886,"STUKS","Facetglas mat tbv 6513","930x2115 set a 4 ruiten","","GLAS","","BINNEN","MODERN","6513","FACETGLAS MAT","","Inventory","",false,"","",517,809,0,"",false,false,false,316.78,383,{"$f":"ROUND(AA909*(1-VLOOKUP(AF909,Discount[],3,0)),2)","v":316.78},null,104310,"P107"]
[8718528030639,"Artikel",8718528030639,"STUKS","Facetglas mat tbv 6513","830x2315 set a 4 ruiten","","GLAS","","BINNEN","MODERN","6513","FACETGLAS MAT","","Inventory","",false,"","",559,695,0,"",false,false,false,316.78,383,{"$f":"ROUND(AA910*(1-VLOOKUP(AF910,Discount[],3,0)),2)","v":316.78},null,104310,"P107"]
[8718528030646,"Artikel",8718528030646,"STUKS","Facetglas mat tbv 6513","880x2315 set a 4 ruiten","","GLAS","","BINNEN","MODERN","6513","FACETGLAS MAT","","Inventory","",false,"","",559,745,0,"",false,false,false,316.78,383,{"$f":"ROUND(AA911*(1-VLOOKUP(AF911,Discount[],3,0)),2)","v":316.78},null,104310,"P107"]
[8718528030653,"Artikel",8718528030653,"STUKS","Facetglas mat tbv 6513","930x2315 set a 4 ruiten","","GLAS","","BINNEN","MODERN","6513","FACETGLAS MAT","","Inventory","",false,"","",559,795,0,"",false,false,false,316.78,383,{"$f":"ROUND(AA912*(1-VLOOKUP(AF912,Discount[],3,0)),2)","v":316.78},null,104310,"P107"]
[8718528031292,"Artikel",8718528031292,"STUKS","Blank glas tbv 6513","780x2015 set a 4 ruiten","","GLAS","","BINNEN","MODERN","6513","BLANK","","Inventory","",false,"","",492,659,0,"",false,false,false,146.95,178,{"$f":"ROUND(AA913*(1-VLOOKUP(AF913,Discount[],3,0)),2)","v":146.95},null,104320,"P107"]
[8718528031308,"Artikel",8718528031308,"STUKS","Blank glas tbv 6513","830x2015 set a 4 ruiten","","GLAS","","BINNEN","MODERN","6513","BLANK","","Inventory","",false,"","",492,709,0,"",false,false,false,146.95,178,{"$f":"ROUND(AA914*(1-VLOOKUP(AF914,Discount[],3,0)),2)","v":146.95},null,104320,"P107"]
[8718528031315,"Artikel",8718528031315,"STUKS","Blank glas tbv 6513","830x2115 set a 4 ruiten","","GLAS","","BINNEN","MODERN","6513","BLANK","","Inventory","",false,"","",517,709,0,"",false,false,false,146.95,178,{"$f":"ROUND(AA915*(1-VLOOKUP(AF915,Discount[],3,0)),2)","v":146.95},null,104320,"P107"]
[8718528031322,"Artikel",8718528031322,"STUKS","Blank glas tbv 6513","880x2015 set a 4 ruiten","","GLAS","","BINNEN","MODERN","6513","BLANK","","Inventory","",false,"","",492,759,0,"",false,false,false,146.95,178,{"$f":"ROUND(AA916*(1-VLOOKUP(AF916,Discount[],3,0)),2)","v":146.95},null,104320,"P107"]
[8718528031339,"Artikel",8718528031339,"STUKS","Blank glas tbv 6513","880x2115 set a 4 ruiten","","GLAS","","BINNEN","MODERN","6513","BLANK","","Inventory","",false,"","",517,759,0,"",false,false,false,146.95,178,{"$f":"ROUND(AA917*(1-VLOOKUP(AF917,Discount[],3,0)),2)","v":146.95},null,104320,"P107"]
[8718528031346,"Artikel",8718528031346,"STUKS","Blank glas tbv 6513","930x2015 set a 4 ruiten","","GLAS","","BINNEN","MODERN","6513","BLANK","","Inventory","",false,"","",492,809,0,"",false,false,false,146.95,178,{"$f":"ROUND(AA918*(1-VLOOKUP(AF918,Discount[],3,0)),2)","v":146.95},null,104320,"P107"]
[8718528031353,"Artikel",8718528031353,"STUKS","Blank glas tbv 6513","930x2115 set a 4 ruiten","","GLAS","","BINNEN","MODERN","6513","BLANK","","Inventory","",false,"","",517,809,0,"",false,false,false,146.95,178,{"$f":"ROUND(AA919*(1-VLOOKUP(AF919,Discount[],3,0)),2)","v":146.95},null,104320,"P107"]
[8718528031360,"Artikel",8718528031360,"STUKS","Blank glas tbv 6513","830x2315 set a 4 ruiten","","GLAS","","BINNEN","MODERN","6513","BLANK","","Inventory","",false,"","",559,695,0,"",false,false,false,146.95,178,{"$f":"ROUND(AA920*(1-VLOOKUP(AF920,Discount[],3,0)),2)","v":146.95},null,104320,"P107"]
[8718528031377,"Artikel",8718528031377,"STUKS","Blank glas tbv 6513","880x2315 set a 4 ruiten","","GLAS","","BINNEN","MODERN","6513","BLANK","","Inventory","",false,"","",559,745,0,"",false,false,false,146.95,178,{"$f":"ROUND(AA921*(1-VLOOKUP(AF921,Discount[],3,0)),2)","v":146.95},null,104320,"P107"]
[8718528031384,"Artikel",8718528031384,"STUKS","Blank glas tbv 6513","930x2315 set a 4 ruiten","","GLAS","","BINNEN","MODERN","6513","BLANK","","Inventory","",false,"","",559,795,0,"",false,false,false,146.95,178,{"$f":"ROUND(AA922*(1-VLOOKUP(AF922,Discount[],3,0)),2)","v":146.95},null,104320,"P107"]
[8718528031841,"Artikel",8718528031841,"STUKS","Mat glas tbv 6513","780x2015 set a 4 ruiten","","GLAS","","BINNEN","MODERN","6513","MAT","","Inventory","",false,"","",492,659,0,"",false,false,false,236.71,286,{"$f":"ROUND(AA923*(1-VLOOKUP(AF923,Discount[],3,0)),2)","v":236.71},null,104330,"P107"]
[8718528031858,"Artikel",8718528031858,"STUKS","Mat glas tbv 6513","830x2015 set a 4 ruiten","","GLAS","","BINNEN","MODERN","6513","MAT","","Inventory","",false,"","",492,709,0,"",false,false,false,236.71,286,{"$f":"ROUND(AA924*(1-VLOOKUP(AF924,Discount[],3,0)),2)","v":236.71},null,104330,"P107"]
[8718528031865,"Artikel",8718528031865,"STUKS","Mat glas tbv 6513","830x2115 set a 4 ruiten","","GLAS","","BINNEN","MODERN","6513","MAT","","Inventory","",false,"","",517,709,0,"",false,false,false,236.71,286,{"$f":"ROUND(AA925*(1-VLOOKUP(AF925,Discount[],3,0)),2)","v":236.71},null,104330,"P107"]
[8718528031872,"Artikel",8718528031872,"STUKS","Mat glas tbv 6513","880x2015 set a 4 ruiten","","GLAS","","BINNEN","MODERN","6513","MAT","","Inventory","",false,"","",492,759,0,"",false,false,false,236.71,286,{"$f":"ROUND(AA926*(1-VLOOKUP(AF926,Discount[],3,0)),2)","v":236.71},null,104330,"P107"]
[8718528031889,"Artikel",8718528031889,"STUKS","Mat glas tbv 6513","880x2115 set a 4 ruiten","","GLAS","","BINNEN","MODERN","6513","MAT","","Inventory","",false,"","",517,759,0,"",false,false,false,236.71,286,{"$f":"ROUND(AA927*(1-VLOOKUP(AF927,Discount[],3,0)),2)","v":236.71},null,104330,"P107"]
[8718528031896,"Artikel",8718528031896,"STUKS","Mat glas tbv 6513","930x2015 set a 4 ruiten","","GLAS","","BINNEN","MODERN","6513","MAT","","Inventory","",false,"","",492,809,0,"",false,false,false,236.71,286,{"$f":"ROUND(AA928*(1-VLOOKUP(AF928,Discount[],3,0)),2)","v":236.71},null,104330,"P107"]
[8718528031902,"Artikel",8718528031902,"STUKS","Mat glas tbv 6513","930x2115 set a 4 ruiten","","GLAS","","BINNEN","MODERN","6513","MAT","","Inventory","",false,"","",517,809,0,"",false,false,false,236.71,286,{"$f":"ROUND(AA929*(1-VLOOKUP(AF929,Discount[],3,0)),2)","v":236.71},null,104330,"P107"]
[8718528031919,"Artikel",8718528031919,"STUKS","Mat glas tbv 6513","830x2315 set a 4 ruiten","","GLAS","","BINNEN","MODERN","6513","MAT","","Inventory","",false,"","",559,695,0,"",false,false,false,236.71,286,{"$f":"ROUND(AA930*(1-VLOOKUP(AF930,Discount[],3,0)),2)","v":236.71},null,104330,"P107"]
[8718528031926,"Artikel",8718528031926,"STUKS","Mat glas tbv 6513","880x2315 set a 4 ruiten","","GLAS","","BINNEN","MODERN","6513","MAT","","Inventory","",false,"","",559,745,0,"",false,false,false,236.71,286,{"$f":"ROUND(AA931*(1-VLOOKUP(AF931,Discount[],3,0)),2)","v":236.71},null,104330,"P107"]
[8718528031933,"Artikel",8718528031933,"STUKS","Mat glas tbv 6513","930x2315 set a 4 ruiten","","GLAS","","BINNEN","MODERN","6513","MAT","","Inventory","",false,"","",559,795,0,"",false,false,false,236.71,286,{"$f":"ROUND(AA932*(1-VLOOKUP(AF932,Discount[],3,0)),2)","v":236.71},null,104330,"P107"]
[8718528033142,"Artikel",8718528033142,"STUKS","Mat glas met heldere banen","tbv 6513 780x2015 (4 ruiten)","","GLAS","","BINNEN","MODERN","6513","MAT + HELDERE BANEN","","Inventory","",false,"","",0,0,0,"",false,false,false,300.17,363,{"$f":"ROUND(AA933*(1-VLOOKUP(AF933,Discount[],3,0)),2)","v":300.17},null,104340,"P107"]
[8718528033159,"Artikel",8718528033159,"STUKS","Mat glas met heldere banen","tbv 6513 830x2015 (4 ruiten)","","GLAS","","BINNEN","MODERN","6513","MAT + HELDERE BANEN","","Inventory","",false,"","",0,0,0,"",false,false,false,300.17,363,{"$f":"ROUND(AA934*(1-VLOOKUP(AF934,Discount[],3,0)),2)","v":300.17},null,104340,"P107"]
[8718528033166,"Artikel",8718528033166,"STUKS","Mat glas met heldere banen","tbv 6513 830x2115 (4 ruiten)","","GLAS","","BINNEN","MODERN","6513","MAT + HELDERE BANEN","","Inventory","",false,"","",0,0,0,"",false,false,false,300.17,363,{"$f":"ROUND(AA935*(1-VLOOKUP(AF935,Discount[],3,0)),2)","v":300.17},null,104340,"P107"]
[8718528033173,"Artikel",8718528033173,"STUKS","Mat glas met heldere banen","tbv 6513 830x2315 (4 ruiten)","","GLAS","","BINNEN","MODERN","6513","MAT + HELDERE BANEN","","Inventory","",false,"","",0,0,0,"",false,false,false,300.17,363,{"$f":"ROUND(AA936*(1-VLOOKUP(AF936,Discount[],3,0)),2)","v":300.17},null,104340,"P107"]
[8718528033180,"Artikel",8718528033180,"STUKS","Mat glas met heldere banen","tbv 6513 880x2015 (4 ruiten)","","GLAS","","BINNEN","MODERN","6513","MAT + HELDERE BANEN","","Inventory","",false,"","",0,0,0,"",false,false,false,300.17,363,{"$f":"ROUND(AA937*(1-VLOOKUP(AF937,Discount[],3,0)),2)","v":300.17},null,104340,"P107"]
[8718528033197,"Artikel",8718528033197,"STUKS","Mat glas met heldere banen","tbv 6513 880x2115 (4 ruiten)","","GLAS","","BINNEN","MODERN","6513","MAT + HELDERE BANEN","","Inventory","",false,"","",0,0,0,"",false,false,false,300.17,363,{"$f":"ROUND(AA938*(1-VLOOKUP(AF938,Discount[],3,0)),2)","v":300.17},null,104340,"P107"]
[8718528033203,"Artikel",8718528033203,"STUKS","Mat glas met heldere banen","tbv 6513 880x2315 (4 ruiten)","","GLAS","","BINNEN","MODERN","6513","MAT + HELDERE BANEN","","Inventory","",false,"","",0,0,0,"",false,false,false,300.17,363,{"$f":"ROUND(AA939*(1-VLOOKUP(AF939,Discount[],3,0)),2)","v":300.17},null,104340,"P107"]
[8718528033210,"Artikel",8718528033210,"STUKS","Mat glas met heldere banen","tbv 6513 930x2015 (4 ruiten)","","GLAS","","BINNEN","MODERN","6513","MAT + HELDERE BANEN","","Inventory","",false,"","",0,0,0,"",false,false,false,300.17,363,{"$f":"ROUND(AA940*(1-VLOOKUP(AF940,Discount[],3,0)),2)","v":300.17},null,104340,"P107"]
[8718528033227,"Artikel",8718528033227,"STUKS","Mat glas met heldere banen","tbv 6513 930x2115 (4 ruiten)","","GLAS","","BINNEN","MODERN","6513","MAT + HELDERE BANEN","","Inventory","",false,"","",0,0,0,"",false,false,false,300.17,363,{"$f":"ROUND(AA941*(1-VLOOKUP(AF941,Discount[],3,0)),2)","v":300.17},null,104340,"P107"]
[8718528033234,"Artikel",8718528033234,"STUKS","Mat glas met heldere banen","tbv 6513 930x2315 (4 ruiten)","","GLAS","","BINNEN","MODERN","6513","MAT + HELDERE BANEN","","Inventory","",false,"","",0,0,0,"",false,false,false,300.17,363,{"$f":"ROUND(AA942*(1-VLOOKUP(AF942,Discount[],3,0)),2)","v":300.17},null,104340,"P107"]
[8718528123928,"Artikel",8718528123928,"STUKS","Facetglas blank tbv 6522","630 x 2015 set a 6 ruiten","","GLAS","","BINNEN","MODERN","6522","FACETGLAS BLANK","","Inventory","",false,"","",0,0,0,"",false,false,false,137.28,166,{"$f":"ROUND(AA943*(1-VLOOKUP(AF943,Discount[],3,0)),2)","v":137.28},null,104390,"P107"]
[8718528123935,"Artikel",8718528123935,"STUKS","Facetglas blank tbv 6522","630 x 2115 set a 6 ruiten","","GLAS","","BINNEN","MODERN","6522","FACETGLAS BLANK","","Inventory","",false,"","",0,0,0,"",false,false,false,137.28,166,{"$f":"ROUND(AA944*(1-VLOOKUP(AF944,Discount[],3,0)),2)","v":137.28},null,104390,"P107"]
[8718528123942,"Artikel",8718528123942,"STUKS","Facetglas blank tbv 6522","680 x 2015 set a 6 ruiten","","GLAS","","BINNEN","MODERN","6522","FACETGLAS BLANK","","Inventory","",false,"","",0,0,0,"",false,false,false,137.28,166,{"$f":"ROUND(AA945*(1-VLOOKUP(AF945,Discount[],3,0)),2)","v":137.28},null,104390,"P107"]
[8718528123959,"Artikel",8718528123959,"STUKS","Facetglas blank tbv 6522","680 x 2115 set a 6 ruiten","","GLAS","","BINNEN","MODERN","6522","FACETGLAS BLANK","","Inventory","",false,"","",0,0,0,"",false,false,false,137.28,166,{"$f":"ROUND(AA946*(1-VLOOKUP(AF946,Discount[],3,0)),2)","v":137.28},null,104390,"P107"]
[8718528123966,"Artikel",8718528123966,"STUKS","Facetglas blank tbv 6522","730 x 2015 set a 6 ruiten","","GLAS","","BINNEN","MODERN","6522","FACETGLAS BLANK","","Inventory","",false,"","",0,0,0,"",false,false,false,137.28,166,{"$f":"ROUND(AA947*(1-VLOOKUP(AF947,Discount[],3,0)),2)","v":137.28},null,104390,"P107"]
[8718528123973,"Artikel",8718528123973,"STUKS","Facetglas blank tbv 6522","730 x 2115 set a 6 ruiten","","GLAS","","BINNEN","MODERN","6522","FACETGLAS BLANK","","Inventory","",false,"","",0,0,0,"",false,false,false,137.28,166,{"$f":"ROUND(AA948*(1-VLOOKUP(AF948,Discount[],3,0)),2)","v":137.28},null,104390,"P107"]
[8718528123980,"Artikel",8718528123980,"STUKS","Facetglas blank tbv 6522","780 x 2115 set a 6 ruiten","","GLAS","","BINNEN","MODERN","6522","FACETGLAS BLANK","","Inventory","",false,"","",0,0,0,"",false,false,false,137.28,166,{"$f":"ROUND(AA949*(1-VLOOKUP(AF949,Discount[],3,0)),2)","v":137.28},null,104390,"P107"]
[8718528123997,"Artikel",8718528123997,"STUKS","Facetglas blank tbv 6522","630 x 2315 set a 6 ruiten","","GLAS","","BINNEN","MODERN","6522","FACETGLAS BLANK","","Inventory","",false,"","",0,0,0,"",false,false,false,137.28,166,{"$f":"ROUND(AA950*(1-VLOOKUP(AF950,Discount[],3,0)),2)","v":137.28},null,104390,"P107"]
[8718528124000,"Artikel",8718528124000,"STUKS","Facetglas blank tbv 6522","680 x 2315 set a 6 ruiten","","GLAS","","BINNEN","MODERN","6522","FACETGLAS BLANK","","Inventory","",false,"","",0,0,0,"",false,false,false,137.28,166,{"$f":"ROUND(AA951*(1-VLOOKUP(AF951,Discount[],3,0)),2)","v":137.28},null,104390,"P107"]
[8718528124017,"Artikel",8718528124017,"STUKS","Facetglas blank tbv 6522","730 x 2315 set a 6 ruiten","","GLAS","","BINNEN","MODERN","6522","FACETGLAS BLANK","","Inventory","",false,"","",0,0,0,"",false,false,false,137.28,166,{"$f":"ROUND(AA952*(1-VLOOKUP(AF952,Discount[],3,0)),2)","v":137.28},null,104390,"P107"]
[8718528124024,"Artikel",8718528124024,"STUKS","Facetglas blank tbv 6522","780 x 2315 set a 6 ruiten","","GLAS","","BINNEN","MODERN","6522","FACETGLAS BLANK","","Inventory","",false,"","",0,0,0,"",false,false,false,137.28,166,{"$f":"ROUND(AA953*(1-VLOOKUP(AF953,Discount[],3,0)),2)","v":137.28},null,104390,"P107"]
[8718528029893,"Artikel",8718528029893,"STUKS","Facetglas blank tbv 6522","780x2015 set a 6 ruiten","","GLAS","","BINNEN","MODERN","6522","FACETGLAS BLANK","","Inventory","",false,"","",457,370,0,"",false,false,false,137.28,166,{"$f":"ROUND(AA954*(1-VLOOKUP(AF954,Discount[],3,0)),2)","v":137.28},null,104390,"P107"]
[8718528029909,"Artikel",8718528029909,"STUKS","Facetglas blank tbv 6522","830x2015 set a 6 ruiten","","GLAS","","BINNEN","MODERN","6522","FACETGLAS BLANK","","Inventory","",false,"","",457,395,0,"",false,false,false,137.28,166,{"$f":"ROUND(AA955*(1-VLOOKUP(AF955,Discount[],3,0)),2)","v":137.28},null,104390,"P107"]
[8718528029916,"Artikel",8718528029916,"STUKS","Facetglas blank tbv 6522","830x2115 set a 6 ruiten","","GLAS","","BINNEN","MODERN","6522","FACETGLAS BLANK","","Inventory","",false,"","",491,395,0,"",false,false,false,137.28,166,{"$f":"ROUND(AA956*(1-VLOOKUP(AF956,Discount[],3,0)),2)","v":137.28},null,104390,"P107"]
[8718528029923,"Artikel",8718528029923,"STUKS","Facetglas blank tbv 6522","880x2015 set a 6 ruiten","","GLAS","","BINNEN","MODERN","6522","FACETGLAS BLANK","","Inventory","",false,"","",457,420,0,"",false,false,false,137.28,166,{"$f":"ROUND(AA957*(1-VLOOKUP(AF957,Discount[],3,0)),2)","v":137.28},null,104390,"P107"]
[8718528029930,"Artikel",8718528029930,"STUKS","Facetglas blank tbv 6522","880x2115 set a 6 ruiten","","GLAS","","BINNEN","MODERN","6522","FACETGLAS BLANK","","Inventory","",false,"","",491,420,0,"",false,false,false,137.28,166,{"$f":"ROUND(AA958*(1-VLOOKUP(AF958,Discount[],3,0)),2)","v":137.28},null,104390,"P107"]
[8718528029947,"Artikel",8718528029947,"STUKS","Facetglas blank tbv 6522","930x2015 set a 6 ruiten","","GLAS","","BINNEN","MODERN","6522","FACETGLAS BLANK","","Inventory","",false,"","",457,445,0,"",false,false,false,137.28,166,{"$f":"ROUND(AA959*(1-VLOOKUP(AF959,Discount[],3,0)),2)","v":137.28},null,104390,"P107"]
[8718528029954,"Artikel",8718528029954,"STUKS","Facetglas blank tbv 6522","930x2115 set a 6 ruiten","","GLAS","","BINNEN","MODERN","6522","FACETGLAS BLANK","","Inventory","",false,"","",491,445,0,"",false,false,false,137.28,166,{"$f":"ROUND(AA960*(1-VLOOKUP(AF960,Discount[],3,0)),2)","v":137.28},null,104390,"P107"]
[8718528030660,"Artikel",8718528030660,"STUKS","Facetglas blank tbv 6522","830x2315 set a 6 ruiten","","GLAS","","BINNEN","MODERN","6522","FACETGLAS BLANK","","Inventory","",false,"","",515,388,0,"",false,false,false,137.28,166,{"$f":"ROUND(AA961*(1-VLOOKUP(AF961,Discount[],3,0)),2)","v":137.28},null,104390,"P107"]
[8718528030677,"Artikel",8718528030677,"STUKS","Facetglas blank tbv 6522","880x2315 set a 6 ruiten","","GLAS","","BINNEN","MODERN","6522","FACETGLAS BLANK","","Inventory","",false,"","",515,413,0,"",false,false,false,137.28,166,{"$f":"ROUND(AA962*(1-VLOOKUP(AF962,Discount[],3,0)),2)","v":137.28},null,104390,"P107"]
[8718528030684,"Artikel",8718528030684,"STUKS","Facetglas blank tbv 6522","930x2315 set a 6 ruiten","","GLAS","","BINNEN","MODERN","6522","FACETGLAS BLANK","","Inventory","",false,"","",515,438,0,"",false,false,false,137.28,166,{"$f":"ROUND(AA963*(1-VLOOKUP(AF963,Discount[],3,0)),2)","v":137.28},null,104390,"P107"]
[8718528124031,"Artikel",8718528124031,"STUKS","Facetglas mat tbv 6522","630 x 2015 set a 6 ruiten","","GLAS","","BINNEN","MODERN","6522","FACETGLAS MAT","","Inventory","",false,"","",0,0,0,"",false,false,false,211.19,256,{"$f":"ROUND(AA964*(1-VLOOKUP(AF964,Discount[],3,0)),2)","v":211.19},null,104400,"P107"]
[8718528124048,"Artikel",8718528124048,"STUKS","Facetglas mat tbv 6522","630 x 2115 set a 6 ruiten","","GLAS","","BINNEN","MODERN","6522","FACETGLAS MAT","","Inventory","",false,"","",0,0,0,"",false,false,false,211.19,256,{"$f":"ROUND(AA965*(1-VLOOKUP(AF965,Discount[],3,0)),2)","v":211.19},null,104400,"P107"]
[8718528124055,"Artikel",8718528124055,"STUKS","Facetglas mat tbv 6522","680 x 2015 set a 6 ruiten","","GLAS","","BINNEN","MODERN","6522","FACETGLAS MAT","","Inventory","",false,"","",0,0,0,"",false,false,false,211.19,256,{"$f":"ROUND(AA966*(1-VLOOKUP(AF966,Discount[],3,0)),2)","v":211.19},null,104400,"P107"]
[8718528124062,"Artikel",8718528124062,"STUKS","Facetglas mat tbv 6522","680 x 2115 set a 6 ruiten","","GLAS","","BINNEN","MODERN","6522","FACETGLAS MAT","","Inventory","",false,"","",0,0,0,"",false,false,false,211.19,256,{"$f":"ROUND(AA967*(1-VLOOKUP(AF967,Discount[],3,0)),2)","v":211.19},null,104400,"P107"]
[8718528124079,"Artikel",8718528124079,"STUKS","Facetglas mat tbv 6522","730 x 2015 set a 6 ruiten","","GLAS","","BINNEN","MODERN","6522","FACETGLAS MAT","","Inventory","",false,"","",0,0,0,"",false,false,false,211.19,256,{"$f":"ROUND(AA968*(1-VLOOKUP(AF968,Discount[],3,0)),2)","v":211.19},null,104400,"P107"]
[8718528124086,"Artikel",8718528124086,"STUKS","Facetglas mat tbv 6522","730 x 2115 set a 6 ruiten","","GLAS","","BINNEN","MODERN","6522","FACETGLAS MAT","","Inventory","",false,"","",0,0,0,"",false,false,false,211.19,256,{"$f":"ROUND(AA969*(1-VLOOKUP(AF969,Discount[],3,0)),2)","v":211.19},null,104400,"P107"]
[8718528124093,"Artikel",8718528124093,"STUKS","Facetglas mat tbv 6522","780 x 2115 set a 6 ruiten","","GLAS","","BINNEN","MODERN","6522","FACETGLAS MAT","","Inventory","",false,"","",0,0,0,"",false,false,false,211.19,256,{"$f":"ROUND(AA970*(1-VLOOKUP(AF970,Discount[],3,0)),2)","v":211.19},null,104400,"P107"]
[8718528124109,"Artikel",8718528124109,"STUKS","Facetglas mat tbv 6522","630 x 2315 set a 6 ruiten","","GLAS","","BINNEN","MODERN","6522","FACETGLAS MAT","","Inventory","",false,"","",0,0,0,"",false,false,false,211.19,256,{"$f":"ROUND(AA971*(1-VLOOKUP(AF971,Discount[],3,0)),2)","v":211.19},null,104400,"P107"]
[8718528124116,"Artikel",8718528124116,"STUKS","Facetglas mat tbv 6522","680 x 2315 set a 6 ruiten","","GLAS","","BINNEN","MODERN","6522","FACETGLAS MAT","","Inventory","",false,"","",0,0,0,"",false,false,false,211.19,256,{"$f":"ROUND(AA972*(1-VLOOKUP(AF972,Discount[],3,0)),2)","v":211.19},null,104400,"P107"]
[8718528124123,"Artikel",8718528124123,"STUKS","Facetglas mat tbv 6522","730 x 2315 set a 6 ruiten","","GLAS","","BINNEN","MODERN","6522","FACETGLAS MAT","","Inventory","",false,"","",0,0,0,"",false,false,false,211.19,256,{"$f":"ROUND(AA973*(1-VLOOKUP(AF973,Discount[],3,0)),2)","v":211.19},null,104400,"P107"]
[8718528124130,"Artikel",8718528124130,"STUKS","Facetglas mat tbv 6522","780 x 2315 set a 6 ruiten","","GLAS","","BINNEN","MODERN","6522","FACETGLAS MAT","","Inventory","",false,"","",0,0,0,"",false,false,false,211.19,256,{"$f":"ROUND(AA974*(1-VLOOKUP(AF974,Discount[],3,0)),2)","v":211.19},null,104400,"P107"]
[8718528029961,"Artikel",8718528029961,"STUKS","Facetglas mat tbv 6522","780x2015 set a 6 ruiten","","GLAS","","BINNEN","MODERN","6522","FACETGLAS MAT","","Inventory","",false,"","",457,370,0,"",false,false,false,211.19,256,{"$f":"ROUND(AA975*(1-VLOOKUP(AF975,Discount[],3,0)),2)","v":211.19},null,104400,"P107"]
[8718528029978,"Artikel",8718528029978,"STUKS","Facetglas mat tbv 6522","830x2015 set a 6 ruiten","","GLAS","","BINNEN","MODERN","6522","FACETGLAS MAT","","Inventory","",false,"","",457,395,0,"",false,false,false,211.19,256,{"$f":"ROUND(AA976*(1-VLOOKUP(AF976,Discount[],3,0)),2)","v":211.19},null,104400,"P107"]
[8718528029985,"Artikel",8718528029985,"STUKS","Facetglas mat tbv 6522","830x2115 set a 6 ruiten","","GLAS","","BINNEN","MODERN","6522","FACETGLAS MAT","","Inventory","",false,"","",491,395,0,"",false,false,false,211.19,256,{"$f":"ROUND(AA977*(1-VLOOKUP(AF977,Discount[],3,0)),2)","v":211.19},null,104400,"P107"]
[8718528029992,"Artikel",8718528029992,"STUKS","Facetglas mat tbv 6522","880x2015 set a 6 ruiten","","GLAS","","BINNEN","MODERN","6522","FACETGLAS MAT","","Inventory","",false,"","",457,420,0,"",false,false,false,211.19,256,{"$f":"ROUND(AA978*(1-VLOOKUP(AF978,Discount[],3,0)),2)","v":211.19},null,104400,"P107"]
[8718528030004,"Artikel",8718528030004,"STUKS","Facetglas mat tbv 6522","880x2115 set a 6 ruiten","","GLAS","","BINNEN","MODERN","6522","FACETGLAS MAT","","Inventory","",false,"","",491,420,0,"",false,false,false,211.19,256,{"$f":"ROUND(AA979*(1-VLOOKUP(AF979,Discount[],3,0)),2)","v":211.19},null,104400,"P107"]
[8718528030011,"Artikel",8718528030011,"STUKS","Facetglas mat tbv 6522","930x2015 set a 6 ruiten","","GLAS","","BINNEN","MODERN","6522","FACETGLAS MAT","","Inventory","",false,"","",457,445,0,"",false,false,false,211.19,256,{"$f":"ROUND(AA980*(1-VLOOKUP(AF980,Discount[],3,0)),2)","v":211.19},null,104400,"P107"]
[8718528030028,"Artikel",8718528030028,"STUKS","Facetglas mat tbv 6522","930x2115 set a 6 ruiten","","GLAS","","BINNEN","MODERN","6522","FACETGLAS MAT","","Inventory","",false,"","",491,445,0,"",false,false,false,211.19,256,{"$f":"ROUND(AA981*(1-VLOOKUP(AF981,Discount[],3,0)),2)","v":211.19},null,104400,"P107"]
[8718528030691,"Artikel",8718528030691,"STUKS","Facetglas mat tbv 6522","830x2315 set a 6 ruiten","","GLAS","","BINNEN","MODERN","6522","FACETGLAS MAT","","Inventory","",false,"","",515,388,0,"",false,false,false,211.19,256,{"$f":"ROUND(AA982*(1-VLOOKUP(AF982,Discount[],3,0)),2)","v":211.19},null,104400,"P107"]
[8718528030707,"Artikel",8718528030707,"STUKS","Facetglas mat tbv 6522","880x2315 set a 6 ruiten","","GLAS","","BINNEN","MODERN","6522","FACETGLAS MAT","","Inventory","",false,"","",515,413,0,"",false,false,false,211.19,256,{"$f":"ROUND(AA983*(1-VLOOKUP(AF983,Discount[],3,0)),2)","v":211.19},null,104400,"P107"]
[8718528030714,"Artikel",8718528030714,"STUKS","Facetglas mat tbv 6522","930x2315 set a 6 ruiten","","GLAS","","BINNEN","MODERN","6522","FACETGLAS MAT","","Inventory","",false,"","",515,438,0,"",false,false,false,211.19,256,{"$f":"ROUND(AA984*(1-VLOOKUP(AF984,Discount[],3,0)),2)","v":211.19},null,104400,"P107"]
[8718528124147,"Artikel",8718528124147,"STUKS","Blank glas tbv 6522","630 x 2015 set a 6 ruiten","","GLAS","","BINNEN","MODERN","6522","BLANK","","Inventory","",false,"","",0,0,0,"",false,false,false,97.97,119,{"$f":"ROUND(AA985*(1-VLOOKUP(AF985,Discount[],3,0)),2)","v":97.97},null,104410,"P107"]
[8718528124154,"Artikel",8718528124154,"STUKS","Blank glas tbv 6522","630 x 2115 set a 6 ruiten","","GLAS","","BINNEN","MODERN","6522","BLANK","","Inventory","",false,"","",0,0,0,"",false,false,false,97.97,119,{"$f":"ROUND(AA986*(1-VLOOKUP(AF986,Discount[],3,0)),2)","v":97.97},null,104410,"P107"]
[8718528124161,"Artikel",8718528124161,"STUKS","Blank glas tbv 6522","680 x 2015 set a 6 ruiten","","GLAS","","BINNEN","MODERN","6522","BLANK","","Inventory","",false,"","",0,0,0,"",false,false,false,97.97,119,{"$f":"ROUND(AA987*(1-VLOOKUP(AF987,Discount[],3,0)),2)","v":97.97},null,104410,"P107"]
[8718528124178,"Artikel",8718528124178,"STUKS","Blank glas tbv 6522","680 x 2115 set a 6 ruiten","","GLAS","","BINNEN","MODERN","6522","BLANK","","Inventory","",false,"","",0,0,0,"",false,false,false,97.97,119,{"$f":"ROUND(AA988*(1-VLOOKUP(AF988,Discount[],3,0)),2)","v":97.97},null,104410,"P107"]
[8718528124185,"Artikel",8718528124185,"STUKS","Blank glas tbv 6522","730 x 2015 set a 6 ruiten","","GLAS","","BINNEN","MODERN","6522","BLANK","","Inventory","",false,"","",0,0,0,"",false,false,false,97.97,119,{"$f":"ROUND(AA989*(1-VLOOKUP(AF989,Discount[],3,0)),2)","v":97.97},null,104410,"P107"]
[8718528124192,"Artikel",8718528124192,"STUKS","Blank glas tbv 6522","730 x 2115 set a 6 ruiten","","GLAS","","BINNEN","MODERN","6522","BLANK","","Inventory","",false,"","",0,0,0,"",false,false,false,97.97,119,{"$f":"ROUND(AA990*(1-VLOOKUP(AF990,Discount[],3,0)),2)","v":97.97},null,104410,"P107"]
[8718528124208,"Artikel",8718528124208,"STUKS","Blank glas tbv 6522","780 x 2115 set a 6 ruiten","","GLAS","","BINNEN","MODERN","6522","BLANK","","Inventory","",false,"","",0,0,0,"",false,false,false,97.97,119,{"$f":"ROUND(AA991*(1-VLOOKUP(AF991,Discount[],3,0)),2)","v":97.97},null,104410,"P107"]
[8718528124215,"Artikel",8718528124215,"STUKS","Blank glas tbv 6522","630 x 2315 set a 6 ruiten","","GLAS","","BINNEN","MODERN","6522","BLANK","","Inventory","",false,"","",0,0,0,"",false,false,false,97.97,119,{"$f":"ROUND(AA992*(1-VLOOKUP(AF992,Discount[],3,0)),2)","v":97.97},null,104410,"P107"]
[8718528124222,"Artikel",8718528124222,"STUKS","Blank glas tbv 6522","680 x 2315 set a 6 ruiten","","GLAS","","BINNEN","MODERN","6522","BLANK","","Inventory","",false,"","",0,0,0,"",false,false,false,97.97,119,{"$f":"ROUND(AA993*(1-VLOOKUP(AF993,Discount[],3,0)),2)","v":97.97},null,104410,"P107"]
[8718528124239,"Artikel",8718528124239,"STUKS","Blank glas tbv 6522","730 x 2315 set a 6 ruiten","","GLAS","","BINNEN","MODERN","6522","BLANK","","Inventory","",false,"","",0,0,0,"",false,false,false,97.97,119,{"$f":"ROUND(AA994*(1-VLOOKUP(AF994,Discount[],3,0)),2)","v":97.97},null,104410,"P107"]
[8718528124246,"Artikel",8718528124246,"STUKS","Blank glas tbv 6522","780 x 2315 set a 6 ruiten","","GLAS","","BINNEN","MODERN","6522","BLANK","","Inventory","",false,"","",0,0,0,"",false,false,false,97.97,119,{"$f":"ROUND(AA995*(1-VLOOKUP(AF995,Discount[],3,0)),2)","v":97.97},null,104410,"P107"]
[8718528031391,"Artikel",8718528031391,"STUKS","Blank glas tbv 6522","780x2015 set a 6 ruiten","","GLAS","","BINNEN","MODERN","6522","BLANK","","Inventory","",false,"","",457,370,0,"",false,false,false,97.97,119,{"$f":"ROUND(AA996*(1-VLOOKUP(AF996,Discount[],3,0)),2)","v":97.97},null,104410,"P107"]
[8718528031407,"Artikel",8718528031407,"STUKS","Blank glas tbv 6522","830x2015 set a 6 ruiten","","GLAS","","BINNEN","MODERN","6522","BLANK","","Inventory","",false,"","",457,395,0,"",false,false,false,97.97,119,{"$f":"ROUND(AA997*(1-VLOOKUP(AF997,Discount[],3,0)),2)","v":97.97},null,104410,"P107"]
[8718528031414,"Artikel",8718528031414,"STUKS","Blank glas tbv 6522","830x2115 set a 6 ruiten","","GLAS","","BINNEN","MODERN","6522","BLANK","","Inventory","",false,"","",491,395,0,"",false,false,false,97.97,119,{"$f":"ROUND(AA998*(1-VLOOKUP(AF998,Discount[],3,0)),2)","v":97.97},null,104410,"P107"]
[8718528031421,"Artikel",8718528031421,"STUKS","Blank glas tbv 6522","880x2015 set a 6 ruiten","","GLAS","","BINNEN","MODERN","6522","BLANK","","Inventory","",false,"","",457,420,0,"",false,false,false,97.97,119,{"$f":"ROUND(AA999*(1-VLOOKUP(AF999,Discount[],3,0)),2)","v":97.97},null,104410,"P107"]
[8718528031438,"Artikel",8718528031438,"STUKS","Blank glas tbv 6522","880x2115 set a 6 ruiten","","GLAS","","BINNEN","MODERN","6522","BLANK","","Inventory","",false,"","",491,420,0,"",false,false,false,97.97,119,{"$f":"ROUND(AA1000*(1-VLOOKUP(AF1000,Discount[],3,0)),2)","v":97.97},null,104410,"P107"]
[8718528031476,"Artikel",8718528031476,"STUKS","Blank glas tbv 6522","880x2315 set a 6 ruiten","","GLAS","","BINNEN","MODERN","6522","BLANK","","Inventory","",false,"","",515,413,0,"",false,false,false,97.97,119,{"$f":"ROUND(AA1004*(1-VLOOKUP(AF1004,Discount[],3,0)),2)","v":97.97},null,104410,"P107"]
[8718528124444,"Artikel",8718528124444,"STUKS","Facetglas blank tbv 6532","730 x 2315 set a 3 ruiten","","GLAS","","BINNEN","MODERN","6532","FACETGLAS BLANK","","Inventory","",false,"","",0,0,0,"",false,false,false,102.96,125,{"$f":"ROUND(AA1009*(1-VLOOKUP(AF1009,Discount[],3,0)),2)","v":102.96},null,104420,"P107"]
[8718528030233,"Artikel",8718528030233,"STUKS","Facetglas blank tbv 6532","930x2115 set a 3 ruiten","","GLAS","","BINNEN","MODERN","6532","FACETGLAS BLANK","","Inventory","",false,"","",491,427,0,"",false,false,false,102.96,125,{"$f":"ROUND(AA1017*(1-VLOOKUP(AF1017,Discount[],3,0)),2)","v":102.96},null,104420,"P107"]
[8718528124567,"Artikel",8718528124567,"STUKS","Facetglas mat tbv 6532","730 x 2015 set a 3 ruiten","","GLAS","","BINNEN","MODERN","6532","FACETGLAS MAT","","Inventory","",false,"","",0,0,0,"",false,false,false,158.39,192,{"$f":"ROUND(AA1022*(1-VLOOKUP(AF1022,Discount[],3,0)),2)","v":158.39},null,104430,"P107"]
[8718528030813,"Artikel",8718528030813,"STUKS","Facetglas mat tbv 6532","830x2315 set a 3 ruiten","","GLAS","","BINNEN","MODERN","6532","FACETGLAS MAT","","Inventory","",false,"","",533,370,0,"",false,false,false,158.39,192,{"$f":"ROUND(AA1033*(1-VLOOKUP(AF1033,Discount[],3,0)),2)","v":158.39},null,104430,"P107"]
[8718528124741,"Artikel",8718528124741,"STUKS","Blank glas tbv 6532","630 x 2115 set a 3 ruiten","","GLAS","","BINNEN","MODERN","6532","BLANK","","Inventory","",false,"","",0,0,0,"",false,false,false,73.48,89,{"$f":"ROUND(AA1037*(1-VLOOKUP(AF1037,Discount[],3,0)),2)","v":73.48},null,104440,"P107"]
[8718528124796,"Artikel",8718528124796,"STUKS","Blank glas tbv 6532","780 x 2115 set a 3 ruiten","","GLAS","","BINNEN","MODERN","6532","BLANK","","Inventory","",false,"","",0,0,0,"",false,false,false,73.48,89,{"$f":"ROUND(AA1042*(1-VLOOKUP(AF1042,Discount[],3,0)),2)","v":73.48},null,104440,"P107"]
[8718528031520,"Artikel",8718528031520,"STUKS","Blank glas tbv 6532","880x2015 set a 3 ruiten","","GLAS","","BINNEN","MODERN","6532","BLANK","","Inventory","",false,"","",466,402,0,"",false,false,false,73.48,89,{"$f":"ROUND(AA1050*(1-VLOOKUP(AF1050,Discount[],3,0)),2)","v":73.48},null,104440,"P107"]
[8718528031582,"Artikel",8718528031582,"STUKS","Blank glas tbv 6532","930x2315 set a 3 ruiten","","GLAS","","BINNEN","MODERN","6532","BLANK","","Inventory","",false,"","",533,420,0,"",false,false,false,73.48,89,{"$f":"ROUND(AA1056*(1-VLOOKUP(AF1056,Discount[],3,0)),2)","v":73.48},null,104440,"P107"]
[8718528125007,"Artikel",8718528125007,"STUKS","Facetglas blank tbv 6533","730 x 2115 1 ruit","","GLAS","","BINNEN","MODERN","6533","FACETGLAS BLANK","6533/6582","Inventory","",false,"","",0,0,0,"",false,false,false,68.64,83,{"$f":"ROUND(AA1062*(1-VLOOKUP(AF1062,Discount[],3,0)),2)","v":68.64},null,104460,"P107"]
[8718528032367,"Artikel",8718528032367,"STUKS","Facetglas blank tbv 6533/6582","830x2115 1 ruit","","GLAS","","BINNEN","MODERN","6533","FACETGLAS BLANK","6533/6582","Inventory","",false,"","",491,709,0,"",false,false,false,68.64,83,{"$f":"ROUND(AA1070*(1-VLOOKUP(AF1070,Discount[],3,0)),2)","v":68.64},null,104460,"P107"]
[8718528032411,"Artikel",8718528032411,"STUKS","Facetglas blank tbv 6533/6582","830x2315 1 ruit","","GLAS","","BINNEN","MODERN","6533","FACETGLAS BLANK","6533/6582","Inventory","",false,"","",533,695,0,"",false,false,false,68.64,83,{"$f":"ROUND(AA1075*(1-VLOOKUP(AF1075,Discount[],3,0)),2)","v":68.64},null,104460,"P107"]
[8718528125212,"Artikel",8718528125212,"STUKS","Facetglas mat tbv 6533","730 x 2115 1 ruit","","GLAS","","BINNEN","MODERN","6533","FACETGLAS MAT","6533/6582","Inventory","",false,"","",0,0,0,"",false,false,false,105.6,128,{"$f":"ROUND(AA1083*(1-VLOOKUP(AF1083,Discount[],3,0)),2)","v":105.6},null,104470,"P107"]
[8718528032466,"Artikel",8718528032466,"STUKS","Facetglas mat tbv 6533/6582","830x2115 1 ruit","","GLAS","","BINNEN","MODERN","6533","FACETGLAS MAT","6533/6582","Inventory","",false,"","",491,709,0,"",false,false,false,105.6,128,{"$f":"ROUND(AA1091*(1-VLOOKUP(AF1091,Discount[],3,0)),2)","v":105.6},null,104470,"P107"]
[8718528032503,"Artikel",8718528032503,"STUKS","Facetglas mat tbv 6533/6582","930x2115 1 ruit","","GLAS","","BINNEN","MODERN","6533","FACETGLAS MAT","6533/6582","Inventory","",false,"","",491,809,0,"",false,false,false,105.6,128,{"$f":"ROUND(AA1095*(1-VLOOKUP(AF1095,Discount[],3,0)),2)","v":105.6},null,104470,"P107"]
[8718528125410,"Artikel",8718528125410,"STUKS","Blank glas tbv 6533","730 x 2015 1 ruit","","GLAS","","BINNEN","MODERN","6533","BLANK","6533/6582","Inventory","",false,"","",0,0,0,"",false,false,false,48.98,59,{"$f":"ROUND(AA1103*(1-VLOOKUP(AF1103,Discount[],3,0)),2)","v":48.98},null,104480,"P107"]
[8718528032299,"Artikel",8718528032299,"STUKS","Blank glas tbv 6533/6582","930x2015 1 ruit","","GLAS","","BINNEN","MODERN","6533","BLANK","6533/6582","Inventory","",false,"","",466,809,0,"",false,false,false,48.98,59,{"$f":"ROUND(AA1115*(1-VLOOKUP(AF1115,Discount[],3,0)),2)","v":48.98},null,104480,"P107"]
[8718528125588,"Artikel",8718528125588,"STUKS","Glas-in-lood model 6533/6582-1","630 x 2015 1 ruit","","GLAS","","BINNEN","MODERN","6533","GLAS-IN-LOOD 1","6533/6582","Inventory","",false,"","",0,0,0,"",false,false,false,180.89,219,{"$f":"ROUND(AA1120*(1-VLOOKUP(AF1120,Discount[],3,0)),2)","v":180.89},null,104500,"P107"]
[8718528125618,"Artikel",8718528125618,"STUKS","Glas-in-lood model 6533/6582-1","680 x 2115 1 ruit","","GLAS","","BINNEN","MODERN","6533","GLAS-IN-LOOD 1","6533/6582","Inventory","",false,"","",0,0,0,"",false,false,false,180.89,219,{"$f":"ROUND(AA1123*(1-VLOOKUP(AF1123,Discount[],3,0)),2)","v":180.89},null,104500,"P107"]
[8718528076842,"Artikel",8718528076842,"STUKS","Glas-in-lood model 6533/6582-1","880x2015 1 ruit,d=6 mm","","GLAS","","BINNEN","MODERN","6533","GLAS-IN-LOOD 1","6533/6582","Inventory","",false,"","",0,0,0,"",false,false,false,180.89,219,{"$f":"ROUND(AA1135*(1-VLOOKUP(AF1135,Discount[],3,0)),2)","v":180.89},null,104500,"P107"]
[8718528076859,"Artikel",8718528076859,"STUKS","Glas-in-lood model 6533/6582-1","880x2115 1 ruit,d=6 mm","","GLAS","","BINNEN","MODERN","6533","GLAS-IN-LOOD 1","6533/6582","Inventory","",false,"","",0,0,0,"",false,false,false,180.89,219,{"$f":"ROUND(AA1136*(1-VLOOKUP(AF1136,Discount[],3,0)),2)","v":180.89},null,104500,"P107"]
[8718528126165,"Artikel",8718528126165,"STUKS","Facetglas blank tbv 6542/6552","680 x 2015 set a 2 ruiten","","GLAS","","BINNEN","MODERN","6542","FACETGLAS BLANK","6542/6552","Inventory","",false,"","",0,0,0,"",false,false,false,137.28,166,{"$f":"ROUND(AA1143*(1-VLOOKUP(AF1143,Discount[],3,0)),2)","v":137.28},null,104510,"P107"]
[8718528030066,"Artikel",8718528030066,"STUKS","Facetglas blank tbv 6542/6552","880x2015 set a 2 ruiten","","GLAS","","BINNEN","MODERN","6542","FACETGLAS BLANK","6542/6552","Inventory","",false,"","",1212,385,0,"",false,false,false,137.28,166,{"$f":"ROUND(AA1155*(1-VLOOKUP(AF1155,Discount[],3,0)),2)","v":137.28},null,104510,"P107"]
[8718528030073,"Artikel",8718528030073,"STUKS","Facetglas blank tbv 6542/6552","880x2115 set a 2 ruiten","","GLAS","","BINNEN","MODERN","6542","FACETGLAS BLANK","6542/6552","Inventory","",false,"","",1312,385,0,"",false,false,false,137.28,166,{"$f":"ROUND(AA1156*(1-VLOOKUP(AF1156,Discount[],3,0)),2)","v":137.28},null,104510,"P107"]
[8718528126318,"Artikel",8718528126318,"STUKS","Facetglas mat tbv 6542/6552","780 x 2115 set a 2 ruiten","","GLAS","","BINNEN","MODERN","6542","FACETGLAS MAT","6542/6552","Inventory","",false,"","",0,0,0,"",false,false,false,211.19,256,{"$f":"ROUND(AA1168*(1-VLOOKUP(AF1168,Discount[],3,0)),2)","v":211.19},null,104520,"P107"]
[8718528030134,"Artikel",8718528030134,"STUKS","Facetglas mat tbv 6542/6552","880x2015 set a 2 ruiten","","GLAS","","BINNEN","MODERN","6542","FACETGLAS MAT","6542/6552","Inventory","",false,"","",1212,385,0,"",false,false,false,211.19,256,{"$f":"ROUND(AA1176*(1-VLOOKUP(AF1176,Discount[],3,0)),2)","v":211.19},null,104520,"P107"]
[8718528030158,"Artikel",8718528030158,"STUKS","Facetglas mat tbv 6542/6552","930x2015 set a 2 ruiten","","GLAS","","BINNEN","MODERN","6542","FACETGLAS MAT","6542/6552","Inventory","",false,"","",1212,410,0,"",false,false,false,211.19,256,{"$f":"ROUND(AA1178*(1-VLOOKUP(AF1178,Discount[],3,0)),2)","v":211.19},null,104520,"P107"]
[8718528126417,"Artikel",8718528126417,"STUKS","Blank glas tbv 6542/6552","730 x 2115 set a 2 ruiten","","GLAS","","BINNEN","MODERN","6542","BLANK","6542/6552","Inventory","",false,"","",0,0,0,"",false,false,false,97.97,119,{"$f":"ROUND(AA1188*(1-VLOOKUP(AF1188,Discount[],3,0)),2)","v":97.97},null,104530,"P107"]
[8718528031612,"Artikel",8718528031612,"STUKS","Blank glas tbv 6542/6552","830x2115 set a 2 ruiten","","GLAS","","BINNEN","MODERN","6542","BLANK","6542/6552","Inventory","",false,"","",1312,360,0,"",false,false,false,97.97,119,{"$f":"ROUND(AA1196*(1-VLOOKUP(AF1196,Discount[],3,0)),2)","v":97.97},null,104530,"P107"]
[8718528031667,"Artikel",8718528031667,"STUKS","Blank glas tbv 6542/6552","830x2315 set a 2 ruiten","","GLAS","","BINNEN","MODERN","6542","BLANK","6542/6552","Inventory","",false,"","",1385,353,0,"",false,false,false,97.97,119,{"$f":"ROUND(AA1201*(1-VLOOKUP(AF1201,Discount[],3,0)),2)","v":97.97},null,104530,"P107"]
[8718528127162,"Artikel",8718528127162,"STUKS","Facetglas blank tbv 6562","680 x 2115 set a 8 ruiten","","GLAS","","BINNEN","MODERN","6562","FACETGLAS BLANK","","Inventory","",false,"","",0,0,0,"",false,false,false,205.92,249,{"$f":"ROUND(AA1207*(1-VLOOKUP(AF1207,Discount[],3,0)),2)","v":205.92},null,104540,"P107"]
[8718528030905,"Artikel",8718528030905,"STUKS","Facetglas blank tbv 6562","930x2015 set a 8 ruiten","","GLAS","","BINNEN","MODERN","6562","FACETGLAS BLANK","","Inventory","",false,"","",443,445,0,"",false,false,false,205.92,249,{"$f":"ROUND(AA1216*(1-VLOOKUP(AF1216,Discount[],3,0)),2)","v":205.92},null,104540,"P107"]
[8718528031056,"Artikel",8718528031056,"STUKS","Facetglas blank tbv 6562","830x2315 set a 8 ruiten","","GLAS","","BINNEN","MODERN","6562","FACETGLAS BLANK","","Inventory","",false,"","",499,388,0,"",false,false,false,205.92,249,{"$f":"ROUND(AA1221*(1-VLOOKUP(AF1221,Discount[],3,0)),2)","v":205.92},null,104540,"P107"]
[8718528127230,"Artikel",8718528127230,"STUKS","Facetglas mat tbv 6562","630 x 2315 set a 8 ruiten","","GLAS","","BINNEN","MODERN","6562","FACETGLAS MAT","","Inventory","",false,"","",0,0,0,"",false,false,false,316.79,383,{"$f":"ROUND(AA1229*(1-VLOOKUP(AF1229,Discount[],3,0)),2)","v":316.79},null,104550,"P107"]
[8718528030950,"Artikel",8718528030950,"STUKS","Facetglas mat tbv 6562","780x2115 set a 8 ruiten","","GLAS","","BINNEN","MODERN","6562","FACETGLAS MAT","","Inventory","",false,"","",468,370,0,"",false,false,false,316.79,383,{"$f":"ROUND(AA1232*(1-VLOOKUP(AF1232,Discount[],3,0)),2)","v":316.79},null,104550,"P107"]
[8718528031094,"Artikel",8718528031094,"STUKS","Facetglas mat tbv 6562","780x2315 set a 8 ruiten","","GLAS","","BINNEN","MODERN","6562","FACETGLAS MAT","","Inventory","",false,"","",499,363,0,"",false,false,false,316.79,383,{"$f":"ROUND(AA1241*(1-VLOOKUP(AF1241,Discount[],3,0)),2)","v":316.79},null,104550,"P107"]
[8718528127285,"Artikel",8718528127285,"STUKS","Blank glas tbv 6562","680 x 2115 set a 8 ruiten","","GLAS","","BINNEN","MODERN","6562","BLANK","","Inventory","",false,"","",0,0,0,"",false,false,false,146.95,178,{"$f":"ROUND(AA1249*(1-VLOOKUP(AF1249,Discount[],3,0)),2)","v":146.95},null,104560,"P107"]
[8718528031711,"Artikel",8718528031711,"STUKS","Blank glas tbv 6562","830x2015 set a 8 ruiten","","GLAS","","BINNEN","MODERN","6562","BLANK","","Inventory","",false,"","",443,395,0,"",false,false,false,146.95,178,{"$f":"ROUND(AA1254*(1-VLOOKUP(AF1254,Discount[],3,0)),2)","v":146.95},null,104560,"P107"]
[8718528031797,"Artikel",8718528031797,"STUKS","Blank glas tbv 6562","780x2315 set a 8 ruiten","","GLAS","","BINNEN","MODERN","6562","BLANK","","Inventory","",false,"","",499,363,0,"",false,false,false,146.95,178,{"$f":"ROUND(AA1262*(1-VLOOKUP(AF1262,Discount[],3,0)),2)","v":146.95},null,104560,"P107"]
[8718528031827,"Artikel",8718528031827,"STUKS","Blank glas tbv 6562","930x2315 set a 8 ruiten","","GLAS","","BINNEN","MODERN","6562","BLANK","","Inventory","",false,"","",499,438,0,"",false,false,false,146.95,178,{"$f":"ROUND(AA1265*(1-VLOOKUP(AF1265,Discount[],3,0)),2)","v":146.95},null,104560,"P107"]
[8718528127483,"Artikel",8718528127483,"STUKS","Facetglas blank tbv 6572","680 x 2315 set a 2 ruiten","","GLAS","","BINNEN","MODERN","6572","FACETGLAS BLANK","","Inventory","",false,"","",0,0,0,"",false,false,false,205.92,249,{"$f":"ROUND(AA1274*(1-VLOOKUP(AF1274,Discount[],3,0)),2)","v":205.92},null,104570,"P107"]
[8718528032695,"Artikel",8718528032695,"STUKS","Facetglas blank tbv 6572","930x2015 set a 2 ruiten","","GLAS","","BINNEN","MODERN","6572","FACETGLAS BLANK","","Inventory","",false,"","",1833,410,0,"",false,false,false,205.92,249,{"$f":"ROUND(AA1282*(1-VLOOKUP(AF1282,Discount[],3,0)),2)","v":205.92},null,104570,"P107"]
[8718528127582,"Artikel",8718528127582,"STUKS","Blank glas tbv 6572","630 x 2115 set a 2 ruiten","","GLAS","","BINNEN","MODERN","6572","BLANK","","Inventory","",false,"","",0,0,0,"",false,false,false,146.95,178,{"$f":"ROUND(AA1287*(1-VLOOKUP(AF1287,Discount[],3,0)),2)","v":146.95},null,104580,"P107"]
[8718528127681,"Artikel",8718528127681,"STUKS","Blank glas tbv 6572","680 x 2315 set a 2 ruiten","","GLAS","","BINNEN","MODERN","6572","BLANK","","Inventory","",false,"","",0,0,0,"",false,false,false,146.95,178,{"$f":"ROUND(AA1294*(1-VLOOKUP(AF1294,Discount[],3,0)),2)","v":146.95},null,104580,"P107"]
[8718528032596,"Artikel",8718528032596,"STUKS","Blank glas tbv 6572","930x2015 set a 2 ruiten","","GLAS","","BINNEN","MODERN","6572","BLANK","","Inventory","",false,"","",1833,410,0,"",false,false,false,146.95,178,{"$f":"ROUND(AA1302*(1-VLOOKUP(AF1302,Discount[],3,0)),2)","v":146.95},null,104580,"P107"]
[8718528127780,"Artikel",8718528127780,"STUKS","Mat glas tbv 6572","630 x 2115 set a 2 ruiten","","GLAS","","BINNEN","MODERN","6572","MAT","","Inventory","",false,"","",0,0,0,"",false,false,false,236.71,286,{"$f":"ROUND(AA1307*(1-VLOOKUP(AF1307,Discount[],3,0)),2)","v":236.71},null,104590,"P107"]
[8718528127896,"Artikel",8718528127896,"STUKS","Mat glas tbv 6572","730 x 2315 set a 2 ruiten","","GLAS","","BINNEN","MODERN","6572","MAT","","Inventory","",false,"","",0,0,0,"",false,false,false,236.71,286,{"$f":"ROUND(AA1315*(1-VLOOKUP(AF1315,Discount[],3,0)),2)","v":236.71},null,104590,"P107"]
[8718528032800,"Artikel",8718528032800,"STUKS","Mat glas tbv 6572","930x2115 set a 2 ruiten","","GLAS","","BINNEN","MODERN","6572","MAT","","Inventory","",false,"","",1933,410,0,"",false,false,false,236.71,286,{"$f":"ROUND(AA1323*(1-VLOOKUP(AF1323,Discount[],3,0)),2)","v":236.71},null,104590,"P107"]
[8718528125793,"Artikel",8718528125793,"STUKS","Glas-in-lood model 6533/6582-2","630 x 2015 1 ruit","","GLAS","","BINNEN","MODERN","6533","GLAS-IN-LOOD 2","6533/6582","Inventory","",false,"","",0,0,0,"",false,false,false,180.89,219,{"$f":"ROUND(AA1327*(1-VLOOKUP(AF1327,Discount[],3,0)),2)","v":180.89},null,105480,"P107"]
[8718528125908,"Artikel",8718528125908,"STUKS","Glas-in-lood model 6533/6582-2","680 x 2315 1 ruit","","GLAS","","BINNEN","MODERN","6533","GLAS-IN-LOOD 2","6533/6582","Inventory","",false,"","",0,0,0,"",false,false,false,180.89,219,{"$f":"ROUND(AA1335*(1-VLOOKUP(AF1335,Discount[],3,0)),2)","v":180.89},null,105480,"P107"]
[8718528076927,"Artikel",8718528076927,"STUKS","Glas-in-lood model 6533/6582-2","830x2115 1 ruit,d=6 mm","","GLAS","","BINNEN","MODERN","6533","GLAS-IN-LOOD 2","6533/6582","Inventory","",false,"","",0,0,0,"",false,false,false,180.89,219,{"$f":"ROUND(AA1340*(1-VLOOKUP(AF1340,Discount[],3,0)),2)","v":180.89},null,105480,"P107"]
[8718528126479,"Artikel",8718528126479,"STUKS","Glas-in-lood-model 6542/6552-1","630 x 2015 set a 2 ruiten","","GLAS","","BINNEN","MODERN","6542","GLAS-IN-LOOD 1","6542/6552","Inventory","",false,"","",0,0,0,"",false,false,false,405.42,491,{"$f":"ROUND(AA1348*(1-VLOOKUP(AF1348,Discount[],3,0)),2)","v":405.42},null,105490,"P107"]
[8718528126578,"Artikel",8718528126578,"STUKS","Glas-in-lood-model 6542/6552-1","780 x 2315 set a 2 ruiten","","GLAS","","BINNEN","MODERN","6542","GLAS-IN-LOOD 1","6542/6552","Inventory","",false,"","",0,0,0,"",false,false,false,405.42,491,{"$f":"ROUND(AA1358*(1-VLOOKUP(AF1358,Discount[],3,0)),2)","v":405.42},null,105490,"P107"]
[8718528077016,"Artikel",8718528077016,"STUKS","Glas-in-lood model 6542/6552-1","830x2015 set a 2 ruiten,d=6 mm","","GLAS","","BINNEN","MODERN","6542","GLAS-IN-LOOD 1","6542/6552","Inventory","",false,"","",0,0,0,"",false,false,false,405.42,491,{"$f":"ROUND(AA1360*(1-VLOOKUP(AF1360,Discount[],3,0)),2)","v":405.42},null,105490,"P107"]
[8718528077092,"Artikel",8718528077092,"STUKS","Glas-in-lood model 6542/6552-1","930x2315 set a 2 ruiten,d=6 mm","","GLAS","","BINNEN","MODERN","6542","GLAS-IN-LOOD 1","6542/6552","Inventory","",false,"","",0,0,0,"",false,false,false,405.42,491,{"$f":"ROUND(AA1368*(1-VLOOKUP(AF1368,Discount[],3,0)),2)","v":405.42},null,105490,"P107"]
[8718528126622,"Artikel",8718528126622,"STUKS","Glas-in-lood-model 6542/6552-2","730 x 2015 set a 2 ruiten","","GLAS","","BINNEN","MODERN","6542","GLAS-IN-LOOD 2","6542/6552","Inventory","",false,"","",0,0,0,"",false,false,false,405.42,491,{"$f":"ROUND(AA1373*(1-VLOOKUP(AF1373,Discount[],3,0)),2)","v":405.42},null,105500,"P107"]
[8718528077115,"Artikel",8718528077115,"STUKS","Glas-in-lood model 6542/6552-2","830x2015 set a 2 ruiten,d=6 mm","","GLAS","","BINNEN","MODERN","6542","GLAS-IN-LOOD 2","6542/6552","Inventory","",false,"","",0,0,0,"",false,false,false,405.42,491,{"$f":"ROUND(AA1381*(1-VLOOKUP(AF1381,Discount[],3,0)),2)","v":405.42},null,105500,"P107"]
[8718528077184,"Artikel",8718528077184,"STUKS","Glas-in-lood model 6542/6552-2","880x2315 set a 2 ruiten,d=6 mm","","GLAS","","BINNEN","MODERN","6542","GLAS-IN-LOOD 2","6542/6552","Inventory","",false,"","",0,0,0,"",false,false,false,405.42,491,{"$f":"ROUND(AA1388*(1-VLOOKUP(AF1388,Discount[],3,0)),2)","v":405.42},null,105500,"P107"]
[8718528126721,"Artikel",8718528126721,"STUKS","Glas-in-lood-model 6542/6552-3","680 x 2115 set a 2 ruiten","","GLAS","","BINNEN","MODERN","6542","GLAS-IN-LOOD 3","6542/6552","Inventory","",false,"","",0,0,0,"",false,false,false,405.42,491,{"$f":"ROUND(AA1393*(1-VLOOKUP(AF1393,Discount[],3,0)),2)","v":405.42},null,105510,"P107"]
[8718528077207,"Artikel",8718528077207,"STUKS","Glas-in-lood model 6542/6552-3","780x2015 set a 2 ruiten,d=6 mm","","GLAS","","BINNEN","MODERN","6542","GLAS-IN-LOOD 3","6542/6552","Inventory","",false,"","",0,0,0,"",false,false,false,405.42,491,{"$f":"ROUND(AA1401*(1-VLOOKUP(AF1401,Discount[],3,0)),2)","v":405.42},null,105510,"P107"]
[8718528077283,"Artikel",8718528077283,"STUKS","Glas-in-lood model 6542/6552-3","880x2315 set a 2 ruiten,d=6 mm","","GLAS","","BINNEN","MODERN","6542","GLAS-IN-LOOD 3","6542/6552","Inventory","",false,"","",0,0,0,"",false,false,false,405.42,491,{"$f":"ROUND(AA1409*(1-VLOOKUP(AF1409,Discount[],3,0)),2)","v":405.42},null,105510,"P107"]
[8718528126837,"Artikel",8718528126837,"STUKS","Glas-in-lood-model 6542/6552-4","680 x 2115 set a 2 ruiten","","GLAS","","BINNEN","MODERN","6542","GLAS-IN-LOOD 4","6542/6552","Inventory","",false,"","",0,0,0,"",false,false,false,405.42,491,{"$f":"ROUND(AA1414*(1-VLOOKUP(AF1414,Discount[],3,0)),2)","v":405.42},null,105520,"P107"]
[8718528126905,"Artikel",8718528126905,"STUKS","Glas-in-lood-model 6542/6552-4","780 x 2315 set a 2 ruiten","","GLAS","","BINNEN","MODERN","6542","GLAS-IN-LOOD 4","6542/6552","Inventory","",false,"","",0,0,0,"",false,false,false,405.42,491,{"$f":"ROUND(AA1421*(1-VLOOKUP(AF1421,Discount[],3,0)),2)","v":405.42},null,105520,"P107"]
[8718528126929,"Artikel",8718528126929,"STUKS","Glas-in-lood-model 6542/6552-5","630 x 2115 set a 2 ruiten","","GLAS","","BINNEN","MODERN","6542","GLAS-IN-LOOD 5","6542/6552","Inventory","",false,"","",0,0,0,"",false,false,false,405.42,491,{"$f":"ROUND(AA1433*(1-VLOOKUP(AF1433,Discount[],3,0)),2)","v":405.42},null,105530,"P107"]
[8718528126936,"Artikel",8718528126936,"STUKS","Glas-in-lood-model 6542/6552-5","680 x 2015 set a 2 ruiten","","GLAS","","BINNEN","MODERN","6542","GLAS-IN-LOOD 5","6542/6552","Inventory","",false,"","",0,0,0,"",false,false,false,405.42,491,{"$f":"ROUND(AA1434*(1-VLOOKUP(AF1434,Discount[],3,0)),2)","v":405.42},null,105530,"P107"]
[8718528077429,"Artikel",8718528077429,"STUKS","Glas-in-lood model 6542/6552-5","830x2115 set a 2 ruiten,d=6 mm","","GLAS","","BINNEN","MODERN","6542","GLAS-IN-LOOD 5","6542/6552","Inventory","",false,"","",0,0,0,"",false,false,false,405.42,491,{"$f":"ROUND(AA1445*(1-VLOOKUP(AF1445,Discount[],3,0)),2)","v":405.42},null,105530,"P107"]
[8718528127025,"Artikel",8718528127025,"STUKS","Glas-in-lood model 6542/6552-6","630 x 2015 set a 2 ruiten","","GLAS","","BINNEN","MODERN","6542","GLAS-IN-LOOD 6","6542/6552","Inventory","",false,"","",0,0,0,"",false,false,false,290.38,351,{"$f":"ROUND(AA1453*(1-VLOOKUP(AF1453,Discount[],3,0)),2)","v":290.38},null,105540,"P107"]
[8718528127032,"Artikel",8718528127032,"STUKS","Glas-in-lood model 6542/6552-6","630 x 2115 set a 2 ruiten","","GLAS","","BINNEN","MODERN","6542","GLAS-IN-LOOD 6","6542/6552","Inventory","",false,"","",0,0,0,"",false,false,false,290.38,351,{"$f":"ROUND(AA1454*(1-VLOOKUP(AF1454,Discount[],3,0)),2)","v":290.38},null,105540,"P107"]
[8718528127117,"Artikel",8718528127117,"STUKS","Glas-in-lood-model 6542/6552-6","730 x 2315 set a 2 ruiten","","GLAS","","BINNEN","MODERN","6542","GLAS-IN-LOOD 6","6542/6552","Inventory","",false,"","",0,0,0,"",false,false,false,290.38,351,{"$f":"ROUND(AA1462*(1-VLOOKUP(AF1462,Discount[],3,0)),2)","v":290.38},null,105540,"P107"]
[8718528033289,"Artikel",8718528033289,"STUKS","Glas-in-lood model 6542/6552-6","880x2115 set a 2 ruiten,d=6 mm","","GLAS","","BINNEN","MODERN","6542","GLAS-IN-LOOD 6","6542/6552","Inventory","",false,"","",0,0,0,"",false,false,false,290.38,351,{"$f":"ROUND(AA1468*(1-VLOOKUP(AF1468,Discount[],3,0)),2)","v":290.38},null,105540,"P107"]
[8718528058268,"Artikel",8718528058268,"STUKS","Krukstel Breeze PVD Gold","","","HENS","BESLAG","","","","KRUKSTEL LIFETIME","BREEZE","Inventory","",false,"","",0,0,0,"",false,false,false,129.75,157,{"$f":"ROUND(AA1474*(1-VLOOKUP(AF1474,Discount[],3,0)),2)","v":129.75},null,105760,"O110"]
[8718528054574,"Artikel",8718528054574,"STUKS","WK6501 C3 stomp","wit 880x2115 slg/vpl","FSC Mix 70% CU-COC 800339","DEUR","BINNEN","BINNEN","MODERN","6501","","","Inventory","",true,"STOMP","",2115,880,38,"",false,false,false,428.1,518,{"$f":"ROUND(AA1486*(1-VLOOKUP(AF1486,Discount[],3,0)),2)","v":428.1},null,106260,"B055"]
[8718528062210,"Artikel",8718528062210,"STUKS","WK6501 C3 stomp","wit 780x2015 slg/vpl","FSC Mix 70% CU-COC 800339","DEUR","BINNEN","BINNEN","MODERN","6501","","","Inventory","",true,"STOMP","",2015,780,38,"",false,false,false,428.1,518,{"$f":"ROUND(AA1494*(1-VLOOKUP(AF1494,Discount[],3,0)),2)","v":428.1},null,106260,"B055"]
[8718528062241,"Artikel",8718528062241,"STUKS","WK6501 C3 stomp","wit 780x2115 slg/vpl","FSC Mix 70% CU-COC 800339","DEUR","BINNEN","BINNEN","MODERN","6501","","","Inventory","",true,"STOMP","",2115,780,38,"",false,false,false,428.1,518,{"$f":"ROUND(AA1495*(1-VLOOKUP(AF1495,Discount[],3,0)),2)","v":428.1},null,106260,"B055"]
[8718528054802,"Artikel",8718528054802,"STUKS","WK6503 C3 stomp","wit 880x2115 slg/vpl","FSC Mix 70% CU-COC 800339","DEUR","BINNEN","BINNEN","MODERN","6503","","","Inventory","",true,"STOMP","",2115,880,38,"",false,false,false,475.21,575,{"$f":"ROUND(AA1507*(1-VLOOKUP(AF1507,Discount[],3,0)),2)","v":475.21},null,106290,"B055"]
[8718528101452,"Artikel",8718528101452,"STUKS","WK6503 XL C3 stomp","wit 730x2315 slg/vpl","FSC Mix 70% CU-COC 800339","DEUR","BINNEN","BINNEN","MODERN","6503","","","Inventory","",true,"STOMP","",2315,730,38,"",false,false,false,475.21,575,{"$f":"ROUND(AA1514*(1-VLOOKUP(AF1514,Discount[],3,0)),2)","v":475.21},null,106290,"B055"]
[8718528056165,"Artikel",8718528056165,"STUKS","WK65011 C stomp","wit 830x2115 slg/vpl","incl. gemonteerd mat gelaagd glas, FSC Mix 70% CU-COC 800339","DEUR","BINNEN","BINNEN","MODERN","65011","MAT GELAAGD","","Inventory","",true,"STOMP","",2115,830,38,"",false,false,false,785.12,950,{"$f":"ROUND(AA1519*(1-VLOOKUP(AF1519,Discount[],3,0)),2)","v":785.12},null,106310,"B055"]
[8718528057261,"Artikel",8718528057261,"STUKS","Mat gelaagd glas tbv 6513","830x2015 set a 4 ruiten","","GLAS","","BINNEN","MODERN","6513","MAT GELAAGD","","Inventory","",false,"","",0,0,0,"",false,false,false,236.71,286,{"$f":"ROUND(AA1527*(1-VLOOKUP(AF1527,Discount[],3,0)),2)","v":236.71},null,106320,"P107"]
[8718528057360,"Artikel",8718528057360,"STUKS","Mat gelaagd glas tbv 6513","930x2115 set a 4 ruiten","","GLAS","","BINNEN","MODERN","6513","MAT GELAAGD","","Inventory","",false,"","",0,0,0,"",false,false,false,236.71,286,{"$f":"ROUND(AA1532*(1-VLOOKUP(AF1532,Discount[],3,0)),2)","v":236.71},null,106320,"P107"]
[8718528128015,"Artikel",8718528128015,"STUKS","Mat gelaagd glas tbv 6572","730 x 2015 set a 2 ruiten","","GLAS","","BINNEN","MODERN","6572","MAT GELAAGD","","Inventory","",false,"","",0,0,0,"",false,false,false,236.71,286,{"$f":"ROUND(AA1539*(1-VLOOKUP(AF1539,Discount[],3,0)),2)","v":236.71},null,106330,"P107"]
[8718528057469,"Artikel",8718528057469,"STUKS","Mat gelaagd glas tbv 6572","830x2015 set a 2 ruiten","","GLAS","","BINNEN","MODERN","6572","MAT GELAAGD","","Inventory","",false,"","",0,0,0,"",false,false,false,236.71,286,{"$f":"ROUND(AA1547*(1-VLOOKUP(AF1547,Discount[],3,0)),2)","v":236.71},null,106330,"P107"]
[8718528057636,"Artikel",8718528057636,"STUKS","Mat gelaagd glas tbv 6572","930x2315 set a 2 ruiten","","GLAS","","BINNEN","MODERN","6572","MAT GELAAGD","","Inventory","",false,"","",0,0,0,"",false,false,false,236.71,286,{"$f":"ROUND(AA1555*(1-VLOOKUP(AF1555,Discount[],3,0)),2)","v":236.71},null,106330,"P107"]
[8718528019481,"Artikel",8718528019481,"STUKS","WK65010 XL C3 opdek rechts","wit 830x2315 slg/vpl","FSC Mix 70% CU-COC 800339","DEUR","BINNEN","BINNEN","MODERN","65010","","","Inventory","",true,"OPDEK","",2315,830,38,"",false,true,false,463.64,561,{"$f":"ROUND(AA1561*(1-VLOOKUP(AF1561,Discount[],3,0)),2)","v":463.64},null,106370,"B055"]
[8718528019597,"Artikel",8718528019597,"STUKS","WK65010 C3 opdek rechts","wit 930x2115 slg/vpl","FSC Mix 70% CU-COC 800339","DEUR","BINNEN","BINNEN","MODERN","65010","","","Inventory","",true,"OPDEK","",2115,930,38,"",false,true,false,463.64,561,{"$f":"ROUND(AA1567*(1-VLOOKUP(AF1567,Discount[],3,0)),2)","v":463.64},null,106370,"B055"]
[8718528118092,"Artikel",8718528118092,"STUKS","WK65010 XL C3 opdek links","wit 730x2315 slg/vpl","FSC Mix 70% CU-COC 800339","DEUR","BINNEN","BINNEN","MODERN","65010","","","Inventory","",true,"OPDEK","",2315,730,38,"",false,true,false,463.64,561,{"$f":"ROUND(AA1572*(1-VLOOKUP(AF1572,Discount[],3,0)),2)","v":463.64},null,106370,"B055"]
[8718528121283,"Artikel",8718528121283,"STUKS","WK65010 XL C3 opdek rechts","wit 730x2315 slg/vpl","FSC Mix 70% CU-COC 800339","DEUR","BINNEN","BINNEN","MODERN","65010","","","Inventory","",true,"OPDEK","",2315,730,38,"",false,true,false,463.64,561,{"$f":"ROUND(AA1580*(1-VLOOKUP(AF1580,Discount[],3,0)),2)","v":463.64},null,106370,"B055"]
[8718528011409,"Artikel",8718528011409,"STUKS","WK6511 A1 opdek links","wit 630x2115 slg/vpl","FSC Mix 70% CU-COC 800339","DEUR","BINNEN","BINNEN","MODERN","6511","","","Inventory","",true,"OPDEK","",2115,630,38,"",false,true,false,335.78,406,{"$f":"ROUND(AA1588*(1-VLOOKUP(AF1588,Discount[],3,0)),2)","v":335.78},null,106380,"B055"]
[8718528011492,"Artikel",8718528011492,"STUKS","WK6511 A1 opdek links","wit 730x2015 slg/vpl","FSC Mix 70% CU-COC 800339","DEUR","BINNEN","BINNEN","MODERN","6511","","","Inventory","",true,"OPDEK","",2015,730,38,"",false,true,false,335.78,406,{"$f":"ROUND(AA1594*(1-VLOOKUP(AF1594,Discount[],3,0)),2)","v":335.78},null,106380,"B055"]
[8718528011584,"Artikel",8718528011584,"STUKS","WK6511 A1 opdek links","wit 780x2015 slg/vpl","FSC Mix 70% CU-COC 800339","DEUR","BINNEN","BINNEN","MODERN","6511","","","Inventory","",true,"OPDEK","",2015,780,38,"",false,true,false,335.78,406,{"$f":"ROUND(AA1600*(1-VLOOKUP(AF1600,Discount[],3,0)),2)","v":335.78},null,106380,"B055"]
[8718528011706,"Artikel",8718528011706,"STUKS","WK6511 A1 opdek links","wit 830x2115 slg/vpl","FSC Mix 70% CU-COC 800339","DEUR","BINNEN","BINNEN","MODERN","6511","","","Inventory","",true,"OPDEK","",2115,830,38,"",false,true,false,335.78,406,{"$f":"ROUND(AA1608*(1-VLOOKUP(AF1608,Discount[],3,0)),2)","v":335.78},null,106380,"B055"]
[8718528011782,"Artikel",8718528011782,"STUKS","WK6511 A1 opdek rechts","wit 880x2115 slg/vpl","FSC Mix 70% CU-COC 800339","DEUR","BINNEN","BINNEN","MODERN","6511","","","Inventory","",true,"OPDEK","",2115,880,38,"",false,true,false,335.78,406,{"$f":"ROUND(AA1613*(1-VLOOKUP(AF1613,Discount[],3,0)),2)","v":335.78},null,106380,"B055"]
[8718528011881,"Artikel",8718528011881,"STUKS","WK6511 XL A1 opdek rechts","wit 930x2315 slg/vpl","FSC Mix 70% CU-COC 800339","DEUR","BINNEN","BINNEN","MODERN","6511","","","Inventory","",true,"OPDEK","",2315,930,38,"",false,true,false,335.78,406,{"$f":"ROUND(AA1619*(1-VLOOKUP(AF1619,Discount[],3,0)),2)","v":335.78},null,106380,"B055"]
[8718528102206,"Artikel",8718528102206,"STUKS","WK6511 XL A1 opdek rechts","wit 680x2315 slg/vpl","FSC Mix 70% CU-COC 800339","DEUR","BINNEN","BINNEN","MODERN","6511","","","Inventory","",true,"OPDEK","",2315,680,38,"",false,true,false,335.78,406,{"$f":"ROUND(AA1625*(1-VLOOKUP(AF1625,Discount[],3,0)),2)","v":335.78},null,106380,"B055"]
[8718528012024,"Artikel",8718528012024,"STUKS","WK6512 A opdek rechts","wit 830x2115 slg/vpl","FSC Mix 70% CU-COC 800339","DEUR","BINNEN","BINNEN","MODERN","6512","","","Inventory","",true,"OPDEK","",2115,830,38,"",false,true,false,380.93,461,{"$f":"ROUND(AA1633*(1-VLOOKUP(AF1633,Discount[],3,0)),2)","v":380.93},null,106390,"B055"]
[8718528012161,"Artikel",8718528012161,"STUKS","WK6512 A opdek rechts","wit 930x2115 slg/vpl","FSC Mix 70% CU-COC 800339","DEUR","BINNEN","BINNEN","MODERN","6512","","","Inventory","",true,"OPDEK","",2115,930,38,"",false,true,false,380.93,461,{"$f":"ROUND(AA1641*(1-VLOOKUP(AF1641,Discount[],3,0)),2)","v":380.93},null,106390,"B055"]
[8718528115817,"Artikel",8718528115817,"STUKS","WK6512 XL A opdek links","wit 630x2315 slg/vpl","FSC Mix 70% CU-COC 800339","DEUR","BINNEN","BINNEN","MODERN","6512","","","Inventory","",true,"OPDEK","",2315,630,38,"",false,true,false,380.93,461,{"$f":"ROUND(AA1646*(1-VLOOKUP(AF1646,Discount[],3,0)),2)","v":380.93},null,106390,"B055"]
[8718528115879,"Artikel",8718528115879,"STUKS","WK6512 XL A opdek links","wit 730x2315 slg/vpl","FSC Mix 70% CU-COC 800339","DEUR","BINNEN","BINNEN","MODERN","6512","","","Inventory","",true,"OPDEK","",2315,730,38,"",false,true,false,380.93,461,{"$f":"ROUND(AA1652*(1-VLOOKUP(AF1652,Discount[],3,0)),2)","v":380.93},null,106390,"B055"]
[8718528118993,"Artikel",8718528118993,"STUKS","WK6512 A opdek rechts","wit 630x2115 slg/vpl","FSC Mix 70% CU-COC 800339","DEUR","BINNEN","BINNEN","MODERN","6512","","","Inventory","",true,"OPDEK","",2115,630,38,"",false,true,false,380.93,461,{"$f":"ROUND(AA1658*(1-VLOOKUP(AF1658,Discount[],3,0)),2)","v":380.93},null,106390,"B055"]
[8718528119075,"Artikel",8718528119075,"STUKS","WK6512 A opdek rechts","wit 780x2115 slg/vpl","FSC Mix 70% CU-COC 800339","DEUR","BINNEN","BINNEN","MODERN","6512","","","Inventory","",true,"OPDEK","",2115,780,38,"",false,true,false,380.93,461,{"$f":"ROUND(AA1666*(1-VLOOKUP(AF1666,Discount[],3,0)),2)","v":380.93},null,106390,"B055"]
[8718528012277,"Artikel",8718528012277,"STUKS","WK6513 A opdek links","wit 680x2015 slg/vpl","FSC Mix 70% CU-COC 800339","DEUR","BINNEN","BINNEN","MODERN","6513","","","Inventory","",true,"OPDEK","",2015,680,38,"",false,true,false,359.47,435,{"$f":"ROUND(AA1674*(1-VLOOKUP(AF1674,Discount[],3,0)),2)","v":359.47},null,106400,"B055"]
[8718528012376,"Artikel",8718528012376,"STUKS","WK6513 A opdek rechts","wit 730x2115 slg/vpl","FSC Mix 70% CU-COC 800339","DEUR","BINNEN","BINNEN","MODERN","6513","","","Inventory","",true,"OPDEK","",2115,730,38,"",false,true,false,359.47,435,{"$f":"ROUND(AA1681*(1-VLOOKUP(AF1681,Discount[],3,0)),2)","v":359.47},null,106400,"B055"]
[8718528012451,"Artikel",8718528012451,"STUKS","WK6513 A opdek links","wit 780x2115 slg/vpl","FSC Mix 70% CU-COC 800339","DEUR","BINNEN","BINNEN","MODERN","6513","","","Inventory","",true,"OPDEK","",2115,780,38,"",false,true,false,359.47,435,{"$f":"ROUND(AA1686*(1-VLOOKUP(AF1686,Discount[],3,0)),2)","v":359.47},null,106400,"B055"]
[8718528012574,"Artikel",8718528012574,"STUKS","WK6513 XL A opdek links","wit 830x2315 slg/vpl","FSC Mix 70% CU-COC 800339","DEUR","BINNEN","BINNEN","MODERN","6513","","","Inventory","",true,"OPDEK","",2315,830,38,"",false,true,false,359.47,435,{"$f":"ROUND(AA1694*(1-VLOOKUP(AF1694,Discount[],3,0)),2)","v":359.47},null,106400,"B055"]
[8718528012659,"Artikel",8718528012659,"STUKS","WK6513 XL A opdek rechts","wit 880x2315 slg/vpl","FSC Mix 70% CU-COC 800339","DEUR","BINNEN","BINNEN","MODERN","6513","","","Inventory","",true,"OPDEK","",2315,880,38,"",false,true,false,359.47,435,{"$f":"ROUND(AA1699*(1-VLOOKUP(AF1699,Discount[],3,0)),2)","v":359.47},null,106400,"B055"]
[8718528115947,"Artikel",8718528115947,"STUKS","WK6513 A opdek links","wit 880x2015 slg/vpl","FSC Mix 70% CU-COC 800339","DEUR","BINNEN","BINNEN","MODERN","6513","","","Inventory","",true,"OPDEK","",2015,880,38,"",false,true,false,359.47,435,{"$f":"ROUND(AA1706*(1-VLOOKUP(AF1706,Discount[],3,0)),2)","v":359.47},null,106400,"B055"]
[8718528119143,"Artikel",8718528119143,"STUKS","WK6513 A opdek rechts","wit 930x2015 slg/vpl","FSC Mix 70% CU-COC 800339","DEUR","BINNEN","BINNEN","MODERN","6513","","","Inventory","",true,"OPDEK","",2015,930,38,"",false,true,false,359.47,435,{"$f":"ROUND(AA1711*(1-VLOOKUP(AF1711,Discount[],3,0)),2)","v":359.47},null,106400,"B055"]
[8718528012840,"Artikel",8718528012840,"STUKS","WK6514 A1 opdek rechts","wit 680x2115 slg/vpl","FSC Mix 70% CU-COC 800339","DEUR","BINNEN","BINNEN","MODERN","6514","","","Inventory","",true,"OPDEK","",2115,680,38,"",false,true,false,403.3,488,{"$f":"ROUND(AA1719*(1-VLOOKUP(AF1719,Discount[],3,0)),2)","v":403.3},null,106410,"B055"]
[8718528012963,"Artikel",8718528012963,"STUKS","WK6514 A1 opdek rechts","wit 780x2015 slg/vpl","FSC Mix 70% CU-COC 800339","DEUR","BINNEN","BINNEN","MODERN","6514","","","Inventory","",true,"OPDEK","",2015,780,38,"",false,true,false,403.3,488,{"$f":"ROUND(AA1727*(1-VLOOKUP(AF1727,Discount[],3,0)),2)","v":403.3},null,106410,"B055"]
[8718528013045,"Artikel",8718528013045,"STUKS","WK6514 A1 opdek links","wit 830x2015 slg/vpl","FSC Mix 70% CU-COC 800339","DEUR","BINNEN","BINNEN","MODERN","6514","","","Inventory","",true,"OPDEK","",2015,830,38,"",false,true,false,403.3,488,{"$f":"ROUND(AA1732*(1-VLOOKUP(AF1732,Discount[],3,0)),2)","v":403.3},null,106410,"B055"]
[8718528013151,"Artikel",8718528013151,"STUKS","WK6514 A1 opdek rechts","wit 880x2115 slg/vpl","FSC Mix 70% CU-COC 800339","DEUR","BINNEN","BINNEN","MODERN","6514","","","Inventory","",true,"OPDEK","",2115,880,38,"",false,true,false,403.3,488,{"$f":"ROUND(AA1739*(1-VLOOKUP(AF1739,Discount[],3,0)),2)","v":403.3},null,106410,"B055"]
[8718528102220,"Artikel",8718528102220,"STUKS","WK6514 XL A1 opdek rechts","wit 680x2315 slg/vpl","FSC Mix 70% CU-COC 800339","DEUR","BINNEN","BINNEN","MODERN","6514","","","Inventory","",true,"OPDEK","",2315,680,38,"",false,true,false,403.3,488,{"$f":"ROUND(AA1751*(1-VLOOKUP(AF1751,Discount[],3,0)),2)","v":403.3},null,106410,"B055"]
[8718528102336,"Artikel",8718528102336,"STUKS","WK6514 XL A1 opdek links","wit 630x2315 slg/vpl","FSC Mix 70% CU-COC 800339","DEUR","BINNEN","BINNEN","MODERN","6514","","","Inventory","",true,"OPDEK","",2315,630,38,"",false,true,false,403.3,488,{"$f":"ROUND(AA1752*(1-VLOOKUP(AF1752,Discount[],3,0)),2)","v":403.3},null,106410,"B055"]
[8718528013366,"Artikel",8718528013366,"STUKS","WK6521 A1 opdek links","wit 680x2115 slg/vpl","FSC Mix 70% CU-COC 800339","DEUR","BINNEN","BINNEN","MODERN","6521","","","Inventory","",true,"OPDEK","",2115,680,38,"",false,true,false,361.68,438,{"$f":"ROUND(AA1760*(1-VLOOKUP(AF1760,Discount[],3,0)),2)","v":361.68},null,106430,"B055"]
[8718528013489,"Artikel",8718528013489,"STUKS","WK6521 A1 opdek links","wit 780x2015 slg/vpl","FSC Mix 70% CU-COC 800339","DEUR","BINNEN","BINNEN","MODERN","6521","","","Inventory","",true,"OPDEK","",2015,780,38,"",false,true,false,361.68,438,{"$f":"ROUND(AA1768*(1-VLOOKUP(AF1768,Discount[],3,0)),2)","v":361.68},null,106430,"B055"]
[8718528013540,"Artikel",8718528013540,"STUKS","WK6521 XL A1 opdek links","wit 780x2315 slg/vpl","FSC Mix 70% CU-COC 800339","DEUR","BINNEN","BINNEN","MODERN","6521","","","Inventory","",true,"OPDEK","",2315,780,38,"",false,true,false,361.68,438,{"$f":"ROUND(AA1772*(1-VLOOKUP(AF1772,Discount[],3,0)),2)","v":361.68},null,106430,"B055"]
[8718528013670,"Artikel",8718528013670,"STUKS","WK6521 A1 opdek links","wit 880x2115 slg/vpl","FSC Mix 70% CU-COC 800339","DEUR","BINNEN","BINNEN","MODERN","6521","","","Inventory","",true,"OPDEK","",2115,880,38,"",false,true,false,361.68,438,{"$f":"ROUND(AA1780*(1-VLOOKUP(AF1780,Discount[],3,0)),2)","v":361.68},null,106430,"B055"]
[8718528102237,"Artikel",8718528102237,"STUKS","WK6521 XL A1 opdek rechts","wit 630x2315 slg/vpl","FSC Mix 70% CU-COC 800339","DEUR","BINNEN","BINNEN","MODERN","6521","","","Inventory","",true,"OPDEK","",2315,630,38,"",false,true,false,361.68,438,{"$f":"ROUND(AA1792*(1-VLOOKUP(AF1792,Discount[],3,0)),2)","v":361.68},null,106430,"B055"]
[8718528102244,"Artikel",8718528102244,"STUKS","WK6521 XL A1 opdek rechts","wit 680x2315 slg/vpl","FSC Mix 70% CU-COC 800339","DEUR","BINNEN","BINNEN","MODERN","6521","","","Inventory","",true,"OPDEK","",2315,680,38,"",false,true,false,361.68,438,{"$f":"ROUND(AA1793*(1-VLOOKUP(AF1793,Discount[],3,0)),2)","v":361.68},null,106430,"B055"]
[8718528013939,"Artikel",8718528013939,"STUKS","WK6522 A1 opdek links","wit 880x2115 slg/vpl","FSC Mix 70% CU-COC 800339","DEUR","BINNEN","BINNEN","MODERN","6522","","","Inventory","",true,"OPDEK","",2115,880,38,"",false,true,false,394.41,477,{"$f":"ROUND(AA1804*(1-VLOOKUP(AF1804,Discount[],3,0)),2)","v":394.41},null,106440,"B055"]
[8718528116135,"Artikel",8718528116135,"STUKS","WK6522  A1 opdek links","wit 630x2015 slg/vpl","FSC Mix 70% CU-COC 800339","DEUR","BINNEN","BINNEN","MODERN","6522","","","Inventory","",true,"OPDEK","",2015,630,38,"",false,true,false,394.41,477,{"$f":"ROUND(AA1812*(1-VLOOKUP(AF1812,Discount[],3,0)),2)","v":394.41},null,106440,"B055"]
[8718528116142,"Artikel",8718528116142,"STUKS","WK6522  A1 opdek links","wit 630x2115 slg/vpl","FSC Mix 70% CU-COC 800339","DEUR","BINNEN","BINNEN","MODERN","6522","","","Inventory","",true,"OPDEK","",2115,630,38,"",false,true,false,394.41,477,{"$f":"ROUND(AA1813*(1-VLOOKUP(AF1813,Discount[],3,0)),2)","v":394.41},null,106440,"B055"]
[8718528119327,"Artikel",8718528119327,"STUKS","WK6522  A1 opdek rechts","wit 630x2015 slg/vpl","FSC Mix 70% CU-COC 800339","DEUR","BINNEN","BINNEN","MODERN","6522","","","Inventory","",true,"OPDEK","",2015,630,38,"",false,true,false,394.41,477,{"$f":"ROUND(AA1825*(1-VLOOKUP(AF1825,Discount[],3,0)),2)","v":394.41},null,106440,"B055"]
[8718528119396,"Artikel",8718528119396,"STUKS","WK6522  A1 opdek rechts","wit 730x2115 slg/vpl","FSC Mix 70% CU-COC 800339","DEUR","BINNEN","BINNEN","MODERN","6522","","","Inventory","",true,"OPDEK","",2115,730,38,"",false,true,false,394.41,477,{"$f":"ROUND(AA1832*(1-VLOOKUP(AF1832,Discount[],3,0)),2)","v":394.41},null,106440,"B055"]
[8718528119402,"Artikel",8718528119402,"STUKS","WK6522 XL A1 opdek rechts","wit 730x2315 slg/vpl","FSC Mix 70% CU-COC 800339","DEUR","BINNEN","BINNEN","MODERN","6522","","","Inventory","",true,"OPDEK","",2315,730,38,"",false,true,false,394.41,477,{"$f":"ROUND(AA1833*(1-VLOOKUP(AF1833,Discount[],3,0)),2)","v":394.41},null,106440,"B055"]
[8718528014165,"Artikel",8718528014165,"STUKS","WK6531 A1 opdek rechts","wit 780x2015 slg/vpl","FSC Mix 70% CU-COC 800339","DEUR","BINNEN","BINNEN","MODERN","6531","","","Inventory","",true,"OPDEK","",2015,780,38,"",false,true,false,398.84,483,{"$f":"ROUND(AA1845*(1-VLOOKUP(AF1845,Discount[],3,0)),2)","v":398.84},null,106450,"B055"]
[8718528014288,"Artikel",8718528014288,"STUKS","WK6531 A1 opdek rechts","wit 830x2115 slg/vpl","FSC Mix 70% CU-COC 800339","DEUR","BINNEN","BINNEN","MODERN","6531","","","Inventory","",true,"OPDEK","",2115,830,38,"",false,true,false,398.84,483,{"$f":"ROUND(AA1853*(1-VLOOKUP(AF1853,Discount[],3,0)),2)","v":398.84},null,106450,"B055"]
[8718528014318,"Artikel",8718528014318,"STUKS","WK6531 XL A1 opdek rechts","wit 830x2315 slg/vpl","FSC Mix 70% CU-COC 800339","DEUR","BINNEN","BINNEN","MODERN","6531","","","Inventory","",true,"OPDEK","",2315,830,38,"",false,true,false,398.84,483,{"$f":"ROUND(AA1855*(1-VLOOKUP(AF1855,Discount[],3,0)),2)","v":398.84},null,106450,"B055"]
[8718528056547,"Artikel",8718528056547,"STUKS","WK6531 A1 opdek rechts","wit 630x2015 slg/vpl","FSC Mix 70% CU-COC 800339","DEUR","BINNEN","BINNEN","MODERN","6531","","","Inventory","",true,"OPDEK","",2015,630,38,"",false,true,false,398.84,483,{"$f":"ROUND(AA1865*(1-VLOOKUP(AF1865,Discount[],3,0)),2)","v":398.84},null,106450,"B055"]
[8718528116272,"Artikel",8718528116272,"STUKS","WK6531 XL A1 opdek links","wit 680x2315 slg/vpl","FSC Mix 70% CU-COC 800339","DEUR","BINNEN","BINNEN","MODERN","6531","","","Inventory","",true,"OPDEK","",2315,680,38,"",false,true,false,398.84,483,{"$f":"ROUND(AA1873*(1-VLOOKUP(AF1873,Discount[],3,0)),2)","v":398.84},null,106450,"B055"]
[8718528119471,"Artikel",8718528119471,"STUKS","WK6531  A1 opdek rechts","wit 880x2015 slg/vpl","FSC Mix 70% CU-COC 800339","DEUR","BINNEN","BINNEN","MODERN","6531","","","Inventory","",true,"OPDEK","",2015,880,38,"",false,true,false,398.84,483,{"$f":"ROUND(AA1878*(1-VLOOKUP(AF1878,Discount[],3,0)),2)","v":398.84},null,106450,"B055"]
[8718528014561,"Artikel",8718528014561,"STUKS","WK6532 XL A1 opdek links","wit 830x2315 slg/vpl","FSC Mix 70% CU-COC 800339","DEUR","BINNEN","BINNEN","MODERN","6532","","","Inventory","",true,"OPDEK","",2315,830,38,"",false,true,false,407.89,494,{"$f":"ROUND(AA1886*(1-VLOOKUP(AF1886,Discount[],3,0)),2)","v":407.89},null,106460,"B055"]
[8718528014608,"Artikel",8718528014608,"STUKS","WK6532 A1 opdek links","wit 880x2115 slg/vpl","FSC Mix 70% CU-COC 800339","DEUR","BINNEN","BINNEN","MODERN","6532","","","Inventory","",true,"OPDEK","",2115,880,38,"",false,true,false,407.89,494,{"$f":"ROUND(AA1888*(1-VLOOKUP(AF1888,Discount[],3,0)),2)","v":407.89},null,106460,"B055"]
[8718528116326,"Artikel",8718528116326,"STUKS","WK6532 XL A1 opdek links","wit 630x2315 slg/vpl","FSC Mix 70% CU-COC 800339","DEUR","BINNEN","BINNEN","MODERN","6532","","","Inventory","",true,"OPDEK","",2315,630,38,"",false,true,false,407.89,494,{"$f":"ROUND(AA1898*(1-VLOOKUP(AF1898,Discount[],3,0)),2)","v":407.89},null,106460,"B055"]
[8718528116401,"Artikel",8718528116401,"STUKS","WK6532 XL A1 opdek links","wit 780x2315 slg/vpl","FSC Mix 70% CU-COC 800339","DEUR","BINNEN","BINNEN","MODERN","6532","","","Inventory","",true,"OPDEK","",2315,780,38,"",false,true,false,407.89,494,{"$f":"ROUND(AA1906*(1-VLOOKUP(AF1906,Discount[],3,0)),2)","v":407.89},null,106460,"B055"]
[8718528119518,"Artikel",8718528119518,"STUKS","WK6532 XL A1 opdek rechts","wit 630x2315 slg/vpl","FSC Mix 70% CU-COC 800339","DEUR","BINNEN","BINNEN","MODERN","6532","","","Inventory","",true,"OPDEK","",2315,630,38,"",false,true,false,407.89,494,{"$f":"ROUND(AA1911*(1-VLOOKUP(AF1911,Discount[],3,0)),2)","v":407.89},null,106460,"B055"]
[8718528119594,"Artikel",8718528119594,"STUKS","WK6532 XL A1 opdek rechts","wit 780x2315 slg/vpl","FSC Mix 70% CU-COC 800339","DEUR","BINNEN","BINNEN","MODERN","6532","","","Inventory","",true,"OPDEK","",2315,780,38,"",false,true,false,407.89,494,{"$f":"ROUND(AA1919*(1-VLOOKUP(AF1919,Discount[],3,0)),2)","v":407.89},null,106460,"B055"]
[8718528016701,"Artikel",8718528016701,"STUKS","WK6533 A1 opdek links","wit 830x2115 slg/vpl","FSC Mix 70% CU-COC 800339","DEUR","BINNEN","BINNEN","MODERN","6533","","","Inventory","",true,"OPDEK","",2115,830,38,"",false,true,false,385.34,466,{"$f":"ROUND(AA1926*(1-VLOOKUP(AF1926,Discount[],3,0)),2)","v":385.34},null,106470,"B055"]
[8718528016787,"Artikel",8718528016787,"STUKS","WK6533 A1 opdek rechts","wit 880x2115 slg/vpl","FSC Mix 70% CU-COC 800339","DEUR","BINNEN","BINNEN","MODERN","6533","","","Inventory","",true,"OPDEK","",2115,880,38,"",false,true,false,385.34,466,{"$f":"ROUND(AA1931*(1-VLOOKUP(AF1931,Discount[],3,0)),2)","v":385.34},null,106470,"B055"]
[8718528116449,"Artikel",8718528116449,"STUKS","WK6533  A1 opdek links","wit 630x2115 slg/vpl","FSC Mix 70% CU-COC 800339","DEUR","BINNEN","BINNEN","MODERN","6533","","","Inventory","",true,"OPDEK","",2115,630,38,"",false,true,false,385.34,466,{"$f":"ROUND(AA1939*(1-VLOOKUP(AF1939,Discount[],3,0)),2)","v":385.34},null,106470,"B055"]
[8718528116470,"Artikel",8718528116470,"STUKS","WK6533  A1 opdek links","wit 680x2115 slg/vpl","FSC Mix 70% CU-COC 800339","DEUR","BINNEN","BINNEN","MODERN","6533","","","Inventory","",true,"OPDEK","",2115,680,38,"",false,true,false,385.34,466,{"$f":"ROUND(AA1942*(1-VLOOKUP(AF1942,Discount[],3,0)),2)","v":385.34},null,106470,"B055"]
[8718528119624,"Artikel",8718528119624,"STUKS","WK6533  A1 opdek rechts","wit 630x2015 slg/vpl","FSC Mix 70% CU-COC 800339","DEUR","BINNEN","BINNEN","MODERN","6533","","","Inventory","",true,"OPDEK","",2015,630,38,"",false,true,false,385.34,466,{"$f":"ROUND(AA1951*(1-VLOOKUP(AF1951,Discount[],3,0)),2)","v":385.34},null,106470,"B055"]
[8718528119709,"Artikel",8718528119709,"STUKS","WK6533 XL A1 opdek rechts","wit 730x2315 slg/vpl","FSC Mix 70% CU-COC 800339","DEUR","BINNEN","BINNEN","MODERN","6533","","","Inventory","",true,"OPDEK","",2315,730,38,"",false,true,false,385.34,466,{"$f":"ROUND(AA1959*(1-VLOOKUP(AF1959,Discount[],3,0)),2)","v":385.34},null,106470,"B055"]
[8718528014738,"Artikel",8718528014738,"STUKS","WK6541 A1 opdek links","wit 730x2015 slg/vpl","FSC Mix 70% CU-COC 800339","DEUR","BINNEN","BINNEN","MODERN","6541","","","Inventory","",true,"OPDEK","",2015,730,38,"",false,true,false,436,528,{"$f":"ROUND(AA1964*(1-VLOOKUP(AF1964,Discount[],3,0)),2)","v":436},null,106480,"B055"]
[8718528014851,"Artikel",8718528014851,"STUKS","WK6541 A1 opdek links","wit 780x2115 slg/vpl","FSC Mix 70% CU-COC 800339","DEUR","BINNEN","BINNEN","MODERN","6541","","","Inventory","",true,"OPDEK","",2115,780,38,"",false,true,false,436,528,{"$f":"ROUND(AA1972*(1-VLOOKUP(AF1972,Discount[],3,0)),2)","v":436},null,106480,"B055"]
[8718528014981,"Artikel",8718528014981,"STUKS","WK6541 XL A1 opdek rechts","wit 830x2315 slg/vpl","FSC Mix 70% CU-COC 800339","DEUR","BINNEN","BINNEN","MODERN","6541","","","Inventory","",true,"OPDEK","",2315,830,38,"",false,true,false,436,528,{"$f":"ROUND(AA1981*(1-VLOOKUP(AF1981,Discount[],3,0)),2)","v":436},null,106480,"B055"]
[8718528015049,"Artikel",8718528015049,"STUKS","WK6541 XL A1 opdek links","wit 880x2315 slg/vpl","FSC Mix 70% CU-COC 800339","DEUR","BINNEN","BINNEN","MODERN","6541","","","Inventory","",true,"OPDEK","",2315,880,38,"",false,true,false,436,528,{"$f":"ROUND(AA1984*(1-VLOOKUP(AF1984,Discount[],3,0)),2)","v":436},null,106480,"B055"]
[8718528116586,"Artikel",8718528116586,"STUKS","WK6541 XL A1 opdek links","wit 630x2315 slg/vpl","FSC Mix 70% CU-COC 800339","DEUR","BINNEN","BINNEN","MODERN","6541","","","Inventory","",true,"OPDEK","",2315,630,38,"",false,true,false,436,528,{"$f":"ROUND(AA1992*(1-VLOOKUP(AF1992,Discount[],3,0)),2)","v":436},null,106480,"B055"]
[8718528116630,"Artikel",8718528116630,"STUKS","WK6541  A1 opdek links","wit 930x2015 slg/vpl","FSC Mix 70% CU-COC 800339","DEUR","BINNEN","BINNEN","MODERN","6541","","","Inventory","",true,"OPDEK","",2015,930,38,"",false,true,false,436,528,{"$f":"ROUND(AA1997*(1-VLOOKUP(AF1997,Discount[],3,0)),2)","v":436},null,106480,"B055"]
[8718528015148,"Artikel",8718528015148,"STUKS","WK6542 A1 opdek links","wit 780x2015 slg/vpl","FSC Mix 70% CU-COC 800339","DEUR","BINNEN","BINNEN","MODERN","6542","","","Inventory","",true,"OPDEK","",2015,780,38,"",false,true,false,419.15,507,{"$f":"ROUND(AA2006*(1-VLOOKUP(AF2006,Discount[],3,0)),2)","v":419.15},null,106490,"B055"]
[8718528015230,"Artikel",8718528015230,"STUKS","WK6542 XL A1 opdek links","wit 830x2315 slg/vpl","FSC Mix 70% CU-COC 800339","DEUR","BINNEN","BINNEN","MODERN","6542","","","Inventory","",true,"OPDEK","",2315,830,38,"",false,true,false,419.15,507,{"$f":"ROUND(AA2012*(1-VLOOKUP(AF2012,Discount[],3,0)),2)","v":419.15},null,106490,"B055"]
[8718528015315,"Artikel",8718528015315,"STUKS","WK6542 XL A1 opdek rechts","wit 880x2315 slg/vpl","FSC Mix 70% CU-COC 800339","DEUR","BINNEN","BINNEN","MODERN","6542","","","Inventory","",true,"OPDEK","",2315,880,38,"",false,true,false,419.15,507,{"$f":"ROUND(AA2017*(1-VLOOKUP(AF2017,Discount[],3,0)),2)","v":419.15},null,106490,"B055"]
[8718528116678,"Artikel",8718528116678,"STUKS","WK6542  A1 opdek links","wit 680x2015 slg/vpl","FSC Mix 70% CU-COC 800339","DEUR","BINNEN","BINNEN","MODERN","6542","","","Inventory","",true,"OPDEK","",2015,680,38,"",false,true,false,419.15,507,{"$f":"ROUND(AA2025*(1-VLOOKUP(AF2025,Discount[],3,0)),2)","v":419.15},null,106490,"B055"]
[8718528119839,"Artikel",8718528119839,"STUKS","WK6542  A1 opdek rechts","wit 630x2015 slg/vpl","FSC Mix 70% CU-COC 800339","DEUR","BINNEN","BINNEN","MODERN","6542","","","Inventory","",true,"OPDEK","",2015,630,38,"",false,true,false,419.15,507,{"$f":"ROUND(AA2035*(1-VLOOKUP(AF2035,Discount[],3,0)),2)","v":419.15},null,106490,"B055"]
[8718528119853,"Artikel",8718528119853,"STUKS","WK6542 XL A1 opdek rechts","wit 630x2315 slg/vpl","FSC Mix 70% CU-COC 800339","DEUR","BINNEN","BINNEN","MODERN","6542","","","Inventory","",true,"OPDEK","",2315,630,38,"",false,true,false,419.15,507,{"$f":"ROUND(AA2037*(1-VLOOKUP(AF2037,Discount[],3,0)),2)","v":419.15},null,106490,"B055"]
[8718528119938,"Artikel",8718528119938,"STUKS","WK6542 XL A1 opdek rechts","wit 780x2315 slg/vpl","FSC Mix 70% CU-COC 800339","DEUR","BINNEN","BINNEN","MODERN","6542","","","Inventory","",true,"OPDEK","",2315,780,38,"",false,true,false,419.15,507,{"$f":"ROUND(AA2045*(1-VLOOKUP(AF2045,Discount[],3,0)),2)","v":419.15},null,106490,"B055"]
[8718528015438,"Artikel",8718528015438,"STUKS","WK6551 A1 opdek links","wit 730x2115 slg/vpl","FSC Mix 70% CU-COC 800339","DEUR","BINNEN","BINNEN","MODERN","6551","","","Inventory","",true,"OPDEK","",2115,730,38,"",false,true,false,398.84,483,{"$f":"ROUND(AA2050*(1-VLOOKUP(AF2050,Discount[],3,0)),2)","v":398.84},null,106500,"B055"]
[8718528015551,"Artikel",8718528015551,"STUKS","WK6551 XL A1 opdek links","wit 780x2315 slg/vpl","FSC Mix 70% CU-COC 800339","DEUR","BINNEN","BINNEN","MODERN","6551","","","Inventory","",true,"OPDEK","",2315,780,38,"",false,true,false,398.84,483,{"$f":"ROUND(AA2058*(1-VLOOKUP(AF2058,Discount[],3,0)),2)","v":398.84},null,106500,"B055"]
[8718528015643,"Artikel",8718528015643,"STUKS","WK6551 XL A1 opdek links","wit 830x2315 slg/vpl","FSC Mix 70% CU-COC 800339","DEUR","BINNEN","BINNEN","MODERN","6551","","","Inventory","",true,"OPDEK","",2315,830,38,"",false,true,false,398.84,483,{"$f":"ROUND(AA2064*(1-VLOOKUP(AF2064,Discount[],3,0)),2)","v":398.84},null,106500,"B055"]
[8718528015759,"Artikel",8718528015759,"STUKS","WK6551 A1 opdek links","wit 930x2115 slg/vpl","FSC Mix 70% CU-COC 800339","DEUR","BINNEN","BINNEN","MODERN","6551","","","Inventory","",true,"OPDEK","",2115,930,38,"",false,true,false,398.84,483,{"$f":"ROUND(AA2070*(1-VLOOKUP(AF2070,Discount[],3,0)),2)","v":398.84},null,106500,"B055"]
[8718528116814,"Artikel",8718528116814,"STUKS","WK6551  A1 opdek links","wit 680x2115 slg/vpl","FSC Mix 70% CU-COC 800339","DEUR","BINNEN","BINNEN","MODERN","6551","","","Inventory","",true,"OPDEK","",2115,680,38,"",false,true,false,398.84,483,{"$f":"ROUND(AA2078*(1-VLOOKUP(AF2078,Discount[],3,0)),2)","v":398.84},null,106500,"B055"]
[8718528015810,"Artikel",8718528015810,"STUKS","WK6552 A1 opdek links","wit 780x2015 slg/vpl","FSC Mix 70% CU-COC 800339","DEUR","BINNEN","BINNEN","MODERN","6552","","","Inventory","",true,"OPDEK","",2015,780,38,"",false,true,false,371.84,450,{"$f":"ROUND(AA2090*(1-VLOOKUP(AF2090,Discount[],3,0)),2)","v":371.84},null,106510,"B055"]
[8718528015858,"Artikel",8718528015858,"STUKS","WK6552 A1 opdek rechts","wit 830x2015 slg/vpl","FSC Mix 70% CU-COC 800339","DEUR","BINNEN","BINNEN","MODERN","6552","","","Inventory","",true,"OPDEK","",2015,830,38,"",false,true,false,371.84,450,{"$f":"ROUND(AA2093*(1-VLOOKUP(AF2093,Discount[],3,0)),2)","v":371.84},null,106510,"B055"]
[8718528015940,"Artikel",8718528015940,"STUKS","WK6552 A1 opdek links","wit 880x2115 slg/vpl","FSC Mix 70% CU-COC 800339","DEUR","BINNEN","BINNEN","MODERN","6552","","","Inventory","",true,"OPDEK","",2115,880,38,"",false,true,false,371.84,450,{"$f":"ROUND(AA2098*(1-VLOOKUP(AF2098,Discount[],3,0)),2)","v":371.84},null,106510,"B055"]
[8718528116890,"Artikel",8718528116890,"STUKS","WK6552  A1 opdek links","wit 680x2115 slg/vpl","FSC Mix 70% CU-COC 800339","DEUR","BINNEN","BINNEN","MODERN","6552","","","Inventory","",true,"OPDEK","",2115,680,38,"",false,true,false,371.84,450,{"$f":"ROUND(AA2110*(1-VLOOKUP(AF2110,Discount[],3,0)),2)","v":371.84},null,106510,"B055"]
[8718528116906,"Artikel",8718528116906,"STUKS","WK6552 XL A1 opdek links","wit 680x2315 slg/vpl","FSC Mix 70% CU-COC 800339","DEUR","BINNEN","BINNEN","MODERN","6552","","","Inventory","",true,"OPDEK","",2315,680,38,"",false,true,false,371.84,450,{"$f":"ROUND(AA2111*(1-VLOOKUP(AF2111,Discount[],3,0)),2)","v":371.84},null,106510,"B055"]
[8718528120071,"Artikel",8718528120071,"STUKS","WK6552  A1 opdek rechts","wit 680x2015 slg/vpl","FSC Mix 70% CU-COC 800339","DEUR","BINNEN","BINNEN","MODERN","6552","","","Inventory","",true,"OPDEK","",2015,680,38,"",false,true,false,371.84,450,{"$f":"ROUND(AA2122*(1-VLOOKUP(AF2122,Discount[],3,0)),2)","v":371.84},null,106510,"B055"]
[8718528120156,"Artikel",8718528120156,"STUKS","WK6552  A1 opdek rechts","wit 880x2015 slg/vpl","FSC Mix 70% CU-COC 800339","DEUR","BINNEN","BINNEN","MODERN","6552","","","Inventory","",true,"OPDEK","",2015,880,38,"",false,true,false,371.84,450,{"$f":"ROUND(AA2130*(1-VLOOKUP(AF2130,Discount[],3,0)),2)","v":371.84},null,106510,"B055"]
[8718528120163,"Artikel",8718528120163,"STUKS","WK6552  A1 opdek rechts","wit 930x2015 slg/vpl","FSC Mix 70% CU-COC 800339","DEUR","BINNEN","BINNEN","MODERN","6552","","","Inventory","",true,"OPDEK","",2015,930,38,"",false,true,false,371.84,450,{"$f":"ROUND(AA2131*(1-VLOOKUP(AF2131,Discount[],3,0)),2)","v":371.84},null,106510,"B055"]
[8718528016299,"Artikel",8718528016299,"STUKS","WK6562 XL A1 opdek rechts","wit 880x2315 slg/vpl","FSC Mix 70% CU-COC 800339","DEUR","BINNEN","BINNEN","MODERN","6562","","","Inventory","",true,"OPDEK","",2315,880,38,"",false,true,false,416.96,505,{"$f":"ROUND(AA2143*(1-VLOOKUP(AF2143,Discount[],3,0)),2)","v":416.96},null,106520,"B055"]
[8718528117019,"Artikel",8718528117019,"STUKS","WK6562  A1 opdek links","wit 680x2015 slg/vpl","FSC Mix 70% CU-COC 800339","DEUR","BINNEN","BINNEN","MODERN","6562","","","Inventory","",true,"OPDEK","",2015,680,38,"",false,true,false,416.96,505,{"$f":"ROUND(AA2151*(1-VLOOKUP(AF2151,Discount[],3,0)),2)","v":416.96},null,106520,"B055"]
[8718528117071,"Artikel",8718528117071,"STUKS","WK6562  A1 opdek links","wit 780x2115 slg/vpl","FSC Mix 70% CU-COC 800339","DEUR","BINNEN","BINNEN","MODERN","6562","","","Inventory","",true,"OPDEK","",2115,780,38,"",false,true,false,416.96,505,{"$f":"ROUND(AA2157*(1-VLOOKUP(AF2157,Discount[],3,0)),2)","v":416.96},null,106520,"B055"]
[8718528120194,"Artikel",8718528120194,"STUKS","WK6562 XL A1 opdek rechts","wit 630x2315 slg/vpl","FSC Mix 70% CU-COC 800339","DEUR","BINNEN","BINNEN","MODERN","6562","","","Inventory","",true,"OPDEK","",2315,630,38,"",false,true,false,416.96,505,{"$f":"ROUND(AA2163*(1-VLOOKUP(AF2163,Discount[],3,0)),2)","v":416.96},null,106520,"B055"]
[8718528120279,"Artikel",8718528120279,"STUKS","WK6562 XL A1 opdek rechts","wit 780x2315 slg/vpl","FSC Mix 70% CU-COC 800339","DEUR","BINNEN","BINNEN","MODERN","6562","","","Inventory","",true,"OPDEK","",2315,780,38,"",false,true,false,416.96,505,{"$f":"ROUND(AA2171*(1-VLOOKUP(AF2171,Discount[],3,0)),2)","v":416.96},null,106520,"B055"]
[8718528016930,"Artikel",8718528016930,"STUKS","WK6571 A1 opdek links","wit 730x2115 slg/vpl","FSC Mix 70% CU-COC 800339","DEUR","BINNEN","BINNEN","MODERN","6571","","","Inventory","",true,"OPDEK","",2115,730,38,"",false,true,false,372.94,451,{"$f":"ROUND(AA2176*(1-VLOOKUP(AF2176,Discount[],3,0)),2)","v":372.94},null,106530,"B055"]
[8718528016992,"Artikel",8718528016992,"STUKS","WK6571 A1 opdek links","wit 780x2015 slg/vpl","FSC Mix 70% CU-COC 800339","DEUR","BINNEN","BINNEN","MODERN","6571","","","Inventory","",true,"OPDEK","",2015,780,38,"",false,true,false,372.94,451,{"$f":"ROUND(AA2180*(1-VLOOKUP(AF2180,Discount[],3,0)),2)","v":372.94},null,106530,"B055"]
[8718528017159,"Artikel",8718528017159,"STUKS","WK6571 XL A1 opdek rechts","wit 830x2315 slg/vpl","FSC Mix 70% CU-COC 800339","DEUR","BINNEN","BINNEN","MODERN","6571","","","Inventory","",true,"OPDEK","",2315,830,38,"",false,true,false,372.94,451,{"$f":"ROUND(AA2191*(1-VLOOKUP(AF2191,Discount[],3,0)),2)","v":372.94},null,106530,"B055"]
[8718528017258,"Artikel",8718528017258,"STUKS","WK6571 A1 opdek links","wit 930x2115 slg/vpl","FSC Mix 70% CU-COC 800339","DEUR","BINNEN","BINNEN","MODERN","6571","","","Inventory","",true,"OPDEK","",2115,930,38,"",false,true,false,372.94,451,{"$f":"ROUND(AA2196*(1-VLOOKUP(AF2196,Discount[],3,0)),2)","v":372.94},null,106530,"B055"]
[8718528117156,"Artikel",8718528117156,"STUKS","WK6571  A1 opdek links","wit 680x2115 slg/vpl","FSC Mix 70% CU-COC 800339","DEUR","BINNEN","BINNEN","MODERN","6571","","","Inventory","",true,"OPDEK","",2115,680,38,"",false,true,false,372.94,451,{"$f":"ROUND(AA2204*(1-VLOOKUP(AF2204,Discount[],3,0)),2)","v":372.94},null,106530,"B055"]
[8718528120347,"Artikel",8718528120347,"STUKS","WK6571  A1 opdek rechts","wit 680x2115 slg/vpl","FSC Mix 70% CU-COC 800339","DEUR","BINNEN","BINNEN","MODERN","6571","","","Inventory","",true,"OPDEK","",2115,680,38,"",false,true,false,372.94,451,{"$f":"ROUND(AA2212*(1-VLOOKUP(AF2212,Discount[],3,0)),2)","v":372.94},null,106530,"B055"]
[8718528120354,"Artikel",8718528120354,"STUKS","WK6571 XL A1 opdek rechts","wit 680x2315 slg/vpl","FSC Mix 70% CU-COC 800339","DEUR","BINNEN","BINNEN","MODERN","6571","","","Inventory","",true,"OPDEK","",2315,680,38,"",false,true,false,372.94,451,{"$f":"ROUND(AA2213*(1-VLOOKUP(AF2213,Discount[],3,0)),2)","v":372.94},null,106530,"B055"]
[8718528017449,"Artikel",8718528017449,"STUKS","WK6572 A opdek links","wit 880x2115 slg/vpl","FSC Mix 70% CU-COC 800339","DEUR","BINNEN","BINNEN","MODERN","6572","","","Inventory","",true,"OPDEK","",2115,880,38,"",false,true,false,335.81,406,{"$f":"ROUND(AA2224*(1-VLOOKUP(AF2224,Discount[],3,0)),2)","v":335.81},null,106540,"B055"]
[8718528017524,"Artikel",8718528017524,"STUKS","WK6572 A opdek rechts","wit 930x2115 slg/vpl","FSC Mix 70% CU-COC 800339","DEUR","BINNEN","BINNEN","MODERN","6572","","","Inventory","",true,"OPDEK","",2115,930,38,"",false,true,false,335.81,406,{"$f":"ROUND(AA2229*(1-VLOOKUP(AF2229,Discount[],3,0)),2)","v":335.81},null,106540,"B055"]
[8718528117248,"Artikel",8718528117248,"STUKS","WK6572 XL A opdek links","wit 680x2315 slg/vpl","FSC Mix 70% CU-COC 800339","DEUR","BINNEN","BINNEN","MODERN","6572","","","Inventory","",true,"OPDEK","",2315,680,38,"",false,true,false,335.81,406,{"$f":"ROUND(AA2237*(1-VLOOKUP(AF2237,Discount[],3,0)),2)","v":335.81},null,106540,"B055"]
[8718528117316,"Artikel",8718528117316,"STUKS","WK6572 A opdek links","wit 930x2015 slg/vpl","FSC Mix 70% CU-COC 800339","DEUR","BINNEN","BINNEN","MODERN","6572","","","Inventory","",true,"OPDEK","",2015,930,38,"",false,true,false,335.81,406,{"$f":"ROUND(AA2244*(1-VLOOKUP(AF2244,Discount[],3,0)),2)","v":335.81},null,106540,"B055"]
[8718528120422,"Artikel",8718528120422,"STUKS","WK6572 A opdek rechts","wit 680x2115 slg/vpl","FSC Mix 70% CU-COC 800339","DEUR","BINNEN","BINNEN","MODERN","6572","","","Inventory","",true,"OPDEK","",2115,680,38,"",false,true,false,335.81,406,{"$f":"ROUND(AA2249*(1-VLOOKUP(AF2249,Discount[],3,0)),2)","v":335.81},null,106540,"B055"]
[8718528120507,"Artikel",8718528120507,"STUKS","WK6572 A opdek rechts","wit 930x2015 slg/vpl","FSC Mix 70% CU-COC 800339","DEUR","BINNEN","BINNEN","MODERN","6572","","","Inventory","",true,"OPDEK","",2015,930,38,"",false,true,false,335.81,406,{"$f":"ROUND(AA2257*(1-VLOOKUP(AF2257,Discount[],3,0)),2)","v":335.81},null,106540,"B055"]
[8718528054543,"Artikel",8718528054543,"STUKS","WK6501 XL C3 opdek links","wit 830x2315 slg/vpl","FSC Mix 70% CU-COC 800339","DEUR","BINNEN","BINNEN","MODERN","6501","","","Inventory","",true,"OPDEK","",2315,830,38,"",false,true,false,440.5,533,{"$f":"ROUND(AA2262*(1-VLOOKUP(AF2262,Discount[],3,0)),2)","v":440.5},null,106550,"B055"]
[8718528054628,"Artikel",8718528054628,"STUKS","WK6501 XL C3 opdek rechts","wit 880x2315 slg/vpl","FSC Mix 70% CU-COC 800339","DEUR","BINNEN","BINNEN","MODERN","6501","","","Inventory","",true,"OPDEK","",2315,880,38,"",false,true,false,440.5,533,{"$f":"ROUND(AA2267*(1-VLOOKUP(AF2267,Discount[],3,0)),2)","v":440.5},null,106550,"B055"]
[8718528062203,"Artikel",8718528062203,"STUKS","WK6501 XL C3 opdek rechts","wit 730x2315 slg/vpl","FSC Mix 70% CU-COC 800339","DEUR","BINNEN","BINNEN","MODERN","6501","","","Inventory","",true,"OPDEK","",2315,730,38,"",false,true,false,440.5,533,{"$f":"ROUND(AA2277*(1-VLOOKUP(AF2277,Discount[],3,0)),2)","v":440.5},null,106550,"B055"]
[8718528062289,"Artikel",8718528062289,"STUKS","WK6501 XL C3 opdek links","wit 780x2315 slg/vpl","FSC Mix 70% CU-COC 800339","DEUR","BINNEN","BINNEN","MODERN","6501","","","Inventory","",true,"OPDEK","",2315,780,38,"",false,true,false,440.5,533,{"$f":"ROUND(AA2282*(1-VLOOKUP(AF2282,Discount[],3,0)),2)","v":440.5},null,106550,"B055"]
[8718528102275,"Artikel",8718528102275,"STUKS","WK6501 XL C3 opdek rechts","wit 630x2315 slg/vpl","FSC Mix 70% CU-COC 800339","DEUR","BINNEN","BINNEN","MODERN","6501","","","Inventory","",true,"OPDEK","",2315,630,38,"",false,true,false,440.5,533,{"$f":"ROUND(AA2290*(1-VLOOKUP(AF2290,Discount[],3,0)),2)","v":440.5},null,106550,"B055"]
[8718528102411,"Artikel",8718528102411,"STUKS","WK6501 C3 opdek links","wit 680x2115 slg/vpl","FSC Mix 70% CU-COC 800339","DEUR","BINNEN","BINNEN","MODERN","6501","","","Inventory","",true,"OPDEK","",2115,680,38,"",false,true,false,440.5,533,{"$f":"ROUND(AA2298*(1-VLOOKUP(AF2298,Discount[],3,0)),2)","v":440.5},null,106550,"B055"]
[8718528055601,"Artikel",8718528055601,"STUKS","WK6502 C opdek links","wit 930x2115 slg/vpl","incl.gem. mat glas+held.bies, FSC Mix 70% CU-COC 800339","DEUR","BINNEN","BINNEN","MODERN","6502","MAT + HELDERE BANEN","","Inventory","",true,"OPDEK","",2115,930,38,"",false,true,false,799.18,967,{"$f":"ROUND(AA2306*(1-VLOOKUP(AF2306,Discount[],3,0)),2)","v":799.18},null,106560,"B055"]
[8718528056783,"Artikel",8718528056783,"STUKS","WK6502 C opdek rechts","wit  830x2015 slg/vpl","incl. gemonteerd mat gelaagd glas, FSC Mix 70% CU-COC 800339","DEUR","BINNEN","BINNEN","MODERN","6502","MAT GELAAGD","","Inventory","",true,"OPDEK","",2015,830,38,"",false,true,false,642.15,777,{"$f":"ROUND(AA2310*(1-VLOOKUP(AF2310,Discount[],3,0)),2)","v":642.15},null,106570,"B055"]
[8718528121351,"Artikel",8718528121351,"STUKS","WK6502 C3 opdek rechts","wit 880x2015 slg/vpl","incl. gemonteerd mat gelaagd glas, FSC Mix 70% CU-COC 800339","DEUR","BINNEN","BINNEN","MODERN","6502","MAT GELAAGD","","Inventory","",true,"OPDEK","",2015,880,38,"",false,true,false,642.15,777,{"$f":"ROUND(AA2315*(1-VLOOKUP(AF2315,Discount[],3,0)),2)","v":642.15},null,106570,"B055"]
[8718528054826,"Artikel",8718528054826,"STUKS","WK6503 C3 opdek rechts","wit 880x2115 slg/vpl","FSC Mix 70% CU-COC 800339","DEUR","BINNEN","BINNEN","MODERN","6503","","","Inventory","",true,"OPDEK","",2115,880,38,"",false,true,false,487.61,590,{"$f":"ROUND(AA2323*(1-VLOOKUP(AF2323,Discount[],3,0)),2)","v":487.61},null,106580,"B055"]
[8718528118009,"Artikel",8718528118009,"STUKS","WK6503  C3 opdek links","wit 730x2115 slg/vpl","FSC Mix 70% CU-COC 800339","DEUR","BINNEN","BINNEN","MODERN","6503","","","Inventory","",true,"OPDEK","",2115,730,38,"",false,true,false,487.61,590,{"$f":"ROUND(AA2331*(1-VLOOKUP(AF2331,Discount[],3,0)),2)","v":487.61},null,106580,"B055"]
[8718528118047,"Artikel",8718528118047,"STUKS","WK6503 XLC3 opdek links","wit 780x2315 slg/vpl","FSC Mix 70% CU-COC 800339","DEUR","BINNEN","BINNEN","MODERN","6503","","","Inventory","",true,"OPDEK","",2315,780,38,"",false,true,false,487.61,590,{"$f":"ROUND(AA2335*(1-VLOOKUP(AF2335,Discount[],3,0)),2)","v":487.61},null,106580,"B055"]
[8718528121238,"Artikel",8718528121238,"STUKS","WK6503 XL C3 opdek rechts","wit 780x2315 slg/vpl","FSC Mix 70% CU-COC 800339","DEUR","BINNEN","BINNEN","MODERN","6503","","","Inventory","",true,"OPDEK","",2315,780,38,"",false,true,false,487.61,590,{"$f":"ROUND(AA2343*(1-VLOOKUP(AF2343,Discount[],3,0)),2)","v":487.61},null,106580,"B055"]
[8718528056189,"Artikel",8718528056189,"STUKS","WK65011 C opdek links","wit 830x2115 slg/vpl","incl. gemonteerd mat gelaagd glas, FSC Mix 70% CU-COC 800339","DEUR","BINNEN","BINNEN","MODERN","65011","MAT GELAAGD","","Inventory","",true,"OPDEK","",2115,830,38,"",false,true,false,797.52,965,{"$f":"ROUND(AA2348*(1-VLOOKUP(AF2348,Discount[],3,0)),2)","v":797.52},null,106600,"B055"]
[8718528121436,"Artikel",8718528121436,"STUKS","WK65011 XL C opdek rechts","wit 830x2315 slg/vpl","incl. gemonteerd mat gelaagd glas, FSC Mix 70% CU-COC 800339","DEUR","BINNEN","BINNEN","MODERN","65011","MAT GELAAGD","","Inventory","",true,"OPDEK","",2315,830,38,"",false,true,false,797.52,965,{"$f":"ROUND(AA2360*(1-VLOOKUP(AF2360,Discount[],3,0)),2)","v":797.52},null,106600,"B055"]
[8718528126004,"Artikel",8718528126004,"STUKS","Glas-in-lood model 6533/6582-3","630 x 2015 1 ruit","","GLAS","","BINNEN","MODERN","6533","GLAS-IN-LOOD 3","6533/6582","Inventory","",false,"","",0,0,0,"",false,false,false,180.89,219,{"$f":"ROUND(AA2363*(1-VLOOKUP(AF2363,Discount[],3,0)),2)","v":180.89},null,107370,"P107"]
[8718528126059,"Artikel",8718528126059,"STUKS","Glas-in-lood model 6533/6582-3","730 x 2115 1 ruit","","GLAS","","BINNEN","MODERN","6533","GLAS-IN-LOOD 3","6533/6582","Inventory","",false,"","",0,0,0,"",false,false,false,180.89,219,{"$f":"ROUND(AA2368*(1-VLOOKUP(AF2368,Discount[],3,0)),2)","v":180.89},null,107370,"P107"]
[8718528057155,"Artikel",8718528057155,"STUKS","Glas-in-lood model 6533/6582-3","830x2115 1 ruit,d=6 mm","","GLAS","","BINNEN","MODERN","6533","GLAS-IN-LOOD 3","6533/6582","Inventory","",false,"","",0,0,0,"",false,false,false,180.89,219,{"$f":"ROUND(AA2376*(1-VLOOKUP(AF2376,Discount[],3,0)),2)","v":180.89},null,107370,"P107"]
[8718528233009,"Artikel",8718528233009,"PAAR","Krukstel Hydro (50mm)","Life Time Bronze (PVD)","","HENS","BESLAG","","","","KRUKSTEL LIFETIME","HYDRO","Inventory","",false,"","",0,0,0,"",false,false,false,128.93,156,{"$f":"ROUND(AA2384*(1-VLOOKUP(AF2384,Discount[],3,0)),2)","v":128.93},null,108050,"O110"]
[8718528058909,"Artikel",8718528058909,"STUKS","Krukstel Breeze PVD Chrome","","","HENS","BESLAG","","","","KRUKSTEL LIFETIME","BREEZE","Inventory","",false,"","",0,0,0,"",false,false,false,135.54,164,{"$f":"ROUND(AA2393*(1-VLOOKUP(AF2393,Discount[],3,0)),2)","v":135.54},null,108680,"O110"]
[8718528058251,"Artikel",8718528058251,"STUKS","Krukstel Wind PVD Bronze","","","HENS","BESLAG","","","","KRUKSTEL LIFETIME","WIND","Inventory","",false,"","",0,0,0,"",false,false,false,135.54,164,{"$f":"ROUND(AA2396*(1-VLOOKUP(AF2396,Discount[],3,0)),2)","v":135.54},null,108710,"O110"]
[8718528077733,"Artikel",8718528077733,"SET","Set sleutelrozetten Mat Chrome","rond","","HENS","BESLAG","","","","SLEUTELROZET","ROND","Inventory","",false,"","",0,0,0,"",false,false,false,19.01,23,{"$f":"ROUND(AA2408*(1-VLOOKUP(AF2408,Discount[],3,0)),2)","v":19.01},null,109090,"O110"]
[8718528077740,"Artikel",8718528077740,"SET","Set cilinderrozetten MatChrome","rond","","HENS","BESLAG","","","","CILINDERROZET","ROND","Inventory","",false,"","",0,0,0,"",false,false,false,19.01,23,{"$f":"ROUND(AA2409*(1-VLOOKUP(AF2409,Discount[],3,0)),2)","v":19.01},null,109100,"O110"]
[8718528083154,"Artikel",8718528083154,"STUKS","WK6811 D2 stomp","wit 780x2015 slg/vpl","FSC Mix 70% CU-COC 800339","DEUR","BINNEN","BINNEN","MODERN","6811","","","Inventory","",true,"STOMP","",2015,780,38,"",false,false,false,370.25,448,{"$f":"ROUND(AA2418*(1-VLOOKUP(AF2418,Discount[],3,0)),2)","v":370.25},null,109340,"B055"]
[8718528083451,"Artikel",8718528083451,"STUKS","WK6811 D2 stomp","wit 880x2015 slg/vpl","FSC Mix 70% CU-COC 800339","DEUR","BINNEN","BINNEN","MODERN","6811","","","Inventory","",true,"STOMP","",2015,880,38,"",false,false,false,370.25,448,{"$f":"ROUND(AA2428*(1-VLOOKUP(AF2428,Discount[],3,0)),2)","v":370.25},null,109340,"B055"]
[8718528083468,"Artikel",8718528083468,"STUKS","WK6811 D2 stomp","wit 930x2015 slg/vpl","FSC Mix 70% CU-COC 800339","DEUR","BINNEN","BINNEN","MODERN","6811","","","Inventory","",true,"STOMP","",2015,930,38,"",false,false,false,370.25,448,{"$f":"ROUND(AA2429*(1-VLOOKUP(AF2429,Discount[],3,0)),2)","v":370.25},null,109340,"B055"]
[8718528101667,"Artikel",8718528101667,"STUKS","WK6811 XL D2 stomp","wit 780x2315 slg/vpl","FSC Mix 70% CU-COC 800339","DEUR","BINNEN","BINNEN","MODERN","6811","","","Inventory","",true,"STOMP","",2315,780,38,"",false,false,false,370.25,448,{"$f":"ROUND(AA2437*(1-VLOOKUP(AF2437,Discount[],3,0)),2)","v":370.25},null,109340,"B055"]
[8718528083260,"Artikel",8718528083260,"STUKS","WK6811 D2 opdek rechts","wit 780x2115 slg/vpl","FSC Mix 70% CU-COC 800339","DEUR","BINNEN","BINNEN","MODERN","6811","","","Inventory","",true,"OPDEK","",2115,780,38,"",false,true,false,382.65,463,{"$f":"ROUND(AA2447*(1-VLOOKUP(AF2447,Discount[],3,0)),2)","v":382.65},null,109350,"B055"]
[8718528083291,"Artikel",8718528083291,"STUKS","WK6811 D2 opdek rechts","wit 830x2115 slg/vpl","FSC Mix 70% CU-COC 800339","DEUR","BINNEN","BINNEN","MODERN","6811","","","Inventory","",true,"OPDEK","",2115,830,38,"",false,true,false,382.65,463,{"$f":"ROUND(AA2449*(1-VLOOKUP(AF2449,Discount[],3,0)),2)","v":382.65},null,109350,"B055"]
[8718528118313,"Artikel",8718528118313,"STUKS","WK6811  D2 opdek links","wit 630x2115 slg/vpl","FSC Mix 70% CU-COC 800339","DEUR","BINNEN","BINNEN","MODERN","6811","","","Inventory","",true,"OPDEK","",2115,630,38,"",false,true,false,382.65,463,{"$f":"ROUND(AA2461*(1-VLOOKUP(AF2461,Discount[],3,0)),2)","v":382.65},null,109350,"B055"]
[8718528118399,"Artikel",8718528118399,"STUKS","WK6811  D2 opdek links","wit 930x2015 slg/vpl","FSC Mix 70% CU-COC 800339","DEUR","BINNEN","BINNEN","MODERN","6811","","","Inventory","",true,"OPDEK","",2015,930,38,"",false,true,false,382.65,463,{"$f":"ROUND(AA2469*(1-VLOOKUP(AF2469,Discount[],3,0)),2)","v":382.65},null,109350,"B055"]
[8718528121498,"Artikel",8718528121498,"STUKS","WK6811 D2 opdek rechts","wit 630x2015 slg/vpl","FSC Mix 70% CU-COC 800339","DEUR","BINNEN","BINNEN","MODERN","6811","","","Inventory","",true,"OPDEK","",2015,630,38,"",false,true,false,382.65,463,{"$f":"ROUND(AA2470*(1-VLOOKUP(AF2470,Discount[],3,0)),2)","v":382.65},null,109350,"B055"]
[8718528083475,"Artikel",8718528083475,"STUKS","WK6821 D2 stomp","wit 730x2015 slg/vpl","FSC Mix 70% CU-COC 800339","DEUR","BINNEN","BINNEN","MODERN","6821","","","Inventory","",true,"STOMP","",2015,730,38,"",false,false,false,408.26,494,{"$f":"ROUND(AA2480*(1-VLOOKUP(AF2480,Discount[],3,0)),2)","v":408.26},null,109400,"B055"]
[8718528083741,"Artikel",8718528083741,"STUKS","WK6821 XL D2 stomp","wit 880x2315 slg/vpl","FSC Mix 70% CU-COC 800339","DEUR","BINNEN","BINNEN","MODERN","6821","","","Inventory","",true,"STOMP","",2315,880,38,"",false,false,false,408.26,494,{"$f":"ROUND(AA2489*(1-VLOOKUP(AF2489,Discount[],3,0)),2)","v":408.26},null,109400,"B055"]
[8718528101681,"Artikel",8718528101681,"STUKS","WK6821 D2 stomp","wit 630x2115 slg/vpl","FSC Mix 70% CU-COC 800339","DEUR","BINNEN","BINNEN","MODERN","6821","","","Inventory","",true,"STOMP","",2115,630,38,"",false,false,false,408.26,494,{"$f":"ROUND(AA2494*(1-VLOOKUP(AF2494,Discount[],3,0)),2)","v":408.26},null,109400,"B055"]
[8718528083499,"Artikel",8718528083499,"STUKS","WK6821 D2 opdek rechts","wit 730x2015 slg/vpl","FSC Mix 70% CU-COC 800339","DEUR","BINNEN","BINNEN","MODERN","6821","","","Inventory","",true,"OPDEK","",2015,730,38,"",false,true,false,420.66,509,{"$f":"ROUND(AA2502*(1-VLOOKUP(AF2502,Discount[],3,0)),2)","v":420.66},null,109410,"B055"]
[8718528083543,"Artikel",8718528083543,"STUKS","WK6821 D2 opdek links","wit 830x2015 slg/vpl","FSC Mix 70% CU-COC 800339","DEUR","BINNEN","BINNEN","MODERN","6821","","","Inventory","",true,"OPDEK","",2015,830,38,"",false,true,false,420.66,509,{"$f":"ROUND(AA2505*(1-VLOOKUP(AF2505,Discount[],3,0)),2)","v":420.66},null,109410,"B055"]
[8718528083673,"Artikel",8718528083673,"STUKS","WK6821 D2 opdek rechts","wit 880x2115 slg/vpl","FSC Mix 70% CU-COC 800339","DEUR","BINNEN","BINNEN","MODERN","6821","","","Inventory","",true,"OPDEK","",2115,880,38,"",false,true,false,420.66,509,{"$f":"ROUND(AA2514*(1-VLOOKUP(AF2514,Discount[],3,0)),2)","v":420.66},null,109410,"B055"]
[8718528083796,"Artikel",8718528083796,"STUKS","WK6821 XL D2 opdek rechts","wit 930x2315 slg/vpl","FSC Mix 70% CU-COC 800339","DEUR","BINNEN","BINNEN","MODERN","6821","","","Inventory","",true,"OPDEK","",2315,930,38,"",false,true,false,420.66,509,{"$f":"ROUND(AA2522*(1-VLOOKUP(AF2522,Discount[],3,0)),2)","v":420.66},null,109410,"B055"]
[8718528118474,"Artikel",8718528118474,"STUKS","WK6821 XL D2 opdek links","wit 780x2315 slg/vpl","FSC Mix 70% CU-COC 800339","DEUR","BINNEN","BINNEN","MODERN","6821","","","Inventory","",true,"OPDEK","",2315,780,38,"",false,true,false,420.66,509,{"$f":"ROUND(AA2530*(1-VLOOKUP(AF2530,Discount[],3,0)),2)","v":420.66},null,109410,"B055"]
[8718528121610,"Artikel",8718528121610,"STUKS","WK6821 XL D2 opdek rechts","wit 630x2315 slg/vpl","FSC Mix 70% CU-COC 800339","DEUR","BINNEN","BINNEN","MODERN","6821","","","Inventory","",true,"OPDEK","",2315,630,38,"",false,true,false,420.66,509,{"$f":"ROUND(AA2535*(1-VLOOKUP(AF2535,Discount[],3,0)),2)","v":420.66},null,109410,"B055"]
[8718528121641,"Artikel",8718528121641,"STUKS","WK6821 XL D2 opdek rechts","wit 680x2315 slg/vpl","FSC Mix 70% CU-COC 800339","DEUR","BINNEN","BINNEN","MODERN","6821","","","Inventory","",true,"OPDEK","",2315,680,38,"",false,true,false,420.66,509,{"$f":"ROUND(AA2538*(1-VLOOKUP(AF2538,Discount[],3,0)),2)","v":420.66},null,109410,"B055"]
[8718528084380,"Artikel",8718528084380,"STUKS","WK6852 D2 stomp","wit 930x2115 slg/vpl","FSC Mix 70% CU-COC 800339","DEUR","BINNEN","BINNEN","MODERN","6852","","","Inventory","",true,"STOMP","",2115,930,38,"",false,false,false,414.88,502,{"$f":"ROUND(AA2547*(1-VLOOKUP(AF2547,Discount[],3,0)),2)","v":414.88},null,109480,"B055"]
[8718528101889,"Artikel",8718528101889,"STUKS","WK6852 XL D2 stomp","wit 680x2315 slg/vpl","FSC Mix 70% CU-COC 800339","DEUR","BINNEN","BINNEN","MODERN","6852","","","Inventory","",true,"STOMP","",2315,680,38,"",false,false,false,414.88,502,{"$f":"ROUND(AA2555*(1-VLOOKUP(AF2555,Discount[],3,0)),2)","v":414.88},null,109480,"B055"]
[8718528084588,"Artikel",8718528084588,"STUKS","WK6864 D2 stomp","wit 830x2015 slg/vpl","FSC Mix 70% CU-COC 800339","DEUR","BINNEN","BINNEN","MODERN","6864","","","Inventory","",true,"STOMP","",2015,830,38,"",false,false,false,458.68,555,{"$f":"ROUND(AA2563*(1-VLOOKUP(AF2563,Discount[],3,0)),2)","v":458.68},null,109560,"B055"]
[8718528084700,"Artikel",8718528084700,"STUKS","WK6864 D2 stomp","wit 880x2115 slg/vpl","FSC Mix 70% CU-COC 800339","DEUR","BINNEN","BINNEN","MODERN","6864","","","Inventory","",true,"STOMP","",2115,880,38,"",false,false,false,458.68,555,{"$f":"ROUND(AA2567*(1-VLOOKUP(AF2567,Discount[],3,0)),2)","v":458.68},null,109560,"B055"]
[8718528101988,"Artikel",8718528101988,"STUKS","WK6864 D2 stomp","wit 680x2115 slg/vpl","FSC Mix 70% CU-COC 800339","DEUR","BINNEN","BINNEN","MODERN","6864","","","Inventory","",true,"STOMP","",2115,680,38,"",false,false,false,458.68,555,{"$f":"ROUND(AA2575*(1-VLOOKUP(AF2575,Discount[],3,0)),2)","v":458.68},null,109560,"B055"]
[8718528085080,"Artikel",8718528085080,"STUKS","WK6865 D2 stomp","wit 930x2115 slg/vpl","FSC Mix 70% CU-COC 800339","DEUR","BINNEN","BINNEN","MODERN","6865","","","Inventory","",true,"STOMP","",2115,930,38,"",false,false,false,414.88,502,{"$f":"ROUND(AA2583*(1-VLOOKUP(AF2583,Discount[],3,0)),2)","v":414.88},null,109600,"B055"]
[8718528085219,"Artikel",8718528085219,"STUKS","WK6865 D2 stomp","wit 930x2015 slg/vpl","FSC Mix 70% CU-COC 800339","DEUR","BINNEN","BINNEN","MODERN","6865","","","Inventory","",true,"STOMP","",2015,930,38,"",false,false,false,414.88,502,{"$f":"ROUND(AA2588*(1-VLOOKUP(AF2588,Discount[],3,0)),2)","v":414.88},null,109600,"B055"]
[8718528102084,"Artikel",8718528102084,"STUKS","WK6865 D2 stomp","wit 730x2015 slg/vpl","FSC Mix 70% CU-COC 800339","DEUR","BINNEN","BINNEN","MODERN","6865","","","Inventory","",true,"STOMP","",2015,730,38,"",false,false,false,414.88,502,{"$f":"ROUND(AA2592*(1-VLOOKUP(AF2592,Discount[],3,0)),2)","v":414.88},null,109600,"B055"]
[8718528086339,"Artikel",8718528086339,"STUKS","WK6504 C stomp","wit 880x2115 slg/vpl","incl. gemonteerd blank glas, FSC Mix 70% CU-COC 800339","DEUR","BINNEN","BINNEN","MODERN","6504","BLANK","","Inventory","",true,"STOMP","",2115,880,38,"",false,false,false,660.33,799,{"$f":"ROUND(AA2600*(1-VLOOKUP(AF2600,Discount[],3,0)),2)","v":660.33},null,109750,"B055"]
[8718528086308,"Artikel",8718528086308,"STUKS","WK6504 C opdek links","wit 830x2115 slg/vpl","incl. gemonteerd blank glas, FSC Mix 70% CU-COC 800339","DEUR","BINNEN","BINNEN","MODERN","6504","BLANK","","Inventory","",true,"OPDEK","",2115,830,38,"",false,true,false,672.73,814,{"$f":"ROUND(AA2608*(1-VLOOKUP(AF2608,Discount[],3,0)),2)","v":672.73},null,109760,"B055"]
[8718528086445,"Artikel",8718528086445,"STUKS","WK6504 XL C opdek links","wit 930x2315 slg/vpl","incl. gemonteerd blank glas, FSC Mix 70% CU-COC 800339","DEUR","BINNEN","BINNEN","MODERN","6504","BLANK","","Inventory","",true,"OPDEK","",2315,930,38,"",false,true,false,672.73,814,{"$f":"ROUND(AA2616*(1-VLOOKUP(AF2616,Discount[],3,0)),2)","v":672.73},null,109760,"B055"]
[8718528121467,"Artikel",8718528121467,"STUKS","WK6504 XL C opdek rechts","wit 830x2315 slg/vpl","incl. gemonteerd blank glas, FSC Mix 70% CU-COC 800339","DEUR","BINNEN","BINNEN","MODERN","6504","BLANK","","Inventory","",true,"OPDEK","",2315,830,38,"",false,true,false,672.73,814,{"$f":"ROUND(AA2621*(1-VLOOKUP(AF2621,Discount[],3,0)),2)","v":672.73},null,109760,"B055"]
[8718528084038,"Artikel",8718528084038,"STUKS","WK6851 D2 stomp","wit 930x2115 slg/vpl","FSC Mix 70% CU-COC 800339","DEUR","BINNEN","BINNEN","MODERN","6851","","","Inventory","",true,"STOMP","",2115,930,38,"",false,false,false,458.68,555,{"$f":"ROUND(AA2631*(1-VLOOKUP(AF2631,Discount[],3,0)),2)","v":458.68},null,109930,"B055"]
[8718528084090,"Artikel",8718528084090,"STUKS","WK6851 XL D2 stomp","wit 880x2315 slg/vpl","FSC Mix 70% CU-COC 800339","DEUR","BINNEN","BINNEN","MODERN","6851","","","Inventory","",true,"STOMP","",2315,880,38,"",false,false,false,458.68,555,{"$f":"ROUND(AA2633*(1-VLOOKUP(AF2633,Discount[],3,0)),2)","v":458.68},null,109930,"B055"]
[8718528101827,"Artikel",8718528101827,"STUKS","WK6851 XL D2 stomp","wit 780x2315 slg/vpl","FSC Mix 70% CU-COC 800339","DEUR","BINNEN","BINNEN","MODERN","6851","","","Inventory","",true,"STOMP","",2315,780,38,"",false,false,false,458.68,555,{"$f":"ROUND(AA2641*(1-VLOOKUP(AF2641,Discount[],3,0)),2)","v":458.68},null,109930,"B055"]
[8718528085363,"Artikel",8718528085363,"STUKS","Facetglas blank tbv 6852","780x2015 set a 2 ruiten","","GLAS","","BINNEN","MODERN","6852","FACETGLAS BLANK","","Inventory","",false,"","",0,0,0,"",false,false,false,137.28,166,{"$f":"ROUND(AA2649*(1-VLOOKUP(AF2649,Discount[],3,0)),2)","v":137.28},null,109970,"P107"]
[8718528085431,"Artikel",8718528085431,"STUKS","Facetglas blank tbv 6852","830x2315 set a 2 ruiten","","GLAS","","BINNEN","MODERN","6852","FACETGLAS BLANK","","Inventory","",false,"","",0,0,0,"",false,false,false,137.28,166,{"$f":"ROUND(AA2654*(1-VLOOKUP(AF2654,Discount[],3,0)),2)","v":137.28},null,109970,"P107"]
[8718528128497,"Artikel",8718528128497,"STUKS","Facetglas mat tbv 6852","730 x 2015 set a 2 ruiten","","GLAS","","BINNEN","MODERN","6852","FACETGLAS MAT","","Inventory","",false,"","",0,0,0,"",false,false,false,211.19,256,{"$f":"ROUND(AA2661*(1-VLOOKUP(AF2661,Discount[],3,0)),2)","v":211.19},null,109980,"P107"]
[8718528085547,"Artikel",8718528085547,"STUKS","Facetglas mat tbv 6852","880x2115 set a 2 ruiten","","GLAS","","BINNEN","MODERN","6852","FACETGLAS MAT","","Inventory","",false,"","",0,0,0,"",false,false,false,211.19,256,{"$f":"ROUND(AA2669*(1-VLOOKUP(AF2669,Discount[],3,0)),2)","v":211.19},null,109980,"P107"]
[8718528085592,"Artikel",8718528085592,"STUKS","Facetglas mat tbv 6852","880x2015 set a 2 ruiten","","GLAS","","BINNEN","MODERN","6852","FACETGLAS MAT","","Inventory","",false,"","",0,0,0,"",false,false,false,211.19,256,{"$f":"ROUND(AA2674*(1-VLOOKUP(AF2674,Discount[],3,0)),2)","v":211.19},null,109980,"P107"]
[8718528085271,"Artikel",8718528085271,"STUKS","Blank glas tbv 6852","830x2115 set a 2 ruiten","","GLAS","","BINNEN","MODERN","6852","BLANK","","Inventory","",false,"","",0,0,0,"",false,false,false,97.97,119,{"$f":"ROUND(AA2685*(1-VLOOKUP(AF2685,Discount[],3,0)),2)","v":97.97},null,109990,"P107"]
[8718528085288,"Artikel",8718528085288,"STUKS","Blank glas tbv 6852","880x2115 set a 2 ruiten","","GLAS","","BINNEN","MODERN","6852","BLANK","","Inventory","",false,"","",0,0,0,"",false,false,false,97.97,119,{"$f":"ROUND(AA2686*(1-VLOOKUP(AF2686,Discount[],3,0)),2)","v":97.97},null,109990,"P107"]
[8718528128961,"Artikel",8718528128961,"STUKS","Glas-in-lood model 6852-D6","680 x 2115 set a 2 ruiten","","GLAS","","BINNEN","MODERN","6852","GLAS-IN-LOOD D6","","Inventory","",false,"","",0,0,0,"",false,false,false,306.25,371,{"$f":"ROUND(AA2694*(1-VLOOKUP(AF2694,Discount[],3,0)),2)","v":306.25},null,110000,"P107"]
[8718528085622,"Artikel",8718528085622,"STUKS","Glas-in-lood model 6852-D6","780x2015 set a 2 ruiten, d=6mm","","GLAS","","BINNEN","MODERN","6852","GLAS-IN-LOOD D6","","Inventory","",false,"","",0,0,0,"",false,false,false,306.25,371,{"$f":"ROUND(AA2702*(1-VLOOKUP(AF2702,Discount[],3,0)),2)","v":306.25},null,110000,"P107"]
[8718528085691,"Artikel",8718528085691,"STUKS","Glas-in-lood model 6852-D6","830x2315 set a 2 ruiten, d=6mm","","GLAS","","BINNEN","MODERN","6852","GLAS-IN-LOOD D6","","Inventory","",false,"","",0,0,0,"",false,false,false,306.25,371,{"$f":"ROUND(AA2707*(1-VLOOKUP(AF2707,Discount[],3,0)),2)","v":306.25},null,110000,"P107"]
[8718528129203,"Artikel",8718528129203,"STUKS","Facetglas blank tbv 6865","680 x 2115 set a 2 ruiten","","GLAS","","BINNEN","MODERN","6865","FACETGLAS BLANK","","Inventory","",false,"","",0,0,0,"",false,false,false,205.92,249,{"$f":"ROUND(AA2718*(1-VLOOKUP(AF2718,Discount[],3,0)),2)","v":205.92},null,110770,"P107"]
[8718528085929,"Artikel",8718528085929,"STUKS","Facetglas blank tbv 6865","830x2115 set a 2 ruiten","","GLAS","","BINNEN","MODERN","6865","FACETGLAS BLANK","","Inventory","",false,"","",0,0,0,"",false,false,false,205.92,249,{"$f":"ROUND(AA2726*(1-VLOOKUP(AF2726,Discount[],3,0)),2)","v":205.92},null,110770,"P107"]
[8718528085936,"Artikel",8718528085936,"STUKS","Facetglas blank tbv 6865","880x2115 set a 2 ruiten","","GLAS","","BINNEN","MODERN","6865","FACETGLAS BLANK","","Inventory","",false,"","",0,0,0,"",false,false,false,205.92,249,{"$f":"ROUND(AA2727*(1-VLOOKUP(AF2727,Discount[],3,0)),2)","v":205.92},null,110770,"P107"]
[8718528129432,"Artikel",8718528129432,"STUKS","Facetglas mat tbv 6865","680 x 2015 set a 2 ruiten","","GLAS","","BINNEN","MODERN","6865","FACETGLAS MAT","","Inventory","",false,"","",0,0,0,"",false,false,false,316.78,383,{"$f":"ROUND(AA2735*(1-VLOOKUP(AF2735,Discount[],3,0)),2)","v":316.78},null,110780,"P107"]
[8718528086018,"Artikel",8718528086018,"STUKS","Facetglas mat tbv 6865","780x2015 set a 2 ruiten","","GLAS","","BINNEN","MODERN","6865","FACETGLAS MAT","","Inventory","",false,"","",0,0,0,"",false,false,false,316.78,383,{"$f":"ROUND(AA2741*(1-VLOOKUP(AF2741,Discount[],3,0)),2)","v":316.78},null,110780,"P107"]
[8718528086094,"Artikel",8718528086094,"STUKS","Facetglas mat tbv 6865","880x2315 set a 2 ruiten","","GLAS","","BINNEN","MODERN","6865","FACETGLAS MAT","","Inventory","",false,"","",0,0,0,"",false,false,false,316.78,383,{"$f":"ROUND(AA2747*(1-VLOOKUP(AF2747,Discount[],3,0)),2)","v":316.78},null,110780,"P107"]
[8718528129722,"Artikel",8718528129722,"STUKS","Blank glas tbv 6865","780 x 2115 set a 2 ruiten","","GLAS","","BINNEN","MODERN","6865","BLANK","","Inventory","",false,"","",0,0,0,"",false,false,false,146.95,178,{"$f":"ROUND(AA2755*(1-VLOOKUP(AF2755,Discount[],3,0)),2)","v":146.95},null,110790,"P107"]
[8718528085868,"Artikel",8718528085868,"STUKS","Blank glas tbv 6865","930x2015 set a 2 ruiten","","GLAS","","BINNEN","MODERN","6865","BLANK","","Inventory","",false,"","",0,0,0,"",false,false,false,146.95,178,{"$f":"ROUND(AA2767*(1-VLOOKUP(AF2767,Discount[],3,0)),2)","v":146.95},null,110790,"P107"]
[8718528129913,"Artikel",8718528129913,"STUKS","Glas-in-lood model 6865-D1","680 x 2015 set a 2 ruiten","","GLAS","","BINNEN","MODERN","6865","GLAS-IN-LOOD D1","","Inventory","",false,"","",0,0,0,"",false,false,false,306.25,371,{"$f":"ROUND(AA2768*(1-VLOOKUP(AF2768,Discount[],3,0)),2)","v":306.25},null,110800,"P107"]
[8718528086209,"Artikel",8718528086209,"STUKS","Glas-in-lood model 6865-D1","930x2115 set a 2 ruiten, d=6mm","","GLAS","","BINNEN","MODERN","6865","GLAS-IN-LOOD D1","","Inventory","",false,"","",0,0,0,"",false,false,false,306.25,371,{"$f":"ROUND(AA2780*(1-VLOOKUP(AF2780,Discount[],3,0)),2)","v":306.25},null,110800,"P107"]
[8718528102572,"Artikel",8718528102572,"STUKS","Nemef 1255/2 F20-50","loopslot Dr 1t/m4","","HENS","SLOTEN","","","","SLOT","1255","Inventory","",false,"","",0,0,0,"",false,false,false,14.88,18,{"$f":"ROUND(AA2787*(1-VLOOKUP(AF2787,Discount[],3,0)),2)","v":14.88},null,116360,"O500"]
[8718528102589,"Artikel",8718528102589,"STUKS","Nemef 1264/4 F20-50-63","toilet slot Dr 1t/m4","","HENS","SLOTEN","","","","TOILETSLOT","1264","Inventory","",false,"","",0,0,0,"",false,false,false,21.49,26,{"$f":"ROUND(AA2788*(1-VLOOKUP(AF2788,Discount[],3,0)),2)","v":21.49},null,116370,"O500"]
[8718528115619,"Artikel",8718528115619,"STUKS","HR++ Top i+ 33.1*-13-4 gehard","Argon u=1,2 WK 048 880x2015","","GLAS","","BALKON","BS","048","BLANK","ISO VEILIGHEIDSGLAS","Inventory","",false,"","",0,0,0,"",false,false,false,181.82,220,{"$f":"ROUND(AA2800*(1-VLOOKUP(AF2800,Discount[],3,0)),2)","v":181.82},null,134140,"P104"]
[8718528115664,"Artikel",8718528115664,"STUKS","HR++ Top i+ 33.1*-13-4 gehard","Argon u=1,2 930x2340","WK048 / WK8081 / WK8181","GLAS","","BALKON","BS","048","BLANK","ISO VEILIGHEIDSGLAS","Inventory","",false,"","",0,0,0,"",true,false,false,239.67,290,{"$f":"ROUND(AA2805*(1-VLOOKUP(AF2805,Discount[],3,0)),2)","v":239.67},null,134150,"P104"]
[8718528134115,"Artikel",8718528134115,"SET","Vision, schuifdsyst. i/d wand","enkele deur,1 zijde soft-close","","HENS","BESLAG","","","","SCHUIFDEURRAIL","RAIL","Inventory","",false,"","",0,0,0,"",false,false,false,244.63,296,{"$f":"ROUND(AA2808*(1-VLOOKUP(AF2808,Discount[],3,0)),2)","v":244.63},null,143350,"O500"]
[8718528133378,"Artikel",8718528133378,"SET","AC9004 Set aftimmerlijsten/","basementstukken, wit","","ACCESSOIRES","ARCHITRAVEN","","","","AFTIMMERLIJST","AC9004","Inventory","",false,"","",0,0,0,"",false,false,false,61.98,75,{"$f":"ROUND(AA2820*(1-VLOOKUP(AF2820,Discount[],3,0)),2)","v":61.98},null,146130,"R100"]
[8718528133941,"Artikel",8718528133941,"STUKS","Blank isolatieglas","tbv WK1549 930x2115 1 ruit","","GLAS","","LUXBUITEN","VD","1549","BLANK","ISOLATIEGLAS","Inventory","",false,"","",0,0,0,"",false,false,false,113.22,137,{"$f":"ROUND(AA2828*(1-VLOOKUP(AF2828,Discount[],3,0)),2)","v":113.22},null,146510,"P106"]
[8718528307083,"Artikel",8718528307083,"STUKS","Smal loopslot,","RVS voorplaat","","HENS","SLOTEN","","","","SLOT","","Inventory","",false,"","",0,0,0,"",false,false,false,37.19,45,{"$f":"ROUND(AA2834*(1-VLOOKUP(AF2834,Discount[],3,0)),2)","v":37.19},null,147670,"O500"]
[8718528153628,"Artikel",8718528153628,"STUKS","Hoeksluitplaat staal, Dr 2+4","tbv toilet-/dag- en nachtslot","","HENS","SLOTEN","","","","","","Inventory","",false,"","",0,0,0,"",false,false,false,3.31,4,{"$f":"ROUND(AA2840*(1-VLOOKUP(AF2840,Discount[],3,0)),2)","v":3.31},null,147760,"P101"]
[8718528157107,"Artikel",8718528157107,"STUKS","Weekamp HP scharnier zwart","(binnen), rechtsdr.","","HENS","SCHARNIER","BINNEN","","","SCHARNIER","","Inventory","",false,"","",0,0,0,"",false,false,false,22.31,27,{"$f":"ROUND(AA2848*(1-VLOOKUP(AF2848,Discount[],3,0)),2)","v":22.31},null,147800,"O500"]
[8718528158746,"Artikel",8718528158746,"STUKS","BSW VV RD 828 BV, 102/89x95 mm","compleet (staal)","","HENS","SCHARNIER","","","","","","Inventory","",false,"","",0,0,0,"",false,false,false,9.09,11,{"$f":"ROUND(AA2853*(1-VLOOKUP(AF2853,Discount[],3,0)),2)","v":9.09},null,147860,"O500"]
[8718528131251,"Artikel",8718528131251,"STUKS","WK6351 C3 stomp","wit 780x2015 slg/vpl","FSC Mix 70% CU-COC 800339","DEUR","BINNEN","BINNEN","MODERN","6351","","","Inventory","MDF",true,"STOMP","",2015,780,38,"",false,false,false,319.01,386,{"$f":"ROUND(AA2861*(1-VLOOKUP(AF2861,Discount[],3,0)),2)","v":319.01},null,148670,"B055"]
[8718528131312,"Artikel",8718528131312,"STUKS","WK6351 C3 stomp","wit 880x2015 slg/vpl","FSC Mix 70% CU-COC 800339","DEUR","BINNEN","BINNEN","MODERN","6351","","","Inventory","MDF",true,"STOMP","",2015,880,38,"",false,false,false,319.01,386,{"$f":"ROUND(AA2867*(1-VLOOKUP(AF2867,Discount[],3,0)),2)","v":319.01},null,148670,"B055"]
[8718528150627,"Artikel",8718528150627,"STUKS","WK6301 C3 stomp","wit 730x2015 smal slg/vpl","FSC Mix 70% CU-COC 800339","DEUR","BINNEN","BINNEN","MODERN","6301","","","Inventory","MDF",true,"STOMP","",2015,730,38,"",false,false,false,351.24,425,{"$f":"ROUND(AA2873*(1-VLOOKUP(AF2873,Discount[],3,0)),2)","v":351.24},null,149130,"B055"]
[8718528150863,"Artikel",8718528150863,"STUKS","WK6301 XL C3 stomp","wit 830x2315 smal slg/vpl","FSC Mix 70% CU-COC 800339","DEUR","BINNEN","BINNEN","MODERN","6301","","","Inventory","MDF",true,"STOMP","",2315,830,38,"",false,false,false,351.24,425,{"$f":"ROUND(AA2881*(1-VLOOKUP(AF2881,Discount[],3,0)),2)","v":351.24},null,149130,"B055"]
[8718528151013,"Artikel",8718528151013,"STUKS","WK6301 C3 stomp","wit 930x2115 smal slg/vpl","FSC Mix 70% CU-COC 800339","DEUR","BINNEN","BINNEN","MODERN","6301","","","Inventory","MDF",true,"STOMP","",2115,930,38,"",false,false,false,351.24,425,{"$f":"ROUND(AA2886*(1-VLOOKUP(AF2886,Discount[],3,0)),2)","v":351.24},null,149130,"B055"]
[8718528151198,"Artikel",8718528151198,"STUKS","WK6306 C stomp","zwart 780x2115 smal slg/vpl","incl. gemonteerd blank glas, FSC Mix 70% CU-COC 800339","DEUR","BINNEN","BINNEN","MODERN","6306","BLANK","","Inventory","MDF",true,"STOMP","",2115,780,38,"",false,false,false,590.91,715,{"$f":"ROUND(AA2892*(1-VLOOKUP(AF2892,Discount[],3,0)),2)","v":590.91},null,149150,"B055"]
[8718528151464,"Artikel",8718528151464,"STUKS","WK6306 C stomp","zwart 930x2115 smal slg/vpl","incl. gemonteerd blank glas, FSC Mix 70% CU-COC 800339","DEUR","BINNEN","BINNEN","MODERN","6306","BLANK","","Inventory","MDF",true,"STOMP","",2115,930,38,"",false,false,false,590.91,715,{"$f":"ROUND(AA2901*(1-VLOOKUP(AF2901,Discount[],3,0)),2)","v":590.91},null,149150,"B055"]
[8718528151617,"Artikel",8718528151617,"STUKS","WK6308 C stomp","zwart 780x2015 smal slg/vpl","incl. gemonteerd blank glas, FSC Mix 70% CU-COC 800339","DEUR","BINNEN","BINNEN","MODERN","6308","BLANK","","Inventory","MDF",true,"STOMP","",2015,780,38,"",false,false,false,619.01,749,{"$f":"ROUND(AA2906*(1-VLOOKUP(AF2906,Discount[],3,0)),2)","v":619.01},null,149160,"B055"]
[8718528151853,"Artikel",8718528151853,"STUKS","WK6308 XL C stomp","zwart 880x2315 smal slg/vpl","incl. gemonteerd blank glas, FSC Mix 70% CU-COC 800339","DEUR","BINNEN","BINNEN","MODERN","6308","BLANK","","Inventory","MDF",true,"STOMP","",2315,880,38,"",false,false,false,619.01,749,{"$f":"ROUND(AA2914*(1-VLOOKUP(AF2914,Discount[],3,0)),2)","v":619.01},null,149160,"B055"]
[8718528131992,"Artikel",8718528131992,"STUKS","WK6356 C stomp","zwart 780x2015 slg/vpl","incl. gemonteerd blank glas, FSC Mix 70% CU-COC 800339","DEUR","BINNEN","BINNEN","MODERN","6356","BLANK","","Inventory","MDF",true,"STOMP","",2015,780,38,"",false,false,false,546.28,661,{"$f":"ROUND(AA2921*(1-VLOOKUP(AF2921,Discount[],3,0)),2)","v":546.28},null,149170,"B055"]
[8718528132043,"Artikel",8718528132043,"STUKS","WK6356 XL C stomp","zwart 830x2315 slg/vpl","incl. gemonteerd blank glas, FSC Mix 70% CU-COC 800339","DEUR","BINNEN","BINNEN","MODERN","6356","BLANK","","Inventory","MDF",true,"STOMP","",2315,830,38,"",false,false,false,546.28,661,{"$f":"ROUND(AA2926*(1-VLOOKUP(AF2926,Discount[],3,0)),2)","v":546.28},null,149170,"B055"]
[8718528132128,"Artikel",8718528132128,"STUKS","WK6358 C stomp","zwart 730x2115 slg/vpl","incl. gemonteerd blank glas, FSC Mix 70% CU-COC 800339","DEUR","BINNEN","BINNEN","MODERN","6358","BLANK","","Inventory","MDF",true,"STOMP","",2115,730,38,"",false,false,false,569.42,689,{"$f":"ROUND(AA2934*(1-VLOOKUP(AF2934,Discount[],3,0)),2)","v":569.42},null,149180,"B055"]
[8718528132173,"Artikel",8718528132173,"STUKS","WK6358 C stomp","zwart 830x2015 slg/vpl","incl. gemonteerd blank glas, FSC Mix 70% CU-COC 800339","DEUR","BINNEN","BINNEN","MODERN","6358","BLANK","","Inventory","MDF",true,"STOMP","",2015,830,38,"",false,false,false,569.42,689,{"$f":"ROUND(AA2939*(1-VLOOKUP(AF2939,Discount[],3,0)),2)","v":569.42},null,149180,"B055"]
[8718528132258,"Artikel",8718528132258,"STUKS","WK6358 XL C stomp","zwart 930x2315 slg/vpl","incl. gemonteerd blank glas, FSC Mix 70% CU-COC 800339","DEUR","BINNEN","BINNEN","MODERN","6358","BLANK","","Inventory","MDF",true,"STOMP","",2315,930,38,"",false,false,false,569.42,689,{"$f":"ROUND(AA2947*(1-VLOOKUP(AF2947,Discount[],3,0)),2)","v":569.42},null,149180,"B055"]
[8718528307151,"Artikel",8718528307151,"STUKS","Smal kastslot, klavier","zwarte voorplaat","","HENS","SLOTEN","","","","SLOT","","Inventory","",false,"","",0,0,0,"",false,false,false,40.5,49,{"$f":"ROUND(AA2954*(1-VLOOKUP(AF2954,Discount[],3,0)),2)","v":40.5},null,151440,"O500"]
[8718528153246,"Artikel",8718528153246,"STUKS","Dag- en nachtslot, klavier","zwarte voorplaat","","HENS","SLOTEN","","","","SLOT","1266","Inventory","",false,"","",0,0,0,"",false,false,false,28.93,35,{"$f":"ROUND(AA2959*(1-VLOOKUP(AF2959,Discount[],3,0)),2)","v":28.93},null,151480,"O500"]
[8718528153895,"Artikel",8718528153895,"STUKS","WK6211 XL C3 stomp","wit 930x2315 slg/vpl","FSC Mix 70% CU-COC 800339","DEUR","BINNEN","BINNEN","MODERN","6211","","","Inventory","MDF",true,"STOMP","RAL 9003",2315,930,38,"",false,false,false,336.36,407,{"$f":"ROUND(AA2967*(1-VLOOKUP(AF2967,Discount[],3,0)),2)","v":336.36},null,151650,"B055"]
[8718528154021,"Artikel",8718528154021,"STUKS","WK6211 C3 stomp","wit 730x2115 slg/vpl","FSC Mix 70% CU-COC 800339","DEUR","BINNEN","BINNEN","MODERN","6211","","","Inventory","MDF",true,"STOMP","RAL 9003",2115,730,38,"",false,false,false,336.36,407,{"$f":"ROUND(AA2972*(1-VLOOKUP(AF2972,Discount[],3,0)),2)","v":336.36},null,151650,"B055"]
[8718528153932,"Artikel",8718528153932,"STUKS","WK6243 C3 stomp","wit 830x2015 slg/vpl","FSC Mix 70% CU-COC 800339","DEUR","BINNEN","BINNEN","MODERN","6243","","","Inventory","MDF",true,"STOMP","RAL 9003",2015,830,38,"",false,false,false,454.55,550,{"$f":"ROUND(AA2979*(1-VLOOKUP(AF2979,Discount[],3,0)),2)","v":454.55},null,151660,"B055"]
[8718528154090,"Artikel",8718528154090,"STUKS","WK6243 C3 stomp","wit 730x2115 slg/vpl","FSC Mix 70% CU-COC 800339","DEUR","BINNEN","BINNEN","MODERN","6243","","","Inventory","MDF",true,"STOMP","RAL 9003",2115,730,38,"",false,false,false,454.55,550,{"$f":"ROUND(AA2987*(1-VLOOKUP(AF2987,Discount[],3,0)),2)","v":454.55},null,151660,"B055"]
[8718528154144,"Artikel",8718528154144,"STUKS","WK6243 XL C3 stomp","wit 830x2315 slg/vpl","FSC Mix 70% CU-COC 800339","DEUR","BINNEN","BINNEN","MODERN","6243","","","Inventory","MDF",true,"STOMP","RAL 9003",2315,830,38,"",false,false,false,454.55,550,{"$f":"ROUND(AA2992*(1-VLOOKUP(AF2992,Discount[],3,0)),2)","v":454.55},null,151660,"B055"]
[8718528017777,"Artikel",8718528017777,"STUKS","WK6511 B2 stomp","wit 830x2115 slg/vpl","FSC Mix 70% CU-COC 800339","DEUR","BINNEN","BINNEN","MODERN","6511","","","Inventory","MDF",true,"STOMP","",2115,830,38,"",false,false,false,323.38,391,{"$f":"ROUND(AA3000*(1-VLOOKUP(AF3000,Discount[],3,0)),2)","v":323.38},null,151690,"B055"]
[8718528100905,"Artikel",8718528100905,"STUKS","WK6511 B2 stomp","wit 630x2015 slg/vpl","FSC Mix 70% CU-COC 800339","DEUR","BINNEN","BINNEN","MODERN","6511","","","Inventory","MDF",true,"STOMP","",2015,630,38,"",false,false,false,323.38,391,{"$f":"ROUND(AA3008*(1-VLOOKUP(AF3008,Discount[],3,0)),2)","v":323.38},null,151690,"B055"]
[8718528100943,"Artikel",8718528100943,"STUKS","WK6511 B2 stomp","wit 680x2115 slg/vpl","FSC Mix 70% CU-COC 800339","DEUR","BINNEN","BINNEN","MODERN","6511","","","Inventory","MDF",true,"STOMP","",2115,680,38,"",false,false,false,323.38,391,{"$f":"ROUND(AA3012*(1-VLOOKUP(AF3012,Discount[],3,0)),2)","v":323.38},null,151690,"B055"]
[8718528017661,"Artikel",8718528017661,"STUKS","WK6511 B2 opdek links","wit 780x2015 slg/vpl","FSC Mix 70% CU-COC 800339","DEUR","BINNEN","BINNEN","MODERN","6511","","","Inventory","",true,"OPDEK","",2015,780,38,"",false,true,false,335.78,406,{"$f":"ROUND(AA3020*(1-VLOOKUP(AF3020,Discount[],3,0)),2)","v":335.78},null,151700,"B055"]
[8718528017739,"Artikel",8718528017739,"STUKS","WK6511 XL B2 opdek rechts","wit 780x2315 slg/vpl","FSC Mix 70% CU-COC 800339","DEUR","BINNEN","BINNEN","MODERN","6511","","","Inventory","",true,"OPDEK","",2315,780,38,"",false,true,false,335.78,406,{"$f":"ROUND(AA3025*(1-VLOOKUP(AF3025,Discount[],3,0)),2)","v":335.78},null,151700,"B055"]
[8718528017869,"Artikel",8718528017869,"STUKS","WK6511 B2 opdek rechts","wit 880x2115 slg/vpl","FSC Mix 70% CU-COC 800339","DEUR","BINNEN","BINNEN","MODERN","6511","","","Inventory","",true,"OPDEK","",2115,880,38,"",false,true,false,335.78,406,{"$f":"ROUND(AA3033*(1-VLOOKUP(AF3033,Discount[],3,0)),2)","v":335.78},null,151700,"B055"]
[8718528117354,"Artikel",8718528117354,"STUKS","WK6511  B2 opdek links","wit 680x2015 slg/vpl","FSC Mix 70% CU-COC 800339","DEUR","BINNEN","BINNEN","MODERN","6511","","","Inventory","",true,"OPDEK","",2015,680,38,"",false,true,false,335.78,406,{"$f":"ROUND(AA3043*(1-VLOOKUP(AF3043,Discount[],3,0)),2)","v":335.78},null,151700,"B055"]
[8718528117378,"Artikel",8718528117378,"STUKS","WK6511 XL B2 opdek links","wit 680x2315 slg/vpl","FSC Mix 70% CU-COC 800339","DEUR","BINNEN","BINNEN","MODERN","6511","","","Inventory","",true,"OPDEK","",2315,680,38,"",false,true,false,335.78,406,{"$f":"ROUND(AA3045*(1-VLOOKUP(AF3045,Discount[],3,0)),2)","v":335.78},null,151700,"B055"]
[8718528120569,"Artikel",8718528120569,"STUKS","WK6511 XL B2 opdek rechts","wit 680x2315 slg/vpl","FSC Mix 70% CU-COC 800339","DEUR","BINNEN","BINNEN","MODERN","6511","","","Inventory","",true,"OPDEK","",2315,680,38,"",false,true,false,335.78,406,{"$f":"ROUND(AA3053*(1-VLOOKUP(AF3053,Discount[],3,0)),2)","v":335.78},null,151700,"B055"]
[8718528018224,"Artikel",8718528018224,"STUKS","WK6521 B2 stomp","wit 880x2115 slg/vpl","FSC Mix 70% CU-COC 800339","DEUR","BINNEN","BINNEN","MODERN","6521","","","Inventory","MDF",true,"STOMP","",2115,880,38,"",false,false,false,349.28,423,{"$f":"ROUND(AA3065*(1-VLOOKUP(AF3065,Discount[],3,0)),2)","v":349.28},null,151720,"B055"]
[8718528018255,"Artikel",8718528018255,"STUKS","WK6521 XL B2 stomp","wit 880x2315 slg/vpl","FSC Mix 70% CU-COC 800339","DEUR","BINNEN","BINNEN","MODERN","6521","","","Inventory","MDF",true,"STOMP","",2315,880,38,"",false,false,false,349.28,423,{"$f":"ROUND(AA3066*(1-VLOOKUP(AF3066,Discount[],3,0)),2)","v":349.28},null,151720,"B055"]
[8718528100998,"Artikel",8718528100998,"STUKS","WK6521 B2 stomp","wit 680x2015 slg/vpl","FSC Mix 70% CU-COC 800339","DEUR","BINNEN","BINNEN","MODERN","6521","","","Inventory","MDF",true,"STOMP","",2015,680,38,"",false,false,false,349.28,423,{"$f":"ROUND(AA3073*(1-VLOOKUP(AF3073,Discount[],3,0)),2)","v":349.28},null,151720,"B055"]
[8718528018101,"Artikel",8718528018101,"STUKS","WK6521 XL B2 opdek links","wit 780x2315 slg/vpl","FSC Mix 70% CU-COC 800339","DEUR","BINNEN","BINNEN","MODERN","6521","","","Inventory","",true,"OPDEK","",2315,780,38,"",false,true,false,361.68,438,{"$f":"ROUND(AA3085*(1-VLOOKUP(AF3085,Discount[],3,0)),2)","v":361.68},null,151730,"B055"]
[8718528018118,"Artikel",8718528018118,"STUKS","WK6521 XL B2 opdek rechts","wit 780x2315 slg/vpl","FSC Mix 70% CU-COC 800339","DEUR","BINNEN","BINNEN","MODERN","6521","","","Inventory","",true,"OPDEK","",2315,780,38,"",false,true,false,361.68,438,{"$f":"ROUND(AA3086*(1-VLOOKUP(AF3086,Discount[],3,0)),2)","v":361.68},null,151730,"B055"]
[8718528018316,"Artikel",8718528018316,"STUKS","WK6521 B2 opdek rechts","wit 930x2115 slg/vpl","FSC Mix 70% CU-COC 800339","DEUR","BINNEN","BINNEN","MODERN","6521","","","Inventory","",true,"OPDEK","",2115,930,38,"",false,true,false,361.68,438,{"$f":"ROUND(AA3098*(1-VLOOKUP(AF3098,Discount[],3,0)),2)","v":361.68},null,151730,"B055"]
[8718528117446,"Artikel",8718528117446,"STUKS","WK6521  B2 opdek links","wit 680x2115 slg/vpl","FSC Mix 70% CU-COC 800339","DEUR","BINNEN","BINNEN","MODERN","6521","","","Inventory","",true,"OPDEK","",2115,680,38,"",false,true,false,361.68,438,{"$f":"ROUND(AA3105*(1-VLOOKUP(AF3105,Discount[],3,0)),2)","v":361.68},null,151730,"B055"]
[8718528117453,"Artikel",8718528117453,"STUKS","WK6521 XL B2 opdek links","wit 680x2315 slg/vpl","FSC Mix 70% CU-COC 800339","DEUR","BINNEN","BINNEN","MODERN","6521","","","Inventory","",true,"OPDEK","",2315,680,38,"",false,true,false,361.68,438,{"$f":"ROUND(AA3106*(1-VLOOKUP(AF3106,Discount[],3,0)),2)","v":361.68},null,151730,"B055"]
[8718528120675,"Artikel",8718528120675,"STUKS","WK6521  B2 opdek rechts","wit 930x2015 slg/vpl","FSC Mix 70% CU-COC 800339","DEUR","BINNEN","BINNEN","MODERN","6521","","","Inventory","",true,"OPDEK","",2015,930,38,"",false,true,false,361.68,438,{"$f":"ROUND(AA3118*(1-VLOOKUP(AF3118,Discount[],3,0)),2)","v":361.68},null,151730,"B055"]
[8718528020043,"Artikel",8718528020043,"STUKS","WK6551 XL B2 stomp","wit 830x2315 slg/vpl","FSC Mix 70% CU-COC 800339","DEUR","BINNEN","BINNEN","MODERN","6551","","","Inventory","MDF",true,"STOMP","",2315,830,38,"",false,false,false,386.44,468,{"$f":"ROUND(AA3126*(1-VLOOKUP(AF3126,Discount[],3,0)),2)","v":386.44},null,151750,"B055"]
[8718528020142,"Artikel",8718528020142,"STUKS","WK6551 B2 stomp","wit 930x2015 slg/vpl","FSC Mix 70% CU-COC 800339","DEUR","BINNEN","BINNEN","MODERN","6551","","","Inventory","MDF",true,"STOMP","",2015,930,38,"",false,false,false,386.44,468,{"$f":"ROUND(AA3130*(1-VLOOKUP(AF3130,Discount[],3,0)),2)","v":386.44},null,151750,"B055"]
[8718528101285,"Artikel",8718528101285,"STUKS","WK6551 XL B2 stomp","wit 680x2315 slg/vpl","FSC Mix 70% CU-COC 800339","DEUR","BINNEN","BINNEN","MODERN","6551","","","Inventory","MDF",true,"STOMP","",2315,680,38,"",false,false,false,386.44,468,{"$f":"ROUND(AA3138*(1-VLOOKUP(AF3138,Discount[],3,0)),2)","v":386.44},null,151750,"B055"]
[8718528019931,"Artikel",8718528019931,"STUKS","WK6551 B2 opdek links","wit 780x2115 slg/vpl","FSC Mix 70% CU-COC 800339","DEUR","BINNEN","BINNEN","MODERN","6551","","","Inventory","",true,"OPDEK","",2115,780,38,"",false,true,false,398.84,483,{"$f":"ROUND(AA3146*(1-VLOOKUP(AF3146,Discount[],3,0)),2)","v":398.84},null,151760,"B055"]
[8718528020005,"Artikel",8718528020005,"STUKS","WK6551 B2 opdek rechts","wit 830x2015 slg/vpl","FSC Mix 70% CU-COC 800339","DEUR","BINNEN","BINNEN","MODERN","6551","","","Inventory","",true,"OPDEK","",2015,830,38,"",false,true,false,398.84,483,{"$f":"ROUND(AA3151*(1-VLOOKUP(AF3151,Discount[],3,0)),2)","v":398.84},null,151760,"B055"]
[8718528020135,"Artikel",8718528020135,"STUKS","WK6551 XL B2 opdek rechts","wit 880x2315 slg/vpl","FSC Mix 70% CU-COC 800339","DEUR","BINNEN","BINNEN","MODERN","6551","","","Inventory","",true,"OPDEK","",2315,880,38,"",false,true,false,398.84,483,{"$f":"ROUND(AA3159*(1-VLOOKUP(AF3159,Discount[],3,0)),2)","v":398.84},null,151760,"B055"]
[8718528117750,"Artikel",8718528117750,"STUKS","WK6551 XL B2 opdek links","wit 630x2315 slg/vpl","FSC Mix 70% CU-COC 800339","DEUR","BINNEN","BINNEN","MODERN","6551","","","Inventory","",true,"OPDEK","",2315,630,38,"",false,true,false,398.84,483,{"$f":"ROUND(AA3166*(1-VLOOKUP(AF3166,Discount[],3,0)),2)","v":398.84},null,151760,"B055"]
[8718528117804,"Artikel",8718528117804,"STUKS","WK6551  B2 opdek links","wit 880x2015 slg/vpl","FSC Mix 70% CU-COC 800339","DEUR","BINNEN","BINNEN","MODERN","6551","","","Inventory","",true,"OPDEK","",2015,880,38,"",false,true,false,398.84,483,{"$f":"ROUND(AA3171*(1-VLOOKUP(AF3171,Discount[],3,0)),2)","v":398.84},null,151760,"B055"]
[8718528120989,"Artikel",8718528120989,"STUKS","WK6551 XL B2 opdek rechts","wit 730x2315 slg/vpl","FSC Mix 70% CU-COC 800339","DEUR","BINNEN","BINNEN","MODERN","6551","","","Inventory","",true,"OPDEK","",2315,730,38,"",false,true,false,398.84,483,{"$f":"ROUND(AA3179*(1-VLOOKUP(AF3179,Discount[],3,0)),2)","v":398.84},null,151760,"B055"]
[8718528150702,"Artikel",8718528150702,"STUKS","WK6301 XL C3 opdek rechts","wit 730x2315 smal slg/vpl","FSC Mix 70% CU-COC 800339","DEUR","BINNEN","BINNEN","MODERN","6301","","","Inventory","MDF",true,"OPDEK","",2315,730,38,"",false,true,false,363.64,440,{"$f":"ROUND(AA3187*(1-VLOOKUP(AF3187,Discount[],3,0)),2)","v":363.64},null,151780,"B055"]
[8718528150788,"Artikel",8718528150788,"STUKS","WK6301 XL C3 opdek links","wit 780x2315 smal slg/vpl","FSC Mix 70% CU-COC 800339","DEUR","BINNEN","BINNEN","MODERN","6301","","","Inventory","MDF",true,"OPDEK","",2315,780,38,"",false,true,false,363.64,440,{"$f":"ROUND(AA3192*(1-VLOOKUP(AF3192,Discount[],3,0)),2)","v":363.64},null,151780,"B055"]
[8718528150887,"Artikel",8718528150887,"STUKS","WK6301 XL C3 opdek rechts","wit 830x2315 smal slg/vpl","FSC Mix 70% CU-COC 800339","DEUR","BINNEN","BINNEN","MODERN","6301","","","Inventory","MDF",true,"OPDEK","",2315,830,38,"",false,true,false,363.64,440,{"$f":"ROUND(AA3199*(1-VLOOKUP(AF3199,Discount[],3,0)),2)","v":363.64},null,151780,"B055"]
[8718528150962,"Artikel",8718528150962,"STUKS","WK6301 XL C3 opdek links","wit 880x2315 smal slg/vpl","FSC Mix 70% CU-COC 800339","DEUR","BINNEN","BINNEN","MODERN","6301","","","Inventory","MDF",true,"OPDEK","",2315,880,38,"",false,true,false,363.64,440,{"$f":"ROUND(AA3204*(1-VLOOKUP(AF3204,Discount[],3,0)),2)","v":363.64},null,151780,"B055"]
[8718528151983,"Artikel",8718528151983,"STUKS","WK6305 C3 opdek links","wit 730x2015 smal slg/vpl","FSC Mix 70% CU-COC 800339","DEUR","BINNEN","BINNEN","MODERN","6305","","","Inventory","MDF",true,"OPDEK","",2015,730,38,"",false,true,false,418.19,506,{"$f":"ROUND(AA3212*(1-VLOOKUP(AF3212,Discount[],3,0)),2)","v":418.19},null,151790,"B055"]
[8718528152058,"Artikel",8718528152058,"STUKS","WK6305 C3 XL opdek rechts","wit 730x2315 smal slg/vpl","FSC Mix 70% CU-COC 800339","DEUR","BINNEN","BINNEN","MODERN","6305","","","Inventory","MDF",true,"OPDEK","",2315,730,38,"",false,true,false,418.19,506,{"$f":"ROUND(AA3217*(1-VLOOKUP(AF3217,Discount[],3,0)),2)","v":418.19},null,151790,"B055"]
[8718528152164,"Artikel",8718528152164,"STUKS","WK6305 C3 opdek links","wit 830x2015 smal slg/vpl","FSC Mix 70% CU-COC 800339","DEUR","BINNEN","BINNEN","MODERN","6305","","","Inventory","MDF",true,"OPDEK","",2015,830,38,"",false,true,false,418.19,506,{"$f":"ROUND(AA3224*(1-VLOOKUP(AF3224,Discount[],3,0)),2)","v":418.19},null,151790,"B055"]
[8718528152287,"Artikel",8718528152287,"STUKS","WK6305 C3 opdek links","wit 880x2115 smal slg/vpl","FSC Mix 70% CU-COC 800339","DEUR","BINNEN","BINNEN","MODERN","6305","","","Inventory","MDF",true,"OPDEK","",2115,880,38,"",false,true,false,418.19,506,{"$f":"ROUND(AA3232*(1-VLOOKUP(AF3232,Discount[],3,0)),2)","v":418.19},null,151790,"B055"]
[8718528152355,"Artikel",8718528152355,"STUKS","WK6305 C3 opdek rechts","wit 930x2015 smal slg/vpl","FSC Mix 70% CU-COC 800339","DEUR","BINNEN","BINNEN","MODERN","6305","","","Inventory","MDF",true,"OPDEK","",2015,930,38,"",false,true,false,418.19,506,{"$f":"ROUND(AA3237*(1-VLOOKUP(AF3237,Discount[],3,0)),2)","v":418.19},null,151790,"B055"]
[8718528151143,"Artikel",8718528151143,"STUKS","WK6306 XL C opdek links","zwart 730x2315 smal slg/vpl","incl. gemonteerd blank glas, FSC Mix 70% CU-COC 800339","DEUR","BINNEN","BINNEN","MODERN","6306","BLANK","","Inventory","MDF",true,"OPDEK","",2315,730,38,"",false,true,false,603.31,730,{"$f":"ROUND(AA3246*(1-VLOOKUP(AF3246,Discount[],3,0)),2)","v":603.31},null,151800,"B055"]
[8718528151235,"Artikel",8718528151235,"STUKS","WK6306 XL C opdek links","zwart 780x2315 smal slg/vpl","incl. gemonteerd blank glas, FSC Mix 70% CU-COC 800339","DEUR","BINNEN","BINNEN","MODERN","6306","BLANK","","Inventory","MDF",true,"OPDEK","",2315,780,38,"",false,true,false,603.31,730,{"$f":"ROUND(AA3252*(1-VLOOKUP(AF3252,Discount[],3,0)),2)","v":603.31},null,151800,"B055"]
[8718528151303,"Artikel",8718528151303,"STUKS","WK6306 C opdek rechts","zwart 830x2115 smal slg/vpl","incl. gemonteerd blank glas, FSC Mix 70% CU-COC 800339","DEUR","BINNEN","BINNEN","MODERN","6306","BLANK","","Inventory","MDF",true,"OPDEK","",2115,830,38,"",false,true,false,603.31,730,{"$f":"ROUND(AA3257*(1-VLOOKUP(AF3257,Discount[],3,0)),2)","v":603.31},null,151800,"B055"]
[8718528151426,"Artikel",8718528151426,"STUKS","WK6306 XL C opdek rechts","zwart 880x2315 smal slg/vpl","incl. gemonteerd blank glas, FSC Mix 70% CU-COC 800339","DEUR","BINNEN","BINNEN","MODERN","6306","BLANK","","Inventory","MDF",true,"OPDEK","",2315,880,38,"",false,true,false,603.31,730,{"$f":"ROUND(AA3265*(1-VLOOKUP(AF3265,Discount[],3,0)),2)","v":603.31},null,151800,"B055"]
[8718528152447,"Artikel",8718528152447,"STUKS","WK6307 C3 opdek rechts","wit 730x2015 smal slg/vpl","FSC Mix 70% CU-COC 800339","DEUR","BINNEN","BINNEN","MODERN","6307","","","Inventory","MDF",true,"OPDEK","",2015,730,38,"",false,true,false,444.63,538,{"$f":"ROUND(AA3273*(1-VLOOKUP(AF3273,Discount[],3,0)),2)","v":444.63},null,151810,"B055"]
[8718528152539,"Artikel",8718528152539,"STUKS","WK6307 C3 opdek rechts","wit 780x2015 smal slg/vpl","FSC Mix 70% CU-COC 800339","DEUR","BINNEN","BINNEN","MODERN","6307","","","Inventory","MDF",true,"OPDEK","",2015,780,38,"",false,true,false,444.63,538,{"$f":"ROUND(AA3279*(1-VLOOKUP(AF3279,Discount[],3,0)),2)","v":444.63},null,151810,"B055"]
[8718528152621,"Artikel",8718528152621,"STUKS","WK6307 C3 opdek rechts","wit 830x2015 smal slg/vpl","FSC Mix 70% CU-COC 800339","DEUR","BINNEN","BINNEN","MODERN","6307","","","Inventory","MDF",true,"OPDEK","",2015,830,38,"",false,true,false,444.63,538,{"$f":"ROUND(AA3285*(1-VLOOKUP(AF3285,Discount[],3,0)),2)","v":444.63},null,151810,"B055"]
[8718528152706,"Artikel",8718528152706,"STUKS","WK6307 C3 opdek links","wit 880x2015 smal slg/vpl","FSC Mix 70% CU-COC 800339","DEUR","BINNEN","BINNEN","MODERN","6307","","","Inventory","MDF",true,"OPDEK","",2015,880,38,"",false,true,false,444.63,538,{"$f":"ROUND(AA3290*(1-VLOOKUP(AF3290,Discount[],3,0)),2)","v":444.63},null,151810,"B055"]
[8718528152829,"Artikel",8718528152829,"STUKS","WK6307 C3 opdek links","wit 930x2115 smal slg/vpl","FSC Mix 70% CU-COC 800339","DEUR","BINNEN","BINNEN","MODERN","6307","","","Inventory","MDF",true,"OPDEK","",2115,930,38,"",false,true,false,444.63,538,{"$f":"ROUND(AA3298*(1-VLOOKUP(AF3298,Discount[],3,0)),2)","v":444.63},null,151810,"B055"]
[8718528151563,"Artikel",8718528151563,"STUKS","WK6308 C opdek links","zwart 730x2115 smal slg/vpl","incl. gemonteerd blank glas, FSC Mix 70% CU-COC 800339","DEUR","BINNEN","BINNEN","MODERN","6308","BLANK","","Inventory","MDF",true,"OPDEK","",2115,730,38,"",false,true,false,631.41,764,{"$f":"ROUND(AA3304*(1-VLOOKUP(AF3304,Discount[],3,0)),2)","v":631.41},null,151820,"B055"]
[8718528151655,"Artikel",8718528151655,"STUKS","WK6308 C opdek links","zwart 780x2115 smal slg/vpl","incl. gemonteerd blank glas, FSC Mix 70% CU-COC 800339","DEUR","BINNEN","BINNEN","MODERN","6308","BLANK","","Inventory","MDF",true,"OPDEK","",2115,780,38,"",false,true,false,631.41,764,{"$f":"ROUND(AA3310*(1-VLOOKUP(AF3310,Discount[],3,0)),2)","v":631.41},null,151820,"B055"]
[8718528151778,"Artikel",8718528151778,"STUKS","WK6308 XL C opdek links","zwart 830x2315 smal slg/vpl","incl. gemonteerd blank glas, FSC Mix 70% CU-COC 800339","DEUR","BINNEN","BINNEN","MODERN","6308","BLANK","","Inventory","MDF",true,"OPDEK","",2315,830,38,"",false,true,false,631.41,764,{"$f":"ROUND(AA3318*(1-VLOOKUP(AF3318,Discount[],3,0)),2)","v":631.41},null,151820,"B055"]
[8718528151846,"Artikel",8718528151846,"STUKS","WK6308 C opdek rechts","zwart 880x2115 smal slg/vpl","incl. gemonteerd blank glas, FSC Mix 70% CU-COC 800339","DEUR","BINNEN","BINNEN","MODERN","6308","BLANK","","Inventory","MDF",true,"OPDEK","",2115,880,38,"",false,true,false,631.41,764,{"$f":"ROUND(AA3323*(1-VLOOKUP(AF3323,Discount[],3,0)),2)","v":631.41},null,151820,"B055"]
[8718528152003,"Artikel",8718528152003,"STUKS","WK6305 C3 stomp","wit 730x2115 smal slg/vpl","FSC Mix 70% CU-COC 800339","DEUR","BINNEN","BINNEN","MODERN","6305","","","Inventory","MDF",true,"STOMP","",2115,730,38,"",false,false,false,405.79,491,{"$f":"ROUND(AA3333*(1-VLOOKUP(AF3333,Discount[],3,0)),2)","v":405.79},null,151830,"B055"]
[8718528152157,"Artikel",8718528152157,"STUKS","WK6305 C3 stomp","wit 830x2015 smal slg/vpl","FSC Mix 70% CU-COC 800339","DEUR","BINNEN","BINNEN","MODERN","6305","","","Inventory","MDF",true,"STOMP","",2015,830,38,"",false,false,false,405.79,491,{"$f":"ROUND(AA3338*(1-VLOOKUP(AF3338,Discount[],3,0)),2)","v":405.79},null,151830,"B055"]
[8718528152300,"Artikel",8718528152300,"STUKS","WK6305 C3 XL stomp","wit 880x2315 smal slg/vpl","FSC Mix 70% CU-COC 800339","DEUR","BINNEN","BINNEN","MODERN","6305","","","Inventory","MDF",true,"STOMP","",2315,880,38,"",false,false,false,405.79,491,{"$f":"ROUND(AA3343*(1-VLOOKUP(AF3343,Discount[],3,0)),2)","v":405.79},null,151830,"B055"]
[8718528152546,"Artikel",8718528152546,"STUKS","WK6307 C3 stomp","wit 780x2115 smal slg/vpl","FSC Mix 70% CU-COC 800339","DEUR","BINNEN","BINNEN","MODERN","6307","","","Inventory","MDF",true,"STOMP","",2115,780,38,"",false,false,false,432.23,523,{"$f":"ROUND(AA3351*(1-VLOOKUP(AF3351,Discount[],3,0)),2)","v":432.23},null,151840,"B055"]
[8718528152782,"Artikel",8718528152782,"STUKS","WK6307 C3 stomp","wit 930x2015 smal slg/vpl","FSC Mix 70% CU-COC 800339","DEUR","BINNEN","BINNEN","MODERN","6307","","","Inventory","MDF",true,"STOMP","",2015,930,38,"",false,false,false,432.23,523,{"$f":"ROUND(AA3359*(1-VLOOKUP(AF3359,Discount[],3,0)),2)","v":432.23},null,151840,"B055"]
[8718528018477,"Artikel",8718528018477,"STUKS","WK6531 XL B2 stomp","wit 780x2315 slg/vpl","FSC Mix 70% CU-COC 800339","DEUR","BINNEN","BINNEN","MODERN","6531","","","Inventory","MDF",true,"STOMP","",2315,780,38,"",false,false,false,386.44,468,{"$f":"ROUND(AA3366*(1-VLOOKUP(AF3366,Discount[],3,0)),2)","v":386.44},null,152030,"B055"]
[8718528018606,"Artikel",8718528018606,"STUKS","WK6531 B2 stomp","wit 880x2115 slg/vpl","FSC Mix 70% CU-COC 800339","DEUR","BINNEN","BINNEN","MODERN","6531","","","Inventory","MDF",true,"STOMP","",2115,880,38,"",false,false,false,386.44,468,{"$f":"ROUND(AA3371*(1-VLOOKUP(AF3371,Discount[],3,0)),2)","v":386.44},null,152030,"B055"]
[8718528018361,"Artikel",8718528018361,"STUKS","WK6531 B2 opdek links","wit 730x2015 slg/vpl","FSC Mix 70% CU-COC 800339","DEUR","BINNEN","BINNEN","MODERN","6531","","","Inventory","",true,"OPDEK","",2015,730,38,"",false,true,false,398.84,483,{"$f":"ROUND(AA3383*(1-VLOOKUP(AF3383,Discount[],3,0)),2)","v":398.84},null,152040,"B055"]
[8718528018378,"Artikel",8718528018378,"STUKS","WK6531 B2 opdek rechts","wit 730x2015 slg/vpl","FSC Mix 70% CU-COC 800339","DEUR","BINNEN","BINNEN","MODERN","6531","","","Inventory","",true,"OPDEK","",2015,730,38,"",false,true,false,398.84,483,{"$f":"ROUND(AA3384*(1-VLOOKUP(AF3384,Discount[],3,0)),2)","v":398.84},null,152040,"B055"]
[8718528018484,"Artikel",8718528018484,"STUKS","WK6531 XL B2 opdek links","wit 780x2315 slg/vpl","FSC Mix 70% CU-COC 800339","DEUR","BINNEN","BINNEN","MODERN","6531","","","Inventory","",true,"OPDEK","",2315,780,38,"",false,true,false,398.84,483,{"$f":"ROUND(AA3391*(1-VLOOKUP(AF3391,Discount[],3,0)),2)","v":398.84},null,152040,"B055"]
[8718528018682,"Artikel",8718528018682,"STUKS","WK6531 B2 opdek links","wit 930x2115 slg/vpl","FSC Mix 70% CU-COC 800339","DEUR","BINNEN","BINNEN","MODERN","6531","","","Inventory","",true,"OPDEK","",2115,930,38,"",false,true,false,398.84,483,{"$f":"ROUND(AA3403*(1-VLOOKUP(AF3403,Discount[],3,0)),2)","v":398.84},null,152040,"B055"]
[8718528018699,"Artikel",8718528018699,"STUKS","WK6531 B2 opdek rechts","wit 930x2115 slg/vpl","FSC Mix 70% CU-COC 800339","DEUR","BINNEN","BINNEN","MODERN","6531","","","Inventory","",true,"OPDEK","",2115,930,38,"",false,true,false,398.84,483,{"$f":"ROUND(AA3404*(1-VLOOKUP(AF3404,Discount[],3,0)),2)","v":398.84},null,152040,"B055"]
[8718528117545,"Artikel",8718528117545,"STUKS","WK6531 XL B2 opdek links","wit 680x2315 slg/vpl","FSC Mix 70% CU-COC 800339","DEUR","BINNEN","BINNEN","MODERN","6531","","","Inventory","",true,"OPDEK","",2315,680,38,"",false,true,false,398.84,483,{"$f":"ROUND(AA3412*(1-VLOOKUP(AF3412,Discount[],3,0)),2)","v":398.84},null,152040,"B055"]
[8718528120767,"Artikel",8718528120767,"STUKS","WK6531  B2 opdek rechts","wit 930x2015 slg/vpl","FSC Mix 70% CU-COC 800339","DEUR","BINNEN","BINNEN","MODERN","6531","","","Inventory","",true,"OPDEK","",2015,930,38,"",false,true,false,398.84,483,{"$f":"ROUND(AA3424*(1-VLOOKUP(AF3424,Discount[],3,0)),2)","v":398.84},null,152040,"B055"]
[8718528019764,"Artikel",8718528019764,"STUKS","WK6532 B2 stomp","wit 930x2015 slg/vpl","FSC Mix 70% CU-COC 800339","DEUR","BINNEN","BINNEN","MODERN","6532","","","Inventory","MDF",true,"STOMP","",2015,930,38,"",false,false,false,395.49,479,{"$f":"ROUND(AA3430*(1-VLOOKUP(AF3430,Discount[],3,0)),2)","v":395.49},null,152060,"B055"]
[8718528101131,"Artikel",8718528101131,"STUKS","WK6532 B2 stomp","wit 680x2015 slg/vpl","FSC Mix 70% CU-COC 800339","DEUR","BINNEN","BINNEN","MODERN","6532","","","Inventory","MDF",true,"STOMP","",2015,680,38,"",false,false,false,395.49,479,{"$f":"ROUND(AA3436*(1-VLOOKUP(AF3436,Discount[],3,0)),2)","v":395.49},null,152060,"B055"]
[8718528101216,"Artikel",8718528101216,"STUKS","WK6532 XL B2 stomp","wit 780x2315 slg/vpl","FSC Mix 70% CU-COC 800339","DEUR","BINNEN","BINNEN","MODERN","6532","","","Inventory","MDF",true,"STOMP","",2315,780,38,"",false,false,false,395.49,479,{"$f":"ROUND(AA3444*(1-VLOOKUP(AF3444,Discount[],3,0)),2)","v":395.49},null,152060,"B055"]
[8718528101223,"Artikel",8718528101223,"STUKS","WK6532 XL B2 stomp","wit 830x2315 slg/vpl","FSC Mix 70% CU-COC 800339","DEUR","BINNEN","BINNEN","MODERN","6532","","","Inventory","MDF",true,"STOMP","",2315,830,38,"",false,false,false,395.49,479,{"$f":"ROUND(AA3445*(1-VLOOKUP(AF3445,Discount[],3,0)),2)","v":395.49},null,152060,"B055"]
[8718528019757,"Artikel",8718528019757,"STUKS","WK6532 XL B2 opdek rechts","wit 880x2315 slg/vpl","FSC Mix 70% CU-COC 800339","DEUR","BINNEN","BINNEN","MODERN","6532","","","Inventory","",true,"OPDEK","",2315,880,38,"",false,true,false,407.89,494,{"$f":"ROUND(AA3453*(1-VLOOKUP(AF3453,Discount[],3,0)),2)","v":407.89},null,152070,"B055"]
[8718528117644,"Artikel",8718528117644,"STUKS","WK6532  B2 opdek links","wit 730x2015 slg/vpl","FSC Mix 70% CU-COC 800339","DEUR","BINNEN","BINNEN","MODERN","6532","","","Inventory","",true,"OPDEK","",2015,730,38,"",false,true,false,407.89,494,{"$f":"ROUND(AA3464*(1-VLOOKUP(AF3464,Discount[],3,0)),2)","v":407.89},null,152070,"B055"]
[8718528117699,"Artikel",8718528117699,"STUKS","WK6532 XL B2 opdek links","wit 780x2315 slg/vpl","FSC Mix 70% CU-COC 800339","DEUR","BINNEN","BINNEN","MODERN","6532","","","Inventory","",true,"OPDEK","",2315,780,38,"",false,true,false,407.89,494,{"$f":"ROUND(AA3469*(1-VLOOKUP(AF3469,Discount[],3,0)),2)","v":407.89},null,152070,"B055"]
[8718528120811,"Artikel",8718528120811,"STUKS","WK6532  B2 opdek rechts","wit 680x2115 slg/vpl","FSC Mix 70% CU-COC 800339","DEUR","BINNEN","BINNEN","MODERN","6532","","","Inventory","",true,"OPDEK","",2115,680,38,"",false,true,false,407.89,494,{"$f":"ROUND(AA3477*(1-VLOOKUP(AF3477,Discount[],3,0)),2)","v":407.89},null,152070,"B055"]
[8718528120880,"Artikel",8718528120880,"STUKS","WK6532 XL B2 opdek rechts","wit 780x2315 slg/vpl","FSC Mix 70% CU-COC 800339","DEUR","BINNEN","BINNEN","MODERN","6532","","","Inventory","",true,"OPDEK","",2315,780,38,"",false,true,false,407.89,494,{"$f":"ROUND(AA3484*(1-VLOOKUP(AF3484,Discount[],3,0)),2)","v":407.89},null,152070,"B055"]
[8718528020241,"Artikel",8718528020241,"STUKS","WK6552 B2 stomp","wit 830x2115 slg/vpl","FSC Mix 70% CU-COC 800339","DEUR","BINNEN","BINNEN","MODERN","6552","","","Inventory","MDF",true,"STOMP","",2115,830,38,"",false,false,false,359.44,435,{"$f":"ROUND(AA3489*(1-VLOOKUP(AF3489,Discount[],3,0)),2)","v":359.44},null,152090,"B055"]
[8718528101315,"Artikel",8718528101315,"STUKS","WK6552 B2 stomp","wit 630x2115 slg/vpl","FSC Mix 70% CU-COC 800339","DEUR","BINNEN","BINNEN","MODERN","6552","","","Inventory","MDF",true,"STOMP","",2115,630,38,"",false,false,false,359.44,435,{"$f":"ROUND(AA3497*(1-VLOOKUP(AF3497,Discount[],3,0)),2)","v":359.44},null,152090,"B055"]
[8718528101391,"Artikel",8718528101391,"STUKS","WK6552 B2 stomp","wit 780x2015 slg/vpl","FSC Mix 70% CU-COC 800339","DEUR","BINNEN","BINNEN","MODERN","6552","","","Inventory","MDF",true,"STOMP","",2015,780,38,"",false,false,false,359.44,435,{"$f":"ROUND(AA3505*(1-VLOOKUP(AF3505,Discount[],3,0)),2)","v":359.44},null,152090,"B055"]
[8718528020234,"Artikel",8718528020234,"STUKS","WK6552 B2 opdek rechts","wit 830x2015 slg/vpl","FSC Mix 70% CU-COC 800339","DEUR","BINNEN","BINNEN","MODERN","6552","","","Inventory","",true,"OPDEK","",2015,830,38,"",false,true,false,371.84,450,{"$f":"ROUND(AA3510*(1-VLOOKUP(AF3510,Discount[],3,0)),2)","v":371.84},null,152100,"B055"]
[8718528020364,"Artikel",8718528020364,"STUKS","WK6552 B2 opdek links","wit 930x2115 slg/vpl","FSC Mix 70% CU-COC 800339","DEUR","BINNEN","BINNEN","MODERN","6552","","","Inventory","",true,"OPDEK","",2115,930,38,"",false,true,false,371.84,450,{"$f":"ROUND(AA3517*(1-VLOOKUP(AF3517,Discount[],3,0)),2)","v":371.84},null,152100,"B055"]
[8718528117835,"Artikel",8718528117835,"STUKS","WK6552  B2 opdek links","wit 630x2115 slg/vpl","FSC Mix 70% CU-COC 800339","DEUR","BINNEN","BINNEN","MODERN","6552","","","Inventory","",true,"OPDEK","",2115,630,38,"",false,true,false,371.84,450,{"$f":"ROUND(AA3522*(1-VLOOKUP(AF3522,Discount[],3,0)),2)","v":371.84},null,152100,"B055"]
[8718528117910,"Artikel",8718528117910,"STUKS","WK6552  B2 opdek links","wit 780x2015 slg/vpl","FSC Mix 70% CU-COC 800339","DEUR","BINNEN","BINNEN","MODERN","6552","","","Inventory","",true,"OPDEK","",2015,780,38,"",false,true,false,371.84,450,{"$f":"ROUND(AA3530*(1-VLOOKUP(AF3530,Discount[],3,0)),2)","v":371.84},null,152100,"B055"]
[8718528121030,"Artikel",8718528121030,"STUKS","WK6552 XL B2 opdek rechts","wit 630x2315 slg/vpl","FSC Mix 70% CU-COC 800339","DEUR","BINNEN","BINNEN","MODERN","6552","","","Inventory","",true,"OPDEK","",2315,630,38,"",false,true,false,371.84,450,{"$f":"ROUND(AA3538*(1-VLOOKUP(AF3538,Discount[],3,0)),2)","v":371.84},null,152100,"B055"]
[8718528121054,"Artikel",8718528121054,"STUKS","WK6552  B2 opdek rechts","wit 680x2115 slg/vpl","FSC Mix 70% CU-COC 800339","DEUR","BINNEN","BINNEN","MODERN","6552","","","Inventory","",true,"OPDEK","",2115,680,38,"",false,true,false,371.84,450,{"$f":"ROUND(AA3540*(1-VLOOKUP(AF3540,Discount[],3,0)),2)","v":371.84},null,152100,"B055"]
[8718528121153,"Artikel",8718528121153,"STUKS","WK6552  B2 opdek rechts","wit 930x2015 slg/vpl","FSC Mix 70% CU-COC 800339","DEUR","BINNEN","BINNEN","MODERN","6552","","","Inventory","",true,"OPDEK","",2015,930,38,"",false,true,false,371.84,450,{"$f":"ROUND(AA3550*(1-VLOOKUP(AF3550,Discount[],3,0)),2)","v":371.84},null,152100,"B055"]
[8718528153819,"Artikel",8718528153819,"STUKS","Hoeksluitplaat 1255, RVS","Dr 1t/m4 afgerond","","HENS","SLOTEN","","","","","","Inventory","",false,"","",0,0,0,"",false,false,false,4.13,5,{"$f":"ROUND(AA3555*(1-VLOOKUP(AF3555,Discount[],3,0)),2)","v":4.13},null,152250,"P101"]
[8718528153758,"Artikel",8718528153758,"STUKS","Greep Basic Black","","","HENS","BESLAG","","","","GREEP","","Inventory","",false,"","",0,0,0,"",false,false,false,28.93,35,{"$f":"ROUND(AA3563*(1-VLOOKUP(AF3563,Discount[],3,0)),2)","v":28.93},null,152390,"O110"]
[8718528153734,"Artikel",8718528153734,"STUKS","Greep Steady Black 800 mm","","","HENS","BESLAG","","","","GREEP","","Inventory","",false,"","",0,0,0,"",false,false,false,113.22,137,{"$f":"ROUND(AA3571*(1-VLOOKUP(AF3571,Discount[],3,0)),2)","v":113.22},null,152480,"O110"]
[8718528157138,"Artikel",8718528157138,"STUKS","Loopslot, rvs voorplaat AXA","","","HENS","SLOTEN","","","","SLOT","1255","Inventory","",false,"","",0,0,0,"",false,false,false,21.49,26,{"$f":"ROUND(AA3575*(1-VLOOKUP(AF3575,Discount[],3,0)),2)","v":21.49},null,153780,"O500"]
[8718528157374,"Artikel",8718528157374,"SET","Bevestigingsset veiligh.beslag","Inox/Alu-Axa patentbouten","tbv 54 mm voordeur","HENS","BESLAG","","","","","","Inventory","",false,"","",0,0,0,"",false,false,false,8.26,10,{"$f":"ROUND(AA3583*(1-VLOOKUP(AF3583,Discount[],3,0)),2)","v":8.26},null,155110,"P101"]
[8718528157213,"Artikel",8718528157213,"SET","Bevestigingsset veiligh.beslag","Black, t.b.v. 54 mm voordeur","","HENS","BESLAG","","","","","","Inventory","",false,"","",0,0,0,"",false,false,false,10.74,13,{"$f":"ROUND(AA3591*(1-VLOOKUP(AF3591,Discount[],3,0)),2)","v":10.74},null,155450,"P101"]
[8718528157961,"Artikel",8718528157961,"STUKS","Voordeurknop Sky","PVD Black","","HENS","BESLAG","","","","VOORDEURKNOP","SKY","Inventory","",false,"","",0,0,0,"",false,false,false,154.55,187,{"$f":"ROUND(AA3596*(1-VLOOKUP(AF3596,Discount[],3,0)),2)","v":154.55},null,155820,"O115"]
[8718528158074,"Artikel",8718528158074,"STUKS","Deurkruk Breeze PVD Black","links/rechts","","HENS","BESLAG","","","","DEURKRUK","BREEZE","Inventory","",false,"","",0,0,0,"",false,false,false,104.96,127,{"$f":"ROUND(AA3604*(1-VLOOKUP(AF3604,Discount[],3,0)),2)","v":104.96},null,155920,"O115"]
[8718528158470,"Artikel",8718528158470,"SET","Set cilinderrozetten RVS","vierkant","","HENS","BESLAG","","","","CILINDERROZET RVS","","Inventory","",false,"","",0,0,0,"RVS",false,false,false,15.7,19,{"$f":"ROUND(AA3608*(1-VLOOKUP(AF3608,Discount[],3,0)),2)","v":15.7},null,156680,"O110"]
[8718528218747,"Artikel",8718528218747,"STUKS","Greep Pure black","","","HENS","BESLAG","","","","GREEP","","Inventory","",false,"","",0,0,0,"",false,false,false,73.55,89,{"$f":"ROUND(AA3616*(1-VLOOKUP(AF3616,Discount[],3,0)),2)","v":73.55},null,157890,"O110"]
[8718528218792,"Artikel",8718528218792,"SET","Krukstel Drizzle Black rond,","Kerntrekbeveiliging +","veiligheidsrozet, SKG***","","","","","","BESLAG","HAZE","Inventory","",false,"","",0,0,0,"",false,false,false,103.31,125,{"$f":"ROUND(AA3624*(1-VLOOKUP(AF3624,Discount[],3,0)),2)","v":103.31},null,160340,"O115"]
[8718528313275,"Artikel",8718528313275,"STUKS","Krukstel Line Black","","","HENS","BESLAG","","","","KRUKSTEL LIFETIME","LINE","Inventory","",false,"","",0,0,0,"",false,false,false,32.23,39,{"$f":"ROUND(AA3633*(1-VLOOKUP(AF3633,Discount[],3,0)),2)","v":32.23},null,160600,"O110"]
[8718528313343,"Artikel",8718528313343,"STUKS","Krukstel Wave rvs","","","HENS","BESLAG","","","","KRUKSTEL LIFETIME","WAVE ROND","Inventory","",false,"","",0,0,0,"RVS",false,false,false,32.23,39,{"$f":"ROUND(AA3636*(1-VLOOKUP(AF3636,Discount[],3,0)),2)","v":32.23},null,160620,"O110"]
[8718528313541,"Artikel",8718528313541,"STUKS","Krukstel Fresh rvs","","","HENS","BESLAG","","","","KRUKSTEL LIFETIME","FRESH","Inventory","",false,"","",0,0,0,"RVS",false,false,false,32.23,39,{"$f":"ROUND(AA3644*(1-VLOOKUP(AF3644,Discount[],3,0)),2)","v":32.23},null,160720,"O110"]
[8718528313640,"Artikel",8718528313640,"STUKS","Krukstel Combo Round Black","","","HENS","BESLAG","","","","KRUKSTEL LIFETIME","COMBO","Inventory","",false,"","",0,0,0,"",false,false,false,70.25,85,{"$f":"ROUND(AA3649*(1-VLOOKUP(AF3649,Discount[],3,0)),2)","v":70.25},null,160770,"O110"]
[8718528313800,"Artikel",8718528313800,"STUKS","Krukstel Rail Black","","","HENS","BESLAG","","","","KRUKSTEL LIFETIME","RAIL","Inventory","",false,"","",0,0,0,"",false,false,false,70.25,85,{"$f":"ROUND(AA3657*(1-VLOOKUP(AF3657,Discount[],3,0)),2)","v":70.25},null,160850,"O110"]
[8718528307199,"Artikel",8718528307199,"STUKS","Deurkrukstel Kosmos zwart","","","HENS","BESLAG","LUXBUITEN","","","DEURKRUK","KOSMOS","Inventory","",false,"","",0,0,0,"",false,false,false,73.55,89,{"$f":"ROUND(AA3666*(1-VLOOKUP(AF3666,Discount[],3,0)),2)","v":73.55},null,161080,"O110"]
[8718528307212,"Artikel",8718528307212,"STUKS","Voordeurknop Stone zwart","","","HENS","BESLAG","","","","VOORDEURKNOP","STONE","Inventory","",false,"","",0,0,0,"",false,false,false,68.59,83,{"$f":"ROUND(AA3669*(1-VLOOKUP(AF3669,Discount[],3,0)),2)","v":68.59},null,161090,"O115"]
[8718528230237,"Artikel",8718528230237,"STUKS","Set schuifdeurkommen Smooth","PVD Black","","HENS","BESLAG","","","","SCHUIFDEURKOM","","Inventory","",false,"","",0,0,0,"",false,false,false,109.92,133,{"$f":"ROUND(AA3677*(1-VLOOKUP(AF3677,Discount[],3,0)),2)","v":109.92},null,161180,"O110"]
[8718528230282,"Artikel",8718528230282,"STUKS","Set sleutelrozetten","PVD Black","","HENS","BESLAG","","","","SLEUTELROZET","","Inventory","",false,"","",0,0,0,"",false,false,false,33.88,41,{"$f":"ROUND(AA3682*(1-VLOOKUP(AF3682,Discount[],3,0)),2)","v":33.88},null,161230,"O110"]
[8718528330135,"Artikel",8718528330135,"STUKS","Paddle Aluminium(draaib), set,","ktb, PC55, incl. stift","en schroeven voor 38-54 mm","HENS","BESLAG","","","","","PADDLE","Inventory","",false,"","",0,0,0,"",false,false,false,90.08,109,{"$f":"ROUND(AA3691*(1-VLOOKUP(AF3691,Discount[],3,0)),2)","v":90.08},null,162170,"P101"]
[8718528330470,"Artikel",8718528330470,"STUKS","Narrow Black, VH set smal,ktb",", PC92, incl. stift+schroeven","voor 38-54 mm","HENS","BESLAG","","","","","NARROW","Inventory","",false,"","",0,0,0,"",false,false,false,98.35,119,{"$f":"ROUND(AA3701*(1-VLOOKUP(AF3701,Discount[],3,0)),2)","v":98.35},null,162200,"P101"]
[8718528330029,"Artikel",8718528330029,"STUKS","Narrow Alu, VH set smal, ktb,","PC72, incl. stift","en schroeven voor 38-54 mm","HENS","BESLAG","","","","","NARROW","Inventory","",false,"","",0,0,0,"",false,false,false,81.82,99,{"$f":"ROUND(AA3702*(1-VLOOKUP(AF3702,Discount[],3,0)),2)","v":81.82},null,162210,"O115"]
[8718528331972,"Artikel",8718528331972,"STUKS","Clean Alu, briefplaat en","tochtklep met schacht set voor","38-68mm deuren","HENS","BESLAG","","","","BRIEFPLAAT","CLEAN","Inventory","",false,"","",0,0,0,"",false,false,false,73.55,89,{"$f":"ROUND(AA3710*(1-VLOOKUP(AF3710,Discount[],3,0)),2)","v":73.55},null,162250,"P102"]
[8718528337783,"Artikel",8718528337783,"STUKS","AluMaxx®FSC®1100x2350,54 mm","ingroefbaar FSC 100%","","DEUR","VLAK","VLAK","AL","3000","INGROEFBAAR","","Inventory","",true,"","",0,0,54,"",false,false,false,898.35,1087,{"$f":"ROUND(AA3720*(1-VLOOKUP(AF3720,Discount[],3,0)),2)","v":898.35},null,164440,"D060"]
[8718528337820,"Artikel",8718528337820,"STUKS","AluMaxx®FSC® 1220x2500,54 mm","ingroefbaar FSC 100%","","DEUR","VLAK","VLAK","AL","3000","INGROEFBAAR","","Inventory","",true,"","",0,0,54,"",false,false,false,1039.67,1258,{"$f":"ROUND(AA3722*(1-VLOOKUP(AF3722,Discount[],3,0)),2)","v":1039.67},null,164460,"D060"]
[8718528342282,"Artikel",8718528342282,"STUKS","Beldrukker Disc Black","","","HENS","BESLAG","","","","BELDRUKKER","DISC","Inventory","",false,"","",0,0,0,"",false,false,false,55,67,{"$f":"ROUND(AA3730*(1-VLOOKUP(AF3730,Discount[],3,0)),2)","v":55},null,165970,"P102"]
[8718528349182,"Artikel",8718528349182,"STUKS","SET SLEUTELROZETTEN BRONZE","VIERKANT","","HENS","BESLAG","","","","SLEUTELROZET","VIERKANT","Inventory","",false,"","",0,0,0,"BRONZE",false,false,false,21.49,26,{"$f":"ROUND(AA3742*(1-VLOOKUP(AF3742,Discount[],3,0)),2)","v":21.49},null,166950,"O100"]
[8718528349212,"Artikel",8718528349212,"STUKS","Set toiletgarnituur Vierkant","Messing","","HENS","BESLAG","","","","TOILETGARNITUUR","VIERKANT","Inventory","",false,"","",0,0,0,"MESSING",false,false,false,30.58,37,{"$f":"ROUND(AA3743*(1-VLOOKUP(AF3743,Discount[],3,0)),2)","v":30.58},null,166960,"O100"]
[8718528349519,"Artikel",8718528349519,"STUKS","DEURGREEP SOLID XS RVS 816 MM","","","HENS","BESLAG","","","","DEURGREEP","SOLID XS","Inventory","",false,"","",0,0,0,"RVS",false,false,false,65.29,79,{"$f":"ROUND(AA3753*(1-VLOOKUP(AF3753,Discount[],3,0)),2)","v":65.29},null,167060,"O100"]
[8718528349786,"Artikel",8718528349786,"STUKS","KRUKSTEL LINE BLACK","","","HENS","BESLAG","","","","KRUKSTEL","LINE","Inventory","",false,"","",0,0,0,"ZWART",false,false,false,32.23,39,{"$f":"ROUND(AA3762*(1-VLOOKUP(AF3762,Discount[],3,0)),2)","v":32.23},null,167150,"O100"]
[8718528349830,"Artikel",8718528349830,"STUKS","KRUKSTEL LINE RVS","","","HENS","BESLAG","","","","KRUKSTEL","LINE","Inventory","",false,"","",0,0,0,"RVS",false,false,false,32.23,39,{"$f":"ROUND(AA3763*(1-VLOOKUP(AF3763,Discount[],3,0)),2)","v":32.23},null,167160,"O100"]
[8718528350225,"Artikel",8718528350225,"STUKS","TOILETGARNITUUR MESSING","ROND 54MM","","HENS","BESLAG","","","","TOILETGARNITUUR","ROND","Inventory","",false,"","",0,0,0,"MESSING",false,false,false,30.58,37,{"$f":"ROUND(AA3775*(1-VLOOKUP(AF3775,Discount[],3,0)),2)","v":30.58},null,167280,"O100"]
[8718528350317,"Artikel",8718528350317,"STUKS","DEURGREEP LINE MESSING 300 MM","","","HENS","BESLAG","","","","DEURGREEP","LINE","Inventory","",false,"","",0,0,0,"MESSING",false,false,false,40.5,49,{"$f":"ROUND(AA3778*(1-VLOOKUP(AF3778,Discount[],3,0)),2)","v":40.5},null,167310,"O100"]
[8718528350485,"Artikel",8718528350485,"STUKS","SET SCHUIFDEURKOMMEN ROND RVS","","","HENS","BESLAG","","","","SCHUIFDEURKOMMEN","ROND","Inventory","",false,"","",0,0,0,"RVS",false,false,false,32.23,39,{"$f":"ROUND(AA3783*(1-VLOOKUP(AF3783,Discount[],3,0)),2)","v":32.23},null,167360,"O100"]
[8718528350843,"Artikel",8718528350843,"STUKS","DEURKNOP PLANET MESSING","","","HENS","BESLAG","","","","DEURKNOP","PLANET","Inventory","",false,"","",0,0,0,"MESSING",false,false,false,48.76,59,{"$f":"ROUND(AA3795*(1-VLOOKUP(AF3795,Discount[],3,0)),2)","v":48.76},null,167480,"O100"]
[8718528347386,"Artikel",8718528347386,"STUKS","Krukstel Horizon Soft Touch","Black","","HENS","BESLAG","","","","KRUKSTEL","HORIZON","Inventory","",false,"","",0,0,0,"ZWART",false,false,false,81.82,99,{"$f":"ROUND(AA3803*(1-VLOOKUP(AF3803,Discount[],3,0)),2)","v":81.82},null,167560,"O100"]
[8718528347508,"Artikel",8718528347508,"STUKS","Set Sleutelrozetten","Soft Touch Black Rond","","HENS","BESLAG","","","","SLEUTELROZET","ROND","Inventory","",false,"","",0,0,0,"ZWART",false,false,false,23.97,29,{"$f":"ROUND(AA3807*(1-VLOOKUP(AF3807,Discount[],3,0)),2)","v":23.97},null,167600,"O100"]
[8718528347843,"Artikel",8718528347843,"STUKS","Deurgreep Soft Touch Black","800mm Rond","","HENS","BESLAG","","","","DEURGREEP","ROND","Inventory","",false,"","",0,0,0,"ZWART",false,false,false,157.02,190,{"$f":"ROUND(AA3815*(1-VLOOKUP(AF3815,Discount[],3,0)),2)","v":157.02},null,167680,"O100"]
[8718528348116,"Artikel",8718528348116,"STUKS","Toiletgarnituur","Soft Touch Black Vierkant","","HENS","BESLAG","","","","TOILETGARNITUUR","VIERKANT","Inventory","",false,"","",0,0,0,"ZWART",false,false,false,57.02,69,{"$f":"ROUND(AA3823*(1-VLOOKUP(AF3823,Discount[],3,0)),2)","v":57.02},null,167760,"O100"]
[8718528348437,"Artikel",8718528348437,"STUKS","Set Sleutelrozetten","Mat Chrome Rond","","HENS","BESLAG","","","","SLEUTELROZET","ROND","Inventory","",false,"","",0,0,0,"",false,false,false,19.01,23,{"$f":"ROUND(AA3828*(1-VLOOKUP(AF3828,Discount[],3,0)),2)","v":19.01},null,167810,"O100"]
[8718528352014,"Artikel",8718528352014,"STUKS","Deurkruk Line Black Rechts","","","HENS","BESLAG","","","","DEURKRUK","LINE","Inventory","",false,"","",0,0,0,"ZWART",false,false,false,23.97,29,{"$f":"ROUND(AA3836*(1-VLOOKUP(AF3836,Discount[],3,0)),2)","v":23.97},null,167910,"O100"]
[8718528353110,"Artikel",8718528353110,"STUKS","Deurkruk Solid Black Links","","","HENS","BESLAG","","","","KRUK","SOLID","Inventory","",false,"","",0,0,0,"ZWART",false,false,false,23.97,29,{"$f":"ROUND(AA3840*(1-VLOOKUP(AF3840,Discount[],3,0)),2)","v":23.97},null,168010,"O100"]
[8718528342640,"Artikel",8718528342640,"STUKS","Loopslot, RVS voorplaat DM 50","inclusief sluitplaat","","HENS","SLOTEN","","","","LOOPSLOT","","Inventory","",false,"","",0,0,0,"RVS",false,false,false,12.4,15,{"$f":"ROUND(AA3848*(1-VLOOKUP(AF3848,Discount[],3,0)),2)","v":12.4},null,168100,"O500"]
[8718528342886,"Artikel",8718528342886,"STUKS","Smal magnetisch toiletslot,","zwarte voorplaat DM45inclusief","sluitkom en sluitplaat","HENS","SLOTEN","","","","MAGNEET TOILET","","Inventory","",false,"","",0,0,0,"ZWART",false,false,false,41.32,50,{"$f":"ROUND(AA3856*(1-VLOOKUP(AF3856,Discount[],3,0)),2)","v":41.32},null,168180,"O500"]
[8718528343036,"Artikel",8718528343036,"STUKS","Smal magnetisch dag en nacht","cilinderslot, RVS voorplaat","DM45 inclusief sluitkom en sluitplaat","HENS","SLOTEN","","","","MAGNEET CILINDER","","Inventory","",false,"","",0,0,0,"RVS",false,false,false,41.32,50,{"$f":"ROUND(AA3861*(1-VLOOKUP(AF3861,Discount[],3,0)),2)","v":41.32},null,168230,"O500"]
[8718528343159,"Artikel",8718528343159,"STUKS","Magnetisch dag en nacht","cilinderslot, zwarte voorplaat","DM50 inclusief sluitkom en sluitplaat","HENS","SLOTEN","","","","MAGNEET CILINDER","","Inventory","",false,"","",0,0,0,"ZWART",false,false,false,19.83,24,{"$f":"ROUND(AA3865*(1-VLOOKUP(AF3865,Discount[],3,0)),2)","v":19.83},null,168270,"O500"]
[8718528343579,"Artikel",8718528343579,"STUKS","Vlakke sluitplaat zwart t.b.v.","(smal) magnetisch dag en","nachtslot en magnetisch toiletslot","HENS","SLOTEN","","","","SLUITPLAAT","","Inventory","",false,"","",0,0,0,"ZWART",false,false,false,4.13,5,{"$f":"ROUND(AA3876*(1-VLOOKUP(AF3876,Discount[],3,0)),2)","v":4.13},null,168380,"P102"]
[8718528343845,"Artikel",8718528343845,"STUKS","Vlakke sluitplaat RVS t.b.v.","(smal) magnetisch dag en","nachtslot en magnetisch toiletslot","HENS","SLOTEN","","","","SLUITPLAAT","","Inventory","",false,"","",0,0,0,"RVS",false,false,false,4.13,5,{"$f":"ROUND(AA3881*(1-VLOOKUP(AF3881,Discount[],3,0)),2)","v":4.13},null,168440,"P102"]
[8718528358153,"Artikel",8718528358153,"STUKS","TRIM TriComfort®FSC®","940x2125 40mm","FSC Mix 70% CU-COC 800339","","","VLAK","TC","3100","","","Inventory","FSCMTI",true,"","",0,0,40,"",false,false,false,549.59,665,{"$f":"ROUND(AA3889*(1-VLOOKUP(AF3889,Discount[],3,0)),2)","v":549.59},null,204430,"D050"]
["WK4570","Maatwerk",null,"SET","mw blank iso glas tbv WK1114",null,null,"GLAS","","LUXBUITEN","VNM","1114","BLANK","ISOLATIEGLAS","Order","",false,"","",0,0,0,"",false,false,false,109.09,132,{"$f":"ROUND(AA3894*(1-VLOOKUP(AF3894,Discount[],3,0)),2)","v":109.09},null,4570,"P105"]
["WK4670","Maatwerk",null,"SET","mw gefigureerd serie 1 iso glas tbv WK1122",null,null,"GLAS","","LUXBUITEN","VNM","1122","GEFIGUREERD SERIE 1","ISOLATIEGLAS","Order","",false,"","",0,0,0,"",false,false,false,159.5,193,{"$f":"ROUND(AA3901*(1-VLOOKUP(AF3901,Discount[],3,0)),2)","v":159.5},null,4670,"P105"]
["WK4820","Maatwerk",null,"SET","mw gefigureerd serie 1 iso glas tbv WK1152",null,null,"GLAS","","LUXBUITEN","VNM","1152","GEFIGUREERD SERIE 1","ISOLATIEGLAS","Order","",false,"","",0,0,0,"",false,false,false,96.69,117,{"$f":"ROUND(AA3909*(1-VLOOKUP(AF3909,Discount[],3,0)),2)","v":96.69},null,4820,"P105"]
["WK5000","Maatwerk",null,"SET","mw gefigureerd serie 1 iso VH glas tbv WK1113",null,null,"GLAS","","LUXBUITEN","VNM","1113","GEFIGUREERD SERIE 1","ISO VEILIGHEIDSGLAS","Order","",false,"","",0,0,0,"",false,false,false,178.51,216,{"$f":"ROUND(AA3914*(1-VLOOKUP(AF3914,Discount[],3,0)),2)","v":178.51},null,5000,"P105"]
["WK5120","Maatwerk",null,"SET","mw gefigureerd serie 1 iso VH glas tbv WK1122",null,null,"GLAS","","LUXBUITEN","VNM","1122","GEFIGUREERD SERIE 1","ISO VEILIGHEIDSGLAS","Order","",false,"","",0,0,0,"",false,false,false,203.31,246,{"$f":"ROUND(AA3922*(1-VLOOKUP(AF3922,Discount[],3,0)),2)","v":203.31},null,5120,"P105"]
["WK5230","Maatwerk",null,"SET","mw blank iso VH glas tbv WK1143",null,null,"GLAS","","LUXBUITEN","VNM","1143","BLANK","ISO VEILIGHEIDSGLAS","Order","",false,"","",0,0,0,"",false,false,false,179.34,217,{"$f":"ROUND(AA3927*(1-VLOOKUP(AF3927,Discount[],3,0)),2)","v":179.34},null,5230,"P105"]
["WK5450","Maatwerk",null,"SET","mw gefigureerd serie 1 iso glas tbv WK1223",null,null,"GLAS","","LUXBUITEN","VD","1223","GEFIGUREERD SERIE 1","ISOLATIEGLAS","Order","",false,"","",0,0,0,"",false,false,false,223.97,271,{"$f":"ROUND(AA3934*(1-VLOOKUP(AF3934,Discount[],3,0)),2)","v":223.97},null,5450,"P106"]
["WK5720","Maatwerk",null,"SET","mw gefigureerd serie 1 iso VH glas tbv WK1232",null,null,"GLAS","","LUXBUITEN","VD","1232","GEFIGUREERD SERIE 1","ISO VEILIGHEIDSGLAS","Order","",false,"","",0,0,0,"",false,false,false,383.47,464,{"$f":"ROUND(AA3942*(1-VLOOKUP(AF3942,Discount[],3,0)),2)","v":383.47},null,5720,"P106"]
["WK5890","Maatwerk",null,"SET","mw blank iso glas tbv WK1313",null,null,"GLAS","","LUXBUITEN","VD","1313","BLANK","ISOLATIEGLAS","Order","",false,"","",0,0,0,"",false,false,false,133.06,161,{"$f":"ROUND(AA3947*(1-VLOOKUP(AF3947,Discount[],3,0)),2)","v":133.06},null,5890,"P106"]
["WK6110","Maatwerk",null,"SET","mw gefigureerd serie 1 iso glas tbv WK1364",null,null,"GLAS","","LUXBUITEN","VD","1364","GEFIGUREERD SERIE 1","ISOLATIEGLAS","Order","",false,"","",0,0,0,"",false,false,false,290.08,351,{"$f":"ROUND(AA3958*(1-VLOOKUP(AF3958,Discount[],3,0)),2)","v":290.08},null,6110,"P106"]
["WK6170","Maatwerk",null,"SET","mw gefigureerd serie 1 iso VH glas tbv WK1313",null,null,"GLAS","","LUXBUITEN","VD","1313","GEFIGUREERD SERIE 1","ISO VEILIGHEIDSGLAS","Order","",false,"","",0,0,0,"",false,false,false,203.31,246,{"$f":"ROUND(AA3962*(1-VLOOKUP(AF3962,Discount[],3,0)),2)","v":203.31},null,6170,"P106"]
["WK6280","Maatwerk",null,"SET","mw blank iso VH glas tbv WK1361",null,null,"GLAS","","LUXBUITEN","VD","1361","BLANK","ISO VEILIGHEIDSGLAS","Order","",false,"","",0,0,0,"",false,false,false,104.96,127,{"$f":"ROUND(AA3967*(1-VLOOKUP(AF3967,Discount[],3,0)),2)","v":104.96},null,6280,"P106"]
["WK6430","Maatwerk",null,"SET","mw blank iso glas tbv WK1366",null,null,"GLAS","","LUXBUITEN","VD","1366","BLANK","ISOLATIEGLAS","Order","",false,"","",0,0,0,"",false,false,false,283.47,343,{"$f":"ROUND(AA3975*(1-VLOOKUP(AF3975,Discount[],3,0)),2)","v":283.47},null,6430,"P106"]
["WK6530","Maatwerk",null,"SET","mw gefigureerd serie 1 iso glas tbv WK1383",null,null,"GLAS","","LUXBUITEN","VD","1383","GEFIGUREERD SERIE 1","ISOLATIEGLAS","Order","",false,"","",0,0,0,"",false,false,false,96.69,117,{"$f":"ROUND(AA3980*(1-VLOOKUP(AF3980,Discount[],3,0)),2)","v":96.69},null,6530,"P106"]
["WK6760","Maatwerk",null,"SET","mw blank iso VH glas tbv WK1391",null,null,"GLAS","","LUXBUITEN","VD","1391","BLANK","ISO VEILIGHEIDSGLAS","Order","",false,"","",0,0,0,"",false,false,false,104.96,127,{"$f":"ROUND(AA3991*(1-VLOOKUP(AF3991,Discount[],3,0)),2)","v":104.96},null,6760,"P106"]
["WK6940","Maatwerk",null,"SET","mw blank iso glas tbv WK1424",null,null,"GLAS","","LUXBUITEN","VD","1424","BLANK","ISOLATIEGLAS","Order","",false,"","",0,0,0,"",false,false,false,142.15,172,{"$f":"ROUND(AA3995*(1-VLOOKUP(AF3995,Discount[],3,0)),2)","v":142.15},null,6940,"P106"]
["WK7010","Maatwerk",null,"SET","mw gefigureerd serie 1 iso glas tbv WK1433",null,null,"GLAS","","LUXBUITEN","DD","1433","GEFIGUREERD SERIE 1","ISOLATIEGLAS","Order","",false,"","",0,0,0,"",false,false,false,223.97,271,{"$f":"ROUND(AA4000*(1-VLOOKUP(AF4000,Discount[],3,0)),2)","v":223.97},null,7010,"P106"]
["WK7310","Maatwerk",null,"SET","mw gefigureerd serie 1 iso glas tbv WK1544",null,null,"GLAS","","LUXBUITEN","VD","1544","GEFIGUREERD SERIE 1","ISOLATIEGLAS","Order","",false,"","",0,0,0,"",false,false,false,138.02,167,{"$f":"ROUND(AA4008*(1-VLOOKUP(AF4008,Discount[],3,0)),2)","v":138.02},null,7310,"P106"]
["WK7550","Maatwerk",null,"SET","mw gefigureerd serie 1 iso VH glas tbv WK1433",null,null,"GLAS","","LUXBUITEN","DD","1433","GEFIGUREERD SERIE 1","ISO VEILIGHEIDSGLAS","Order","",false,"","",0,0,0,"",false,false,false,295.04,357,{"$f":"ROUND(AA4016*(1-VLOOKUP(AF4016,Discount[],3,0)),2)","v":295.04},null,7550,"P106"]
["WK7760","Maatwerk",null,"SET","mw gefigureerd serie 1 iso VH glas tbv WK1541",null,null,"GLAS","","LUXBUITEN","VD","1541","GEFIGUREERD SERIE 1","ISO VEILIGHEIDSGLAS","Order","",false,"","",0,0,0,"",false,false,false,203.31,246,{"$f":"ROUND(AA4020*(1-VLOOKUP(AF4020,Discount[],3,0)),2)","v":203.31},null,7760,"P106"]
["WK8030","Maatwerk",null,"SET","mw gefigureerd serie 1 iso glas tbv WK1622",null,null,"GLAS","","LUXBUITEN","VD","1622","GEFIGUREERD SERIE 1","ISOLATIEGLAS","Order","",false,"","",0,0,0,"",false,false,false,177.69,215,{"$f":"ROUND(AA4028*(1-VLOOKUP(AF4028,Discount[],3,0)),2)","v":177.69},null,8030,"P106"]
["WK8660","Maatwerk",null,"SET","mw gefigureerd serie 1 iso glas tbv WK1721",null,null,"GLAS","","LUXBUITEN","VD","1721","GEFIGUREERD SERIE 1","ISOLATIEGLAS","Order","",false,"","",0,0,0,"",false,false,false,280.99,340,{"$f":"ROUND(AA4040*(1-VLOOKUP(AF4040,Discount[],3,0)),2)","v":280.99},null,8660,"P106"]
["WK8860","Maatwerk",null,"SET","mw blank iso glas tbv WK1734",null,null,"GLAS","","LUXBUITEN","VD","1734","BLANK","ISOLATIEGLAS","Order","",false,"","",0,0,0,"",false,false,false,80.17,97,{"$f":"ROUND(AA4045*(1-VLOOKUP(AF4045,Discount[],3,0)),2)","v":80.17},null,8860,"P106"]
["WK8900","Maatwerk",null,"SET","mw gefigureerd serie 1 iso glas tbv WK1735",null,null,"GLAS","","LUXBUITEN","VD","1735","GEFIGUREERD SERIE 1","ISOLATIEGLAS","Order","",false,"","",0,0,0,"",false,false,false,159.5,193,{"$f":"ROUND(AA4048*(1-VLOOKUP(AF4048,Discount[],3,0)),2)","v":159.5},null,8900,"P106"]
["WK9200","Maatwerk",null,"SET","mw gefigureerd serie 1 iso VH glas tbv WK1724",null,null,"GLAS","","LUXBUITEN","VD","1724","GEFIGUREERD SERIE 1","ISO VEILIGHEIDSGLAS","Order","",false,"","",0,0,0,"",false,false,false,383.47,464,{"$f":"ROUND(AA4060*(1-VLOOKUP(AF4060,Discount[],3,0)),2)","v":383.47},null,9200,"P106"]
["WK9310","Maatwerk",null,"SET","mw blank iso VH glas tbv WK1734",null,null,"GLAS","","LUXBUITEN","VD","1734","BLANK","ISO VEILIGHEIDSGLAS","Order","",false,"","",0,0,0,"",false,false,false,104.96,127,{"$f":"ROUND(AA4061*(1-VLOOKUP(AF4061,Discount[],3,0)),2)","v":104.96},null,9310,"P106"]
["WK9640","Maatwerk",null,"SET","mw blank iso glas tbv WK1853",null,null,"GLAS","","LUXBUITEN","VD","1853","BLANK","ISOLATIEGLAS","Order","",false,"","",0,0,0,"",false,false,false,301.65,365,{"$f":"ROUND(AA4073*(1-VLOOKUP(AF4073,Discount[],3,0)),2)","v":301.65},null,9640,"P106"]
["WK9710","Maatwerk",null,"SET","mw gefigureerd serie 1 iso glas tbv WK1911",null,null,"GLAS","","LUXBUITEN","VD","1911","GEFIGUREERD SERIE 1","ISOLATIEGLAS","Order","",false,"","",0,0,0,"",false,false,false,109.92,133,{"$f":"ROUND(AA4078*(1-VLOOKUP(AF4078,Discount[],3,0)),2)","v":109.92},null,9710,"P106"]
["WK10090","Maatwerk",null,"SET","mw blank iso VH glas tbv WK1851",null,null,"GLAS","","LUXBUITEN","VD","1851","BLANK","ISO VEILIGHEIDSGLAS","Order","",false,"","",0,0,0,"",false,false,false,566.12,685,{"$f":"ROUND(AA4081*(1-VLOOKUP(AF4081,Discount[],3,0)),2)","v":566.12},null,10090,"P106"]
["WK10600","Maatwerk",null,"SET","mw blank iso glas tbv WK2134",null,null,"GLAS","","LUXBUITEN","DD","2134","BLANK","ISOLATIEGLAS","Order","",false,"","",0,0,0,"",false,false,false,233.88,283,{"$f":"ROUND(AA4093*(1-VLOOKUP(AF4093,Discount[],3,0)),2)","v":233.88},null,10600,"P106"]
["WK10870","Maatwerk",null,"SET","mw blank iso glas tbv WK2154",null,null,"GLAS","","LUXBUITEN","DD","2154","BLANK","ISOLATIEGLAS","Order","",false,"","",0,0,0,"",false,false,false,266.12,322,{"$f":"ROUND(AA4101*(1-VLOOKUP(AF4101,Discount[],3,0)),2)","v":266.12},null,10870,"P106"]
["WK10930","Maatwerk",null,"SET","mw blank iso glas tbv WK2159",null,null,"GLAS","","LUXBUITEN","DD","2159","BLANK","ISOLATIEGLAS","Order","",false,"","",0,0,0,"",false,false,false,534.71,647,{"$f":"ROUND(AA4103*(1-VLOOKUP(AF4103,Discount[],3,0)),2)","v":534.71},null,10930,"P106"]
["WK11260","Maatwerk",null,"SET","mw blank iso VH glas tbv WK2135",null,null,"GLAS","","LUXBUITEN","DD","2135","BLANK","ISO VEILIGHEIDSGLAS","Order","",false,"","",0,0,0,"",false,false,false,728.1,881,{"$f":"ROUND(AA4113*(1-VLOOKUP(AF4113,Discount[],3,0)),2)","v":728.1},null,11260,"P106"]
["WK11560","Maatwerk",null,"SET","mw blank iso VH glas tbv WK2159",null,null,"GLAS","","LUXBUITEN","DD","2159","BLANK","ISO VEILIGHEIDSGLAS","Order","",false,"","",0,0,0,"",false,false,false,855.37,1035,{"$f":"ROUND(AA4121*(1-VLOOKUP(AF4121,Discount[],3,0)),2)","v":855.37},null,11560,"P106"]
["WK11840","Maatwerk",null,"SET","mw gefigureerd serie 1 iso glas tbv WK2246",null,null,"GLAS","","LUXBUITEN","DD","2246","GEFIGUREERD SERIE 1","ISOLATIEGLAS","Order","",false,"","",0,0,0,"",false,false,false,453.72,549,{"$f":"ROUND(AA4126*(1-VLOOKUP(AF4126,Discount[],3,0)),2)","v":453.72},null,11840,"P106"]
["WK12380","Maatwerk",null,"SET","mw gefigureerd serie 1 iso glas tbv WK2534",null,null,"GLAS","","LUXBUITEN","DD","2534","GEFIGUREERD SERIE 1","ISOLATIEGLAS","Order","",false,"","",0,0,0,"",false,false,false,290.08,351,{"$f":"ROUND(AA4132*(1-VLOOKUP(AF4132,Discount[],3,0)),2)","v":290.08},null,12380,"P106"]
["WK13000","Maatwerk",null,"SET","mw blank iso VH glas tbv WK2534",null,null,"GLAS","","LUXBUITEN","DD","2534","BLANK","ISO VEILIGHEIDSGLAS","Order","",false,"","",0,0,0,"",false,false,false,342.15,414,{"$f":"ROUND(AA4141*(1-VLOOKUP(AF4141,Discount[],3,0)),2)","v":342.15},null,13000,"P106"]
["WK13100","Maatwerk",null,"SET","mw gefigureerd serie 1 iso glas tbv WK2539",null,null,"GLAS","","LUXBUITEN","DD","2539","GEFIGUREERD SERIE 1","ISOLATIEGLAS","Order","",false,"","",0,0,0,"",false,false,false,613.22,742,{"$f":"ROUND(AA4146*(1-VLOOKUP(AF4146,Discount[],3,0)),2)","v":613.22},null,13100,"P106"]
["WK13340","Maatwerk",null,"SET","mw gefigureerd serie 1 iso glas tbv WK2559",null,null,"GLAS","","LUXBUITEN","DD","2559","GEFIGUREERD SERIE 1","ISOLATIEGLAS","Order","",false,"","",0,0,0,"",false,false,false,684.3,828,{"$f":"ROUND(AA4154*(1-VLOOKUP(AF4154,Discount[],3,0)),2)","v":684.3},null,13340,"P106"]
["WK14000","Maatwerk",null,"SET","mw gefigureerd serie 1 iso VH glas tbv WK2554",null,null,"GLAS","","LUXBUITEN","DD","2554","GEFIGUREERD SERIE 1","ISO VEILIGHEIDSGLAS","Order","",false,"","",0,0,0,"",false,false,false,473.55,573,{"$f":"ROUND(AA4162*(1-VLOOKUP(AF4162,Discount[],3,0)),2)","v":473.55},null,14000,"P106"]
["WK16330","Maatwerk",null,"STUKS","mw WK7410 38mm, FSC® cert. Premium Hardwood",null,null,"DEUR","BALKON","BALKON","BS","7410","","","Order","FSCPHW",true,"","",0,0,38,"",false,false,false,1058.68,1281,{"$f":"ROUND(AA4165*(1-VLOOKUP(AF4165,Discount[],3,0)),2)","v":1058.68},null,16330,"E016"]
["WK17180","Maatwerk",null,"STUKS","mw WK7414 54mm, FSC® cert. Hardwood",null,null,"DEUR","BALKON","BALKON","BS","7414","","","Order","FSCHW",true,"","",0,0,54,"",false,false,false,1558.68,1886,{"$f":"ROUND(AA4174*(1-VLOOKUP(AF4174,Discount[],3,0)),2)","v":1558.68},null,17180,"E013"]
["WK18870","Maatwerk",null,"STUKS","mw WK3000 Stabiel Comfort® 54mm - basisplaat",null,null,"DEUR","VLAK","VLAK","SC","3000","","","Order","MTI",false,"","",0,0,54,"",false,false,false,474.38,574,{"$f":"ROUND(AA4179*(1-VLOOKUP(AF4179,Discount[],3,0)),2)","v":474.38},null,18870,"D010"]
["WK19570","Maatwerk",null,"SET","mw blank iso glas tbv WK013",null,null,"GLAS","","BALKON","SS","013","BLANK","ISOLATIEGLAS","Order","",false,"","",0,0,0,"",false,false,false,209.92,254,{"$f":"ROUND(AA4187*(1-VLOOKUP(AF4187,Discount[],3,0)),2)","v":209.92},null,19570,"P111"]
["WK19630","Maatwerk",null,"SET","mw blank iso VH glas tbv WK014",null,null,"GLAS","","BALKON","SS","014","BLANK","ISO VEILIGHEIDSGLAS","Order","",false,"","",0,0,0,"",false,false,false,385.12,466,{"$f":"ROUND(AA4190*(1-VLOOKUP(AF4190,Discount[],3,0)),2)","v":385.12},null,19630,"P111"]
["WK19810","Maatwerk",null,"SET","mw blank iso glas tbv WK042",null,null,"GLAS","","BALKON","BS","042","BLANK","ISOLATIEGLAS","Order","",false,"","",0,0,0,"",false,false,false,158.75,192,{"$f":"ROUND(AA4199*(1-VLOOKUP(AF4199,Discount[],3,0)),2)","v":158.75},null,19810,"P111"]
["WK19970","Maatwerk",null,"SET","mw blank iso glas tbv WK046",null,null,"GLAS","","BALKON","BS","046","BLANK","ISOLATIEGLAS","Order","",false,"","",0,0,0,"",false,false,false,128.2,155,{"$f":"ROUND(AA4207*(1-VLOOKUP(AF4207,Discount[],3,0)),2)","v":128.2},null,19970,"P111"]
["WK20070","Maatwerk",null,"SET","mw blank iso VH glas tbv WK048",null,null,"GLAS","","BALKON","BS","048","BLANK","ISO VEILIGHEIDSGLAS","Order","",false,"","",0,0,0,"",false,false,false,181.83,220,{"$f":"ROUND(AA4212*(1-VLOOKUP(AF4212,Discount[],3,0)),2)","v":181.83},null,20070,"P111"]
["WK20210","Maatwerk",null,"SET","mw blank iso glas tbv WK8171",null,null,"GLAS","","BALKON","BS","8171","BLANK","ISOLATIEGLAS","Order","",false,"","",0,0,0,"",false,false,false,171.9,208,{"$f":"ROUND(AA4219*(1-VLOOKUP(AF4219,Discount[],3,0)),2)","v":171.9},null,20210,"P111"]
["WK20370","Maatwerk",null,"SET","mw blank iso glas tbv WK7112",null,null,"GLAS","","BALKON","BS","7112","BLANK","ISOLATIEGLAS","Order","",false,"","",0,0,0,"",false,false,false,228.1,276,{"$f":"ROUND(AA4227*(1-VLOOKUP(AF4227,Discount[],3,0)),2)","v":228.1},null,20370,"P111"]
["WK20470","Maatwerk",null,"SET","mw blank iso VH glas tbv WK7114",null,null,"GLAS","","BALKON","BS","7114","BLANK","ISO VEILIGHEIDSGLAS","Order","",false,"","",0,0,0,"",false,false,false,421.49,510,{"$f":"ROUND(AA4232*(1-VLOOKUP(AF4232,Discount[],3,0)),2)","v":421.49},null,20470,"P111"]
["WK20630","Maatwerk",null,"SET","mw blank iso VH glas tbv WK7132",null,null,"GLAS","","BALKON","BS","7132","BLANK","ISO VEILIGHEIDSGLAS","Order","",false,"","",0,0,0,"",false,false,false,367.77,445,{"$f":"ROUND(AA4240*(1-VLOOKUP(AF4240,Discount[],3,0)),2)","v":367.77},null,20630,"P111"]
["WK20790","Maatwerk",null,"SET","mw blank iso VH glas tbv WK7462",null,null,"GLAS","","BALKON","BS","7462","BLANK","ISO VEILIGHEIDSGLAS","Order","",false,"","",0,0,0,"",false,false,false,280.17,339,{"$f":"ROUND(AA4248*(1-VLOOKUP(AF4248,Discount[],3,0)),2)","v":280.17},null,20790,"P111"]
["WK20860","Maatwerk",null,"SET","mw gefigureerd serie 1 iso glas tbv WK7764",null,null,"GLAS","","BALKON","BS","7764","GEFIGUREERD SERIE 1","ISOLATIEGLAS","Order","",false,"","",0,0,0,"",false,false,false,217.36,263,{"$f":"ROUND(AA4252*(1-VLOOKUP(AF4252,Discount[],3,0)),2)","v":217.36},null,20860,"P111"]
["WK23380","Maatwerk",null,"SET","mw blank iso glas tbv WK4028",null,null,"GLAS","","LUXBUITEN","TD","4028","BLANK","ISOLATIEGLAS","Order","",false,"","",0,0,0,"",false,false,false,484.3,586,{"$f":"ROUND(AA4260*(1-VLOOKUP(AF4260,Discount[],3,0)),2)","v":484.3},null,23380,"P106"]
["WK23430","Maatwerk",null,"SET","mw blank iso glas tbv WK4048",null,null,"GLAS","","LUXBUITEN","TD","4048","BLANK","ISOLATIEGLAS","Order","",false,"","",0,0,0,"",false,false,false,484.3,586,{"$f":"ROUND(AA4265*(1-VLOOKUP(AF4265,Discount[],3,0)),2)","v":484.3},null,23430,"P106"]
["WK23510","Maatwerk",null,"SET","mw blank iso glas tbv WK4086",null,null,"GLAS","","LUXBUITEN","TD","4086","BLANK","ISOLATIEGLAS","Order","",false,"","",0,0,0,"",false,false,false,373.55,452,{"$f":"ROUND(AA4273*(1-VLOOKUP(AF4273,Discount[],3,0)),2)","v":373.55},null,23510,"P106"]
["WK23610","Maatwerk",null,"SET","mw blank iso glas tbv WK4186",null,null,"GLAS","","LUXBUITEN","TD","4186","BLANK","ISOLATIEGLAS","Order","",false,"","",0,0,0,"",false,false,false,373.55,452,{"$f":"ROUND(AA4283*(1-VLOOKUP(AF4283,Discount[],3,0)),2)","v":373.55},null,23610,"P106"]
["WK23720","Maatwerk",null,"SET","mw blank iso VH glas tbv WK4011",null,null,"GLAS","","LUXBUITEN","TD","4011","BLANK","ISO VEILIGHEIDSGLAS","Order","",false,"","",0,0,0,"",false,false,false,390.91,473,{"$f":"ROUND(AA4285*(1-VLOOKUP(AF4285,Discount[],3,0)),2)","v":390.91},null,23720,"P106"]
["WK23800","Maatwerk",null,"SET","mw blank iso VH glas tbv WK4046",null,null,"GLAS","","LUXBUITEN","TD","4046","BLANK","ISO VEILIGHEIDSGLAS","Order","",false,"","",0,0,0,"",false,false,false,552.07,668,{"$f":"ROUND(AA4293*(1-VLOOKUP(AF4293,Discount[],3,0)),2)","v":552.07},null,23800,"P106"]
["WK23850","Maatwerk",null,"SET","mw blank iso VH glas tbv WK4066",null,null,"GLAS","","LUXBUITEN","TD","4066","BLANK","ISO VEILIGHEIDSGLAS","Order","",false,"","",0,0,0,"",false,false,false,552.07,668,{"$f":"ROUND(AA4298*(1-VLOOKUP(AF4298,Discount[],3,0)),2)","v":552.07},null,23850,"P106"]
["WK23930","Maatwerk",null,"SET","mw blank iso VH glas tbv WK4158",null,null,"GLAS","","LUXBUITEN","TD","4158","BLANK","ISO VEILIGHEIDSGLAS","Order","",false,"","",0,0,0,"",false,false,false,725.62,878,{"$f":"ROUND(AA4306*(1-VLOOKUP(AF4306,Discount[],3,0)),2)","v":725.62},null,23930,"P106"]
["WK24120","Maatwerk",null,"SET","mw blank iso glas tbv WK4228",null,null,"GLAS","","LUXBUITEN","TD","4228","BLANK","ISOLATIEGLAS","Order","",false,"","",0,0,0,"",false,false,false,508.26,615,{"$f":"ROUND(AA4316*(1-VLOOKUP(AF4316,Discount[],3,0)),2)","v":508.26},null,24120,"P106"]
["WK24140","Maatwerk",null,"SET","mw blank iso glas tbv WK4358",null,null,"GLAS","","LUXBUITEN","TD","4358","BLANK","ISOLATIEGLAS","Order","",false,"","",0,0,0,"",false,false,false,508.26,615,{"$f":"ROUND(AA4318*(1-VLOOKUP(AF4318,Discount[],3,0)),2)","v":508.26},null,24140,"P106"]
["WK24220","Maatwerk",null,"SET","mw blank iso VH glas tbv WK4196",null,null,"GLAS","","LUXBUITEN","TD","4196","BLANK","ISO VEILIGHEIDSGLAS","Order","",false,"","",0,0,0,"",false,false,false,552.07,668,{"$f":"ROUND(AA4326*(1-VLOOKUP(AF4326,Discount[],3,0)),2)","v":552.07},null,24220,"P106"]
["WK24300","Maatwerk",null,"SET","mw blank iso VH glas tbv WK4494",null,null,"GLAS","","LUXBUITEN","TD","4494","BLANK","ISO VEILIGHEIDSGLAS","Order","",false,"","",0,0,0,"",false,false,false,461.98,559,{"$f":"ROUND(AA4334*(1-VLOOKUP(AF4334,Discount[],3,0)),2)","v":461.98},null,24300,"P106"]
["WK31050","Maatwerk",null,"STUKS","Modeltoeslag 3001",null,null,"TOESLAG","","VLAK","","","MODELTOESLAG","3001","Order","",false,"","",0,0,0,"",false,false,false,149.1,180,{"$f":"ROUND(AA4339*(1-VLOOKUP(AF4339,Discount[],3,0)),2)","v":149.1},null,31050,"SD/SG"]
["WK31120","Maatwerk",null,"STUKS","Modeltoeslag 3016",null,null,"TOESLAG","","VLAK","","","MODELTOESLAG","3016","Order","",false,"","",0,0,0,"",false,false,false,264.59,320,{"$f":"ROUND(AA4346*(1-VLOOKUP(AF4346,Discount[],3,0)),2)","v":264.59},null,31120,"SD/SG"]
["WK31240","Maatwerk",null,"STUKS","Modeltoeslag 3063",null,null,"TOESLAG","","VLAK","","","MODELTOESLAG","3063","Order","",false,"","",0,0,0,"",false,false,false,328.87,398,{"$f":"ROUND(AA4358*(1-VLOOKUP(AF4358,Discount[],3,0)),2)","v":328.87},null,31240,"SD/SG"]
["WK31250","Maatwerk",null,"STUKS","Modeltoeslag 3064",null,null,"TOESLAG","","VLAK","","","MODELTOESLAG","3064","Order","",false,"","",0,0,0,"",false,false,false,328.87,398,{"$f":"ROUND(AA4359*(1-VLOOKUP(AF4359,Discount[],3,0)),2)","v":328.87},null,31250,"SD/SG"]
["WK31900","Maatwerk",null,"","Grondverf in standaard RAL kleur Balkon",null,null,"BEWERKING","VERF","BALKON","","","","","Order","",false,"","",0,0,0,"",false,false,false,97.52,118,{"$f":"ROUND(AA4370*(1-VLOOKUP(AF4370,Discount[],3,0)),2)","v":97.52},null,31900,"SD/SG"]
["WK32930","Maatwerk",null,"SET","mw blank iso glas tbv 3001 (alle model-subgroepen)",null,null,"GLAS","","VLAK","","3001","BLANK","ISOLATIEGLAS","Order","",false,"","",0,0,0,"",false,false,false,116.53,141,{"$f":"ROUND(AA4378*(1-VLOOKUP(AF4378,Discount[],3,0)),2)","v":116.53},null,32930,"P111"]
["WK32940","Maatwerk",null,"SET","mw blank iso glas tbv 3002 (alle model-subgroepen)",null,null,"GLAS","","VLAK","","3002","BLANK","ISOLATIEGLAS","Order","",false,"","",0,0,0,"",false,false,false,103.31,125,{"$f":"ROUND(AA4379*(1-VLOOKUP(AF4379,Discount[],3,0)),2)","v":103.31},null,32940,"P111"]
["WK33030","Maatwerk",null,"SET","mw blank iso glas tbv 3023 (alle model-subgroepen)",null,null,"GLAS","","VLAK","","3023","BLANK","ISOLATIEGLAS","Order","",false,"","",0,0,0,"",false,false,false,228.93,277,{"$f":"ROUND(AA4387*(1-VLOOKUP(AF4387,Discount[],3,0)),2)","v":228.93},null,33030,"P111"]
["WK33150","Maatwerk",null,"SET","mw blank iso glas tbv 3067 (alle model-subgroepen)",null,null,"GLAS","","VLAK","","3067","BLANK","ISOLATIEGLAS","Order","",false,"","",0,0,0,"",false,false,false,294.21,356,{"$f":"ROUND(AA4399*(1-VLOOKUP(AF4399,Discount[],3,0)),2)","v":294.21},null,33150,"P111"]
["WK33190","Maatwerk",null,"SET","mw gefigureerd serie 1 iso glas tbv 3002 (alle model-subgroepen)",null,null,"GLAS","","VLAK","","3002","GEFIGUREERD SERIE 1","ISOLATIEGLAS","Order","",false,"","",0,0,0,"",false,false,false,119.01,144,{"$f":"ROUND(AA4403*(1-VLOOKUP(AF4403,Discount[],3,0)),2)","v":119.01},null,33190,"P111"]
["WK33280","Maatwerk",null,"SET","mw gefigureerd serie 1 iso glas tbv 3023 (alle model-subgroepen)",null,null,"GLAS","","VLAK","","3023","GEFIGUREERD SERIE 1","ISOLATIEGLAS","Order","",false,"","",0,0,0,"",false,false,false,280.99,340,{"$f":"ROUND(AA4411*(1-VLOOKUP(AF4411,Discount[],3,0)),2)","v":280.99},null,33280,"P111"]
["WK33360","Maatwerk",null,"SET","mw gefigureerd serie 1 iso glas tbv 3062 (alle model-subgroepen)",null,null,"GLAS","","VLAK","","3062","GEFIGUREERD SERIE 1","ISOLATIEGLAS","Order","",false,"","",0,0,0,"",false,false,false,201.65,244,{"$f":"ROUND(AA4419*(1-VLOOKUP(AF4419,Discount[],3,0)),2)","v":201.65},null,33360,"P111"]
["WK33370","Maatwerk",null,"SET","mw gefigureerd serie 1 iso glas tbv 3063 (alle model-subgroepen)",null,null,"GLAS","","VLAK","","3063","GEFIGUREERD SERIE 1","ISOLATIEGLAS","Order","",false,"","",0,0,0,"",false,false,false,201.65,244,{"$f":"ROUND(AA4420*(1-VLOOKUP(AF4420,Discount[],3,0)),2)","v":201.65},null,33370,"P111"]
["WK33490","Maatwerk",null,"SET","mw blank iso VH glas tbv 3015 (alle model-subgroepen)",null,null,"GLAS","","VLAK","","3015","BLANK","ISO VEILIGHEIDSGLAS","Order","",false,"","",0,0,0,"",false,false,false,230.58,279,{"$f":"ROUND(AA4432*(1-VLOOKUP(AF4432,Discount[],3,0)),2)","v":230.58},null,33490,"P111"]
["WK33570","Maatwerk",null,"SET","mw blank iso VH glas tbv 3031 (alle model-subgroepen)",null,null,"GLAS","","VLAK","","3031","BLANK","ISO VEILIGHEIDSGLAS","Order","",false,"","",0,0,0,"",false,false,false,137.19,166,{"$f":"ROUND(AA4439*(1-VLOOKUP(AF4439,Discount[],3,0)),2)","v":137.19},null,33570,"P111"]
["WK33620","Maatwerk",null,"SET","mw blank iso VH glas tbv 3063 (alle model-subgroepen)",null,null,"GLAS","","VLAK","","3063","BLANK","ISO VEILIGHEIDSGLAS","Order","",false,"","",0,0,0,"",false,false,false,230.58,279,{"$f":"ROUND(AA4444*(1-VLOOKUP(AF4444,Discount[],3,0)),2)","v":230.58},null,33620,"P111"]
["WK33700","Maatwerk",null,"SET","mw gefigureerd serie 1 iso VH glas tbv 3003 (alle model-subgroepen)",null,null,"GLAS","","VLAK","","3003","GEFIGUREERD SERIE 1","ISO VEILIGHEIDSGLAS","Order","",false,"","",0,0,0,"",false,false,false,256.2,310,{"$f":"ROUND(AA4452*(1-VLOOKUP(AF4452,Discount[],3,0)),2)","v":256.2},null,33700,"P111"]
["WK33760","Maatwerk",null,"SET","mw gefigureerd serie 1 iso VH glas tbv 3021 (alle model-subgroepen)",null,null,"GLAS","","VLAK","","3021","GEFIGUREERD SERIE 1","ISO VEILIGHEIDSGLAS","Order","",false,"","",0,0,0,"",false,false,false,482.64,584,{"$f":"ROUND(AA4457*(1-VLOOKUP(AF4457,Discount[],3,0)),2)","v":482.64},null,33760,"P111"]
["WK33830","Maatwerk",null,"SET","mw gefigureerd serie 1 iso VH glas tbv 3051 (alle model-subgroepen)",null,null,"GLAS","","VLAK","","3051","GEFIGUREERD SERIE 1","ISO VEILIGHEIDSGLAS","Order","",false,"","",0,0,0,"",false,false,false,193.39,234,{"$f":"ROUND(AA4464*(1-VLOOKUP(AF4464,Discount[],3,0)),2)","v":193.39},null,33830,"P111"]
["WK33910","Maatwerk",null,"SET","mw gefigureerd serie 1 iso VH glas tbv 3074 (alle model-subgroepen)",null,null,"GLAS","","VLAK","","3074","GEFIGUREERD SERIE 1","ISO VEILIGHEIDSGLAS","Order","",false,"","",0,0,0,"",false,false,false,385.95,467,{"$f":"ROUND(AA4472*(1-VLOOKUP(AF4472,Discount[],3,0)),2)","v":385.95},null,33910,"P111"]
["WK34010","Maatwerk",null,"","Opplakroeden sd 8 ruits",null,null,"ACCESSOIRES","OPPLAKROEDE","BALKON","","","8 RUITS","","Order","",false,"","",0,0,0,"",false,false,false,153.72,186,{"$f":"ROUND(AA4480*(1-VLOOKUP(AF4480,Discount[],3,0)),2)","v":153.72},null,34010,"SD/SG"]
["WK34480","Maatwerk",null,"","Afmontage glas, 3 ruiten per deur voor VLAK en BALKON",null,null,"BEWERKING","AFMONTAGE","","","","GLAS 3 RUITEN","","Order","",false,"","",0,0,0,"",false,false,false,84.3,102,{"$f":"ROUND(AA4485*(1-VLOOKUP(AF4485,Discount[],3,0)),2)","v":84.3},null,34480,"SD/SG"]
["WK40060","Maatwerk",null,"","Infrezing voor driepuntssloten WK HP, Buva 6220/7220, Nemef 4923 of KFV 2502",null,null,"BEWERKING","INFREZEN","LUXBUITEN","","","INFREZING","STD 3PT","Order","",false,"","",0,0,0,"",false,false,false,47.93,58,{"$f":"ROUND(AA4490*(1-VLOOKUP(AF4490,Discount[],3,0)),2)","v":47.93},null,40060,"LUXE"]
["WK40470","Maatwerk",null,"","40 / 54 mm AluMaxx® FSC® cert. deuren, pasmaat",null,null,"BEWERKING","INFREZEN","VLAK","AL","","PASMAAT","","Order","",true,"","",0,0,0,"",false,false,false,53.72,65,{"$f":"ROUND(AA4497*(1-VLOOKUP(AF4497,Discount[],3,0)),2)","v":53.72},null,40470,"SD/SG"]
["WK40720","Maatwerk",null,"","Briefsleuf infrezing luxbuiten",null,null,"BEWERKING","INFREZEN","LUXBUITEN","","","INFREZING","BRIEFSLEUF","Order","",false,"","",0,0,0,"",false,false,false,24.79,30,{"$f":"ROUND(AA4505*(1-VLOOKUP(AF4505,Discount[],3,0)),2)","v":24.79},null,40720,"LUXE"]
["WK40880","Maatwerk",null,"","Afmontage glas, 5 ruiten per deur voor LUX",null,null,"BEWERKING","AFMONTAGE","LUXBUITEN","","","GLAS 5 RUITEN","","Order","",false,"","",0,0,0,"",false,false,false,120.66,146,{"$f":"ROUND(AA4513*(1-VLOOKUP(AF4513,Discount[],3,0)),2)","v":120.66},null,40880,"LUXE"]
["WK40940","Maatwerk",null,"","Afmontage glas, 6 ruiten per deur voor  LUX TD",null,null,"BEWERKING","AFMONTAGE","LUXBUITEN","TD","","GLAS 6 RUITEN","","Order","",false,"","",0,0,0,"",false,false,false,138.84,168,{"$f":"ROUND(AA4519*(1-VLOOKUP(AF4519,Discount[],3,0)),2)","v":138.84},null,40940,"LUXE"]
["WK41450","Maatwerk",null,"STUKS","mw WK3000 TriComfort® FSC® cert. 54mm - basisplaat",null,null,"DEUR","VLAK","VLAK","TC","3000","","","Order","FSCMTI",true,"","",0,0,54,"",false,false,false,573.55,694,{"$f":"ROUND(AA4525*(1-VLOOKUP(AF4525,Discount[],3,0)),2)","v":573.55},null,41450,"D010"]
["WK42120","Maatwerk",null,"SET","mw blank iso VH glas tbv WK1134",null,null,"GLAS","","LUXBUITEN","VNM","1134","BLANK","ISO VEILIGHEIDSGLAS","Order","",false,"","",0,0,0,"",false,false,false,203.31,246,{"$f":"ROUND(AA4530*(1-VLOOKUP(AF4530,Discount[],3,0)),2)","v":203.31},null,42120,"P105"]
["WK42200","Maatwerk",null,"SET","mw blank iso VH glas tbv WK1435",null,null,"GLAS","","LUXBUITEN","VD","1435","BLANK","ISO VEILIGHEIDSGLAS","Order","",false,"","",0,0,0,"",false,false,false,219.01,265,{"$f":"ROUND(AA4538*(1-VLOOKUP(AF4538,Discount[],3,0)),2)","v":219.01},null,42200,"P106"]
["WK42330","Maatwerk",null,"SET","mw gefigureerd serie 1 iso glas tbv WK1118-1",null,null,"GLAS","","LUXBUITEN","VNM","1118-1","GEFIGUREERD SERIE 1","ISOLATIEGLAS","Order","",false,"","",0,0,0,"",false,false,false,133.06,161,{"$f":"ROUND(AA4546*(1-VLOOKUP(AF4546,Discount[],3,0)),2)","v":133.06},null,42330,"P105"]
["WK42390","Maatwerk",null,"SET","mw gefigureerd serie 1 iso glas tbv WK1545",null,null,"GLAS","","LUXBUITEN","VD","1545","GEFIGUREERD SERIE 1","ISOLATIEGLAS","Order","",false,"","",0,0,0,"",false,false,false,133.88,162,{"$f":"ROUND(AA4552*(1-VLOOKUP(AF4552,Discount[],3,0)),2)","v":133.88},null,42390,"P106"]
["WK42560","Maatwerk",null,"SET","mw gefigureerd serie 1 iso VH glas tbv WK1145",null,null,"GLAS","","LUXBUITEN","VNM","1145","GEFIGUREERD SERIE 1","ISO VEILIGHEIDSGLAS","Order","",false,"","",0,0,0,"",false,false,false,127.27,154,{"$f":"ROUND(AA4558*(1-VLOOKUP(AF4558,Discount[],3,0)),2)","v":127.27},null,42560,"P105"]
["WK43150","Maatwerk",null,"SET","mw blank iso glas tbv 1903",null,null,"GLAS","","LUXBUITEN","VD","1903","BLANK","ISOLATIEGLAS","Order","",false,"","",0,0,0,"",false,false,false,130.58,158,{"$f":"ROUND(AA4566*(1-VLOOKUP(AF4566,Discount[],3,0)),2)","v":130.58},null,43150,"P106"]
["WK43200","Maatwerk",null,"SET","mw blank iso glas tbv 1961",null,null,"GLAS","","LUXBUITEN","VD","1961","BLANK","ISOLATIEGLAS","Order","",false,"","",0,0,0,"",false,false,false,180.17,218,{"$f":"ROUND(AA4571*(1-VLOOKUP(AF4571,Discount[],3,0)),2)","v":180.17},null,43200,"P106"]
["WK43260","Maatwerk",null,"SET","mw gefigureerd serie 1 iso glas tbv 1902",null,null,"GLAS","","LUXBUITEN","VD","1902","GEFIGUREERD SERIE 1","ISOLATIEGLAS","Order","",false,"","",0,0,0,"",false,false,false,130.58,158,{"$f":"ROUND(AA4577*(1-VLOOKUP(AF4577,Discount[],3,0)),2)","v":130.58},null,43260,"P106"]
["WK43320","Maatwerk",null,"SET","mw gefigureerd serie 1 iso glas tbv 1961",null,null,"GLAS","","LUXBUITEN","VD","1961","GEFIGUREERD SERIE 1","ISOLATIEGLAS","Order","",false,"","",0,0,0,"",false,false,false,218.18,264,{"$f":"ROUND(AA4583*(1-VLOOKUP(AF4583,Discount[],3,0)),2)","v":218.18},null,43320,"P106"]
["WK43400","Maatwerk",null,"SET","mw blank iso VH glas tbv 1904",null,null,"GLAS","","LUXBUITEN","VD","1904","BLANK","ISO VEILIGHEIDSGLAS","Order","",false,"","",0,0,0,"",false,false,false,180.17,218,{"$f":"ROUND(AA4591*(1-VLOOKUP(AF4591,Discount[],3,0)),2)","v":180.17},null,43400,"P106"]
["WK43480","Maatwerk",null,"SET","mw blank iso VH glas tbv 2031",null,null,"GLAS","","LUXBUITEN","VD","2031","BLANK","ISO VEILIGHEIDSGLAS","Order","",false,"","",0,0,0,"",false,false,false,109.09,132,{"$f":"ROUND(AA4599*(1-VLOOKUP(AF4599,Discount[],3,0)),2)","v":109.09},null,43480,"P106"]
["WK43550","Maatwerk",null,"SET","mw gefigureerd serie 1 iso VH glas tbv 1933",null,null,"GLAS","","LUXBUITEN","VD","1933","GEFIGUREERD SERIE 1","ISO VEILIGHEIDSGLAS","Order","",false,"","",0,0,0,"",false,false,false,206.61,250,{"$f":"ROUND(AA4606*(1-VLOOKUP(AF4606,Discount[],3,0)),2)","v":206.61},null,43550,"P106"]
["WK43600","Maatwerk",null,"SET","mw gefigureerd serie 1 iso VH glas tbv 2031",null,null,"GLAS","","LUXBUITEN","VD","2031","GEFIGUREERD SERIE 1","ISO VEILIGHEIDSGLAS","Order","",false,"","",0,0,0,"",false,false,false,126.45,153,{"$f":"ROUND(AA4611*(1-VLOOKUP(AF4611,Discount[],3,0)),2)","v":126.45},null,43600,"P106"]
["WK44310","Maatwerk",null,"SET","mw blank iso VH glas tbv WK8081",null,null,"GLAS","","BALKON","BS","8081","BLANK","ISO VEILIGHEIDSGLAS","Order","",false,"","",0,0,0,"",false,false,false,270.25,327,{"$f":"ROUND(AA4619*(1-VLOOKUP(AF4619,Discount[],3,0)),2)","v":270.25},null,44310,"P111"]
["WK44360","Maatwerk",null,"","Opplakroeden sd 3 ruits",null,null,"ACCESSOIRES","OPPLAKROEDE","BALKON","","","3 RUITS","","Order","",false,"","",0,0,0,"",false,false,false,95.04,115,{"$f":"ROUND(AA4624*(1-VLOOKUP(AF4624,Discount[],3,0)),2)","v":95.04},null,44360,"SD/SG"]
["WK44930","Maatwerk",null,"","Afwijkende maat tot 1345 x 2995 Vlakke deuren",null,null,"TOESLAG","","VLAK","","","MAATTOESLAG","<1345X2995","Order","",false,"","",0,0,0,"",false,false,false,400,484,{"$f":"ROUND(AA4632*(1-VLOOKUP(AF4632,Discount[],3,0)),2)","v":400},null,44930,"SD/SG"]
["WK46090","Maatwerk",null,"SET","mw blank iso VH glas tbv WK1147",null,null,"GLAS","","LUXBUITEN","VNM","1147","BLANK","ISO VEILIGHEIDSGLAS","Order","",false,"","",0,0,0,"",false,false,false,115.7,140,{"$f":"ROUND(AA4639*(1-VLOOKUP(AF4639,Discount[],3,0)),2)","v":115.7},null,46090,"P105"]
["WK46190","Maatwerk",null,"","Afwijkende maat tot 1200 x 4000 Balkondeuren",null,null,"TOESLAG","","BALKON","","","MAATTOESLAG","<1200X4000","Order","",false,"","",0,0,0,"",false,false,false,80.99,98,{"$f":"ROUND(AA4644*(1-VLOOKUP(AF4644,Discount[],3,0)),2)","v":80.99},null,46190,"SD/SG"]
["WK49480","Maatwerk",null,"","WK HP kaderprofiel leveren en monteren (bij 54mm deuren) incl. infrezen",null,null,"BEWERKING","AFMONTAGE","LUXBUITEN","","","KADERPROFIEL","","Order","",false,"","",0,0,0,"",false,false,false,79.34,96,{"$f":"ROUND(AA4652*(1-VLOOKUP(AF4652,Discount[],3,0)),2)","v":79.34},null,49480,"LUXE"]
["WK53010","Maatwerk",null,"","Briefsleuf infrezing + afmontage balkon",null,null,"BEWERKING","AFMONTAGE","BALKON","","","AFMONTAGE","BRIEFSLEUF","Order","",false,"","",0,0,0,"",false,false,false,30.58,37,{"$f":"ROUND(AA4657*(1-VLOOKUP(AF4657,Discount[],3,0)),2)","v":30.58},null,53010,"SD/SG"]
["WK53350","Maatwerk",null,"","Meerprijs geïsoleerde plaat op achterzijde",null,null,"TOESLAG","","LUXBUITEN","","","","","Order","",false,"","",0,0,0,"",false,false,false,199.17,241,{"$f":"ROUND(AA4664*(1-VLOOKUP(AF4664,Discount[],3,0)),2)","v":199.17},null,53350,"LUXE"]
["WK54300","Maatwerk",null,"","Afmonteren tongstijl",null,null,"BEWERKING","AFMONTAGE","","","","TONGSTIJL","","Order","",false,"","",0,0,0,"",false,false,false,63.64,77,{"$f":"ROUND(AA4676*(1-VLOOKUP(AF4676,Discount[],3,0)),2)","v":63.64},null,54300,"LUXE"]
["WK54700","Maatwerk",null,"","Starttarief",null,null,"WMS","START_TARIFF","","","","START_TARIFF","","Order","",false,"","",0,0,0,"",false,false,false,120.66,146,{"$f":"ROUND(AA4677*(1-VLOOKUP(AF4677,Discount[],3,0)),2)","v":120.66},null,54700,"SERVICE"]
["WK55150","Maatwerk",null,"SET","mw gefigureerd serie 1 iso VH glas tbv WK8412",null,null,"GLAS","","BALKON","BS","8412","GEFIGUREERD SERIE 1","ISO VEILIGHEIDSGLAS","Order","",false,"","",0,0,0,"",false,false,false,311.57,377,{"$f":"ROUND(AA4685*(1-VLOOKUP(AF4685,Discount[],3,0)),2)","v":311.57},null,55150,"P111"]
["WK55320","Maatwerk",null,"SET","mw gefigureerd serie 1 iso VH glas tbv WK8061",null,null,"GLAS","","BALKON","BS","8061","GEFIGUREERD SERIE 1","ISO VEILIGHEIDSGLAS","Order","",false,"","",0,0,0,"",false,false,false,369.42,447,{"$f":"ROUND(AA4693*(1-VLOOKUP(AF4693,Discount[],3,0)),2)","v":369.42},null,55320,"P111"]
["WK103830","Maatwerk",null,"STUKS","mw WK6503 stomp",null,null,"DEUR","BINNEN","BINNEN","MODERN","6503","","","Order","",true,"STOMP","",0,0,38,"",false,false,false,526.88,638,{"$f":"ROUND(AA4697*(1-VLOOKUP(AF4697,Discount[],3,0)),2)","v":526.88},null,103830,"B015"]
["WK103960","Maatwerk",null,"STUKS","mw WK6514 C stomp",null,null,"DEUR","BINNEN","BINNEN","MODERN","6514","","","Order","",true,"STOMP","",0,0,38,"",false,false,false,451.39,546,{"$f":"ROUND(AA4705*(1-VLOOKUP(AF4705,Discount[],3,0)),2)","v":451.39},null,103960,"B015"]
["WK104080","Maatwerk",null,"STUKS","mw WK6534 stomp",null,null,"DEUR","BINNEN","BINNEN","MODERN","6534","","","Order","",true,"STOMP","",0,0,38,"",false,false,false,446.23,540,{"$f":"ROUND(AA4717*(1-VLOOKUP(AF4717,Discount[],3,0)),2)","v":446.23},null,104080,"B015"]
["WK104090","Maatwerk",null,"STUKS","mw WK6535 stomp",null,null,"DEUR","BINNEN","BINNEN","MODERN","6535","","","Order","",true,"STOMP","",0,0,38,"",false,false,false,495.75,600,{"$f":"ROUND(AA4718*(1-VLOOKUP(AF4718,Discount[],3,0)),2)","v":495.75},null,104090,"B015"]
["WK104170","Maatwerk",null,"STUKS","mw WK6564 stomp",null,null,"DEUR","BINNEN","BINNEN","MODERN","6564","","","Order","",true,"STOMP","",0,0,38,"",false,false,false,446.23,540,{"$f":"ROUND(AA4726*(1-VLOOKUP(AF4726,Discount[],3,0)),2)","v":446.23},null,104170,"B015"]
["WK104790","Maatwerk",null,"SET","mw facetglas mat tbv WK6512",null,null,"GLAS","","BINNEN","MODERN","6512","FACETGLAS MAT","","Order","",false,"","",0,0,0,"",false,false,false,397.57,481,{"$f":"ROUND(AA4737*(1-VLOOKUP(AF4737,Discount[],3,0)),2)","v":397.57},null,104790,"P109"]
["WK104800","Maatwerk",null,"SET","mw blank glas tbv WK6512",null,null,"GLAS","","BINNEN","MODERN","6512","BLANK","","Order","",false,"","",0,0,0,"",false,false,false,184.43,223,{"$f":"ROUND(AA4738*(1-VLOOKUP(AF4738,Discount[],3,0)),2)","v":184.43},null,104800,"P109"]
["WK104920","Maatwerk",null,"SET","mw facetglas blank tbv WK6520",null,null,"GLAS","","BINNEN","MODERN","6520","FACETGLAS BLANK","","Order","",false,"","",0,0,0,"",false,false,false,172.29,208,{"$f":"ROUND(AA4750*(1-VLOOKUP(AF4750,Discount[],3,0)),2)","v":172.29},null,104920,"P109"]
["WK104990","Maatwerk",null,"SET","mw mat glas tbv WK6522",null,null,"GLAS","","BINNEN","MODERN","6522","MAT","","Order","",false,"","",0,0,0,"",false,false,false,198.05,240,{"$f":"ROUND(AA4757*(1-VLOOKUP(AF4757,Discount[],3,0)),2)","v":198.05},null,104990,"P109"]
["WK105020","Maatwerk",null,"SET","mw blank glas tbv WK6526",null,null,"GLAS","","BINNEN","MODERN","6526","BLANK","","Order","",false,"","",0,0,0,"",false,false,false,194.21,235,{"$f":"ROUND(AA4758*(1-VLOOKUP(AF4758,Discount[],3,0)),2)","v":194.21},null,105020,"P109"]
["WK105140","Maatwerk",null,"SET","mw facetglas blank tbv WK6535",null,null,"GLAS","","BINNEN","MODERN","6535","FACETGLAS BLANK","","Order","",false,"","",0,0,0,"",false,false,false,172.73,209,{"$f":"ROUND(AA4770*(1-VLOOKUP(AF4770,Discount[],3,0)),2)","v":172.73},null,105140,"P109"]
["WK105220","Maatwerk",null,"SET","mw mat glas tbv WK6542/6552",null,null,"GLAS","","BINNEN","MODERN","6542","MAT","6542/6552","Order","",false,"","",0,0,0,"",false,false,false,198.05,240,{"$f":"ROUND(AA4778*(1-VLOOKUP(AF4778,Discount[],3,0)),2)","v":198.05},null,105220,"P109"]
["WK105240","Maatwerk",null,"SET","mw facetglas mat tbv WK6561",null,null,"GLAS","","BINNEN","MODERN","6561","FACETGLAS MAT","","Order","",false,"","",0,0,0,"",false,false,false,398.35,482,{"$f":"ROUND(AA4780*(1-VLOOKUP(AF4780,Discount[],3,0)),2)","v":398.35},null,105240,"P109"]
["WK105340","Maatwerk",null,"SET","mw mat glas tbv WK6565",null,null,"GLAS","","BINNEN","MODERN","6565","MAT","","Order","",false,"","",0,0,0,"",false,false,false,297.07,359,{"$f":"ROUND(AA4790*(1-VLOOKUP(AF4790,Discount[],3,0)),2)","v":297.07},null,105340,"P109"]
["WK105420","Maatwerk",null,"SET","mw mat glas tbv WK6592",null,null,"GLAS","","BINNEN","MODERN","6592","MAT","","Order","",false,"","",0,0,0,"",false,false,false,198.35,240,{"$f":"ROUND(AA4798*(1-VLOOKUP(AF4798,Discount[],3,0)),2)","v":198.35},null,105420,"P109"]
["WK105550","Maatwerk",null,"SET","mw gil tbv WK6533/6582 model 1",null,null,"GLAS","","BINNEN","MODERN","6533","GLAS-IN-LOOD 1","6533/6582","Order","",false,"","",0,0,0,"",false,false,false,270.25,327,{"$f":"ROUND(AA4803*(1-VLOOKUP(AF4803,Discount[],3,0)),2)","v":270.25},null,105550,"P109"]
["WK105690","Maatwerk",null,"","Afmontage glas, 2 ruiten per deur",null,null,"BEWERKING","AFMONTAGE","BINNEN","","","MONTAGE GLAS","2 RUITEN","Order","",false,"","",0,0,0,"",false,false,false,62.39,75,{"$f":"ROUND(AA4811*(1-VLOOKUP(AF4811,Discount[],3,0)),2)","v":62.39},null,105690,"LUXE"]
["WK105710","Maatwerk",null,"","Afmontage glas, 4 ruiten per deur",null,null,"BEWERKING","AFMONTAGE","BINNEN","","","MONTAGE GLAS","4 RUITEN","Order","",false,"","",0,0,0,"",false,false,false,73.57,89,{"$f":"ROUND(AA4813*(1-VLOOKUP(AF4813,Discount[],3,0)),2)","v":73.57},null,105710,"LUXE"]
["WK106080","Maatwerk",null,"","Aflak zijdeglans in RAL kleur naar keuze",null,null,"BEWERKING","VERF","BINNEN","MODERN","","","","Order","",false,"","",0,0,0,"",false,false,false,176.03,213,{"$f":"ROUND(AA4823*(1-VLOOKUP(AF4823,Discount[],3,0)),2)","v":176.03},null,106080,"LUXE"]
["WK106240","Maatwerk",null,"STUKS","mw blank glas incl. 8 kleine ruitjes tbv WK6524",null,null,"GLAS","","BINNEN","MODERN","6524","BLANK+KL RUITJES","","Order","",false,"","",0,0,0,"",false,false,false,224.79,272,{"$f":"ROUND(AA4831*(1-VLOOKUP(AF4831,Discount[],3,0)),2)","v":224.79},null,106240,"P109"]
["WK106680","Maatwerk",null,"SET","mw mat gelaagd glas tbv WK6532",null,null,"GLAS","","BINNEN","MODERN","6532","MAT GELAAGD","","Order","",false,"","",0,0,0,"",false,false,false,148.54,180,{"$f":"ROUND(AA4836*(1-VLOOKUP(AF4836,Discount[],3,0)),2)","v":148.54},null,106680,"P109"]
["WK106820","Maatwerk",null,"SET","mw mat gelaagd glas tbv WK6565",null,null,"GLAS","","BINNEN","MODERN","6565","MAT GELAAGD","","Order","",false,"","",0,0,0,"",false,false,false,297.07,359,{"$f":"ROUND(AA4844*(1-VLOOKUP(AF4844,Discount[],3,0)),2)","v":297.07},null,106820,"P109"]
["WK106940","Maatwerk",null,"STUKS","mw WK6609 stomp",null,null,"DEUR","BINNEN","BINNEN","MODERN","6609","","","Order","",true,"STOMP","",0,0,38,"",false,false,false,547.71,663,{"$f":"ROUND(AA4851*(1-VLOOKUP(AF4851,Discount[],3,0)),2)","v":547.71},null,106940,"B015"]
["WK107380","Maatwerk",null,"SET","mw gil tbv WK6533/6582 model 3",null,null,"GLAS","","BINNEN","MODERN","6533","GLAS-IN-LOOD 3","6533/6582","Order","",false,"","",0,0,0,"",false,false,false,270.25,327,{"$f":"ROUND(AA4856*(1-VLOOKUP(AF4856,Discount[],3,0)),2)","v":270.25},null,107380,"P109"]
["WK109280","Maatwerk",null,"","bew scharnierinkrozingen Invisible",null,null,"BEWERKING","INFREZEN","BINNEN","","","SCHARNIERINKROZING","","Order","",false,"","",0,0,0,"",false,false,false,11.57,14,{"$f":"ROUND(AA4864*(1-VLOOKUP(AF4864,Discount[],3,0)),2)","v":11.57},null,109280,"LUXE"]
["WK109460","Maatwerk",null,"STUKS","mw WK6833 stomp",null,null,"DEUR","BINNEN","BINNEN","MODERN","6833","","","Order","",true,"STOMP","",0,0,38,"",false,false,false,484.38,586,{"$f":"ROUND(AA4869*(1-VLOOKUP(AF4869,Discount[],3,0)),2)","v":484.38},null,109460,"B015"]
["WK109680","Maatwerk",null,"STUKS","mw WK6893 stomp",null,null,"DEUR","BINNEN","BINNEN","MODERN","6893","","","Order","",true,"STOMP","",0,0,38,"",false,false,false,551.16,667,{"$f":"ROUND(AA4877*(1-VLOOKUP(AF4877,Discount[],3,0)),2)","v":551.16},null,109680,"B015"]
["WK109800","Maatwerk",null,"SET","mw facetglas mat tbv WK6820",null,null,"GLAS","","BINNEN","MODERN","6820","FACETGLAS MAT","","Order","",false,"","",0,0,0,"",false,false,false,265.29,321,{"$f":"ROUND(AA4884*(1-VLOOKUP(AF4884,Discount[],3,0)),2)","v":265.29},null,109800,"P109"]
["WK109850","Maatwerk",null,"SET","mw facetglas mat tbv WK6833",null,null,"GLAS","","BINNEN","MODERN","6833","FACETGLAS MAT","","Order","",false,"","",0,0,0,"",false,false,false,133.06,161,{"$f":"ROUND(AA4889*(1-VLOOKUP(AF4889,Discount[],3,0)),2)","v":133.06},null,109850,"P109"]
["WK110030","Maatwerk",null,"SET","mw blank glas tbv WK6852",null,null,"GLAS","","BINNEN","MODERN","6852","BLANK","","Order","",false,"","",0,0,0,"",false,false,false,123.14,149,{"$f":"ROUND(AA4897*(1-VLOOKUP(AF4897,Discount[],3,0)),2)","v":123.14},null,110030,"P109"]
["WK110120","Maatwerk",null,"STUKS","mw gil tbv WK6861 model D2",null,null,"GLAS","","BINNEN","MODERN","6861","GLAS-IN-LOOD D2","","Order","",false,"","",0,0,0,"",false,false,false,636.36,770,{"$f":"ROUND(AA4906*(1-VLOOKUP(AF4906,Discount[],3,0)),2)","v":636.36},null,110120,"P109"]
["WK110150","Maatwerk",null,"SET","mw blank glas tbv WK6865",null,null,"GLAS","","BINNEN","MODERN","6865","BLANK","","Order","",false,"","",0,0,0,"",false,false,false,185.12,224,{"$f":"ROUND(AA4909*(1-VLOOKUP(AF4909,Discount[],3,0)),2)","v":185.12},null,110150,"P109"]
["WK110230","Maatwerk",null,"SET","mw mat gelaagd glas tbv WK6896",null,null,"GLAS","","BINNEN","MODERN","6896","MAT GELAAGD","","Order","",false,"","",0,0,0,"",false,false,false,198.35,240,{"$f":"ROUND(AA4917*(1-VLOOKUP(AF4917,Discount[],3,0)),2)","v":198.35},null,110230,"P109"]
["WK110280","Maatwerk",null,"SET","mw mat gelaagd glas tbv WK6894",null,null,"GLAS","","BINNEN","MODERN","6894","MAT GELAAGD","","Order","",false,"","",0,0,0,"",false,false,false,198.35,240,{"$f":"ROUND(AA4922*(1-VLOOKUP(AF4922,Discount[],3,0)),2)","v":198.35},null,110280,"P109"]
["WK132820","Maatwerk",null,"SET","mw mat gelaagd glas set tbv WK6513",null,null,"GLAS","","BINNEN","MODERN","6513","MAT GELAAGD","","Order","",false,"","",0,0,0,"",false,false,false,297.07,359,{"$f":"ROUND(AA4931*(1-VLOOKUP(AF4931,Discount[],3,0)),2)","v":297.07},null,132820,"P109"]
["WK133840","Maatwerk",null,"SET","mw facetglas mat tbv WK6517",null,null,"GLAS","","BINNEN","MODERN","6517","FACETGLAS MAT","","Order","",false,"","",0,0,0,"",false,false,false,132.52,160,{"$f":"ROUND(AA4937*(1-VLOOKUP(AF4937,Discount[],3,0)),2)","v":132.52},null,133840,"P109"]
["WK133950","Maatwerk",null,"SET","mw facetglas blank tbv WK6518",null,null,"GLAS","","BINNEN","MODERN","6518","FACETGLAS BLANK","","Order","",false,"","",0,0,0,"",false,false,false,258.43,313,{"$f":"ROUND(AA4942*(1-VLOOKUP(AF4942,Discount[],3,0)),2)","v":258.43},null,133950,"P109"]
["WK137730","Maatwerk",null,"SET","mw gefigureerd serie 1 iso VH glas tbv 2033",null,null,"GLAS","","LUXBUITEN","VD","2033","GEFIGUREERD SERIE 1","ISO VEILIGHEIDSGLAS","Order","",false,"","",0,0,0,"",false,false,false,289.26,350,{"$f":"ROUND(AA4950*(1-VLOOKUP(AF4950,Discount[],3,0)),2)","v":289.26},null,137730,"P106"]
["WK137810","Maatwerk",null,"","Voorlaksysteem RAL 9010, 7038, 5013, 3003 of groen Terrasdeuren",null,null,"BEWERKING","VERF","LUXBUITEN","TD","","","","Order","",false,"","",0,0,0,"",false,false,false,115.7,140,{"$f":"ROUND(AA4955*(1-VLOOKUP(AF4955,Discount[],3,0)),2)","v":115.7},null,137810,"LUXE"]
["WK142740","Maatwerk",null,"SET","mw gil tbv WK6561 model 3",null,null,"GLAS","","BINNEN","MODERN","6561","GLAS-IN-LOOD 3","","Order","",false,"","",0,0,0,"",false,false,false,700.83,848,{"$f":"ROUND(AA4964*(1-VLOOKUP(AF4964,Discount[],3,0)),2)","v":700.83},null,142740,"P109"]
["WK142800","Maatwerk",null,"SET","mw gil tbv WK6542/6552 model 7",null,null,"GLAS","","BINNEN","MODERN","6542","GLAS-IN-LOOD 7","6542/6552","Order","",false,"","",0,0,0,"",false,false,false,524.79,635,{"$f":"ROUND(AA4970*(1-VLOOKUP(AF4970,Discount[],3,0)),2)","v":524.79},null,142800,"P109"]
["WK142850","Maatwerk",null,"SET","mw gil tbv WK6852 model D7",null,null,"GLAS","","BINNEN","MODERN","6852","GLAS-IN-LOOD D7","","Order","",false,"","",0,0,0,"",false,false,false,524.79,635,{"$f":"ROUND(AA4975*(1-VLOOKUP(AF4975,Discount[],3,0)),2)","v":524.79},null,142850,"P109"]
["WK143590","Maatwerk",null,"STUKS","mw WK6242 stomp",null,null,"DEUR","BINNEN","BINNEN","MODERN","6242","","","Order","MDF",true,"STOMP","",0,0,38,"",false,false,false,504.64,611,{"$f":"ROUND(AA4983*(1-VLOOKUP(AF4983,Discount[],3,0)),2)","v":504.64},null,143590,"B015"]
["WK144690","Maatwerk",null,"STUKS","mw WK6355 stomp",null,null,"DEUR","BINNEN","BINNEN","MODERN","6355","","","Order","MDF",true,"STOMP","",0,0,38,"",false,false,false,400.86,485,{"$f":"ROUND(AA4989*(1-VLOOKUP(AF4989,Discount[],3,0)),2)","v":400.86},null,144690,"B015"]
["WK146020","Maatwerk",null,"SET","mw gefigureerd serie 1 iso VH glas tbv WK1436",null,null,"GLAS","","LUXBUITEN","VNM","1436","GEFIGUREERD SERIE 1","ISO VEILIGHEIDSGLAS","Order","",false,"","",0,0,0,"",false,false,false,115.7,140,{"$f":"ROUND(AA4995*(1-VLOOKUP(AF4995,Discount[],3,0)),2)","v":115.7},null,146020,"P105"]
["WK146220","Maatwerk",null,"SET","mw blank iso VH glas tbv WK1548",null,null,"GLAS","","LUXBUITEN","VD","1548","BLANK","ISO VEILIGHEIDSGLAS","Order","",false,"","",0,0,0,"",false,false,false,159.5,193,{"$f":"ROUND(AA5003*(1-VLOOKUP(AF5003,Discount[],3,0)),2)","v":159.5},null,146220,"P106"]
["WK148520","Maatwerk",null,"","Afmontage glas, 8 ruiten per deur voor VLAK en BALKON",null,null,"BEWERKING","AFMONTAGE","","","","GLAS 8 RUITEN","","Order","",false,"","",0,0,0,"",false,false,false,173.55,210,{"$f":"ROUND(AA5015*(1-VLOOKUP(AF5015,Discount[],3,0)),2)","v":173.55},null,148520,"SD/SG"]
["WK148600","Maatwerk",null,"STUKS","mw WK6305 stomp",null,null,"DEUR","BINNEN","BINNEN","MODERN","6305","","","Order","MDF",true,"STOMP","",0,0,38,"",false,false,false,449.72,544,{"$f":"ROUND(AA5018*(1-VLOOKUP(AF5018,Discount[],3,0)),2)","v":449.72},null,148600,"B015"]
["WK150880","Maatwerk",null,"","Frezen schuifdeurtussenaansluiting Strak",null,null,"BEWERKING","INFREZEN","BINNEN","","","","","Order","",false,"","",0,0,0,"",false,false,false,149.59,181,{"$f":"ROUND(AA5023*(1-VLOOKUP(AF5023,Discount[],3,0)),2)","v":149.59},null,150880,"LUXE"]
["WK158700","Maatwerk",null,"SET","mw gefigureerd serie 1 iso VH glas tbv WK1973",null,null,"GLAS","","LUXBUITEN","VD","1973","GEFIGUREERD SERIE 1","ISO VEILIGHEIDSGLAS","Order","",false,"","",0,0,0,"",false,false,false,577.69,699,{"$f":"ROUND(AA5035*(1-VLOOKUP(AF5035,Discount[],3,0)),2)","v":577.69},null,158700,"P106"]
["WK158810","Maatwerk",null,"SET","mw blank iso glas tbv 2023",null,null,"GLAS","","LUXBUITEN","VD","2023","BLANK","ISOLATIEGLAS","Order","",false,"","",0,0,0,"",false,false,false,113.22,137,{"$f":"ROUND(AA5036*(1-VLOOKUP(AF5036,Discount[],3,0)),2)","v":113.22},null,158810,"P106"]
["WK161870","Maatwerk",null,"SET","mw mat glas tbv WK6510",null,null,"GLAS","","BINNEN","MODERN","6510","MAT","","Order","",false,"","",0,0,0,"",false,false,false,297.07,359,{"$f":"ROUND(AA5048*(1-VLOOKUP(AF5048,Discount[],3,0)),2)","v":297.07},null,161870,"P109"]
["WK162390","Maatwerk",null,"SET","mw blank iso glas tbv WK4023",null,null,"GLAS","","LUXBUITEN","TD","4023","BLANK","ISOLATIEGLAS","Order","",false,"","",0,0,0,"",false,false,false,242.98,294,{"$f":"ROUND(AA5051*(1-VLOOKUP(AF5051,Discount[],3,0)),2)","v":242.98},null,162390,"P106"]
["WK163080","Maatwerk",null,"STUKS","Modeltoeslag 3012",null,null,"TOESLAG","","VLAK","","","MODELTOESLAG","3012","Order","",false,"","",0,0,0,"",false,false,false,340.04,411,{"$f":"ROUND(AA5056*(1-VLOOKUP(AF5056,Discount[],3,0)),2)","v":340.04},null,163080,"SD/SG"]
["WK163200","Maatwerk",null,"STUKS","Modeltoeslag 3083",null,null,"TOESLAG","","VLAK","","","MODELTOESLAG","3083","Order","",false,"","",0,0,0,"",false,false,false,340.04,411,{"$f":"ROUND(AA5068*(1-VLOOKUP(AF5068,Discount[],3,0)),2)","v":340.04},null,163200,"SD/SG"]
["WK163440","Maatwerk",null,"SET","mw blank iso VH glas tbv 3013 (alle model-subgroepen)",null,null,"GLAS","","VLAK","TC","3013","BLANK","ISO VEILIGHEIDSGLAS","Order","",false,"","",0,0,0,"",false,false,false,137.19,166,{"$f":"ROUND(AA5076*(1-VLOOKUP(AF5076,Discount[],3,0)),2)","v":137.19},null,163440,"P111"]
["WK163520","Maatwerk",null,"SET","mw blank iso glas tbv 3018 (alle model-subgroepen)",null,null,"GLAS","","VLAK","TC","3018","BLANK","ISOLATIEGLAS","Order","",false,"","",0,0,0,"",false,false,false,103.31,125,{"$f":"ROUND(AA5082*(1-VLOOKUP(AF5082,Discount[],3,0)),2)","v":103.31},null,163520,"P111"]
["WK163590","Maatwerk",null,"SET","mw blank iso VH glas tbv 3019 (alle model-subgroepen)",null,null,"GLAS","","VLAK","TC","3019","BLANK","ISO VEILIGHEIDSGLAS","Order","",false,"","",0,0,0,"",false,false,false,137.19,166,{"$f":"ROUND(AA5088*(1-VLOOKUP(AF5088,Discount[],3,0)),2)","v":137.19},null,163590,"P111"]
["WK163690","Maatwerk",null,"SET","mw blank iso VH glas tbv 3042 (alle model-subgroepen)",null,null,"GLAS","","VLAK","TC","3042","BLANK","ISO VEILIGHEIDSGLAS","Order","",false,"","",0,0,0,"",false,false,false,137.19,166,{"$f":"ROUND(AA5096*(1-VLOOKUP(AF5096,Discount[],3,0)),2)","v":137.19},null,163690,"P111"]
["WK163750","Maatwerk",null,"SET","mw gefigureerd serie 1 iso VH glas tbv 3043 (alle model-subgroepen)",null,null,"GLAS","","VLAK","TC","3043","GEFIGUREERD SERIE 1","ISO VEILIGHEIDSGLAS","Order","",false,"","",0,0,0,"",false,false,false,145.45,176,{"$f":"ROUND(AA5101*(1-VLOOKUP(AF5101,Discount[],3,0)),2)","v":145.45},null,163750,"P111"]
["WK163800","Maatwerk",null,"SET","mw gefigureerd serie 1 iso VH glas tbv 3068 (alle model-subgroepen)",null,null,"GLAS","","VLAK","TC","3068","GEFIGUREERD SERIE 1","ISO VEILIGHEIDSGLAS","Order","",false,"","",0,0,0,"",false,false,false,145.45,176,{"$f":"ROUND(AA5105*(1-VLOOKUP(AF5105,Discount[],3,0)),2)","v":145.45},null,163800,"P111"]
["WK163940","Maatwerk",null,"SET","mw blank iso VH glas tbv 3083 (alle model-subgroepen)",null,null,"GLAS","","VLAK","TC","3083","BLANK","ISO VEILIGHEIDSGLAS","Order","",false,"","",0,0,0,"",false,false,false,329.75,399,{"$f":"ROUND(AA5116*(1-VLOOKUP(AF5116,Discount[],3,0)),2)","v":329.75},null,163940,"P111"]
["WK164000","Maatwerk",null,"SET","mw gefigureerd serie 1 iso VH glas tbv 3084 (alle model-subgroepen)",null,null,"GLAS","","VLAK","TC","3084","GEFIGUREERD SERIE 1","ISO VEILIGHEIDSGLAS","Order","",false,"","",0,0,0,"",false,false,false,369.42,447,{"$f":"ROUND(AA5121*(1-VLOOKUP(AF5121,Discount[],3,0)),2)","v":369.42},null,164000,"P111"]
["WK165670","Maatwerk",null,"SET","mw blank iso VH glas tbv WK042 TC geisoleerd",null,null,"GLAS","","BALKON","ISO","042TC","BLANK","ISO VEILIGHEIDSGLAS","Order","",false,"","",0,0,0,"",false,false,false,268.57,325,{"$f":"ROUND(AA5129*(1-VLOOKUP(AF5129,Discount[],3,0)),2)","v":268.57},null,165670,"P111"]
["WK165830","Maatwerk",null,"SET","mw blank iso VH glas tbv WK046 TC geisoleerd",null,null,"GLAS","","BALKON","ISO","046TC","BLANK","ISO VEILIGHEIDSGLAS","Order","",false,"","",0,0,0,"",false,false,false,210.12,254,{"$f":"ROUND(AA5137*(1-VLOOKUP(AF5137,Discount[],3,0)),2)","v":210.12},null,165830,"P111"]
["WK165850","Maatwerk",null,"SET","mw blank iso glas tbv WK047 TC geisoleerd",null,null,"GLAS","","BALKON","ISO","047TC","BLANK","ISOLATIEGLAS","Order","",false,"","",0,0,0,"",false,false,false,120.32,146,{"$f":"ROUND(AA5138*(1-VLOOKUP(AF5138,Discount[],3,0)),2)","v":120.32},null,165850,"P111"]
["WK166040","Maatwerk",null,"SET","mw triple blank iso glas tbv WK047 TC geisoleerd",null,null,"GLAS","","BALKON","ISO","047TC","BLANK","ISO TRIPLE GLAS","Order","",false,"","",0,0,0,"",false,false,false,235.61,285,{"$f":"ROUND(AA5149*(1-VLOOKUP(AF5149,Discount[],3,0)),2)","v":235.61},null,166040,"P111"]
["WK166090","Maatwerk",null,"SET","mw triple blank iso VH glas tbv WK044 TC geisoleerd",null,null,"GLAS","","BALKON","ISO","044TC","BLANK","ISO TRIPLE VHGLAS","Order","",false,"","",0,0,0,"",false,false,false,374.22,453,{"$f":"ROUND(AA5154*(1-VLOOKUP(AF5154,Discount[],3,0)),2)","v":374.22},null,166090,"P111"]
["WK168640","Maatwerk",null,"STUKS","Modeltoeslag 3085",null,null,"TOESLAG","","VLAK","","","MODELTOESLAG","3085","Order","",false,"","",0,0,0,"",false,false,false,433.18,524,{"$f":"ROUND(AA5162*(1-VLOOKUP(AF5162,Discount[],3,0)),2)","v":433.18},null,168640,"SD/SG"]
["WK175310","Maatwerk",null,"STUKS","mw PEFC-CS HW WK7410 54mm",null,null,"","","BALKON","BS","7410","","","Order","PEFCCSHW",false,"","",0,0,54,"",false,false,false,1309.09,1584,{"$f":"ROUND(AA5169*(1-VLOOKUP(AF5169,Discount[],3,0)),2)","v":1309.09},null,175310,"E013"]
["WK18090","Combinatieregel ",null,"STUKS","vrd WK043 38mm, FSC® cert. Premium Hardwood, RAL 9010",null,null,"DEUR","BALKON","BALKON","BS","043","","","Inventory","FSCPHW",true,"","RAL 9010",0,0,38,"",false,false,false,453.71999999999997,549,{"$f":"ROUND(SUMIF('Combination lines'!$A:$H,Report!$AE5174,'Combination lines'!$H:$H),2)","v":453.72},null,18090,"E075"]
["WK18180","Combinatieregel ",null,"STUKS","vrd WK048 38mm, FSC® cert. Hardwood, RAL 7035",null,null,"DEUR","BALKON","BALKON","BS","048","","","Inventory","FSCHW",true,"","RAL 7035",0,0,38,"",false,false,false,486.77,589,{"$f":"ROUND(SUMIF('Combination lines'!$A:$H,Report!$AE5182,'Combination lines'!$H:$H),2)","v":486.77},null,18180,"E065"]
["WK18330","Combinatieregel ",null,"STUKS","vrd WK048XL 38mm, FSC® cert. Premium Hardwood, RAL 9010",null,null,"DEUR","BALKON","BALKON","BS","048","","","Inventory","FSCPHW",true,"","RAL 9010",0,0,38,"",true,false,false,638.01,772,{"$f":"ROUND(SUMIF('Combination lines'!$A:$H,Report!$AE5187,'Combination lines'!$H:$H),2)","v":638.01},null,18330,"E075"]
["WK49210","Combinatieregel ",null,"SET","Set brandwerende slotplaatjes t.b.v.driepuntssluiting",null,null,"HENS","SLOTEN","","","","BRANDW. PLAATJES","","Inventory","",false,"","",0,0,0,"",false,false,false,35.540000000000006,43,{"$f":"ROUND(SUMIF('Combination lines'!$A:$H,Report!$AE5195,'Combination lines'!$H:$H),2)","v":35.54},null,49210,"O505"]
["WK53560","Combinatieregel ",null,"","Afwijkende maat t/m 1195 x 2495 AluMaxx® ingroefbaar 54mm",null,null,"TOESLAG","","VLAK","AL","","MAATTOESLAG","","Order","",false,"","",0,0,0,"",false,false,false,362.81000000000006,439,{"$f":"ROUND(SUMIF('Combination lines'!$A:$H,Report!$AE5202,'Combination lines'!$H:$H),2)","v":362.81},null,53560,"SD/SG"]
["WK57930","Combinatieregel COM0000000084",null,"","mw WK042-8 ruits 54mm, FSC® cert. Premium Hardwood",null,null,"DEUR","BALKON","BALKON","BS","042","8 RUITS","","Order","FSCPHW",true,"","",0,0,54,"",false,false,false,856.1900000000002,1036,{"$f":"ROUND(SUMIF('Combination lines'!$A:$H,Report!$AE5207,'Combination lines'!$H:$H),2)","v":856.19},null,57930,""]
["WK58070","Combinatieregel COM0000000098",null,"","mw WK049-4 ruits 38mm, FSC® cert. Hardwood",null,null,"DEUR","BALKON","BALKON","BS","049","4 RUITS","","Order","FSCHW",true,"","",0,0,38,"",false,false,false,814.0400000000001,985,{"$f":"ROUND(SUMIF('Combination lines'!$A:$H,Report!$AE5215,'Combination lines'!$H:$H),2)","v":814.04},null,58070,""]
["WK58240","Combinatieregel COM0000000115",null,"","mw WK8171-6 ruits 38mm, FSC® cert. Premium Hardwood",null,null,"DEUR","BALKON","BALKON","BS","8171","6 RUITS","","Order","FSCPHW",true,"","",0,0,38,"",false,false,false,1256.1900000000003,1520,{"$f":"ROUND(SUMIF('Combination lines'!$A:$H,Report!$AE5223,'Combination lines'!$H:$H),2)","v":1256.19},null,58240,""]
["WK58390","Combinatieregel COM0000000130",null,"","WK Veilig-duosluit, gemont., incl. infr., incl. nast. sluitkomm. en -platen, excl. profielcil., incl. duod",null,null,"HENS","SLOTEN","","","","","","Order","",false,"","",0,0,0,"",false,false,false,475.20000000000005,575,{"$f":"ROUND(SUMIF('Combination lines'!$A:$H,Report!$AE5231,'Combination lines'!$H:$H),2)","v":475.2},null,58390,""]
["WK58440","Combinatieregel COM0000000135",null,"","mw WK1361 38mm, FSC® cert. Premium Hardwood",null,null,"DEUR","LUXBUITEN","LUXBUITEN","VD","1361","","","Order","FSCPHW",true,"","",0,0,38,"",false,false,false,2577.68,3119,{"$f":"ROUND(SUMIF('Combination lines'!$A:$H,Report!$AE5235,'Combination lines'!$H:$H),2)","v":2577.68},null,58440,""]
["WK58630","Combinatieregel COM0000000154",null,"","mw WK1361-2 38mm, FSC® cert. Premium Hardwood",null,null,"DEUR","LUXBUITEN","LUXBUITEN","VD","1361-2","","","Order","FSCPHW",true,"","",0,0,38,"",false,false,false,2775.2,3358,{"$f":"ROUND(SUMIF('Combination lines'!$A:$H,Report!$AE5240,'Combination lines'!$H:$H),2)","v":2775.2},null,58630,""]
["WK58890","Combinatieregel COM0000000180",null,"","mw WK1382-1 38mm, FSC® cert. Premium Hardwood",null,null,"DEUR","LUXBUITEN","LUXBUITEN","VD","1382-1","","","Order","FSCPHW",true,"","",0,0,38,"",false,false,false,3538.01,4281,{"$f":"ROUND(SUMIF('Combination lines'!$A:$H,Report!$AE5248,'Combination lines'!$H:$H),2)","v":3538.01},null,58890,""]
["WK59180","Combinatieregel COM0000000209",null,"","mw WK1423 38mm, FSC® cert. Premium Hardwood",null,null,"DEUR","LUXBUITEN","LUXBUITEN","VD","1423","","","Order","FSCPHW",true,"","",0,0,38,"",false,false,false,2608.26,3156,{"$f":"ROUND(SUMIF('Combination lines'!$A:$H,Report!$AE5256,'Combination lines'!$H:$H),2)","v":2608.26},null,59180,""]
["WK59260","Combinatieregel COM0000000217",null,"","mw WK1433 38mm, FSC® cert. Premium Hardwood",null,null,"DEUR","LUXBUITEN","LUXBUITEN","DD","1433","","","Order","FSCPHW",true,"","",0,0,38,"",false,false,false,2048.75,2479,{"$f":"ROUND(SUMIF('Combination lines'!$A:$H,Report!$AE5260,'Combination lines'!$H:$H),2)","v":2048.75},null,59260,""]
["WK59650","Combinatieregel COM0000000256",null,"","mw WK1555 38mm, FSC® cert. Premium Hardwood",null,null,"DEUR","LUXBUITEN","LUXBUITEN","VD","1555","","","Order","FSCPHW",true,"","",0,0,38,"",false,false,false,2336.35,2827,{"$f":"ROUND(SUMIF('Combination lines'!$A:$H,Report!$AE5268,'Combination lines'!$H:$H),2)","v":2336.35},null,59650,""]
["WK59840","Combinatieregel COM0000000275",null,"","mw WK1131 38mm, FSC® cert. Premium Hardwood",null,null,"DEUR","LUXBUITEN","LUXBUITEN","VNM","1131","","","Order","FSCPHW",true,"","",0,0,38,"",false,false,false,2352.89,2847,{"$f":"ROUND(SUMIF('Combination lines'!$A:$H,Report!$AE5273,'Combination lines'!$H:$H),2)","v":2352.89},null,59840,""]
["WK60200","Combinatieregel COM0000000311",null,"","mw WK1721 38mm, FSC® cert. Premium Hardwood",null,null,"DEUR","LUXBUITEN","LUXBUITEN","VD","1721","","","Order","FSCPHW",true,"","",0,0,38,"",false,false,false,1297.5099999999998,1570,{"$f":"ROUND(SUMIF('Combination lines'!$A:$H,Report!$AE5281,'Combination lines'!$H:$H),2)","v":1297.51},null,60200,""]
["WK60500","Combinatieregel COM0000000341",null,"","mw WK1133 38mm, FSC® cert. Premium Hardwood",null,null,"DEUR","LUXBUITEN","LUXBUITEN","VNM","1133","","","Order","FSCPHW",true,"","",0,0,38,"",false,false,false,3482.65,4214,{"$f":"ROUND(SUMIF('Combination lines'!$A:$H,Report!$AE5289,'Combination lines'!$H:$H),2)","v":3482.65},null,60500,""]
["WK60620","Combinatieregel COM0000000353",null,"","mw WK1851 38mm, FSC® cert. Premium Hardwood",null,null,"DEUR","LUXBUITEN","LUXBUITEN","VD","1851","","","Order","FSCPHW",true,"","",0,0,38,"",false,false,false,2314.8700000000003,2801,{"$f":"ROUND(SUMIF('Combination lines'!$A:$H,Report!$AE5293,'Combination lines'!$H:$H),2)","v":2314.87},null,60620,""]
["WK61000","Combinatieregel COM0000000391",null,"","mw WK2132 38mm, FSC® cert. Premium Hardwood",null,null,"DEUR","LUXBUITEN","LUXBUITEN","DD","2132","","","Order","FSCPHW",true,"","",0,0,38,"",false,false,false,1688.4199999999998,2043,{"$f":"ROUND(SUMIF('Combination lines'!$A:$H,Report!$AE5301,'Combination lines'!$H:$H),2)","v":1688.42},null,61000,""]
["WK61330","Combinatieregel COM0000000424",null,"","mw WK2232 38mm, FSC® cert. Premium Hardwood",null,null,"DEUR","LUXBUITEN","LUXBUITEN","DD","2232","","","Order","FSCPHW",true,"","",0,0,38,"",false,false,false,1864.45,2256,{"$f":"ROUND(SUMIF('Combination lines'!$A:$H,Report!$AE5309,'Combination lines'!$H:$H),2)","v":1864.45},null,61330,""]
["WK61960","Combinatieregel COM0000000487",null,"","mw WK2535 38mm, FSC® cert. Premium Hardwood",null,null,"DEUR","LUXBUITEN","LUXBUITEN","DD","2535","","","Order","FSCPHW",true,"","",0,0,38,"",false,false,false,1792.55,2169,{"$f":"ROUND(SUMIF('Combination lines'!$A:$H,Report!$AE5318,'Combination lines'!$H:$H),2)","v":1792.55},null,61960,""]
["WK62090","Combinatieregel COM0000000500",null,"","mw WK2549 38mm, FSC® cert. Premium Hardwood",null,null,"DEUR","LUXBUITEN","LUXBUITEN","DD","2549","","","Order","FSCPHW",true,"","",0,0,38,"",false,false,false,2010.7299999999998,2433,{"$f":"ROUND(SUMIF('Combination lines'!$A:$H,Report!$AE5321,'Combination lines'!$H:$H),2)","v":2010.73},null,62090,""]
["WK62810","Combinatieregel COM0000000572",null,"","mw WK1133 54mm, FSC® cert. Premium Hardwood",null,null,"DEUR","LUXBUITEN","LUXBUITEN","VNM","1133","","","Order","FSCPHW",true,"","",0,0,54,"",false,false,false,3732.24,4516,{"$f":"ROUND(SUMIF('Combination lines'!$A:$H,Report!$AE5333,'Combination lines'!$H:$H),2)","v":3732.24},null,62810,""]
["WK62840","Combinatieregel COM0000000575",null,"","mw WK1141 54mm, FSC® cert. Premium Hardwood",null,null,"DEUR","LUXBUITEN","LUXBUITEN","VNM","1141","","","Order","FSCPHW",true,"","",0,0,54,"",false,false,false,2066.1099999999997,2500,{"$f":"ROUND(SUMIF('Combination lines'!$A:$H,Report!$AE5334,'Combination lines'!$H:$H),2)","v":2066.11},null,62840,""]
["WK63180","Combinatieregel COM0000000609",null,"","mw WK1223-1 54mm, FSC® cert. Premium Hardwood",null,null,"DEUR","LUXBUITEN","LUXBUITEN","VD","1223-1","","","Order","FSCPHW",true,"","",0,0,54,"",false,false,false,2958.67,3580,{"$f":"ROUND(SUMIF('Combination lines'!$A:$H,Report!$AE5343,'Combination lines'!$H:$H),2)","v":2958.67},null,63180,""]
["WK63550","Combinatieregel COM0000000646",null,"","mw WK1313 54mm, FSC® cert. Premium Hardwood",null,null,"DEUR","LUXBUITEN","LUXBUITEN","VD","1313","","","Order","FSCPHW",true,"","",0,0,54,"",false,false,false,2558.67,3096,{"$f":"ROUND(SUMIF('Combination lines'!$A:$H,Report!$AE5353,'Combination lines'!$H:$H),2)","v":2558.67},null,63550,""]
["WK63570","Combinatieregel COM0000000648",null,"","mw WK1321 54mm, FSC® cert. Premium Hardwood",null,null,"DEUR","LUXBUITEN","LUXBUITEN","VD","1321","","","Order","FSCPHW",true,"","",0,0,54,"",false,false,false,2580.9900000000002,3123,{"$f":"ROUND(SUMIF('Combination lines'!$A:$H,Report!$AE5354,'Combination lines'!$H:$H),2)","v":2580.99},null,63570,""]
["WK63950","Combinatieregel COM0000000686",null,"","mw WK1367 54mm, FSC® cert. Premium Hardwood",null,null,"DEUR","LUXBUITEN","LUXBUITEN","VD","1367","","","Order","FSCPHW",true,"","",0,0,54,"",false,false,false,2827.27,3421,{"$f":"ROUND(SUMIF('Combination lines'!$A:$H,Report!$AE5362,'Combination lines'!$H:$H),2)","v":2827.27},null,63950,""]
["WK64500","Combinatieregel COM0000000741",null,"","mw WK1232 38mm, FSC® cert. Premium Hardwood",null,null,"DEUR","LUXBUITEN","LUXBUITEN","VD","1232","","","Order","FSCPHW",true,"","",0,0,38,"",false,false,false,2147.1,2598,{"$f":"ROUND(SUMIF('Combination lines'!$A:$H,Report!$AE5374,'Combination lines'!$H:$H),2)","v":2147.1},null,64500,""]
["WK64570","Combinatieregel COM0000000748",null,"","mw WK1541 54mm, FSC® cert. Premium Hardwood",null,null,"DEUR","LUXBUITEN","LUXBUITEN","VD","1541","","","Order","FSCPHW",true,"","",0,0,54,"",false,false,false,1664.46,2014,{"$f":"ROUND(SUMIF('Combination lines'!$A:$H,Report!$AE5376,'Combination lines'!$H:$H),2)","v":1664.46},null,64570,""]
["WK64940","Combinatieregel COM0000000785",null,"","mw WK1242 38mm, FSC® cert. Premium Hardwood",null,null,"DEUR","LUXBUITEN","LUXBUITEN","VD","1242","","","Order","FSCPHW",true,"","",0,0,38,"",false,false,false,1925.6100000000001,2330,{"$f":"ROUND(SUMIF('Combination lines'!$A:$H,Report!$AE5386,'Combination lines'!$H:$H),2)","v":1925.61},null,64940,""]
["WK65330","Combinatieregel COM0000000824",null,"","mw WK1722 54mm, FSC® cert. Premium Hardwood",null,null,"DEUR","LUXBUITEN","LUXBUITEN","VD","1722","","","Order","FSCPHW",true,"","",0,0,54,"",false,false,false,1941.3199999999997,2349,{"$f":"ROUND(SUMIF('Combination lines'!$A:$H,Report!$AE5394,'Combination lines'!$H:$H),2)","v":1941.32},null,65330,""]
["WK65370","Combinatieregel COM0000000828",null,"","mw WK1724 54mm, FSC® cert. Premium Hardwood",null,null,"DEUR","LUXBUITEN","LUXBUITEN","VD","1724","","","Order","FSCPHW",true,"","",0,0,54,"",false,false,false,2128.92,2576,{"$f":"ROUND(SUMIF('Combination lines'!$A:$H,Report!$AE5395,'Combination lines'!$H:$H),2)","v":2128.92},null,65370,""]
["WK65790","Combinatieregel COM0000000870",null,"","mw WK1911 54mm, FSC® cert. Premium Hardwood",null,null,"DEUR","LUXBUITEN","LUXBUITEN","VD","1911","","","Order","FSCPHW",true,"","",0,0,54,"",false,false,false,2046.2799999999997,2476,{"$f":"ROUND(SUMIF('Combination lines'!$A:$H,Report!$AE5405,'Combination lines'!$H:$H),2)","v":2046.28},null,65790,""]
["WK66190","Combinatieregel COM0000000910",null,"","mw WK2139 54mm, FSC® cert. Premium Hardwood",null,null,"DEUR","LUXBUITEN","LUXBUITEN","DD","2139","","","Order","FSCPHW",true,"","",0,0,54,"",false,false,false,2039.66,2468,{"$f":"ROUND(SUMIF('Combination lines'!$A:$H,Report!$AE5414,'Combination lines'!$H:$H),2)","v":2039.66},null,66190,""]
["WK66370","Combinatieregel COM0000000928",null,"","mw WK2159 54mm, FSC® cert. Premium Hardwood",null,null,"DEUR","LUXBUITEN","LUXBUITEN","DD","2159","","","Order","FSCPHW",true,"","",0,0,54,"",false,false,false,2180.1600000000003,2638,{"$f":"ROUND(SUMIF('Combination lines'!$A:$H,Report!$AE5419,'Combination lines'!$H:$H),2)","v":2180.16},null,66370,""]
["WK67100","Combinatieregel COM0000001001",null,"","mw WK2539 54mm, FSC® cert. Premium Hardwood",null,null,"DEUR","LUXBUITEN","LUXBUITEN","DD","2539","","","Order","FSCPHW",true,"","",0,0,54,"",false,false,false,2114.04,2558,{"$f":"ROUND(SUMIF('Combination lines'!$A:$H,Report!$AE5427,'Combination lines'!$H:$H),2)","v":2114.04},null,67100,""]
["WK67910","Combinatieregel COM0000001094",null,"","mw WK3611 AluMaxx® 40 mm ingroefbaar",null,null,"DEUR","VLAK","VLAK","AL","3611","INGROEFBAAR","","Order","",false,"STOMP","",0,0,40,"",false,false,false,2076.04,2512,{"$f":"ROUND(SUMIF('Combination lines'!$A:$H,Report!$AE5435,'Combination lines'!$H:$H),2)","v":2076.04},null,67910,"D010"]
["WK67950","Combinatieregel COM0000001098",null,"","mw WK3612 AluMaxx® 40 mm ingroefbaar",null,null,"DEUR","VLAK","VLAK","AL","3612","INGROEFBAAR","","Order","",false,"STOMP","",0,0,40,"",false,false,false,1920.67,2324,{"$f":"ROUND(SUMIF('Combination lines'!$A:$H,Report!$AE5438,'Combination lines'!$H:$H),2)","v":1920.67},null,67950,"D010"]
["WK68290","Combinatieregel COM0000001153",null,"","mw WK012 38mm, FSC® cert. Premium Hardwood, incl. ventilatiesleuven en vlakke iso-glaslatten",null,null,"DEUR","BALKON","BALKON","SS","012","","","Order","FSCPHW",true,"","",0,0,38,"",false,false,false,551.23,667,{"$f":"ROUND(SUMIF('Combination lines'!$A:$H,Report!$AE5447,'Combination lines'!$H:$H),2)","v":551.23},null,68290,""]
["WK68450","Combinatieregel COM0000001169",null,"","mw WK016 38mm, FSC® cert. Premium Hardwood, incl. ventilatiesleuven en vlakke iso-glaslatten",null,null,"DEUR","BALKON","BALKON","SS","016","","","Order","FSCPHW",true,"","",0,0,38,"",false,false,false,666.9300000000001,807,{"$f":"ROUND(SUMIF('Combination lines'!$A:$H,Report!$AE5455,'Combination lines'!$H:$H),2)","v":666.93},null,68450,""]
["WK68540","Combinatieregel COM0000001178",null,"","mw WK018 38mm, FSC® cert. Hardwood, incl. ventilatiesleuven en vlakke iso-glaslatten",null,null,"DEUR","BALKON","BALKON","SS","018","","","Order","FSCHW",true,"","",0,0,38,"",false,false,false,654.5400000000001,792,{"$f":"ROUND(SUMIF('Combination lines'!$A:$H,Report!$AE5460,'Combination lines'!$H:$H),2)","v":654.54},null,68540,""]
["WK68610","Combinatieregel COM0000001185",null,"","mw WK042 38mm, FSC® cert. Premium Hardwood, incl. ventilatiesleuven en vlakke iso-glaslatten",null,null,"DEUR","BALKON","BALKON","BS","042","","","Order","FSCPHW",true,"","",0,0,38,"",false,false,false,599.1700000000001,725,{"$f":"ROUND(SUMIF('Combination lines'!$A:$H,Report!$AE5463,'Combination lines'!$H:$H),2)","v":599.17},null,68610,""]
["WK68780","Combinatieregel COM0000001202",null,"","mw WK046 38mm, FSC® cert. Hardwood, incl. ventilatiesleuven en vlakke iso-glaslatten",null,null,"DEUR","BALKON","BALKON","BS","046","","","Order","FSCHW",true,"","",0,0,38,"",false,false,false,640.4900000000001,775,{"$f":"ROUND(SUMIF('Combination lines'!$A:$H,Report!$AE5472,'Combination lines'!$H:$H),2)","v":640.49},null,68780,""]
["WK68940","Combinatieregel COM0000001218",null,"","mw WK012 54mm, FSC® cert. Hardwood, incl. ventilatiesleuven en vlakke iso-glaslatten",null,null,"DEUR","BALKON","BALKON","SS","012","","","Order","FSCHW",true,"","",0,0,54,"",false,false,false,588.4200000000001,712,{"$f":"ROUND(SUMIF('Combination lines'!$A:$H,Report!$AE5480,'Combination lines'!$H:$H),2)","v":588.42},null,68940,""]
["WK69100","Combinatieregel COM0000001234",null,"","mw WK016 54mm, FSC® cert. Hardwood, incl. ventilatiesleuven en vlakke iso-glaslatten",null,null,"DEUR","BALKON","BALKON","SS","016","","","Order","FSCHW",true,"","",0,0,54,"",false,false,false,741.32,897,{"$f":"ROUND(SUMIF('Combination lines'!$A:$H,Report!$AE5488,'Combination lines'!$H:$H),2)","v":741.32},null,69100,""]
["WK69180","Combinatieregel COM0000001242",null,"","mw WK018 54mm, FSC® cert. Hardwood, incl. ventilatiesleuven en vlakke iso-glaslatten",null,null,"DEUR","BALKON","BALKON","SS","018","","","Order","FSCHW",true,"","",0,0,54,"",false,false,false,811.5600000000001,982,{"$f":"ROUND(SUMIF('Combination lines'!$A:$H,Report!$AE5492,'Combination lines'!$H:$H),2)","v":811.56},null,69180,""]
["WK69340","Combinatieregel COM0000001258",null,"","mw WK044 54mm, FSC® cert. Hardwood, incl. ventilatiesleuven en vlakke iso-glaslatten",null,null,"DEUR","BALKON","BALKON","BS","044","","","Order","FSCHW",true,"","",0,0,54,"",false,false,false,706.6000000000001,855,{"$f":"ROUND(SUMIF('Combination lines'!$A:$H,Report!$AE5500,'Combination lines'!$H:$H),2)","v":706.6},null,69340,""]
["WK69450","Combinatieregel COM0000001269",null,"","mw WK047 54mm, FSC® cert. Premium Hardwood, incl. ventilatiesleuven en vlakke iso-glaslatten",null,null,"DEUR","BALKON","BALKON","BS","047","","","Order","FSCPHW",true,"","",0,0,54,"",false,false,false,899.1600000000001,1088,{"$f":"ROUND(SUMIF('Combination lines'!$A:$H,Report!$AE5505,'Combination lines'!$H:$H),2)","v":899.16},null,69450,""]
["WK69600","Combinatieregel COM0000001284",null,"","mw WK124 38mm, FSC® cert. Hardwood, incl. ventilatiesleuven en vlakke iso-glaslatten",null,null,"DEUR","BALKON","BALKON","BS","124","","","Order","FSCHW",true,"","",0,0,38,"",false,false,false,657.85,796,{"$f":"ROUND(SUMIF('Combination lines'!$A:$H,Report!$AE5513,'Combination lines'!$H:$H),2)","v":657.85},null,69600,""]
["WK69760","Combinatieregel COM0000001300",null,"","mw WK7114 38mm, FSC® cert. Hardwood, incl. ventilatiesleuven en vlakke iso-glaslatten",null,null,"DEUR","BALKON","BALKON","BS","7114","","","Order","FSCHW",true,"","",0,0,38,"",false,false,false,933.0400000000001,1129,{"$f":"ROUND(SUMIF('Combination lines'!$A:$H,Report!$AE5521,'Combination lines'!$H:$H),2)","v":933.04},null,69760,""]
["WK69840","Combinatieregel COM0000001308",null,"","mw WK7122 38mm, FSC® cert. Hardwood, incl. ventilatiesleuven en vlakke iso-glaslatten",null,null,"DEUR","BALKON","BALKON","BS","7122","","","Order","FSCHW",true,"","",0,0,38,"",false,false,false,762.8000000000002,923,{"$f":"ROUND(SUMIF('Combination lines'!$A:$H,Report!$AE5525,'Combination lines'!$H:$H),2)","v":762.8},null,69840,""]
["WK70000","Combinatieregel COM0000001324",null,"","mw WK7411 38mm, FSC® cert. Hardwood, incl. ventilatiesleuven en vlakke iso-glaslatten",null,null,"DEUR","BALKON","BALKON","BS","7411","","","Order","FSCHW",true,"","",0,0,38,"",false,false,false,933.8800000000001,1130,{"$f":"ROUND(SUMIF('Combination lines'!$A:$H,Report!$AE5533,'Combination lines'!$H:$H),2)","v":933.88},null,70000,""]
["WK70160","Combinatieregel COM0000001340",null,"","mw WK7764 38mm, FSC® cert. Hardwood, incl. ventilatiesleuven en vlakke iso-glaslatten",null,null,"DEUR","BALKON","BALKON","BS","7764","","","Order","FSCHW",true,"","",0,0,38,"",false,false,false,1028.92,1245,{"$f":"ROUND(SUMIF('Combination lines'!$A:$H,Report!$AE5541,'Combination lines'!$H:$H),2)","v":1028.92},null,70160,""]
["WK70270","Combinatieregel COM0000001351",null,"","mw WK7112 54mm, FSC® cert. Premium Hardwood, incl. ventilatiesleuven en vlakke iso-glaslatten",null,null,"DEUR","BALKON","BALKON","BS","7112","","","Order","FSCPHW",true,"","",0,0,54,"",false,false,false,921.4800000000001,1115,{"$f":"ROUND(SUMIF('Combination lines'!$A:$H,Report!$AE5546,'Combination lines'!$H:$H),2)","v":921.48},null,70270,""]
["WK70470","Combinatieregel COM0000001371",null,"","mw WK7123 54mm, FSC® cert. Premium Hardwood, incl. ventilatiesleuven en vlakke iso-glaslatten",null,null,"DEUR","BALKON","BALKON","BS","7123","","","Order","FSCPHW",true,"","",0,0,54,"",false,false,false,1192.5500000000002,1443,{"$f":"ROUND(SUMIF('Combination lines'!$A:$H,Report!$AE5556,'Combination lines'!$H:$H),2)","v":1192.55},null,70470,""]
["WK70510","Combinatieregel COM0000001375",null,"","mw WK7132 54mm, FSC® cert. Premium Hardwood, incl. ventilatiesleuven en vlakke iso-glaslatten",null,null,"DEUR","BALKON","BALKON","BS","7132","","","Order","FSCPHW",true,"","",0,0,54,"",false,false,false,1015.69,1229,{"$f":"ROUND(SUMIF('Combination lines'!$A:$H,Report!$AE5558,'Combination lines'!$H:$H),2)","v":1015.69},null,70510,""]
["WK70670","Combinatieregel COM0000001391",null,"","mw WK7462 54mm, FSC® cert. Premium Hardwood, incl. ventilatiesleuven en vlakke iso-glaslatten",null,null,"DEUR","BALKON","BALKON","BS","7462","","","Order","FSCPHW",true,"","",0,0,54,"",false,false,false,1414.04,1711,{"$f":"ROUND(SUMIF('Combination lines'!$A:$H,Report!$AE5566,'Combination lines'!$H:$H),2)","v":1414.04},null,70670,""]
["WK70850","Combinatieregel COM0000001409",null,"","mw WK8191 38mm, FSC® cert. Premium Hardwood, incl. ventilatiesleuven en vlakke iso-glaslatten",null,null,"DEUR","BALKON","BALKON","BS","8191","","","Order","FSCPHW",true,"","",0,0,38,"",false,false,false,1176.02,1423,{"$f":"ROUND(SUMIF('Combination lines'!$A:$H,Report!$AE5574,'Combination lines'!$H:$H),2)","v":1176.02},null,70850,""]
["WK70960","Combinatieregel COM0000001420",null,"","mw WK8171 54mm, FSC® cert. Premium Hardwood, incl. ventilatiesleuven en vlakke iso-glaslatten",null,null,"DEUR","BALKON","BALKON","BS","8171","","","Order","FSCPHW",true,"","",0,0,54,"",false,false,false,1514.8700000000001,1833,{"$f":"ROUND(SUMIF('Combination lines'!$A:$H,Report!$AE5579,'Combination lines'!$H:$H),2)","v":1514.87},null,70960,""]
["WK72980","Combinatieregel COM0000001622",null,"","mw WK021 38mm, FSC® cert. Hardwood, incl. ventilatiesleuven en vlakke iso-glaslatten",null,null,"DEUR","BALKON","BALKON","SS","021","","","Order","FSCHW",true,"","",0,0,38,"",false,false,false,789.2500000000001,955,{"$f":"ROUND(SUMIF('Combination lines'!$A:$H,Report!$AE5586,'Combination lines'!$H:$H),2)","v":789.25},null,72980,""]
["WK73060","Combinatieregel COM0000001630",null,"","mw WK232 38mm, FSC® cert. Hardwood, incl. ventilatiesleuven en vlakke iso-glaslatten",null,null,"DEUR","BALKON","BALKON","SS","232","","","Order","FSCHW",true,"","",0,0,38,"",false,false,false,762.8,923,{"$f":"ROUND(SUMIF('Combination lines'!$A:$H,Report!$AE5594,'Combination lines'!$H:$H),2)","v":762.8},null,73060,""]
["WK73110","Combinatieregel COM0000001635",null,"","mw WK332 54mm, FSC® cert. Hardwood, incl. ventilatiesleuven en vlakke iso-glaslatten",null,null,"DEUR","BALKON","BALKON","SS","332","","","Order","FSCHW",true,"","",0,0,54,"",false,false,false,979.32,1185,{"$f":"ROUND(SUMIF('Combination lines'!$A:$H,Report!$AE5599,'Combination lines'!$H:$H),2)","v":979.32},null,73110,""]
["WK73190","Combinatieregel COM0000001643",null,"","mw WK144 54mm, FSC® cert. Hardwood, incl. ventilatiesleuven en vlakke iso-glaslatten",null,null,"DEUR","BALKON","BALKON","BS","144","","","Order","FSCHW",true,"","",0,0,54,"",false,false,false,849.5800000000002,1028,{"$f":"ROUND(SUMIF('Combination lines'!$A:$H,Report!$AE5607,'Combination lines'!$H:$H),2)","v":849.58},null,73190,""]
["WK73240","Combinatieregel COM0000001648",null,"","mw WK324 38mm, FSC® cert. Hardwood, incl. ventilatiesleuven en vlakke iso-glaslatten",null,null,"DEUR","BALKON","BALKON","BS","324","","","Order","FSCHW",true,"","",0,0,38,"",false,false,false,867.7500000000001,1050,{"$f":"ROUND(SUMIF('Combination lines'!$A:$H,Report!$AE5612,'Combination lines'!$H:$H),2)","v":867.75},null,73240,""]
["WK73310","Combinatieregel COM0000001655",null,"","mw WK0127 38mm, FSC® cert. Hardwood, incl. ventilatiesleuven en vlakke iso-glaslatten",null,null,"DEUR","BALKON","BALKON","BS","127","","","Order","FSCHW",true,"","",0,0,38,"",false,false,false,618.1800000000001,748,{"$f":"ROUND(SUMIF('Combination lines'!$A:$H,Report!$AE5619,'Combination lines'!$H:$H),2)","v":618.18},null,73310,""]
["WK73390","Combinatieregel COM0000001663",null,"","mw WK021 54mm, FSC® cert. Premium Hardwood, incl. ventilatiesleuven en vlakke iso-glaslatten",null,null,"DEUR","BALKON","BALKON","SS","021","","","Order","FSCPHW",true,"","",0,0,54,"",false,false,false,1127.27,1364,{"$f":"ROUND(SUMIF('Combination lines'!$A:$H,Report!$AE5627,'Combination lines'!$H:$H),2)","v":1127.27},null,73390,""]
["WK73440","Combinatieregel COM0000001668",null,"","mw WK222 38mm, FSC® cert. Premium Hardwood, incl. ventilatiesleuven en vlakke iso-glaslatten",null,null,"DEUR","BALKON","BALKON","SS","222","","","Order","FSCPHW",true,"","",0,0,38,"",false,false,false,795.8599999999999,963,{"$f":"ROUND(SUMIF('Combination lines'!$A:$H,Report!$AE5632,'Combination lines'!$H:$H),2)","v":795.86},null,73440,""]
["WK73550","Combinatieregel COM0000001679",null,"","mw WK050 54mm, FSC® cert. Premium Hardwood, incl. ventilatiesleuven en vlakke iso-glaslatten",null,null,"DEUR","BALKON","BALKON","BS","050","","","Order","FSCPHW",true,"","",0,0,54,"",false,false,false,1077.68,1304,{"$f":"ROUND(SUMIF('Combination lines'!$A:$H,Report!$AE5643,'Combination lines'!$H:$H),2)","v":1077.68},null,73550,""]
["WK73630","Combinatieregel COM0000001687",null,"","mw WK234 54mm, FSC® cert. Premium Hardwood, incl. ventilatiesleuven en vlakke iso-glaslatten",null,null,"DEUR","BALKON","BALKON","BS","234","","","Order","FSCPHW",true,"","",0,0,54,"",false,false,false,1027.26,1243,{"$f":"ROUND(SUMIF('Combination lines'!$A:$H,Report!$AE5651,'Combination lines'!$H:$H),2)","v":1027.26},null,73630,""]
["WK73640","Combinatieregel COM0000001688",null,"","mw WK324 38mm, FSC® cert. Premium Hardwood, incl. ventilatiesleuven en vlakke iso-glaslatten",null,null,"DEUR","BALKON","BALKON","BS","324","","","Order","FSCPHW",true,"","",0,0,38,"",false,false,false,943.7900000000001,1142,{"$f":"ROUND(SUMIF('Combination lines'!$A:$H,Report!$AE5652,'Combination lines'!$H:$H),2)","v":943.79},null,73640,""]
["WK73720","Combinatieregel COM0000001696",null,"","mw WK0127 38mm, FSC® cert. Premium Hardwood, incl. ventilatiesleuven en vlakke iso-glaslatten",null,null,"DEUR","BALKON","BALKON","BS","127","","","Order","FSCPHW",true,"","",0,0,38,"",false,false,false,681.8100000000002,825,{"$f":"ROUND(SUMIF('Combination lines'!$A:$H,Report!$AE5660,'Combination lines'!$H:$H),2)","v":681.81},null,73720,""]
["WK73780","Combinatieregel COM0000001702",null,"","mw WK0137 38mm, FSC® cert. Premium Hardwood, incl. ventilatiesleuven en vlakke iso-glaslatten",null,null,"DEUR","BALKON","BALKON","BS","137","","","Order","FSCPHW",true,"","",0,0,38,"",false,false,false,773.5500000000002,936,{"$f":"ROUND(SUMIF('Combination lines'!$A:$H,Report!$AE5666,'Combination lines'!$H:$H),2)","v":773.55},null,73780,""]
["WK75850","Combinatieregel COM0000001909",null,"","mw WK1144 38mm, FSC® cert. Premium Hardwood",null,null,"DEUR","LUXBUITEN","LUXBUITEN","VNM","1144","","","Order","FSCPHW",true,"","",0,0,38,"",false,false,false,1960.31,2372,{"$f":"ROUND(SUMIF('Combination lines'!$A:$H,Report!$AE5672,'Combination lines'!$H:$H),2)","v":1960.31},null,75850,""]
["WK76010","Combinatieregel COM0000001925",null,"","mw WK1545 38mm, FSC® cert. Premium Hardwood",null,null,"DEUR","LUXBUITEN","LUXBUITEN","VD","1545","","","Order","FSCPHW",true,"","",0,0,38,"",false,false,false,1395.03,1688,{"$f":"ROUND(SUMIF('Combination lines'!$A:$H,Report!$AE5680,'Combination lines'!$H:$H),2)","v":1395.03},null,76010,""]
["WK76300","Combinatieregel COM0000001954",null,"","mw WK8041 54mm, FSC® cert. Premium Hardwood",null,null,"DEUR","BALKON","BALKON","BS","8041","","","Order","FSCPHW",true,"","",0,0,54,"",false,false,false,754.96,914,{"$f":"ROUND(SUMIF('Combination lines'!$A:$H,Report!$AE5692,'Combination lines'!$H:$H),2)","v":754.96},null,76300,""]
["WK76310","Combinatieregel COM0000001955",null,"","mw WK8081 54mm, FSC® cert. Premium Hardwood",null,null,"DEUR","BALKON","BALKON","BS","8081","","","Order","FSCPHW",true,"","",0,0,54,"",false,false,false,871.0699999999999,1054,{"$f":"ROUND(SUMIF('Combination lines'!$A:$H,Report!$AE5693,'Combination lines'!$H:$H),2)","v":871.07},null,76310,""]
["WK76650","Combinatieregel COM0000002011",null,"","mw WK8081-4 ruits 54mm, FSC® cert. Premium Hardwood",null,null,"DEUR","BALKON","BALKON","BS","8081","4 RUITS","","Order","FSCPHW",true,"","",0,0,54,"",false,false,false,973.55,1178,{"$f":"ROUND(SUMIF('Combination lines'!$A:$H,Report!$AE5705,'Combination lines'!$H:$H),2)","v":973.55},null,76650,""]
["WK76730","Combinatieregel COM0000002024",null,"","mw WK 1901 TriComfort 54mm",null,null,"DEUR","LUXBUITEN","LUXBUITEN","VD","1901","","","Order","FSCMTI",false,"","",0,0,54,"",false,false,false,1445.45,1749,{"$f":"ROUND(SUMIF('Combination lines'!$A:$H,Report!$AE5712,'Combination lines'!$H:$H),2)","v":1445.45},null,76730,""]
["WK76740","Combinatieregel COM0000002025",null,"","vrd WK 1902 TriComfort 39mm",null,null,"DEUR","LUXBUITEN","LUXBUITEN","VD","1902","","","Inventory","FSCMTI",true,"STOMP","",0,0,40,"",false,false,false,1621.5,1962,{"$f":"ROUND(SUMIF('Combination lines'!$A:$H,Report!$AE5713,'Combination lines'!$H:$H),2)","v":1621.5},null,76740,"A050"]
["WK76900","Combinatieregel COM0000002041",null,"","vrd WK 1931 TriComfort 39mm",null,null,"DEUR","LUXBUITEN","LUXBUITEN","VD","1931","","","Inventory","FSCMTI",true,"STOMP","",0,0,40,"",false,false,false,1319.83,1597,{"$f":"ROUND(SUMIF('Combination lines'!$A:$H,Report!$AE5725,'Combination lines'!$H:$H),2)","v":1319.83},null,76900,"A050"]
["WK76970","Combinatieregel COM0000002048",null,"","mw WK 1932 TriComfort 54mm",null,null,"DEUR","LUXBUITEN","LUXBUITEN","VD","1932","","","Order","FSCMTI",false,"","",0,0,54,"",false,false,false,1575.2,1906,{"$f":"ROUND(SUMIF('Combination lines'!$A:$H,Report!$AE5730,'Combination lines'!$H:$H),2)","v":1575.2},null,76970,""]
["WK77010","Combinatieregel COM0000002052",null,"","mw WK 1933 TriComfort 54mm",null,null,"DEUR","LUXBUITEN","LUXBUITEN","VD","1933","","","Order","FSCMTI",false,"","",0,0,54,"",false,false,false,1685.95,2040,{"$f":"ROUND(SUMIF('Combination lines'!$A:$H,Report!$AE5733,'Combination lines'!$H:$H),2)","v":1685.95},null,77010,""]
["WK77170","Combinatieregel COM0000002068",null,"","mw WK 2000 TriComfort 54mm",null,null,"DEUR","LUXBUITEN","LUXBUITEN","VD","2000","","","Order","FSCMTI",true,"STOMP","",0,0,54,"",false,false,false,1464.46,1772,{"$f":"ROUND(SUMIF('Combination lines'!$A:$H,Report!$AE5745,'Combination lines'!$H:$H),2)","v":1464.46},null,77170,"A010"]
["WK77280","Combinatieregel COM0000002079",null,"","Maatwerk WK 2003 TriComfort 39mm",null,null,"DEUR","LUXBUITEN","LUXBUITEN","VD","2003","","","Order","FSCMTI",true,"STOMP","",0,0,40,"",false,false,false,1715.7,2076,{"$f":"ROUND(SUMIF('Combination lines'!$A:$H,Report!$AE5753,'Combination lines'!$H:$H),2)","v":1715.7},null,77280,"A010"]
["WK77340","Combinatieregel COM0000002085",null,"","vrd WK 2021 TriComfort 39mm",null,null,"DEUR","LUXBUITEN","LUXBUITEN","VD","2021","","","Inventory","FSCMTI",true,"STOMP","",0,0,40,"",false,false,false,1573.55,1904,{"$f":"ROUND(SUMIF('Combination lines'!$A:$H,Report!$AE5758,'Combination lines'!$H:$H),2)","v":1573.55},null,77340,"A050"]
["WK77410","Combinatieregel COM0000002092",null,"","mw WK 2022 TriComfort 54mm",null,null,"DEUR","LUXBUITEN","LUXBUITEN","VD","2022","","","Order","FSCMTI",true,"","",0,0,54,"",false,false,false,1917.35,2320,{"$f":"ROUND(SUMIF('Combination lines'!$A:$H,Report!$AE5763,'Combination lines'!$H:$H),2)","v":1917.35},null,77410,""]
["WK77580","Combinatieregel COM0000002109",null,"","mw WK1147 54mm, FSC® cert. Premium Hardwood",null,null,"DEUR","LUXBUITEN","LUXBUITEN","VNM","1147","","","Order","FSCPHW",true,"","",0,0,54,"",false,false,false,2643.78,3199,{"$f":"ROUND(SUMIF('Combination lines'!$A:$H,Report!$AE5773,'Combination lines'!$H:$H),2)","v":2643.78},null,77580,""]
["WK77690","Combinatieregel COM0000002122",null,"","mw WK3611 TriComfort® FSC® cert. 40 mm",null,null,"DEUR","VLAK","VLAK","TC","3611","","","Order","",false,"STOMP","",0,0,40,"",false,false,false,1909.08,2310,{"$f":"ROUND(SUMIF('Combination lines'!$A:$H,Report!$AE5778,'Combination lines'!$H:$H),2)","v":1909.08},null,77690,"D010"]
["WK77790","Combinatieregel COM0000002132",null,"","WK HP voordeursluiting met inbouwespagnolet,gem., SB, incl. infr,slaglatten, sluitpotten, excl. profielcilinder",null,null,"ACCESSOIRES","OVERIG","","","","","","Order","",false,"","",0,0,0,"",false,false,false,665.28,805,{"$f":"ROUND(SUMIF('Combination lines'!$A:$H,Report!$AE5786,'Combination lines'!$H:$H),2)","v":665.28},null,77790,""]
["WK77870","Combinatieregel COM0000002140",null,"","Garagedeuren: voorlaksysteem, dekkend standaard kleur VLAK",null,null,"BEWERKING","VERF","","","","","","Order","",false,"","",0,0,0,"",false,false,false,231.4,280,{"$f":"ROUND(SUMIF('Combination lines'!$A:$H,Report!$AE5792,'Combination lines'!$H:$H),2)","v":231.4},null,77870,""]
["WK77940","Combinatieregel COM0000002147",null,"","Move inox met ktb buitenkant, Bow inox binnenkant",null,null,"HENS","BESLAG","","","","","","Order","",false,"","",0,0,0,"",false,false,false,109.09,132,{"$f":"ROUND(SUMIF('Combination lines'!$A:$H,Report!$AE5798,'Combination lines'!$H:$H),2)","v":109.09},null,77940,""]
["WK78020","Combinatieregel COM0000002155",null,"","mw TriComfort® 40mm t/m 1215x2495mm",null,null,"DEUR","VLAK","VLAK","TC","3000","","","Order","",false,"","",0,0,40,"",false,false,false,708.26,857,{"$f":"ROUND(SUMIF('Combination lines'!$A:$H,Report!$AE5806,'Combination lines'!$H:$H),2)","v":708.26},null,78020,""]
["WK78070","Combinatieregel COM0000002160",null,"","mw TriComfort® 54mm t/m 1095x2345mm",null,null,"DEUR","VLAK","VLAK","TC","3000","","","Order","",false,"","",0,0,54,"",false,false,false,673.55,815,{"$f":"ROUND(SUMIF('Combination lines'!$A:$H,Report!$AE5811,'Combination lines'!$H:$H),2)","v":673.55},null,78070,""]
["WK78210","Combinatieregel COM0000002663",null,"","mw WK8412 38mm, FSC® cert. Premium Hardwood, incl. ventilatiesleuven en vlakke iso-glaslatten",null,null,"DEUR","BALKON","BALKON","BS","8412","","","Order","FSCPHW",true,"","",0,0,38,"",false,false,false,1079.33,1306,{"$f":"ROUND(SUMIF('Combination lines'!$A:$H,Report!$AE5817,'Combination lines'!$H:$H),2)","v":1079.33},null,78210,""]
["WK78420","Combinatieregel COM0000002689",null,"","mw WK7761 38mm, FSC® cert. Hardwood, incl. ventilatiesleuven en vlakke iso-glaslatten",null,null,"DEUR","BALKON","BALKON","BS","7761","","","Order","FSCHW",true,"","",0,0,38,"",false,false,false,869.41,1052,{"$f":"ROUND(SUMIF('Combination lines'!$A:$H,Report!$AE5826,'Combination lines'!$H:$H),2)","v":869.41},null,78420,""]
["WK78550","Combinatieregel COM0000002702",null,"","mw WK8061 38mm, FSC® cert. Hardwood",null,null,"DEUR","BALKON","BALKON","BS","8061","","","Order","FSCHW",true,"","",0,0,38,"",false,false,false,640.49,775,{"$f":"ROUND(SUMIF('Combination lines'!$A:$H,Report!$AE5831,'Combination lines'!$H:$H),2)","v":640.49},null,78550,""]
["WK78750","Combinatieregel COM0000002722",null,"","mw blank iso glas tbv WK5371",null,null,"GLAS","","LUXBUITEN","TD","5371","","","Order","",false,"","",0,0,0,"",false,false,false,527.28,638,{"$f":"ROUND(SUMIF('Combination lines'!$A:$H,Report!$AE5839,'Combination lines'!$H:$H),2)","v":527.28},null,78750,""]
["WK78900","Combinatieregel COM0000002737",null,"","mw blank iso vh glas tbv WK5351",null,null,"GLAS","","LUXBUITEN","TD","5351","","","Order","",false,"","",0,0,0,"",false,false,false,1231.4,1490,{"$f":"ROUND(SUMIF('Combination lines'!$A:$H,Report!$AE5844,'Combination lines'!$H:$H),2)","v":1231.4},null,78900,""]
["WK88940","Combinatieregel COM0000001081",null,"STUKS","mw WK3601 AluComfort® 54 mm",null,null,"DEUR","VLAK","VLAK","AC","3000","","","Order","MTI",false,"","",0,0,54,"",false,false,false,1753.72,2122,{"$f":"ROUND(SUMIF('Combination lines'!$A:$H,Report!$AE5850,'Combination lines'!$H:$H),2)","v":1753.72},null,88940,""]
["WK106400","Combinatieregel ",null,"STUKS","vrd WK6513 A1 opdek",null,null,"DEUR","BINNEN","BINNEN","MODERN","6513","","","Inventory","",true,"OPDEK","",0,0,38,"",false,true,false,359.46999999999997,435,{"$f":"ROUND(SUMIF('Combination lines'!$A:$H,Report!$AE5859,'Combination lines'!$H:$H),2)","v":359.47},null,106400,"B055"]
["WK106460","Combinatieregel ",null,"STUKS","vrd WK6532 A1 opdek",null,null,"DEUR","BINNEN","BINNEN","MODERN","6532","","","Inventory","",true,"OPDEK","",0,0,38,"",false,true,false,407.89,494,{"$f":"ROUND(SUMIF('Combination lines'!$A:$H,Report!$AE5864,'Combination lines'!$H:$H),2)","v":407.89},null,106460,"B055"]
["WK106540","Combinatieregel ",null,"STUKS","vrd WK6572 A1 opdek",null,null,"DEUR","BINNEN","BINNEN","MODERN","6572","","","Inventory","",true,"OPDEK","",0,0,38,"",false,true,false,335.81,406,{"$f":"ROUND(SUMIF('Combination lines'!$A:$H,Report!$AE5872,'Combination lines'!$H:$H),2)","v":335.81},null,106540,"B055"]
["WK107390","Combinatieregel ",null,"STUKS","mw WK6501 opdek",null,null,"DEUR","BINNEN","BINNEN","MODERN","6501","","","Order","",true,"OPDEK","",0,0,38,"",false,true,false,487.29999999999995,590,{"$f":"ROUND(SUMIF('Combination lines'!$A:$H,Report!$AE5879,'Combination lines'!$H:$H),2)","v":487.3},null,107390,"B015"]
["WK107500","Combinatieregel ",null,"STUKS","mw WK6510 C opdek",null,null,"DEUR","BINNEN","BINNEN","MODERN","6510","","","Order","",true,"OPDEK","",0,0,38,"",false,true,false,398.89,483,{"$f":"ROUND(SUMIF('Combination lines'!$A:$H,Report!$AE5884,'Combination lines'!$H:$H),2)","v":398.89},null,107500,"B015"]
["WK107580","Combinatieregel ",null,"STUKS","mw WK6522 opdek",null,null,"DEUR","BINNEN","BINNEN","MODERN","6522","","","Order","",true,"OPDEK","",0,0,38,"",false,true,false,453.52,549,{"$f":"ROUND(SUMIF('Combination lines'!$A:$H,Report!$AE5892,'Combination lines'!$H:$H),2)","v":453.52},null,107580,"B015"]
["WK107630","Combinatieregel ",null,"STUKS","mw WK6531 opdek",null,null,"DEUR","BINNEN","BINNEN","MODERN","6531","","","Order","",true,"OPDEK","",0,0,38,"",false,true,false,458.63,555,{"$f":"ROUND(SUMIF('Combination lines'!$A:$H,Report!$AE5897,'Combination lines'!$H:$H),2)","v":458.63},null,107630,"B015"]
["WK107700","Combinatieregel ",null,"STUKS","mw WK6551 opdek",null,null,"DEUR","BINNEN","BINNEN","MODERN","6551","","","Order","",true,"OPDEK","",0,0,38,"",false,true,false,458.63,555,{"$f":"ROUND(SUMIF('Combination lines'!$A:$H,Report!$AE5904,'Combination lines'!$H:$H),2)","v":458.63},null,107700,"B015"]
["WK107780","Combinatieregel ",null,"STUKS","mw WK6572 opdek",null,null,"DEUR","BINNEN","BINNEN","MODERN","6572","","","Order","",true,"OPDEK","",0,0,38,"",false,true,false,385.84999999999997,467,{"$f":"ROUND(SUMIF('Combination lines'!$A:$H,Report!$AE5912,'Combination lines'!$H:$H),2)","v":385.85},null,107780,"B015"]
["WK107830","Combinatieregel ",null,"STUKS","mw WK6593 opdek",null,null,"DEUR","BINNEN","BINNEN","MODERN","6593","","","Order","",true,"OPDEK","",0,0,38,"",false,true,false,488.53,591,{"$f":"ROUND(SUMIF('Combination lines'!$A:$H,Report!$AE5917,'Combination lines'!$H:$H),2)","v":488.53},null,107830,"B015"]
["WK107980","Combinatieregel ",null,"STUKS","mw WK6703 opdek",null,null,"DEUR","BINNEN","BINNEN","MODERN","6703","","","Order","",true,"OPDEK","",0,0,38,"",false,true,false,640.8,775,{"$f":"ROUND(SUMIF('Combination lines'!$A:$H,Report!$AE5925,'Combination lines'!$H:$H),2)","v":640.8},null,107980,"B015"]
["WK109370","Combinatieregel ",null,"STUKS","mw WK6811 opdek",null,null,"DEUR","BINNEN","BINNEN","MODERN","6811","","","Order","",true,"OPDEK","",0,0,38,"",false,true,false,422.65999999999997,511,{"$f":"ROUND(SUMIF('Combination lines'!$A:$H,Report!$AE5930,'Combination lines'!$H:$H),2)","v":422.66},null,109370,"B015"]
["WK109510","Combinatieregel ",null,"STUKS","mw WK6852 opdek",null,null,"DEUR","BINNEN","BINNEN","MODERN","6852","","","Order","",true,"OPDEK","",0,0,38,"",false,true,false,472.63,572,{"$f":"ROUND(SUMIF('Combination lines'!$A:$H,Report!$AE5937,'Combination lines'!$H:$H),2)","v":472.63},null,109510,"B015"]
["WK109670","Combinatieregel ",null,"STUKS","mw WK6896 opdek",null,null,"DEUR","BINNEN","BINNEN","MODERN","6896","","","Order","",true,"OPDEK","",0,0,38,"",false,true,false,483.77,585,{"$f":"ROUND(SUMIF('Combination lines'!$A:$H,Report!$AE5945,'Combination lines'!$H:$H),2)","v":483.77},null,109670,"B015"]
["WK109940","Combinatieregel ",null,"STUKS","vrd WK6851 D2 opdek",null,null,"DEUR","BINNEN","BINNEN","MODERN","6851","","","Inventory","",true,"OPDEK","",0,0,38,"",false,true,false,471.08,570,{"$f":"ROUND(SUMIF('Combination lines'!$A:$H,Report!$AE5950,'Combination lines'!$H:$H),2)","v":471.08},null,109940,"B055"]
["WK111550","Combinatieregel COM0000002422",null,"","mw WK6502-C mat glas met heldere bies opdek",null,null,"DEUR","BINNEN","BINNEN","MODERN","6502","MAT + HELDERE BANEN","","Order","",true,"OPDEK","",0,0,38,"",false,true,false,881.8100000000001,1067,{"$f":"ROUND(SUMIF('Combination lines'!$A:$H,Report!$AE5958,'Combination lines'!$H:$H),2)","v":881.81},null,111550,"B015"]
["WK111650","Combinatieregel COM0000002532",null,"","mw WK6502-C blank glas opdek",null,null,"DEUR","BINNEN","BINNEN","MODERN","6502","BLANK","","Order","",true,"OPDEK","",0,0,38,"",false,true,false,689.52,834,{"$f":"ROUND(SUMIF('Combination lines'!$A:$H,Report!$AE5968,'Combination lines'!$H:$H),2)","v":689.52},null,111650,"B015"]
["WK111670","Combinatieregel COM0000002534",null,"","mw WK6502-C mat glas opdek",null,null,"DEUR","BINNEN","BINNEN","MODERN","6502","MAT","","Order","",true,"OPDEK","",0,0,38,"",false,true,false,802.1600000000001,971,{"$f":"ROUND(SUMIF('Combination lines'!$A:$H,Report!$AE5970,'Combination lines'!$H:$H),2)","v":802.16},null,111670,"B015"]
["WK111750","Combinatieregel COM0000002542",null,"","mw WK65013-C blank glas opdek",null,null,"DEUR","BINNEN","BINNEN","MODERN","65013","BLANK","","Order","",true,"OPDEK","",0,0,38,"",false,true,false,772.65,935,{"$f":"ROUND(SUMIF('Combination lines'!$A:$H,Report!$AE5978,'Combination lines'!$H:$H),2)","v":772.65},null,111750,"B015"]
["WK111870","Combinatieregel COM0000002554",null,"","mw WK65016-C blank glas opdek",null,null,"DEUR","BINNEN","BINNEN","MODERN","65016","BLANK","","Order","",true,"OPDEK","",0,0,38,"",false,true,false,705.67,854,{"$f":"ROUND(SUMIF('Combination lines'!$A:$H,Report!$AE5990,'Combination lines'!$H:$H),2)","v":705.67},null,111870,"B015"]
["WK111880","Combinatieregel COM0000002555",null,"","mw WK65016-C mat glas stomp",null,null,"DEUR","BINNEN","BINNEN","MODERN","65016","MAT","","Order","",true,"STOMP","",0,0,38,"",false,false,false,730.81,884,{"$f":"ROUND(SUMIF('Combination lines'!$A:$H,Report!$AE5991,'Combination lines'!$H:$H),2)","v":730.81},null,111880,"B015"]
["WK111950","Combinatieregel COM0000002562",null,"","mw WK6506-C mat glas opdek",null,null,"DEUR","BINNEN","BINNEN","MODERN","6506","MAT","","Order","",true,"OPDEK","",0,0,38,"",false,true,false,903.27,1093,{"$f":"ROUND(SUMIF('Combination lines'!$A:$H,Report!$AE5998,'Combination lines'!$H:$H),2)","v":903.27},null,111950,"B015"]
["WK112070","Combinatieregel COM0000002574",null,"","Maatwerk WK6509-C mat glas opdek",null,null,"DEUR","BINNEN","BINNEN","MODERN","6509","MAT","","Order","",true,"OPDEK","",0,0,38,"",false,true,false,959.0999999999999,1161,{"$f":"ROUND(SUMIF('Combination lines'!$A:$H,Report!$AE6010,'Combination lines'!$H:$H),2)","v":959.1},null,112070,"B015"]
["WK112080","Combinatieregel COM0000002575",null,"","Maatwerk WK6509-C mat gelaagd glas stomp",null,null,"DEUR","BINNEN","BINNEN","MODERN","6509","MAT GELAAGD","","Order","",true,"STOMP","",0,0,38,"",false,false,false,946.7,1146,{"$f":"ROUND(SUMIF('Combination lines'!$A:$H,Report!$AE6011,'Combination lines'!$H:$H),2)","v":946.7},null,112080,"B015"]
["WK112200","Combinatieregel COM0000002587",null,"","Maatwerk WK6510-C mat glas met heldere banen stomp",null,null,"DEUR","BINNEN","BINNEN","MODERN","6510","MAT + HELDERE BANEN","","Order","",true,"STOMP","",0,0,38,"",false,false,false,842.37,1019,{"$f":"ROUND(SUMIF('Combination lines'!$A:$H,Report!$AE6023,'Combination lines'!$H:$H),2)","v":842.37},null,112200,"B015"]
["WK112290","Combinatieregel COM0000002596",null,"","Maatwerk WK6513-C mat gelaagd glas opdek",null,null,"DEUR","BINNEN","BINNEN","MODERN","6513","MAT GELAAGD","","Order","",true,"OPDEK","",0,0,38,"",false,true,false,783.81,948,{"$f":"ROUND(SUMIF('Combination lines'!$A:$H,Report!$AE6030,'Combination lines'!$H:$H),2)","v":783.81},null,112290,"B015"]
["WK112300","Combinatieregel COM0000002597",null,"","Maatwerk WK6513-C facetglas blank stomp",null,null,"DEUR","BINNEN","BINNEN","MODERN","6513","FACETGLAS BLANK","","Order","",true,"STOMP","",0,0,38,"",false,false,false,732.77,887,{"$f":"ROUND(SUMIF('Combination lines'!$A:$H,Report!$AE6031,'Combination lines'!$H:$H),2)","v":732.77},null,112300,"B015"]
["WK112440","Combinatieregel COM0000002611",null,"","Maatwerk WK6606-C blank glas stomp",null,null,"DEUR","BINNEN","BINNEN","MODERN","6606","BLANK","","Order","",true,"STOMP","",0,0,38,"",false,false,false,771.98,934,{"$f":"ROUND(SUMIF('Combination lines'!$A:$H,Report!$AE6043,'Combination lines'!$H:$H),2)","v":771.98},null,112440,"B015"]
["WK112520","Combinatieregel COM0000002619",null,"","Maatwerk WK6610-C mat glas stomp",null,null,"DEUR","BINNEN","BINNEN","MODERN","6610","MAT","","Order","",true,"STOMP","",0,0,38,"",false,false,false,750.9,909,{"$f":"ROUND(SUMIF('Combination lines'!$A:$H,Report!$AE6051,'Combination lines'!$H:$H),2)","v":750.9},null,112520,"B015"]
["WK112560","Combinatieregel COM0000002623",null,"","Maatwerk WK6702-C blank glas stomp",null,null,"DEUR","BINNEN","BINNEN","MODERN","6702","BLANK","","Order","",true,"STOMP","",0,0,38,"",false,false,false,770.8199999999999,933,{"$f":"ROUND(SUMIF('Combination lines'!$A:$H,Report!$AE6055,'Combination lines'!$H:$H),2)","v":770.82},null,112560,"B015"]
["WK112640","Combinatieregel COM0000002631",null,"","Maatwerk WK6704-C mat glas stomp",null,null,"DEUR","BINNEN","BINNEN","MODERN","6704","MAT","","Order","",true,"STOMP","",0,0,38,"",false,false,false,946.7,1146,{"$f":"ROUND(SUMIF('Combination lines'!$A:$H,Report!$AE6063,'Combination lines'!$H:$H),2)","v":946.7},null,112640,"B015"]
["WK112720","Combinatieregel COM0000002639",null,"","Maatwerk WK6706-C mat gelaagd glas stomp",null,null,"DEUR","BINNEN","BINNEN","MODERN","6706","MAT GELAAGD","","Order","",true,"STOMP","",0,0,38,"",false,false,false,978.3199999999999,1184,{"$f":"ROUND(SUMIF('Combination lines'!$A:$H,Report!$AE6071,'Combination lines'!$H:$H),2)","v":978.32},null,112720,"B015"]
["WK112770","Combinatieregel COM0000002644",null,"","Maatwerk WK6708-C mat glas opdek",null,null,"DEUR","BINNEN","BINNEN","MODERN","6708","MAT","","Order","",true,"OPDEK","",0,0,38,"",false,true,false,927.48,1122,{"$f":"ROUND(SUMIF('Combination lines'!$A:$H,Report!$AE6076,'Combination lines'!$H:$H),2)","v":927.48},null,112770,"B015"]
["WK134550","Combinatieregel ",null,"STUKS","mw WK3521 38mm, FSC® cert. Premium Hardwood",null,null,"DEUR","BALKON","BALKON","BS","3521","","","Order","FSCPHW",true,"","",0,0,38,"",false,false,false,1708.26,2067,{"$f":"ROUND(SUMIF('Combination lines'!$A:$H,Report!$AE6084,'Combination lines'!$H:$H),2)","v":1708.26},null,134550,""]
["WK134710","Combinatieregel ",null,"STUKS","mw WK3541 38mm, FSC® cert. Premium Hardwood",null,null,"DEUR","BALKON","BALKON","BS","3541","","","Order","FSCPHW",true,"","",0,0,38,"",false,false,false,1708.26,2067,{"$f":"ROUND(SUMIF('Combination lines'!$A:$H,Report!$AE6088,'Combination lines'!$H:$H),2)","v":1708.26},null,134710,""]
["WK134900","Combinatieregel ",null,"STUKS","mw WK3661 Alumaxx® 40 mm",null,null,"DEUR","VLAK","VLAK","AL","3661","INGROEFBAAR","","Order","",false,"","",0,0,40,"",false,false,false,2487.61,3010,{"$f":"ROUND(SUMIF('Combination lines'!$A:$H,Report!$AE6096,'Combination lines'!$H:$H),2)","v":2487.61},null,134900,""]
["WK135290","Combinatieregel ",null,"STUKS","mw WK4031 38mm, FSC® cert. Premium Hardwood",null,null,"DEUR","LUXBUITEN","LUXBUITEN","TD","4031","","","Order","FSCPHW",true,"","",0,0,38,"",false,false,false,604.96,732,{"$f":"ROUND(SUMIF('Combination lines'!$A:$H,Report!$AE6104,'Combination lines'!$H:$H),2)","v":604.96},null,135290,""]
["WK135340","Combinatieregel ",null,"STUKS","mw WK4051 38mm, FSC® cert. Premium Hardwood",null,null,"DEUR","LUXBUITEN","LUXBUITEN","TD","4051","","","Order","FSCPHW",true,"","",0,0,38,"",false,false,false,658.6800000000001,797,{"$f":"ROUND(SUMIF('Combination lines'!$A:$H,Report!$AE6109,'Combination lines'!$H:$H),2)","v":658.68},null,135340,""]
["WK135420","Combinatieregel ",null,"STUKS","mw WK4094 38mm, FSC® cert. Premium Hardwood",null,null,"DEUR","LUXBUITEN","LUXBUITEN","TD","4094","","","Order","FSCPHW",true,"","",0,0,38,"",false,false,false,912.3900000000001,1104,{"$f":"ROUND(SUMIF('Combination lines'!$A:$H,Report!$AE6117,'Combination lines'!$H:$H),2)","v":912.39},null,135420,""]
["WK135490","Combinatieregel ",null,"STUKS","mw WK4176 38mm, FSC® cert. Premium Hardwood",null,null,"DEUR","LUXBUITEN","LUXBUITEN","TD","4176","","","Order","FSCPHW",true,"","",0,0,38,"",false,false,false,922.3100000000001,1116,{"$f":"ROUND(SUMIF('Combination lines'!$A:$H,Report!$AE6124,'Combination lines'!$H:$H),2)","v":922.31},null,135490,""]
["WK135540","Combinatieregel ",null,"STUKS","mw WK4226 38mm, FSC® cert. Premium Hardwood",null,null,"DEUR","LUXBUITEN","LUXBUITEN","TD","4226","","","Order","FSCPHW",true,"","",0,0,38,"",false,false,false,913.22,1105,{"$f":"ROUND(SUMIF('Combination lines'!$A:$H,Report!$AE6129,'Combination lines'!$H:$H),2)","v":913.22},null,135540,""]
["WK135620","Combinatieregel ",null,"STUKS","mw WK4558 38mm, FSC® cert. Premium Hardwood",null,null,"DEUR","LUXBUITEN","LUXBUITEN","TD","4558","","","Order","FSCPHW",true,"","",0,0,38,"",false,false,false,1053.72,1275,{"$f":"ROUND(SUMIF('Combination lines'!$A:$H,Report!$AE6137,'Combination lines'!$H:$H),2)","v":1053.72},null,135620,""]
["WK136240","Combinatieregel ",null,"STUKS","mw WK 2034 TC 54mm",null,null,"DEUR","LUXBUITEN","LUXBUITEN","VD","2034","","","Order","FSCMTI",true,"","",0,0,54,"",false,false,false,2578.51,3120,{"$f":"ROUND(SUMIF('Combination lines'!$A:$H,Report!$AE6142,'Combination lines'!$H:$H),2)","v":2578.51},null,136240,"A010"]
["WK136460","Combinatieregel ",null,"STUKS","mw WK4031 54mm, FSC® cert. Premium Hardwood",null,null,"DEUR","LUXBUITEN","LUXBUITEN","TD","4031","","","Order","FSCPHW",true,"","",0,0,54,"",false,false,false,854.5500000000001,1034,{"$f":"ROUND(SUMIF('Combination lines'!$A:$H,Report!$AE6149,'Combination lines'!$H:$H),2)","v":854.55},null,136460,""]
["WK136620","Combinatieregel ",null,"STUKS","mw WK4066 54mm, FSC® cert. Premium Hardwood",null,null,"DEUR","LUXBUITEN","LUXBUITEN","TD","4066","","","Order","FSCPHW",true,"","",0,0,54,"",false,false,false,1145.46,1386,{"$f":"ROUND(SUMIF('Combination lines'!$A:$H,Report!$AE6157,'Combination lines'!$H:$H),2)","v":1145.46},null,136620,""]
["WK136720","Combinatieregel ",null,"STUKS","mw WK4094 54mm, FSC® cert. Premium Hardwood",null,null,"DEUR","LUXBUITEN","LUXBUITEN","TD","4094","","","Order","FSCPHW",true,"","",0,0,54,"",false,false,false,1161.98,1406,{"$f":"ROUND(SUMIF('Combination lines'!$A:$H,Report!$AE6162,'Combination lines'!$H:$H),2)","v":1161.98},null,136720,""]
["WK136880","Combinatieregel ",null,"STUKS","mw WK4181 54mm, FSC® cert. Premium Hardwood",null,null,"DEUR","LUXBUITEN","LUXBUITEN","TD","4181","","","Order","FSCPHW",true,"","",0,0,54,"",false,false,false,984.3000000000001,1191,{"$f":"ROUND(SUMIF('Combination lines'!$A:$H,Report!$AE6170,'Combination lines'!$H:$H),2)","v":984.3},null,136880,""]
["WK136980","Combinatieregel ",null,"STUKS","mw WK4228 54mm, FSC® cert. Premium Hardwood",null,null,"DEUR","LUXBUITEN","LUXBUITEN","TD","4228","","","Order","FSCPHW",true,"","",0,0,54,"",false,false,false,1227.27,1485,{"$f":"ROUND(SUMIF('Combination lines'!$A:$H,Report!$AE6175,'Combination lines'!$H:$H),2)","v":1227.27},null,136980,""]
["WK137120","Combinatieregel ",null,"STUKS","mw WK4558 54mm, FSC® cert. Premium Hardwood",null,null,"DEUR","LUXBUITEN","LUXBUITEN","TD","4558","","","Order","FSCPHW",true,"","",0,0,54,"",false,false,false,1303.31,1577,{"$f":"ROUND(SUMIF('Combination lines'!$A:$H,Report!$AE6182,'Combination lines'!$H:$H),2)","v":1303.31},null,137120,""]
["WK137220","Combinatieregel ",null,"STUKS","mw WK4046 38mm, FSC® cert. Premium Hardwood, dubbel",null,null,"DEUR","LUXBUITEN","LUXBUITEN","TD","4046","","","Order","FSCPHW",true,"","",0,0,38,"",false,false,false,1687.6000000000001,2042,{"$f":"ROUND(SUMIF('Combination lines'!$A:$H,Report!$AE6190,'Combination lines'!$H:$H),2)","v":1687.6},null,137220,""]
["WK137300","Combinatieregel ",null,"STUKS","mw WK4156 38mm, FSC® cert. Premium Hardwood, dubbel",null,null,"DEUR","LUXBUITEN","LUXBUITEN","TD","4156","","","Order","FSCPHW",true,"","",0,0,38,"",false,false,false,1740.5,2106,{"$f":"ROUND(SUMIF('Combination lines'!$A:$H,Report!$AE6198,'Combination lines'!$H:$H),2)","v":1740.5},null,137300,""]
["WK137360","Combinatieregel ",null,"STUKS","mw WK5221 38mm, FSC® cert. Premium Hardwood",null,null,"DEUR","LUXBUITEN","LUXBUITEN","TD","5221","","","Order","FSCPHW",true,"","",0,0,38,"",false,false,false,1446.2800000000002,1750,{"$f":"ROUND(SUMIF('Combination lines'!$A:$H,Report!$AE6204,'Combination lines'!$H:$H),2)","v":1446.28},null,137360,""]
["WK137480","Combinatieregel ",null,"STUKS","mw WK5351 38mm, FSC® cert. Premium Hardwood",null,null,"DEUR","LUXBUITEN","LUXBUITEN","TD","5351","","","Order","FSCPHW",true,"","",0,0,38,"",false,false,false,1609.0900000000001,1947,{"$f":"ROUND(SUMIF('Combination lines'!$A:$H,Report!$AE6210,'Combination lines'!$H:$H),2)","v":1609.09},null,137480,""]
["WK137570","Combinatieregel ",null,"STUKS","mw WK5371 54mm, FSC® cert. Premium Hardwood",null,null,"DEUR","LUXBUITEN","LUXBUITEN","TD","5371","","","Order","FSCPHW",true,"","",0,0,54,"",false,false,false,2161.16,2615,{"$f":"ROUND(SUMIF('Combination lines'!$A:$H,Report!$AE6215,'Combination lines'!$H:$H),2)","v":2161.16},null,137570,""]
["WK138100","Combinatieregel ",null,"STUKS","mw WK1549 38mm, FSC® cert. Premium Hardwood",null,null,"DEUR","LUXBUITEN","LUXBUITEN","VD","1549","","","Order","FSCPHW",true,"STOMP","",0,0,38,"",false,false,false,1395.03,1688,{"$f":"ROUND(SUMIF('Combination lines'!$A:$H,Report!$AE6223,'Combination lines'!$H:$H),2)","v":1395.03},null,138100,"A010"]
["WK138260","Combinatieregel ",null,"STUKS","mw WK1550 54mm, FSC® cert. Premium Hardwood",null,null,"DEUR","LUXBUITEN","LUXBUITEN","VD","1550","","","Order","FSCPHW",true,"","",0,0,54,"",false,false,false,1644.6200000000001,1990,{"$f":"ROUND(SUMIF('Combination lines'!$A:$H,Report!$AE6229,'Combination lines'!$H:$H),2)","v":1644.62},null,138260,"A010"]
["WK140420","Combinatieregel ",null,"STUKS","mw WK7810 54mm, FSC® cert. Premium Hardwood",null,null,"DEUR","BALKON","BALKON","BS","7810","","","Order","FSCPHW",true,"","",0,0,54,"",false,false,false,1902.48,2302,{"$f":"ROUND(SUMIF('Combination lines'!$A:$H,Report!$AE6235,'Combination lines'!$H:$H),2)","v":1902.48},null,140420,""]
["WK140540","Combinatieregel ",null,"SET","mw gefigureerd serie 1 iso VH glas tbv WK3612",null,null,"GLAS","","VLAK","","3612","GEFIGUREERD SERIE 1","ISO VEILIGHEIDSGLAS","Order","",false,"","",0,0,0,"",false,false,false,254.54,308,{"$f":"ROUND(SUMIF('Combination lines'!$A:$H,Report!$AE6243,'Combination lines'!$H:$H),2)","v":254.54},null,140540,""]
["WK140590","Combinatieregel ",null,"STUKS","mw WK3005 Stabiel Comfort® 40mm",null,null,"DEUR","VLAK","VLAK","SC","3005","","","Order","MTI",false,"","",0,0,40,"",false,false,false,765.1899999999999,926,{"$f":"ROUND(SUMIF('Combination lines'!$A:$H,Report!$AE6248,'Combination lines'!$H:$H),2)","v":765.19},null,140590,""]
["WK140670","Combinatieregel ",null,"STUKS","mw WK3051 Stabiel Comfort® 40mm",null,null,"DEUR","VLAK","VLAK","SC","3051","","","Order","MTI",false,"","",0,0,40,"",false,false,false,708.38,857,{"$f":"ROUND(SUMIF('Combination lines'!$A:$H,Report!$AE6256,'Combination lines'!$H:$H),2)","v":708.38},null,140670,""]
["WK140730","Combinatieregel ",null,"STUKS","mw WK3065 Stabiel Comfort® 40mm",null,null,"DEUR","VLAK","VLAK","SC","3065","","","Order","MTI",false,"","",0,0,40,"",false,false,false,897.4599999999999,1086,{"$f":"ROUND(SUMIF('Combination lines'!$A:$H,Report!$AE6262,'Combination lines'!$H:$H),2)","v":897.46},null,140730,""]
["WK140790","Combinatieregel ",null,"STUKS","mw WK3003 Stabiel Comfort® 54mm",null,null,"DEUR","VLAK","VLAK","SC","3003","","","Order","MTI",false,"","",0,0,54,"",false,false,false,845.36,1023,{"$f":"ROUND(SUMIF('Combination lines'!$A:$H,Report!$AE6268,'Combination lines'!$H:$H),2)","v":845.36},null,140790,""]
["WK140900","Combinatieregel ",null,"STUKS","mw WK3026 Stabiel Comfort® 54mm",null,null,"DEUR","VLAK","VLAK","SC","3026","","","Order","MTI",false,"","",0,0,54,"",false,false,false,941.3000000000001,1139,{"$f":"ROUND(SUMIF('Combination lines'!$A:$H,Report!$AE6276,'Combination lines'!$H:$H),2)","v":941.3},null,140900,""]
["WK140980","Combinatieregel ",null,"STUKS","mw WK3065 Stabiel Comfort® 54mm",null,null,"DEUR","VLAK","VLAK","SC","3065","","","Order","MTI",false,"","",0,0,54,"",false,false,false,977.63,1183,{"$f":"ROUND(SUMIF('Combination lines'!$A:$H,Report!$AE6284,'Combination lines'!$H:$H),2)","v":977.63},null,140980,""]
["WK141050","Combinatieregel ",null,"STUKS","mw WK3004 TriComfort® FSC® cert. 40mm",null,null,"DEUR","VLAK","VLAK","TC","3004","","","Order","FSCMTI",true,"","",0,0,40,"",false,false,false,822.4300000000001,995,{"$f":"ROUND(SUMIF('Combination lines'!$A:$H,Report!$AE6291,'Combination lines'!$H:$H),2)","v":822.43},null,141050,""]
["WK141100","Combinatieregel ",null,"STUKS","mw WK3021 TriComfort® FSC® cert. 40mm",null,null,"DEUR","VLAK","VLAK","TC","3021","","","Order","FSCMTI",true,"","",0,0,40,"",false,false,false,953.76,1154,{"$f":"ROUND(SUMIF('Combination lines'!$A:$H,Report!$AE6296,'Combination lines'!$H:$H),2)","v":953.76},null,141100,""]
["WK141220","Combinatieregel ",null,"STUKS","mw WK3064 TriComfort® FSC® cert. 40mm",null,null,"DEUR","VLAK","VLAK","TC","3064","","","Order","FSCMTI",true,"","",0,0,40,"",false,false,false,1011.51,1224,{"$f":"ROUND(SUMIF('Combination lines'!$A:$H,Report!$AE6308,'Combination lines'!$H:$H),2)","v":1011.51},null,141220,""]
["WK141230","Combinatieregel ",null,"STUKS","mw WK3065 TriComfort® FSC® cert. 40mm",null,null,"DEUR","VLAK","VLAK","TC","3065","","","Order","FSCMTI",true,"","",0,0,40,"",false,false,false,1011.51,1224,{"$f":"ROUND(SUMIF('Combination lines'!$A:$H,Report!$AE6309,'Combination lines'!$H:$H),2)","v":1011.51},null,141230,""]
["WK141310","Combinatieregel ",null,"STUKS","mw WK3005 TriComfort® FSC® cert. 54mm",null,null,"DEUR","VLAK","VLAK","TC","3005","","","Order","FSCMTI",true,"","",0,0,54,"",false,false,false,944.53,1143,{"$f":"ROUND(SUMIF('Combination lines'!$A:$H,Report!$AE6317,'Combination lines'!$H:$H),2)","v":944.53},null,141310,""]
["WK141380","Combinatieregel ",null,"STUKS","mw WK3024 TriComfort® FSC® cert. 54mm",null,null,"DEUR","VLAK","VLAK","TC","3024","","","Order","FSCMTI",true,"","",0,0,54,"",false,false,false,1055.37,1277,{"$f":"ROUND(SUMIF('Combination lines'!$A:$H,Report!$AE6324,'Combination lines'!$H:$H),2)","v":1055.37},null,141380,""]
["WK141430","Combinatieregel ",null,"STUKS","mw WK3052 TriComfort® FSC® cert. 54mm",null,null,"DEUR","VLAK","VLAK","TC","3052","","","Order","FSCMTI",true,"","",0,0,54,"",false,false,false,911.9399999999999,1103,{"$f":"ROUND(SUMIF('Combination lines'!$A:$H,Report!$AE6329,'Combination lines'!$H:$H),2)","v":911.94},null,141430,""]
["WK141510","Combinatieregel ",null,"STUKS","mw WK3075 TriComfort® FSC® cert. 54mm",null,null,"DEUR","VLAK","VLAK","TC","3075","","","Order","FSCMTI",true,"","",0,0,54,"",false,false,false,1198.8,1451,{"$f":"ROUND(SUMIF('Combination lines'!$A:$H,Report!$AE6337,'Combination lines'!$H:$H),2)","v":1198.8},null,141510,""]
["WK141630","Combinatieregel ",null,"STUKS","mw WK3024 AluMaxx® 40mm ingroefbaar",null,null,"DEUR","VLAK","VLAK","AL","3024","","","Order","",false,"","",0,0,40,"",false,false,false,1092.5600000000002,1322,{"$f":"ROUND(SUMIF('Combination lines'!$A:$H,Report!$AE6349,'Combination lines'!$H:$H),2)","v":1092.56},null,141630,""]
["WK141690","Combinatieregel ",null,"STUKS","mw WK3061 AluMaxx® 40mm ingroefbaar",null,null,"DEUR","VLAK","VLAK","AL","3061","","","Order","",false,"","",0,0,40,"",false,false,false,1047.8500000000001,1268,{"$f":"ROUND(SUMIF('Combination lines'!$A:$H,Report!$AE6355,'Combination lines'!$H:$H),2)","v":1047.85},null,141690,""]
["WK141750","Combinatieregel ",null,"STUKS","mw WK3074 AluMaxx® 40mm ingroefbaar",null,null,"DEUR","VLAK","VLAK","AL","3074","","","Order","",false,"","",0,0,40,"",false,false,false,1163.3500000000001,1408,{"$f":"ROUND(SUMIF('Combination lines'!$A:$H,Report!$AE6361,'Combination lines'!$H:$H),2)","v":1163.35},null,141750,""]
["WK141830","Combinatieregel ",null,"STUKS","mw WK3015 AluMaxx® 54mm ingroefbaar",null,null,"DEUR","VLAK","VLAK","AL","3015","","","Order","",false,"","",0,0,54,"",false,false,false,1187.2600000000002,1437,{"$f":"ROUND(SUMIF('Combination lines'!$A:$H,Report!$AE6369,'Combination lines'!$H:$H),2)","v":1187.26},null,141830,""]
["WK141840","Combinatieregel ",null,"STUKS","mw WK3016 AluMaxx® 54mm ingroefbaar",null,null,"DEUR","VLAK","VLAK","AL","3016","","","Order","",false,"","",0,0,54,"",false,false,false,1169.5500000000002,1415,{"$f":"ROUND(SUMIF('Combination lines'!$A:$H,Report!$AE6370,'Combination lines'!$H:$H),2)","v":1169.55},null,141840,""]
["WK141920","Combinatieregel ",null,"STUKS","mw WK3051 AluMaxx® 54mm ingroefbaar",null,null,"DEUR","VLAK","VLAK","AL","3051","","","Order","",false,"","",0,0,54,"",false,false,false,1044.75,1264,{"$f":"ROUND(SUMIF('Combination lines'!$A:$H,Report!$AE6378,'Combination lines'!$H:$H),2)","v":1044.75},null,141920,""]
["WK142030","Combinatieregel ",null,"STUKS","mw WK3002 Stabiel Comfort® FSC® cert. 40mm",null,null,"DEUR","VLAK","VLAK","SC","3002","","","Order","FSCMTI",true,"","",0,0,40,"",false,false,false,740.62,896,{"$f":"ROUND(SUMIF('Combination lines'!$A:$H,Report!$AE6389,'Combination lines'!$H:$H),2)","v":740.62},null,142030,""]
["WK142110","Combinatieregel ",null,"STUKS","mw WK3022 Stabiel Comfort® FSC® cert. 40mm",null,null,"DEUR","VLAK","VLAK","SC","3022","","","Order","FSCMTI",true,"","",0,0,40,"",false,false,false,871.9499999999999,1055,{"$f":"ROUND(SUMIF('Combination lines'!$A:$H,Report!$AE6394,'Combination lines'!$H:$H),2)","v":871.95},null,142110,""]
["WK142190","Combinatieregel ",null,"STUKS","mw WK3061 Stabiel Comfort® FSC® cert. 40mm",null,null,"DEUR","VLAK","VLAK","SC","3061","","","Order","FSCMTI",true,"","",0,0,40,"",false,false,false,863.5600000000001,1045,{"$f":"ROUND(SUMIF('Combination lines'!$A:$H,Report!$AE6402,'Combination lines'!$H:$H),2)","v":863.56},null,142190,""]
["WK142270","Combinatieregel ",null,"STUKS","mw WK3001 Stabiel Comfort® FSC® cert. 54mm",null,null,"DEUR","VLAK","VLAK","SC","3001","","","Order","FSCMTI",true,"","",0,0,54,"",false,false,false,835.05,1010,{"$f":"ROUND(SUMIF('Combination lines'!$A:$H,Report!$AE6410,'Combination lines'!$H:$H),2)","v":835.05},null,142270,""]
["WK142280","Combinatieregel ",null,"STUKS","mw WK3002 Stabiel Comfort® FSC® cert. 54mm",null,null,"DEUR","VLAK","VLAK","SC","3002","","","Order","FSCMTI",true,"","",0,0,54,"",false,false,false,825.74,999,{"$f":"ROUND(SUMIF('Combination lines'!$A:$H,Report!$AE6411,'Combination lines'!$H:$H),2)","v":825.74},null,142280,""]
["WK142420","Combinatieregel ",null,"STUKS","mw WK3051 Stabiel Comfort® FSC® cert. 54mm",null,null,"DEUR","VLAK","VLAK","SC","3051","","","Order","FSCMTI",true,"","",0,0,54,"",false,false,false,825.74,999,{"$f":"ROUND(SUMIF('Combination lines'!$A:$H,Report!$AE6422,'Combination lines'!$H:$H),2)","v":825.74},null,142420,""]
["WK142500","Combinatieregel ",null,"STUKS","mw WK3074 Stabiel Comfort® FSC® cert. 54mm",null,null,"DEUR","VLAK","VLAK","SC","3074","","","Order","FSCMTI",true,"","",0,0,54,"",false,false,false,1064.18,1288,{"$f":"ROUND(SUMIF('Combination lines'!$A:$H,Report!$AE6430,'Combination lines'!$H:$H),2)","v":1064.18},null,142500,""]
["WK142550","Combinatieregel ",null,"STUKS","mw WK3000 TriComfort® FSC® cert. 54mm",null,null,"DEUR","VLAK","VLAK","TC","3000","","","Order","FSCMTI",true,"","",0,0,54,"",false,false,false,747.93,905,{"$f":"ROUND(SUMIF('Combination lines'!$A:$H,Report!$AE6435,'Combination lines'!$H:$H),2)","v":747.93},null,142550,""]
["WK142620","Combinatieregel ",null,"STUKS","mw WK3000 Fire Proof 30 54mm",null,null,"DEUR","VLAK","VLAK","SP","3000","","","Order","MTI",false,"","",0,0,54,"",false,false,true,761.98,922,{"$f":"ROUND(SUMIF('Combination lines'!$A:$H,Report!$AE6442,'Combination lines'!$H:$H),2)","v":761.98},null,142620,""]
["WK143060","Combinatieregel ",null,"","vrd WK2034 TC 39 mm",null,null,"DEUR","LUXBUITEN","LUXBUITEN","VD","2034","","","Inventory","FSCMTI",true,"STOMP","",0,0,40,"",false,false,false,2342.9700000000003,2835,{"$f":"ROUND(SUMIF('Combination lines'!$A:$H,Report!$AE6447,'Combination lines'!$H:$H),2)","v":2342.97},null,143060,""]
["WK143660","Combinatieregel ",null,"","WK High Performance veiligheidsscharnier gefreesd en gemonteerd, RVS (89x89mm RH)",null,null,"HENS","SCHARNIER","","","","SCHARNIERINKROZING","","Order","",false,"","",0,0,0,"",false,false,false,28.93,35,{"$f":"ROUND(SUMIF('Combination lines'!$A:$H,Report!$AE6455,'Combination lines'!$H:$H),2)","v":28.93},null,143660,""]
["WK143740","Combinatieregel ",null,"","mw WK6314-C mat gelaagd glas stomp",null,null,"DEUR","BINNEN","BINNEN","MODERN","6314","MAT GELAAGD","","Order","MDF",true,"STOMP","",0,0,38,"",false,false,false,843.3499999999999,1020,{"$f":"ROUND(SUMIF('Combination lines'!$A:$H,Report!$AE6463,'Combination lines'!$H:$H),2)","v":843.35},null,143740,"B015"]
["WK143760","Combinatieregel ",null,"","mw WK6316-C mat gelaagd glas stomp",null,null,"DEUR","BINNEN","BINNEN","MODERN","6316","MAT GELAAGD","","Order","MDF",true,"STOMP","",0,0,38,"",false,false,false,965.45,1168,{"$f":"ROUND(SUMIF('Combination lines'!$A:$H,Report!$AE6465,'Combination lines'!$H:$H),2)","v":965.45},null,143760,"B015"]
["WK144460","Combinatieregel ",null,"","mw WK6402 met mat gelaagd glas stomp",null,null,"DEUR","BINNEN","BINNEN","MODERN","6402","MAT GELAAGD","","Order","MDF",true,"STOMP","",0,0,38,"",false,false,false,945.8999999999999,1145,{"$f":"ROUND(SUMIF('Combination lines'!$A:$H,Report!$AE6475,'Combination lines'!$H:$H),2)","v":945.9},null,144460,"B015"]
["WK144570","Combinatieregel ",null,"STUKS","mw WK6401 opdek",null,null,"DEUR","BINNEN","BINNEN","MODERN","6401","","","Order","MDF",true,"OPDEK","",0,0,38,"",false,true,false,643.4399999999999,779,{"$f":"ROUND(SUMIF('Combination lines'!$A:$H,Report!$AE6480,'Combination lines'!$H:$H),2)","v":643.44},null,144570,"B015"]
["WK144650","Combinatieregel ",null,"","mw WK6406 met mat gelaagd glas opdek",null,null,"DEUR","BINNEN","BINNEN","MODERN","6406","MAT GELAAGD","","Order","MDF",true,"OPDEK","",0,0,38,"",false,true,false,880.22,1065,{"$f":"ROUND(SUMIF('Combination lines'!$A:$H,Report!$AE6488,'Combination lines'!$H:$H),2)","v":880.22},null,144650,"B015"]
["WK145220","Combinatieregel ",null,"","mw WK6358-C met blank glas stomp",null,null,"DEUR","BINNEN","BINNEN","MODERN","6358","BLANK","","Order","MDF",true,"STOMP","",0,0,38,"",false,false,false,631.63,764,{"$f":"ROUND(SUMIF('Combination lines'!$A:$H,Report!$AE6496,'Combination lines'!$H:$H),2)","v":631.63},null,145220,"B015"]
["WK145420","Combinatieregel ",null,"","mw WK6361-C met blank glas stomp",null,null,"DEUR","BINNEN","BINNEN","MODERN","6361","BLANK","","Order","MDF",true,"STOMP","",0,0,38,"",false,false,false,634.23,767,{"$f":"ROUND(SUMIF('Combination lines'!$A:$H,Report!$AE6504,'Combination lines'!$H:$H),2)","v":634.23},null,145420,"B015"]
["WK145520","Combinatieregel ",null,"STUKS","mw WK6362-C met blank glas stomp",null,null,"DEUR","BINNEN","BINNEN","MODERN","6362","BLANK","","Order","MDF",true,"STOMP","",0,0,38,"",false,false,false,634.23,767,{"$f":"ROUND(SUMIF('Combination lines'!$A:$H,Report!$AE6508,'Combination lines'!$H:$H),2)","v":634.23},null,145520,"B015"]
["WK145670","Combinatieregel ",null,"","Maatwerk WK6517-C3 mat glas stomp",null,null,"DEUR","BINNEN","BINNEN","MODERN","6517","MAT","","Order","",true,"STOMP","",0,0,38,"",false,false,false,594.5500000000001,719,{"$f":"ROUND(SUMIF('Combination lines'!$A:$H,Report!$AE6516,'Combination lines'!$H:$H),2)","v":594.55},null,145670,"B015"]
["WK145720","Combinatieregel ",null,"","Maatwerk WK6517-C3 kathedraal glas opdek",null,null,"DEUR","BINNEN","BINNEN","MODERN","6517","KATHEDRAAL","","Order","",true,"OPDEK","",0,0,38,"",false,true,false,590.5,715,{"$f":"ROUND(SUMIF('Combination lines'!$A:$H,Report!$AE6521,'Combination lines'!$H:$H),2)","v":590.5},null,145720,"B015"]
["WK145800","Combinatieregel ",null,"","Maatwerk WK6518-C blank glas opdek",null,null,"DEUR","BINNEN","BINNEN","MODERN","6518","BLANK","","Order","",true,"OPDEK","",0,0,38,"",false,true,false,643.46,779,{"$f":"ROUND(SUMIF('Combination lines'!$A:$H,Report!$AE6529,'Combination lines'!$H:$H),2)","v":643.46},null,145800,"B015"]
["WK145840","Combinatieregel ",null,"","Maatwerk WK6518-C mat gelaagd glas opdek",null,null,"DEUR","BINNEN","BINNEN","MODERN","6518","MAT GELAAGD","","Order","",true,"OPDEK","",0,0,38,"",false,true,false,756.1,915,{"$f":"ROUND(SUMIF('Combination lines'!$A:$H,Report!$AE6533,'Combination lines'!$H:$H),2)","v":756.1},null,145840,"B015"]
["WK146460","Combinatieregel ",null,"SET","mw blank iso glas tbv WK3523",null,null,"GLAS","","BALKON","BS","3523","BLANK","ISOLATIEGLAS","Order","",false,"","",0,0,0,"",false,false,false,104.14,126,{"$f":"ROUND(SUMIF('Combination lines'!$A:$H,Report!$AE6541,'Combination lines'!$H:$H),2)","v":104.14},null,146460,""]
["WK147050","Combinatieregel ",null,"","Achterdeuren: Voorlakverfsysteem, transparant incl. houtselectie tbv transparante afwerking",null,null,"BEWERKING","VERF","","","","","","Order","",false,"","",0,0,0,"",false,false,false,117.36,142,{"$f":"ROUND(SUMIF('Combination lines'!$A:$H,Report!$AE6549,'Combination lines'!$H:$H),2)","v":117.36},null,147050,""]
["WK147140","Combinatieregel ",null,"SET","mw blank iso glas tbv WK4046 dubbel",null,null,"GLAS","","LUXBUITEN","TD","4046","BLANK","ISOLATIEGLAS","Order","",false,"","",0,0,0,"",false,false,false,747.1,904,{"$f":"ROUND(SUMIF('Combination lines'!$A:$H,Report!$AE6558,'Combination lines'!$H:$H),2)","v":747.1},null,147140,""]
["WK147170","Combinatieregel ",null,"SET","mw blank iso VH glas tbv WK4026 dubbel",null,null,"GLAS","","LUXBUITEN","TD","4026","BLANK","ISO VEILIGHEIDSGLAS","Order","",false,"","",0,0,0,"",false,false,false,1104.14,1336,{"$f":"ROUND(SUMIF('Combination lines'!$A:$H,Report!$AE6561,'Combination lines'!$H:$H),2)","v":1104.14},null,147170,""]
["WK147280","Combinatieregel ",null,"","Terrasdeuren: Toeslag gespoten aflak transparant incl. houtselectie tbv transparante afwerking",null,null,"BEWERKING","VERF","","","","","","Order","",false,"","",0,0,0,"",false,false,false,202.48000000000002,245,{"$f":"ROUND(SUMIF('Combination lines'!$A:$H,Report!$AE6569,'Combination lines'!$H:$H),2)","v":202.48},null,147280,""]
["WK147620","Combinatieregel ",null,"","Meranti slaglat rond wit WK 6233 L=2450mm, gemonteeerd",null,null,"ACCESSOIRES","OVERIG","","","","","","Order","",false,"","",0,0,0,"",false,false,false,124.8,151,{"$f":"ROUND(SUMIF('Combination lines'!$A:$H,Report!$AE6574,'Combination lines'!$H:$H),2)","v":124.8},null,147620,""]
["WK148700","Combinatieregel ",null,"","meerprijs glas-in-lood veiligheidsglas WK1361-1",null,null,"GLAS","","LUXBUITEN","VD","1361-1","","","Order","",false,"","",0,0,0,"",false,false,false,30.580000000000013,37,{"$f":"ROUND(SUMIF('Combination lines'!$A:$H,Report!$AE6582,'Combination lines'!$H:$H),2)","v":30.58},null,148700,""]
["WK148840","Combinatieregel ",null,"","meerprijs glas-in-lood veiligheidsglas WK1312-1",null,null,"GLAS","","LUXBUITEN","VD","1312-1","","","Order","",false,"","",0,0,0,"",false,false,false,56.19999999999999,68,{"$f":"ROUND(SUMIF('Combination lines'!$A:$H,Report!$AE6591,'Combination lines'!$H:$H),2)","v":56.2},null,148840,""]
["WK148930","Combinatieregel ",null,"STUKS","mw WK3501 54mm, FSC® cert. Premium Hardwood, strakke panelen",null,null,"DEUR","BALKON","BALKON","BS","3501DT6","","","Order","FSCPHW",true,"","",0,0,54,"",false,false,false,2109.08,2552,{"$f":"ROUND(SUMIF('Combination lines'!$A:$H,Report!$AE6594,'Combination lines'!$H:$H),2)","v":2109.08},null,148930,""]
["WK149360","Combinatieregel ",null,"","mw blank iso VH glas tbv WK3661",null,null,"GLAS","","VLAK","","3661","BLANK","ISO VEILIGHEIDSGLAS","Order","",false,"","",0,0,0,"",false,false,false,274.38,332,{"$f":"ROUND(SUMIF('Combination lines'!$A:$H,Report!$AE6602,'Combination lines'!$H:$H),2)","v":274.38},null,149360,""]
["WK150490","Combinatieregel ",null,"STUKS","mw WK3502 38mm, FSC® cert. Premium Hardwood, traditionele panelen",null,null,"DEUR","BALKON","BALKON","BS","3502DT4","","","Order","FSCPHW",true,"","",0,0,38,"",false,false,false,1723.13,2085,{"$f":"ROUND(SUMIF('Combination lines'!$A:$H,Report!$AE6607,'Combination lines'!$H:$H),2)","v":1723.13},null,150490,""]
["WK151570","Combinatieregel ",null,"SET","mw blank iso glas tbv WK4151 dubbel",null,null,"GLAS","","LUXBUITEN","TD","4151","BLANK","ISOLATIEGLAS","Order","",false,"","",0,0,0,"",false,false,false,357.02,432,{"$f":"ROUND(SUMIF('Combination lines'!$A:$H,Report!$AE6616,'Combination lines'!$H:$H),2)","v":357.02},null,151570,""]
["WK151700","Combinatieregel ",null,"STUKS","vrd WK6511 B2 opdek",null,null,"DEUR","BINNEN","BINNEN","MODERN","6511","","","Inventory","",true,"OPDEK","",0,0,38,"",false,true,false,335.78,406,{"$f":"ROUND(SUMIF('Combination lines'!$A:$H,Report!$AE6626,'Combination lines'!$H:$H),2)","v":335.78},null,151700,"B055"]
["WK151730","Combinatieregel ",null,"STUKS","vrd WK6521 B2 opdek",null,null,"DEUR","BINNEN","BINNEN","MODERN","6521","","","Inventory","",true,"OPDEK","",0,0,38,"",false,true,false,361.67999999999995,438,{"$f":"ROUND(SUMIF('Combination lines'!$A:$H,Report!$AE6627,'Combination lines'!$H:$H),2)","v":361.68},null,151730,"B055"]
["WK151860","Combinatieregel ",null,"STUKS","mw WK6305 C3 opdek",null,null,"DEUR","BINNEN","BINNEN","MODERN","6305","","","Order","MDF",true,"OPDEK","",0,0,38,"",false,true,false,462.12,559,{"$f":"ROUND(SUMIF('Combination lines'!$A:$H,Report!$AE6635,'Combination lines'!$H:$H),2)","v":462.12},null,151860,"B015"]
["WK152040","Combinatieregel ",null,"STUKS","vrd WK6531 B2 opdek",null,null,"DEUR","BINNEN","BINNEN","MODERN","6531","","","Inventory","",true,"OPDEK","",0,0,38,"",false,true,false,398.84,483,{"$f":"ROUND(SUMIF('Combination lines'!$A:$H,Report!$AE6647,'Combination lines'!$H:$H),2)","v":398.84},null,152040,"B055"]
["WK152100","Combinatieregel ",null,"STUKS","vrd WK6552 B2 opdek",null,null,"DEUR","BINNEN","BINNEN","MODERN","6552","","","Inventory","",true,"OPDEK","",0,0,38,"",false,true,false,371.84,450,{"$f":"ROUND(SUMIF('Combination lines'!$A:$H,Report!$AE6649,'Combination lines'!$H:$H),2)","v":371.84},null,152100,"B055"]
["WK155240","Combinatieregel ",null,"","WK HP terrasdeursluiting met inbouwespagnolet,gem., KB, incl. infr,slaglatten, sluitpotten, excl. profielcilinder",null,null,"ACCESSOIRES","OVERIG","","","","","","Order","",false,"","",0,0,0,"",false,false,false,646.27,782,{"$f":"ROUND(SUMIF('Combination lines'!$A:$H,Report!$AE6655,'Combination lines'!$H:$H),2)","v":646.27},null,155240,""]
["WK156380","Combinatieregel ",null,"","mw WK6306-C grijs getint glas stomp",null,null,"DEUR","BINNEN","BINNEN","MODERN","6306","GRIJS GETINT","","Order","MDF",true,"STOMP","",0,0,38,"",false,false,false,819.02,991,{"$f":"ROUND(SUMIF('Combination lines'!$A:$H,Report!$AE6667,'Combination lines'!$H:$H),2)","v":819.02},null,156380,"B015"]
["WK156390","Combinatieregel ",null,"STUKS","mw WK6306-C grijs getint glas opdek",null,null,"DEUR","BINNEN","BINNEN","MODERN","6306","GRIJS GETINT","","Order","MDF",true,"OPDEK","",0,0,38,"",false,true,false,831.4200000000001,1006,{"$f":"ROUND(SUMIF('Combination lines'!$A:$H,Report!$AE6668,'Combination lines'!$H:$H),2)","v":831.42},null,156390,""]
["WK156510","Combinatieregel ",null,"","mw WK6332-C grijs getint glas stomp",null,null,"DEUR","BINNEN","BINNEN","MODERN","6332","GRIJS GETINT","","Order","MDF",true,"STOMP","",0,0,38,"",false,false,false,916.01,1108,{"$f":"ROUND(SUMIF('Combination lines'!$A:$H,Report!$AE6678,'Combination lines'!$H:$H),2)","v":916.01},null,156510,"B015"]
["WK156600","Combinatieregel ",null,"","mw WK6361-C met grijs getint glas opdek",null,null,"DEUR","BINNEN","BINNEN","MODERN","6361","GRIJS GETINT","","Order","MDF",true,"OPDEK","",0,0,38,"",false,true,false,810.27,980,{"$f":"ROUND(SUMIF('Combination lines'!$A:$H,Report!$AE6687,'Combination lines'!$H:$H),2)","v":810.27},null,156600,"B015"]
["WK156610","Combinatieregel ",null,"","mw WK6362-C met grijs getint glas stomp",null,null,"DEUR","BINNEN","BINNEN","MODERN","6362","GRIJS GETINT","","Order","MDF",true,"STOMP","",0,0,38,"",false,false,false,797.87,965,{"$f":"ROUND(SUMIF('Combination lines'!$A:$H,Report!$AE6688,'Combination lines'!$H:$H),2)","v":797.87},null,156610,"B015"]
["WK157200","Combinatieregel ",null,"","mw WK6310 C3 grijs getint glas stomp",null,null,"DEUR","BINNEN","BINNEN","MODERN","6310","GRIJS GETINT","","Order","MDF",true,"STOMP","",0,0,38,"",false,false,false,792.99,960,{"$f":"ROUND(SUMIF('Combination lines'!$A:$H,Report!$AE6700,'Combination lines'!$H:$H),2)","v":792.99},null,157200,"B015"]
["WK157230","Combinatieregel ",null,"STUKS","mw WK6310 C3 grijs getint glas opdek",null,null,"DEUR","BINNEN","BINNEN","MODERN","6310","GRIJS GETINT","","Order","MDF",true,"OPDEK","",0,0,38,"",false,true,false,805.3900000000001,975,{"$f":"ROUND(SUMIF('Combination lines'!$A:$H,Report!$AE6703,'Combination lines'!$H:$H),2)","v":805.39},null,157230,""]
["WK157340","Combinatieregel ",null,"STUKS","mw WK6311 C3 mat gelaagd glas opdek",null,null,"DEUR","BINNEN","BINNEN","MODERN","6311","MAT GELAAGD","","Order","MDF",true,"OPDEK","",0,0,38,"",false,true,false,856.1499999999999,1036,{"$f":"ROUND(SUMIF('Combination lines'!$A:$H,Report!$AE6708,'Combination lines'!$H:$H),2)","v":856.15},null,157340,""]
["WK157580","Combinatieregel ",null,"STUKS","mw WK6315 C mat gelaagd glas opdek",null,null,"DEUR","BINNEN","BINNEN","MODERN","6315","MAT GELAAGD","","Order","MDF",true,"OPDEK","",0,0,38,"",false,true,false,799.02,967,{"$f":"ROUND(SUMIF('Combination lines'!$A:$H,Report!$AE6720,'Combination lines'!$H:$H),2)","v":799.02},null,157580,""]
["WK157780","Combinatieregel ",null,"","mw WK6338 C3 blank glas stomp",null,null,"DEUR","BINNEN","BINNEN","MODERN","6338","BLANK","","Order","MDF",true,"STOMP","",0,0,38,"",false,false,false,670.26,811,{"$f":"ROUND(SUMIF('Combination lines'!$A:$H,Report!$AE6728,'Combination lines'!$H:$H),2)","v":670.26},null,157780,"B015"]
["WK158430","Combinatieregel ",null,"","mw WK1972 38mm, FSC® cert. Premium Hardwood",null,null,"DEUR","LUXBUITEN","LUXBUITEN","VD","1972","","","Order","FSCPHW",true,"","",0,0,38,"",false,false,false,1463.63,1771,{"$f":"ROUND(SUMIF('Combination lines'!$A:$H,Report!$AE6733,'Combination lines'!$H:$H),2)","v":1463.63},null,158430,""]
["WK158590","Combinatieregel ",null,"","mw WK1971 54mm, FSC® cert. Premium Hardwood",null,null,"DEUR","LUXBUITEN","LUXBUITEN","VD","1971","","","Order","FSCPHW",true,"","",0,0,54,"",false,false,false,1577.68,1909,{"$f":"ROUND(SUMIF('Combination lines'!$A:$H,Report!$AE6736,'Combination lines'!$H:$H),2)","v":1577.68},null,158590,""]
["WK159520","Combinatieregel ",null,"","mw WK6308-C brons getint glas stomp",null,null,"DEUR","BINNEN","BINNEN","MODERN","6308","BRONS GETINT","","Order","MDF",true,"STOMP","",0,0,38,"",false,false,false,850.64,1029,{"$f":"ROUND(SUMIF('Combination lines'!$A:$H,Report!$AE6748,'Combination lines'!$H:$H),2)","v":850.64},null,159520,"B015"]
["WK159570","Combinatieregel ",null,"STUKS","mw WK6314 C brons getint glas opdek",null,null,"DEUR","BINNEN","BINNEN","MODERN","6314","BRONS GETINT","","Order","MDF",true,"OPDEK","",0,0,38,"",false,true,false,906.75,1097,{"$f":"ROUND(SUMIF('Combination lines'!$A:$H,Report!$AE6753,'Combination lines'!$H:$H),2)","v":906.75},null,159570,""]
["WK159650","Combinatieregel ",null,"","mw WK6358-C brons getint glas stomp",null,null,"DEUR","BINNEN","BINNEN","MODERN","6358","BRONS GETINT","","Order","MDF",true,"STOMP","",0,0,38,"",false,false,false,795.27,962,{"$f":"ROUND(SUMIF('Combination lines'!$A:$H,Report!$AE6761,'Combination lines'!$H:$H),2)","v":795.27},null,159650,"B015"]
["WK159690","Combinatieregel ",null,"","mw WK6361-C brons getint glas stomp",null,null,"DEUR","BINNEN","BINNEN","MODERN","6361","BRONS GETINT","","Order","MDF",true,"STOMP","",0,0,38,"",false,false,false,797.87,965,{"$f":"ROUND(SUMIF('Combination lines'!$A:$H,Report!$AE6765,'Combination lines'!$H:$H),2)","v":797.87},null,159690,"B015"]
["WK159770","Combinatieregel ",null,"","mw WK6311 C3 brons getint glas stomp",null,null,"DEUR","BINNEN","BINNEN","MODERN","6311","BRONS GETINT","","Order","MDF",true,"STOMP","",0,0,38,"",false,false,false,894.75,1083,{"$f":"ROUND(SUMIF('Combination lines'!$A:$H,Report!$AE6773,'Combination lines'!$H:$H),2)","v":894.75},null,159770,"B015"]
["WK159850","Combinatieregel ",null,"","mw WK6338 C3 brons getint glas stomp",null,null,"DEUR","BINNEN","BINNEN","MODERN","6338","BRONS GETINT","","Order","MDF",true,"STOMP","",0,0,38,"",false,false,false,792.99,960,{"$f":"ROUND(SUMIF('Combination lines'!$A:$H,Report!$AE6781,'Combination lines'!$H:$H),2)","v":792.99},null,159850,"B015"]
["WK159900","Combinatieregel ",null,"","mw WK6312-C zwart glas stomp",null,null,"DEUR","BINNEN","BINNEN","MODERN","6312","ZWART","","Order","MDF",true,"STOMP","",0,0,38,"",false,false,false,1001.6499999999999,1212,{"$f":"ROUND(SUMIF('Combination lines'!$A:$H,Report!$AE6786,'Combination lines'!$H:$H),2)","v":1001.65},null,159900,"B015"]
["WK159940","Combinatieregel ",null,"STUKS","mw WK6316-C zwart glas stomp",null,null,"DEUR","BINNEN","BINNEN","MODERN","6316","ZWART","","Order","MDF",true,"STOMP","",0,0,38,"",false,false,false,1102.09,1334,{"$f":"ROUND(SUMIF('Combination lines'!$A:$H,Report!$AE6790,'Combination lines'!$H:$H),2)","v":1102.09},null,159940,"B015"]
["WK160050","Combinatieregel ",null,"","mw WK6361-C zwart glas stomp",null,null,"DEUR","BINNEN","BINNEN","MODERN","6361","ZWART","","Order","MDF",true,"STOMP","",0,0,38,"",false,false,false,883.51,1069,{"$f":"ROUND(SUMIF('Combination lines'!$A:$H,Report!$AE6801,'Combination lines'!$H:$H),2)","v":883.51},null,160050,"B015"]
["WK160100","Combinatieregel ",null,"STUKS","mw WK6309 C3 zwart glas opdek",null,null,"DEUR","BINNEN","BINNEN","MODERN","6309","ZWART","","Order","MDF",true,"OPDEK","",0,0,38,"",false,true,false,801.86,970,{"$f":"ROUND(SUMIF('Combination lines'!$A:$H,Report!$AE6806,'Combination lines'!$H:$H),2)","v":801.86},null,160100,""]
["WK160180","Combinatieregel ",null,"STUKS","mw WK6315-C zwart glas opdek",null,null,"DEUR","BINNEN","BINNEN","MODERN","6315","ZWART","","Order","MDF",true,"OPDEK","",0,0,38,"",false,true,false,935.66,1132,{"$f":"ROUND(SUMIF('Combination lines'!$A:$H,Report!$AE6814,'Combination lines'!$H:$H),2)","v":935.66},null,160180,""]
["WK160230","Combinatieregel ",null,"","WK High Performance veiligheidsrenovatie scharnier gefreesd en gemonteerd, zwart (102/89x95mm RH)",null,null,"HENS","SCHARNIER","","","","SCHARNIERINKROZING","","Order","",false,"","",0,0,0,"",false,false,false,32.23,39,{"$f":"ROUND(SUMIF('Combination lines'!$A:$H,Report!$AE6819,'Combination lines'!$H:$H),2)","v":32.23},null,160230,""]
["WK162480","Combinatieregel ",null,"STUKS","mw WK4024 38mm, FSC® cert. Premium Hardwood",null,null,"DEUR","LUXBUITEN","LUXBUITEN","TD","4024","","","Order","FSCPHW",true,"","",0,0,38,"",false,false,false,721.49,873,{"$f":"ROUND(SUMIF('Combination lines'!$A:$H,Report!$AE6829,'Combination lines'!$H:$H),2)","v":721.49},null,162480,""]
["WK162930","Combinatieregel ",null,"STUKS","mw WK3012 TriComfort® FSC® cert. 40mm",null,null,"DEUR","VLAK","VLAK","TC","3012","","","Order","FSCMTI",true,"","",0,0,40,"",false,false,false,1022.6800000000001,1237,{"$f":"ROUND(SUMIF('Combination lines'!$A:$H,Report!$AE6834,'Combination lines'!$H:$H),2)","v":1022.68},null,162930,""]
["WK162980","Combinatieregel ",null,"STUKS","mw WK3041 TriComfort® FSC® cert. 40mm",null,null,"DEUR","VLAK","VLAK","TC","3041","","","Order","FSCMTI",true,"","",0,0,40,"",false,false,false,962.14,1164,{"$f":"ROUND(SUMIF('Combination lines'!$A:$H,Report!$AE6839,'Combination lines'!$H:$H),2)","v":962.14},null,162980,""]
["WK163060","Combinatieregel ",null,"STUKS","mw WK3084 TriComfort® FSC® cert. 40mm",null,null,"DEUR","VLAK","VLAK","TC","3084","","","Order","FSCMTI",true,"","",0,0,40,"",false,false,false,1115.82,1350,{"$f":"ROUND(SUMIF('Combination lines'!$A:$H,Report!$AE6847,'Combination lines'!$H:$H),2)","v":1115.82},null,163060,""]
["WK163260","Combinatieregel ",null,"STUKS","mw WK3018 TriComfort® FSC® cert. 54mm",null,null,"DEUR","VLAK","VLAK","TC","3018","","","Order","FSCMTI",true,"","",0,0,54,"",false,false,false,953.8499999999999,1154,{"$f":"ROUND(SUMIF('Combination lines'!$A:$H,Report!$AE6852,'Combination lines'!$H:$H),2)","v":953.85},null,163260,""]
["WK163330","Combinatieregel ",null,"STUKS","mw WK3081 TriComfort® FSC® cert. 54mm",null,null,"DEUR","VLAK","VLAK","TC","3081","","","Order","FSCMTI",true,"","",0,0,54,"",false,false,false,903.55,1093,{"$f":"ROUND(SUMIF('Combination lines'!$A:$H,Report!$AE6859,'Combination lines'!$H:$H),2)","v":903.55},null,163330,""]
["WK164540","Combinatieregel ",null,"","Afwijkende maat t/m 1095 x 2345 AluMaxx® FSC® cert. ingroefbaar 54mm",null,null,"TOESLAG","","VLAK","AL","","MAATTOESLAG","","Order","",true,"","",0,0,0,"",false,false,false,221.49,268,{"$f":"ROUND(SUMIF('Combination lines'!$A:$H,Report!$AE6867,'Combination lines'!$H:$H),2)","v":221.49},null,164540,"SD/SG"]
["WK164590","Combinatieregel ",null,"STUKS","mw WK3001 AluMaxx® FSC® cert. 40mm ingroefbaar",null,null,"DEUR","VLAK","VLAK","AL","3001","","","Order","",true,"","",0,0,40,"",false,false,false,934.22,1130,{"$f":"ROUND(SUMIF('Combination lines'!$A:$H,Report!$AE6872,'Combination lines'!$H:$H),2)","v":934.22},null,164590,""]
["WK164700","Combinatieregel ",null,"STUKS","mw WK3011 AluMaxx® FSC® cert. 54mm ingroefbaar",null,null,"DEUR","VLAK","VLAK","AL","3011","","","Order","",true,"","",0,0,54,"",false,false,false,1110.88,1344,{"$f":"ROUND(SUMIF('Combination lines'!$A:$H,Report!$AE6883,'Combination lines'!$H:$H),2)","v":1110.88},null,164700,""]
["WK164740","Combinatieregel ",null,"STUKS","mw WK3016 AluMaxx® FSC® cert. 54mm ingroefbaar",null,null,"DEUR","VLAK","VLAK","AL","3016","","","Order","",true,"","",0,0,54,"",false,false,false,1169.55,1415,{"$f":"ROUND(SUMIF('Combination lines'!$A:$H,Report!$AE6887,'Combination lines'!$H:$H),2)","v":1169.55},null,164740,""]
["WK164790","Combinatieregel ",null,"STUKS","mw WK3023 AluMaxx® FSC® cert. 40mm ingroefbaar",null,null,"DEUR","VLAK","VLAK","AL","3023","","","Order","",true,"","",0,0,40,"",false,false,false,1025.5,1241,{"$f":"ROUND(SUMIF('Combination lines'!$A:$H,Report!$AE6892,'Combination lines'!$H:$H),2)","v":1025.5},null,164790,""]
["WK164870","Combinatieregel ",null,"STUKS","mw WK3031 AluMaxx® FSC® cert. 40mm ingroefbaar",null,null,"DEUR","VLAK","VLAK","AL","3031","","","Order","",true,"","",0,0,40,"",false,false,false,913.73,1106,{"$f":"ROUND(SUMIF('Combination lines'!$A:$H,Report!$AE6900,'Combination lines'!$H:$H),2)","v":913.73},null,164870,""]
["WK164920","Combinatieregel ",null,"STUKS","mw WK3052 AluMaxx® FSC® cert. 54mm ingroefbaar",null,null,"DEUR","VLAK","VLAK","AL","3052","","","Order","",true,"","",0,0,54,"",false,false,false,1068.97,1293,{"$f":"ROUND(SUMIF('Combination lines'!$A:$H,Report!$AE6905,'Combination lines'!$H:$H),2)","v":1068.97},null,164920,""]
["WK165030","Combinatieregel ",null,"STUKS","mw WK3067 AluMaxx® FSC® cert. 40mm ingroefbaar",null,null,"DEUR","VLAK","VLAK","AL","3067","","","Order","",true,"","",0,0,40,"",false,false,false,1197.81,1449,{"$f":"ROUND(SUMIF('Combination lines'!$A:$H,Report!$AE6916,'Combination lines'!$H:$H),2)","v":1197.81},null,165030,""]
["WK165070","Combinatieregel ",null,"STUKS","mw WK3075 AluMaxx® FSC® cert. 40mm ingroefbaar",null,null,"DEUR","VLAK","VLAK","AL","3075","","","Order","",true,"","",0,0,40,"",false,false,false,1235.99,1496,{"$f":"ROUND(SUMIF('Combination lines'!$A:$H,Report!$AE6920,'Combination lines'!$H:$H),2)","v":1235.99},null,165070,""]
["WK165330","Combinatieregel ",null,"","mw WK044 54mm, TC geisoleerd, incl. ventilatiesleuven en vlakke iso-glaslatten",null,null,"DEUR","BALKON","BALKON","ISO","044TC","","","Order","",true,"","",0,0,54,"",false,false,false,910.73,1102,{"$f":"ROUND(SUMIF('Combination lines'!$A:$H,Report!$AE6925,'Combination lines'!$H:$H),2)","v":910.73},null,165330,""]
["WK166350","Combinatieregel ",null,"STUKS","mw WK3000 BioComfort®-R 54mm",null,null,"DEUR","VLAK","VLAK","BC_R","3000","","","Order","HW",false,"","",0,0,54,"",false,false,false,883.47,1069,{"$f":"ROUND(SUMIF('Combination lines'!$A:$H,Report!$AE6933,'Combination lines'!$H:$H),2)","v":883.47},null,166350,""]
["WK166430","Combinatieregel ",null,"STUKS","mw WK3012 BioComfort®-R 54mm",null,null,"DEUR","VLAK","VLAK","BC_R","3012","","","Order","HW",false,"","",0,0,54,"",false,false,false,1223.5100000000002,1480,{"$f":"ROUND(SUMIF('Combination lines'!$A:$H,Report!$AE6941,'Combination lines'!$H:$H),2)","v":1223.51},null,166430,""]
["WK166470","Combinatieregel ",null,"STUKS","mw WK3016 BioComfort®-R 54mm",null,null,"DEUR","VLAK","VLAK","BC_R","3016","","","Order","HW",false,"","",0,0,54,"",false,false,false,1148.06,1389,{"$f":"ROUND(SUMIF('Combination lines'!$A:$H,Report!$AE6945,'Combination lines'!$H:$H),2)","v":1148.06},null,166470,""]
["WK166550","Combinatieregel ",null,"STUKS","mw WK3026 BioComfort®-R 54mm",null,null,"DEUR","VLAK","VLAK","BC_R","3026","","","Order","HW",false,"","",0,0,54,"",false,false,false,1176.01,1423,{"$f":"ROUND(SUMIF('Combination lines'!$A:$H,Report!$AE6953,'Combination lines'!$H:$H),2)","v":1176.01},null,166550,""]
["WK166670","Combinatieregel ",null,"STUKS","mw WK3067 BioComfort®-R 54mm",null,null,"DEUR","VLAK","VLAK","BC_R","3067","","","Order","HW",false,"","",0,0,54,"",false,false,false,1296.1599999999999,1568,{"$f":"ROUND(SUMIF('Combination lines'!$A:$H,Report!$AE6965,'Combination lines'!$H:$H),2)","v":1296.16},null,166670,""]
["WK166680","Combinatieregel ",null,"STUKS","mw WK3068 BioComfort®-R 54mm",null,null,"DEUR","VLAK","VLAK","BC_R","3068","","","Order","HW",false,"","",0,0,54,"",false,false,false,1023.26,1238,{"$f":"ROUND(SUMIF('Combination lines'!$A:$H,Report!$AE6966,'Combination lines'!$H:$H),2)","v":1023.26},null,166680,""]
["WK166760","Combinatieregel ",null,"STUKS","mw WK3083 BioComfort®-R 54mm",null,null,"DEUR","VLAK","VLAK","BC_R","3083","","","Order","HW",false,"","",0,0,54,"",false,false,false,1223.5100000000002,1480,{"$f":"ROUND(SUMIF('Combination lines'!$A:$H,Report!$AE6974,'Combination lines'!$H:$H),2)","v":1223.51},null,166760,""]
["WK169960","Combinatieregel ",null,"","mw WK8041-6 ruits 38mm, PEFC-CS PHW",null,null,"","","BALKON","BS","8041","6 RUITS","","Order","PEFCCSPHW",false,"","",0,0,38,"",false,false,false,780.98,945,{"$f":"ROUND(SUMIF('Combination lines'!$A:$H,Report!$AE6985,'Combination lines'!$H:$H),2)","v":780.98},null,169960,""]
["WK169970","Combinatieregel ",null,"","mw WK8081-4 ruits 38mm, PEFC-CS PHW",null,null,"","","BALKON","BS","8081","4 RUITS","","Order","PEFCCSPHW",false,"","",0,0,38,"",false,false,false,863.63,1045,{"$f":"ROUND(SUMIF('Combination lines'!$A:$H,Report!$AE6986,'Combination lines'!$H:$H),2)","v":863.63},null,169970,""]
["WK170150","Combinatieregel ",null,"","mw WK014 38mm, PEFC-CS PHW, incl. ventilatiesleuven en vlakke iso-glaslatten",null,null,"","","BALKON","SS","014","","","Order","PEFCCSPHW",false,"","",0,0,38,"",false,false,false,611.56,740,{"$f":"ROUND(SUMIF('Combination lines'!$A:$H,Report!$AE6998,'Combination lines'!$H:$H),2)","v":611.56},null,170150,""]
["WK170230","Combinatieregel ",null,"","mw WK019 38mm, PEFC-CS PHW, incl. ventilatiesleuven en vlakke iso-glaslatten",null,null,"","","BALKON","SS","019","","","Order","PEFCCSPHW",false,"","",0,0,38,"",false,false,false,746.27,903,{"$f":"ROUND(SUMIF('Combination lines'!$A:$H,Report!$AE7003,'Combination lines'!$H:$H),2)","v":746.27},null,170230,""]
["WK170260","Combinatieregel ",null,"","mw WK041 38mm, PEFC-CS PHW, incl. ventilatiesleuven en vlakke iso-glaslatten",null,null,"","","BALKON","BS","041","","","Order","PEFCCSPHW",false,"","",0,0,38,"",false,false,false,627.26,759,{"$f":"ROUND(SUMIF('Combination lines'!$A:$H,Report!$AE7006,'Combination lines'!$H:$H),2)","v":627.26},null,170260,""]
["WK170430","Combinatieregel ",null,"","mw WK050 38mm, PEFC-CS PHW, incl. ventilatiesleuven en vlakke iso-glaslatten",null,null,"","","BALKON","BS","050","","","Order","PEFCCSPHW",false,"","",0,0,38,"",false,false,false,891.73,1079,{"$f":"ROUND(SUMIF('Combination lines'!$A:$H,Report!$AE7018,'Combination lines'!$H:$H),2)","v":891.73},null,170430,""]
["WK170540","Combinatieregel ",null,"","mw WK134 38mm, PEFC-CS PHW, incl. ventilatiesleuven en vlakke iso-glaslatten",null,null,"","","BALKON","BS","134","","","Order","PEFCCSPHW",false,"","",0,0,38,"",false,false,false,813.22,984,{"$f":"ROUND(SUMIF('Combination lines'!$A:$H,Report!$AE7026,'Combination lines'!$H:$H),2)","v":813.22},null,170540,""]
["WK170570","Combinatieregel ",null,"","mw WK0136 38mm, PEFC-CS PHW, incl. ventilatiesleuven en vlakke iso-glaslatten",null,null,"","","BALKON","BS","136","","","Order","PEFCCSPHW",false,"","",0,0,38,"",false,false,false,773.5500000000001,936,{"$f":"ROUND(SUMIF('Combination lines'!$A:$H,Report!$AE7028,'Combination lines'!$H:$H),2)","v":773.55},null,170570,""]
["WK170750","Combinatieregel ",null,"","mw WK334 38mm, PEFC-CS PHW, incl. ventilatiesleuven en vlakke iso-glaslatten",null,null,"","","BALKON","BS","334","","","Order","PEFCCSPHW",false,"","",0,0,38,"",false,false,false,971.06,1175,{"$f":"ROUND(SUMIF('Combination lines'!$A:$H,Report!$AE7038,'Combination lines'!$H:$H),2)","v":971.06},null,170750,""]
["WK170910","Combinatieregel ",null,"","mw WK7164 38mm, PEFC-CS PHW, incl. ventilatiesleuven en vlakke iso-glaslatten",null,null,"","","BALKON","BS","7164","","","Order","PEFCCSPHW",false,"","",0,0,38,"",false,false,false,1062.8000000000002,1286,{"$f":"ROUND(SUMIF('Combination lines'!$A:$H,Report!$AE7046,'Combination lines'!$H:$H),2)","v":1062.8},null,170910,""]
["WK170970","Combinatieregel ",null,"","mw WK8151-6 ruits 38mm, PEFC-CS PHW",null,null,"","","BALKON","BS","8151","6 RUITS","","Order","PEFCCSPHW",false,"","",0,0,38,"",false,false,false,1203.3,1456,{"$f":"ROUND(SUMIF('Combination lines'!$A:$H,Report!$AE7051,'Combination lines'!$H:$H),2)","v":1203.3},null,170970,""]
["WK171060","Combinatieregel ",null,"STUKS","mw WK3501 38mm, PEFC-CS PHW, strakke panelen",null,null,"","","BALKON","BS","3501DT6","","","Order","PEFCCSPHW",false,"","",0,0,38,"",false,false,false,1482.64,1794,{"$f":"ROUND(SUMIF('Combination lines'!$A:$H,Report!$AE7059,'Combination lines'!$H:$H),2)","v":1482.64},null,171060,""]
["WK171080","Combinatieregel ",null,"STUKS","mw WK3503 38mm, PEFC-CS PHW, strakke panelen",null,null,"","","BALKON","BS","3503DT6","","","Order","PEFCCSPHW",false,"","",0,0,38,"",false,false,false,1958.67,2370,{"$f":"ROUND(SUMIF('Combination lines'!$A:$H,Report!$AE7061,'Combination lines'!$H:$H),2)","v":1958.67},null,171080,""]
["WK171830","Combinatieregel ",null,"","mw WK048-4 ruits 38mm, PEFC-CS HW, incl. ventilatiesleuven en vlakke iso-glaslatten",null,null,"","","BALKON","BS","048","4 RUITS","","Order","PEFCCSHW",false,"","",0,0,38,"",false,false,false,788.4200000000001,954,{"$f":"ROUND(SUMIF('Combination lines'!$A:$H,Report!$AE7071,'Combination lines'!$H:$H),2)","v":788.42},null,171830,""]
["WK172060","Combinatieregel ",null,"STUKS","mw WK8191-4 ruits 38mm, PEFC-CS HW, incl. ventilatiesleuven en vlakke iso-glaslatten",null,null,"","","BALKON","BS","8191","4 RUITS","","Order","PEFCCSHW",false,"","",0,0,38,"",false,false,false,1176.03,1423,{"$f":"ROUND(SUMIF('Combination lines'!$A:$H,Report!$AE7079,'Combination lines'!$H:$H),2)","v":1176.03},null,172060,""]
["WK172110","Combinatieregel ",null,"STUKS","mw WK017 38mm, PEFC-CS HW, incl. ventilatiesleuven en vlakke iso-glaslatten",null,null,"","","BALKON","SS","017","","","Order","PEFCCSHW",false,"","",0,0,38,"",false,false,false,628.9200000000001,761,{"$f":"ROUND(SUMIF('Combination lines'!$A:$H,Report!$AE7084,'Combination lines'!$H:$H),2)","v":628.92},null,172110,""]
["WK172170","Combinatieregel ",null,"STUKS","mw WK045 38mm, PEFC-CS HW, incl. ventilatiesleuven en vlakke iso-glaslatten",null,null,"","","BALKON","BS","045","","","Order","PEFCCSHW",false,"","",0,0,38,"",false,false,false,617.35,747,{"$f":"ROUND(SUMIF('Combination lines'!$A:$H,Report!$AE7090,'Combination lines'!$H:$H),2)","v":617.35},null,172170,""]
["WK172260","Combinatieregel ",null,"STUKS","mw WK7114 38mm, PEFC-CS HW, incl. ventilatiesleuven en vlakke iso-glaslatten",null,null,"","","BALKON","BS","7114","","","Order","PEFCCSHW",false,"","",0,0,38,"",false,false,false,933.04,1129,{"$f":"ROUND(SUMIF('Combination lines'!$A:$H,Report!$AE7099,'Combination lines'!$H:$H),2)","v":933.04},null,172260,""]
["WK172310","Combinatieregel ",null,"STUKS","mw WK7164 38mm, PEFC-CS HW, incl. ventilatiesleuven en vlakke iso-glaslatten",null,null,"","","BALKON","BS","7164","","","Order","PEFCCSHW",false,"","",0,0,38,"",false,false,false,982.64,1189,{"$f":"ROUND(SUMIF('Combination lines'!$A:$H,Report!$AE7104,'Combination lines'!$H:$H),2)","v":982.64},null,172310,""]
["WK172390","Combinatieregel ",null,"STUKS","mw WK8191 38mm, PEFC-CS HW, incl. ventilatiesleuven en vlakke iso-glaslatten",null,null,"","","BALKON","BS","8191","","","Order","PEFCCSHW",false,"","",0,0,38,"",false,false,false,1073.55,1299,{"$f":"ROUND(SUMIF('Combination lines'!$A:$H,Report!$AE7112,'Combination lines'!$H:$H),2)","v":1073.55},null,172390,""]
["WK172420","Combinatieregel ",null,"STUKS","mw WK122 38mm, PEFC-CS HW, incl. ventilatiesleuven en vlakke iso-glaslatten",null,null,"","","BALKON","SS","122","","","Order","PEFCCSHW",false,"","",0,0,38,"",false,false,false,676.85,819,{"$f":"ROUND(SUMIF('Combination lines'!$A:$H,Report!$AE7115,'Combination lines'!$H:$H),2)","v":676.85},null,172420,""]
["WK172510","Combinatieregel ",null,"STUKS","mw WK144 38mm, PEFC-CS HW, incl. ventilatiesleuven en vlakke iso-glaslatten",null,null,"","","BALKON","BS","144","","","Order","PEFCCSHW",false,"","",0,0,38,"",false,false,false,762.8000000000001,923,{"$f":"ROUND(SUMIF('Combination lines'!$A:$H,Report!$AE7124,'Combination lines'!$H:$H),2)","v":762.8},null,172510,""]
["WK172590","Combinatieregel ",null,"STUKS","mw WK8041-6 ruits 38mm, PEFC-CS HW, incl. ventilatiesleuven en vlakke iso-glaslatten",null,null,"","","BALKON","BS","8041","6 RUITS","","Order","PEFCCSHW",false,"","",0,0,38,"",false,false,false,719.8299999999999,871,{"$f":"ROUND(SUMIF('Combination lines'!$A:$H,Report!$AE7132,'Combination lines'!$H:$H),2)","v":719.83},null,172590,""]
["WK172650","Combinatieregel ",null,"STUKS","mw WK7761 38mm, PEFC-CS HW, incl. ventilatiesleuven en vlakke iso-glaslatten",null,null,"","","BALKON","BS","7761","","","Order","PEFCCSHW",false,"","",0,0,38,"",false,false,false,869.41,1052,{"$f":"ROUND(SUMIF('Combination lines'!$A:$H,Report!$AE7137,'Combination lines'!$H:$H),2)","v":869.41},null,172650,""]
["WK173900","Combinatieregel ",null,"","mw WK8081-4 ruits 54mm, PEFC-CS PHW",null,null,"","","BALKON","BS","8081","4 RUITS","","Order","PEFCCSPHW",false,"","",0,0,54,"",false,false,false,973.55,1178,{"$f":"ROUND(SUMIF('Combination lines'!$A:$H,Report!$AE7145,'Combination lines'!$H:$H),2)","v":973.55},null,173900,""]
["WK173990","Combinatieregel ",null,"","mw WK012 54mm, PEFC-CS PHW, incl. ventilatiesleuven en vlakke iso-glaslatten",null,null,"","","BALKON","SS","012","","","Order","PEFCCSPHW",false,"","",0,0,54,"",false,false,false,649.5799999999999,786,{"$f":"ROUND(SUMIF('Combination lines'!$A:$H,Report!$AE7154,'Combination lines'!$H:$H),2)","v":649.58},null,173990,""]
["WK174020","Combinatieregel ",null,"","mw WK015 54mm, PEFC-CS PHW, incl. ventilatiesleuven en vlakke iso-glaslatten",null,null,"","","BALKON","SS","015","","","Order","PEFCCSPHW",false,"","",0,0,54,"",false,false,false,782.6400000000001,947,{"$f":"ROUND(SUMIF('Combination lines'!$A:$H,Report!$AE7157,'Combination lines'!$H:$H),2)","v":782.64},null,174020,""]
["WK174100","Combinatieregel ",null,"","mw WK042-8 ruits 54mm, PEFC-CS PHW",null,null,"","","BALKON","BS","042","8 RUITS","","Order","PEFCCSPHW",false,"","",0,0,54,"",false,false,false,856.19,1036,{"$f":"ROUND(SUMIF('Combination lines'!$A:$H,Report!$AE7165,'Combination lines'!$H:$H),2)","v":856.19},null,174100,""]
["WK174230","Combinatieregel ",null,"","mw WK047 54mm, PEFC-CS PHW, incl. ventilatiesleuven en vlakke iso-glaslatten",null,null,"","","BALKON","BS","047","","","Order","PEFCCSPHW",false,"","",0,0,54,"",false,false,false,899.16,1088,{"$f":"ROUND(SUMIF('Combination lines'!$A:$H,Report!$AE7173,'Combination lines'!$H:$H),2)","v":899.16},null,174230,""]
["WK174300","Combinatieregel ",null,"","mw WK050 54mm, PEFC-CS PHW, incl. ventilatiesleuven en vlakke iso-glaslatten",null,null,"","","BALKON","BS","050","","","Order","PEFCCSPHW",false,"","",0,0,54,"",false,false,false,1077.68,1304,{"$f":"ROUND(SUMIF('Combination lines'!$A:$H,Report!$AE7177,'Combination lines'!$H:$H),2)","v":1077.68},null,174300,""]
["WK174400","Combinatieregel ",null,"","mw WK132 54mm, PEFC-CS PHW, incl. ventilatiesleuven en vlakke iso-glaslatten",null,null,"","","BALKON","SS","132","","","Order","PEFCCSPHW",false,"","",0,0,54,"",false,false,false,773.54,936,{"$f":"ROUND(SUMIF('Combination lines'!$A:$H,Report!$AE7185,'Combination lines'!$H:$H),2)","v":773.54},null,174400,""]
["WK174470","Combinatieregel ",null,"","mw WK144 54mm, PEFC-CS PHW, incl. ventilatiesleuven en vlakke iso-glaslatten",null,null,"","","BALKON","BS","144","","","Order","PEFCCSPHW",false,"","",0,0,54,"",false,false,false,951.23,1151,{"$f":"ROUND(SUMIF('Combination lines'!$A:$H,Report!$AE7190,'Combination lines'!$H:$H),2)","v":951.23},null,174470,""]
["WK174630","Combinatieregel ",null,"","mw WK334 54mm, PEFC-CS PHW, incl. ventilatiesleuven en vlakke iso-glaslatten",null,null,"","","BALKON","BS","334","","","Order","PEFCCSPHW",false,"","",0,0,54,"",false,false,false,1147.09,1388,{"$f":"ROUND(SUMIF('Combination lines'!$A:$H,Report!$AE7198,'Combination lines'!$H:$H),2)","v":1147.09},null,174630,""]
["WK174790","Combinatieregel ",null,"","mw WK7164 54mm, PEFC-CS PHW, incl. ventilatiesleuven en vlakke iso-glaslatten",null,null,"","","BALKON","BS","7164","","","Order","PEFCCSPHW",false,"","",0,0,54,"",false,false,false,1252.0600000000002,1515,{"$f":"ROUND(SUMIF('Combination lines'!$A:$H,Report!$AE7206,'Combination lines'!$H:$H),2)","v":1252.06},null,174790,""]
["WK174840","Combinatieregel ",null,"","mw WK7711 54mm, PEFC-CS PHW, incl. ventilatiesleuven en vlakke iso-glaslatten",null,null,"","","BALKON","BS","7711","","","Order","PEFCCSPHW",false,"","",0,0,54,"",false,false,false,1872.72,2266,{"$f":"ROUND(SUMIF('Combination lines'!$A:$H,Report!$AE7210,'Combination lines'!$H:$H),2)","v":1872.72},null,174840,""]
["WK174930","Combinatieregel ",null,"","mw WK3523 54mm, PEFC-CS PHW, dubbel",null,null,"","","BALKON","BS","3523","","","Order","PEFCCSPHW",false,"","",0,0,54,"",false,false,false,2764.4500000000003,3345,{"$f":"ROUND(SUMIF('Combination lines'!$A:$H,Report!$AE7218,'Combination lines'!$H:$H),2)","v":2764.45},null,174930,""]
["WK174980","Combinatieregel ",null,"STUKS","mw WK3502 54mm, PEFC-CS PHW, traditionele panelen",null,null,"","","BALKON","BS","3502DT4","","","Order","PEFCCSPHW",false,"","",0,0,54,"",false,false,false,2449.58,2964,{"$f":"ROUND(SUMIF('Combination lines'!$A:$H,Report!$AE7223,'Combination lines'!$H:$H),2)","v":2449.58},null,174980,""]
["WK175820","Combinatieregel ",null,"STUKS","mw WK012 54mm, PEFC-CS HW, incl. ventilatiesleuven en vlakke iso-glaslatten",null,null,"","","BALKON","SS","012","","","Order","PEFCCSHW",false,"","",0,0,54,"",false,false,false,588.4200000000001,712,{"$f":"ROUND(SUMIF('Combination lines'!$A:$H,Report!$AE7231,'Combination lines'!$H:$H),2)","v":588.42},null,175820,""]
["WK175920","Combinatieregel ",null,"STUKS","mw WK044 54mm, PEFC-CS HW, incl. ventilatiesleuven en vlakke iso-glaslatten",null,null,"","","BALKON","BS","044","","","Order","PEFCCSHW",false,"","",0,0,54,"",false,false,false,706.6,855,{"$f":"ROUND(SUMIF('Combination lines'!$A:$H,Report!$AE7241,'Combination lines'!$H:$H),2)","v":706.6},null,175920,""]
["WK175940","Combinatieregel ",null,"STUKS","mw WK046 54mm, PEFC-CS HW, incl. ventilatiesleuven en vlakke iso-glaslatten",null,null,"","","BALKON","BS","046","","","Order","PEFCCSHW",false,"","",0,0,54,"",false,false,false,777.68,941,{"$f":"ROUND(SUMIF('Combination lines'!$A:$H,Report!$AE7243,'Combination lines'!$H:$H),2)","v":777.68},null,175940,""]
["WK176020","Combinatieregel ",null,"STUKS","mw WK7114 54mm, PEFC-CS HW, incl. ventilatiesleuven en vlakke iso-glaslatten",null,null,"","","BALKON","BS","7114","","","Order","PEFCCSHW",false,"","",0,0,54,"",false,false,false,1057.01,1279,{"$f":"ROUND(SUMIF('Combination lines'!$A:$H,Report!$AE7251,'Combination lines'!$H:$H),2)","v":1057.01},null,176020,""]
["WK176100","Combinatieregel ",null,"STUKS","mw WK7462 54mm, PEFC-CS HW, incl. ventilatiesleuven en vlakke iso-glaslatten",null,null,"","","BALKON","BS","7462","","","Order","PEFCCSHW",false,"","",0,0,54,"",false,false,false,1276.8500000000001,1545,{"$f":"ROUND(SUMIF('Combination lines'!$A:$H,Report!$AE7259,'Combination lines'!$H:$H),2)","v":1276.85},null,176100,""]
["WK176150","Combinatieregel ",null,"STUKS","mw WK8191 54mm, PEFC-CS HW, incl. ventilatiesleuven en vlakke iso-glaslatten",null,null,"","","BALKON","BS","8191","","","Order","PEFCCSHW",false,"","",0,0,54,"",false,false,false,1425.6100000000001,1725,{"$f":"ROUND(SUMIF('Combination lines'!$A:$H,Report!$AE7264,'Combination lines'!$H:$H),2)","v":1425.61},null,176150,""]
["WK176220","Combinatieregel ",null,"STUKS","mw WK322 54mm, PEFC-CS HW, incl. ventilatiesleuven en vlakke iso-glaslatten",null,null,"","","BALKON","SS","322","","","Order","PEFCCSHW",false,"","",0,0,54,"",false,false,false,931.39,1127,{"$f":"ROUND(SUMIF('Combination lines'!$A:$H,Report!$AE7271,'Combination lines'!$H:$H),2)","v":931.39},null,176220,""]
["WK176340","Combinatieregel ",null,"STUKS","mw WK8181 54mm, PEFC-CS HW, incl. ventilatiesleuven en vlakke iso-glaslatten",null,null,"","","BALKON","BS","8181","","","Order","PEFCCSHW",false,"STOMP","",0,0,54,"",false,false,false,895.04,1083,{"$f":"ROUND(SUMIF('Combination lines'!$A:$H,Report!$AE7283,'Combination lines'!$H:$H),2)","v":895.04},null,176340,""]
["WK176350","Combinatieregel ",null,"STUKS","mw WK8041-6 ruits 54mm, PEFC-CS HW, incl. ventilatiesleuven en vlakke iso-glaslatten",null,null,"","","BALKON","BS","8041","6 RUITS","","Order","PEFCCSHW",false,"","",0,0,54,"",false,false,false,780.16,944,{"$f":"ROUND(SUMIF('Combination lines'!$A:$H,Report!$AE7284,'Combination lines'!$H:$H),2)","v":780.16},null,176350,""]
["WK176880","Combinatieregel ",null,"STUKS","mw WK012 68mm, PEFC-CS HW, incl. ventilatiesleuven en vlakke iso-glaslatten",null,null,"","","BALKON","SS","012","","","Order","PEFCCSHW",false,"","",0,0,68,"",false,false,false,814.28,985,{"$f":"ROUND(SUMIF('Combination lines'!$A:$H,Report!$AE7292,'Combination lines'!$H:$H),2)","v":814.28},null,176880,""]
["WK176990","Combinatieregel ",null,"STUKS","mw WK043 68mm, PEFC-CS HW, incl. ventilatiesleuven en vlakke iso-glaslatten",null,null,"","","BALKON","BS","043","","","Order","PEFCCSHW",false,"","",0,0,68,"",false,false,false,923.31,1117,{"$f":"ROUND(SUMIF('Combination lines'!$A:$H,Report!$AE7303,'Combination lines'!$H:$H),2)","v":923.31},null,176990,""]
["WK177000","Combinatieregel ",null,"STUKS","mw WK044 68mm, PEFC-CS HW, incl. ventilatiesleuven en vlakke iso-glaslatten",null,null,"","","BALKON","BS","044","","","Order","PEFCCSHW",false,"","",0,0,68,"",false,false,false,980.6,1187,{"$f":"ROUND(SUMIF('Combination lines'!$A:$H,Report!$AE7304,'Combination lines'!$H:$H),2)","v":980.6},null,177000,""]
["WK177080","Combinatieregel ",null,"STUKS","mw WK122 68mm, PEFC-CS HW, incl. ventilatiesleuven en vlakke iso-glaslatten",null,null,"","","BALKON","SS","122","","","Order","PEFCCSHW",false,"","",0,0,68,"",false,false,false,961.4300000000001,1163,{"$f":"ROUND(SUMIF('Combination lines'!$A:$H,Report!$AE7312,'Combination lines'!$H:$H),2)","v":961.43},null,177080,""]
["WK177220","Combinatieregel ",null,"STUKS","mw WK8171 68mm, PEFC-CS HW, incl. ventilatiesleuven en vlakke iso-glaslatten",null,null,"","","BALKON","BS","8171","","","Order","PEFCCSHW",false,"","",0,0,68,"",false,false,false,1811.25,2192,{"$f":"ROUND(SUMIF('Combination lines'!$A:$H,Report!$AE7324,'Combination lines'!$H:$H),2)","v":1811.25},null,177220,""]
["WK180750","Combinatieregel ",null,"STUKS","mw WK4021 38mm, PEFC-CS PHW, dubbel",null,null,"","","LUXBUITEN","TD","4021","","","Order","PEFCCSPHW",false,"","",0,0,38,"",false,false,false,1160.32,1404,{"$f":"ROUND(SUMIF('Combination lines'!$A:$H,Report!$AE7328,'Combination lines'!$H:$H),2)","v":1160.32},null,180750,"C010"]
["WK180830","Combinatieregel ",null,"STUKS","mw WK4171 38mm, PEFC-CS PHW, dubbel",null,null,"","","LUXBUITEN","TD","4171","","","Order","PEFCCSPHW",false,"","",0,0,38,"",false,false,false,1418.18,1716,{"$f":"ROUND(SUMIF('Combination lines'!$A:$H,Report!$AE7336,'Combination lines'!$H:$H),2)","v":1418.18},null,180830,"C010"]
["WK180920","Combinatieregel ",null,"","mw WK1116 38mm, PEFC-CS PHW",null,null,"","","LUXBUITEN","VNM","1116","","","Order","PEFCCSPHW",false,"","",0,0,38,"",false,false,false,2662.81,3222,{"$f":"ROUND(SUMIF('Combination lines'!$A:$H,Report!$AE7344,'Combination lines'!$H:$H),2)","v":2662.81},null,180920,""]
["WK180940","Combinatieregel ",null,"","mw WK1363 38mm, PEFC-CS PHW",null,null,"","","LUXBUITEN","VD","1363","","","Order","PEFCCSPHW",false,"","",0,0,38,"",false,false,false,2819.83,3412,{"$f":"ROUND(SUMIF('Combination lines'!$A:$H,Report!$AE7345,'Combination lines'!$H:$H),2)","v":2819.83},null,180940,""]
["WK181120","Combinatieregel ",null,"","mw WK1391-5 38mm, PEFC-CS PHW",null,null,"","","LUXBUITEN","VD","1391-5","","","Order","PEFCCSPHW",false,"","",0,0,38,"",false,false,false,2714.87,3285,{"$f":"ROUND(SUMIF('Combination lines'!$A:$H,Report!$AE7357,'Combination lines'!$H:$H),2)","v":2714.87},null,181120,""]
["WK181310","Combinatieregel ",null,"","mw WK1532 38mm, PEFC-CS PHW",null,null,"","","LUXBUITEN","VD","1532","","","Order","PEFCCSPHW",false,"","",0,0,38,"",false,false,false,2562.7999999999997,3101,{"$f":"ROUND(SUMIF('Combination lines'!$A:$H,Report!$AE7364,'Combination lines'!$H:$H),2)","v":2562.8},null,181310,""]
["WK181380","Combinatieregel ",null,"","mw WK1551 38mm, PEFC-CS PHW",null,null,"","","LUXBUITEN","VD","1551","","","Order","PEFCCSPHW",false,"","",0,0,38,"",false,false,false,1734.6999999999998,2099,{"$f":"ROUND(SUMIF('Combination lines'!$A:$H,Report!$AE7369,'Combination lines'!$H:$H),2)","v":1734.7},null,181380,""]
["WK181540","Combinatieregel ",null,"","mw WK1642 38mm, PEFC-CS PHW",null,null,"","","LUXBUITEN","VD","1642","","","Order","PEFCCSPHW",false,"","",0,0,38,"",false,false,false,1426.44,1726,{"$f":"ROUND(SUMIF('Combination lines'!$A:$H,Report!$AE7377,'Combination lines'!$H:$H),2)","v":1426.44},null,181540,""]
["WK181710","Combinatieregel ",null,"","mw WK1722 38mm, PEFC-CS PHW",null,null,"","","LUXBUITEN","VD","1722","","","Order","PEFCCSPHW",false,"","",0,0,38,"",false,false,false,1691.73,2047,{"$f":"ROUND(SUMIF('Combination lines'!$A:$H,Report!$AE7385,'Combination lines'!$H:$H),2)","v":1691.73},null,181710,""]
["WK181800","Combinatieregel ",null,"","mw WK1133 38mm, PEFC-CS PHW",null,null,"","","LUXBUITEN","VNM","1133","","","Order","PEFCCSPHW",false,"","",0,0,38,"",false,false,false,3482.65,4214,{"$f":"ROUND(SUMIF('Combination lines'!$A:$H,Report!$AE7390,'Combination lines'!$H:$H),2)","v":3482.65},null,181800,""]
["WK181930","Combinatieregel ",null,"","mw WK1853 38mm, PEFC-CS PHW",null,null,"","","LUXBUITEN","VD","1853","","","Order","PEFCCSPHW",false,"","",0,0,38,"",false,false,false,2748.75,3326,{"$f":"ROUND(SUMIF('Combination lines'!$A:$H,Report!$AE7397,'Combination lines'!$H:$H),2)","v":2748.75},null,181930,""]
["WK182120","Combinatieregel ",null,"","mw WK2135 38mm, PEFC-CS PHW",null,null,"","","LUXBUITEN","DD","2135","","","Order","PEFCCSPHW",false,"","",0,0,38,"",false,false,false,1790.07,2166,{"$f":"ROUND(SUMIF('Combination lines'!$A:$H,Report!$AE7405,'Combination lines'!$H:$H),2)","v":1790.07},null,182120,""]
["WK182230","Combinatieregel ",null,"","mw WK2159 38mm, PEFC-CS PHW",null,null,"","","LUXBUITEN","DD","2159","","","Order","PEFCCSPHW",false,"","",0,0,38,"",false,false,false,1930.57,2336,{"$f":"ROUND(SUMIF('Combination lines'!$A:$H,Report!$AE7410,'Combination lines'!$H:$H),2)","v":1930.57},null,182230,""]
["WK182470","Combinatieregel ",null,"","mw WK1153 38mm, PEFC-CS PHW",null,null,"","","LUXBUITEN","VNM","1153","","","Order","PEFCCSPHW",false,"","",0,0,38,"",false,false,false,2785.12,3370,{"$f":"ROUND(SUMIF('Combination lines'!$A:$H,Report!$AE7415,'Combination lines'!$H:$H),2)","v":2785.12},null,182470,""]
["WK182620","Combinatieregel ",null,"","mw WK2544 38mm, PEFC-CS PHW",null,null,"","","LUXBUITEN","DD","2544","","","Order","PEFCCSPHW",false,"","",0,0,38,"",false,false,false,1864.45,2256,{"$f":"ROUND(SUMIF('Combination lines'!$A:$H,Report!$AE7422,'Combination lines'!$H:$H),2)","v":1864.45},null,182620,""]
["WK182910","Combinatieregel ",null,"","mw WK1231 38mm, PEFC-CS PHW",null,null,"","","LUXBUITEN","VD","1231","","","Order","PEFCCSPHW",false,"","",0,0,38,"",false,false,false,1925.6100000000001,2330,{"$f":"ROUND(SUMIF('Combination lines'!$A:$H,Report!$AE7430,'Combination lines'!$H:$H),2)","v":1925.61},null,182910,""]
["WK183010","Combinatieregel ",null,"","mw WK1282 38mm, PEFC-CS PHW",null,null,"","","LUXBUITEN","VD","1282","","","Order","PEFCCSPHW",false,"","",0,0,38,"",false,false,false,2967.7599999999998,3591,{"$f":"ROUND(SUMIF('Combination lines'!$A:$H,Report!$AE7438,'Combination lines'!$H:$H),2)","v":2967.76},null,183010,""]
["WK183120","Combinatieregel ",null,"","mw WK1342 38mm, PEFC-CS PHW",null,null,"","","LUXBUITEN","VD","1342","","","Order","PEFCCSPHW",false,"","",0,0,38,"",false,false,false,2771.07,3353,{"$f":"ROUND(SUMIF('Combination lines'!$A:$H,Report!$AE7444,'Combination lines'!$H:$H),2)","v":2771.07},null,183120,""]
["WK183210","Combinatieregel ",null,"","mw WK1435 38mm, PEFC-CS PHW",null,null,"","","LUXBUITEN","VD","1435","","","Order","PEFCCSPHW",false,"","",0,0,38,"",false,false,false,1313.22,1589,{"$f":"ROUND(SUMIF('Combination lines'!$A:$H,Report!$AE7450,'Combination lines'!$H:$H),2)","v":1313.22},null,183210,""]
["WK183260","Combinatieregel ",null,"","mw WK1147 38mm, PEFC-CS PHW",null,null,"","","LUXBUITEN","VNM","1147","","","Order","PEFCCSPHW",false,"","",0,0,38,"",false,false,false,2394.19,2897,{"$f":"ROUND(SUMIF('Combination lines'!$A:$H,Report!$AE7455,'Combination lines'!$H:$H),2)","v":2394.19},null,183260,""]
["WK185480","Combinatieregel ",null,"","mw WK4181 38mm, PEFC-CS PHW, dubbel",null,null,"","","LUXBUITEN","TD","4181","","","Order","PEFCCSPHW",false,"","",0,0,38,"",false,false,false,1238.02,1498,{"$f":"ROUND(SUMIF('Combination lines'!$A:$H,Report!$AE7463,'Combination lines'!$H:$H),2)","v":1238.02},null,185480,""]
["WK185560","Combinatieregel ",null,"STUKS","mw WK4028 38mm, PEFC-CS PHW, dubbel",null,null,"","","LUXBUITEN","TD","4028","","","Order","PEFCCSPHW",false,"","",0,0,38,"",false,false,false,1712.4,2072,{"$f":"ROUND(SUMIF('Combination lines'!$A:$H,Report!$AE7471,'Combination lines'!$H:$H),2)","v":1712.4},null,185560,""]
["WK185620","Combinatieregel ",null,"STUKS","mw WK4071 38mm, PEFC-CS PHW, dubbel",null,null,"","","LUXBUITEN","TD","4071","","","Order","PEFCCSPHW",false,"","",0,0,38,"",false,false,false,1418.18,1716,{"$f":"ROUND(SUMIF('Combination lines'!$A:$H,Report!$AE7477,'Combination lines'!$H:$H),2)","v":1418.18},null,185620,""]
["WK185680","Combinatieregel ",null,"STUKS","mw WK4228 38mm, PEFC-CS PHW, dubbel",null,null,"","","LUXBUITEN","TD","4228","","","Order","PEFCCSPHW",false,"","",0,0,38,"",false,false,false,1955.3600000000001,2366,{"$f":"ROUND(SUMIF('Combination lines'!$A:$H,Report!$AE7483,'Combination lines'!$H:$H),2)","v":1955.36},null,185680,""]
["WK185790","Combinatieregel ",null,"STUKS","mw WK4021 38mm, PEFC-CS PHW",null,null,"","","LUXBUITEN","TD","4021","","","Order","PEFCCSPHW",false,"","",0,0,38,"",false,false,false,580.16,702,{"$f":"ROUND(SUMIF('Combination lines'!$A:$H,Report!$AE7491,'Combination lines'!$H:$H),2)","v":580.16},null,185790,""]
["WK185840","Combinatieregel ",null,"STUKS","mw WK4041 38mm, PEFC-CS PHW",null,null,"","","LUXBUITEN","TD","4041","","","Order","PEFCCSPHW",false,"","",0,0,38,"",false,false,false,633.0600000000001,766,{"$f":"ROUND(SUMIF('Combination lines'!$A:$H,Report!$AE7496,'Combination lines'!$H:$H),2)","v":633.06},null,185840,""]
["WK185900","Combinatieregel ",null,"STUKS","mw WK4066 38mm, PEFC-CS PHW",null,null,"","","LUXBUITEN","TD","4066","","","Order","PEFCCSPHW",false,"","",0,0,38,"",false,false,false,895.87,1084,{"$f":"ROUND(SUMIF('Combination lines'!$A:$H,Report!$AE7502,'Combination lines'!$H:$H),2)","v":895.87},null,185900,""]
["WK185960","Combinatieregel ",null,"STUKS","mw WK4151 38mm, PEFC-CS PHW",null,null,"","","LUXBUITEN","TD","4151","","","Order","PEFCCSPHW",false,"","",0,0,38,"",false,false,false,658.6800000000001,797,{"$f":"ROUND(SUMIF('Combination lines'!$A:$H,Report!$AE7508,'Combination lines'!$H:$H),2)","v":658.68},null,185960,""]
["WK186040","Combinatieregel ",null,"STUKS","mw WK4186 38mm, PEFC-CS PHW",null,null,"","","LUXBUITEN","TD","4186","","","Order","PEFCCSPHW",false,"","",0,0,38,"",false,false,false,947.1,1146,{"$f":"ROUND(SUMIF('Combination lines'!$A:$H,Report!$AE7516,'Combination lines'!$H:$H),2)","v":947.1},null,186040,""]
["WK186120","Combinatieregel ",null,"STUKS","mw WK4426 38mm, PEFC-CS PHW",null,null,"","","LUXBUITEN","TD","4426","","","Order","PEFCCSPHW",false,"","",0,0,38,"",false,false,false,913.22,1105,{"$f":"ROUND(SUMIF('Combination lines'!$A:$H,Report!$AE7524,'Combination lines'!$H:$H),2)","v":913.22},null,186120,""]
["WK186180","Combinatieregel ",null,"","mw WK1211 38mm, PEFC-CS PHW",null,null,"","","LUXBUITEN","VD","1211","","","Order","PEFCCSPHW",false,"","",0,0,38,"",false,false,false,2666.1099999999997,3226,{"$f":"ROUND(SUMIF('Combination lines'!$A:$H,Report!$AE7529,'Combination lines'!$H:$H),2)","v":2666.11},null,186180,""]
["WK186260","Combinatieregel ",null,"STUKS","mw WK5371 38mm, PEFC-CS PHW",null,null,"","","LUXBUITEN","TD","5371","","","Order","PEFCCSPHW",false,"","",0,0,38,"",false,false,false,1661.98,2011,{"$f":"ROUND(SUMIF('Combination lines'!$A:$H,Report!$AE7535,'Combination lines'!$H:$H),2)","v":1661.98},null,186260,""]
["WK186410","Combinatieregel ",null,"","mw WK1972 38mm, PEFC-CS PHW",null,null,"","","LUXBUITEN","VD","1972","","","Order","PEFCCSPHW",false,"","",0,0,38,"",false,false,false,1463.63,1771,{"$f":"ROUND(SUMIF('Combination lines'!$A:$H,Report!$AE7544,'Combination lines'!$H:$H),2)","v":1463.63},null,186410,""]
["WK186530","Combinatieregel ",null,"STUKS","mw WK4623 38mm, PEFC-CS Premium Hardwood",null,null,"","","LUXBUITEN","TD","4623","","","Order","PEFCCSPHW",false,"","",0,0,38,"",false,false,false,649.58,786,{"$f":"ROUND(SUMIF('Combination lines'!$A:$H,Report!$AE7549,'Combination lines'!$H:$H),2)","v":649.58},null,186530,""]
["WK187040","Combinatieregel ",null,"STUKS","mw WK4151 54mm, PEFC-CS Premium Hardwood, dubbel",null,null,"","","LUXBUITEN","TD","4151","","","Order","PEFCCSPHW",false,"","",0,0,54,"",false,false,false,1816.5400000000002,2198,{"$f":"ROUND(SUMIF('Combination lines'!$A:$H,Report!$AE7557,'Combination lines'!$H:$H),2)","v":1816.54},null,187040,"C010"]
["WK189540","Combinatieregel ",null,"","mw WK1114 54mm, PEFC-CS Premium Hardwood",null,null,"","","LUXBUITEN","VNM","1114","","","Order","PEFCCSPHW",false,"","",0,0,54,"",false,false,false,2912.4,3524,{"$f":"ROUND(SUMIF('Combination lines'!$A:$H,Report!$AE7564,'Combination lines'!$H:$H),2)","v":2912.4},null,189540,""]
["WK189630","Combinatieregel ",null,"","mw WK1132-1 54mm, PEFC-CS Premium Hardwood",null,null,"","","LUXBUITEN","VNM","1132-1","","","Order","PEFCCSPHW",false,"","",0,0,54,"",false,false,false,3373.5599999999995,4082,{"$f":"ROUND(SUMIF('Combination lines'!$A:$H,Report!$AE7569,'Combination lines'!$H:$H),2)","v":3373.56},null,189630,""]
["WK189730","Combinatieregel ",null,"","mw WK1221 54mm, PEFC-CS Premium Hardwood",null,null,"","","LUXBUITEN","VD","1221","","","Order","PEFCCSPHW",false,"","",0,0,54,"",false,false,false,2336.3599999999997,2827,{"$f":"ROUND(SUMIF('Combination lines'!$A:$H,Report!$AE7577,'Combination lines'!$H:$H),2)","v":2336.36},null,189730,""]
["WK189800","Combinatieregel ",null,"","mw WK1241 54mm, PEFC-CS Premium Hardwood",null,null,"","","LUXBUITEN","VD","1241","","","Order","PEFCCSPHW",false,"","",0,0,54,"",false,false,false,2084.29,2522,{"$f":"ROUND(SUMIF('Combination lines'!$A:$H,Report!$AE7582,'Combination lines'!$H:$H),2)","v":2084.29},null,189800,""]
["WK189910","Combinatieregel ",null,"","mw WK1313 54mm, PEFC-CS Premium Hardwood",null,null,"","","LUXBUITEN","VD","1313","","","Order","PEFCCSPHW",false,"","",0,0,54,"",false,false,false,2558.6699999999996,3096,{"$f":"ROUND(SUMIF('Combination lines'!$A:$H,Report!$AE7589,'Combination lines'!$H:$H),2)","v":2558.67},null,189910,""]
["WK190090","Combinatieregel ",null,"","mw WK1391-5 54mm, PEFC-CS Premium Hardwood",null,null,"","","LUXBUITEN","VD","1391-5","","","Order","PEFCCSPHW",false,"","",0,0,54,"",false,false,false,2964.46,3587,{"$f":"ROUND(SUMIF('Combination lines'!$A:$H,Report!$AE7601,'Combination lines'!$H:$H),2)","v":2964.46},null,190090,""]
["WK190100","Combinatieregel ",null,"","mw WK1391-6 54mm, PEFC-CS Premium Hardwood",null,null,"","","LUXBUITEN","VD","1391-6","","","Order","PEFCCSPHW",false,"","",0,0,54,"",false,false,false,2964.46,3587,{"$f":"ROUND(SUMIF('Combination lines'!$A:$H,Report!$AE7602,'Combination lines'!$H:$H),2)","v":2964.46},null,190100,""]
["WK190230","Combinatieregel ",null,"","mw WK1551 54mm, PEFC-CS Premium Hardwood",null,null,"","","LUXBUITEN","VD","1551","","","Order","PEFCCSPHW",false,"","",0,0,54,"",false,false,false,1984.29,2401,{"$f":"ROUND(SUMIF('Combination lines'!$A:$H,Report!$AE7610,'Combination lines'!$H:$H),2)","v":1984.29},null,190230,""]
["WK190430","Combinatieregel ",null,"","mw WK1722 54mm, PEFC-CS Premium Hardwood",null,null,"","","LUXBUITEN","VD","1722","","","Order","PEFCCSPHW",false,"","",0,0,54,"",false,false,false,1941.32,2349,{"$f":"ROUND(SUMIF('Combination lines'!$A:$H,Report!$AE7622,'Combination lines'!$H:$H),2)","v":1941.32},null,190430,""]
["WK190560","Combinatieregel ",null,"","mw WK1831 54mm, PEFC-CS Premium Hardwood",null,null,"","","LUXBUITEN","VD","1831","","","Order","PEFCCSPHW",false,"","",0,0,54,"",false,false,false,2447.93,2962,{"$f":"ROUND(SUMIF('Combination lines'!$A:$H,Report!$AE7628,'Combination lines'!$H:$H),2)","v":2447.93},null,190560,""]
["WK190600","Combinatieregel ",null,"","mw WK1843 54mm, PEFC-CS Premium Hardwood",null,null,"","","LUXBUITEN","VD","1843","","","Order","PEFCCSPHW",false,"","",0,0,54,"",false,false,false,2027.27,2453,{"$f":"ROUND(SUMIF('Combination lines'!$A:$H,Report!$AE7630,'Combination lines'!$H:$H),2)","v":2027.27},null,190600,""]
["WK190830","Combinatieregel ",null,"","mw WK2154 54mm, PEFC-CS Premium Hardwood",null,null,"","","LUXBUITEN","DD","2154","","","Order","PEFCCSPHW",false,"","",0,0,54,"",false,false,false,2053.71,2485,{"$f":"ROUND(SUMIF('Combination lines'!$A:$H,Report!$AE7642,'Combination lines'!$H:$H),2)","v":2053.71},null,190830,""]
["WK190850","Combinatieregel ",null,"","mw WK2159 54mm, PEFC-CS Premium Hardwood",null,null,"","","LUXBUITEN","DD","2159","","","Order","PEFCCSPHW",false,"","",0,0,54,"",false,false,false,2180.16,2638,{"$f":"ROUND(SUMIF('Combination lines'!$A:$H,Report!$AE7643,'Combination lines'!$H:$H),2)","v":2180.16},null,190850,""]
["WK191180","Combinatieregel ",null,"","mw WK2539 54mm, PEFC-CS Premium Hardwood",null,null,"","","LUXBUITEN","DD","2539","","","Order","PEFCCSPHW",false,"","",0,0,54,"",false,false,false,2114.04,2558,{"$f":"ROUND(SUMIF('Combination lines'!$A:$H,Report!$AE7651,'Combination lines'!$H:$H),2)","v":2114.04},null,191180,""]
["WK191510","Combinatieregel ",null,"","mw WK1545 54mm, PEFC-CS Premium Hardwood",null,null,"","","LUXBUITEN","VD","1545","","","Order","PEFCCSPHW",false,"","",0,0,54,"",false,false,false,1644.6200000000001,1990,{"$f":"ROUND(SUMIF('Combination lines'!$A:$H,Report!$AE7662,'Combination lines'!$H:$H),2)","v":1644.62},null,191510,""]
["WK191520","Combinatieregel ",null,"","mw WK1546 54mm, PEFC-CS Premium Hardwood",null,null,"","","LUXBUITEN","VD","1546","","","Order","PEFCCSPHW",false,"","",0,0,54,"",false,false,false,1719.8300000000002,2081,{"$f":"ROUND(SUMIF('Combination lines'!$A:$H,Report!$AE7663,'Combination lines'!$H:$H),2)","v":1719.83},null,191520,""]
["WK191650","Combinatieregel ",null,"STUKS","mw WK4041 54mm, PEFC-CS Premium Hardwood",null,null,"","","LUXBUITEN","TD","4041","","","Order","PEFCCSPHW",false,"","",0,0,54,"",false,false,false,882.6500000000001,1068,{"$f":"ROUND(SUMIF('Combination lines'!$A:$H,Report!$AE7675,'Combination lines'!$H:$H),2)","v":882.65},null,191650,""]
["WK191720","Combinatieregel ",null,"STUKS","mw WK4071 54mm, PEFC-CS Premium Hardwood",null,null,"","","LUXBUITEN","TD","4071","","","Order","PEFCCSPHW",false,"","",0,0,54,"",false,false,false,958.6800000000001,1160,{"$f":"ROUND(SUMIF('Combination lines'!$A:$H,Report!$AE7682,'Combination lines'!$H:$H),2)","v":958.68},null,191720,""]
["WK191770","Combinatieregel ",null,"STUKS","mw WK4151 54mm, PEFC-CS Premium Hardwood",null,null,"","","LUXBUITEN","TD","4151","","","Order","PEFCCSPHW",false,"","",0,0,54,"",false,false,false,908.2700000000001,1099,{"$f":"ROUND(SUMIF('Combination lines'!$A:$H,Report!$AE7687,'Combination lines'!$H:$H),2)","v":908.27},null,191770,""]
["WK191850","Combinatieregel ",null,"STUKS","mw WK4186 54mm, PEFC-CS Premium Hardwood",null,null,"","","LUXBUITEN","TD","4186","","","Order","PEFCCSPHW",false,"","",0,0,54,"",false,false,false,1196.69,1448,{"$f":"ROUND(SUMIF('Combination lines'!$A:$H,Report!$AE7695,'Combination lines'!$H:$H),2)","v":1196.69},null,191850,""]
["WK191930","Combinatieregel ",null,"STUKS","mw WK4426 54mm, PEFC-CS Premium Hardwood",null,null,"","","LUXBUITEN","TD","4426","","","Order","PEFCCSPHW",false,"","",0,0,54,"",false,false,false,1162.81,1407,{"$f":"ROUND(SUMIF('Combination lines'!$A:$H,Report!$AE7703,'Combination lines'!$H:$H),2)","v":1162.81},null,191930,""]
["WK191980","Combinatieregel ",null,"STUKS","mw WK5221 54mm, PEFC-CS Premium Hardwood",null,null,"","","LUXBUITEN","TD","5221","","","Order","PEFCCSPHW",false,"","",0,0,54,"",false,false,false,1945.46,2354,{"$f":"ROUND(SUMIF('Combination lines'!$A:$H,Report!$AE7708,'Combination lines'!$H:$H),2)","v":1945.46},null,191980,""]
["WK192050","Combinatieregel ",null,"STUKS","mw WK1859 54mm, PEFC-CS Premium Hardwood",null,null,"","","LUXBUITEN","VD","1859","","","Order","PEFCCSPHW",false,"","",0,0,54,"",false,false,false,1766.1100000000001,2137,{"$f":"ROUND(SUMIF('Combination lines'!$A:$H,Report!$AE7715,'Combination lines'!$H:$H),2)","v":1766.11},null,192050,""]
["WK192210","Combinatieregel ",null,"","mw WK1971 54mm, PEFC-CS Premium Hardwood",null,null,"","","LUXBUITEN","VD","1971","","","Order","PEFCCSPHW",false,"","",0,0,54,"",false,false,false,1577.68,1909,{"$f":"ROUND(SUMIF('Combination lines'!$A:$H,Report!$AE7723,'Combination lines'!$H:$H),2)","v":1577.68},null,192210,""]
["WK193190","Combinatieregel ",null,"STUKS","mw WK3000 BioComfort®-R 54mm",null,null,"","","VLAK","BC_R","3000","","","Order","PEFCCSHW",false,"","",0,0,54,"",false,false,false,883.47,1069,{"$f":"ROUND(SUMIF('Combination lines'!$A:$H,Report!$AE7728,'Combination lines'!$H:$H),2)","v":883.47},null,193190,""]
["WK193270","Combinatieregel ",null,"STUKS","mw WK3012 BioComfort®-R 54mm",null,null,"","","VLAK","BC_R","3012","","","Order","PEFCCSHW",false,"","",0,0,54,"",false,false,false,1223.5100000000002,1480,{"$f":"ROUND(SUMIF('Combination lines'!$A:$H,Report!$AE7736,'Combination lines'!$H:$H),2)","v":1223.51},null,193270,""]
["WK193290","Combinatieregel ",null,"STUKS","mw WK3014 BioComfort®-R 54mm",null,null,"","","VLAK","BC_R","3014","","","Order","PEFCCSHW",false,"","",0,0,54,"",false,false,false,1165.77,1411,{"$f":"ROUND(SUMIF('Combination lines'!$A:$H,Report!$AE7738,'Combination lines'!$H:$H),2)","v":1165.77},null,193290,""]
["WK193390","Combinatieregel ",null,"STUKS","mw WK3026 BioComfort®-R 54mm",null,null,"","","VLAK","BC_R","3026","","","Order","PEFCCSHW",false,"","",0,0,54,"",false,false,false,1176.01,1423,{"$f":"ROUND(SUMIF('Combination lines'!$A:$H,Report!$AE7748,'Combination lines'!$H:$H),2)","v":1176.01},null,193390,""]
["WK193470","Combinatieregel ",null,"STUKS","mw WK3062 BioComfort®-R 54mm",null,null,"","","VLAK","BC_R","3062","","","Order","PEFCCSHW",false,"","",0,0,54,"",false,false,false,1136.89,1376,{"$f":"ROUND(SUMIF('Combination lines'!$A:$H,Report!$AE7756,'Combination lines'!$H:$H),2)","v":1136.89},null,193470,""]
["WK193520","Combinatieregel ",null,"STUKS","mw WK3068 BioComfort®-R 54mm",null,null,"","","VLAK","BC_R","3068","","","Order","PEFCCSHW",false,"","",0,0,54,"",false,false,false,1023.26,1238,{"$f":"ROUND(SUMIF('Combination lines'!$A:$H,Report!$AE7761,'Combination lines'!$H:$H),2)","v":1023.26},null,193520,""]
["WK193600","Combinatieregel ",null,"STUKS","mw WK3083 BioComfort®-R 54mm",null,null,"","","VLAK","BC_R","3083","","","Order","PEFCCSHW",false,"","",0,0,54,"",false,false,false,1223.5100000000002,1480,{"$f":"ROUND(SUMIF('Combination lines'!$A:$H,Report!$AE7769,'Combination lines'!$H:$H),2)","v":1223.51},null,193600,""]
["WK193770","Combinatieregel ",null,"","vrd WK1113 38 mm, PEFC-CS Premium Hardwood",null,null,"","","LUXBUITEN","VNM","1113","","","Inventory","PEFCCSPHW",false,"","",0,0,38,"",false,false,false,2354.55,2849,{"$f":"ROUND(SUMIF('Combination lines'!$A:$H,Report!$AE7772,'Combination lines'!$H:$H),2)","v":2354.55},null,193770,""]
["WK193780","Combinatieregel ",null,"","vrd WK1114 38 mm, PEFC-CS Premium Hardwood",null,null,"","","LUXBUITEN","VNM","1114","","","Inventory","PEFCCSPHW",false,"","",0,0,38,"",false,false,false,2354.55,2849,{"$f":"ROUND(SUMIF('Combination lines'!$A:$H,Report!$AE7773,'Combination lines'!$H:$H),2)","v":2354.55},null,193780,""]
["WK193790","Combinatieregel ",null,"","vrd WK1115 38mm, PEFC-CS Premium Hardwood",null,null,"","","LUXBUITEN","VNM","1115","","","Inventory","PEFCCSPHW",false,"","",0,0,38,"",false,false,false,2354.55,2849,{"$f":"ROUND(SUMIF('Combination lines'!$A:$H,Report!$AE7774,'Combination lines'!$H:$H),2)","v":2354.55},null,193790,""]
["WK193800","Combinatieregel ",null,"","vrd WK1116 38mm, PEFC-CS Premium Hardwood",null,null,"","","LUXBUITEN","VNM","1116","","","Inventory","PEFCCSPHW",false,"","",0,0,38,"",false,false,false,2354.55,2849,{"$f":"ROUND(SUMIF('Combination lines'!$A:$H,Report!$AE7775,'Combination lines'!$H:$H),2)","v":2354.55},null,193800,""]
["WK193810","Combinatieregel ",null,"","vrd WK1142 38mm, PEFC-CS Premium Hardwood",null,null,"","","LUXBUITEN","VNM","1142","","","Inventory","PEFCCSPHW",false,"","",0,0,38,"",false,false,false,1681.81,2035,{"$f":"ROUND(SUMIF('Combination lines'!$A:$H,Report!$AE7776,'Combination lines'!$H:$H),2)","v":1681.81},null,193810,""]
["WK193820","Combinatieregel ",null,"","vrd WK1118 38mm, PEFC-CS Premium Hardwood",null,null,"","","LUXBUITEN","VNM","","","1118","Inventory","PEFCCSPHW",false,"","",0,0,38,"",false,false,false,2473.55,2993,{"$f":"ROUND(SUMIF('Combination lines'!$A:$H,Report!$AE7777,'Combination lines'!$H:$H),2)","v":2473.55},null,193820,""]
["WK193830","Combinatieregel ",null,"","vrd WK1134 38mm, PEFC-CS Premium Hardwood",null,null,"","","LUXBUITEN","VNM","1134","","","Inventory","PEFCCSPHW",false,"","",0,0,38,"",false,false,false,2870.25,3473,{"$f":"ROUND(SUMIF('Combination lines'!$A:$H,Report!$AE7778,'Combination lines'!$H:$H),2)","v":2870.25},null,193830,""]
["WK193840","Combinatieregel ",null,"","vrd WK1144 38mm, PEFC-CS Premium Hardwood",null,null,"","","LUXBUITEN","VNM","1144","","","Inventory","PEFCCSPHW",false,"","",0,0,38,"",false,false,false,1747.0900000000001,2114,{"$f":"ROUND(SUMIF('Combination lines'!$A:$H,Report!$AE7779,'Combination lines'!$H:$H),2)","v":1747.09},null,193840,""]
["WK193850","Combinatieregel ",null,"","vrd WK1145 38mm, PEFC-CS Premium Hardwood",null,null,"","","LUXBUITEN","VNM","1145","","","Inventory","PEFCCSPHW",false,"","",0,0,38,"",false,false,false,1884.2800000000002,2280,{"$f":"ROUND(SUMIF('Combination lines'!$A:$H,Report!$AE7780,'Combination lines'!$H:$H),2)","v":1884.28},null,193850,""]
["WK193860","Combinatieregel ",null,"","vrd WK1434 38mm, PEFC-CS Premium Hardwood",null,null,"","","LUXBUITEN","DD","1434","","","Inventory","PEFCCSPHW",false,"","",0,0,38,"",false,false,false,1359.5,1645,{"$f":"ROUND(SUMIF('Combination lines'!$A:$H,Report!$AE7781,'Combination lines'!$H:$H),2)","v":1359.5},null,193860,""]
["WK193870","Combinatieregel ",null,"","vrd WK1435 38mm, PEFC-CS Premium Hardwood",null,null,"","","LUXBUITEN","VD","1435","","","Inventory","PEFCCSPHW",false,"","",0,0,38,"",false,false,false,1212.39,1467,{"$f":"ROUND(SUMIF('Combination lines'!$A:$H,Report!$AE7782,'Combination lines'!$H:$H),2)","v":1212.39},null,193870,""]
["WK193880","Combinatieregel ",null,"","vrd WK1545 38mm, PEFC-CS Premium Hardwood",null,null,"","","LUXBUITEN","VD","1545","","","Inventory","PEFCCSPHW",false,"","",0,0,38,"",false,false,false,1285.1200000000001,1555,{"$f":"ROUND(SUMIF('Combination lines'!$A:$H,Report!$AE7783,'Combination lines'!$H:$H),2)","v":1285.12},null,193880,""]
["WK193890","Combinatieregel ",null,"","vrd WK1546 38mm, PEFC-CS Premium Hardwood",null,null,"","","LUXBUITEN","VD","1546","","","Inventory","PEFCCSPHW",false,"","",0,0,38,"",false,false,false,1366.1100000000001,1653,{"$f":"ROUND(SUMIF('Combination lines'!$A:$H,Report!$AE7784,'Combination lines'!$H:$H),2)","v":1366.11},null,193890,""]
["WK193900","Combinatieregel ",null,"","vrd WK1547 38mm, PEFC-CS Premium Hardwood",null,null,"","","LUXBUITEN","VD","1547","","","Inventory","PEFCCSPHW",false,"","",0,0,38,"",false,false,false,1485.94,1798,{"$f":"ROUND(SUMIF('Combination lines'!$A:$H,Report!$AE7785,'Combination lines'!$H:$H),2)","v":1485.94},null,193900,""]
["WK193910","Combinatieregel ",null,"","vrd WK1546-1 38mm, PEFC-CS Premium Hardwood",null,null,"","","LUXBUITEN","VD","1546-1","","","Inventory","PEFCCSPHW",false,"","",0,0,38,"",false,false,false,1641.3200000000002,1986,{"$f":"ROUND(SUMIF('Combination lines'!$A:$H,Report!$AE7786,'Combination lines'!$H:$H),2)","v":1641.32},null,193910,""]
["WK193920","Combinatieregel ",null,"STUKS","vrd WK1436 38mm, PEFC-CS Premium Hardwood",null,null,"","","LUXBUITEN","VNM","1436","","","Inventory","PEFCCSPHW",false,"","",0,0,38,"",false,false,false,1965.29,2378,{"$f":"ROUND(SUMIF('Combination lines'!$A:$H,Report!$AE7787,'Combination lines'!$H:$H),2)","v":1965.29},null,193920,""]
["WK193930","Combinatieregel ",null,"STUKS","vrd WK1549 38mm, PEFC-CS Premium Hardwood",null,null,"","","LUXBUITEN","VD","1549","","","Inventory","PEFCCSPHW",false,"STOMP","",0,0,38,"",false,false,false,1371.89,1660,{"$f":"ROUND(SUMIF('Combination lines'!$A:$H,Report!$AE7788,'Combination lines'!$H:$H),2)","v":1371.89},null,193930,""]
["WK193940","Combinatieregel ",null,"","vrd WK1111 38 mm, PEFC-CS Premium Hardwood",null,null,"","","LUXBUITEN","VNM","1111","","","Inventory","PEFCCSPHW",false,"","",0,0,38,"",false,false,false,2354.55,2849,{"$f":"ROUND(SUMIF('Combination lines'!$A:$H,Report!$AE7789,'Combination lines'!$H:$H),2)","v":2354.55},null,193940,""]
["WK193950","Combinatieregel ",null,"STUKS","vrd WK1611 38mm, PEFC-CS Premium Hardwood",null,null,"","","LUXBUITEN","VD","1611","","","Inventory","PEFCCSPHW",false,"STOMP","",0,0,38,"",false,false,false,1695.03,2051,{"$f":"ROUND(SUMIF('Combination lines'!$A:$H,Report!$AE7790,'Combination lines'!$H:$H),2)","v":1695.03},null,193950,""]
["WK198540","Combinatieregel ",null,"STUKS","vrd WK8041 38mm, PEFC-CS Premium Hardwood",null,null,"","","BALKON","BS","8041","","","Inventory","PEFCCSPHW",false,"","",0,0,38,"",false,false,false,576.72,698,{"$f":"ROUND(SUMIF('Combination lines'!$A:$H,Report!$AE7791,'Combination lines'!$H:$H),2)","v":576.72},null,198540,""]
["WK198550","Combinatieregel ",null,"STUKS","vrd WK8061 38mm, PEFC-CS Premium Hardwood",null,null,"","","BALKON","BS","8061","","","Inventory","PEFCCSPHW",false,"","",0,0,38,"",false,false,false,623.99,755,{"$f":"ROUND(SUMIF('Combination lines'!$A:$H,Report!$AE7792,'Combination lines'!$H:$H),2)","v":623.99},null,198550,""]
["WK198560","Combinatieregel ",null,"STUKS","vrd WK8081 38mm, PEFC-CS Premium Hardwood",null,null,"","","BALKON","BS","8081","","","Inventory","PEFCCSPHW",false,"","",0,0,38,"",false,false,false,669.8100000000001,810,{"$f":"ROUND(SUMIF('Combination lines'!$A:$H,Report!$AE7793,'Combination lines'!$H:$H),2)","v":669.81},null,198560,""]
["WK198570","Combinatieregel ",null,"STUKS","vrd WK8181 38mm, PEFC-CS Premium Hardwood",null,null,"","","BALKON","BS","8181","","","Inventory","PEFCCSPHW",false,"STOMP","",0,0,38,"",false,false,false,770.9000000000001,933,{"$f":"ROUND(SUMIF('Combination lines'!$A:$H,Report!$AE7794,'Combination lines'!$H:$H),2)","v":770.9},null,198570,""]
["WK199480","Combinatieregel ",null,"","mw WK6340-C blank glas stomp",null,null,"","","BINNEN","MODERN","6340","BLANK","","Order","MDF",true,"STOMP","",0,0,38,"",false,false,false,680.49,823,{"$f":"ROUND(SUMIF('Combination lines'!$A:$H,Report!$AE7795,'Combination lines'!$H:$H),2)","v":680.49},null,199480,""]
["WK199490","Combinatieregel ",null,"","mw WK6340-C mat gelaagd glas stomp",null,null,"","","BINNEN","MODERN","6340","MAT GELAAGD","","Order","MDF",true,"STOMP","",0,0,38,"",false,false,false,793.13,960,{"$f":"ROUND(SUMIF('Combination lines'!$A:$H,Report!$AE7796,'Combination lines'!$H:$H),2)","v":793.13},null,199490,""]
["WK199500","Combinatieregel ",null,"","mw WK6340-C grijs getint glas stomp",null,null,"","","BINNEN","MODERN","6340","GRIJS GETINT","","Order","MDF",true,"STOMP","",0,0,38,"",false,false,false,844.13,1021,{"$f":"ROUND(SUMIF('Combination lines'!$A:$H,Report!$AE7797,'Combination lines'!$H:$H),2)","v":844.13},null,199500,""]
["WK199510","Combinatieregel ",null,"","mw WK6340-C brons getint glas stomp",null,null,"","","BINNEN","MODERN","6340","BRONS GETINT","","Order","MDF",true,"STOMP","",0,0,38,"",false,false,false,844.13,1021,{"$f":"ROUND(SUMIF('Combination lines'!$A:$H,Report!$AE7798,'Combination lines'!$H:$H),2)","v":844.13},null,199510,""]
["WK199520","Combinatieregel ",null,"","mw WK6340-C zwart glas stomp",null,null,"","","BINNEN","MODERN","6340","ZWART","","Order","MDF",true,"STOMP","",0,0,38,"",false,false,false,929.77,1125,{"$f":"ROUND(SUMIF('Combination lines'!$A:$H,Report!$AE7799,'Combination lines'!$H:$H),2)","v":929.77},null,199520,""]
["WK199540","Combinatieregel ",null,"","mw WK6340 C blank glas opdek",null,null,"","","BINNEN","MODERN","6340","BLANK","","Order","MDF",true,"OPDEK","",0,0,38,"",false,true,false,692.89,838,{"$f":"ROUND(SUMIF('Combination lines'!$A:$H,Report!$AE7800,'Combination lines'!$H:$H),2)","v":692.89},null,199540,""]
["WK199550","Combinatieregel ",null,"","mw WK6340 C mat gelaagd glas opdek",null,null,"","","BINNEN","MODERN","6340","MAT GELAAGD","","Order","MDF",true,"OPDEK","",0,0,38,"",false,true,false,805.53,975,{"$f":"ROUND(SUMIF('Combination lines'!$A:$H,Report!$AE7801,'Combination lines'!$H:$H),2)","v":805.53},null,199550,""]
["WK199560","Combinatieregel ",null,"","mw WK6340-C grijs getint glas opdek",null,null,"","","BINNEN","MODERN","6340","GRIJS GETINT","","Order","MDF",true,"OPDEK","",0,0,38,"",false,true,false,856.53,1036,{"$f":"ROUND(SUMIF('Combination lines'!$A:$H,Report!$AE7802,'Combination lines'!$H:$H),2)","v":856.53},null,199560,""]
["WK199570","Combinatieregel ",null,"","mw WK6340-C brons getint glas opdek",null,null,"","","BINNEN","MODERN","6340","BRONS GETINT","","Order","MDF",true,"OPDEK","",0,0,38,"",false,true,false,856.53,1036,{"$f":"ROUND(SUMIF('Combination lines'!$A:$H,Report!$AE7803,'Combination lines'!$H:$H),2)","v":856.53},null,199570,""]
["WK199580","Combinatieregel ",null,"","mw WK6340-C zwart glas opdek",null,null,"","","BINNEN","MODERN","6340","ZWART","","Order","MDF",true,"OPDEK","",0,0,38,"",false,true,false,942.17,1140,{"$f":"ROUND(SUMIF('Combination lines'!$A:$H,Report!$AE7804,'Combination lines'!$H:$H),2)","v":942.17},null,199580,""]
["WK199650","Combinatieregel ",null,"","mw WK6341-C blank glas stomp",null,null,"","","BINNEN","MODERN","6341","BLANK","","Order","MDF",true,"STOMP","",0,0,38,"",false,false,false,673.98,816,{"$f":"ROUND(SUMIF('Combination lines'!$A:$H,Report!$AE7805,'Combination lines'!$H:$H),2)","v":673.98},null,199650,""]
["WK199660","Combinatieregel ",null,"","mw WK6341-C mat gelaagd glas stomp",null,null,"","","BINNEN","MODERN","6341","MAT GELAAGD","","Order","MDF",true,"STOMP","",0,0,38,"",false,false,false,786.62,952,{"$f":"ROUND(SUMIF('Combination lines'!$A:$H,Report!$AE7806,'Combination lines'!$H:$H),2)","v":786.62},null,199660,""]
["WK199670","Combinatieregel ",null,"","mw WK6341-C grijs getint glas stomp",null,null,"","","BINNEN","MODERN","6341","GRIJS GETINT","","Order","MDF",true,"STOMP","",0,0,38,"",false,false,false,837.62,1014,{"$f":"ROUND(SUMIF('Combination lines'!$A:$H,Report!$AE7807,'Combination lines'!$H:$H),2)","v":837.62},null,199670,""]
["WK199680","Combinatieregel ",null,"","mw WK6341-C brons getint glas stomp",null,null,"","","BINNEN","MODERN","6341","BRONS GETINT","","Order","MDF",true,"STOMP","",0,0,38,"",false,false,false,837.62,1014,{"$f":"ROUND(SUMIF('Combination lines'!$A:$H,Report!$AE7808,'Combination lines'!$H:$H),2)","v":837.62},null,199680,""]
["WK199690","Combinatieregel ",null,"","mw WK6341-C zwart glas stomp",null,null,"","","BINNEN","MODERN","6341","ZWART","","Order","MDF",true,"STOMP","",0,0,38,"",false,false,false,923.26,1117,{"$f":"ROUND(SUMIF('Combination lines'!$A:$H,Report!$AE7809,'Combination lines'!$H:$H),2)","v":923.26},null,199690,""]
["WK199710","Combinatieregel ",null,"","mw WK6341 C blank glas opdek",null,null,"","","BINNEN","MODERN","6341","BLANK","","Order","MDF",true,"OPDEK","",0,0,38,"",false,true,false,686.38,831,{"$f":"ROUND(SUMIF('Combination lines'!$A:$H,Report!$AE7810,'Combination lines'!$H:$H),2)","v":686.38},null,199710,""]
["WK199720","Combinatieregel ",null,"","mw WK6341 C mat gelaagd glas opdek",null,null,"","","BINNEN","MODERN","6341","MAT GELAAGD","","Order","MDF",true,"OPDEK","",0,0,38,"",false,true,false,799.02,967,{"$f":"ROUND(SUMIF('Combination lines'!$A:$H,Report!$AE7811,'Combination lines'!$H:$H),2)","v":799.02},null,199720,""]
["WK199730","Combinatieregel ",null,"","mw WK6341-C grijs getint glas opdek",null,null,"","","BINNEN","MODERN","6341","GRIJS GETINT","","Order","MDF",true,"OPDEK","",0,0,38,"",false,true,false,850.02,1029,{"$f":"ROUND(SUMIF('Combination lines'!$A:$H,Report!$AE7812,'Combination lines'!$H:$H),2)","v":850.02},null,199730,""]
["WK199740","Combinatieregel ",null,"","mw WK6341-C brons getint glas opdek",null,null,"","","BINNEN","MODERN","6341","BRONS GETINT","","Order","MDF",true,"OPDEK","",0,0,38,"",false,true,false,850.02,1029,{"$f":"ROUND(SUMIF('Combination lines'!$A:$H,Report!$AE7813,'Combination lines'!$H:$H),2)","v":850.02},null,199740,""]
["WK199750","Combinatieregel ",null,"","mw WK6341-C zwart glas opdek",null,null,"","","BINNEN","MODERN","6341","ZWART","","Order","MDF",true,"OPDEK","",0,0,38,"",false,true,false,935.66,1132,{"$f":"ROUND(SUMIF('Combination lines'!$A:$H,Report!$AE7814,'Combination lines'!$H:$H),2)","v":935.66},null,199750,""]
["WK199820","Combinatieregel ",null,"","mw WK6342-C blank glas stomp",null,null,"","","BINNEN","MODERN","6342","BLANK","","Order","MDF",true,"STOMP","",0,0,38,"",false,false,false,705.5999999999999,854,{"$f":"ROUND(SUMIF('Combination lines'!$A:$H,Report!$AE7815,'Combination lines'!$H:$H),2)","v":705.6},null,199820,""]
["WK199830","Combinatieregel ",null,"","mw WK6342-C mat gelaagd glas stomp",null,null,"","","BINNEN","MODERN","6342","MAT GELAAGD","","Order","MDF",true,"STOMP","",0,0,38,"",false,false,false,818.24,990,{"$f":"ROUND(SUMIF('Combination lines'!$A:$H,Report!$AE7816,'Combination lines'!$H:$H),2)","v":818.24},null,199830,""]
["WK199840","Combinatieregel ",null,"","mw WK6342-C grijs getint glas stomp",null,null,"","","BINNEN","MODERN","6342","GRIJS GETINT","","Order","MDF",true,"STOMP","",0,0,38,"",false,false,false,869.24,1052,{"$f":"ROUND(SUMIF('Combination lines'!$A:$H,Report!$AE7817,'Combination lines'!$H:$H),2)","v":869.24},null,199840,""]
["WK199850","Combinatieregel ",null,"","mw WK6342-C brons getint glas stomp",null,null,"","","BINNEN","MODERN","6342","BRONS GETINT","","Order","MDF",true,"STOMP","",0,0,38,"",false,false,false,869.24,1052,{"$f":"ROUND(SUMIF('Combination lines'!$A:$H,Report!$AE7818,'Combination lines'!$H:$H),2)","v":869.24},null,199850,""]
["WK199860","Combinatieregel ",null,"","mw WK6342-C zwart glas stomp",null,null,"","","BINNEN","MODERN","6342","ZWART","","Order","MDF",true,"STOMP","",0,0,38,"",false,false,false,954.8799999999999,1155,{"$f":"ROUND(SUMIF('Combination lines'!$A:$H,Report!$AE7819,'Combination lines'!$H:$H),2)","v":954.88},null,199860,""]
["WK199880","Combinatieregel ",null,"","mw WK6342 C blank glas opdek",null,null,"","","BINNEN","MODERN","6342","BLANK","","Order","MDF",true,"OPDEK","",0,0,38,"",false,true,false,718,869,{"$f":"ROUND(SUMIF('Combination lines'!$A:$H,Report!$AE7820,'Combination lines'!$H:$H),2)","v":718},null,199880,""]
["WK199890","Combinatieregel ",null,"","mw WK6342 C mat gelaagd glas opdek",null,null,"","","BINNEN","MODERN","6342","MAT GELAAGD","","Order","MDF",true,"OPDEK","",0,0,38,"",false,true,false,830.6400000000001,1005,{"$f":"ROUND(SUMIF('Combination lines'!$A:$H,Report!$AE7821,'Combination lines'!$H:$H),2)","v":830.64},null,199890,""]
["WK199900","Combinatieregel ",null,"","mw WK6342-C grijs getint glas opdek",null,null,"","","BINNEN","MODERN","6342","GRIJS GETINT","","Order","MDF",true,"OPDEK","",0,0,38,"",false,true,false,881.6400000000001,1067,{"$f":"ROUND(SUMIF('Combination lines'!$A:$H,Report!$AE7822,'Combination lines'!$H:$H),2)","v":881.64},null,199900,""]
["WK199910","Combinatieregel ",null,"","mw WK6342-C brons getint glas opdek",null,null,"","","BINNEN","MODERN","6342","BRONS GETINT","","Order","MDF",true,"OPDEK","",0,0,38,"",false,true,false,881.6400000000001,1067,{"$f":"ROUND(SUMIF('Combination lines'!$A:$H,Report!$AE7823,'Combination lines'!$H:$H),2)","v":881.64},null,199910,""]
["WK199920","Combinatieregel ",null,"","mw WK6342-C zwart glas opdek",null,null,"","","BINNEN","MODERN","6342","ZWART","","Order","MDF",true,"OPDEK","",0,0,38,"",false,true,false,967.28,1170,{"$f":"ROUND(SUMIF('Combination lines'!$A:$H,Report!$AE7824,'Combination lines'!$H:$H),2)","v":967.28},null,199920,""]
["WK199990","Combinatieregel ",null,"","mw WK6343-C blank glas stomp",null,null,"","","BINNEN","MODERN","6343","BLANK","","Order","MDF",true,"STOMP","",0,0,38,"",false,false,false,680.49,823,{"$f":"ROUND(SUMIF('Combination lines'!$A:$H,Report!$AE7825,'Combination lines'!$H:$H),2)","v":680.49},null,199990,""]
["WK200000","Combinatieregel ",null,"","mw WK6343-C mat gelaagd glas stomp",null,null,"","","BINNEN","MODERN","6343","MAT GELAAGD","","Order","MDF",true,"STOMP","",0,0,38,"",false,false,false,793.13,960,{"$f":"ROUND(SUMIF('Combination lines'!$A:$H,Report!$AE7826,'Combination lines'!$H:$H),2)","v":793.13},null,200000,""]
["WK200010","Combinatieregel ",null,"","mw WK6343-C grijs getint glas stomp",null,null,"","","BINNEN","MODERN","6343","GRIJS GETINT","","Order","MDF",true,"STOMP","",0,0,38,"",false,false,false,844.13,1021,{"$f":"ROUND(SUMIF('Combination lines'!$A:$H,Report!$AE7827,'Combination lines'!$H:$H),2)","v":844.13},null,200010,""]
["WK200020","Combinatieregel ",null,"","mw WK6343-C brons getint glas stomp",null,null,"","","BINNEN","MODERN","6343","BRONS GETINT","","Order","MDF",true,"STOMP","",0,0,38,"",false,false,false,844.13,1021,{"$f":"ROUND(SUMIF('Combination lines'!$A:$H,Report!$AE7828,'Combination lines'!$H:$H),2)","v":844.13},null,200020,""]
["WK200030","Combinatieregel ",null,"","mw WK6343-C zwart glas stomp",null,null,"","","BINNEN","MODERN","6343","ZWART","","Order","MDF",true,"STOMP","",0,0,38,"",false,false,false,929.77,1125,{"$f":"ROUND(SUMIF('Combination lines'!$A:$H,Report!$AE7829,'Combination lines'!$H:$H),2)","v":929.77},null,200030,""]
["WK200050","Combinatieregel ",null,"","mw WK6343 C blank glas opdek",null,null,"","","BINNEN","MODERN","6343","BLANK","","Order","MDF",true,"OPDEK","",0,0,38,"",false,true,false,692.89,838,{"$f":"ROUND(SUMIF('Combination lines'!$A:$H,Report!$AE7830,'Combination lines'!$H:$H),2)","v":692.89},null,200050,""]
["WK200060","Combinatieregel ",null,"","mw WK6343 C mat gelaagd glas opdek",null,null,"","","BINNEN","MODERN","6343","MAT GELAAGD","","Order","MDF",true,"OPDEK","",0,0,38,"",false,true,false,805.53,975,{"$f":"ROUND(SUMIF('Combination lines'!$A:$H,Report!$AE7831,'Combination lines'!$H:$H),2)","v":805.53},null,200060,""]
["WK200070","Combinatieregel ",null,"","mw WK6343-C grijs getint glas opdek",null,null,"","","BINNEN","MODERN","6343","GRIJS GETINT","","Order","MDF",true,"OPDEK","",0,0,38,"",false,true,false,856.53,1036,{"$f":"ROUND(SUMIF('Combination lines'!$A:$H,Report!$AE7832,'Combination lines'!$H:$H),2)","v":856.53},null,200070,""]
["WK200080","Combinatieregel ",null,"","mw WK6343-C brons getint glas opdek",null,null,"","","BINNEN","MODERN","6343","BRONS GETINT","","Order","MDF",true,"OPDEK","",0,0,38,"",false,true,false,856.53,1036,{"$f":"ROUND(SUMIF('Combination lines'!$A:$H,Report!$AE7833,'Combination lines'!$H:$H),2)","v":856.53},null,200080,""]
["WK200090","Combinatieregel ",null,"","mw WK6343-C zwart glas opdek",null,null,"","","BINNEN","MODERN","6343","ZWART","","Order","MDF",true,"OPDEK","",0,0,38,"",false,true,false,942.17,1140,{"$f":"ROUND(SUMIF('Combination lines'!$A:$H,Report!$AE7834,'Combination lines'!$H:$H),2)","v":942.17},null,200090,""]
["WK200160","Combinatieregel ",null,"","mw WK6344-C blank glas stomp",null,null,"","","BINNEN","MODERN","6344","BLANK","","Order","MDF",true,"STOMP","",0,0,38,"",false,false,false,705.5999999999999,854,{"$f":"ROUND(SUMIF('Combination lines'!$A:$H,Report!$AE7835,'Combination lines'!$H:$H),2)","v":705.6},null,200160,""]
["WK200170","Combinatieregel ",null,"","mw WK6344-C mat gelaagd glas stomp",null,null,"","","BINNEN","MODERN","6344","MAT GELAAGD","","Order","MDF",true,"STOMP","",0,0,38,"",false,false,false,818.24,990,{"$f":"ROUND(SUMIF('Combination lines'!$A:$H,Report!$AE7836,'Combination lines'!$H:$H),2)","v":818.24},null,200170,""]
["WK200180","Combinatieregel ",null,"","mw WK6344-C grijs getint glas stomp",null,null,"","","BINNEN","MODERN","6344","GRIJS GETINT","","Order","MDF",true,"STOMP","",0,0,38,"",false,false,false,869.24,1052,{"$f":"ROUND(SUMIF('Combination lines'!$A:$H,Report!$AE7837,'Combination lines'!$H:$H),2)","v":869.24},null,200180,""]
["WK200190","Combinatieregel ",null,"","mw WK6344-C brons getint glas stomp",null,null,"","","BINNEN","MODERN","6344","BRONS GETINT","","Order","MDF",true,"STOMP","",0,0,38,"",false,false,false,869.24,1052,{"$f":"ROUND(SUMIF('Combination lines'!$A:$H,Report!$AE7838,'Combination lines'!$H:$H),2)","v":869.24},null,200190,""]
["WK200200","Combinatieregel ",null,"","mw WK6344-C zwart glas stomp",null,null,"","","BINNEN","MODERN","6344","ZWART","","Order","MDF",true,"STOMP","",0,0,38,"",false,false,false,954.8799999999999,1155,{"$f":"ROUND(SUMIF('Combination lines'!$A:$H,Report!$AE7839,'Combination lines'!$H:$H),2)","v":954.88},null,200200,""]
["WK200220","Combinatieregel ",null,"","mw WK6344 C blank glas opdek",null,null,"","","BINNEN","MODERN","6344","BLANK","","Order","MDF",true,"OPDEK","",0,0,38,"",false,true,false,718,869,{"$f":"ROUND(SUMIF('Combination lines'!$A:$H,Report!$AE7840,'Combination lines'!$H:$H),2)","v":718},null,200220,""]
["WK200230","Combinatieregel ",null,"","mw WK6344 C mat gelaagd glas opdek",null,null,"","","BINNEN","MODERN","6344","MAT GELAAGD","","Order","MDF",true,"OPDEK","",0,0,38,"",false,true,false,830.6400000000001,1005,{"$f":"ROUND(SUMIF('Combination lines'!$A:$H,Report!$AE7841,'Combination lines'!$H:$H),2)","v":830.64},null,200230,""]
["WK200240","Combinatieregel ",null,"","mw WK6344-C grijs getint glas opdek",null,null,"","","BINNEN","MODERN","6344","GRIJS GETINT","","Order","MDF",true,"OPDEK","",0,0,38,"",false,true,false,881.6400000000001,1067,{"$f":"ROUND(SUMIF('Combination lines'!$A:$H,Report!$AE7842,'Combination lines'!$H:$H),2)","v":881.64},null,200240,""]
["WK200250","Combinatieregel ",null,"","mw WK6344-C brons getint glas opdek",null,null,"","","BINNEN","MODERN","6344","BRONS GETINT","","Order","MDF",true,"OPDEK","",0,0,38,"",false,true,false,881.6400000000001,1067,{"$f":"ROUND(SUMIF('Combination lines'!$A:$H,Report!$AE7843,'Combination lines'!$H:$H),2)","v":881.64},null,200250,""]
["WK200260","Combinatieregel ",null,"","mw WK6344-C zwart glas opdek",null,null,"","","BINNEN","MODERN","6344","ZWART","","Order","MDF",true,"OPDEK","",0,0,38,"",false,true,false,967.28,1170,{"$f":"ROUND(SUMIF('Combination lines'!$A:$H,Report!$AE7844,'Combination lines'!$H:$H),2)","v":967.28},null,200260,""]
["WK200330","Combinatieregel ",null,"","mw WK6370-C blank glas stomp",null,null,"","","BINNEN","MODERN","6370","BLANK","","Order","MDF",true,"STOMP","",0,0,38,"",false,false,false,777.06,940,{"$f":"ROUND(SUMIF('Combination lines'!$A:$H,Report!$AE7845,'Combination lines'!$H:$H),2)","v":777.06},null,200330,""]
["WK200340","Combinatieregel ",null,"","mw WK6370-C mat gelaagd glas stomp",null,null,"","","BINNEN","MODERN","6370","MAT GELAAGD","","Order","MDF",true,"STOMP","",0,0,38,"",false,false,false,889.6999999999998,1077,{"$f":"ROUND(SUMIF('Combination lines'!$A:$H,Report!$AE7846,'Combination lines'!$H:$H),2)","v":889.7},null,200340,""]
["WK200350","Combinatieregel ",null,"","mw WK6370-C grijs getint glas stomp",null,null,"","","BINNEN","MODERN","6370","GRIJS GETINT","","Order","MDF",true,"STOMP","",0,0,38,"",false,false,false,940.6999999999998,1138,{"$f":"ROUND(SUMIF('Combination lines'!$A:$H,Report!$AE7847,'Combination lines'!$H:$H),2)","v":940.7},null,200350,""]
["WK200360","Combinatieregel ",null,"","mw WK6370-C brons getint glas stomp",null,null,"","","BINNEN","MODERN","6370","BRONS GETINT","","Order","MDF",true,"STOMP","",0,0,38,"",false,false,false,940.6999999999998,1138,{"$f":"ROUND(SUMIF('Combination lines'!$A:$H,Report!$AE7848,'Combination lines'!$H:$H),2)","v":940.7},null,200360,""]
["WK200370","Combinatieregel ",null,"","mw WK6370-C zwart glas stomp",null,null,"","","BINNEN","MODERN","6370","ZWART","","Order","MDF",true,"STOMP","",0,0,38,"",false,false,false,1026.34,1242,{"$f":"ROUND(SUMIF('Combination lines'!$A:$H,Report!$AE7849,'Combination lines'!$H:$H),2)","v":1026.34},null,200370,""]
["WK200390","Combinatieregel ",null,"","mw WK6370 C blank glas opdek",null,null,"","","BINNEN","MODERN","6370","BLANK","","Order","MDF",true,"OPDEK","",0,0,38,"",false,true,false,789.46,955,{"$f":"ROUND(SUMIF('Combination lines'!$A:$H,Report!$AE7850,'Combination lines'!$H:$H),2)","v":789.46},null,200390,""]
["WK200400","Combinatieregel ",null,"","mw WK6370 C mat gelaagd glas opdek",null,null,"","","BINNEN","MODERN","6370","MAT GELAAGD","","Order","MDF",true,"OPDEK","",0,0,38,"",false,true,false,902.0999999999999,1092,{"$f":"ROUND(SUMIF('Combination lines'!$A:$H,Report!$AE7851,'Combination lines'!$H:$H),2)","v":902.1},null,200400,""]
["WK200410","Combinatieregel ",null,"","mw WK6370-C grijs getint glas opdek",null,null,"","","BINNEN","MODERN","6370","GRIJS GETINT","","Order","MDF",true,"OPDEK","",0,0,38,"",false,true,false,953.0999999999999,1153,{"$f":"ROUND(SUMIF('Combination lines'!$A:$H,Report!$AE7852,'Combination lines'!$H:$H),2)","v":953.1},null,200410,""]
["WK200420","Combinatieregel ",null,"","mw WK6370-C brons getint glas opdek",null,null,"","","BINNEN","MODERN","6370","BRONS GETINT","","Order","MDF",true,"OPDEK","",0,0,38,"",false,true,false,953.0999999999999,1153,{"$f":"ROUND(SUMIF('Combination lines'!$A:$H,Report!$AE7853,'Combination lines'!$H:$H),2)","v":953.1},null,200420,""]
["WK200430","Combinatieregel ",null,"","mw WK6370-C zwart glas opdek",null,null,"","","BINNEN","MODERN","6370","ZWART","","Order","MDF",true,"OPDEK","",0,0,38,"",false,true,false,1038.74,1257,{"$f":"ROUND(SUMIF('Combination lines'!$A:$H,Report!$AE7854,'Combination lines'!$H:$H),2)","v":1038.74},null,200430,""]
["WK200500","Combinatieregel ",null,"","mw WK6371-C blank glas stomp",null,null,"","","BINNEN","MODERN","6371","BLANK","","Order","MDF",true,"STOMP","",0,0,38,"",false,false,false,880.1300000000001,1065,{"$f":"ROUND(SUMIF('Combination lines'!$A:$H,Report!$AE7855,'Combination lines'!$H:$H),2)","v":880.13},null,200500,""]
["WK200510","Combinatieregel ",null,"","mw WK6371-C mat gelaagd glas stomp",null,null,"","","BINNEN","MODERN","6371","MAT GELAAGD","","Order","MDF",true,"STOMP","",0,0,38,"",false,false,false,992.77,1201,{"$f":"ROUND(SUMIF('Combination lines'!$A:$H,Report!$AE7856,'Combination lines'!$H:$H),2)","v":992.77},null,200510,""]
["WK200520","Combinatieregel ",null,"","mw WK6371-C grijs getint glas stomp",null,null,"","","BINNEN","MODERN","6371","GRIJS GETINT","","Order","MDF",true,"STOMP","",0,0,38,"",false,false,false,1043.77,1263,{"$f":"ROUND(SUMIF('Combination lines'!$A:$H,Report!$AE7857,'Combination lines'!$H:$H),2)","v":1043.77},null,200520,""]
["WK200530","Combinatieregel ",null,"","mw WK6371-C brons getint glas stomp",null,null,"","","BINNEN","MODERN","6371","BRONS GETINT","","Order","MDF",true,"STOMP","",0,0,38,"",false,false,false,1043.77,1263,{"$f":"ROUND(SUMIF('Combination lines'!$A:$H,Report!$AE7858,'Combination lines'!$H:$H),2)","v":1043.77},null,200530,""]
["WK200540","Combinatieregel ",null,"","mw WK6371-C zwart glas stomp",null,null,"","","BINNEN","MODERN","6371","ZWART","","Order","MDF",true,"STOMP","",0,0,38,"",false,false,false,1129.41,1367,{"$f":"ROUND(SUMIF('Combination lines'!$A:$H,Report!$AE7859,'Combination lines'!$H:$H),2)","v":1129.41},null,200540,""]
["WK200560","Combinatieregel ",null,"","mw WK6371 C blank glas opdek",null,null,"","","BINNEN","MODERN","6371","BLANK","","Order","MDF",true,"OPDEK","",0,0,38,"",false,true,false,892.53,1080,{"$f":"ROUND(SUMIF('Combination lines'!$A:$H,Report!$AE7860,'Combination lines'!$H:$H),2)","v":892.53},null,200560,""]
["WK200570","Combinatieregel ",null,"","mw WK6371 C mat gelaagd glas opdek",null,null,"","","BINNEN","MODERN","6371","MAT GELAAGD","","Order","MDF",true,"OPDEK","",0,0,38,"",false,true,false,1005.1699999999998,1216,{"$f":"ROUND(SUMIF('Combination lines'!$A:$H,Report!$AE7861,'Combination lines'!$H:$H),2)","v":1005.17},null,200570,""]
["WK200580","Combinatieregel ",null,"","mw WK6371-C grijs getint glas opdek",null,null,"","","BINNEN","MODERN","6371","GRIJS GETINT","","Order","MDF",true,"OPDEK","",0,0,38,"",false,true,false,1056.1699999999998,1278,{"$f":"ROUND(SUMIF('Combination lines'!$A:$H,Report!$AE7862,'Combination lines'!$H:$H),2)","v":1056.17},null,200580,""]
["WK200590","Combinatieregel ",null,"","mw WK6371-C brons getint glas opdek",null,null,"","","BINNEN","MODERN","6371","BRONS GETINT","","Order","MDF",true,"OPDEK","",0,0,38,"",false,true,false,1056.1699999999998,1278,{"$f":"ROUND(SUMIF('Combination lines'!$A:$H,Report!$AE7863,'Combination lines'!$H:$H),2)","v":1056.17},null,200590,""]
["WK200600","Combinatieregel ",null,"","mw WK6371-C zwart glas opdek",null,null,"","","BINNEN","MODERN","6371","ZWART","","Order","MDF",true,"OPDEK","",0,0,38,"",false,true,false,1141.81,1382,{"$f":"ROUND(SUMIF('Combination lines'!$A:$H,Report!$AE7864,'Combination lines'!$H:$H),2)","v":1141.81},null,200600,""]
["WK200670","Combinatieregel ",null,"","mw WK6372-C blank glas stomp",null,null,"","","BINNEN","MODERN","6372","BLANK","","Order","MDF",true,"STOMP","",0,0,38,"",false,false,false,829.9100000000001,1004,{"$f":"ROUND(SUMIF('Combination lines'!$A:$H,Report!$AE7865,'Combination lines'!$H:$H),2)","v":829.91},null,200670,""]
["WK200680","Combinatieregel ",null,"","mw WK6372-C mat gelaagd glas stomp",null,null,"","","BINNEN","MODERN","6372","MAT GELAAGD","","Order","MDF",true,"STOMP","",0,0,38,"",false,false,false,942.55,1140,{"$f":"ROUND(SUMIF('Combination lines'!$A:$H,Report!$AE7866,'Combination lines'!$H:$H),2)","v":942.55},null,200680,""]
["WK200690","Combinatieregel ",null,"","mw WK6372-C grijs getint glas stomp",null,null,"","","BINNEN","MODERN","6372","GRIJS GETINT","","Order","MDF",true,"STOMP","",0,0,38,"",false,false,false,993.55,1202,{"$f":"ROUND(SUMIF('Combination lines'!$A:$H,Report!$AE7867,'Combination lines'!$H:$H),2)","v":993.55},null,200690,""]
["WK200700","Combinatieregel ",null,"","mw WK6372-C brons getint glas stomp",null,null,"","","BINNEN","MODERN","6372","BRONS GETINT","","Order","MDF",true,"STOMP","",0,0,38,"",false,false,false,993.55,1202,{"$f":"ROUND(SUMIF('Combination lines'!$A:$H,Report!$AE7868,'Combination lines'!$H:$H),2)","v":993.55},null,200700,""]
["WK200710","Combinatieregel ",null,"","mw WK6372-C zwart glas stomp",null,null,"","","BINNEN","MODERN","6372","ZWART","","Order","MDF",true,"STOMP","",0,0,38,"",false,false,false,1079.19,1306,{"$f":"ROUND(SUMIF('Combination lines'!$A:$H,Report!$AE7869,'Combination lines'!$H:$H),2)","v":1079.19},null,200710,""]
["WK200730","Combinatieregel ",null,"","mw WK6372 C blank glas opdek",null,null,"","","BINNEN","MODERN","6372","BLANK","","Order","MDF",true,"OPDEK","",0,0,38,"",false,true,false,842.31,1019,{"$f":"ROUND(SUMIF('Combination lines'!$A:$H,Report!$AE7870,'Combination lines'!$H:$H),2)","v":842.31},null,200730,""]
["WK200740","Combinatieregel ",null,"","mw WK6372 C mat gelaagd glas opdek",null,null,"","","BINNEN","MODERN","6372","MAT GELAAGD","","Order","MDF",true,"OPDEK","",0,0,38,"",false,true,false,954.95,1155,{"$f":"ROUND(SUMIF('Combination lines'!$A:$H,Report!$AE7871,'Combination lines'!$H:$H),2)","v":954.95},null,200740,""]
["WK200750","Combinatieregel ",null,"","mw WK6372-C grijs getint glas opdek",null,null,"","","BINNEN","MODERN","6372","GRIJS GETINT","","Order","MDF",true,"OPDEK","",0,0,38,"",false,true,false,1005.95,1217,{"$f":"ROUND(SUMIF('Combination lines'!$A:$H,Report!$AE7872,'Combination lines'!$H:$H),2)","v":1005.95},null,200750,""]
["WK200760","Combinatieregel ",null,"","mw WK6372-C brons getint glas opdek",null,null,"","","BINNEN","MODERN","6372","BRONS GETINT","","Order","MDF",true,"OPDEK","",0,0,38,"",false,true,false,1005.95,1217,{"$f":"ROUND(SUMIF('Combination lines'!$A:$H,Report!$AE7873,'Combination lines'!$H:$H),2)","v":1005.95},null,200760,""]
["WK200770","Combinatieregel ",null,"","mw WK6372-C zwart glas opdek",null,null,"","","BINNEN","MODERN","6372","ZWART","","Order","MDF",true,"OPDEK","",0,0,38,"",false,true,false,1091.59,1321,{"$f":"ROUND(SUMIF('Combination lines'!$A:$H,Report!$AE7874,'Combination lines'!$H:$H),2)","v":1091.59},null,200770,""]
["WK200840","Combinatieregel ",null,"","mw WK6373-C blank glas stomp",null,null,"","","BINNEN","MODERN","6373","BLANK","","Order","MDF",true,"STOMP","",0,0,38,"",false,false,false,855.02,1035,{"$f":"ROUND(SUMIF('Combination lines'!$A:$H,Report!$AE7875,'Combination lines'!$H:$H),2)","v":855.02},null,200840,""]
["WK200850","Combinatieregel ",null,"","mw WK6373-C mat gelaagd glas stomp",null,null,"","","BINNEN","MODERN","6373","MAT GELAAGD","","Order","MDF",true,"STOMP","",0,0,38,"",false,false,false,967.6600000000001,1171,{"$f":"ROUND(SUMIF('Combination lines'!$A:$H,Report!$AE7876,'Combination lines'!$H:$H),2)","v":967.66},null,200850,""]
["WK200860","Combinatieregel ",null,"","mw WK6373-C grijs getint glas stomp",null,null,"","","BINNEN","MODERN","6373","GRIJS GETINT","","Order","MDF",true,"STOMP","",0,0,38,"",false,false,false,1018.6600000000001,1233,{"$f":"ROUND(SUMIF('Combination lines'!$A:$H,Report!$AE7877,'Combination lines'!$H:$H),2)","v":1018.66},null,200860,""]
["WK200870","Combinatieregel ",null,"","mw WK6373-C brons getint glas stomp",null,null,"","","BINNEN","MODERN","6373","BRONS GETINT","","Order","MDF",true,"STOMP","",0,0,38,"",false,false,false,1018.6600000000001,1233,{"$f":"ROUND(SUMIF('Combination lines'!$A:$H,Report!$AE7878,'Combination lines'!$H:$H),2)","v":1018.66},null,200870,""]
["WK200880","Combinatieregel ",null,"","mw WK6373-C zwart glas stomp",null,null,"","","BINNEN","MODERN","6373","ZWART","","Order","MDF",true,"STOMP","",0,0,38,"",false,false,false,1104.3,1336,{"$f":"ROUND(SUMIF('Combination lines'!$A:$H,Report!$AE7879,'Combination lines'!$H:$H),2)","v":1104.3},null,200880,""]
["WK200900","Combinatieregel ",null,"","mw WK6373 C blank glas opdek",null,null,"","","BINNEN","MODERN","6373","BLANK","","Order","MDF",true,"OPDEK","",0,0,38,"",false,true,false,867.4200000000001,1050,{"$f":"ROUND(SUMIF('Combination lines'!$A:$H,Report!$AE7880,'Combination lines'!$H:$H),2)","v":867.42},null,200900,""]
["WK200910","Combinatieregel ",null,"","mw WK6373 C mat gelaagd glas opdek",null,null,"","","BINNEN","MODERN","6373","MAT GELAAGD","","Order","MDF",true,"OPDEK","",0,0,38,"",false,true,false,980.06,1186,{"$f":"ROUND(SUMIF('Combination lines'!$A:$H,Report!$AE7881,'Combination lines'!$H:$H),2)","v":980.06},null,200910,""]
["WK200920","Combinatieregel ",null,"","mw WK6373-C grijs getint glas opdek",null,null,"","","BINNEN","MODERN","6373","GRIJS GETINT","","Order","MDF",true,"OPDEK","",0,0,38,"",false,true,false,1031.06,1248,{"$f":"ROUND(SUMIF('Combination lines'!$A:$H,Report!$AE7882,'Combination lines'!$H:$H),2)","v":1031.06},null,200920,""]
["WK200930","Combinatieregel ",null,"","mw WK6373-C brons getint glas opdek",null,null,"","","BINNEN","MODERN","6373","BRONS GETINT","","Order","MDF",true,"OPDEK","",0,0,38,"",false,true,false,1031.06,1248,{"$f":"ROUND(SUMIF('Combination lines'!$A:$H,Report!$AE7883,'Combination lines'!$H:$H),2)","v":1031.06},null,200930,""]
["WK200940","Combinatieregel ",null,"","mw WK6373-C zwart glas opdek",null,null,"","","BINNEN","MODERN","6373","ZWART","","Order","MDF",true,"OPDEK","",0,0,38,"",false,true,false,1116.7,1351,{"$f":"ROUND(SUMIF('Combination lines'!$A:$H,Report!$AE7884,'Combination lines'!$H:$H),2)","v":1116.7},null,200940,""]
["WK201010","Combinatieregel ",null,"","mw WK6374-C blank glas stomp",null,null,"","","BINNEN","MODERN","6374","BLANK","","Order","MDF",true,"STOMP","",0,0,38,"",false,false,false,1029.56,1246,{"$f":"ROUND(SUMIF('Combination lines'!$A:$H,Report!$AE7885,'Combination lines'!$H:$H),2)","v":1029.56},null,201010,""]
["WK201020","Combinatieregel ",null,"","mw WK6374-C mat gelaagd glas stomp",null,null,"","","BINNEN","MODERN","6374","MAT GELAAGD","","Order","MDF",true,"STOMP","",0,0,38,"",false,false,false,1142.2,1382,{"$f":"ROUND(SUMIF('Combination lines'!$A:$H,Report!$AE7886,'Combination lines'!$H:$H),2)","v":1142.2},null,201020,""]
["WK201030","Combinatieregel ",null,"","mw WK6374-C grijs getint glas stomp",null,null,"","","BINNEN","MODERN","6374","GRIJS GETINT","","Order","MDF",true,"STOMP","",0,0,38,"",false,false,false,1193.2,1444,{"$f":"ROUND(SUMIF('Combination lines'!$A:$H,Report!$AE7887,'Combination lines'!$H:$H),2)","v":1193.2},null,201030,""]
["WK201040","Combinatieregel ",null,"","mw WK6374-C brons getint glas stomp",null,null,"","","BINNEN","MODERN","6374","BRONS GETINT","","Order","MDF",true,"STOMP","",0,0,38,"",false,false,false,1193.2,1444,{"$f":"ROUND(SUMIF('Combination lines'!$A:$H,Report!$AE7888,'Combination lines'!$H:$H),2)","v":1193.2},null,201040,""]
["WK201050","Combinatieregel ",null,"","mw WK6374-C zwart glas stomp",null,null,"","","BINNEN","MODERN","6374","ZWART","","Order","MDF",true,"STOMP","",0,0,38,"",false,false,false,1278.84,1547,{"$f":"ROUND(SUMIF('Combination lines'!$A:$H,Report!$AE7889,'Combination lines'!$H:$H),2)","v":1278.84},null,201050,""]
["WK201070","Combinatieregel ",null,"","mw WK6374 C blank glas opdek",null,null,"","","BINNEN","MODERN","6374","BLANK","","Order","MDF",true,"OPDEK","",0,0,38,"",false,true,false,1041.96,1261,{"$f":"ROUND(SUMIF('Combination lines'!$A:$H,Report!$AE7890,'Combination lines'!$H:$H),2)","v":1041.96},null,201070,""]
["WK201080","Combinatieregel ",null,"","mw WK6374 C mat gelaagd glas opdek",null,null,"","","BINNEN","MODERN","6374","MAT GELAAGD","","Order","MDF",true,"OPDEK","",0,0,38,"",false,true,false,1154.6,1397,{"$f":"ROUND(SUMIF('Combination lines'!$A:$H,Report!$AE7891,'Combination lines'!$H:$H),2)","v":1154.6},null,201080,""]
["WK201090","Combinatieregel ",null,"","mw WK6374-C grijs getint glas opdek",null,null,"","","BINNEN","MODERN","6374","GRIJS GETINT","","Order","MDF",true,"OPDEK","",0,0,38,"",false,true,false,1205.6,1459,{"$f":"ROUND(SUMIF('Combination lines'!$A:$H,Report!$AE7892,'Combination lines'!$H:$H),2)","v":1205.6},null,201090,""]
["WK201100","Combinatieregel ",null,"","mw WK6374-C brons getint glas opdek",null,null,"","","BINNEN","MODERN","6374","BRONS GETINT","","Order","MDF",true,"OPDEK","",0,0,38,"",false,true,false,1205.6,1459,{"$f":"ROUND(SUMIF('Combination lines'!$A:$H,Report!$AE7893,'Combination lines'!$H:$H),2)","v":1205.6},null,201100,""]
["WK201110","Combinatieregel ",null,"","mw WK6374-C zwart glas opdek",null,null,"","","BINNEN","MODERN","6374","ZWART","","Order","MDF",true,"OPDEK","",0,0,38,"",false,true,false,1291.24,1562,{"$f":"ROUND(SUMIF('Combination lines'!$A:$H,Report!$AE7894,'Combination lines'!$H:$H),2)","v":1291.24},null,201110,""]
["WK201170","Combinatieregel ",null,"","Slot infrezing + afmontage 3pt fire resistant SD",null,null,"","","BALKON","","","","","Order","",false,"","",0,0,0,"",false,false,false,121.47999999999999,147,{"$f":"ROUND(SUMIF('Combination lines'!$A:$H,Report!$AE7895,'Combination lines'!$H:$H),2)","v":121.48},null,201170,""]
["WK201180","Combinatieregel ",null,"","Slot infrezing + afmontage (meerpuntsluiting)",null,null,"","","BALKON","","","","","Order","",false,"","",0,0,0,"",false,false,false,60.33,73,{"$f":"ROUND(SUMIF('Combination lines'!$A:$H,Report!$AE7896,'Combination lines'!$H:$H),2)","v":60.33},null,201180,""]
["WK201250","Combinatieregel ",null,"","Maatwerk WK6306-EIK C blank glas stomp",null,null,"","","BINNEN","MODERN","6306-EIK","BLANK","","Order","FSCEIK",true,"STOMP","",0,0,38,"",false,false,false,722.95,875,{"$f":"ROUND(SUMIF('Combination lines'!$A:$H,Report!$AE7897,'Combination lines'!$H:$H),2)","v":722.95},null,201250,""]
["WK201260","Combinatieregel ",null,"","Maatwerk WK6306-EIK C mat gelaagd glas stomp",null,null,"","","BINNEN","MODERN","6306-EIK","MAT GELAAGD","","Order","FSCEIK",true,"STOMP","",0,0,38,"",false,false,false,835.5899999999999,1011,{"$f":"ROUND(SUMIF('Combination lines'!$A:$H,Report!$AE7898,'Combination lines'!$H:$H),2)","v":835.59},null,201260,""]
["WK201270","Combinatieregel ",null,"","Maatwerk WK6306-EIK C grijs getint glas stomp",null,null,"","","BINNEN","MODERN","6306-EIK","GRIJS GETINT","","Order","FSCEIK",true,"STOMP","",0,0,38,"",false,false,false,886.5899999999999,1073,{"$f":"ROUND(SUMIF('Combination lines'!$A:$H,Report!$AE7899,'Combination lines'!$H:$H),2)","v":886.59},null,201270,""]
["WK201280","Combinatieregel ",null,"","Maatwerk WK6306-EIK C brons getint glas stomp",null,null,"","","BINNEN","MODERN","6306-EIK","BRONS GETINT","","Order","FSCEIK",true,"STOMP","",0,0,38,"",false,false,false,886.5899999999999,1073,{"$f":"ROUND(SUMIF('Combination lines'!$A:$H,Report!$AE7900,'Combination lines'!$H:$H),2)","v":886.59},null,201280,""]
["WK201290","Combinatieregel ",null,"","Maatwerk WK6306-EIK C zwart glas stomp",null,null,"","","BINNEN","MODERN","6306-EIK","ZWART","","Order","FSCEIK",true,"STOMP","",0,0,38,"",false,false,false,972.23,1176,{"$f":"ROUND(SUMIF('Combination lines'!$A:$H,Report!$AE7901,'Combination lines'!$H:$H),2)","v":972.23},null,201290,""]
["WK201310","Combinatieregel ",null,"STUKS","Maatwerk WK6306-EIK C blank glas opdek",null,null,"","","BINNEN","MODERN","6306-EIK","BLANK","","Order","FSCEIK",true,"OPDEK","",0,0,38,"",false,true,false,735.3499999999999,890,{"$f":"ROUND(SUMIF('Combination lines'!$A:$H,Report!$AE7902,'Combination lines'!$H:$H),2)","v":735.35},null,201310,""]
["WK201320","Combinatieregel ",null,"STUKS","Maatwerk WK6306-EIK C mat gelaagd glas opdek",null,null,"","","BINNEN","MODERN","6306-EIK","MAT GELAAGD","","Order","FSCEIK",true,"OPDEK","",0,0,38,"",false,true,false,847.99,1026,{"$f":"ROUND(SUMIF('Combination lines'!$A:$H,Report!$AE7903,'Combination lines'!$H:$H),2)","v":847.99},null,201320,""]
["WK201330","Combinatieregel ",null,"STUKS","Maatwerk WK6306-EIK C grijs getint glas opdek",null,null,"","","BINNEN","MODERN","6306-EIK","GRIJS GETINT","","Order","FSCEIK",true,"OPDEK","",0,0,38,"",false,true,false,898.99,1088,{"$f":"ROUND(SUMIF('Combination lines'!$A:$H,Report!$AE7904,'Combination lines'!$H:$H),2)","v":898.99},null,201330,""]
["WK201340","Combinatieregel ",null,"STUKS","Maatwerk WK6306-EIK C brons getint glas opdek",null,null,"","","BINNEN","MODERN","6306-EIK","BRONS GETINT","","Order","FSCEIK",true,"OPDEK","",0,0,38,"",false,true,false,898.99,1088,{"$f":"ROUND(SUMIF('Combination lines'!$A:$H,Report!$AE7905,'Combination lines'!$H:$H),2)","v":898.99},null,201340,""]
["WK201350","Combinatieregel ",null,"STUKS","Maatwerk WK6306-EIK C zwart glas opdek",null,null,"","","BINNEN","MODERN","6306-EIK","ZWART","","Order","FSCEIK",true,"OPDEK","",0,0,38,"",false,true,false,984.6299999999999,1191,{"$f":"ROUND(SUMIF('Combination lines'!$A:$H,Report!$AE7906,'Combination lines'!$H:$H),2)","v":984.63},null,201350,""]
["WK201440","Combinatieregel ",null,"","Maatwerk WK6308-EIK C blank glas stomp",null,null,"","","BINNEN","MODERN","6308-EIK","BLANK","","Order","FSCEIK",true,"STOMP","",0,0,38,"",false,false,false,757.3700000000001,916,{"$f":"ROUND(SUMIF('Combination lines'!$A:$H,Report!$AE7907,'Combination lines'!$H:$H),2)","v":757.37},null,201440,""]
["WK201450","Combinatieregel ",null,"","Maatwerk WK6308-EIK C mat gelaagd glas stomp",null,null,"","","BINNEN","MODERN","6308-EIK","MAT GELAAGD","","Order","FSCEIK",true,"STOMP","",0,0,38,"",false,false,false,870.01,1053,{"$f":"ROUND(SUMIF('Combination lines'!$A:$H,Report!$AE7908,'Combination lines'!$H:$H),2)","v":870.01},null,201450,""]
["WK201460","Combinatieregel ",null,"","Maatwerk WK6308-EIK C grijs getint glas stomp",null,null,"","","BINNEN","MODERN","6308-EIK","GRIJS GETINT","","Order","FSCEIK",true,"STOMP","",0,0,38,"",false,false,false,921.01,1114,{"$f":"ROUND(SUMIF('Combination lines'!$A:$H,Report!$AE7909,'Combination lines'!$H:$H),2)","v":921.01},null,201460,""]
["WK201470","Combinatieregel ",null,"","Maatwerk WK6308-EIK C brons getint glas stomp",null,null,"","","BINNEN","MODERN","6308-EIK","BRONS GETINT","","Order","FSCEIK",true,"STOMP","",0,0,38,"",false,false,false,921.01,1114,{"$f":"ROUND(SUMIF('Combination lines'!$A:$H,Report!$AE7910,'Combination lines'!$H:$H),2)","v":921.01},null,201470,""]
["WK201480","Combinatieregel ",null,"","Maatwerk WK6308-EIK C zwart glas stomp",null,null,"","","BINNEN","MODERN","6308-EIK","ZWART","","Order","FSCEIK",true,"STOMP","",0,0,38,"",false,false,false,1006.6500000000001,1218,{"$f":"ROUND(SUMIF('Combination lines'!$A:$H,Report!$AE7911,'Combination lines'!$H:$H),2)","v":1006.65},null,201480,""]
["WK201500","Combinatieregel ",null,"STUKS","Maatwerk WK6308-EIK C blank glas opdek",null,null,"","","BINNEN","MODERN","6308-EIK","BLANK","","Order","FSCEIK",true,"OPDEK","",0,0,38,"",false,true,false,769.77,931,{"$f":"ROUND(SUMIF('Combination lines'!$A:$H,Report!$AE7912,'Combination lines'!$H:$H),2)","v":769.77},null,201500,""]
["WK201510","Combinatieregel ",null,"STUKS","Maatwerk WK6308-EIK C mat gelaagd glas opdek",null,null,"","","BINNEN","MODERN","6308-EIK","MAT GELAAGD","","Order","FSCEIK",true,"OPDEK","",0,0,38,"",false,true,false,882.4099999999999,1068,{"$f":"ROUND(SUMIF('Combination lines'!$A:$H,Report!$AE7913,'Combination lines'!$H:$H),2)","v":882.41},null,201510,""]
["WK201520","Combinatieregel ",null,"STUKS","Maatwerk WK6308-EIK C grijs getint glas opdek",null,null,"","","BINNEN","MODERN","6308-EIK","GRIJS GETINT","","Order","FSCEIK",true,"OPDEK","",0,0,38,"",false,true,false,933.4099999999999,1129,{"$f":"ROUND(SUMIF('Combination lines'!$A:$H,Report!$AE7914,'Combination lines'!$H:$H),2)","v":933.41},null,201520,""]
["WK201530","Combinatieregel ",null,"STUKS","Maatwerk WK6308-EIK C brons getint glas opdek",null,null,"","","BINNEN","MODERN","6308-EIK","BRONS GETINT","","Order","FSCEIK",true,"OPDEK","",0,0,38,"",false,true,false,933.4099999999999,1129,{"$f":"ROUND(SUMIF('Combination lines'!$A:$H,Report!$AE7915,'Combination lines'!$H:$H),2)","v":933.41},null,201530,""]
["WK201540","Combinatieregel ",null,"STUKS","Maatwerk WK6308-EIK C zwart glas opdek",null,null,"","","BINNEN","MODERN","6308-EIK","ZWART","","Order","FSCEIK",true,"OPDEK","",0,0,38,"",false,true,false,1019.05,1233,{"$f":"ROUND(SUMIF('Combination lines'!$A:$H,Report!$AE7916,'Combination lines'!$H:$H),2)","v":1019.05},null,201540,""]
["WK202290","Combinatieregel ",null,"","Maatwerk WK6313-EIK C blank glas stomp",null,null,"","","BINNEN","MODERN","6313-EIK","BLANK","","Order","FSCEIK",true,"STOMP","",0,0,38,"",false,false,false,742.48,898,{"$f":"ROUND(SUMIF('Combination lines'!$A:$H,Report!$AE7917,'Combination lines'!$H:$H),2)","v":742.48},null,202290,""]
["WK202300","Combinatieregel ",null,"","Maatwerk WK6313-EIK C mat gelaagd glas stomp",null,null,"","","BINNEN","MODERN","6313-EIK","MAT GELAAGD","","Order","FSCEIK",true,"STOMP","",0,0,38,"",false,false,false,855.1199999999999,1035,{"$f":"ROUND(SUMIF('Combination lines'!$A:$H,Report!$AE7918,'Combination lines'!$H:$H),2)","v":855.12},null,202300,""]
["WK202310","Combinatieregel ",null,"","Maatwerk WK6313-EIK C grijs getint glas stomp",null,null,"","","BINNEN","MODERN","6313-EIK","GRIJS GETINT","","Order","FSCEIK",true,"STOMP","",0,0,38,"",false,false,false,906.1199999999999,1096,{"$f":"ROUND(SUMIF('Combination lines'!$A:$H,Report!$AE7919,'Combination lines'!$H:$H),2)","v":906.12},null,202310,""]
["WK202320","Combinatieregel ",null,"","Maatwerk WK6313-EIK C brons getint glas stomp",null,null,"","","BINNEN","MODERN","6313-EIK","BRONS GETINT","","Order","FSCEIK",true,"STOMP","",0,0,38,"",false,false,false,906.1199999999999,1096,{"$f":"ROUND(SUMIF('Combination lines'!$A:$H,Report!$AE7920,'Combination lines'!$H:$H),2)","v":906.12},null,202320,""]
["WK202330","Combinatieregel ",null,"","Maatwerk WK6313-EIK C zwart glas stomp",null,null,"","","BINNEN","MODERN","6313-EIK","ZWART","","Order","FSCEIK",true,"STOMP","",0,0,38,"",false,false,false,991.76,1200,{"$f":"ROUND(SUMIF('Combination lines'!$A:$H,Report!$AE7921,'Combination lines'!$H:$H),2)","v":991.76},null,202330,""]
["WK202350","Combinatieregel ",null,"STUKS","Maatwerk WK6313-EIK C blank glas opdek",null,null,"","","BINNEN","MODERN","6313-EIK","BLANK","","Order","FSCEIK",true,"OPDEK","",0,0,38,"",false,true,false,754.8800000000001,913,{"$f":"ROUND(SUMIF('Combination lines'!$A:$H,Report!$AE7922,'Combination lines'!$H:$H),2)","v":754.88},null,202350,""]
["WK202360","Combinatieregel ",null,"STUKS","Maatwerk WK6313-EIK C mat gelaagd glas opdek",null,null,"","","BINNEN","MODERN","6313-EIK","MAT GELAAGD","","Order","FSCEIK",true,"OPDEK","",0,0,38,"",false,true,false,867.52,1050,{"$f":"ROUND(SUMIF('Combination lines'!$A:$H,Report!$AE7923,'Combination lines'!$H:$H),2)","v":867.52},null,202360,""]
["WK202370","Combinatieregel ",null,"STUKS","Maatwerk WK6313-EIK C grijs getint glas opdek",null,null,"","","BINNEN","MODERN","6313-EIK","GRIJS GETINT","","Order","FSCEIK",true,"OPDEK","",0,0,38,"",false,true,false,918.52,1111,{"$f":"ROUND(SUMIF('Combination lines'!$A:$H,Report!$AE7924,'Combination lines'!$H:$H),2)","v":918.52},null,202370,""]
["WK202380","Combinatieregel ",null,"STUKS","Maatwerk WK6313-EIK C brons getint glas opdek",null,null,"","","BINNEN","MODERN","6313-EIK","BRONS GETINT","","Order","FSCEIK",true,"OPDEK","",0,0,38,"",false,true,false,918.52,1111,{"$f":"ROUND(SUMIF('Combination lines'!$A:$H,Report!$AE7925,'Combination lines'!$H:$H),2)","v":918.52},null,202380,""]
["WK202390","Combinatieregel ",null,"STUKS","Maatwerk WK6313-EIK C zwart glas opdek",null,null,"","","BINNEN","MODERN","6313-EIK","ZWART","","Order","FSCEIK",true,"OPDEK","",0,0,38,"",false,true,false,1004.1600000000001,1215,{"$f":"ROUND(SUMIF('Combination lines'!$A:$H,Report!$AE7926,'Combination lines'!$H:$H),2)","v":1004.16},null,202390,""]
["WK202460","Combinatieregel ",null,"STUKS","Maatwerk WK6314-EIK C blank glas stomp",null,null,"","","BINNEN","MODERN","6314-EIK","BLANK","","Order","FSCEIK",true,"STOMP","",0,0,38,"",false,false,false,803.8700000000001,973,{"$f":"ROUND(SUMIF('Combination lines'!$A:$H,Report!$AE7927,'Combination lines'!$H:$H),2)","v":803.87},null,202460,""]
["WK202470","Combinatieregel ",null,"","Maatwerk WK6314-EIK C mat gelaagd glas stomp",null,null,"","","BINNEN","MODERN","6314-EIK","MAT GELAAGD","","Order","FSCEIK",true,"STOMP","",0,0,38,"",false,false,false,916.51,1109,{"$f":"ROUND(SUMIF('Combination lines'!$A:$H,Report!$AE7928,'Combination lines'!$H:$H),2)","v":916.51},null,202470,""]
["WK202480","Combinatieregel ",null,"STUKS","Maatwerk WK6314-EIK C grijs getint glas stomp",null,null,"","","BINNEN","MODERN","6314-EIK","GRIJS GETINT","","Order","FSCEIK",true,"STOMP","",0,0,38,"",false,false,false,967.51,1171,{"$f":"ROUND(SUMIF('Combination lines'!$A:$H,Report!$AE7929,'Combination lines'!$H:$H),2)","v":967.51},null,202480,""]
["WK202490","Combinatieregel ",null,"STUKS","Maatwerk WK6314-EIK C brons getint glas stomp",null,null,"","","BINNEN","MODERN","6314-EIK","BRONS GETINT","","Order","FSCEIK",true,"STOMP","",0,0,38,"",false,false,false,967.51,1171,{"$f":"ROUND(SUMIF('Combination lines'!$A:$H,Report!$AE7930,'Combination lines'!$H:$H),2)","v":967.51},null,202490,""]
["WK202500","Combinatieregel ",null,"STUKS","Maatwerk WK6314-EIK C zwart glas stomp",null,null,"","","BINNEN","MODERN","6314-EIK","ZWART","","Order","FSCEIK",true,"STOMP","",0,0,38,"",false,false,false,1053.15,1274,{"$f":"ROUND(SUMIF('Combination lines'!$A:$H,Report!$AE7931,'Combination lines'!$H:$H),2)","v":1053.15},null,202500,""]
["WK202520","Combinatieregel ",null,"STUKS","Maatwerk WK6314-EIK C blank glas opdek",null,null,"","","BINNEN","MODERN","6314-EIK","BLANK","","Order","FSCEIK",true,"OPDEK","",0,0,38,"",false,true,false,816.27,988,{"$f":"ROUND(SUMIF('Combination lines'!$A:$H,Report!$AE7932,'Combination lines'!$H:$H),2)","v":816.27},null,202520,""]
["WK202530","Combinatieregel ",null,"STUKS","Maatwerk WK6314-EIK C mat gelaagd glas opdek",null,null,"","","BINNEN","MODERN","6314-EIK","MAT GELAAGD","","Order","FSCEIK",true,"OPDEK","",0,0,38,"",false,true,false,928.9100000000001,1124,{"$f":"ROUND(SUMIF('Combination lines'!$A:$H,Report!$AE7933,'Combination lines'!$H:$H),2)","v":928.91},null,202530,""]
["WK202540","Combinatieregel ",null,"STUKS","Maatwerk WK6314-EIK C grijs getint glas opdek",null,null,"","","BINNEN","MODERN","6314-EIK","GRIJS GETINT","","Order","FSCEIK",true,"OPDEK","",0,0,38,"",false,true,false,979.9100000000001,1186,{"$f":"ROUND(SUMIF('Combination lines'!$A:$H,Report!$AE7934,'Combination lines'!$H:$H),2)","v":979.91},null,202540,""]
["WK202550","Combinatieregel ",null,"STUKS","Maatwerk WK6314-EIK C brons getint glas opdek",null,null,"","","BINNEN","MODERN","6314-EIK","BRONS GETINT","","Order","FSCEIK",true,"OPDEK","",0,0,38,"",false,true,false,979.9100000000001,1186,{"$f":"ROUND(SUMIF('Combination lines'!$A:$H,Report!$AE7935,'Combination lines'!$H:$H),2)","v":979.91},null,202550,""]
["WK202560","Combinatieregel ",null,"STUKS","Maatwerk WK6314-EIK C zwart glas opdek",null,null,"","","BINNEN","MODERN","6314-EIK","ZWART","","Order","FSCEIK",true,"OPDEK","",0,0,38,"",false,true,false,1065.55,1289,{"$f":"ROUND(SUMIF('Combination lines'!$A:$H,Report!$AE7936,'Combination lines'!$H:$H),2)","v":1065.55},null,202560,""]
["WK202630","Combinatieregel ",null,"","Maatwerk WK6315-EIK C blank glas stomp",null,null,"","","BINNEN","MODERN","6315-EIK","BLANK","","Order","FSCEIK",true,"STOMP","",0,0,38,"",false,false,false,742.48,898,{"$f":"ROUND(SUMIF('Combination lines'!$A:$H,Report!$AE7937,'Combination lines'!$H:$H),2)","v":742.48},null,202630,""]
["WK202640","Combinatieregel ",null,"","Maatwerk WK6315-EIK C mat gelaagd glas stomp",null,null,"","","BINNEN","MODERN","6315-EIK","MAT GELAAGD","","Order","FSCEIK",true,"STOMP","",0,0,38,"",false,false,false,855.1199999999999,1035,{"$f":"ROUND(SUMIF('Combination lines'!$A:$H,Report!$AE7938,'Combination lines'!$H:$H),2)","v":855.12},null,202640,""]
["WK202650","Combinatieregel ",null,"","Maatwerk WK6315-EIK C grijs getint glas stomp",null,null,"","","BINNEN","MODERN","6315-EIK","GRIJS GETINT","","Order","FSCEIK",true,"STOMP","",0,0,38,"",false,false,false,906.1199999999999,1096,{"$f":"ROUND(SUMIF('Combination lines'!$A:$H,Report!$AE7939,'Combination lines'!$H:$H),2)","v":906.12},null,202650,""]
["WK202660","Combinatieregel ",null,"","Maatwerk WK6315-EIK C brons getint glas stomp",null,null,"","","BINNEN","MODERN","6315-EIK","BRONS GETINT","","Order","FSCEIK",true,"STOMP","",0,0,38,"",false,false,false,906.1199999999999,1096,{"$f":"ROUND(SUMIF('Combination lines'!$A:$H,Report!$AE7940,'Combination lines'!$H:$H),2)","v":906.12},null,202660,""]
["WK202670","Combinatieregel ",null,"","Maatwerk WK6315-EIK C zwart glas stomp",null,null,"","","BINNEN","MODERN","6315-EIK","ZWART","","Order","FSCEIK",true,"STOMP","",0,0,38,"",false,false,false,991.76,1200,{"$f":"ROUND(SUMIF('Combination lines'!$A:$H,Report!$AE7941,'Combination lines'!$H:$H),2)","v":991.76},null,202670,""]
["WK202690","Combinatieregel ",null,"STUKS","Maatwerk WK6315-EIK C blank glas opdek",null,null,"","","BINNEN","MODERN","6315-EIK","BLANK","","Order","FSCEIK",true,"OPDEK","",0,0,38,"",false,true,false,754.8800000000001,913,{"$f":"ROUND(SUMIF('Combination lines'!$A:$H,Report!$AE7942,'Combination lines'!$H:$H),2)","v":754.88},null,202690,""]
["WK202700","Combinatieregel ",null,"STUKS","Maatwerk WK6315-EIK C mat gelaagd glas opdek",null,null,"","","BINNEN","MODERN","6315-EIK","MAT GELAAGD","","Order","FSCEIK",true,"OPDEK","",0,0,38,"",false,true,false,867.52,1050,{"$f":"ROUND(SUMIF('Combination lines'!$A:$H,Report!$AE7943,'Combination lines'!$H:$H),2)","v":867.52},null,202700,""]
["WK202710","Combinatieregel ",null,"STUKS","Maatwerk WK6315-EIK C grijs getint glas opdek",null,null,"","","BINNEN","MODERN","6315-EIK","GRIJS GETINT","","Order","FSCEIK",true,"OPDEK","",0,0,38,"",false,true,false,918.52,1111,{"$f":"ROUND(SUMIF('Combination lines'!$A:$H,Report!$AE7944,'Combination lines'!$H:$H),2)","v":918.52},null,202710,""]
["WK202720","Combinatieregel ",null,"STUKS","Maatwerk WK6315-EIK C brons getint glas opdek",null,null,"","","BINNEN","MODERN","6315-EIK","BRONS GETINT","","Order","FSCEIK",true,"OPDEK","",0,0,38,"",false,true,false,918.52,1111,{"$f":"ROUND(SUMIF('Combination lines'!$A:$H,Report!$AE7945,'Combination lines'!$H:$H),2)","v":918.52},null,202720,""]
["WK202730","Combinatieregel ",null,"STUKS","Maatwerk WK6315-EIK C zwart glas opdek",null,null,"","","BINNEN","MODERN","6315-EIK","ZWART","","Order","FSCEIK",true,"OPDEK","",0,0,38,"",false,true,false,1004.1600000000001,1215,{"$f":"ROUND(SUMIF('Combination lines'!$A:$H,Report!$AE7946,'Combination lines'!$H:$H),2)","v":1004.16},null,202730,""]
["WK202800","Combinatieregel ",null,"STUKS","Maatwerk WK6316-EIK C3 blank glas stomp",null,null,"","","BINNEN","MODERN","6316-EIK","BLANK","","Order","FSCEIK",true,"STOMP","",0,0,38,"",false,false,false,935.26,1132,{"$f":"ROUND(SUMIF('Combination lines'!$A:$H,Report!$AE7947,'Combination lines'!$H:$H),2)","v":935.26},null,202800,""]
["WK202810","Combinatieregel ",null,"","Maatwerk WK6316-EIK C3 mat gelaagd glas stomp",null,null,"","","BINNEN","MODERN","6316-EIK","MAT GELAAGD","","Order","FSCEIK",true,"STOMP","",0,0,38,"",false,false,false,1047.8999999999999,1268,{"$f":"ROUND(SUMIF('Combination lines'!$A:$H,Report!$AE7948,'Combination lines'!$H:$H),2)","v":1047.9},null,202810,""]
["WK202820","Combinatieregel ",null,"STUKS","Maatwerk WK6316-EIK C3 grijs getint glas stomp",null,null,"","","BINNEN","MODERN","6316-EIK","GRIJS GETINT","","Order","FSCEIK",true,"STOMP","",0,0,38,"",false,false,false,1098.8999999999999,1330,{"$f":"ROUND(SUMIF('Combination lines'!$A:$H,Report!$AE7949,'Combination lines'!$H:$H),2)","v":1098.9},null,202820,""]
["WK202830","Combinatieregel ",null,"STUKS","Maatwerk WK6316-EIK C3 brons getint glas stomp",null,null,"","","BINNEN","MODERN","6316-EIK","BRONS GETINT","","Order","FSCEIK",true,"STOMP","",0,0,38,"",false,false,false,1098.8999999999999,1330,{"$f":"ROUND(SUMIF('Combination lines'!$A:$H,Report!$AE7950,'Combination lines'!$H:$H),2)","v":1098.9},null,202830,""]
["WK202840","Combinatieregel ",null,"STUKS","Maatwerk WK6316-EIK C3 zwart glas stomp",null,null,"","","BINNEN","MODERN","6316-EIK","ZWART","","Order","FSCEIK",true,"STOMP","",0,0,38,"",false,false,false,1184.54,1433,{"$f":"ROUND(SUMIF('Combination lines'!$A:$H,Report!$AE7951,'Combination lines'!$H:$H),2)","v":1184.54},null,202840,""]
["WK202860","Combinatieregel ",null,"STUKS","Maatwerk WK6316-EIK C3 blank glas opdek",null,null,"","","BINNEN","MODERN","6316-EIK","BLANK","","Order","FSCEIK",true,"OPDEK","",0,0,38,"",false,true,false,947.6600000000001,1147,{"$f":"ROUND(SUMIF('Combination lines'!$A:$H,Report!$AE7952,'Combination lines'!$H:$H),2)","v":947.66},null,202860,""]
["WK202870","Combinatieregel ",null,"STUKS","Maatwerk WK6316-EIK C3 mat gelaagd glas opdek",null,null,"","","BINNEN","MODERN","6316-EIK","MAT GELAAGD","","Order","FSCEIK",true,"OPDEK","",0,0,38,"",false,true,false,1060.3,1283,{"$f":"ROUND(SUMIF('Combination lines'!$A:$H,Report!$AE7953,'Combination lines'!$H:$H),2)","v":1060.3},null,202870,""]
["WK202880","Combinatieregel ",null,"STUKS","Maatwerk WK6316-EIK C3 grijs getint glas opdek",null,null,"","","BINNEN","MODERN","6316-EIK","GRIJS GETINT","","Order","FSCEIK",true,"OPDEK","",0,0,38,"",false,true,false,1111.3,1345,{"$f":"ROUND(SUMIF('Combination lines'!$A:$H,Report!$AE7954,'Combination lines'!$H:$H),2)","v":1111.3},null,202880,""]
["WK202890","Combinatieregel ",null,"STUKS","Maatwerk WK6316-EIK C3 brons getint glas opdek",null,null,"","","BINNEN","MODERN","6316-EIK","BRONS GETINT","","Order","FSCEIK",true,"OPDEK","",0,0,38,"",false,true,false,1111.3,1345,{"$f":"ROUND(SUMIF('Combination lines'!$A:$H,Report!$AE7955,'Combination lines'!$H:$H),2)","v":1111.3},null,202890,""]
["WK202900","Combinatieregel ",null,"STUKS","Maatwerk WK6316-EIK C3 zwart glas opdek",null,null,"","","BINNEN","MODERN","6316-EIK","ZWART","","Order","FSCEIK",true,"OPDEK","",0,0,38,"",false,true,false,1196.94,1448,{"$f":"ROUND(SUMIF('Combination lines'!$A:$H,Report!$AE7956,'Combination lines'!$H:$H),2)","v":1196.94},null,202900,""]
["WK202970","Combinatieregel ",null,"","Maatwerk WK6318-EIK C blank glas stomp",null,null,"","","BINNEN","MODERN","6318-EIK","BLANK","","Order","FSCEIK",true,"STOMP","",0,0,38,"",false,false,false,887.5700000000002,1074,{"$f":"ROUND(SUMIF('Combination lines'!$A:$H,Report!$AE7957,'Combination lines'!$H:$H),2)","v":887.57},null,202970,""]
["WK202980","Combinatieregel ",null,"","Maatwerk WK6318-EIK C mat gelaagd glas stomp",null,null,"","","BINNEN","MODERN","6318-EIK","MAT GELAAGD","","Order","FSCEIK",true,"STOMP","",0,0,38,"",false,false,false,1000.21,1210,{"$f":"ROUND(SUMIF('Combination lines'!$A:$H,Report!$AE7958,'Combination lines'!$H:$H),2)","v":1000.21},null,202980,""]
["WK202990","Combinatieregel ",null,"","Maatwerk WK6318-EIK C grijs getint glas stomp",null,null,"","","BINNEN","MODERN","6318-EIK","GRIJS GETINT","","Order","FSCEIK",true,"STOMP","",0,0,38,"",false,false,false,1051.21,1272,{"$f":"ROUND(SUMIF('Combination lines'!$A:$H,Report!$AE7959,'Combination lines'!$H:$H),2)","v":1051.21},null,202990,""]
["WK203000","Combinatieregel ",null,"","Maatwerk WK6318-EIK C brons getint glas stomp",null,null,"","","BINNEN","MODERN","6318-EIK","BRONS GETINT","","Order","FSCEIK",true,"STOMP","",0,0,38,"",false,false,false,1051.21,1272,{"$f":"ROUND(SUMIF('Combination lines'!$A:$H,Report!$AE7960,'Combination lines'!$H:$H),2)","v":1051.21},null,203000,""]
["WK203010","Combinatieregel ",null,"","Maatwerk WK6318-EIK C zwart glas stomp",null,null,"","","BINNEN","MODERN","6318-EIK","ZWART","","Order","FSCEIK",true,"STOMP","",0,0,38,"",false,false,false,1136.8500000000001,1376,{"$f":"ROUND(SUMIF('Combination lines'!$A:$H,Report!$AE7961,'Combination lines'!$H:$H),2)","v":1136.85},null,203010,""]
["WK203030","Combinatieregel ",null,"STUKS","Maatwerk WK6318-EIK C blank glas opdek",null,null,"","","BINNEN","MODERN","6318-EIK","BLANK","","Order","FSCEIK",true,"OPDEK","",0,0,38,"",false,true,false,899.97,1089,{"$f":"ROUND(SUMIF('Combination lines'!$A:$H,Report!$AE7962,'Combination lines'!$H:$H),2)","v":899.97},null,203030,""]
["WK203040","Combinatieregel ",null,"STUKS","Maatwerk WK6318-EIK C mat gelaagd glas opdek",null,null,"","","BINNEN","MODERN","6318-EIK","MAT GELAAGD","","Order","FSCEIK",true,"OPDEK","",0,0,38,"",false,true,false,1012.6099999999999,1225,{"$f":"ROUND(SUMIF('Combination lines'!$A:$H,Report!$AE7963,'Combination lines'!$H:$H),2)","v":1012.61},null,203040,""]
["WK203050","Combinatieregel ",null,"STUKS","Maatwerk WK6318-EIK C grijs getint glas opdek",null,null,"","","BINNEN","MODERN","6318-EIK","GRIJS GETINT","","Order","FSCEIK",true,"OPDEK","",0,0,38,"",false,true,false,1063.61,1287,{"$f":"ROUND(SUMIF('Combination lines'!$A:$H,Report!$AE7964,'Combination lines'!$H:$H),2)","v":1063.61},null,203050,""]
["WK203060","Combinatieregel ",null,"STUKS","Maatwerk WK6318-EIK C brons getint glas opdek",null,null,"","","BINNEN","MODERN","6318-EIK","BRONS GETINT","","Order","FSCEIK",true,"OPDEK","",0,0,38,"",false,true,false,1063.61,1287,{"$f":"ROUND(SUMIF('Combination lines'!$A:$H,Report!$AE7965,'Combination lines'!$H:$H),2)","v":1063.61},null,203060,""]
["WK203070","Combinatieregel ",null,"STUKS","Maatwerk WK6318-EIK C zwart glas opdek",null,null,"","","BINNEN","MODERN","6318-EIK","ZWART","","Order","FSCEIK",true,"OPDEK","",0,0,38,"",false,true,false,1149.25,1391,{"$f":"ROUND(SUMIF('Combination lines'!$A:$H,Report!$AE7966,'Combination lines'!$H:$H),2)","v":1149.25},null,203070,""]
["WK203140","Combinatieregel ",null,"","Maatwerk WK6328-EIK C blank stomp",null,null,"","","BINNEN","MODERN","6328-EIK","BLANK","","Order","FSCEIK",true,"STOMP","",0,0,38,"",false,false,false,757.3700000000001,916,{"$f":"ROUND(SUMIF('Combination lines'!$A:$H,Report!$AE7967,'Combination lines'!$H:$H),2)","v":757.37},null,203140,""]
["WK203150","Combinatieregel ",null,"","Maatwerk WK6328-EIK C mat gelaagd stomp",null,null,"","","BINNEN","MODERN","6328-EIK","MAT GELAAGD","","Order","FSCEIK",true,"STOMP","",0,0,38,"",false,false,false,870.01,1053,{"$f":"ROUND(SUMIF('Combination lines'!$A:$H,Report!$AE7968,'Combination lines'!$H:$H),2)","v":870.01},null,203150,""]
["WK203160","Combinatieregel ",null,"","Maatwerk WK6328-EIK C grijs getint glas stomp",null,null,"","","BINNEN","MODERN","6328-EIK","GRIJS GETINT","","Order","FSCEIK",true,"STOMP","",0,0,38,"",false,false,false,921.01,1114,{"$f":"ROUND(SUMIF('Combination lines'!$A:$H,Report!$AE7969,'Combination lines'!$H:$H),2)","v":921.01},null,203160,""]
["WK203170","Combinatieregel ",null,"","Maatwerk WK6328-EIK C brons getint glas stomp",null,null,"","","BINNEN","MODERN","6328-EIK","BRONS GETINT","","Order","FSCEIK",true,"STOMP","",0,0,38,"",false,false,false,921.01,1114,{"$f":"ROUND(SUMIF('Combination lines'!$A:$H,Report!$AE7970,'Combination lines'!$H:$H),2)","v":921.01},null,203170,""]
["WK203180","Combinatieregel ",null,"","Maatwerk WK6328-EIK C zwart glas stomp",null,null,"","","BINNEN","MODERN","6328-EIK","ZWART","","Order","FSCEIK",true,"STOMP","",0,0,38,"",false,false,false,1006.6500000000001,1218,{"$f":"ROUND(SUMIF('Combination lines'!$A:$H,Report!$AE7971,'Combination lines'!$H:$H),2)","v":1006.65},null,203180,""]
["WK203580","Combinatieregel ",null,"","Maatwerk WK6340-EIK C blank glas stomp",null,null,"","","BINNEN","MODERN","6340-EIK","BLANK","","Order","FSCEIK",true,"STOMP","",0,0,38,"",false,false,false,749.9300000000001,907,{"$f":"ROUND(SUMIF('Combination lines'!$A:$H,Report!$AE7972,'Combination lines'!$H:$H),2)","v":749.93},null,203580,""]
["WK203590","Combinatieregel ",null,"","Maatwerk WK6340-EIK C mat gelaagd glas stomp",null,null,"","","BINNEN","MODERN","6340-EIK","MAT GELAAGD","","Order","FSCEIK",true,"STOMP","",0,0,38,"",false,false,false,862.5699999999999,1044,{"$f":"ROUND(SUMIF('Combination lines'!$A:$H,Report!$AE7973,'Combination lines'!$H:$H),2)","v":862.57},null,203590,""]
["WK203600","Combinatieregel ",null,"","Maatwerk WK6340-EIK C grijs getint glas stomp",null,null,"","","BINNEN","MODERN","6340-EIK","GRIJS GETINT","","Order","FSCEIK",true,"STOMP","",0,0,38,"",false,false,false,913.5699999999999,1105,{"$f":"ROUND(SUMIF('Combination lines'!$A:$H,Report!$AE7974,'Combination lines'!$H:$H),2)","v":913.57},null,203600,""]
["WK203610","Combinatieregel ",null,"","Maatwerk WK6340-EIK C brons getint glas stomp",null,null,"","","BINNEN","MODERN","6340-EIK","BRONS GETINT","","Order","FSCEIK",true,"STOMP","",0,0,38,"",false,false,false,913.5699999999999,1105,{"$f":"ROUND(SUMIF('Combination lines'!$A:$H,Report!$AE7975,'Combination lines'!$H:$H),2)","v":913.57},null,203610,""]
["WK203620","Combinatieregel ",null,"","Maatwerk WK6340-EIK C zwart glas stomp",null,null,"","","BINNEN","MODERN","6340-EIK","ZWART","","Order","FSCEIK",true,"STOMP","",0,0,38,"",false,false,false,999.21,1209,{"$f":"ROUND(SUMIF('Combination lines'!$A:$H,Report!$AE7976,'Combination lines'!$H:$H),2)","v":999.21},null,203620,""]
["WK203640","Combinatieregel ",null,"","Maatwerk WK6340-EIK C blank glas opdek",null,null,"","","BINNEN","MODERN","6340-EIK","BLANK","","Order","FSCEIK",true,"OPDEK","",0,0,38,"",false,true,false,762.3299999999999,922,{"$f":"ROUND(SUMIF('Combination lines'!$A:$H,Report!$AE7977,'Combination lines'!$H:$H),2)","v":762.33},null,203640,""]
["WK203650","Combinatieregel ",null,"","Maatwerk WK6340-EIK C mat gelaagd glas opdek",null,null,"","","BINNEN","MODERN","6340-EIK","MAT GELAAGD","","Order","FSCEIK",true,"OPDEK","",0,0,38,"",false,true,false,874.97,1059,{"$f":"ROUND(SUMIF('Combination lines'!$A:$H,Report!$AE7978,'Combination lines'!$H:$H),2)","v":874.97},null,203650,""]
["WK203660","Combinatieregel ",null,"","Maatwerk WK6340-EIK C grijs getint glas opdek",null,null,"","","BINNEN","MODERN","6340-EIK","GRIJS GETINT","","Order","FSCEIK",true,"OPDEK","",0,0,38,"",false,true,false,925.97,1120,{"$f":"ROUND(SUMIF('Combination lines'!$A:$H,Report!$AE7979,'Combination lines'!$H:$H),2)","v":925.97},null,203660,""]
["WK203670","Combinatieregel ",null,"","Maatwerk WK6340-EIK C brons getint glas opdek",null,null,"","","BINNEN","MODERN","6340-EIK","BRONS GETINT","","Order","FSCEIK",true,"OPDEK","",0,0,38,"",false,true,false,925.97,1120,{"$f":"ROUND(SUMIF('Combination lines'!$A:$H,Report!$AE7980,'Combination lines'!$H:$H),2)","v":925.97},null,203670,""]
["WK203680","Combinatieregel ",null,"","Maatwerk WK6340-EIK C zwart glas opdek",null,null,"","","BINNEN","MODERN","6340-EIK","ZWART","","Order","FSCEIK",true,"OPDEK","",0,0,38,"",false,true,false,1011.6099999999999,1224,{"$f":"ROUND(SUMIF('Combination lines'!$A:$H,Report!$AE7981,'Combination lines'!$H:$H),2)","v":1011.61},null,203680,""]
["WK203750","Combinatieregel ",null,"","Maatwerk WK6341-EIK C blank glas stomp",null,null,"","","BINNEN","MODERN","6341-EIK","BLANK","","Order","FSCEIK",true,"STOMP","",0,0,38,"",false,false,false,742.48,898,{"$f":"ROUND(SUMIF('Combination lines'!$A:$H,Report!$AE7982,'Combination lines'!$H:$H),2)","v":742.48},null,203750,""]
["WK203760","Combinatieregel ",null,"","Maatwerk WK6341-EIK C mat gelaagd glas stomp",null,null,"","","BINNEN","MODERN","6341-EIK","MAT GELAAGD","","Order","FSCEIK",true,"STOMP","",0,0,38,"",false,false,false,855.1199999999999,1035,{"$f":"ROUND(SUMIF('Combination lines'!$A:$H,Report!$AE7983,'Combination lines'!$H:$H),2)","v":855.12},null,203760,""]
["WK203770","Combinatieregel ",null,"","Maatwerk WK6341-EIK C grijs getint glas stomp",null,null,"","","BINNEN","MODERN","6341-EIK","GRIJS GETINT","","Order","FSCEIK",true,"STOMP","",0,0,38,"",false,false,false,906.1199999999999,1096,{"$f":"ROUND(SUMIF('Combination lines'!$A:$H,Report!$AE7984,'Combination lines'!$H:$H),2)","v":906.12},null,203770,""]
["WK203780","Combinatieregel ",null,"","Maatwerk WK6341-EIK C brons getint glas stomp",null,null,"","","BINNEN","MODERN","6341-EIK","BRONS GETINT","","Order","FSCEIK",true,"STOMP","",0,0,38,"",false,false,false,906.1199999999999,1096,{"$f":"ROUND(SUMIF('Combination lines'!$A:$H,Report!$AE7985,'Combination lines'!$H:$H),2)","v":906.12},null,203780,""]
["WK203790","Combinatieregel ",null,"","Maatwerk WK6341-EIK C zwart glas stomp",null,null,"","","BINNEN","MODERN","6341-EIK","ZWART","","Order","FSCEIK",true,"STOMP","",0,0,38,"",false,false,false,991.76,1200,{"$f":"ROUND(SUMIF('Combination lines'!$A:$H,Report!$AE7986,'Combination lines'!$H:$H),2)","v":991.76},null,203790,""]
["WK203810","Combinatieregel ",null,"","Maatwerk WK6341-EIK C blank glas opdek",null,null,"","","BINNEN","MODERN","6341-EIK","BLANK","","Order","FSCEIK",true,"OPDEK","",0,0,38,"",false,true,false,754.8800000000001,913,{"$f":"ROUND(SUMIF('Combination lines'!$A:$H,Report!$AE7987,'Combination lines'!$H:$H),2)","v":754.88},null,203810,""]
["WK203820","Combinatieregel ",null,"","Maatwerk WK6341-EIK C mat gelaagd glas opdek",null,null,"","","BINNEN","MODERN","6341-EIK","MAT GELAAGD","","Order","FSCEIK",true,"OPDEK","",0,0,38,"",false,true,false,867.52,1050,{"$f":"ROUND(SUMIF('Combination lines'!$A:$H,Report!$AE7988,'Combination lines'!$H:$H),2)","v":867.52},null,203820,""]
["WK203830","Combinatieregel ",null,"","Maatwerk WK6341-EIK C grijs getint glas opdek",null,null,"","","BINNEN","MODERN","6341-EIK","GRIJS GETINT","","Order","FSCEIK",true,"OPDEK","",0,0,38,"",false,true,false,918.52,1111,{"$f":"ROUND(SUMIF('Combination lines'!$A:$H,Report!$AE7989,'Combination lines'!$H:$H),2)","v":918.52},null,203830,""]
["WK203840","Combinatieregel ",null,"","Maatwerk WK6341-EIK C brons getint glas opdek",null,null,"","","BINNEN","MODERN","6341-EIK","BRONS GETINT","","Order","FSCEIK",true,"OPDEK","",0,0,38,"",false,true,false,918.52,1111,{"$f":"ROUND(SUMIF('Combination lines'!$A:$H,Report!$AE7990,'Combination lines'!$H:$H),2)","v":918.52},null,203840,""]
["WK203850","Combinatieregel ",null,"","Maatwerk WK6341-EIK C zwart glas opdek",null,null,"","","BINNEN","MODERN","6341-EIK","ZWART","","Order","FSCEIK",true,"OPDEK","",0,0,38,"",false,true,false,1004.1600000000001,1215,{"$f":"ROUND(SUMIF('Combination lines'!$A:$H,Report!$AE7991,'Combination lines'!$H:$H),2)","v":1004.16},null,203850,""]
["WK203920","Combinatieregel ",null,"","Maatwerk WK6342-EIK C blank glas stomp",null,null,"","","BINNEN","MODERN","6342-EIK","BLANK","","Order","FSCEIK",true,"STOMP","",0,0,38,"",false,false,false,776.8999999999999,940,{"$f":"ROUND(SUMIF('Combination lines'!$A:$H,Report!$AE7992,'Combination lines'!$H:$H),2)","v":776.9},null,203920,""]
["WK203930","Combinatieregel ",null,"","Maatwerk WK6342-EIK C mat gelaagd glas stomp",null,null,"","","BINNEN","MODERN","6342-EIK","MAT GELAAGD","","Order","FSCEIK",true,"STOMP","",0,0,38,"",false,false,false,889.54,1076,{"$f":"ROUND(SUMIF('Combination lines'!$A:$H,Report!$AE7993,'Combination lines'!$H:$H),2)","v":889.54},null,203930,""]
["WK203940","Combinatieregel ",null,"","Maatwerk WK6342-EIK C grijs getint glas stomp",null,null,"","","BINNEN","MODERN","6342-EIK","GRIJS GETINT","","Order","FSCEIK",true,"STOMP","",0,0,38,"",false,false,false,940.54,1138,{"$f":"ROUND(SUMIF('Combination lines'!$A:$H,Report!$AE7994,'Combination lines'!$H:$H),2)","v":940.54},null,203940,""]
["WK203950","Combinatieregel ",null,"","Maatwerk WK6342-EIK C brons getint glas stomp",null,null,"","","BINNEN","MODERN","6342-EIK","BRONS GETINT","","Order","FSCEIK",true,"STOMP","",0,0,38,"",false,false,false,940.54,1138,{"$f":"ROUND(SUMIF('Combination lines'!$A:$H,Report!$AE7995,'Combination lines'!$H:$H),2)","v":940.54},null,203950,""]
["WK203960","Combinatieregel ",null,"","Maatwerk WK6342-EIK C zwart glas stomp",null,null,"","","BINNEN","MODERN","6342-EIK","ZWART","","Order","FSCEIK",true,"STOMP","",0,0,38,"",false,false,false,1026.1799999999998,1242,{"$f":"ROUND(SUMIF('Combination lines'!$A:$H,Report!$AE7996,'Combination lines'!$H:$H),2)","v":1026.18},null,203960,""]
["WK203980","Combinatieregel ",null,"","Maatwerk WK6342-EIK C blank glas opdek",null,null,"","","BINNEN","MODERN","6342-EIK","BLANK","","Order","FSCEIK",true,"OPDEK","",0,0,38,"",false,true,false,789.3,955,{"$f":"ROUND(SUMIF('Combination lines'!$A:$H,Report!$AE7997,'Combination lines'!$H:$H),2)","v":789.3},null,203980,""]
["WK203990","Combinatieregel ",null,"","Maatwerk WK6342-EIK C mat gelaagd glas opdek",null,null,"","","BINNEN","MODERN","6342-EIK","MAT GELAAGD","","Order","FSCEIK",true,"OPDEK","",0,0,38,"",false,true,false,901.94,1091,{"$f":"ROUND(SUMIF('Combination lines'!$A:$H,Report!$AE7998,'Combination lines'!$H:$H),2)","v":901.94},null,203990,""]
["WK204000","Combinatieregel ",null,"","Maatwerk WK6342-EIK C grijs getint glas opdek",null,null,"","","BINNEN","MODERN","6342-EIK","GRIJS GETINT","","Order","FSCEIK",true,"OPDEK","",0,0,38,"",false,true,false,952.94,1153,{"$f":"ROUND(SUMIF('Combination lines'!$A:$H,Report!$AE7999,'Combination lines'!$H:$H),2)","v":952.94},null,204000,""]
["WK204010","Combinatieregel ",null,"","Maatwerk WK6342-EIK C brons getint glas opdek",null,null,"","","BINNEN","MODERN","6342-EIK","BRONS GETINT","","Order","FSCEIK",true,"OPDEK","",0,0,38,"",false,true,false,952.94,1153,{"$f":"ROUND(SUMIF('Combination lines'!$A:$H,Report!$AE8000,'Combination lines'!$H:$H),2)","v":952.94},null,204010,""]
["WK204020","Combinatieregel ",null,"","Maatwerk WK6342-EIK C zwart glas opdek",null,null,"","","BINNEN","MODERN","6342-EIK","ZWART","","Order","FSCEIK",true,"OPDEK","",0,0,38,"",false,true,false,1038.58,1257,{"$f":"ROUND(SUMIF('Combination lines'!$A:$H,Report!$AE8001,'Combination lines'!$H:$H),2)","v":1038.58},null,204020,""]
["WK204090","Combinatieregel ",null,"","Maatwerk WK6343-EIK C blank glas stomp",null,null,"","","BINNEN","MODERN","6343-EIK","BLANK","","Order","FSCEIK",true,"STOMP","",0,0,38,"",false,false,false,749.9300000000001,907,{"$f":"ROUND(SUMIF('Combination lines'!$A:$H,Report!$AE8002,'Combination lines'!$H:$H),2)","v":749.93},null,204090,""]
["WK204100","Combinatieregel ",null,"","Maatwerk WK6343-EIK C mat gelaagd glas stomp",null,null,"","","BINNEN","MODERN","6343-EIK","MAT GELAAGD","","Order","FSCEIK",true,"STOMP","",0,0,38,"",false,false,false,862.5699999999999,1044,{"$f":"ROUND(SUMIF('Combination lines'!$A:$H,Report!$AE8003,'Combination lines'!$H:$H),2)","v":862.57},null,204100,""]
["WK204110","Combinatieregel ",null,"","Maatwerk WK6343-EIK C grijs getint glas stomp",null,null,"","","BINNEN","MODERN","6343-EIK","GRIJS GETINT","","Order","FSCEIK",true,"STOMP","",0,0,38,"",false,false,false,913.5699999999999,1105,{"$f":"ROUND(SUMIF('Combination lines'!$A:$H,Report!$AE8004,'Combination lines'!$H:$H),2)","v":913.57},null,204110,""]
["WK204120","Combinatieregel ",null,"","Maatwerk WK6343-EIK C brons getint glas stomp",null,null,"","","BINNEN","MODERN","6343-EIK","BRONS GETINT","","Order","FSCEIK",true,"STOMP","",0,0,38,"",false,false,false,913.5699999999999,1105,{"$f":"ROUND(SUMIF('Combination lines'!$A:$H,Report!$AE8005,'Combination lines'!$H:$H),2)","v":913.57},null,204120,""]
["WK204130","Combinatieregel ",null,"","Maatwerk WK6343-EIK C zwart glas stomp",null,null,"","","BINNEN","MODERN","6343-EIK","ZWART","","Order","FSCEIK",true,"STOMP","",0,0,38,"",false,false,false,999.21,1209,{"$f":"ROUND(SUMIF('Combination lines'!$A:$H,Report!$AE8006,'Combination lines'!$H:$H),2)","v":999.21},null,204130,""]
["WK204150","Combinatieregel ",null,"","Maatwerk WK6343-EIK C blank glas opdek",null,null,"","","BINNEN","MODERN","6343-EIK","BLANK","","Order","FSCEIK",true,"OPDEK","",0,0,38,"",false,true,false,762.3299999999999,922,{"$f":"ROUND(SUMIF('Combination lines'!$A:$H,Report!$AE8007,'Combination lines'!$H:$H),2)","v":762.33},null,204150,""]
["WK204160","Combinatieregel ",null,"","Maatwerk WK6343-EIK C mat gelaagd glas opdek",null,null,"","","BINNEN","MODERN","6343-EIK","MAT GELAAGD","","Order","FSCEIK",true,"OPDEK","",0,0,38,"",false,true,false,874.97,1059,{"$f":"ROUND(SUMIF('Combination lines'!$A:$H,Report!$AE8008,'Combination lines'!$H:$H),2)","v":874.97},null,204160,""]
["WK204170","Combinatieregel ",null,"","Maatwerk WK6343-EIK C grijs getint glas opdek",null,null,"","","BINNEN","MODERN","6343-EIK","GRIJS GETINT","","Order","FSCEIK",true,"OPDEK","",0,0,38,"",false,true,false,925.97,1120,{"$f":"ROUND(SUMIF('Combination lines'!$A:$H,Report!$AE8009,'Combination lines'!$H:$H),2)","v":925.97},null,204170,""]
["WK204180","Combinatieregel ",null,"","Maatwerk WK6343-EIK C brons getint glas opdek",null,null,"","","BINNEN","MODERN","6343-EIK","BRONS GETINT","","Order","FSCEIK",true,"OPDEK","",0,0,38,"",false,true,false,925.97,1120,{"$f":"ROUND(SUMIF('Combination lines'!$A:$H,Report!$AE8010,'Combination lines'!$H:$H),2)","v":925.97},null,204180,""]
["WK204190","Combinatieregel ",null,"","Maatwerk WK6343-EIK C zwart glas opdek",null,null,"","","BINNEN","MODERN","6343-EIK","ZWART","","Order","FSCEIK",true,"OPDEK","",0,0,38,"",false,true,false,1011.6099999999999,1224,{"$f":"ROUND(SUMIF('Combination lines'!$A:$H,Report!$AE8011,'Combination lines'!$H:$H),2)","v":1011.61},null,204190,""]
["WK204260","Combinatieregel ",null,"","Maatwerk WK6344-EIK C blank glas stomp",null,null,"","","BINNEN","MODERN","6344-EIK","BLANK","","Order","FSCEIK",true,"STOMP","",0,0,38,"",false,false,false,776.8999999999999,940,{"$f":"ROUND(SUMIF('Combination lines'!$A:$H,Report!$AE8012,'Combination lines'!$H:$H),2)","v":776.9},null,204260,""]
["WK204270","Combinatieregel ",null,"","Maatwerk WK6344-EIK C mat gelaagd glas stomp",null,null,"","","BINNEN","MODERN","6344-EIK","MAT GELAAGD","","Order","FSCEIK",true,"STOMP","",0,0,38,"",false,false,false,889.54,1076,{"$f":"ROUND(SUMIF('Combination lines'!$A:$H,Report!$AE8013,'Combination lines'!$H:$H),2)","v":889.54},null,204270,""]
["WK204280","Combinatieregel ",null,"","Maatwerk WK6344-EIK C grijs getint glas stomp",null,null,"","","BINNEN","MODERN","6344-EIK","GRIJS GETINT","","Order","FSCEIK",true,"STOMP","",0,0,38,"",false,false,false,940.54,1138,{"$f":"ROUND(SUMIF('Combination lines'!$A:$H,Report!$AE8014,'Combination lines'!$H:$H),2)","v":940.54},null,204280,""]
["WK204290","Combinatieregel ",null,"","Maatwerk WK6344-EIK C brons getint glas stomp",null,null,"","","BINNEN","MODERN","6344-EIK","BRONS GETINT","","Order","FSCEIK",true,"STOMP","",0,0,38,"",false,false,false,940.54,1138,{"$f":"ROUND(SUMIF('Combination lines'!$A:$H,Report!$AE8015,'Combination lines'!$H:$H),2)","v":940.54},null,204290,""]
["WK204300","Combinatieregel ",null,"","Maatwerk WK6344-EIK C zwart glas stomp",null,null,"","","BINNEN","MODERN","6344-EIK","ZWART","","Order","FSCEIK",true,"STOMP","",0,0,38,"",false,false,false,1026.1799999999998,1242,{"$f":"ROUND(SUMIF('Combination lines'!$A:$H,Report!$AE8016,'Combination lines'!$H:$H),2)","v":1026.18},null,204300,""]
["WK204320","Combinatieregel ",null,"","Maatwerk WK6344-EIK C blank glas opdek",null,null,"","","BINNEN","MODERN","6344-EIK","BLANK","","Order","FSCEIK",true,"OPDEK","",0,0,38,"",false,true,false,789.3,955,{"$f":"ROUND(SUMIF('Combination lines'!$A:$H,Report!$AE8017,'Combination lines'!$H:$H),2)","v":789.3},null,204320,""]
["WK204330","Combinatieregel ",null,"","Maatwerk WK6344-EIK C mat gelaagd glas opdek",null,null,"","","BINNEN","MODERN","6344-EIK","MAT GELAAGD","","Order","FSCEIK",true,"OPDEK","",0,0,38,"",false,true,false,901.94,1091,{"$f":"ROUND(SUMIF('Combination lines'!$A:$H,Report!$AE8018,'Combination lines'!$H:$H),2)","v":901.94},null,204330,""]
["WK204340","Combinatieregel ",null,"","Maatwerk WK6344-EIK C grijs getint glas opdek",null,null,"","","BINNEN","MODERN","6344-EIK","GRIJS GETINT","","Order","FSCEIK",true,"OPDEK","",0,0,38,"",false,true,false,952.94,1153,{"$f":"ROUND(SUMIF('Combination lines'!$A:$H,Report!$AE8019,'Combination lines'!$H:$H),2)","v":952.94},null,204340,""]
["WK204350","Combinatieregel ",null,"","Maatwerk WK6344-EIK C brons getint glas opdek",null,null,"","","BINNEN","MODERN","6344-EIK","BRONS GETINT","","Order","FSCEIK",true,"OPDEK","",0,0,38,"",false,true,false,952.94,1153,{"$f":"ROUND(SUMIF('Combination lines'!$A:$H,Report!$AE8020,'Combination lines'!$H:$H),2)","v":952.94},null,204350,""]
["WK204360","Combinatieregel ",null,"","Maatwerk WK6344-EIK C zwart glas opdek",null,null,"","","BINNEN","MODERN","6344-EIK","ZWART","","Order","FSCEIK",true,"OPDEK","",0,0,38,"",false,true,false,1038.58,1257,{"$f":"ROUND(SUMIF('Combination lines'!$A:$H,Report!$AE8021,'Combination lines'!$H:$H),2)","v":1038.58},null,204360,""]